{"text_format":"1","workbook":"xlsx","n_sheets":16,"sheets":["Facility Information","Limestone Plant (LP-1)","Limestone Plant (LP-2)","Limestone Plant (LP-3)","Limestone Plant (LP-4)","Limestone Plant (LP-5)","Limestone Plant (LP-6)","Limestone Plant (LP-7)","Limestone Plant (LP-8)","Limestone Plant (LP-9)","Limestone Plant (LP-10)","Haul Roads","Permitted Diesel Engines","Emission Calculations","Facility Wide Emissions","Emission Factors"],"not_rendered":{"charts":0,"images":0,"macros":1,"external_links":0,"defined_names":134,"comments":13,"pivot_tables":0},"unopened":[],"bounds":{"document_bytes":16777216,"sheet_cells":100000,"rows_first":2000,"rows_last":500,"rows_between":2000,"halvings":0,"cell_chars":16384,"cell_head_chars":4096},"cells_cut":0,"cells_raw":0,"read":"whole","date_system":"1900"}

{"sheet":"Facility Information","index":0,"n_rows":21,"n_cols":11,"rows_kept":21,"cut":false,"hidden":false,"merged":[[19,0,19,1],[20,0,20,1],[17,1,17,3],[0,0,0,2],[3,1,3,2],[1,0,1,1],[3,5,3,6],[3,3,3,4],[8,4,8,6],[8,1,8,2],[4,1,4,4],[6,1,6,6],[7,1,7,2],[4,8,5,12],[10,1,10,6],[13,1,13,2],[13,4,13,6],[5,1,5,6],[11,1,11,6],[9,1,9,6],[12,1,12,2]]}
["PORTABLE LIMESTONE CRUSHING PLANT",null,null,"Note: be sure to enable macros when prompted.",null,null,"Last Updated 12-18-20","542-0245"]
["Please fill in the yellow boxes."]
[]
["Submittal Type:",null,null,"Number of State-Wide Company Employees:"]
["Facility Number:",null,null,null,null,"Emisison Year:",null,"<---------","Enter the Year for which you are calculating emissions, usually the previous calendar year. "]
["Facility Name:"]
["Mailing Address:"]
["City:",null,null,"State:",null,"Zip Code:"]
["Facility Contact:",null,null,"Phone Number:",null,null,null,null,null,null,"Emission Inventory - Initial"]
["Email Address",null,null,null,null,null,null,null,null,null,"Emission Inventory - Supplemental Information"]
["Parent Company:"]
["Parent Company Address:"]
["City:",null,null,"State:",null,"Zip Code:",null,null,null,null,"Less Than or Equal to 100"]
["Parent Company Contact:",null,null,"Phone Number:",null,null,null,null,null,null,"Greater Than 100"]
[]
["SIC Code:",1422]
["NAICS Code:",212312]
["Activity Description:","Crushed & Broken Limesone Mining & Quarrying"]
[]
["Number of Plants with Permits:"]
[{"$f":"\"Number of Plants Operated in \"&'Facility Information'!G5&\":\"","v":"Number of Plants Operated in :"}]

{"sheet":"Limestone Plant (LP-1)","index":1,"n_rows":175,"n_cols":19,"rows_kept":175,"cut":false,"hidden":false,"merged":[[119,2,121,2],[103,2,105,2],[87,2,89,2],[71,2,73,2],[55,2,57,2],[151,1,153,1],[167,1,169,1],[167,2,169,2],[151,2,153,2],[135,2,137,2],[71,1,73,1],[87,1,89,1],[103,1,105,1],[119,1,121,1],[135,1,137,1],[146,8,147,8],[82,6,83,6],[82,7,83,7],[82,8,83,8],[98,4,99,4],[98,6,99,6],[98,7,99,7],[98,8,99,8],[82,5,83,5],[98,5,99,5],[114,5,115,5],[130,5,131,5],[146,5,147,5],[82,4,83,4],[162,4,163,4],[162,6,163,6],[162,7,163,7],[162,8,163,8],[114,6,115,6],[114,7,115,7],[114,8,115,8],[130,4,131,4],[130,6,131,6],[130,7,131,7],[130,8,131,8],[114,4,115,4],[162,5,163,5],[146,4,147,4],[146,6,147,6],[146,7,147,7],[37,18,38,18],[37,17,38,17],[17,18,18,18],[0,1,0,2],[2,12,3,12],[18,5,19,5],[34,5,35,5],[23,1,25,1],[2,18,3,18],[3,1,3,2],[34,6,35,6],[34,7,35,7],[34,8,35,8],[18,6,19,6],[23,2,25,2],[11,1,13,2],[34,4,35,4],[39,1,41,1],[50,4,51,4],[55,1,57,1],[17,17,18,17],[17,13,18,13],[50,6,51,6],[50,7,51,7],[17,14,18,14],[17,16,18,16],[50,8,51,8],[37,16,38,16],[18,7,19,7],[18,8,19,8],[39,2,41,2],[37,13,38,13],[37,14,38,14],[37,15,38,15],[66,8,67,8],[48,3,48,4],[66,4,67,4],[66,6,67,6],[66,7,67,7],[50,5,51,5],[66,5,67,5],[18,4,19,4],[1,7,1,8],[2,14,3,14],[17,15,18,15],[1,1,1,2],[3,3,3,4],[2,13,3,13]]}
[null,"LIMESTONE CRUSHING PLANT (LP-1)"]
[null,"Please fill in the yellow boxes as applicable for your facility. ",null,null,null,null,null,"Values used for calculating emissions →",null,null,null,null,"Values Used to Calculate Actual Emissions for the Listed Processes at this Plant"]
[null,null,null,null,null,null,null,null,null,null,null,null,"Process","Maximum Design Rate (tons/hr)","Actual throughput w/o wet supression (tons/yr)",null,null,null,"Actual throughtput w/ wet supression (tons/yr)"]
[null,{"$f":"\"Number of Sites this Plant operated at in \"&'Facility Information'!G5&\":\"","v":"Number of Sites this Plant operated at in :"},null,null,null,null,null,null,null,null,null,null,null,null,null,null,"** As of 2016 Potential Emissions are no longer required to be reported in the Minor Source Emissions Inventory**"]
[null,null,null,null,null,null,null,null,null,null,null,null,"Primary Crusher",{"$f":"MAX((IFERROR(OFFSET($G$20,MATCH(\"primary crusher\",$G$21:$G$28,0),1),0)),((IFERROR((OFFSET($G$36,MATCH(\"primary crusher\",$G$37:$G$44,0),1)),0))),((IFERROR((OFFSET($G$52,MATCH(\"primary crusher\",$G$53:$G$60,0),1)),0))),((IFERROR((OFFSET($G$68,MATCH(\"primary crusher\",$G$69:$G$76,0),1)),0))),((IFERROR((OFFSET($G$84,MATCH(\"primary crusher\",$G$85:$G$92,0),1)),0))),((IFERROR((OFFSET($G$100,MATCH(\"primary crusher\",$G$101:$G$108,0),1)),0))),((IFERROR((OFFSET($G$116,MATCH(\"primary crusher\",$G$117:$G$124,0),1)),0))),((IFERROR((OFFSET($G$132,MATCH(\"primary crusher\",$G$133:$G$140,0),1)),0))),((IFERROR((OFFSET($G$148,MATCH(\"primary crusher\",$G$149:$G$156,0),1)),0))),((IFERROR((OFFSET($G$163,MATCH(\"primary crusher\",$G$165:$G$172,0),1)),0))))","v":0},{"$f":"SUM((IFERROR(OFFSET($G$20,MATCH(\"primary crusher\",$G$21:$G$28,0),3),0)),((IFERROR((OFFSET($G$36,MATCH(\"primary crusher\",$G$37:$G$44,0),3)),0))),((IFERROR((OFFSET($G$52,MATCH(\"primary crusher\",$G$53:$G$60,0),3)),0))),((IFERROR((OFFSET($G$68,MATCH(\"primary crusher\",$G$69:$G$76,0),3)),0))),((IFERROR((OFFSET($G$84,MATCH(\"primary crusher\",$G$85:$G$92,0),3)),0))),((IFERROR((OFFSET($G$100,MATCH(\"primary crusher\",$G$101:$G$108,0),3)),0))),((IFERROR((OFFSET($G$116,MATCH(\"primary crusher\",$G$117:$G$124,0),3)),0))),((IFERROR((OFFSET($G$132,MATCH(\"primary crusher\",$G$133:$G$140,0),3)),0))),((IFERROR((OFFSET($G$148,MATCH(\"primary crusher\",$G$149:$G$156,0),3)),0))),((IFERROR((OFFSET($G$163,MATCH(\"primary crusher\",$G$165:$G$172,0),3)),0))))","v":0},null,null,null,{"$f":"SUM((IFERROR(OFFSET($G$20,MATCH(\"primary crusher\",$G$21:$G$28,0),4),0)),((IFERROR((OFFSET($G$36,MATCH(\"primary crusher\",$G$37:$G$44,0),4)),0))),((IFERROR((OFFSET($G$52,MATCH(\"primary crusher\",$G$53:$G$60,0),4)),0))),((IFERROR((OFFSET($G$68,MATCH(\"primary crusher\",$G$69:$G$76,0),4)),0))),((IFERROR((OFFSET($G$84,MATCH(\"primary crusher\",$G$85:$G$92,0),4)),0))),((IFERROR((OFFSET($G$100,MATCH(\"primary crusher\",$G$101:$G$108,0),4)),0))),((IFERROR((OFFSET($G$116,MATCH(\"primary crusher\",$G$117:$G$124,0),4)),0))),((IFERROR((OFFSET($G$132,MATCH(\"primary crusher\",$G$133:$G$140,0),4)),0))),((IFERROR((OFFSET($G$148,MATCH(\"primary crusher\",$G$149:$G$156,0),4)),0))),((IFERROR((OFFSET($G$163,MATCH(\"primary crusher\",$G$165:$G$172,0),4)),0))))","v":0}]
[null,"Plant Specific Permit Number: ",null,null,null,null,null,null,null,null,null,null,"Screening",{"$f":"MAX((IFERROR(OFFSET($G$20,MATCH(\"screening\",$G$21:$G$28,0),1),0)),((IFERROR((OFFSET($G$36,MATCH(\"screening\",$G$37:$G$44,0),1)),0))),((IFERROR((OFFSET($G$52,MATCH(\"screening\",$G$53:$G$60,0),1)),0))),((IFERROR((OFFSET($G$68,MATCH(\"screening\",$G$69:$G$76,0),1)),0))),((IFERROR((OFFSET($G$84,MATCH(\"screening\",$G$85:$G$92,0),1)),0))),((IFERROR((OFFSET($G$100,MATCH(\"screening\",$G$101:$G$108,0),1)),0))),((IFERROR((OFFSET($G$116,MATCH(\"screening\",$G$117:$G$124,0),1)),0))),((IFERROR((OFFSET($G$132,MATCH(\"screening\",$G$133:$G$140,0),1)),0))),((IFERROR((OFFSET($G$148,MATCH(\"screening\",$G$149:$G$156,0),1)),0))),((IFERROR((OFFSET($G$163,MATCH(\"screening\",$G$165:$G$172,0),1)),0))))","v":0},{"$f":"SUM((IFERROR(OFFSET($G$20,MATCH(\"screening\",$G$21:$G$28,0),3),0)),((IFERROR((OFFSET($G$36,MATCH(\"screening\",$G$37:$G$44,0),3)),0))),((IFERROR((OFFSET($G$52,MATCH(\"screening\",$G$53:$G$60,0),3)),0))),((IFERROR((OFFSET($G$68,MATCH(\"screening\",$G$69:$G$76,0),3)),0))),((IFERROR((OFFSET($G$84,MATCH(\"screening\",$G$85:$G$92,0),3)),0))),((IFERROR((OFFSET($G$100,MATCH(\"screening\",$G$101:$G$108,0),3)),0))),((IFERROR((OFFSET($G$116,MATCH(\"screening\",$G$117:$G$124,0),3)),0))),((IFERROR((OFFSET($G$132,MATCH(\"screening\",$G$133:$G$140,0),3)),0))),((IFERROR((OFFSET($G$148,MATCH(\"screening\",$G$149:$G$156,0),3)),0))),((IFERROR((OFFSET($G$163,MATCH(\"screening\",$G$165:$G$172,0),3)),0))))","v":0},null,null,null,{"$f":"SUM((IFERROR(OFFSET($G$20,MATCH(\"screening\",$G$21:$G$28,0),4),0)),((IFERROR((OFFSET($G$36,MATCH(\"screening\",$G$37:$G$44,0),4)),0))),((IFERROR((OFFSET($G$52,MATCH(\"screening\",$G$53:$G$60,0),4)),0))),((IFERROR((OFFSET($G$68,MATCH(\"screening\",$G$69:$G$76,0),4)),0))),((IFERROR((OFFSET($G$84,MATCH(\"screening\",$G$85:$G$92,0),4)),0))),((IFERROR((OFFSET($G$100,MATCH(\"screening\",$G$101:$G$108,0),4)),0))),((IFERROR((OFFSET($G$116,MATCH(\"screening\",$G$117:$G$124,0),4)),0))),((IFERROR((OFFSET($G$132,MATCH(\"screening\",$G$133:$G$140,0),4)),0))),((IFERROR((OFFSET($G$148,MATCH(\"screening\",$G$149:$G$156,0),4)),0))),((IFERROR((OFFSET($G$163,MATCH(\"screening\",$G$165:$G$172,0),4)),0))))","v":0}]
[null,null,null,null,null,null,null,null,null,null,null,null,"Secondary Crusher",{"$f":"MAX((IFERROR(OFFSET($G$20,MATCH(\"secondary crusher\",$G$21:$G$28,0),1),0)),((IFERROR((OFFSET($G$36,MATCH(\"secondary crusher\",$G$37:$G$44,0),1)),0))),((IFERROR((OFFSET($G$52,MATCH(\"secondary crusher\",$G$53:$G$60,0),1)),0))),((IFERROR((OFFSET($G$68,MATCH(\"secondary crusher\",$G$69:$G$76,0),1)),0))),((IFERROR((OFFSET($G$84,MATCH(\"secondary crusher\",$G$85:$G$92,0),1)),0))),((IFERROR((OFFSET($G$100,MATCH(\"secondary crusher\",$G$101:$G$108,0),1)),0))),((IFERROR((OFFSET($G$116,MATCH(\"secondary crusher\",$G$117:$G$124,0),1)),0))),((IFERROR((OFFSET($G$132,MATCH(\"secondary crusher\",$G$133:$G$140,0),1)),0))),((IFERROR((OFFSET($G$148,MATCH(\"secondary crusher\",$G$149:$G$156,0),1)),0))),((IFERROR((OFFSET($G$163,MATCH(\"secondary crusher\",$G$165:$G$172,0),1)),0))))","v":0},{"$f":"SUM((IFERROR(OFFSET($G$20,MATCH(\"secondary crusher\",$G$21:$G$28,0),3),0)),((IFERROR((OFFSET($G$36,MATCH(\"secondary crusher\",$G$37:$G$44,0),3)),0))),((IFERROR((OFFSET($G$52,MATCH(\"secondary crusher\",$G$53:$G$60,0),3)),0))),((IFERROR((OFFSET($G$68,MATCH(\"secondary crusher\",$G$69:$G$76,0),3)),0))),((IFERROR((OFFSET($G$84,MATCH(\"secondary crusher\",$G$85:$G$92,0),3)),0))),((IFERROR((OFFSET($G$100,MATCH(\"secondary crusher\",$G$101:$G$108,0),3)),0))),((IFERROR((OFFSET($G$116,MATCH(\"secondary crusher\",$G$117:$G$124,0),3)),0))),((IFERROR((OFFSET($G$132,MATCH(\"secondary crusher\",$G$133:$G$140,0),3)),0))),((IFERROR((OFFSET($G$148,MATCH(\"secondary crusher\",$G$149:$G$156,0),3)),0))),((IFERROR((OFFSET($G$163,MATCH(\"secondary crusher\",$G$165:$G$172,0),3)),0))))","v":0},null,null,null,{"$f":"SUM((IFERROR(OFFSET($G$20,MATCH(\"secondary crusher\",$G$21:$G$28,0),4),0)),((IFERROR((OFFSET($G$36,MATCH(\"secondary crusher\",$G$37:$G$44,0),4)),0))),((IFERROR((OFFSET($G$52,MATCH(\"secondary crusher\",$G$53:$G$60,0),4)),0))),((IFERROR((OFFSET($G$68,MATCH(\"secondary crusher\",$G$69:$G$76,0),4)),0))),((IFERROR((OFFSET($G$84,MATCH(\"secondary crusher\",$G$85:$G$92,0),4)),0))),((IFERROR((OFFSET($G$100,MATCH(\"secondary crusher\",$G$101:$G$108,0),4)),0))),((IFERROR((OFFSET($G$116,MATCH(\"secondary crusher\",$G$117:$G$124,0),4)),0))),((IFERROR((OFFSET($G$132,MATCH(\"secondary crusher\",$G$133:$G$140,0),4)),0))),((IFERROR((OFFSET($G$148,MATCH(\"secondary crusher\",$G$149:$G$156,0),4)),0))),((IFERROR((OFFSET($G$163,MATCH(\"secondary crusher\",$G$165:$G$172,0),4)),0))))","v":0}]
[null,"Plant Specific Operating Limits:",null,null,"Plant Specific Emission Limits:",null,null,null,null,null,null,null,"Tertiary Crusher",{"$f":"MAX((IFERROR(OFFSET($G$20,MATCH(\"tertiary crusher\",$G$21:$G$28,0),1),0)),((IFERROR((OFFSET($G$36,MATCH(\"tertiary crusher\",$G$37:$G$44,0),1)),0))),((IFERROR((OFFSET($G$52,MATCH(\"tertiary crusher\",$G$53:$G$60,0),1)),0))),((IFERROR((OFFSET($G$68,MATCH(\"tertiary crusher\",$G$69:$G$76,0),1)),0))),((IFERROR((OFFSET($G$84,MATCH(\"tertiary crusher\",$G$85:$G$92,0),1)),0))),((IFERROR((OFFSET($G$100,MATCH(\"tertiary crusher\",$G$101:$G$108,0),1)),0))),((IFERROR((OFFSET($G$116,MATCH(\"tertiary crusher\",$G$117:$G$124,0),1)),0))),((IFERROR((OFFSET($G$132,MATCH(\"tertiary crusher\",$G$133:$G$140,0),1)),0))),((IFERROR((OFFSET($G$148,MATCH(\"tertiary crusher\",$G$149:$G$156,0),1)),0))),((IFERROR((OFFSET($G$163,MATCH(\"tertiary crusher\",$G$165:$G$172,0),1)),0))))","v":0},{"$f":"SUM((IFERROR(OFFSET($G$20,MATCH(\"tertiary crusher\",$G$21:$G$28,0),3),0)),((IFERROR((OFFSET($G$36,MATCH(\"tertiary crusher\",$G$37:$G$44,0),3)),0))),((IFERROR((OFFSET($G$52,MATCH(\"tertiary crusher\",$G$53:$G$60,0),3)),0))),((IFERROR((OFFSET($G$68,MATCH(\"tertiary crusher\",$G$69:$G$76,0),3)),0))),((IFERROR((OFFSET($G$84,MATCH(\"tertiary crusher\",$G$85:$G$92,0),3)),0))),((IFERROR((OFFSET($G$100,MATCH(\"tertiary crusher\",$G$101:$G$108,0),3)),0))),((IFERROR((OFFSET($G$116,MATCH(\"tertiary crusher\",$G$117:$G$124,0),3)),0))),((IFERROR((OFFSET($G$132,MATCH(\"tertiary crusher\",$G$133:$G$140,0),3)),0))),((IFERROR((OFFSET($G$148,MATCH(\"tertiary crusher\",$G$149:$G$156,0),3)),0))),((IFERROR((OFFSET($G$163,MATCH(\"tertiary crusher\",$G$165:$G$172,0),3)),0))))","v":0},null,null,null,{"$f":"SUM((IFERROR(OFFSET($G$20,MATCH(\"tertiary crusher\",$G$21:$G$28,0),4),0)),((IFERROR((OFFSET($G$36,MATCH(\"tertiary crusher\",$G$37:$G$44,0),4)),0))),((IFERROR((OFFSET($G$52,MATCH(\"tertiary crusher\",$G$53:$G$60,0),4)),0))),((IFERROR((OFFSET($G$68,MATCH(\"tertiary crusher\",$G$69:$G$76,0),4)),0))),((IFERROR((OFFSET($G$84,MATCH(\"tertiary crusher\",$G$85:$G$92,0),4)),0))),((IFERROR((OFFSET($G$100,MATCH(\"tertiary crusher\",$G$101:$G$108,0),4)),0))),((IFERROR((OFFSET($G$116,MATCH(\"tertiary crusher\",$G$117:$G$124,0),4)),0))),((IFERROR((OFFSET($G$132,MATCH(\"tertiary crusher\",$G$133:$G$140,0),4)),0))),((IFERROR((OFFSET($G$148,MATCH(\"tertiary crusher\",$G$149:$G$156,0),4)),0))),((IFERROR((OFFSET($G$163,MATCH(\"tertiary crusher\",$G$165:$G$172,0),4)),0))))","v":0}]
[null,"Throughput Limit (tons/yr):",null,null,"Pollutant","lb/hr","tons/yr",null,null,null,null,null,"Fines Crushing",{"$f":"MAX((IFERROR(OFFSET($G$20,MATCH(\"fines crushing\",$G$21:$G$28,0),1),0)),((IFERROR((OFFSET($G$36,MATCH(\"fines crushing\",$G$37:$G$44,0),1)),0))),((IFERROR((OFFSET($G$52,MATCH(\"fines crushing\",$G$53:$G$60,0),1)),0))),((IFERROR((OFFSET($G$68,MATCH(\"fines crushing\",$G$69:$G$76,0),1)),0))),((IFERROR((OFFSET($G$84,MATCH(\"fines crushing\",$G$85:$G$92,0),1)),0))),((IFERROR((OFFSET($G$100,MATCH(\"fines crushing\",$G$101:$G$108,0),1)),0))),((IFERROR((OFFSET($G$116,MATCH(\"fines crushing\",$G$117:$G$124,0),1)),0))),((IFERROR((OFFSET($G$132,MATCH(\"fines crushing\",$G$133:$G$140,0),1)),0))),((IFERROR((OFFSET($G$148,MATCH(\"fines crushing\",$G$149:$G$156,0),1)),0))),((IFERROR((OFFSET($G$163,MATCH(\"fines crushing\",$G$165:$G$172,0),1)),0))))","v":0},{"$f":"SUM((IFERROR(OFFSET($G$20,MATCH(\"fines crushing\",$G$21:$G$28,0),3),0)),((IFERROR((OFFSET($G$36,MATCH(\"fines crushing\",$G$37:$G$44,0),3)),0))),((IFERROR((OFFSET($G$52,MATCH(\"fines crushing\",$G$53:$G$60,0),3)),0))),((IFERROR((OFFSET($G$68,MATCH(\"fines crushing\",$G$69:$G$76,0),3)),0))),((IFERROR((OFFSET($G$84,MATCH(\"fines crushing\",$G$85:$G$92,0),3)),0))),((IFERROR((OFFSET($G$100,MATCH(\"fines crushing\",$G$101:$G$108,0),3)),0))),((IFERROR((OFFSET($G$116,MATCH(\"fines crushing\",$G$117:$G$124,0),3)),0))),((IFERROR((OFFSET($G$132,MATCH(\"fines crushing\",$G$133:$G$140,0),3)),0))),((IFERROR((OFFSET($G$148,MATCH(\"fines crushing\",$G$149:$G$156,0),3)),0))),((IFERROR((OFFSET($G$163,MATCH(\"fines crushing\",$G$165:$G$172,0),3)),0))))","v":0},null,null,null,{"$f":"SUM((IFERROR(OFFSET($G$20,MATCH(\"fines crushing\",$G$21:$G$28,0),4),0)),((IFERROR((OFFSET($G$36,MATCH(\"fines crushing\",$G$37:$G$44,0),4)),0))),((IFERROR((OFFSET($G$52,MATCH(\"fines crushing\",$G$53:$G$60,0),4)),0))),((IFERROR((OFFSET($G$68,MATCH(\"fines crushing\",$G$69:$G$76,0),4)),0))),((IFERROR((OFFSET($G$84,MATCH(\"fines crushing\",$G$85:$G$92,0),4)),0))),((IFERROR((OFFSET($G$100,MATCH(\"fines crushing\",$G$101:$G$108,0),4)),0))),((IFERROR((OFFSET($G$116,MATCH(\"fines crushing\",$G$117:$G$124,0),4)),0))),((IFERROR((OFFSET($G$132,MATCH(\"fines crushing\",$G$133:$G$140,0),4)),0))),((IFERROR((OFFSET($G$148,MATCH(\"fines crushing\",$G$149:$G$156,0),4)),0))),((IFERROR((OFFSET($G$163,MATCH(\"fines crushing\",$G$165:$G$172,0),4)),0))))","v":0}]
[null,"Daily Throughput Limit (tons/day):",null,null,"PM2.5",null,null,null,null,null,null,null,"Fines Screening",{"$f":"MAX((IFERROR(OFFSET($G$20,MATCH(\"fines screening\",$G$21:$G$28,0),1),0)),((IFERROR((OFFSET($G$36,MATCH(\"fines screening\",$G$37:$G$44,0),1)),0))),((IFERROR((OFFSET($G$52,MATCH(\"fines screening\",$G$53:$G$60,0),1)),0))),((IFERROR((OFFSET($G$68,MATCH(\"fines screening\",$G$69:$G$76,0),1)),0))),((IFERROR((OFFSET($G$84,MATCH(\"fines screening\",$G$85:$G$92,0),1)),0))),((IFERROR((OFFSET($G$100,MATCH(\"fines screening\",$G$101:$G$108,0),1)),0))),((IFERROR((OFFSET($G$116,MATCH(\"fines screening\",$G$117:$G$124,0),1)),0))),((IFERROR((OFFSET($G$132,MATCH(\"fines screening\",$G$133:$G$140,0),1)),0))),((IFERROR((OFFSET($G$148,MATCH(\"fines screening\",$G$149:$G$156,0),1)),0))),((IFERROR((OFFSET($G$163,MATCH(\"fines screening\",$G$165:$G$172,0),1)),0))))","v":0},{"$f":"SUM((IFERROR(OFFSET($G$20,MATCH(\"fines screening\",$G$21:$G$28,0),3),0)),((IFERROR((OFFSET($G$36,MATCH(\"fines screening\",$G$37:$G$44,0),3)),0))),((IFERROR((OFFSET($G$52,MATCH(\"fines screening\",$G$53:$G$60,0),3)),0))),((IFERROR((OFFSET($G$68,MATCH(\"fines screening\",$G$69:$G$76,0),3)),0))),((IFERROR((OFFSET($G$84,MATCH(\"fines screening\",$G$85:$G$92,0),3)),0))),((IFERROR((OFFSET($G$100,MATCH(\"fines screening\",$G$101:$G$108,0),3)),0))),((IFERROR((OFFSET($G$116,MATCH(\"fines screening\",$G$117:$G$124,0),3)),0))),((IFERROR((OFFSET($G$132,MATCH(\"fines screening\",$G$133:$G$140,0),3)),0))),((IFERROR((OFFSET($G$148,MATCH(\"fines screening\",$G$149:$G$156,0),3)),0))),((IFERROR((OFFSET($G$163,MATCH(\"fines screening\",$G$165:$G$172,0),3)),0))))","v":0},null,null,null,{"$f":"SUM((IFERROR(OFFSET($G$20,MATCH(\"fines screening\",$G$21:$G$28,0),4),0)),((IFERROR((OFFSET($G$36,MATCH(\"fines screening\",$G$37:$G$44,0),4)),0))),((IFERROR((OFFSET($G$52,MATCH(\"fines screening\",$G$53:$G$60,0),4)),0))),((IFERROR((OFFSET($G$68,MATCH(\"fines screening\",$G$69:$G$76,0),4)),0))),((IFERROR((OFFSET($G$84,MATCH(\"fines screening\",$G$85:$G$92,0),4)),0))),((IFERROR((OFFSET($G$100,MATCH(\"fines screening\",$G$101:$G$108,0),4)),0))),((IFERROR((OFFSET($G$116,MATCH(\"fines screening\",$G$117:$G$124,0),4)),0))),((IFERROR((OFFSET($G$132,MATCH(\"fines screening\",$G$133:$G$140,0),4)),0))),((IFERROR((OFFSET($G$148,MATCH(\"fines screening\",$G$149:$G$156,0),4)),0))),((IFERROR((OFFSET($G$163,MATCH(\"fines screening\",$G$165:$G$172,0),4)),0))))","v":0}]
[null,"Hours of Operation Limit (hours/day):",null,null,"PM10",null,null,null,null,null,null,null,"Wet Drilling: Unfragmented Stone",{"$f":"MAX((IFERROR(OFFSET($G$20,MATCH(\"wet drilling: unfragmented stone\",$G$21:$G$28,0),1),0)),((IFERROR((OFFSET($G$36,MATCH(\"wet drilling: unfragmented stone\",$G$37:$G$44,0),1)),0))),((IFERROR((OFFSET($G$52,MATCH(\"wet drilling: unfragmented stone\",$G$53:$G$60,0),1)),0))),((IFERROR((OFFSET($G$68,MATCH(\"wet drilling: unfragmented stone\",$G$69:$G$76,0),1)),0))),((IFERROR((OFFSET($G$84,MATCH(\"wet drilling: unfragmented stone\",$G$85:$G$92,0),1)),0))),((IFERROR((OFFSET($G$100,MATCH(\"wet drilling: unfragmented stone\",$G$101:$G$108,0),1)),0))),((IFERROR((OFFSET($G$116,MATCH(\"wet drilling: unfragmented stone\",$G$117:$G$124,0),1)),0))),((IFERROR((OFFSET($G$132,MATCH(\"wet drilling: unfragmented stone\",$G$133:$G$140,0),1)),0))),((IFERROR((OFFSET($G$148,MATCH(\"wet drilling: unfragmented stone\",$G$149:$G$156,0),1)),0))),((IFERROR((OFFSET($G$163,MATCH(\"wet drilling: unfragmented stone\",$G$165:$G$172,0),1)),0))))","v":0},{"$f":"SUM((IFERROR(OFFSET($G$20,MATCH(\"wet drilling: unfragmented stone\",$G$21:$G$28,0),3),0)),((IFERROR((OFFSET($G$36,MATCH(\"wet drilling: unfragmented stone\",$G$37:$G$44,0),3)),0))),((IFERROR((OFFSET($G$52,MATCH(\"wet drilling: unfragmented stone\",$G$53:$G$60,0),3)),0))),((IFERROR((OFFSET($G$68,MATCH(\"wet drilling: unfragmented stone\",$G$69:$G$76,0),3)),0))),((IFERROR((OFFSET($G$84,MATCH(\"wet drilling: unfragmented stone\",$G$85:$G$92,0),3)),0))),((IFERROR((OFFSET($G$100,MATCH(\"wet drilling: unfragmented stone\",$G$101:$G$108,0),3)),0))),((IFERROR((OFFSET($G$116,MATCH(\"wet drilling: unfragmented stone\",$G$117:$G$124,0),3)),0))),((IFERROR((OFFSET($G$132,MATCH(\"wet drilling: unfragmented stone\",$G$133:$G$140,0),3)),0))),((IFERROR((OFFSET($G$148,MATCH(\"wet drilling: unfragmented stone\",$G$149:$G$156,0),3)),0))),((IFERROR((OFFSET($G$163,MATCH(\"wet drilling: unfragmented stone\",$G$165:$G$172,0),3)),0))))","v":0},null,null,null,{"$f":"SUM((IFERROR(OFFSET($G$20,MATCH(\"wet drilling: unfragmented stone\",$G$21:$G$28,0),4),0)),((IFERROR((OFFSET($G$36,MATCH(\"wet drilling: unfragmented stone\",$G$37:$G$44,0),4)),0))),((IFERROR((OFFSET($G$52,MATCH(\"wet drilling: unfragmented stone\",$G$53:$G$60,0),4)),0))),((IFERROR((OFFSET($G$68,MATCH(\"wet drilling: unfragmented stone\",$G$69:$G$76,0),4)),0))),((IFERROR((OFFSET($G$84,MATCH(\"wet drilling: unfragmented stone\",$G$85:$G$92,0),4)),0))),((IFERROR((OFFSET($G$100,MATCH(\"wet drilling: unfragmented stone\",$G$101:$G$108,0),4)),0))),((IFERROR((OFFSET($G$116,MATCH(\"wet drilling: unfragmented stone\",$G$117:$G$124,0),4)),0))),((IFERROR((OFFSET($G$132,MATCH(\"wet drilling: unfragmented stone\",$G$133:$G$140,0),4)),0))),((IFERROR((OFFSET($G$148,MATCH(\"wet drilling: unfragmented stone\",$G$149:$G$156,0),4)),0))),((IFERROR((OFFSET($G$163,MATCH(\"wet drilling: unfragmented stone\",$G$165:$G$172,0),4)),0))))","v":0}]
[null,"Note: if the plant has a hours/day and a tons/hr permit limit, those values should be multiplied together to calculate a tons/day limit and that value should be placed in cell C10.",null,null,"SO2",null,null,null,null,null,null,null,"Conveyor Transfer Points",{"$f":"MAX((IFERROR(OFFSET($G$20,MATCH(\"conveyor transfer points\",$G$21:$G$28,0),1),0)),((IFERROR((OFFSET($G$36,MATCH(\"conveyor transfer points\",$G$37:$G$44,0),1)),0))),((IFERROR((OFFSET($G$52,MATCH(\"conveyor transfer points\",$G$53:$G$60,0),1)),0))),((IFERROR((OFFSET($G$68,MATCH(\"conveyor transfer points\",$G$69:$G$76,0),1)),0))),((IFERROR((OFFSET($G$84,MATCH(\"conveyor transfer points\",$G$85:$G$92,0),1)),0))),((IFERROR((OFFSET($G$100,MATCH(\"conveyor transfer points\",$G$101:$G$108,0),1)),0))),((IFERROR((OFFSET($G$116,MATCH(\"conveyor transfer points\",$G$117:$G$124,0),1)),0))),((IFERROR((OFFSET($G$132,MATCH(\"conveyor transfer points\",$G$133:$G$140,0),1)),0))),((IFERROR((OFFSET($G$148,MATCH(\"conveyor transfer points\",$G$149:$G$156,0),1)),0))),((IFERROR((OFFSET($G$163,MATCH(\"conveyor transfer points\",$G$165:$G$172,0),1)),0))))","v":0},{"$f":"SUM((IFERROR(OFFSET($G$20,MATCH(\"conveyor transfer points\",$G$21:$G$28,0),3),0)),((IFERROR((OFFSET($G$36,MATCH(\"conveyor transfer points\",$G$37:$G$44,0),3)),0))),((IFERROR((OFFSET($G$52,MATCH(\"conveyor transfer points\",$G$53:$G$60,0),3)),0))),((IFERROR((OFFSET($G$68,MATCH(\"conveyor transfer points\",$G$69:$G$76,0),3)),0))),((IFERROR((OFFSET($G$84,MATCH(\"conveyor transfer points\",$G$85:$G$92,0),3)),0))),((IFERROR((OFFSET($G$100,MATCH(\"conveyor transfer points\",$G$101:$G$108,0),3)),0))),((IFERROR((OFFSET($G$116,MATCH(\"conveyor transfer points\",$G$117:$G$124,0),3)),0))),((IFERROR((OFFSET($G$132,MATCH(\"conveyor transfer points\",$G$133:$G$140,0),3)),0))),((IFERROR((OFFSET($G$148,MATCH(\"conveyor transfer points\",$G$149:$G$156,0),3)),0))),((IFERROR((OFFSET($G$163,MATCH(\"conveyor transfer points\",$G$165:$G$172,0),3)),0))))","v":0},null,null,null,{"$f":"SUM((IFERROR(OFFSET($G$20,MATCH(\"conveyor transfer points\",$G$21:$G$28,0),4),0)),((IFERROR((OFFSET($G$36,MATCH(\"conveyor transfer points\",$G$37:$G$44,0),4)),0))),((IFERROR((OFFSET($G$52,MATCH(\"conveyor transfer points\",$G$53:$G$60,0),4)),0))),((IFERROR((OFFSET($G$68,MATCH(\"conveyor transfer points\",$G$69:$G$76,0),4)),0))),((IFERROR((OFFSET($G$84,MATCH(\"conveyor transfer points\",$G$85:$G$92,0),4)),0))),((IFERROR((OFFSET($G$100,MATCH(\"conveyor transfer points\",$G$101:$G$108,0),4)),0))),((IFERROR((OFFSET($G$116,MATCH(\"conveyor transfer points\",$G$117:$G$124,0),4)),0))),((IFERROR((OFFSET($G$132,MATCH(\"conveyor transfer points\",$G$133:$G$140,0),4)),0))),((IFERROR((OFFSET($G$148,MATCH(\"conveyor transfer points\",$G$149:$G$156,0),4)),0))),((IFERROR((OFFSET($G$163,MATCH(\"conveyor transfer points\",$G$165:$G$172,0),4)),0))))","v":0}]
[null,null,null,null,"NOx",null,null,null,null,null,null,null,null,"Maximum (acres/day)","Actual (acres-day/yr)"]
[null,null,null,null,"VOC",null,null,null,null,null,null,null,"Storage Pile",{"$f":"SUM(G32,G48,G64,G80,G96,G112,G128,G144,G160,G176)","v":0},{"$f":"SUM(H32*I32,H48*I48,H64*I64,H80*I80,H96*I96,H112*I112,H128*I128,H144*I144,H160*I160,H176*I176)","v":0}]
[null,null,null,null,"CO"]
[]
[null,null,null,null,null,null,null,null,null,null,null,null,"Actual Emissions for the Listed Processes at this Plant"]
[null,null,null,null,null,null,null,null,null,null,null,null,null,"Maximum Design Rate (tons/hr)","Emission Factor (lb/ton)","Potential Uncontrolled Emissions (lb/hr)","Potential Controlled Emissions (lb/hr)","Potential Annual Emissions (tons/yr)","Actual Annual Emissions (tons/yr)"]
[null,"CRUSHER PLANT","Site 1",null,"Emission Point #","Emission     Unit #","Processes","Combined Maximum Hourly Design Rate for all Like Processes (tons/hr)",{"$f":"('Facility Information'!G5&\" Annual Throughput (tons)\")","v":" Annual Throughput (tons)"},null,null,null,"PM2.5"]
[null,null,null,null,null,null,null,null,null,"no wet supress","wet supress",null,"Primary Crusher",{"$f":"N5","v":0},{"$f":"IF(N20=0,0,IF(OR($C$24=\"no\",$C$40=\"no\",$C$56=\"no\",$C$72=\"no\",$C$88=\"no\",$C$104=\"no\",$C$120=\"no\",$C$136=\"no\",$C$152=\"no\",$C$168=\"no\"),'Emission Factors'!D8,'Emission Factors'!D20))","v":0},{"$f":"IF(OR($C$24=\"no\",$C$40=\"no\",$C$56=\"no\",$C$72=\"no\",$C$88=\"no\",$C$104=\"no\",$C$120=\"no\",$C$136=\"no\",$C$152=\"no\",$C$168=\"no\"),N20*O20,\"\")","v":""},{"$f":"IF($F$10>0,$F$10,IF(OR($C$24=\"no\",$C$40=\"no\",$C$56=\"no\",$C$72=\"no\",$C$88=\"no\",$C$104=\"no\",$C$120=\"no\",$C$136=\"no\",$C$152=\"no\",$C$168=\"no\"),\"\",N20*O20))","v":0},{"$f":"IF($G$10>0,$G$10,IF($C$9>0,$C$9*O20/2000,IF($C$10>0,$C$10*365*O20/2000,IF($C$11>0,$C$11*365*O20*N20/2000,IF(Q20=\"\",P20*8760/2000,Q20*8760/2000)))))","v":0},{"$f":"(O5*'Emission Factors'!D8/2000)+('Emission Factors'!D20*S5/2000)","v":0}]
["YES","Site Name:",null,null,{"$f":"IF(G21=\"\",\"\",\"LP-1 EP-1\")","v":""},{"$f":"IF(G21=\"\",\"\",IF(G21=\"primary crusher\",\"LP-1 EU-1\",IF(G21=\"screening\",\"LP-1 EU-2\",IF(G21=\"secondary crusher\",\"LP-1 EU-3\",IF(G21=\"tertiary crusher\",\"LP-1 EU-4\",IF(G21=\"fines crushing\",\"LP-1 EU-5\",IF(G21=\"fines screening\",\"LP-1 EU-6\",IF(G21=\"wet drilling: unfragmented stone\",\"LP-1 EU-7\",IF(G21=\"conveyor transfer points\",\"LP-1 EU-8\")))))))))","v":""},null,null,null,{"$f":"IF($C24=\"no\",I21,0)","v":0},{"$f":"IF($C$24=\"yes\",I21,0)","v":0},null,"Screening",0,{"$f":"IF(N21=0,0,IF(OR($C$24=\"no\",$C$40=\"no\",$C$56=\"no\",$C$72=\"no\",$C$88=\"no\",$C$104=\"no\",$C$120=\"no\",$C$136=\"no\",$C$152=\"no\",$C$168=\"no\"),'Emission Factors'!D9,'Emission Factors'!D21))","v":0},"",0,{"$f":"IF($G$10>0,\"\",IF($C$9>0,$C$9*O21/2000,IF($C$10>0,$C$10*365*O21/2000,IF($C$11>0,$C$11*365*O21*N21/2000,IF(Q21=\"\",P21*8760/2000,Q21*8760/2000)))))","v":0},{"$f":"(O6*'Emission Factors'!D9/2000)+('Emission Factors'!D21*S6/2000)","v":0}]
["NO","County:",null,null,{"$f":"IF(G22=\"\",\"\",\"LP-1 EP-1\")","v":""},{"$f":"IF(G22=\"\",\"\",IF(G22=\"primary crusher\",\"LP-1 EU-1\",IF(G22=\"screening\",\"LP-1 EU-2\",IF(G22=\"secondary crusher\",\"LP-1 EU-3\",IF(G22=\"tertiary crusher\",\"LP-1 EU-4\",IF(G22=\"fines crushing\",\"LP-1 EU-5\",IF(G22=\"fines screening\",\"LP-1 EU-6\",IF(G22=\"wet drilling: unfragmented stone\",\"LP-1 EU-7\",IF(G22=\"conveyor transfer points\",\"LP-1 EU-8\")))))))))","v":""},null,null,null,{"$f":"IF($C$24=\"no\",I22,0)","v":0},0,null,"Secondary Crusher",0,{"$f":"IF(N22=0,0,IF(OR($C$24=\"no\",$C$40=\"no\",$C$56=\"no\",$C$72=\"no\",$C$88=\"no\",$C$104=\"no\",$C$120=\"no\",$C$136=\"no\",$C$152=\"no\",$C$168=\"no\"),'Emission Factors'!D10,'Emission Factors'!D22))","v":0},"",0,0,{"$f":"(O7*'Emission Factors'!D10/2000)+('Emission Factors'!D22*S7/2000)","v":0}]
[null,"Crushing Period (Dates):",null,null,{"$f":"IF(G23=\"\",\"\",\"LP-1 EP-1\")","v":""},"",null,null,null,0,0,null,"Tertiary Crusher",0,{"$f":"IF(N23=0,0,IF(OR(C24=\"no\",C40=\"no\",C56=\"no\",C72=\"no\",C88=\"no\",C104=\"no\",C120=\"no\",C136=\"no\",C152=\"no\",C168=\"no\"),'Emission Factors'!D12,'Emission Factors'!D24))","v":0},"",0,0,{"$f":"(O8*'Emission Factors'!D12/2000)+('Emission Factors'!D24*S8/2000)","v":0}]
["Primary Crusher","Controlled with Dust Suppressant or Material Being Processed has Moisture Content > 1.5%?",null,null,"","",null,null,null,0,0,null,"Fines Crushing",0,{"$f":"IF(N24=0,0,IF(OR($C$24=\"no\",$C$40=\"no\",$C$56=\"no\",$C$72=\"no\",$C$88=\"no\",$C$104=\"no\",$C$120=\"no\",$C$136=\"no\",$C$152=\"no\",$C$168=\"no\"),'Emission Factors'!D6,'Emission Factors'!D18))","v":0},"",0,0,{"$f":"(O9*'Emission Factors'!D6/2000)+('Emission Factors'!D18*S9/2000)","v":0}]
["Screening",null,null,null,"","",null,null,null,0,0,null,"Fines Screening",0,{"$f":"IF(N25=0,0,IF(OR($C$24=\"no\",$C$40=\"no\",$C$56=\"no\",$C$72=\"no\",$C$88=\"no\",$C$104=\"no\",$C$120=\"no\",$C$136=\"no\",$C$152=\"no\",$C$168=\"no\"),'Emission Factors'!D7,'Emission Factors'!D19))","v":0},"",0,0,{"$f":"(O10*'Emission Factors'!D7/2000)+('Emission Factors'!D19*S10/2000)","v":0}]
["Secondary Crusher",null,null,null,"","",null,null,null,0,0,null,"Wet Drilling: Unfragmented Stone",0,{"$f":"IF(N26=0,0,IF(OR(C24=\"no\",C40=\"no\",C56=\"no\",C72=\"no\",C88=\"no\",C104=\"no\",C120=\"no\",C136=\"no\",C152=\"no\",C168=\"no\"),'Emission Factors'!D13,'Emission Factors'!D25))","v":0},"",0,0,{"$f":"(O11*'Emission Factors'!D13/2000)+('Emission Factors'!D25*S11/2000)","v":0}]
["Tertiary Crusher",null,null,null,"","",null,null,null,0,0,null,"Conveyor Transfer Points",0,{"$f":"IF(N27=0,0,IF(OR(C24=\"no\",C40=\"no\",C56=\"no\",C72=\"no\",C88=\"no\",C104=\"no\",C120=\"no\",C136=\"no\",C152=\"no\",C168=\"no\"),'Emission Factors'!D5,'Emission Factors'!D17))","v":0},"",0,0,{"$f":"(O12*'Emission Factors'!D5/2000)+('Emission Factors'!D17*S12/2000)","v":0}]
["Fines Crushing",null,null,null,"","",null,null,null,0,0,null,"PM10"]
["Fines Screening",null,null,null,null,null,null,null,null,null,null,null,"Primary Crusher",{"$f":"N5","v":0},{"$f":"IF(N29=0,0,IF(OR($C$24=\"no\",$C$40=\"no\",$C$56=\"no\",$C$72=\"no\",$C$88=\"no\",$C$104=\"no\",$C$120=\"no\",$C$136=\"no\",$C$152=\"no\",$C$168=\"no\"),'Emission Factors'!F8,'Emission Factors'!F20))","v":0},{"$f":"IF(OR($C$24=\"no\",$C$40=\"no\",$C$56=\"no\",$C$72=\"no\",$C$88=\"no\",$C$104=\"no\",$C$120=\"no\",$C$136=\"no\",$C$152=\"no\",$C$168=\"no\"),N29*O29,\"\")","v":""},{"$f":"IF($F$11>0,$F$11,IF(OR($C$24=\"no\",$C$40=\"no\",$C$56=\"no\",$C$72=\"no\",$C$88=\"no\",$C$104=\"no\",$C$120=\"no\",$C$136=\"no\",$C$152=\"no\",$C$168=\"no\"),\"\",N29*O29))","v":0},{"$f":"IF($G$11>0,$G$11,IF($C$9>0,$C$9*O29/2000,IF($C$10>0,$C$10*365*O29/2000,IF($C$11>0,$C$11*365*O29*N29/2000,IF(Q29=\"\",P29*8760/2000,Q29*8760/2000)))))","v":0},{"$f":"(O5*'Emission Factors'!F8/2000)+('Emission Factors'!F20*S5/2000)","v":0}]
["Wet Drilling: Unfragmented Stone",null,null,null,"Stock Pile Area",null,null,null,null,null,null,null,"Screening",{"$f":"N6","v":0},{"$f":"IF(N30=0,0,IF(OR($C$24=\"no\",$C$40=\"no\",$C$56=\"no\",$C$72=\"no\",$C$88=\"no\",$C$104=\"no\",$C$120=\"no\",$C$136=\"no\",$C$152=\"no\",$C$168=\"no\"),'Emission Factors'!F9,'Emission Factors'!F21))","v":0},"",0,{"$f":"IF($G$11>0,\"\",IF($C$9>0,$C$9*O30/2000,IF($C$10>0,$C$10*365*O30/2000,IF($C$11>0,$C$11*365*O30*N30/2000,IF(Q30=\"\",P30*8760/2000,Q30*8760/2000)))))","v":0},{"$f":"(O6*'Emission Factors'!F9/2000)+('Emission Factors'!F21*S6/2000)","v":0}]
["Conveyor Transfer Points",null,null,null,null,"Emission Unit #","Maximum Storage Area (acres)","Actual Storage Area (acres)","Actual Days in Existence (days)",null,null,null,"Secondary Crusher",0,{"$f":"IF(N31=0,0,IF(OR($C$24=\"no\",$C$40=\"no\",$C$56=\"no\",$C$72=\"no\",$C$88=\"no\",$C$104=\"no\",$C$120=\"no\",$C$136=\"no\",$C$152=\"no\",$C$168=\"no\"),'Emission Factors'!F10,'Emission Factors'!F22))","v":0},"",0,0,{"$f":"(O7*'Emission Factors'!F10/2000)+('Emission Factors'!F22*S7/2000)","v":0}]
[null,null,null,null,null,null,null,null,null,null,null,null,"Tertiary Crusher",0,{"$f":"IF(N32=0,0,IF(OR(C24=\"no\",C40=\"no\",C56=\"no\",C72=\"no\",C88=\"no\",C104=\"no\",C120=\"no\",C136=\"no\",C152=\"no\",C168=\"no\"),'Emission Factors'!F12,'Emission Factors'!F24))","v":0},"",0,0,{"$f":"(O8*'Emission Factors'!F12/2000)+('Emission Factors'!F24*S8/2000)","v":0}]
[null,null,null,null,null,null,null,null,null,null,null,null,"Fines Crushing",0,{"$f":"IF(N33=0,0,IF(OR(C24=\"no\",C40=\"no\",C56=\"no\",C72=\"no\",C88=\"no\",C104=\"no\",C120=\"no\",C136=\"no\",C152=\"no\",C168=\"no\"),'Emission Factors'!F6,'Emission Factors'!F18))","v":0},"",0,0,{"$f":"(O9*'Emission Factors'!F6/2000)+('Emission Factors'!F18*S9/2000)","v":0}]
[{"$f":"C21","v":0},null,null,null,null,null,null,null,null,null,null,null,"Fines Screening",0,{"$f":"IF(N34=0,0,IF(OR(C24=\"no\",C40=\"no\",C56=\"no\",C72=\"no\",C88=\"no\",C104=\"no\",C120=\"no\",C136=\"no\",C152=\"no\",C168=\"no\"),'Emission Factors'!F7,'Emission Factors'!F19))","v":0},"",0,0,{"$f":"(O10*'Emission Factors'!F7/2000)+('Emission Factors'!F19*S10/2000)","v":0}]
[{"$f":"C37","v":0},{"$f":"IF('Limestone Plant (LP-1)'!$D$4>1,\"CRUSHER PLANT\",\"\")","v":""},{"$f":"IF('Limestone Plant (LP-1)'!$D$4>1,\"Site 2\",\"\")","v":""},null,{"$f":"IF('Limestone Plant (LP-1)'!$D$4>1,\"Emission Point #\",\"\")","v":""},{"$f":"IF('Limestone Plant (LP-1)'!$D$4>1,\"Emission     Unit #\",\"\")","v":""},{"$f":"IF('Limestone Plant (LP-1)'!$D$4>1,\"Processes\",\"\")","v":""},{"$f":"IF('Limestone Plant (LP-1)'!$D$4>1,\"Combined Maximum Hourly Design Rate for all Like Processes (tons/hr)\",\"\")","v":""},{"$f":"IF('Limestone Plant (LP-1)'!$D$4>1,('Facility Information'!G5&\" Annual Throughput (tons)\"),\"\")","v":""},null,null,null,"Wet Drilling: Unfragmented Stone",0,{"$f":"IF(N35=0,0,IF(OR(C24=\"no\",C40=\"no\",C56=\"no\",C72=\"no\",C88=\"no\",C104=\"no\",C120=\"no\",C136=\"no\",C152=\"no\",C168=\"no\"),'Emission Factors'!F13,'Emission Factors'!F25))","v":0},"",0,0,{"$f":"(O11*'Emission Factors'!F13/2000)+('Emission Factors'!F25*S11/2000)","v":0}]
[{"$f":"C53","v":0},null,null,null,null,null,null,null,null,null,null,null,"Conveyor Transfer Points",0,{"$f":"IF(N36=0,0,IF(OR(C24=\"no\",C40=\"no\",C56=\"no\",C72=\"no\",C88=\"no\",C104=\"no\",C120=\"no\",C136=\"no\",C152=\"no\",C168=\"no\"),'Emission Factors'!F5,'Emission Factors'!F17))","v":0},"",0,0,{"$f":"(O12*'Emission Factors'!F5/2000)+('Emission Factors'!F17*S12/2000)","v":0}]
[{"$f":"C69","v":0},{"$f":"IF('Limestone Plant (LP-1)'!$D$4>1,\"Site Name:\",\"\")","v":""},null,null,{"$f":"IF(G37=\"\",\"\",\"LP-1 EP-1\")","v":""},{"$f":"IF(G37=\"\",\"\",IF(G37=\"primary crusher\",\"LP-1 EU-1\",IF(G37=\"screening\",\"LP-1 EU-2\",IF(G37=\"secondary crusher\",\"LP-1 EU-3\",IF(G37=\"tertiary crusher\",\"LP-1 EU-4\",IF(G37=\"fines crushing\",\"LP-1 EU-5\",IF(G37=\"fines screening\",\"LP-1 EU-6\",IF(G37=\"wet drilling: unfragmented stone\",\"LP-1 EU-7\",IF(G37=\"conveyor transfer points\",\"LP-1 EU-8\")))))))))","v":""},null,null,null,{"$f":"IF($C$40=\"no\",I37,0)","v":0},{"$f":"IF($C$40=\"yes\",I37,0)","v":0}]
[{"$f":"C85","v":0},{"$f":"IF('Limestone Plant (LP-1)'!$D$4>1,\"County:\",\"\")","v":""},null,null,{"$f":"IF(G38=\"\",\"\",\"LP-1 EP-1\")","v":""},{"$f":"IF(G38=\"\",\"\",IF(G38=\"primary crusher\",\"LP-1 EU-1\",IF(G38=\"screening\",\"LP-1 EU-2\",IF(G38=\"secondary crusher\",\"LP-1 EU-3\",IF(G38=\"tertiary crusher\",\"LP-1 EU-4\",IF(G38=\"fines crushing\",\"LP-1 EU-5\",IF(G38=\"fines screening\",\"LP-1 EU-6\",IF(G38=\"wet drilling: unfragmented stone\",\"LP-1 EU-7\",IF(G38=\"conveyor transfer points\",\"LP-1 EU-8\")))))))))","v":""},null,null,null,{"$f":"IF($C$40=\"no\",I38,0)","v":0},{"$f":"IF($C$40=\"yes\",I38,0)","v":0},null,null,"Max Design Rate (acres/day)","Emission Factor   (lb/acre-day)","Potential Uncontrolled Emissions (lb/hr)","Potential Controlled Emissions (lb/hr)","Potential Annual Emissions (tons/yr)","Actual Annual Emissions (tons/yr)"]
[{"$f":"C101","v":0},{"$f":"IF('Limestone Plant (LP-1)'!$D$4>1,\"Crushing Period (Dates):\",\"\")","v":""},null,null,"","",null,null,null,0,0,null,"Storage Pile"]
[{"$f":"C117","v":0},{"$f":"IF('Limestone Plant (LP-1)'!$D$4>1,\"Controlled with Dust Suppressant or Material Being Processed has Moisture Content > 1.5%?\",\"\")","v":""},null,null,"","",null,null,null,0,0,null,"PM2.5/PM10",{"$f":"N14","v":0},3.64,{"$f":"N40*O40*(1/24)","v":0},null,{"$f":"N40*O40*365/2000","v":0},{"$f":"O14*O40/2000","v":0}]
[{"$f":"C133","v":0},null,null,null,"","",null,null,null,0,0]
[{"$f":"C149","v":0},null,null,null,"","",null,null,null,0,0]
[{"$f":"C165","v":0},null,null,null,"","",null,null,null,0,0]
[null,null,null,null,"","",null,null,null,0,0]
[]
[null,null,null,null,{"$f":"IF('Limestone Plant (LP-1)'!$D$4>1,\"Stock Pile Area\",\"\")","v":""}]
[null,null,null,null,null,{"$f":"IF('Limestone Plant (LP-1)'!$D$4>1,\"Emission Unit #\",\"\")","v":""},{"$f":"IF('Limestone Plant (LP-1)'!$D$4>1,\"Maximum Storage Area (acres)\",\"\")","v":""},{"$f":"IF('Limestone Plant (LP-1)'!$D$4>1,\"Actual Storage Area (acres)\",\"\")","v":""},{"$f":"IF('Limestone Plant (LP-1)'!$D$4>1,\"Actual Days in Existence (days)\",\"\")","v":""}]
[]
[]
[]
[null,{"$f":"IF('Limestone Plant (LP-1)'!$D$4>2,\"CRUSHER PLANT\",\"\")","v":""},{"$f":"IF('Limestone Plant (LP-1)'!$D$4>2,\"Site 3\",\"\")","v":""},null,{"$f":"IF('Limestone Plant (LP-1)'!$D$4>2,\"Emission Point #\",\"\")","v":""},{"$f":"IF('Limestone Plant (LP-1)'!$D$4>2,\"Emission     Unit #\",\"\")","v":""},{"$f":"IF('Limestone Plant (LP-1)'!$D$4>2,\"Processes\",\"\")","v":""},{"$f":"IF('Limestone Plant (LP-1)'!$D$4>2,\"Combined Maximum Hourly Design Rate for all Like Processes (tons/hr)\",\"\")","v":""},{"$f":"IF('Limestone Plant (LP-1)'!$D$4>2,('Facility Information'!G5&\" Annual Throughput (tons)\"),\"\")","v":""}]
[]
[null,{"$f":"IF('Limestone Plant (LP-1)'!$D$4>2,\"Site Name:\",\"\")","v":""},null,null,{"$f":"IF(G53=\"\",\"\",\"LP-1 EP-1\")","v":""},{"$f":"IF(G53=\"\",\"\",IF(G53=\"primary crusher\",\"LP-1 EU-1\",IF(G53=\"screening\",\"LP-1 EU-2\",IF(G53=\"secondary crusher\",\"LP-1 EU-3\",IF(G53=\"tertiary crusher\",\"LP-1 EU-4\",IF(G53=\"fines crushing\",\"LP-1 EU-5\",IF(G53=\"fines screening\",\"LP-1 EU-6\",IF(G53=\"wet drilling: unfragmented stone\",\"LP-1 EU-7\",IF(G53=\"conveyor transfer points\",\"LP-1 EU-8\")))))))))","v":""},null,null,null,{"$f":"IF($C$56=\"no\",I53,0)","v":0},{"$f":"IF($C$56=\"yes\",I53,0)","v":0}]
[null,{"$f":"IF('Limestone Plant (LP-1)'!$D$4>2,\"County:\",\"\")","v":""},null,null,{"$f":"IF(G54=\"\",\"\",\"LP-1 EP-1\")","v":""},{"$f":"IF(G54=\"\",\"\",IF(G54=\"primary crusher\",\"LP-1 EU-1\",IF(G54=\"screening\",\"LP-1 EU-2\",IF(G54=\"secondary crusher\",\"LP-1 EU-3\",IF(G54=\"tertiary crusher\",\"LP-1 EU-4\",IF(G54=\"fines crushing\",\"LP-1 EU-5\",IF(G54=\"fines screening\",\"LP-1 EU-6\",IF(G54=\"wet drilling: unfragmented stone\",\"LP-1 EU-7\",IF(G54=\"conveyor transfer points\",\"LP-1 EU-8\")))))))))","v":""},null,null,null,{"$f":"IF($C$56=\"no\",I54,0)","v":0},{"$f":"IF($C$56=\"yes\",I54,0)","v":0}]
[null,{"$f":"IF('Limestone Plant (LP-1)'!$D$4>2,\"Crushing Period (Dates):\",\"\")","v":""},null,null,"","",null,null,null,0,0]
[null,{"$f":"IF('Limestone Plant (LP-1)'!$D$4>2,\"Controlled with Dust Suppressant or Material Being Processed has Moisture Content > 1.5%?\",\"\")","v":""},null,null,"","",null,null,null,0,0]
[null,null,null,null,"","",null,null,null,0,0]
[null,null,null,null,"","",null,null,null,0,0]
[null,null,null,null,"","",null,null,null,0,0]
[null,null,null,null,"","",null,null,null,0,0]
[]
[null,null,null,null,{"$f":"IF('Limestone Plant (LP-1)'!$D$4>2,\"Stock Pile Area\",\"\")","v":""}]
[null,null,null,null,null,{"$f":"IF('Limestone Plant (LP-1)'!$D$4>2,\"Emission Unit #\",\"\")","v":""},{"$f":"IF('Limestone Plant (LP-1)'!$D$4>2,\"Maximum Storage Area (acres)\",\"\")","v":""},{"$f":"IF('Limestone Plant (LP-1)'!$D$4>2,\"Actual Storage Area (acres)\",\"\")","v":""},{"$f":"IF('Limestone Plant (LP-1)'!$D$4>2,\"Actual Days in Existence (days)\",\"\")","v":""}]
[]
[]
[]
[null,{"$f":"IF('Limestone Plant (LP-1)'!$D$4>3,\"CRUSHER PLANT\",\"\")","v":""},{"$f":"IF('Limestone Plant (LP-1)'!$D$4>3,\"Site 4\",\"\")","v":""},null,{"$f":"IF('Limestone Plant (LP-1)'!$D$4>3,\"Emission Point #\",\"\")","v":""},{"$f":"IF('Limestone Plant (LP-1)'!$D$4>3,\"Emission     Unit #\",\"\")","v":""},{"$f":"IF('Limestone Plant (LP-1)'!$D$4>3,\"Processes\",\"\")","v":""},{"$f":"IF('Limestone Plant (LP-1)'!$D$4>3,\"Combined Maximum Hourly Design Rate for all Like Processes (tons/hr)\",\"\")","v":""},{"$f":"IF('Limestone Plant (LP-1)'!$D$4>3,('Facility Information'!G5&\" Annual Throughput (tons)\"),\"\")","v":""}]
[]
[null,{"$f":"IF('Limestone Plant (LP-1)'!$D$4>3,\"Site Name:\",\"\")","v":""},null,null,{"$f":"IF(G69=\"\",\"\",\"LP-1 EP-1\")","v":""},{"$f":"IF(G69=\"\",\"\",IF(G69=\"primary crusher\",\"LP-1 EU-1\",IF(G69=\"screening\",\"LP-1 EU-2\",IF(G69=\"secondary crusher\",\"LP-1 EU-3\",IF(G69=\"tertiary crusher\",\"LP-1 EU-4\",IF(G69=\"fines crushing\",\"LP-1 EU-5\",IF(G69=\"fines screening\",\"LP-1 EU-6\",IF(G69=\"wet drilling: unfragmented stone\",\"LP-1 EU-7\",IF(G69=\"conveyor transfer points\",\"LP-1 EU-8\")))))))))","v":""},null,null,null,{"$f":"IF($C$72=\"no\",I69,0)","v":0},{"$f":"IF($C$72=\"yes\",I69,0)","v":0}]
[null,{"$f":"IF('Limestone Plant (LP-1)'!$D$4>3,\"County:\",\"\")","v":""},null,null,{"$f":"IF(G70=\"\",\"\",\"LP-1 EP-1\")","v":""},{"$f":"IF(G70=\"\",\"\",IF(G70=\"primary crusher\",\"LP-1 EU-1\",IF(G70=\"screening\",\"LP-1 EU-2\",IF(G70=\"secondary crusher\",\"LP-1 EU-3\",IF(G70=\"tertiary crusher\",\"LP-1 EU-4\",IF(G70=\"fines crushing\",\"LP-1 EU-5\",IF(G70=\"fines screening\",\"LP-1 EU-6\",IF(G70=\"wet drilling: unfragmented stone\",\"LP-1 EU-7\",IF(G70=\"conveyor transfer points\",\"LP-1 EU-8\")))))))))","v":""},null,null,null,{"$f":"IF($C$72=\"no\",I70,0)","v":0},{"$f":"IF($C$72=\"yes\",I70,0)","v":0}]
[null,{"$f":"IF('Limestone Plant (LP-1)'!$D$4>3,\"Crushing Period (Dates):\",\"\")","v":""},null,null,"","",null,null,null,0,0]
[null,{"$f":"IF('Limestone Plant (LP-1)'!$D$4>3,\"Controlled with Dust Suppressant or Material Being Processed has Moisture Content > 1.5%?\",\"\")","v":""},null,null,"","",null,null,null,0,0]
[null,null,null,null,"","",null,null,null,0,0]
[null,null,null,null,"","",null,null,null,0,0]
[null,null,null,null,"","",null,null,null,0,0]
[null,null,null,null,"","",null,null,null,0,0]
[]
[null,null,null,null,{"$f":"IF('Limestone Plant (LP-1)'!$D$4>3,\"Stock Pile Area\",\"\")","v":""}]
[null,null,null,null,null,{"$f":"IF('Limestone Plant (LP-1)'!$D$4>3,\"Emission Unit #\",\"\")","v":""},{"$f":"IF('Limestone Plant (LP-1)'!$D$4>3,\"Maximum Storage Area (acres)\",\"\")","v":""},{"$f":"IF('Limestone Plant (LP-1)'!$D$4>3,\"Actual Storage Area (acres)\",\"\")","v":""},{"$f":"IF('Limestone Plant (LP-1)'!$D$4>3,\"Actual Days in Existence (days)\",\"\")","v":""}]
[]
[]
[]
[null,{"$f":"IF('Limestone Plant (LP-1)'!$D$4>4,\"CRUSHER PLANT\",\"\")","v":""},{"$f":"IF('Limestone Plant (LP-1)'!$D$4>4,\"Site 5\",\"\")","v":""},null,{"$f":"IF('Limestone Plant (LP-1)'!$D$4>4,\"Emission Point #\",\"\")","v":""},{"$f":"IF('Limestone Plant (LP-1)'!$D$4>4,\"Emission     Unit #\",\"\")","v":""},{"$f":"IF('Limestone Plant (LP-1)'!$D$4>4,\"Processes\",\"\")","v":""},{"$f":"IF('Limestone Plant (LP-1)'!$D$4>4,\"Combined Maximum Hourly Design Rate for all Like Processes (tons/hr)\",\"\")","v":""},{"$f":"IF('Limestone Plant (LP-1)'!$D$4>4,('Facility Information'!G5&\" Annual Throughput (tons)\"),\"\")","v":""}]
[]
[null,{"$f":"IF('Limestone Plant (LP-1)'!$D$4>4,\"Site Name:\",\"\")","v":""},null,null,{"$f":"IF(G85=\"\",\"\",\"LP-1 EP-1\")","v":""},{"$f":"IF(G85=\"\",\"\",IF(G85=\"primary crusher\",\"LP-1 EU-1\",IF(G85=\"screening\",\"LP-1 EU-2\",IF(G85=\"secondary crusher\",\"LP-1 EU-3\",IF(G85=\"tertiary crusher\",\"LP-1 EU-4\",IF(G85=\"fines crushing\",\"LP-1 EU-5\",IF(G85=\"fines screening\",\"LP-1 EU-6\",IF(G85=\"wet drilling: unfragmented stone\",\"LP-1 EU-7\",IF(G85=\"conveyor transfer points\",\"LP-1 EU-8\")))))))))","v":""},null,null,null,{"$f":"IF($C$88=\"no\",I85,0)","v":0},{"$f":"IF($C$88=\"yes\",I85,0)","v":0}]
[null,{"$f":"IF('Limestone Plant (LP-1)'!$D$4>4,\"County:\",\"\")","v":""},null,null,{"$f":"IF(G86=\"\",\"\",\"LP-1 EP-1\")","v":""},{"$f":"IF(G86=\"\",\"\",IF(G86=\"primary crusher\",\"LP-1 EU-1\",IF(G86=\"screening\",\"LP-1 EU-2\",IF(G86=\"secondary crusher\",\"LP-1 EU-3\",IF(G86=\"tertiary crusher\",\"LP-1 EU-4\",IF(G86=\"fines crushing\",\"LP-1 EU-5\",IF(G86=\"fines screening\",\"LP-1 EU-6\",IF(G86=\"wet drilling: unfragmented stone\",\"LP-1 EU-7\",IF(G86=\"conveyor transfer points\",\"LP-1 EU-8\")))))))))","v":""},null,null,null,{"$f":"IF($C$88=\"no\",I86,0)","v":0},{"$f":"IF($C$88=\"yes\",I86,0)","v":0}]
[null,{"$f":"IF('Limestone Plant (LP-1)'!$D$4>4,\"Crushing Period (Dates):\",\"\")","v":""},null,null,"","",null,null,null,0,0]
[null,{"$f":"IF('Limestone Plant (LP-1)'!$D$4>4,\"Controlled with Dust Suppressant or Material Being Processed has Moisture Content > 1.5%?\",\"\")","v":""},null,null,"","",null,null,null,0,0]
[null,null,null,null,"","",null,null,null,0,0]
[null,null,null,null,"","",null,null,null,0,0]
[null,null,null,null,"","",null,null,null,0,0]
[null,null,null,null,"","",null,null,null,0,0]
[]
[null,null,null,null,{"$f":"IF('Limestone Plant (LP-1)'!$D$4>4,\"Stock Pile Area\",\"\")","v":""}]
[null,null,null,null,null,{"$f":"IF('Limestone Plant (LP-1)'!$D$4>4,\"Emission Unit #\",\"\")","v":""},{"$f":"IF('Limestone Plant (LP-1)'!$D$4>4,\"Maximum Storage Area (acres)\",\"\")","v":""},{"$f":"IF('Limestone Plant (LP-1)'!$D$4>4,\"Actual Storage Area (acres)\",\"\")","v":""},{"$f":"IF('Limestone Plant (LP-1)'!$D$4>4,\"Actual Days in Existence (days)\",\"\")","v":""}]
[]
[]
[]
[null,{"$f":"IF('Limestone Plant (LP-1)'!$D$4>5,\"CRUSHER PLANT\",\"\")","v":""},{"$f":"IF('Limestone Plant (LP-1)'!$D$4>5,\"Site 6\",\"\")","v":""},null,{"$f":"IF('Limestone Plant (LP-1)'!$D$4>5,\"Emission Point #\",\"\")","v":""},{"$f":"IF('Limestone Plant (LP-1)'!$D$4>5,\"Emission     Unit #\",\"\")","v":""},{"$f":"IF('Limestone Plant (LP-1)'!$D$4>5,\"Processes\",\"\")","v":""},{"$f":"IF('Limestone Plant (LP-1)'!$D$4>5,\"Combined Maximum Hourly Design Rate for all Like Processes (tons/hr)\",\"\")","v":""},{"$f":"IF('Limestone Plant (LP-1)'!$D$4>5,('Facility Information'!G5&\" Annual Throughput (tons)\"),\"\")","v":""}]
[]
[null,{"$f":"IF('Limestone Plant (LP-1)'!$D$4>5,\"Site Name:\",\"\")","v":""},null,null,{"$f":"IF(G101=\"\",\"\",\"LP-1 EP-1\")","v":""},{"$f":"IF(G101=\"\",\"\",IF(G101=\"primary crusher\",\"LP-1 EU-1\",IF(G101=\"screening\",\"LP-1 EU-2\",IF(G101=\"secondary crusher\",\"LP-1 EU-3\",IF(G101=\"tertiary crusher\",\"LP-1 EU-4\",IF(G101=\"fines crushing\",\"LP-1 EU-5\",IF(G101=\"fines screening\",\"LP-1 EU-6\",IF(G101=\"wet drilling: unfragmented stone\",\"LP-1 EU-7\",IF(G101=\"conveyor transfer points\",\"LP-1 EU-8\")))))))))","v":""},null,null,null,{"$f":"IF($C$104=\"no\",I101,0)","v":0},{"$f":"IF($C$104=\"yes\",I101,0)","v":0}]
[null,{"$f":"IF('Limestone Plant (LP-1)'!$D$4>5,\"County:\",\"\")","v":""},null,null,{"$f":"IF(G102=\"\",\"\",\"LP-1 EP-1\")","v":""},{"$f":"IF(G102=\"\",\"\",IF(G102=\"primary crusher\",\"LP-1 EU-1\",IF(G102=\"screening\",\"LP-1 EU-2\",IF(G102=\"secondary crusher\",\"LP-1 EU-3\",IF(G102=\"tertiary crusher\",\"LP-1 EU-4\",IF(G102=\"fines crushing\",\"LP-1 EU-5\",IF(G102=\"fines screening\",\"LP-1 EU-6\",IF(G102=\"wet drilling: unfragmented stone\",\"LP-1 EU-7\",IF(G102=\"conveyor transfer points\",\"LP-1 EU-8\")))))))))","v":""},null,null,null,{"$f":"IF($C$104=\"no\",I102,0)","v":0},{"$f":"IF($C$104=\"yes\",I102,0)","v":0}]
[null,{"$f":"IF('Limestone Plant (LP-1)'!$D$4>5,\"Crushing Period (Dates):\",\"\")","v":""},null,null,"","",null,null,null,0,0]
[null,{"$f":"IF('Limestone Plant (LP-1)'!$D$4>5,\"Controlled with Dust Suppressant or Material Being Processed has Moisture Content > 1.5%?\",\"\")","v":""},null,null,"","",null,null,null,0,0]
[null,null,null,null,"","",null,null,null,0,0]
[null,null,null,null,"","",null,null,null,0,0]
[null,null,null,null,"","",null,null,null,0,0]
[null,null,null,null,"","",null,null,null,0,0]
[]
[null,null,null,null,{"$f":"IF('Limestone Plant (LP-1)'!$D$4>5,\"Stock Pile Area\",\"\")","v":""}]
[null,null,null,null,null,{"$f":"IF('Limestone Plant (LP-1)'!$D$4>5,\"Emission Unit #\",\"\")","v":""},{"$f":"IF('Limestone Plant (LP-1)'!$D$4>5,\"Maximum Storage Area (acres)\",\"\")","v":""},{"$f":"IF('Limestone Plant (LP-1)'!$D$4>5,\"Actual Storage Area (acres)\",\"\")","v":""},{"$f":"IF('Limestone Plant (LP-1)'!$D$4>5,\"Actual Days in Existence (days)\",\"\")","v":""}]
[]
[]
[]
[null,{"$f":"IF('Limestone Plant (LP-1)'!$D$4>6,\"CRUSHER PLANT\",\"\")","v":""},{"$f":"IF('Limestone Plant (LP-1)'!$D$4>6,\"Site 7\",\"\")","v":""},null,{"$f":"IF('Limestone Plant (LP-1)'!$D$4>6,\"Emission Point #\",\"\")","v":""},{"$f":"IF('Limestone Plant (LP-1)'!$D$4>6,\"Emission     Unit #\",\"\")","v":""},{"$f":"IF('Limestone Plant (LP-1)'!$D$4>6,\"Processes\",\"\")","v":""},{"$f":"IF('Limestone Plant (LP-1)'!$D$4>6,\"Combined Maximum Hourly Design Rate for all Like Processes (tons/hr)\",\"\")","v":""},{"$f":"IF('Limestone Plant (LP-1)'!$D$4>6,('Facility Information'!G5&\" Annual Throughput (tons)\"),\"\")","v":""}]
[]
[null,{"$f":"IF('Limestone Plant (LP-1)'!$D$4>6,\"Site Name:\",\"\")","v":""},null,null,{"$f":"IF(G117=\"\",\"\",\"LP-1 EP-1\")","v":""},{"$f":"IF(G117=\"\",\"\",IF(G117=\"primary crusher\",\"LP-1 EU-1\",IF(G117=\"screening\",\"LP-1 EU-2\",IF(G117=\"secondary crusher\",\"LP-1 EU-3\",IF(G117=\"tertiary crusher\",\"LP-1 EU-4\",IF(G117=\"fines crushing\",\"LP-1 EU-5\",IF(G117=\"fines screening\",\"LP-1 EU-6\",IF(G117=\"wet drilling: unfragmented stone\",\"LP-1 EU-7\",IF(G117=\"conveyor transfer points\",\"LP-1 EU-8\")))))))))","v":""},null,null,null,{"$f":"IF($C$120=\"no\",I117,0)","v":0},{"$f":"IF($C$120=\"yes\",I117,0)","v":0}]
[null,{"$f":"IF('Limestone Plant (LP-1)'!$D$4>6,\"County:\",\"\")","v":""},null,null,{"$f":"IF(G118=\"\",\"\",\"LP-1 EP-1\")","v":""},{"$f":"IF(G118=\"\",\"\",IF(G118=\"primary crusher\",\"LP-1 EU-1\",IF(G118=\"screening\",\"LP-1 EU-2\",IF(G118=\"secondary crusher\",\"LP-1 EU-3\",IF(G118=\"tertiary crusher\",\"LP-1 EU-4\",IF(G118=\"fines crushing\",\"LP-1 EU-5\",IF(G118=\"fines screening\",\"LP-1 EU-6\",IF(G118=\"wet drilling: unfragmented stone\",\"LP-1 EU-7\",IF(G118=\"conveyor transfer points\",\"LP-1 EU-8\")))))))))","v":""},null,null,null,{"$f":"IF($C$120=\"no\",I118,0)","v":0},{"$f":"IF($C$120=\"yes\",I118,0)","v":0}]
[null,{"$f":"IF('Limestone Plant (LP-1)'!$D$4>6,\"Crushing Period (Dates):\",\"\")","v":""},null,null,"","",null,null,null,0,0]
[null,{"$f":"IF('Limestone Plant (LP-1)'!$D$4>6,\"Controlled with Dust Suppressant or Material Being Processed has Moisture Content > 1.5%?\",\"\")","v":""},null,null,"","",null,null,null,0,0]
[null,null,null,null,"","",null,null,null,0,0]
[null,null,null,null,"","",null,null,null,0,0]
[null,null,null,null,"","",null,null,null,0,0]
[null,null,null,null,"","",null,null,null,0,0]
[]
[null,null,null,null,{"$f":"IF('Limestone Plant (LP-1)'!$D$4>6,\"Stock Pile Area\",\"\")","v":""}]
[null,null,null,null,null,{"$f":"IF('Limestone Plant (LP-1)'!$D$4>6,\"Emission Unit #\",\"\")","v":""},{"$f":"IF('Limestone Plant (LP-1)'!$D$4>6,\"Maximum Storage Area (acres)\",\"\")","v":""},{"$f":"IF('Limestone Plant (LP-1)'!$D$4>6,\"Actual Storage Area (acres)\",\"\")","v":""},{"$f":"IF('Limestone Plant (LP-1)'!$D$4>6,\"Actual Days in Existence (days)\",\"\")","v":""}]
[]
[]
[]
[null,{"$f":"IF('Limestone Plant (LP-1)'!$D$4>7,\"CRUSHER PLANT\",\"\")","v":""},{"$f":"IF('Limestone Plant (LP-1)'!$D$4>7,\"Site 8\",\"\")","v":""},null,{"$f":"IF('Limestone Plant (LP-1)'!$D$4>7,\"Emission Point #\",\"\")","v":""},{"$f":"IF('Limestone Plant (LP-1)'!$D$4>7,\"Emission     Unit #\",\"\")","v":""},{"$f":"IF('Limestone Plant (LP-1)'!$D$4>7,\"Processes\",\"\")","v":""},{"$f":"IF('Limestone Plant (LP-1)'!$D$4>7,\"Combined Maximum Hourly Design Rate for all Like Processes (tons/hr)\",\"\")","v":""},{"$f":"IF('Limestone Plant (LP-1)'!$D$4>7,('Facility Information'!G5&\" Annual Throughput (tons)\"),\"\")","v":""}]
[]
[null,{"$f":"IF('Limestone Plant (LP-1)'!$D$4>7,\"Site Name:\",\"\")","v":""},null,null,{"$f":"IF(G133=\"\",\"\",\"LP-1 EP-1\")","v":""},{"$f":"IF(G133=\"\",\"\",IF(G133=\"primary crusher\",\"LP-1 EU-1\",IF(G133=\"screening\",\"LP-1 EU-2\",IF(G133=\"secondary crusher\",\"LP-1 EU-3\",IF(G133=\"tertiary crusher\",\"LP-1 EU-4\",IF(G133=\"fines crushing\",\"LP-1 EU-5\",IF(G133=\"fines screening\",\"LP-1 EU-6\",IF(G133=\"wet drilling: unfragmented stone\",\"LP-1 EU-7\",IF(G133=\"conveyor transfer points\",\"LP-1 EU-8\")))))))))","v":""},null,null,null,{"$f":"IF($C$136=\"no\",I133,0)","v":0},{"$f":"IF($C$136=\"yes\",I133,0)","v":0}]
[null,{"$f":"IF('Limestone Plant (LP-1)'!$D$4>7,\"County:\",\"\")","v":""},null,null,{"$f":"IF(G134=\"\",\"\",\"LP-1 EP-1\")","v":""},{"$f":"IF(G134=\"\",\"\",IF(G134=\"primary crusher\",\"LP-1 EU-1\",IF(G134=\"screening\",\"LP-1 EU-2\",IF(G134=\"secondary crusher\",\"LP-1 EU-3\",IF(G134=\"tertiary crusher\",\"LP-1 EU-4\",IF(G134=\"fines crushing\",\"LP-1 EU-5\",IF(G134=\"fines screening\",\"LP-1 EU-6\",IF(G134=\"wet drilling: unfragmented stone\",\"LP-1 EU-7\",IF(G134=\"conveyor transfer points\",\"LP-1 EU-8\")))))))))","v":""},null,null,null,{"$f":"IF($C$136=\"no\",I134,0)","v":0},{"$f":"IF($C$136=\"yes\",I134,0)","v":0}]
[null,{"$f":"IF('Limestone Plant (LP-1)'!$D$4>7,\"Crushing Period (Dates):\",\"\")","v":""},null,null,"","",null,null,null,0,0]
[null,{"$f":"IF('Limestone Plant (LP-1)'!$D$4>7,\"Controlled with Dust Suppressant or Material Being Processed has Moisture Content > 1.5%?\",\"\")","v":""},null,null,"","",null,null,null,0,0]
[null,null,null,null,"","",null,null,null,0,0]
[null,null,null,null,"","",null,null,null,0,0]
[null,null,null,null,"","",null,null,null,0,0]
[null,null,null,null,"","",null,null,null,0,0]
[]
[null,null,null,null,{"$f":"IF('Limestone Plant (LP-1)'!$D$4>7,\"Stock Pile Area\",\"\")","v":""}]
[null,null,null,null,null,{"$f":"IF('Limestone Plant (LP-1)'!$D$4>7,\"Emission Unit #\",\"\")","v":""},{"$f":"IF('Limestone Plant (LP-1)'!$D$4>7,\"Maximum Storage Area (acres)\",\"\")","v":""},{"$f":"IF('Limestone Plant (LP-1)'!$D$4>7,\"Actual Storage Area (acres)\",\"\")","v":""},{"$f":"IF('Limestone Plant (LP-1)'!$D$4>7,\"Actual Days in Existence (days)\",\"\")","v":""}]
[]
[]
[]
[null,{"$f":"IF('Limestone Plant (LP-1)'!$D$4>8,\"CRUSHER PLANT\",\"\")","v":""},{"$f":"IF('Limestone Plant (LP-1)'!$D$4>8,\"Site 9\",\"\")","v":""},null,{"$f":"IF('Limestone Plant (LP-1)'!$D$4>8,\"Emission Point #\",\"\")","v":""},{"$f":"IF('Limestone Plant (LP-1)'!$D$4>8,\"Emission     Unit #\",\"\")","v":""},{"$f":"IF('Limestone Plant (LP-1)'!$D$4>8,\"Processes\",\"\")","v":""},{"$f":"IF('Limestone Plant (LP-1)'!$D$4>8,\"Combined Maximum Hourly Design Rate for all Like Processes (tons/hr)\",\"\")","v":""},{"$f":"IF('Limestone Plant (LP-1)'!$D$4>8,('Facility Information'!G5&\" Annual Throughput (tons)\"),\"\")","v":""}]
[]
[null,{"$f":"IF('Limestone Plant (LP-1)'!$D$4>8,\"Site Name:\",\"\")","v":""},null,null,{"$f":"IF(G149=\"\",\"\",\"LP-1 EP-1\")","v":""},{"$f":"IF(G149=\"\",\"\",IF(G149=\"primary crusher\",\"LP-1 EU-1\",IF(G149=\"screening\",\"LP-1 EU-2\",IF(G149=\"secondary crusher\",\"LP-1 EU-3\",IF(G149=\"tertiary crusher\",\"LP-1 EU-4\",IF(G149=\"fines crushing\",\"LP-1 EU-5\",IF(G149=\"fines screening\",\"LP-1 EU-6\",IF(G149=\"wet drilling: unfragmented stone\",\"LP-1 EU-7\",IF(G149=\"conveyor transfer points\",\"LP-1 EU-8\")))))))))","v":""},null,null,null,{"$f":"IF($C$152=\"no\",I149,0)","v":0},{"$f":"IF($C$152=\"yes\",I149,0)","v":0}]
[null,{"$f":"IF('Limestone Plant (LP-1)'!$D$4>8,\"County:\",\"\")","v":""},null,null,{"$f":"IF(G150=\"\",\"\",\"LP-1 EP-1\")","v":""},{"$f":"IF(G150=\"\",\"\",IF(G150=\"primary crusher\",\"LP-1 EU-1\",IF(G150=\"screening\",\"LP-1 EU-2\",IF(G150=\"secondary crusher\",\"LP-1 EU-3\",IF(G150=\"tertiary crusher\",\"LP-1 EU-4\",IF(G150=\"fines crushing\",\"LP-1 EU-5\",IF(G150=\"fines screening\",\"LP-1 EU-6\",IF(G150=\"wet drilling: unfragmented stone\",\"LP-1 EU-7\",IF(G150=\"conveyor transfer points\",\"LP-1 EU-8\")))))))))","v":""},null,null,null,{"$f":"IF($C$152=\"no\",I150,0)","v":0},{"$f":"IF($C$152=\"yes\",I150,0)","v":0}]
[null,{"$f":"IF('Limestone Plant (LP-1)'!$D$4>8,\"Crushing Period (Dates):\",\"\")","v":""},null,null,"","",null,null,null,0,0]
[null,{"$f":"IF('Limestone Plant (LP-1)'!$D$4>8,\"Controlled with Dust Suppressant or Material Being Processed has Moisture Content > 1.5%?\",\"\")","v":""},null,null,"","",null,null,null,0,0]
[null,null,null,null,"","",null,null,null,0,0]
[null,null,null,null,"","",null,null,null,0,0]
[null,null,null,null,"","",null,null,null,0,0]
[null,null,null,null,"",{"$f":"IF(G156=\"\",\"\",IF(G156=\"primary crusher\",\"LP-1 EU-1\",IF(G156=\"screening\",\"LP-1 EU-2\",IF(G156=\"secondary crusher\",\"LP-1 EU-3\",IF(G156=\"tertiary crusher\",\"LP-1 EU-4\",IF(G156=\"fines crushing\",\"LP-1 EU-5\",IF(G156=\"fines screening\",\"LP-1 EU-6\",IF(G156=\"wet drilling: unfragmented stone\",\"LP-1 EU-7\",IF(G156=\"conveyor transfer points\",\"LP-1 EU-8\")))))))))","v":""},null,null,null,0,0]
[]
[null,null,null,null,{"$f":"IF('Limestone Plant (LP-1)'!$D$4>8,\"Stock Pile Area\",\"\")","v":""}]
[null,null,null,null,null,{"$f":"IF('Limestone Plant (LP-1)'!$D$4>8,\"Emission Unit #\",\"\")","v":""},{"$f":"IF('Limestone Plant (LP-1)'!$D$4>8,\"Maximum Storage Area (acres)\",\"\")","v":""},{"$f":"IF('Limestone Plant (LP-1)'!$D$4>8,\"Actual Storage Area (acres)\",\"\")","v":""},{"$f":"IF('Limestone Plant (LP-1)'!$D$4>8,\"Actual Days in Existence (days)\",\"\")","v":""}]
[]
[]
[]
[null,{"$f":"IF('Limestone Plant (LP-1)'!$D$4>9,\"CRUSHER PLANT\",\"\")","v":""},{"$f":"IF('Limestone Plant (LP-1)'!$D$4>9,\"Site 10\",\"\")","v":""},null,{"$f":"IF('Limestone Plant (LP-1)'!$D$4>9,\"Emission Point #\",\"\")","v":""},{"$f":"IF('Limestone Plant (LP-1)'!$D$4>9,\"Emission     Unit #\",\"\")","v":""},{"$f":"IF('Limestone Plant (LP-1)'!$D$4>9,\"Processes\",\"\")","v":""},{"$f":"IF('Limestone Plant (LP-1)'!$D$4>9,\"Combined Maximum Hourly Design Rate for all Like Processes (tons/hr)\",\"\")","v":""},{"$f":"IF('Limestone Plant (LP-1)'!$D$4>9,('Facility Information'!G5&\" Annual Throughput (tons)\"),\"\")","v":""}]
[]
[null,{"$f":"IF('Limestone Plant (LP-1)'!$D$4>9,\"Site Name:\",\"\")","v":""},null,null,{"$f":"IF(G165=\"\",\"\",\"LP-1 EP-1\")","v":""},{"$f":"IF(G165=\"\",\"\",IF(G165=\"primary crusher\",\"LP-1 EU-1\",IF(G165=\"screening\",\"LP-1 EU-2\",IF(G165=\"secondary crusher\",\"LP-1 EU-3\",IF(G165=\"tertiary crusher\",\"LP-1 EU-4\",IF(G165=\"fines crushing\",\"LP-1 EU-5\",IF(G165=\"fines screening\",\"LP-1 EU-6\",IF(G165=\"wet drilling: unfragmented stone\",\"LP-1 EU-7\",IF(G165=\"conveyor transfer points\",\"LP-1 EU-8\")))))))))","v":""},null,null,null,{"$f":"IF($C168=\"no\",I165,0)","v":0}]
[null,{"$f":"IF('Limestone Plant (LP-1)'!$D$4>9,\"County:\",\"\")","v":""},null,null,{"$f":"IF(G166=\"\",\"\",\"LP-1 EP-1\")","v":""},{"$f":"IF(G166=\"\",\"\",IF(G166=\"primary crusher\",\"LP-1 EU-1\",IF(G166=\"screening\",\"LP-1 EU-2\",IF(G166=\"secondary crusher\",\"LP-1 EU-3\",IF(G166=\"tertiary crusher\",\"LP-1 EU-4\",IF(G166=\"fines crushing\",\"LP-1 EU-5\",IF(G166=\"fines screening\",\"LP-1 EU-6\",IF(G166=\"wet drilling: unfragmented stone\",\"LP-1 EU-7\",IF(G166=\"conveyor transfer points\",\"LP-1 EU-8\")))))))))","v":""}]
[null,{"$f":"IF('Limestone Plant (LP-1)'!$D$4>9,\"Crushing Period (Dates):\",\"\")","v":""},null,null,"",""]
[null,{"$f":"IF('Limestone Plant (LP-1)'!$D$4>9,\"Controlled with Dust Suppressant or Material Being Processed has Moisture Content > 1.5%?\",\"\")","v":""},null,null,"",""]
[null,null,null,null,"",""]
[null,null,null,null,"",""]
[null,null,null,null,"",""]
[null,null,null,null,"",""]
[]
[null,null,null,null,{"$f":"IF('Limestone Plant (LP-1)'!$D$4>9,\"Stock Pile Area\",\"\")","v":""}]
[null,null,null,null,null,{"$f":"IF('Limestone Plant (LP-1)'!$D$4>9,\"Emission Unit #\",\"\")","v":""},{"$f":"IF('Limestone Plant (LP-1)'!$D$4>9,\"Maximum Storage Area (acres)\",\"\")","v":""},{"$f":"IF('Limestone Plant (LP-1)'!$D$4>9,\"Actual Storage Area (acres)\",\"\")","v":""},{"$f":"IF('Limestone Plant (LP-1)'!$D$4>9,\"Actual Days in Existence (days)\",\"\")","v":""}]

{"sheet":"Limestone Plant (LP-2)","index":2,"n_rows":175,"n_cols":19,"rows_kept":175,"cut":false,"hidden":true,"merged":[[167,1,169,1],[167,2,169,2],[119,1,121,1],[119,2,121,2],[135,1,137,1],[135,2,137,2],[151,1,153,1],[151,2,153,2],[71,1,73,1],[71,2,73,2],[87,1,89,1],[87,2,89,2],[103,1,105,1],[103,2,105,2],[23,1,25,1],[23,2,25,2],[39,1,41,1],[39,2,41,2],[55,1,57,1],[55,2,57,2],[162,4,163,4],[162,6,163,6],[162,7,163,7],[162,8,163,8],[130,4,131,4],[130,6,131,6],[130,7,131,7],[130,8,131,8],[146,4,147,4],[146,6,147,6],[146,7,147,7],[146,8,147,8],[130,5,131,5],[146,5,147,5],[162,5,163,5],[98,4,99,4],[98,6,99,6],[98,7,99,7],[98,8,99,8],[114,4,115,4],[114,6,115,6],[114,7,115,7],[114,8,115,8],[98,5,99,5],[114,5,115,5],[66,4,67,4],[66,6,67,6],[66,7,67,7],[66,8,67,8],[82,4,83,4],[82,6,83,6],[82,7,83,7],[82,8,83,8],[66,5,67,5],[82,5,83,5],[37,17,38,17],[37,18,38,18],[48,3,48,4],[50,4,51,4],[50,6,51,6],[50,7,51,7],[50,8,51,8],[50,5,51,5],[37,13,38,13],[37,14,38,14],[37,15,38,15],[37,16,38,16],[34,4,35,4],[34,6,35,6],[34,7,35,7],[34,8,35,8],[18,7,19,7],[18,8,19,8],[18,5,19,5],[34,5,35,5],[2,18,3,18],[3,1,3,2],[3,3,3,4],[17,17,18,17],[17,18,18,18],[18,4,19,4],[18,6,19,6],[11,1,13,2],[17,16,18,16],[2,14,3,14],[17,15,18,15],[17,13,18,13],[17,14,18,14],[0,1,0,2],[1,1,1,2],[1,7,1,8],[2,12,3,12],[2,13,3,13]]}
[null,"LIMESTONE CRUSHING PLANT (LP-2)"]
[null,"Please fill in the yellow boxes as applicable for your facility. ",null,null,null,null,null,"Values used for calculating emissions →",null,null,null,null,"Values Used to Calculate Actual Emissions for the Listed Processes at this Plant"]
[null,null,null,null,null,null,null,null,null,null,null,null,"Process","Maximum Design Rate (tons/hr)","Actual throughput w/o wet supression (tons/yr)",null,null,null,"Actual throughtput w/ wet supression (tons/yr)"]
[null,{"$f":"\"Number of Sites this Plant operated at in \"&'Facility Information'!G5&\":\"","v":"Number of Sites this Plant operated at in :"},null,null,null,null,null,null,null,null,null,null,null,null,null,null,"** As of 2016 Potential Emissions are no longer required to be reported in the Minor Source Emissions Inventory**"]
[null,null,null,null,null,null,null,null,null,null,null,null,"Primary Crusher",{"$f":"MAX((IFERROR(OFFSET($G$20,MATCH(\"primary crusher\",$G$21:$G$28,0),1),0)),((IFERROR((OFFSET($G$36,MATCH(\"primary crusher\",$G$37:$G$44,0),1)),0))),((IFERROR((OFFSET($G$52,MATCH(\"primary crusher\",$G$53:$G$60,0),1)),0))),((IFERROR((OFFSET($G$68,MATCH(\"primary crusher\",$G$69:$G$76,0),1)),0))),((IFERROR((OFFSET($G$84,MATCH(\"primary crusher\",$G$85:$G$92,0),1)),0))),((IFERROR((OFFSET($G$100,MATCH(\"primary crusher\",$G$101:$G$108,0),1)),0))),((IFERROR((OFFSET($G$116,MATCH(\"primary crusher\",$G$117:$G$124,0),1)),0))),((IFERROR((OFFSET($G$132,MATCH(\"primary crusher\",$G$133:$G$140,0),1)),0))),((IFERROR((OFFSET($G$148,MATCH(\"primary crusher\",$G$149:$G$156,0),1)),0))),((IFERROR((OFFSET($G$163,MATCH(\"primary crusher\",$G$165:$G$172,0),1)),0))))","v":0},{"$f":"SUM((IFERROR(OFFSET($G$20,MATCH(\"primary crusher\",$G$21:$G$28,0),3),0)),((IFERROR((OFFSET($G$36,MATCH(\"primary crusher\",$G$37:$G$44,0),3)),0))),((IFERROR((OFFSET($G$52,MATCH(\"primary crusher\",$G$53:$G$60,0),3)),0))),((IFERROR((OFFSET($G$68,MATCH(\"primary crusher\",$G$69:$G$76,0),3)),0))),((IFERROR((OFFSET($G$84,MATCH(\"primary crusher\",$G$85:$G$92,0),3)),0))),((IFERROR((OFFSET($G$100,MATCH(\"primary crusher\",$G$101:$G$108,0),3)),0))),((IFERROR((OFFSET($G$116,MATCH(\"primary crusher\",$G$117:$G$124,0),3)),0))),((IFERROR((OFFSET($G$132,MATCH(\"primary crusher\",$G$133:$G$140,0),3)),0))),((IFERROR((OFFSET($G$148,MATCH(\"primary crusher\",$G$149:$G$156,0),3)),0))),((IFERROR((OFFSET($G$163,MATCH(\"primary crusher\",$G$165:$G$172,0),3)),0))))","v":0},null,null,null,{"$f":"SUM((IFERROR(OFFSET($G$20,MATCH(\"primary crusher\",$G$21:$G$28,0),4),0)),((IFERROR((OFFSET($G$36,MATCH(\"primary crusher\",$G$37:$G$44,0),4)),0))),((IFERROR((OFFSET($G$52,MATCH(\"primary crusher\",$G$53:$G$60,0),4)),0))),((IFERROR((OFFSET($G$68,MATCH(\"primary crusher\",$G$69:$G$76,0),4)),0))),((IFERROR((OFFSET($G$84,MATCH(\"primary crusher\",$G$85:$G$92,0),4)),0))),((IFERROR((OFFSET($G$100,MATCH(\"primary crusher\",$G$101:$G$108,0),4)),0))),((IFERROR((OFFSET($G$116,MATCH(\"primary crusher\",$G$117:$G$124,0),4)),0))),((IFERROR((OFFSET($G$132,MATCH(\"primary crusher\",$G$133:$G$140,0),4)),0))),((IFERROR((OFFSET($G$148,MATCH(\"primary crusher\",$G$149:$G$156,0),4)),0))),((IFERROR((OFFSET($G$163,MATCH(\"primary crusher\",$G$165:$G$172,0),4)),0))))","v":0}]
[null,"Plant Specific Permit Number: ",null,null,null,null,null,null,null,null,null,null,"Screening",{"$f":"MAX((IFERROR(OFFSET($G$20,MATCH(\"screening\",$G$21:$G$28,0),1),0)),((IFERROR((OFFSET($G$36,MATCH(\"screening\",$G$37:$G$44,0),1)),0))),((IFERROR((OFFSET($G$52,MATCH(\"screening\",$G$53:$G$60,0),1)),0))),((IFERROR((OFFSET($G$68,MATCH(\"screening\",$G$69:$G$76,0),1)),0))),((IFERROR((OFFSET($G$84,MATCH(\"screening\",$G$85:$G$92,0),1)),0))),((IFERROR((OFFSET($G$100,MATCH(\"screening\",$G$101:$G$108,0),1)),0))),((IFERROR((OFFSET($G$116,MATCH(\"screening\",$G$117:$G$124,0),1)),0))),((IFERROR((OFFSET($G$132,MATCH(\"screening\",$G$133:$G$140,0),1)),0))),((IFERROR((OFFSET($G$148,MATCH(\"screening\",$G$149:$G$156,0),1)),0))),((IFERROR((OFFSET($G$163,MATCH(\"screening\",$G$165:$G$172,0),1)),0))))","v":0},{"$f":"SUM((IFERROR(OFFSET($G$20,MATCH(\"screening\",$G$21:$G$28,0),3),0)),((IFERROR((OFFSET($G$36,MATCH(\"screening\",$G$37:$G$44,0),3)),0))),((IFERROR((OFFSET($G$52,MATCH(\"screening\",$G$53:$G$60,0),3)),0))),((IFERROR((OFFSET($G$68,MATCH(\"screening\",$G$69:$G$76,0),3)),0))),((IFERROR((OFFSET($G$84,MATCH(\"screening\",$G$85:$G$92,0),3)),0))),((IFERROR((OFFSET($G$100,MATCH(\"screening\",$G$101:$G$108,0),3)),0))),((IFERROR((OFFSET($G$116,MATCH(\"screening\",$G$117:$G$124,0),3)),0))),((IFERROR((OFFSET($G$132,MATCH(\"screening\",$G$133:$G$140,0),3)),0))),((IFERROR((OFFSET($G$148,MATCH(\"screening\",$G$149:$G$156,0),3)),0))),((IFERROR((OFFSET($G$163,MATCH(\"screening\",$G$165:$G$172,0),3)),0))))","v":0},null,null,null,{"$f":"SUM((IFERROR(OFFSET($G$20,MATCH(\"screening\",$G$21:$G$28,0),4),0)),((IFERROR((OFFSET($G$36,MATCH(\"screening\",$G$37:$G$44,0),4)),0))),((IFERROR((OFFSET($G$52,MATCH(\"screening\",$G$53:$G$60,0),4)),0))),((IFERROR((OFFSET($G$68,MATCH(\"screening\",$G$69:$G$76,0),4)),0))),((IFERROR((OFFSET($G$84,MATCH(\"screening\",$G$85:$G$92,0),4)),0))),((IFERROR((OFFSET($G$100,MATCH(\"screening\",$G$101:$G$108,0),4)),0))),((IFERROR((OFFSET($G$116,MATCH(\"screening\",$G$117:$G$124,0),4)),0))),((IFERROR((OFFSET($G$132,MATCH(\"screening\",$G$133:$G$140,0),4)),0))),((IFERROR((OFFSET($G$148,MATCH(\"screening\",$G$149:$G$156,0),4)),0))),((IFERROR((OFFSET($G$163,MATCH(\"screening\",$G$165:$G$172,0),4)),0))))","v":0}]
[null,null,null,null,null,null,null,null,null,null,null,null,"Secondary Crusher",{"$f":"MAX((IFERROR(OFFSET($G$20,MATCH(\"secondary crusher\",$G$21:$G$28,0),1),0)),((IFERROR((OFFSET($G$36,MATCH(\"secondary crusher\",$G$37:$G$44,0),1)),0))),((IFERROR((OFFSET($G$52,MATCH(\"secondary crusher\",$G$53:$G$60,0),1)),0))),((IFERROR((OFFSET($G$68,MATCH(\"secondary crusher\",$G$69:$G$76,0),1)),0))),((IFERROR((OFFSET($G$84,MATCH(\"secondary crusher\",$G$85:$G$92,0),1)),0))),((IFERROR((OFFSET($G$100,MATCH(\"secondary crusher\",$G$101:$G$108,0),1)),0))),((IFERROR((OFFSET($G$116,MATCH(\"secondary crusher\",$G$117:$G$124,0),1)),0))),((IFERROR((OFFSET($G$132,MATCH(\"secondary crusher\",$G$133:$G$140,0),1)),0))),((IFERROR((OFFSET($G$148,MATCH(\"secondary crusher\",$G$149:$G$156,0),1)),0))),((IFERROR((OFFSET($G$163,MATCH(\"secondary crusher\",$G$165:$G$172,0),1)),0))))","v":0},{"$f":"SUM((IFERROR(OFFSET($G$20,MATCH(\"secondary crusher\",$G$21:$G$28,0),3),0)),((IFERROR((OFFSET($G$36,MATCH(\"secondary crusher\",$G$37:$G$44,0),3)),0))),((IFERROR((OFFSET($G$52,MATCH(\"secondary crusher\",$G$53:$G$60,0),3)),0))),((IFERROR((OFFSET($G$68,MATCH(\"secondary crusher\",$G$69:$G$76,0),3)),0))),((IFERROR((OFFSET($G$84,MATCH(\"secondary crusher\",$G$85:$G$92,0),3)),0))),((IFERROR((OFFSET($G$100,MATCH(\"secondary crusher\",$G$101:$G$108,0),3)),0))),((IFERROR((OFFSET($G$116,MATCH(\"secondary crusher\",$G$117:$G$124,0),3)),0))),((IFERROR((OFFSET($G$132,MATCH(\"secondary crusher\",$G$133:$G$140,0),3)),0))),((IFERROR((OFFSET($G$148,MATCH(\"secondary crusher\",$G$149:$G$156,0),3)),0))),((IFERROR((OFFSET($G$163,MATCH(\"secondary crusher\",$G$165:$G$172,0),3)),0))))","v":0},null,null,null,{"$f":"SUM((IFERROR(OFFSET($G$20,MATCH(\"secondary crusher\",$G$21:$G$28,0),4),0)),((IFERROR((OFFSET($G$36,MATCH(\"secondary crusher\",$G$37:$G$44,0),4)),0))),((IFERROR((OFFSET($G$52,MATCH(\"secondary crusher\",$G$53:$G$60,0),4)),0))),((IFERROR((OFFSET($G$68,MATCH(\"secondary crusher\",$G$69:$G$76,0),4)),0))),((IFERROR((OFFSET($G$84,MATCH(\"secondary crusher\",$G$85:$G$92,0),4)),0))),((IFERROR((OFFSET($G$100,MATCH(\"secondary crusher\",$G$101:$G$108,0),4)),0))),((IFERROR((OFFSET($G$116,MATCH(\"secondary crusher\",$G$117:$G$124,0),4)),0))),((IFERROR((OFFSET($G$132,MATCH(\"secondary crusher\",$G$133:$G$140,0),4)),0))),((IFERROR((OFFSET($G$148,MATCH(\"secondary crusher\",$G$149:$G$156,0),4)),0))),((IFERROR((OFFSET($G$163,MATCH(\"secondary crusher\",$G$165:$G$172,0),4)),0))))","v":0}]
[null,"Plant Specific Operating Limits:",null,null,"Plant Specific Emission Limits:",null,null,null,null,null,null,null,"Tertiary Crusher",{"$f":"MAX((IFERROR(OFFSET($G$20,MATCH(\"tertiary crusher\",$G$21:$G$28,0),1),0)),((IFERROR((OFFSET($G$36,MATCH(\"tertiary crusher\",$G$37:$G$44,0),1)),0))),((IFERROR((OFFSET($G$52,MATCH(\"tertiary crusher\",$G$53:$G$60,0),1)),0))),((IFERROR((OFFSET($G$68,MATCH(\"tertiary crusher\",$G$69:$G$76,0),1)),0))),((IFERROR((OFFSET($G$84,MATCH(\"tertiary crusher\",$G$85:$G$92,0),1)),0))),((IFERROR((OFFSET($G$100,MATCH(\"tertiary crusher\",$G$101:$G$108,0),1)),0))),((IFERROR((OFFSET($G$116,MATCH(\"tertiary crusher\",$G$117:$G$124,0),1)),0))),((IFERROR((OFFSET($G$132,MATCH(\"tertiary crusher\",$G$133:$G$140,0),1)),0))),((IFERROR((OFFSET($G$148,MATCH(\"tertiary crusher\",$G$149:$G$156,0),1)),0))),((IFERROR((OFFSET($G$163,MATCH(\"tertiary crusher\",$G$165:$G$172,0),1)),0))))","v":0},{"$f":"SUM((IFERROR(OFFSET($G$20,MATCH(\"tertiary crusher\",$G$21:$G$28,0),3),0)),((IFERROR((OFFSET($G$36,MATCH(\"tertiary crusher\",$G$37:$G$44,0),3)),0))),((IFERROR((OFFSET($G$52,MATCH(\"tertiary crusher\",$G$53:$G$60,0),3)),0))),((IFERROR((OFFSET($G$68,MATCH(\"tertiary crusher\",$G$69:$G$76,0),3)),0))),((IFERROR((OFFSET($G$84,MATCH(\"tertiary crusher\",$G$85:$G$92,0),3)),0))),((IFERROR((OFFSET($G$100,MATCH(\"tertiary crusher\",$G$101:$G$108,0),3)),0))),((IFERROR((OFFSET($G$116,MATCH(\"tertiary crusher\",$G$117:$G$124,0),3)),0))),((IFERROR((OFFSET($G$132,MATCH(\"tertiary crusher\",$G$133:$G$140,0),3)),0))),((IFERROR((OFFSET($G$148,MATCH(\"tertiary crusher\",$G$149:$G$156,0),3)),0))),((IFERROR((OFFSET($G$163,MATCH(\"tertiary crusher\",$G$165:$G$172,0),3)),0))))","v":0},null,null,null,{"$f":"SUM((IFERROR(OFFSET($G$20,MATCH(\"tertiary crusher\",$G$21:$G$28,0),4),0)),((IFERROR((OFFSET($G$36,MATCH(\"tertiary crusher\",$G$37:$G$44,0),4)),0))),((IFERROR((OFFSET($G$52,MATCH(\"tertiary crusher\",$G$53:$G$60,0),4)),0))),((IFERROR((OFFSET($G$68,MATCH(\"tertiary crusher\",$G$69:$G$76,0),4)),0))),((IFERROR((OFFSET($G$84,MATCH(\"tertiary crusher\",$G$85:$G$92,0),4)),0))),((IFERROR((OFFSET($G$100,MATCH(\"tertiary crusher\",$G$101:$G$108,0),4)),0))),((IFERROR((OFFSET($G$116,MATCH(\"tertiary crusher\",$G$117:$G$124,0),4)),0))),((IFERROR((OFFSET($G$132,MATCH(\"tertiary crusher\",$G$133:$G$140,0),4)),0))),((IFERROR((OFFSET($G$148,MATCH(\"tertiary crusher\",$G$149:$G$156,0),4)),0))),((IFERROR((OFFSET($G$163,MATCH(\"tertiary crusher\",$G$165:$G$172,0),4)),0))))","v":0}]
[null,"Throughput Limit (tons/yr):",null,null,"Pollutant","lb/hr","tons/yr",null,null,null,null,null,"Fines Crushing",{"$f":"MAX((IFERROR(OFFSET($G$20,MATCH(\"fines crushing\",$G$21:$G$28,0),1),0)),((IFERROR((OFFSET($G$36,MATCH(\"fines crushing\",$G$37:$G$44,0),1)),0))),((IFERROR((OFFSET($G$52,MATCH(\"fines crushing\",$G$53:$G$60,0),1)),0))),((IFERROR((OFFSET($G$68,MATCH(\"fines crushing\",$G$69:$G$76,0),1)),0))),((IFERROR((OFFSET($G$84,MATCH(\"fines crushing\",$G$85:$G$92,0),1)),0))),((IFERROR((OFFSET($G$100,MATCH(\"fines crushing\",$G$101:$G$108,0),1)),0))),((IFERROR((OFFSET($G$116,MATCH(\"fines crushing\",$G$117:$G$124,0),1)),0))),((IFERROR((OFFSET($G$132,MATCH(\"fines crushing\",$G$133:$G$140,0),1)),0))),((IFERROR((OFFSET($G$148,MATCH(\"fines crushing\",$G$149:$G$156,0),1)),0))),((IFERROR((OFFSET($G$163,MATCH(\"fines crushing\",$G$165:$G$172,0),1)),0))))","v":0},{"$f":"SUM((IFERROR(OFFSET($G$20,MATCH(\"fines crushing\",$G$21:$G$28,0),3),0)),((IFERROR((OFFSET($G$36,MATCH(\"fines crushing\",$G$37:$G$44,0),3)),0))),((IFERROR((OFFSET($G$52,MATCH(\"fines crushing\",$G$53:$G$60,0),3)),0))),((IFERROR((OFFSET($G$68,MATCH(\"fines crushing\",$G$69:$G$76,0),3)),0))),((IFERROR((OFFSET($G$84,MATCH(\"fines crushing\",$G$85:$G$92,0),3)),0))),((IFERROR((OFFSET($G$100,MATCH(\"fines crushing\",$G$101:$G$108,0),3)),0))),((IFERROR((OFFSET($G$116,MATCH(\"fines crushing\",$G$117:$G$124,0),3)),0))),((IFERROR((OFFSET($G$132,MATCH(\"fines crushing\",$G$133:$G$140,0),3)),0))),((IFERROR((OFFSET($G$148,MATCH(\"fines crushing\",$G$149:$G$156,0),3)),0))),((IFERROR((OFFSET($G$163,MATCH(\"fines crushing\",$G$165:$G$172,0),3)),0))))","v":0},null,null,null,{"$f":"SUM((IFERROR(OFFSET($G$20,MATCH(\"fines crushing\",$G$21:$G$28,0),4),0)),((IFERROR((OFFSET($G$36,MATCH(\"fines crushing\",$G$37:$G$44,0),4)),0))),((IFERROR((OFFSET($G$52,MATCH(\"fines crushing\",$G$53:$G$60,0),4)),0))),((IFERROR((OFFSET($G$68,MATCH(\"fines crushing\",$G$69:$G$76,0),4)),0))),((IFERROR((OFFSET($G$84,MATCH(\"fines crushing\",$G$85:$G$92,0),4)),0))),((IFERROR((OFFSET($G$100,MATCH(\"fines crushing\",$G$101:$G$108,0),4)),0))),((IFERROR((OFFSET($G$116,MATCH(\"fines crushing\",$G$117:$G$124,0),4)),0))),((IFERROR((OFFSET($G$132,MATCH(\"fines crushing\",$G$133:$G$140,0),4)),0))),((IFERROR((OFFSET($G$148,MATCH(\"fines crushing\",$G$149:$G$156,0),4)),0))),((IFERROR((OFFSET($G$163,MATCH(\"fines crushing\",$G$165:$G$172,0),4)),0))))","v":0}]
[null,"Daily Throughput Limit (tons/day):",null,null,"PM2.5",null,null,null,null,null,null,null,"Fines Screening",{"$f":"MAX((IFERROR(OFFSET($G$20,MATCH(\"fines screening\",$G$21:$G$28,0),1),0)),((IFERROR((OFFSET($G$36,MATCH(\"fines screening\",$G$37:$G$44,0),1)),0))),((IFERROR((OFFSET($G$52,MATCH(\"fines screening\",$G$53:$G$60,0),1)),0))),((IFERROR((OFFSET($G$68,MATCH(\"fines screening\",$G$69:$G$76,0),1)),0))),((IFERROR((OFFSET($G$84,MATCH(\"fines screening\",$G$85:$G$92,0),1)),0))),((IFERROR((OFFSET($G$100,MATCH(\"fines screening\",$G$101:$G$108,0),1)),0))),((IFERROR((OFFSET($G$116,MATCH(\"fines screening\",$G$117:$G$124,0),1)),0))),((IFERROR((OFFSET($G$132,MATCH(\"fines screening\",$G$133:$G$140,0),1)),0))),((IFERROR((OFFSET($G$148,MATCH(\"fines screening\",$G$149:$G$156,0),1)),0))),((IFERROR((OFFSET($G$163,MATCH(\"fines screening\",$G$165:$G$172,0),1)),0))))","v":0},{"$f":"SUM((IFERROR(OFFSET($G$20,MATCH(\"fines screening\",$G$21:$G$28,0),3),0)),((IFERROR((OFFSET($G$36,MATCH(\"fines screening\",$G$37:$G$44,0),3)),0))),((IFERROR((OFFSET($G$52,MATCH(\"fines screening\",$G$53:$G$60,0),3)),0))),((IFERROR((OFFSET($G$68,MATCH(\"fines screening\",$G$69:$G$76,0),3)),0))),((IFERROR((OFFSET($G$84,MATCH(\"fines screening\",$G$85:$G$92,0),3)),0))),((IFERROR((OFFSET($G$100,MATCH(\"fines screening\",$G$101:$G$108,0),3)),0))),((IFERROR((OFFSET($G$116,MATCH(\"fines screening\",$G$117:$G$124,0),3)),0))),((IFERROR((OFFSET($G$132,MATCH(\"fines screening\",$G$133:$G$140,0),3)),0))),((IFERROR((OFFSET($G$148,MATCH(\"fines screening\",$G$149:$G$156,0),3)),0))),((IFERROR((OFFSET($G$163,MATCH(\"fines screening\",$G$165:$G$172,0),3)),0))))","v":0},null,null,null,{"$f":"SUM((IFERROR(OFFSET($G$20,MATCH(\"fines screening\",$G$21:$G$28,0),4),0)),((IFERROR((OFFSET($G$36,MATCH(\"fines screening\",$G$37:$G$44,0),4)),0))),((IFERROR((OFFSET($G$52,MATCH(\"fines screening\",$G$53:$G$60,0),4)),0))),((IFERROR((OFFSET($G$68,MATCH(\"fines screening\",$G$69:$G$76,0),4)),0))),((IFERROR((OFFSET($G$84,MATCH(\"fines screening\",$G$85:$G$92,0),4)),0))),((IFERROR((OFFSET($G$100,MATCH(\"fines screening\",$G$101:$G$108,0),4)),0))),((IFERROR((OFFSET($G$116,MATCH(\"fines screening\",$G$117:$G$124,0),4)),0))),((IFERROR((OFFSET($G$132,MATCH(\"fines screening\",$G$133:$G$140,0),4)),0))),((IFERROR((OFFSET($G$148,MATCH(\"fines screening\",$G$149:$G$156,0),4)),0))),((IFERROR((OFFSET($G$163,MATCH(\"fines screening\",$G$165:$G$172,0),4)),0))))","v":0}]
[null,"Hours of Operation Limit (hours/day):",null,null,"PM10",null,null,null,null,null,null,null,"Wet Drilling: Unfragmented Stone",{"$f":"MAX((IFERROR(OFFSET($G$20,MATCH(\"wet drilling: unfragmented stone\",$G$21:$G$28,0),1),0)),((IFERROR((OFFSET($G$36,MATCH(\"wet drilling: unfragmented stone\",$G$37:$G$44,0),1)),0))),((IFERROR((OFFSET($G$52,MATCH(\"wet drilling: unfragmented stone\",$G$53:$G$60,0),1)),0))),((IFERROR((OFFSET($G$68,MATCH(\"wet drilling: unfragmented stone\",$G$69:$G$76,0),1)),0))),((IFERROR((OFFSET($G$84,MATCH(\"wet drilling: unfragmented stone\",$G$85:$G$92,0),1)),0))),((IFERROR((OFFSET($G$100,MATCH(\"wet drilling: unfragmented stone\",$G$101:$G$108,0),1)),0))),((IFERROR((OFFSET($G$116,MATCH(\"wet drilling: unfragmented stone\",$G$117:$G$124,0),1)),0))),((IFERROR((OFFSET($G$132,MATCH(\"wet drilling: unfragmented stone\",$G$133:$G$140,0),1)),0))),((IFERROR((OFFSET($G$148,MATCH(\"wet drilling: unfragmented stone\",$G$149:$G$156,0),1)),0))),((IFERROR((OFFSET($G$163,MATCH(\"wet drilling: unfragmented stone\",$G$165:$G$172,0),1)),0))))","v":0},{"$f":"SUM((IFERROR(OFFSET($G$20,MATCH(\"wet drilling: unfragmented stone\",$G$21:$G$28,0),3),0)),((IFERROR((OFFSET($G$36,MATCH(\"wet drilling: unfragmented stone\",$G$37:$G$44,0),3)),0))),((IFERROR((OFFSET($G$52,MATCH(\"wet drilling: unfragmented stone\",$G$53:$G$60,0),3)),0))),((IFERROR((OFFSET($G$68,MATCH(\"wet drilling: unfragmented stone\",$G$69:$G$76,0),3)),0))),((IFERROR((OFFSET($G$84,MATCH(\"wet drilling: unfragmented stone\",$G$85:$G$92,0),3)),0))),((IFERROR((OFFSET($G$100,MATCH(\"wet drilling: unfragmented stone\",$G$101:$G$108,0),3)),0))),((IFERROR((OFFSET($G$116,MATCH(\"wet drilling: unfragmented stone\",$G$117:$G$124,0),3)),0))),((IFERROR((OFFSET($G$132,MATCH(\"wet drilling: unfragmented stone\",$G$133:$G$140,0),3)),0))),((IFERROR((OFFSET($G$148,MATCH(\"wet drilling: unfragmented stone\",$G$149:$G$156,0),3)),0))),((IFERROR((OFFSET($G$163,MATCH(\"wet drilling: unfragmented stone\",$G$165:$G$172,0),3)),0))))","v":0},null,null,null,{"$f":"SUM((IFERROR(OFFSET($G$20,MATCH(\"wet drilling: unfragmented stone\",$G$21:$G$28,0),4),0)),((IFERROR((OFFSET($G$36,MATCH(\"wet drilling: unfragmented stone\",$G$37:$G$44,0),4)),0))),((IFERROR((OFFSET($G$52,MATCH(\"wet drilling: unfragmented stone\",$G$53:$G$60,0),4)),0))),((IFERROR((OFFSET($G$68,MATCH(\"wet drilling: unfragmented stone\",$G$69:$G$76,0),4)),0))),((IFERROR((OFFSET($G$84,MATCH(\"wet drilling: unfragmented stone\",$G$85:$G$92,0),4)),0))),((IFERROR((OFFSET($G$100,MATCH(\"wet drilling: unfragmented stone\",$G$101:$G$108,0),4)),0))),((IFERROR((OFFSET($G$116,MATCH(\"wet drilling: unfragmented stone\",$G$117:$G$124,0),4)),0))),((IFERROR((OFFSET($G$132,MATCH(\"wet drilling: unfragmented stone\",$G$133:$G$140,0),4)),0))),((IFERROR((OFFSET($G$148,MATCH(\"wet drilling: unfragmented stone\",$G$149:$G$156,0),4)),0))),((IFERROR((OFFSET($G$163,MATCH(\"wet drilling: unfragmented stone\",$G$165:$G$172,0),4)),0))))","v":0}]
[null,"Note: if the plant has a hours/day and a tons/hr permit limit, those values should be multiplied together to calculate a tons/day limit and that value should be placed in cell C10.",null,null,"SO2",null,null,null,null,null,null,null,"Conveyor Transfer Points",{"$f":"MAX((IFERROR(OFFSET($G$20,MATCH(\"conveyor transfer points\",$G$21:$G$28,0),1),0)),((IFERROR((OFFSET($G$36,MATCH(\"conveyor transfer points\",$G$37:$G$44,0),1)),0))),((IFERROR((OFFSET($G$52,MATCH(\"conveyor transfer points\",$G$53:$G$60,0),1)),0))),((IFERROR((OFFSET($G$68,MATCH(\"conveyor transfer points\",$G$69:$G$76,0),1)),0))),((IFERROR((OFFSET($G$84,MATCH(\"conveyor transfer points\",$G$85:$G$92,0),1)),0))),((IFERROR((OFFSET($G$100,MATCH(\"conveyor transfer points\",$G$101:$G$108,0),1)),0))),((IFERROR((OFFSET($G$116,MATCH(\"conveyor transfer points\",$G$117:$G$124,0),1)),0))),((IFERROR((OFFSET($G$132,MATCH(\"conveyor transfer points\",$G$133:$G$140,0),1)),0))),((IFERROR((OFFSET($G$148,MATCH(\"conveyor transfer points\",$G$149:$G$156,0),1)),0))),((IFERROR((OFFSET($G$163,MATCH(\"conveyor transfer points\",$G$165:$G$172,0),1)),0))))","v":0},{"$f":"SUM((IFERROR(OFFSET($G$20,MATCH(\"conveyor transfer points\",$G$21:$G$28,0),3),0)),((IFERROR((OFFSET($G$36,MATCH(\"conveyor transfer points\",$G$37:$G$44,0),3)),0))),((IFERROR((OFFSET($G$52,MATCH(\"conveyor transfer points\",$G$53:$G$60,0),3)),0))),((IFERROR((OFFSET($G$68,MATCH(\"conveyor transfer points\",$G$69:$G$76,0),3)),0))),((IFERROR((OFFSET($G$84,MATCH(\"conveyor transfer points\",$G$85:$G$92,0),3)),0))),((IFERROR((OFFSET($G$100,MATCH(\"conveyor transfer points\",$G$101:$G$108,0),3)),0))),((IFERROR((OFFSET($G$116,MATCH(\"conveyor transfer points\",$G$117:$G$124,0),3)),0))),((IFERROR((OFFSET($G$132,MATCH(\"conveyor transfer points\",$G$133:$G$140,0),3)),0))),((IFERROR((OFFSET($G$148,MATCH(\"conveyor transfer points\",$G$149:$G$156,0),3)),0))),((IFERROR((OFFSET($G$163,MATCH(\"conveyor transfer points\",$G$165:$G$172,0),3)),0))))","v":0},null,null,null,{"$f":"SUM((IFERROR(OFFSET($G$20,MATCH(\"conveyor transfer points\",$G$21:$G$28,0),4),0)),((IFERROR((OFFSET($G$36,MATCH(\"conveyor transfer points\",$G$37:$G$44,0),4)),0))),((IFERROR((OFFSET($G$52,MATCH(\"conveyor transfer points\",$G$53:$G$60,0),4)),0))),((IFERROR((OFFSET($G$68,MATCH(\"conveyor transfer points\",$G$69:$G$76,0),4)),0))),((IFERROR((OFFSET($G$84,MATCH(\"conveyor transfer points\",$G$85:$G$92,0),4)),0))),((IFERROR((OFFSET($G$100,MATCH(\"conveyor transfer points\",$G$101:$G$108,0),4)),0))),((IFERROR((OFFSET($G$116,MATCH(\"conveyor transfer points\",$G$117:$G$124,0),4)),0))),((IFERROR((OFFSET($G$132,MATCH(\"conveyor transfer points\",$G$133:$G$140,0),4)),0))),((IFERROR((OFFSET($G$148,MATCH(\"conveyor transfer points\",$G$149:$G$156,0),4)),0))),((IFERROR((OFFSET($G$163,MATCH(\"conveyor transfer points\",$G$165:$G$172,0),4)),0))))","v":0}]
[null,null,null,null,"NOx",null,null,null,null,null,null,null,null,"Maximum (acres/day)","Actual (acres-day/yr)"]
[null,null,null,null,"VOC",null,null,null,null,null,null,null,"Storage Pile",{"$f":"SUM(G32,G48,G64,G80,G96,G112,G128,G144,G160,G176)","v":0},{"$f":"SUM(H32*I32,H48*I48,H64*I64,H80*I80,H96*I96,H112*I112,H128*I128,H144*I144,H160*I160,H176*I176)","v":0}]
[null,null,null,null,"CO"]
[]
[null,null,null,null,null,null,null,null,null,null,null,null,"Actual Emissions for the Listed Processes at this Plant"]
[null,null,null,null,null,null,null,null,null,null,null,null,null,"Maximum Design Rate (tons/hr)","Emission Factor (lb/ton)","Potential Uncontrolled Emissions (lb/hr)","Potential Controlled Emissions (lb/hr)","Potential Annual Emissions (tons/yr)","Actual Annual Emissions (tons/yr)"]
[null,"CRUSHER PLANT","Site 1",null,"Emission Point #","Emission     Unit #","Processes","Combined Maximum Hourly Design Rate for all Like Processes (tons/hr)",{"$f":"('Facility Information'!G5&\" Annual Throughput (tons)\")","v":" Annual Throughput (tons)"},null,null,null,"PM2.5"]
[null,null,null,null,null,null,null,null,null,"no wet supress","wet supress",null,"Primary Crusher",{"$f":"N5","v":0},{"$f":"IF(N20=0,0,IF(OR($C$24=\"no\",$C$40=\"no\",$C$56=\"no\",$C$72=\"no\",$C$88=\"no\",$C$104=\"no\",$C$120=\"no\",$C$136=\"no\",$C$152=\"no\",$C$168=\"no\"),'Emission Factors'!D8,'Emission Factors'!D20))","v":0},{"$f":"IF(OR($C$24=\"no\",$C$40=\"no\",$C$56=\"no\",$C$72=\"no\",$C$88=\"no\",$C$104=\"no\",$C$120=\"no\",$C$136=\"no\",$C$152=\"no\",$C$168=\"no\"),N20*O20,\"\")","v":""},{"$f":"IF($F$10>0,$F$10,IF(OR($C$24=\"no\",$C$40=\"no\",$C$56=\"no\",$C$72=\"no\",$C$88=\"no\",$C$104=\"no\",$C$120=\"no\",$C$136=\"no\",$C$152=\"no\",$C$168=\"no\"),\"\",N20*O20))","v":0},{"$f":"IF($G$10>0,$G$10,IF($C$9>0,$C$9*O20/2000,IF($C$10>0,$C$10*365*O20/2000,IF($C$11>0,$C$11*365*O20*N20/2000,IF(Q20=\"\",P20*8760/2000,Q20*8760/2000)))))","v":0},{"$f":"(O5*'Emission Factors'!D8/2000)+('Emission Factors'!D20*S5/2000)","v":0}]
["YES","Site Name:",null,null,{"$f":"IF(G21=\"\",\"\",\"LP-2 EP-1\")","v":""},{"$f":"IF(G21=\"\",\"\",IF(G21=\"primary crusher\",\"LP-2 EU-1\",IF(G21=\"screening\",\"LP-2 EU-2\",IF(G21=\"secondary crusher\",\"LP-2 EU-3\",IF(G21=\"tertiary crusher\",\"LP-2 EU-4\",IF(G21=\"fines crushing\",\"LP-2 EU-5\",IF(G21=\"fines screening\",\"LP-2 EU-6\",IF(G21=\"wet drilling: unfragmented stone\",\"LP-2 EU-7\",IF(G21=\"conveyor transfer points\",\"LP-2 EU-8\")))))))))","v":""},null,null,null,{"$f":"IF($C24=\"no\",I21,0)","v":0},{"$f":"IF($C$24=\"yes\",I21,0)","v":0},null,"Screening",0,{"$f":"IF(N21=0,0,IF(OR($C$24=\"no\",$C$40=\"no\",$C$56=\"no\",$C$72=\"no\",$C$88=\"no\",$C$104=\"no\",$C$120=\"no\",$C$136=\"no\",$C$152=\"no\",$C$168=\"no\"),'Emission Factors'!D9,'Emission Factors'!D21))","v":0},"",0,{"$f":"IF($G$10>0,\"\",IF($C$9>0,$C$9*O21/2000,IF($C$10>0,$C$10*365*O21/2000,IF($C$11>0,$C$11*365*O21*N21/2000,IF(Q21=\"\",P21*8760/2000,Q21*8760/2000)))))","v":0},{"$f":"(O6*'Emission Factors'!D9/2000)+('Emission Factors'!D21*S6/2000)","v":0}]
["NO","County:",null,null,{"$f":"IF(G22=\"\",\"\",\"LP-2 EP-1\")","v":""},{"$f":"IF(G22=\"\",\"\",IF(G22=\"primary crusher\",\"LP-2 EU-1\",IF(G22=\"screening\",\"LP-2 EU-2\",IF(G22=\"secondary crusher\",\"LP-2 EU-3\",IF(G22=\"tertiary crusher\",\"LP-2 EU-4\",IF(G22=\"fines crushing\",\"LP-2 EU-5\",IF(G22=\"fines screening\",\"LP-2 EU-6\",IF(G22=\"wet drilling: unfragmented stone\",\"LP-2 EU-7\",IF(G22=\"conveyor transfer points\",\"LP-2 EU-8\")))))))))","v":""},null,null,null,{"$f":"IF($C$24=\"no\",I22,0)","v":0},0,null,"Secondary Crusher",0,{"$f":"IF(N22=0,0,IF(OR($C$24=\"no\",$C$40=\"no\",$C$56=\"no\",$C$72=\"no\",$C$88=\"no\",$C$104=\"no\",$C$120=\"no\",$C$136=\"no\",$C$152=\"no\",$C$168=\"no\"),'Emission Factors'!D10,'Emission Factors'!D22))","v":0},"",0,0,{"$f":"(O7*'Emission Factors'!D10/2000)+('Emission Factors'!D22*S7/2000)","v":0}]
[null,"Crushing Period (Dates):",null,null,"","",null,null,null,0,0,null,"Tertiary Crusher",0,{"$f":"IF(N23=0,0,IF(OR(C24=\"no\",C40=\"no\",C56=\"no\",C72=\"no\",C88=\"no\",C104=\"no\",C120=\"no\",C136=\"no\",C152=\"no\",C168=\"no\"),'Emission Factors'!D12,'Emission Factors'!D24))","v":0},"",0,0,{"$f":"(O8*'Emission Factors'!D12/2000)+('Emission Factors'!D24*S8/2000)","v":0}]
["Primary Crusher","Controlled with Dust Suppressant or Material Being Processed has Moisture Content > 1.5%?",null,null,"","",null,null,null,0,0,null,"Fines Crushing",0,{"$f":"IF(N24=0,0,IF(OR($C$24=\"no\",$C$40=\"no\",$C$56=\"no\",$C$72=\"no\",$C$88=\"no\",$C$104=\"no\",$C$120=\"no\",$C$136=\"no\",$C$152=\"no\",$C$168=\"no\"),'Emission Factors'!D6,'Emission Factors'!D18))","v":0},"",0,0,{"$f":"(O9*'Emission Factors'!D6/2000)+('Emission Factors'!D18*S9/2000)","v":0}]
["Screening",null,null,null,"","",null,null,null,0,0,null,"Fines Screening",0,{"$f":"IF(N25=0,0,IF(OR($C$24=\"no\",$C$40=\"no\",$C$56=\"no\",$C$72=\"no\",$C$88=\"no\",$C$104=\"no\",$C$120=\"no\",$C$136=\"no\",$C$152=\"no\",$C$168=\"no\"),'Emission Factors'!D7,'Emission Factors'!D19))","v":0},"",0,0,{"$f":"(O10*'Emission Factors'!D7/2000)+('Emission Factors'!D19*S10/2000)","v":0}]
["Secondary Crusher",null,null,null,"","",null,null,null,0,0,null,"Wet Drilling: Unfragmented Stone",0,{"$f":"IF(N26=0,0,IF(OR(C24=\"no\",C40=\"no\",C56=\"no\",C72=\"no\",C88=\"no\",C104=\"no\",C120=\"no\",C136=\"no\",C152=\"no\",C168=\"no\"),'Emission Factors'!D13,'Emission Factors'!D25))","v":0},"",0,0,{"$f":"(O11*'Emission Factors'!D13/2000)+('Emission Factors'!D25*S11/2000)","v":0}]
["Tertiary Crusher",null,null,null,"","",null,null,null,0,0,null,"Conveyor Transfer Points",0,{"$f":"IF(N27=0,0,IF(OR(C24=\"no\",C40=\"no\",C56=\"no\",C72=\"no\",C88=\"no\",C104=\"no\",C120=\"no\",C136=\"no\",C152=\"no\",C168=\"no\"),'Emission Factors'!D5,'Emission Factors'!D17))","v":0},{"$f":"IF(OR($C$24=\"no\",$C$40=\"no\",$C$56=\"no\",$C$72=\"no\",$C$88=\"no\",$C$104=\"no\",$C$120=\"no\",$C$136=\"no\",$C$152=\"no\",$C$168=\"no\"),N27*O27,\"\")","v":""},{"$f":"IF($F$10>0,$F$10,IF(OR($C$24=\"no\",$C$40=\"no\",$C$56=\"no\",$C$72=\"no\",$C$88=\"no\",$C$104=\"no\",$C$120=\"no\",$C$136=\"no\",$C$152=\"no\",$C$168=\"no\"),\"\",N27*O27))","v":0},0,{"$f":"(O12*'Emission Factors'!D5/2000)+('Emission Factors'!D17*S12/2000)","v":0}]
["Fines Crushing",null,null,null,"","",null,null,null,0,0,null,"PM10"]
["Fines Screening",null,null,null,null,null,null,null,null,null,null,null,"Primary Crusher",{"$f":"N5","v":0},{"$f":"IF(N29=0,0,IF(OR($C$24=\"no\",$C$40=\"no\",$C$56=\"no\",$C$72=\"no\",$C$88=\"no\",$C$104=\"no\",$C$120=\"no\",$C$136=\"no\",$C$152=\"no\",$C$168=\"no\"),'Emission Factors'!F8,'Emission Factors'!F20))","v":0},{"$f":"IF(OR($C$24=\"no\",$C$40=\"no\",$C$56=\"no\",$C$72=\"no\",$C$88=\"no\",$C$104=\"no\",$C$120=\"no\",$C$136=\"no\",$C$152=\"no\",$C$168=\"no\"),N29*O29,\"\")","v":""},{"$f":"IF($F$11>0,$F$11,IF(OR($C$24=\"no\",$C$40=\"no\",$C$56=\"no\",$C$72=\"no\",$C$88=\"no\",$C$104=\"no\",$C$120=\"no\",$C$136=\"no\",$C$152=\"no\",$C$168=\"no\"),\"\",N29*O29))","v":0},{"$f":"IF($G$11>0,$G$11,IF($C$9>0,$C$9*O29/2000,IF($C$10>0,$C$10*365*O29/2000,IF($C$11>0,$C$11*365*O29*N29/2000,IF(Q29=\"\",P29*8760/2000,Q29*8760/2000)))))","v":0},{"$f":"(O5*'Emission Factors'!F8/2000)+('Emission Factors'!F20*S5/2000)","v":0}]
["Wet Drilling: Unfragmented Stone",null,null,null,"Stock Pile Area",null,null,null,null,null,null,null,"Screening",{"$f":"N6","v":0},{"$f":"IF(N30=0,0,IF(OR($C$24=\"no\",$C$40=\"no\",$C$56=\"no\",$C$72=\"no\",$C$88=\"no\",$C$104=\"no\",$C$120=\"no\",$C$136=\"no\",$C$152=\"no\",$C$168=\"no\"),'Emission Factors'!F9,'Emission Factors'!F21))","v":0},"",0,{"$f":"IF($G$11>0,\"\",IF($C$9>0,$C$9*O30/2000,IF($C$10>0,$C$10*365*O30/2000,IF($C$11>0,$C$11*365*O30*N30/2000,IF(Q30=\"\",P30*8760/2000,Q30*8760/2000)))))","v":0},{"$f":"(O6*'Emission Factors'!F9/2000)+('Emission Factors'!F21*S6/2000)","v":0}]
["Conveyor Transfer Points",null,null,null,null,"Emission Unit #","Maximum Storage Area (acres)","Actual Storage Area (acres)","Actual Days in Existence (days)",null,null,null,"Secondary Crusher",0,{"$f":"IF(N31=0,0,IF(OR($C$24=\"no\",$C$40=\"no\",$C$56=\"no\",$C$72=\"no\",$C$88=\"no\",$C$104=\"no\",$C$120=\"no\",$C$136=\"no\",$C$152=\"no\",$C$168=\"no\"),'Emission Factors'!F10,'Emission Factors'!F22))","v":0},"",0,0,{"$f":"(O7*'Emission Factors'!F10/2000)+('Emission Factors'!F22*S7/2000)","v":0}]
[null,null,null,null,null,null,null,null,null,null,null,null,"Tertiary Crusher",0,{"$f":"IF(N32=0,0,IF(OR(C24=\"no\",C40=\"no\",C56=\"no\",C72=\"no\",C88=\"no\",C104=\"no\",C120=\"no\",C136=\"no\",C152=\"no\",C168=\"no\"),'Emission Factors'!F12,'Emission Factors'!F24))","v":0},"",0,0,{"$f":"(O8*'Emission Factors'!F12/2000)+('Emission Factors'!F24*S8/2000)","v":0}]
[null,null,null,null,null,null,null,null,null,null,null,null,"Fines Crushing",0,{"$f":"IF(N33=0,0,IF(OR(C24=\"no\",C40=\"no\",C56=\"no\",C72=\"no\",C88=\"no\",C104=\"no\",C120=\"no\",C136=\"no\",C152=\"no\",C168=\"no\"),'Emission Factors'!F6,'Emission Factors'!F18))","v":0},"",0,0,{"$f":"(O9*'Emission Factors'!F6/2000)+('Emission Factors'!F18*S9/2000)","v":0}]
[{"$f":"C21","v":0},null,null,null,null,null,null,null,null,null,null,null,"Fines Screening",0,{"$f":"IF(N34=0,0,IF(OR(C24=\"no\",C40=\"no\",C56=\"no\",C72=\"no\",C88=\"no\",C104=\"no\",C120=\"no\",C136=\"no\",C152=\"no\",C168=\"no\"),'Emission Factors'!F7,'Emission Factors'!F19))","v":0},"",0,0,{"$f":"(O10*'Emission Factors'!F7/2000)+('Emission Factors'!F19*S10/2000)","v":0}]
[{"$f":"C37","v":0},{"$f":"IF('Limestone Plant (LP-2)'!$D$4>1,\"CRUSHER PLANT\",\"\")","v":""},{"$f":"IF('Limestone Plant (LP-2)'!$D$4>1,\"Site 2\",\"\")","v":""},null,{"$f":"IF('Limestone Plant (LP-2)'!$D$4>1,\"Emission Point #\",\"\")","v":""},{"$f":"IF('Limestone Plant (LP-2)'!$D$4>1,\"Emission    Unit #\",\"\")","v":""},{"$f":"IF('Limestone Plant (LP-2)'!$D$4>1,\"Processes\",\"\")","v":""},{"$f":"IF('Limestone Plant (LP-2)'!$D$4>1,\"Combined Maximum Hourly Design Rate for all Like Processes (tons/hr)\",\"\")","v":""},{"$f":"IF('Limestone Plant (LP-2)'!$D$4>1,('Facility Information'!G5&\" Annual Throughput (tons)\"),\"\")","v":""},null,null,null,"Wet Drilling: Unfragmented Stone",0,{"$f":"IF(N35=0,0,IF(OR(C24=\"no\",C40=\"no\",C56=\"no\",C72=\"no\",C88=\"no\",C104=\"no\",C120=\"no\",C136=\"no\",C152=\"no\",C168=\"no\"),'Emission Factors'!F13,'Emission Factors'!F25))","v":0},"",0,0,{"$f":"(O11*'Emission Factors'!F13/2000)+('Emission Factors'!F25*S11/2000)","v":0}]
[{"$f":"C53","v":0},null,null,null,null,null,null,null,null,null,null,null,"Conveyor Transfer Points",0,{"$f":"IF(N36=0,0,IF(OR(C24=\"no\",C40=\"no\",C56=\"no\",C72=\"no\",C88=\"no\",C104=\"no\",C120=\"no\",C136=\"no\",C152=\"no\",C168=\"no\"),'Emission Factors'!F5,'Emission Factors'!F17))","v":0},{"$f":"IF(OR($C$24=\"no\",$C$40=\"no\",$C$56=\"no\",$C$72=\"no\",$C$88=\"no\",$C$104=\"no\",$C$120=\"no\",$C$136=\"no\",$C$152=\"no\",$C$168=\"no\"),N36*O36,\"\")","v":""},{"$f":"IF($F$11>0,$F$11,IF(OR($C$24=\"no\",$C$40=\"no\",$C$56=\"no\",$C$72=\"no\",$C$88=\"no\",$C$104=\"no\",$C$120=\"no\",$C$136=\"no\",$C$152=\"no\",$C$168=\"no\"),\"\",N36*O36))","v":0},0,{"$f":"(O12*'Emission Factors'!F5/2000)+('Emission Factors'!F17*S12/2000)","v":0}]
[{"$f":"C69","v":0},{"$f":"IF('Limestone Plant (LP-2)'!$D$4>1,\"Site Name:\",\"\")","v":""},null,null,{"$f":"IF(G37=\"\",\"\",\"LP-2 EP-1\")","v":""},{"$f":"IF(G37=\"\",\"\",IF(G37=\"primary crusher\",\"LP-2 EU-1\",IF(G37=\"screening\",\"LP-2 EU-2\",IF(G37=\"secondary crusher\",\"LP-2 EU-3\",IF(G37=\"tertiary crusher\",\"LP-2 EU-4\",IF(G37=\"fines crushing\",\"LP-2 EU-5\",IF(G37=\"fines screening\",\"LP-2 EU-6\",IF(G37=\"wet drilling: unfragmented stone\",\"LP-2 EU-7\",IF(G37=\"conveyor transfer points\",\"LP-2 EU-8\")))))))))","v":""},null,null,null,{"$f":"IF($C$40=\"no\",I37,0)","v":0},{"$f":"IF($C$40=\"yes\",I37,0)","v":0}]
[{"$f":"C85","v":0},{"$f":"IF('Limestone Plant (LP-2)'!$D$4>1,\"County:\",\"\")","v":""},null,null,{"$f":"IF(G38=\"\",\"\",\"LP-2 EP-1\")","v":""},{"$f":"IF(G38=\"\",\"\",IF(G38=\"primary crusher\",\"LP-2 EU-1\",IF(G38=\"screening\",\"LP-2 EU-2\",IF(G38=\"secondary crusher\",\"LP-2 EU-3\",IF(G38=\"tertiary crusher\",\"LP-2 EU-4\",IF(G38=\"fines crushing\",\"LP-2 EU-5\",IF(G38=\"fines screening\",\"LP-2 EU-6\",IF(G38=\"wet drilling: unfragmented stone\",\"LP-2 EU-7\",IF(G38=\"conveyor transfer points\",\"LP-2 EU-8\")))))))))","v":""},null,null,null,{"$f":"IF($C$40=\"no\",I38,0)","v":0},{"$f":"IF($C$40=\"yes\",I38,0)","v":0},null,null,"Max Design Rate (acres/day)","Emission Factor   (lb/acre-day)","Potential Uncontrolled Emissions (lb/hr)","Potential Controlled Emissions (lb/hr)","Potential Annual Emissions (tons/yr)","Actual Annual Emissions (tons/yr)"]
[{"$f":"C101","v":0},{"$f":"IF('Limestone Plant (LP-2)'!$D$4>1,\"Crushing Period (Dates):\",\"\")","v":""},null,null,"","",null,null,null,0,0,null,"Storage Pile"]
[{"$f":"C117","v":0},{"$f":"IF('Limestone Plant (LP-2)'!$D$4>1,\"Controlled with Dust Suppressant or Material Being Processed has Moisture Content > 1.5%?\",\"\")","v":""},null,null,"","",null,null,null,0,0,null,"PM2.5/PM10",{"$f":"N14","v":0},3.64,{"$f":"N40*O40*(1/24)","v":0},null,{"$f":"N40*O40*365/2000","v":0},{"$f":"O14*O40/2000","v":0}]
[{"$f":"C133","v":0},null,null,null,"","",null,null,null,0,0]
[{"$f":"C149","v":0},null,null,null,"","",null,null,null,0,0]
[{"$f":"C165","v":0},null,null,null,"","",null,null,null,0,0]
[null,null,null,null,"","",null,null,null,0,0]
[]
[null,null,null,null,{"$f":"IF('Limestone Plant (LP-2)'!$D$4>1,\"Stock Pile Area\",\"\")","v":""}]
[null,null,null,null,null,{"$f":"IF('Limestone Plant (LP-2)'!$D$4>1,\"Emission Unit #\",\"\")","v":""},{"$f":"IF('Limestone Plant (LP-2)'!$D$4>1,\"Maximum Storage Area (acres)\",\"\")","v":""},{"$f":"IF('Limestone Plant (LP-2)'!$D$4>1,\"Actual Storage Area (acres)\",\"\")","v":""},{"$f":"IF('Limestone Plant (LP-2)'!$D$4>1,\"Actual Days in Existence (days)\",\"\")","v":""}]
[]
[]
[]
[null,{"$f":"IF('Limestone Plant (LP-2)'!$D$4>2,\"CRUSHER PLANT\",\"\")","v":""},{"$f":"IF('Limestone Plant (LP-2)'!$D$4>2,\"Site 3\",\"\")","v":""},null,{"$f":"IF('Limestone Plant (LP-2)'!$D$4>2,\"Emission Point #\",\"\")","v":""},{"$f":"IF('Limestone Plant (LP-2)'!$D$4>2,\"Emission      Unit #\",\"\")","v":""},{"$f":"IF('Limestone Plant (LP-2)'!$D$4>2,\"Processes\",\"\")","v":""},{"$f":"IF('Limestone Plant (LP-2)'!$D$4>2,\"Combined Maximum Hourly Design Rate for all Like Processes (tons/hr)\",\"\")","v":""},{"$f":"IF('Limestone Plant (LP-2)'!$D$4>2,('Facility Information'!G5&\" Annual Throughput (tons)\"),\"\")","v":""}]
[]
[null,{"$f":"IF('Limestone Plant (LP-2)'!$D$4>2,\"Site Name:\",\"\")","v":""},null,null,{"$f":"IF(G53=\"\",\"\",\"LP-2 EP-1\")","v":""},{"$f":"IF(G53=\"\",\"\",IF(G53=\"primary crusher\",\"LP-2 EU-1\",IF(G53=\"screening\",\"LP-2 EU-2\",IF(G53=\"secondary crusher\",\"LP-2 EU-3\",IF(G53=\"tertiary crusher\",\"LP-2 EU-4\",IF(G53=\"fines crushing\",\"LP-2 EU-5\",IF(G53=\"fines screening\",\"LP-2 EU-6\",IF(G53=\"wet drilling: unfragmented stone\",\"LP-2 EU-7\",IF(G53=\"conveyor transfer points\",\"LP-2 EU-8\")))))))))","v":""},null,null,null,{"$f":"IF($C$56=\"no\",I53,0)","v":0},{"$f":"IF($C$56=\"yes\",I53,0)","v":0}]
[null,{"$f":"IF('Limestone Plant (LP-2)'!$D$4>2,\"County:\",\"\")","v":""},null,null,{"$f":"IF(G54=\"\",\"\",\"LP-2 EP-1\")","v":""},{"$f":"IF(G54=\"\",\"\",IF(G54=\"primary crusher\",\"LP-2 EU-1\",IF(G54=\"screening\",\"LP-2 EU-2\",IF(G54=\"secondary crusher\",\"LP-2 EU-3\",IF(G54=\"tertiary crusher\",\"LP-2 EU-4\",IF(G54=\"fines crushing\",\"LP-2 EU-5\",IF(G54=\"fines screening\",\"LP-2 EU-6\",IF(G54=\"wet drilling: unfragmented stone\",\"LP-2 EU-7\",IF(G54=\"conveyor transfer points\",\"LP-2 EU-8\")))))))))","v":""},null,null,null,{"$f":"IF($C$56=\"no\",I54,0)","v":0},{"$f":"IF($C$56=\"yes\",I54,0)","v":0}]
[null,{"$f":"IF('Limestone Plant (LP-2)'!$D$4>2,\"Crushing Period (Dates):\",\"\")","v":""},null,null,"","",null,null,null,0,0]
[null,{"$f":"IF('Limestone Plant (LP-2)'!$D$4>2,\"Controlled with Dust Suppressant or Material Being Processed has Moisture Content > 1.5%?\",\"\")","v":""},null,null,"","",null,null,null,0,0]
[null,null,null,null,"","",null,null,null,0,0]
[null,null,null,null,"","",null,null,null,0,0]
[null,null,null,null,"","",null,null,null,0,0]
[null,null,null,null,"","",null,null,null,0,0]
[]
[null,null,null,null,{"$f":"IF('Limestone Plant (LP-2)'!$D$4>2,\"Stock Pile Area\",\"\")","v":""}]
[null,null,null,null,null,{"$f":"IF('Limestone Plant (LP-2)'!$D$4>2,\"Emission Unit #\",\"\")","v":""},{"$f":"IF('Limestone Plant (LP-2)'!$D$4>2,\"Maximum Storage Area (acres)\",\"\")","v":""},{"$f":"IF('Limestone Plant (LP-2)'!$D$4>2,\"Actual Storage Area (acres)\",\"\")","v":""},{"$f":"IF('Limestone Plant (LP-2)'!$D$4>2,\"Actual Days in Existence (days)\",\"\")","v":""}]
[]
[]
[]
[null,{"$f":"IF('Limestone Plant (LP-2)'!$D$4>3,\"CRUSHER PLANT\",\"\")","v":""},{"$f":"IF('Limestone Plant (LP-2)'!$D$4>3,\"Site 4\",\"\")","v":""},null,{"$f":"IF('Limestone Plant (LP-2)'!$D$4>3,\"Emission Point #\",\"\")","v":""},{"$f":"IF('Limestone Plant (LP-2)'!$D$4>3,\"Emission     Unit #\",\"\")","v":""},{"$f":"IF('Limestone Plant (LP-2)'!$D$4>3,\"Processes\",\"\")","v":""},{"$f":"IF('Limestone Plant (LP-2)'!$D$4>3,\"Combined Maximum Hourly Design Rate for all Like Processes (tons/hr)\",\"\")","v":""},{"$f":"IF('Limestone Plant (LP-2)'!$D$4>3,('Facility Information'!G5&\" Annual Throughput (tons)\"),\"\")","v":""}]
[]
[null,{"$f":"IF('Limestone Plant (LP-2)'!$D$4>3,\"Site Name:\",\"\")","v":""},null,null,{"$f":"IF(G69=\"\",\"\",\"LP-2 EP-1\")","v":""},{"$f":"IF(G69=\"\",\"\",IF(G69=\"primary crusher\",\"LP-2 EU-1\",IF(G69=\"screening\",\"LP-2 EU-2\",IF(G69=\"secondary crusher\",\"LP-2 EU-3\",IF(G69=\"tertiary crusher\",\"LP-2 EU-4\",IF(G69=\"fines crushing\",\"LP-2 EU-5\",IF(G69=\"fines screening\",\"LP-2 EU-6\",IF(G69=\"wet drilling: unfragmented stone\",\"LP-2 EU-7\",IF(G69=\"conveyor transfer points\",\"LP-2 EU-8\")))))))))","v":""},null,null,null,{"$f":"IF($C$72=\"no\",I69,0)","v":0},{"$f":"IF($C$72=\"yes\",I69,0)","v":0}]
[null,{"$f":"IF('Limestone Plant (LP-2)'!$D$4>3,\"County:\",\"\")","v":""},null,null,{"$f":"IF(G70=\"\",\"\",\"LP-2 EP-1\")","v":""},{"$f":"IF(G70=\"\",\"\",IF(G70=\"primary crusher\",\"LP-2 EU-1\",IF(G70=\"screening\",\"LP-2 EU-2\",IF(G70=\"secondary crusher\",\"LP-2 EU-3\",IF(G70=\"tertiary crusher\",\"LP-2 EU-4\",IF(G70=\"fines crushing\",\"LP-2 EU-5\",IF(G70=\"fines screening\",\"LP-2 EU-6\",IF(G70=\"wet drilling: unfragmented stone\",\"LP-2 EU-7\",IF(G70=\"conveyor transfer points\",\"LP-2 EU-8\")))))))))","v":""},null,null,null,{"$f":"IF($C$72=\"no\",I70,0)","v":0},{"$f":"IF($C$72=\"yes\",I70,0)","v":0}]
[null,{"$f":"IF('Limestone Plant (LP-2)'!$D$4>3,\"Crushing Period (Dates):\",\"\")","v":""},null,null,"","",null,null,null,0,0]
[null,{"$f":"IF('Limestone Plant (LP-2)'!$D$4>3,\"Controlled with Dust Suppressant or Material Being Processed has Moisture Content > 1.5%?\",\"\")","v":""},null,null,"","",null,null,null,0,0]
[null,null,null,null,"","",null,null,null,0,0]
[null,null,null,null,"","",null,null,null,0,0]
[null,null,null,null,"","",null,null,null,0,0]
[null,null,null,null,"","",null,null,null,0,0]
[]
[null,null,null,null,{"$f":"IF('Limestone Plant (LP-2)'!$D$4>3,\"Stock Pile Area\",\"\")","v":""}]
[null,null,null,null,null,{"$f":"IF('Limestone Plant (LP-2)'!$D$4>3,\"Emission Unit #\",\"\")","v":""},{"$f":"IF('Limestone Plant (LP-2)'!$D$4>3,\"Maximum Storage Area (acres)\",\"\")","v":""},{"$f":"IF('Limestone Plant (LP-2)'!$D$4>3,\"Actual Storage Area (acres)\",\"\")","v":""},{"$f":"IF('Limestone Plant (LP-2)'!$D$4>3,\"Actual Days in Existence (days)\",\"\")","v":""}]
[]
[]
[]
[null,{"$f":"IF('Limestone Plant (LP-2)'!$D$4>4,\"CRUSHER PLANT\",\"\")","v":""},{"$f":"IF('Limestone Plant (LP-2)'!$D$4>4,\"Site 5\",\"\")","v":""},null,{"$f":"IF('Limestone Plant (LP-2)'!$D$4>4,\"Emission Point #\",\"\")","v":""},{"$f":"IF('Limestone Plant (LP-2)'!$D$4>4,\"Emission     Unit #\",\"\")","v":""},{"$f":"IF('Limestone Plant (LP-2)'!$D$4>4,\"Processes\",\"\")","v":""},{"$f":"IF('Limestone Plant (LP-2)'!$D$4>4,\"Combined Maximum Hourly Design Rate for all Like Processes (tons/hr)\",\"\")","v":""},{"$f":"IF('Limestone Plant (LP-2)'!$D$4>4,('Facility Information'!G5&\" Annual Throughput (tons)\"),\"\")","v":""}]
[]
[null,{"$f":"IF('Limestone Plant (LP-2)'!$D$4>4,\"Site Name:\",\"\")","v":""},null,null,{"$f":"IF(G85=\"\",\"\",\"LP-2 EP-1\")","v":""},{"$f":"IF(G85=\"\",\"\",IF(G85=\"primary crusher\",\"LP-2 EU-1\",IF(G85=\"screening\",\"LP-2 EU-2\",IF(G85=\"secondary crusher\",\"LP-2 EU-3\",IF(G85=\"tertiary crusher\",\"LP-2 EU-4\",IF(G85=\"fines crushing\",\"LP-2 EU-5\",IF(G85=\"fines screening\",\"LP-2 EU-6\",IF(G85=\"wet drilling: unfragmented stone\",\"LP-2 EU-7\",IF(G85=\"conveyor transfer points\",\"LP-2 EU-8\")))))))))","v":""},null,null,null,{"$f":"IF($C$88=\"no\",I85,0)","v":0},{"$f":"IF($C$88=\"yes\",I85,0)","v":0}]
[null,{"$f":"IF('Limestone Plant (LP-2)'!$D$4>4,\"County:\",\"\")","v":""},null,null,{"$f":"IF(G86=\"\",\"\",\"LP-2 EP-1\")","v":""},{"$f":"IF(G86=\"\",\"\",IF(G86=\"primary crusher\",\"LP-2 EU-1\",IF(G86=\"screening\",\"LP-2 EU-2\",IF(G86=\"secondary crusher\",\"LP-2 EU-3\",IF(G86=\"tertiary crusher\",\"LP-2 EU-4\",IF(G86=\"fines crushing\",\"LP-2 EU-5\",IF(G86=\"fines screening\",\"LP-2 EU-6\",IF(G86=\"wet drilling: unfragmented stone\",\"LP-2 EU-7\",IF(G86=\"conveyor transfer points\",\"LP-2 EU-8\")))))))))","v":""},null,null,null,{"$f":"IF($C$88=\"no\",I86,0)","v":0},{"$f":"IF($C$88=\"yes\",I86,0)","v":0}]
[null,{"$f":"IF('Limestone Plant (LP-2)'!$D$4>4,\"Crushing Period (Dates):\",\"\")","v":""},null,null,"","",null,null,null,0,0]
[null,{"$f":"IF('Limestone Plant (LP-2)'!$D$4>4,\"Controlled with Dust Suppressant or Material Being Processed has Moisture Content > 1.5%?\",\"\")","v":""},null,null,"","",null,null,null,0,0]
[null,null,null,null,"","",null,null,null,0,0]
[null,null,null,null,"","",null,null,null,0,0]
[null,null,null,null,"","",null,null,null,0,0]
[null,null,null,null,"","",null,null,null,0,0]
[]
[null,null,null,null,{"$f":"IF('Limestone Plant (LP-2)'!$D$4>4,\"Stock Pile Area\",\"\")","v":""}]
[null,null,null,null,null,{"$f":"IF('Limestone Plant (LP-2)'!$D$4>4,\"Emission Unit #\",\"\")","v":""},{"$f":"IF('Limestone Plant (LP-2)'!$D$4>4,\"Maximum Storage Area (acres)\",\"\")","v":""},{"$f":"IF('Limestone Plant (LP-2)'!$D$4>4,\"Actual Storage Area (acres)\",\"\")","v":""},{"$f":"IF('Limestone Plant (LP-2)'!$D$4>4,\"Actual Days in Existence (days)\",\"\")","v":""}]
[]
[]
[]
[null,{"$f":"IF('Limestone Plant (LP-2)'!$D$4>5,\"CRUSHER PLANT\",\"\")","v":""},{"$f":"IF('Limestone Plant (LP-2)'!$D$4>5,\"Site 6\",\"\")","v":""},null,{"$f":"IF('Limestone Plant (LP-2)'!$D$4>5,\"Emission Point #\",\"\")","v":""},{"$f":"IF('Limestone Plant (LP-2)'!$D$4>5,\"Emission     Unit #\",\"\")","v":""},{"$f":"IF('Limestone Plant (LP-2)'!$D$4>5,\"Processes\",\"\")","v":""},{"$f":"IF('Limestone Plant (LP-2)'!$D$4>5,\"Combined Maximum Hourly Design Rate for all Like Processes (tons/hr)\",\"\")","v":""},{"$f":"IF('Limestone Plant (LP-2)'!$D$4>5,('Facility Information'!G5&\" Annual Throughput (tons)\"),\"\")","v":""}]
[]
[null,{"$f":"IF('Limestone Plant (LP-2)'!$D$4>5,\"Site Name:\",\"\")","v":""},null,null,{"$f":"IF(G101=\"\",\"\",\"LP-2 EP-1\")","v":""},{"$f":"IF(G101=\"\",\"\",IF(G101=\"primary crusher\",\"LP-2 EU-1\",IF(G101=\"screening\",\"LP-2 EU-2\",IF(G101=\"secondary crusher\",\"LP-2 EU-3\",IF(G101=\"tertiary crusher\",\"LP-2 EU-4\",IF(G101=\"fines crushing\",\"LP-2 EU-5\",IF(G101=\"fines screening\",\"LP-2 EU-6\",IF(G101=\"wet drilling: unfragmented stone\",\"LP-2 EU-7\",IF(G101=\"conveyor transfer points\",\"LP-2 EU-8\")))))))))","v":""},null,null,null,{"$f":"IF($C$104=\"no\",I101,0)","v":0},{"$f":"IF($C$104=\"yes\",I101,0)","v":0}]
[null,{"$f":"IF('Limestone Plant (LP-2)'!$D$4>5,\"County:\",\"\")","v":""},null,null,{"$f":"IF(G102=\"\",\"\",\"LP-2 EP-1\")","v":""},{"$f":"IF(G102=\"\",\"\",IF(G102=\"primary crusher\",\"LP-2 EU-1\",IF(G102=\"screening\",\"LP-2 EU-2\",IF(G102=\"secondary crusher\",\"LP-2 EU-3\",IF(G102=\"tertiary crusher\",\"LP-2 EU-4\",IF(G102=\"fines crushing\",\"LP-2 EU-5\",IF(G102=\"fines screening\",\"LP-2 EU-6\",IF(G102=\"wet drilling: unfragmented stone\",\"LP-2 EU-7\",IF(G102=\"conveyor transfer points\",\"LP-2 EU-8\")))))))))","v":""},null,null,null,{"$f":"IF($C$104=\"no\",I102,0)","v":0},{"$f":"IF($C$104=\"yes\",I102,0)","v":0}]
[null,{"$f":"IF('Limestone Plant (LP-2)'!$D$4>5,\"Crushing Period (Dates):\",\"\")","v":""},null,null,"","",null,null,null,0,0]
[null,{"$f":"IF('Limestone Plant (LP-2)'!$D$4>5,\"Controlled with Dust Suppressant or Material Being Processed has Moisture Content > 1.5%?\",\"\")","v":""},null,null,"","",null,null,null,0,0]
[null,null,null,null,"","",null,null,null,0,0]
[null,null,null,null,"","",null,null,null,0,0]
[null,null,null,null,"","",null,null,null,0,0]
[null,null,null,null,"","",null,null,null,0,0]
[]
[null,null,null,null,{"$f":"IF('Limestone Plant (LP-2)'!$D$4>5,\"Stock Pile Area\",\"\")","v":""}]
[null,null,null,null,null,{"$f":"IF('Limestone Plant (LP-2)'!$D$4>5,\"Emission Unit #\",\"\")","v":""},{"$f":"IF('Limestone Plant (LP-2)'!$D$4>5,\"Maximum Storage Area (acres)\",\"\")","v":""},{"$f":"IF('Limestone Plant (LP-2)'!$D$4>5,\"Actual Storage Area (acres)\",\"\")","v":""},{"$f":"IF('Limestone Plant (LP-2)'!$D$4>5,\"Actual Days in Existence (days)\",\"\")","v":""}]
[]
[]
[]
[null,{"$f":"IF('Limestone Plant (LP-2)'!$D$4>6,\"CRUSHER PLANT\",\"\")","v":""},{"$f":"IF('Limestone Plant (LP-2)'!$D$4>6,\"Site 7\",\"\")","v":""},null,{"$f":"IF('Limestone Plant (LP-2)'!$D$4>6,\"Emission Point #\",\"\")","v":""},{"$f":"IF('Limestone Plant (LP-2)'!$D$4>6,\"Emission    Unit #\",\"\")","v":""},{"$f":"IF('Limestone Plant (LP-2)'!$D$4>6,\"Processes\",\"\")","v":""},{"$f":"IF('Limestone Plant (LP-2)'!$D$4>6,\"Combined Maximum Hourly Design Rate for all Like Processes (tons/hr)\",\"\")","v":""},{"$f":"IF('Limestone Plant (LP-2)'!$D$4>6,('Facility Information'!G5&\" Annual Throughput (tons)\"),\"\")","v":""}]
[]
[null,{"$f":"IF('Limestone Plant (LP-2)'!$D$4>6,\"Site Name:\",\"\")","v":""},null,null,{"$f":"IF(G117=\"\",\"\",\"LP-2 EP-1\")","v":""},{"$f":"IF(G117=\"\",\"\",IF(G117=\"primary crusher\",\"LP-2 EU-1\",IF(G117=\"screening\",\"LP-2 EU-2\",IF(G117=\"secondary crusher\",\"LP-2 EU-3\",IF(G117=\"tertiary crusher\",\"LP-2 EU-4\",IF(G117=\"fines crushing\",\"LP-2 EU-5\",IF(G117=\"fines screening\",\"LP-2 EU-6\",IF(G117=\"wet drilling: unfragmented stone\",\"LP-2 EU-7\",IF(G117=\"conveyor transfer points\",\"LP-2 EU-8\")))))))))","v":""},null,null,null,{"$f":"IF($C$120=\"no\",I117,0)","v":0},{"$f":"IF($C$120=\"yes\",I117,0)","v":0}]
[null,{"$f":"IF('Limestone Plant (LP-2)'!$D$4>6,\"County:\",\"\")","v":""},null,null,{"$f":"IF(G118=\"\",\"\",\"LP-2 EP-1\")","v":""},{"$f":"IF(G118=\"\",\"\",IF(G118=\"primary crusher\",\"LP-2 EU-1\",IF(G118=\"screening\",\"LP-2 EU-2\",IF(G118=\"secondary crusher\",\"LP-2 EU-3\",IF(G118=\"tertiary crusher\",\"LP-2 EU-4\",IF(G118=\"fines crushing\",\"LP-2 EU-5\",IF(G118=\"fines screening\",\"LP-2 EU-6\",IF(G118=\"wet drilling: unfragmented stone\",\"LP-2 EU-7\",IF(G118=\"conveyor transfer points\",\"LP-2 EU-8\")))))))))","v":""},null,null,null,{"$f":"IF($C$120=\"no\",I118,0)","v":0},{"$f":"IF($C$120=\"yes\",I118,0)","v":0}]
[null,{"$f":"IF('Limestone Plant (LP-2)'!$D$4>6,\"Crushing Period (Dates):\",\"\")","v":""},null,null,"","",null,null,null,0,0]
[null,{"$f":"IF('Limestone Plant (LP-2)'!$D$4>6,\"Controlled with Dust Suppressant or Material Being Processed has Moisture Content > 1.5%?\",\"\")","v":""},null,null,"","",null,null,null,0,0]
[null,null,null,null,"","",null,null,null,0,0]
[null,null,null,null,"","",null,null,null,0,0]
[null,null,null,null,"","",null,null,null,0,0]
[null,null,null,null,"","",null,null,null,0,0]
[]
[null,null,null,null,{"$f":"IF('Limestone Plant (LP-2)'!$D$4>6,\"Stock Pile Area\",\"\")","v":""}]
[null,null,null,null,null,{"$f":"IF('Limestone Plant (LP-2)'!$D$4>6,\"Emission Unit #\",\"\")","v":""},{"$f":"IF('Limestone Plant (LP-2)'!$D$4>6,\"Maximum Storage Area (acres)\",\"\")","v":""},{"$f":"IF('Limestone Plant (LP-2)'!$D$4>6,\"Actual Storage Area (acres)\",\"\")","v":""},{"$f":"IF('Limestone Plant (LP-2)'!$D$4>6,\"Actual Days in Existence (days)\",\"\")","v":""}]
[]
[]
[]
[null,{"$f":"IF('Limestone Plant (LP-2)'!$D$4>7,\"CRUSHER PLANT\",\"\")","v":""},{"$f":"IF('Limestone Plant (LP-2)'!$D$4>7,\"Site 8\",\"\")","v":""},null,{"$f":"IF('Limestone Plant (LP-2)'!$D$4>7,\"Emission Point #\",\"\")","v":""},{"$f":"IF('Limestone Plant (LP-2)'!$D$4>7,\"Emission     Unit #\",\"\")","v":""},{"$f":"IF('Limestone Plant (LP-2)'!$D$4>7,\"Processes\",\"\")","v":""},{"$f":"IF('Limestone Plant (LP-2)'!$D$4>7,\"Combined Maximum Hourly Design Rate for all Like Processes (tons/hr)\",\"\")","v":""},{"$f":"IF('Limestone Plant (LP-2)'!$D$4>7,('Facility Information'!G5&\" Annual Throughput (tons)\"),\"\")","v":""}]
[]
[null,{"$f":"IF('Limestone Plant (LP-2)'!$D$4>7,\"Site Name:\",\"\")","v":""},null,null,{"$f":"IF(G133=\"\",\"\",\"LP-2 EP-1\")","v":""},{"$f":"IF(G133=\"\",\"\",IF(G133=\"primary crusher\",\"LP-2 EU-1\",IF(G133=\"screening\",\"LP-2 EU-2\",IF(G133=\"secondary crusher\",\"LP-2 EU-3\",IF(G133=\"tertiary crusher\",\"LP-2 EU-4\",IF(G133=\"fines crushing\",\"LP-2 EU-5\",IF(G133=\"fines screening\",\"LP-2 EU-6\",IF(G133=\"wet drilling: unfragmented stone\",\"LP-2 EU-7\",IF(G133=\"conveyor transfer points\",\"LP-2 EU-8\")))))))))","v":""},null,null,null,{"$f":"IF($C$136=\"no\",I133,0)","v":0},{"$f":"IF($C$136=\"yes\",I133,0)","v":0}]
[null,{"$f":"IF('Limestone Plant (LP-2)'!$D$4>7,\"County:\",\"\")","v":""},null,null,{"$f":"IF(G134=\"\",\"\",\"LP-2 EP-1\")","v":""},{"$f":"IF(G134=\"\",\"\",IF(G134=\"primary crusher\",\"LP-2 EU-1\",IF(G134=\"screening\",\"LP-2 EU-2\",IF(G134=\"secondary crusher\",\"LP-2 EU-3\",IF(G134=\"tertiary crusher\",\"LP-2 EU-4\",IF(G134=\"fines crushing\",\"LP-2 EU-5\",IF(G134=\"fines screening\",\"LP-2 EU-6\",IF(G134=\"wet drilling: unfragmented stone\",\"LP-2 EU-7\",IF(G134=\"conveyor transfer points\",\"LP-2 EU-8\")))))))))","v":""},null,null,null,{"$f":"IF($C$136=\"no\",I134,0)","v":0},{"$f":"IF($C$136=\"yes\",I134,0)","v":0}]
[null,{"$f":"IF('Limestone Plant (LP-2)'!$D$4>7,\"Crushing Period (Dates):\",\"\")","v":""},null,null,"","",null,null,null,0,0]
[null,{"$f":"IF('Limestone Plant (LP-2)'!$D$4>7,\"Controlled with Dust Suppressant or Material Being Processed has Moisture Content > 1.5%?\",\"\")","v":""},null,null,"","",null,null,null,0,0]
[null,null,null,null,"","",null,null,null,0,0]
[null,null,null,null,"","",null,null,null,0,0]
[null,null,null,null,"","",null,null,null,0,0]
[null,null,null,null,"","",null,null,null,0,0]
[]
[null,null,null,null,{"$f":"IF('Limestone Plant (LP-2)'!$D$4>7,\"Stock Pile Area\",\"\")","v":""}]
[null,null,null,null,null,{"$f":"IF('Limestone Plant (LP-2)'!$D$4>7,\"Emission Unit #\",\"\")","v":""},{"$f":"IF('Limestone Plant (LP-2)'!$D$4>7,\"Maximum Storage Area (acres)\",\"\")","v":""},{"$f":"IF('Limestone Plant (LP-2)'!$D$4>7,\"Actual Storage Area (acres)\",\"\")","v":""},{"$f":"IF('Limestone Plant (LP-2)'!$D$4>7,\"Actual Days in Existence (days)\",\"\")","v":""}]
[]
[]
[]
[null,{"$f":"IF('Limestone Plant (LP-2)'!$D$4>8,\"CRUSHER PLANT\",\"\")","v":""},{"$f":"IF('Limestone Plant (LP-2)'!$D$4>8,\"Site 9\",\"\")","v":""},null,{"$f":"IF('Limestone Plant (LP-2)'!$D$4>8,\"Emission Point #\",\"\")","v":""},{"$f":"IF('Limestone Plant (LP-2)'!$D$4>8,\"Emission     Unit #\",\"\")","v":""},{"$f":"IF('Limestone Plant (LP-2)'!$D$4>8,\"Processes\",\"\")","v":""},{"$f":"IF('Limestone Plant (LP-2)'!$D$4>8,\"Combined Maximum Hourly Design Rate for all Like Processes (tons/hr)\",\"\")","v":""},{"$f":"IF('Limestone Plant (LP-2)'!$D$4>8,('Facility Information'!G5&\" Annual Throughput (tons)\"),\"\")","v":""}]
[]
[null,{"$f":"IF('Limestone Plant (LP-2)'!$D$4>8,\"Site Name:\",\"\")","v":""},null,null,{"$f":"IF(G149=\"\",\"\",\"LP-2 EP-1\")","v":""},{"$f":"IF(G149=\"\",\"\",IF(G149=\"primary crusher\",\"LP-2 EU-1\",IF(G149=\"screening\",\"LP-2 EU-2\",IF(G149=\"secondary crusher\",\"LP-2 EU-3\",IF(G149=\"tertiary crusher\",\"LP-2 EU-4\",IF(G149=\"fines crushing\",\"LP-2 EU-5\",IF(G149=\"fines screening\",\"LP-2 EU-6\",IF(G149=\"wet drilling: unfragmented stone\",\"LP-2 EU-7\",IF(G149=\"conveyor transfer points\",\"LP-2 EU-8\")))))))))","v":""},null,null,null,{"$f":"IF($C$152=\"no\",I149,0)","v":0},{"$f":"IF($C$152=\"yes\",I149,0)","v":0}]
[null,{"$f":"IF('Limestone Plant (LP-2)'!$D$4>8,\"County:\",\"\")","v":""},null,null,{"$f":"IF(G150=\"\",\"\",\"LP-2 EP-1\")","v":""},{"$f":"IF(G150=\"\",\"\",IF(G150=\"primary crusher\",\"LP-2 EU-1\",IF(G150=\"screening\",\"LP-2 EU-2\",IF(G150=\"secondary crusher\",\"LP-2 EU-3\",IF(G150=\"tertiary crusher\",\"LP-2 EU-4\",IF(G150=\"fines crushing\",\"LP-2 EU-5\",IF(G150=\"fines screening\",\"LP-2 EU-6\",IF(G150=\"wet drilling: unfragmented stone\",\"LP-2 EU-7\",IF(G150=\"conveyor transfer points\",\"LP-2 EU-8\")))))))))","v":""},null,null,null,{"$f":"IF($C$152=\"no\",I150,0)","v":0},{"$f":"IF($C$152=\"yes\",I150,0)","v":0}]
[null,{"$f":"IF('Limestone Plant (LP-2)'!$D$4>8,\"Crushing Period (Dates):\",\"\")","v":""},null,null,"","",null,null,null,0,0]
[null,{"$f":"IF('Limestone Plant (LP-2)'!$D$4>8,\"Controlled with Dust Suppressant or Material Being Processed has Moisture Content > 1.5%?\",\"\")","v":""},null,null,"","",null,null,null,0,0]
[null,null,null,null,"","",null,null,null,0,0]
[null,null,null,null,"","",null,null,null,0,0]
[null,null,null,null,"","",null,null,null,0,0]
[null,null,null,null,"","",null,null,null,0,0]
[]
[null,null,null,null,{"$f":"IF('Limestone Plant (LP-2)'!$D$4>8,\"Stock Pile Area\",\"\")","v":""}]
[null,null,null,null,null,{"$f":"IF('Limestone Plant (LP-2)'!$D$4>8,\"Emission Unit #\",\"\")","v":""},{"$f":"IF('Limestone Plant (LP-2)'!$D$4>8,\"Maximum Storage Area (acres)\",\"\")","v":""},{"$f":"IF('Limestone Plant (LP-2)'!$D$4>8,\"Actual Storage Area (acres)\",\"\")","v":""},{"$f":"IF('Limestone Plant (LP-2)'!$D$4>8,\"Actual Days in Existence (days)\",\"\")","v":""}]
[]
[]
[]
[null,{"$f":"IF('Limestone Plant (LP-2)'!$D$4>9,\"CRUSHER PLANT\",\"\")","v":""},{"$f":"IF('Limestone Plant (LP-2)'!$D$4>9,\"Site 10\",\"\")","v":""},null,{"$f":"IF('Limestone Plant (LP-2)'!$D$4>9,\"Emission Point #\",\"\")","v":""},{"$f":"IF('Limestone Plant (LP-2)'!$D$4>9,\"Emission     Unit #\",\"\")","v":""},{"$f":"IF('Limestone Plant (LP-2)'!$D$4>9,\"Processes\",\"\")","v":""},{"$f":"IF('Limestone Plant (LP-2)'!$D$4>9,\"Combined Maximum Hourly Design Rate for all Like Processes (tons/hr)\",\"\")","v":""},{"$f":"IF('Limestone Plant (LP-2)'!$D$4>9,('Facility Information'!G5&\" Annual Throughput (tons)\"),\"\")","v":""}]
[]
[null,{"$f":"IF('Limestone Plant (LP-2)'!$D$4>9,\"Site Name:\",\"\")","v":""},null,null,{"$f":"IF(G165=\"\",\"\",\"LP-2 EP-1\")","v":""},{"$f":"IF(G165=\"\",\"\",IF(G165=\"primary crusher\",\"LP-2 EU-1\",IF(G165=\"screening\",\"LP-2 EU-2\",IF(G165=\"secondary crusher\",\"LP-2 EU-3\",IF(G165=\"tertiary crusher\",\"LP-2 EU-4\",IF(G165=\"fines crushing\",\"LP-2 EU-5\",IF(G165=\"fines screening\",\"LP-2 EU-6\",IF(G165=\"wet drilling: unfragmented stone\",\"LP-2 EU-7\",IF(G165=\"conveyor transfer points\",\"LP-2 EU-8\")))))))))","v":""},null,null,null,{"$f":"IF($C168=\"no\",I165,0)","v":0}]
[null,{"$f":"IF('Limestone Plant (LP-2)'!$D$4>9,\"County:\",\"\")","v":""},null,null,{"$f":"IF(G166=\"\",\"\",\"LP-2 EP-1\")","v":""},{"$f":"IF(G166=\"\",\"\",IF(G166=\"primary crusher\",\"LP-2 EU-1\",IF(G166=\"screening\",\"LP-2 EU-2\",IF(G166=\"secondary crusher\",\"LP-2 EU-3\",IF(G166=\"tertiary crusher\",\"LP-2 EU-4\",IF(G166=\"fines crushing\",\"LP-2 EU-5\",IF(G166=\"fines screening\",\"LP-2 EU-6\",IF(G166=\"wet drilling: unfragmented stone\",\"LP-2 EU-7\",IF(G166=\"conveyor transfer points\",\"LP-2 EU-8\")))))))))","v":""}]
[null,{"$f":"IF('Limestone Plant (LP-2)'!$D$4>9,\"Crushing Period (Dates):\",\"\")","v":""},null,null,"",""]
[null,{"$f":"IF('Limestone Plant (LP-2)'!$D$4>9,\"Controlled with Dust Suppressant or Material Being Processed has Moisture Content > 1.5%?\",\"\")","v":""},null,null,"",""]
[null,null,null,null,"",""]
[null,null,null,null,"",""]
[null,null,null,null,"",""]
[null,null,null,null,"",""]
[]
[null,null,null,null,{"$f":"IF('Limestone Plant (LP-2)'!$D$4>9,\"Stock Pile Area\",\"\")","v":""}]
[null,null,null,null,null,{"$f":"IF('Limestone Plant (LP-2)'!$D$4>9,\"Emission Unit #\",\"\")","v":""},{"$f":"IF('Limestone Plant (LP-2)'!$D$4>9,\"Maximum Storage Area (acres)\",\"\")","v":""},{"$f":"IF('Limestone Plant (LP-2)'!$D$4>9,\"Actual Storage Area (acres)\",\"\")","v":""},{"$f":"IF('Limestone Plant (LP-2)'!$D$4>9,\"Actual Days in Existence (days)\",\"\")","v":""}]

{"sheet":"Limestone Plant (LP-3)","index":3,"n_rows":175,"n_cols":19,"rows_kept":175,"cut":false,"hidden":true,"merged":[[167,1,169,1],[167,2,169,2],[119,1,121,1],[119,2,121,2],[135,1,137,1],[135,2,137,2],[151,1,153,1],[151,2,153,2],[71,1,73,1],[71,2,73,2],[87,1,89,1],[87,2,89,2],[103,1,105,1],[103,2,105,2],[23,1,25,1],[23,2,25,2],[39,1,41,1],[39,2,41,2],[55,1,57,1],[55,2,57,2],[162,4,163,4],[162,6,163,6],[162,7,163,7],[162,8,163,8],[130,4,131,4],[130,6,131,6],[130,7,131,7],[130,8,131,8],[146,4,147,4],[146,6,147,6],[146,7,147,7],[146,8,147,8],[130,5,131,5],[146,5,147,5],[162,5,163,5],[98,4,99,4],[98,6,99,6],[98,7,99,7],[98,8,99,8],[114,4,115,4],[114,6,115,6],[114,7,115,7],[114,8,115,8],[98,5,99,5],[114,5,115,5],[66,4,67,4],[66,6,67,6],[66,7,67,7],[66,8,67,8],[82,4,83,4],[82,6,83,6],[82,7,83,7],[82,8,83,8],[66,5,67,5],[82,5,83,5],[48,3,48,4],[50,4,51,4],[50,6,51,6],[50,7,51,7],[50,8,51,8],[50,5,51,5],[37,14,38,14],[37,15,38,15],[37,16,38,16],[37,17,38,17],[37,18,38,18],[34,4,35,4],[34,6,35,6],[34,7,35,7],[34,8,35,8],[37,13,38,13],[34,5,35,5],[17,16,18,16],[17,17,18,17],[17,18,18,18],[18,4,19,4],[18,6,19,6],[18,7,19,7],[18,8,19,8],[17,13,18,13],[17,14,18,14],[17,15,18,15],[18,5,19,5],[2,13,3,13],[2,14,3,14],[2,18,3,18],[3,1,3,2],[3,3,3,4],[11,1,13,2],[0,1,0,2],[1,1,1,2],[1,7,1,8],[2,12,3,12]]}
[null,"LIMESTONE CRUSHING PLANT (LP-3)"]
[null,"Please fill in the yellow boxes as applicable for your facility. ",null,null,null,null,null,"Values used for calculating emissions →",null,null,null,null,"Values Used to Calculate Actual Emissions for the Listed Processes at this Plant"]
[null,null,null,null,null,null,null,null,null,null,null,null,"Process","Maximum Design Rate (tons/hr)","Actual throughput w/o wet supression (tons/yr)",null,null,null,"Actual throughtput w/ wet supression (tons/yr)"]
[null,{"$f":"\"Number of Sites this Plant operated at in \"&'Facility Information'!G5&\":\"","v":"Number of Sites this Plant operated at in :"},null,null,null,null,null,null,null,null,null,null,null,null,null,null,"** As of 2016 Potential Emissions are no longer required to be reported in the Minor Source Emissions Inventory**"]
[null,null,null,null,null,null,null,null,null,null,null,null,"Primary Crusher",{"$f":"MAX((IFERROR(OFFSET($G$20,MATCH(\"primary crusher\",$G$21:$G$28,0),1),0)),((IFERROR((OFFSET($G$36,MATCH(\"primary crusher\",$G$37:$G$44,0),1)),0))),((IFERROR((OFFSET($G$52,MATCH(\"primary crusher\",$G$53:$G$60,0),1)),0))),((IFERROR((OFFSET($G$68,MATCH(\"primary crusher\",$G$69:$G$76,0),1)),0))),((IFERROR((OFFSET($G$84,MATCH(\"primary crusher\",$G$85:$G$92,0),1)),0))),((IFERROR((OFFSET($G$100,MATCH(\"primary crusher\",$G$101:$G$108,0),1)),0))),((IFERROR((OFFSET($G$116,MATCH(\"primary crusher\",$G$117:$G$124,0),1)),0))),((IFERROR((OFFSET($G$132,MATCH(\"primary crusher\",$G$133:$G$140,0),1)),0))),((IFERROR((OFFSET($G$148,MATCH(\"primary crusher\",$G$149:$G$156,0),1)),0))),((IFERROR((OFFSET($G$163,MATCH(\"primary crusher\",$G$165:$G$172,0),1)),0))))","v":0},{"$f":"SUM((IFERROR(OFFSET($G$20,MATCH(\"primary crusher\",$G$21:$G$28,0),3),0)),((IFERROR((OFFSET($G$36,MATCH(\"primary crusher\",$G$37:$G$44,0),3)),0))),((IFERROR((OFFSET($G$52,MATCH(\"primary crusher\",$G$53:$G$60,0),3)),0))),((IFERROR((OFFSET($G$68,MATCH(\"primary crusher\",$G$69:$G$76,0),3)),0))),((IFERROR((OFFSET($G$84,MATCH(\"primary crusher\",$G$85:$G$92,0),3)),0))),((IFERROR((OFFSET($G$100,MATCH(\"primary crusher\",$G$101:$G$108,0),3)),0))),((IFERROR((OFFSET($G$116,MATCH(\"primary crusher\",$G$117:$G$124,0),3)),0))),((IFERROR((OFFSET($G$132,MATCH(\"primary crusher\",$G$133:$G$140,0),3)),0))),((IFERROR((OFFSET($G$148,MATCH(\"primary crusher\",$G$149:$G$156,0),3)),0))),((IFERROR((OFFSET($G$163,MATCH(\"primary crusher\",$G$165:$G$172,0),3)),0))))","v":0},null,null,null,{"$f":"SUM((IFERROR(OFFSET($G$20,MATCH(\"primary crusher\",$G$21:$G$28,0),4),0)),((IFERROR((OFFSET($G$36,MATCH(\"primary crusher\",$G$37:$G$44,0),4)),0))),((IFERROR((OFFSET($G$52,MATCH(\"primary crusher\",$G$53:$G$60,0),4)),0))),((IFERROR((OFFSET($G$68,MATCH(\"primary crusher\",$G$69:$G$76,0),4)),0))),((IFERROR((OFFSET($G$84,MATCH(\"primary crusher\",$G$85:$G$92,0),4)),0))),((IFERROR((OFFSET($G$100,MATCH(\"primary crusher\",$G$101:$G$108,0),4)),0))),((IFERROR((OFFSET($G$116,MATCH(\"primary crusher\",$G$117:$G$124,0),4)),0))),((IFERROR((OFFSET($G$132,MATCH(\"primary crusher\",$G$133:$G$140,0),4)),0))),((IFERROR((OFFSET($G$148,MATCH(\"primary crusher\",$G$149:$G$156,0),4)),0))),((IFERROR((OFFSET($G$163,MATCH(\"primary crusher\",$G$165:$G$172,0),4)),0))))","v":0}]
[null,"Plant Specific Permit Number: ",null,null,null,null,null,null,null,null,null,null,"Screening",{"$f":"MAX((IFERROR(OFFSET($G$20,MATCH(\"screening\",$G$21:$G$28,0),1),0)),((IFERROR((OFFSET($G$36,MATCH(\"screening\",$G$37:$G$44,0),1)),0))),((IFERROR((OFFSET($G$52,MATCH(\"screening\",$G$53:$G$60,0),1)),0))),((IFERROR((OFFSET($G$68,MATCH(\"screening\",$G$69:$G$76,0),1)),0))),((IFERROR((OFFSET($G$84,MATCH(\"screening\",$G$85:$G$92,0),1)),0))),((IFERROR((OFFSET($G$100,MATCH(\"screening\",$G$101:$G$108,0),1)),0))),((IFERROR((OFFSET($G$116,MATCH(\"screening\",$G$117:$G$124,0),1)),0))),((IFERROR((OFFSET($G$132,MATCH(\"screening\",$G$133:$G$140,0),1)),0))),((IFERROR((OFFSET($G$148,MATCH(\"screening\",$G$149:$G$156,0),1)),0))),((IFERROR((OFFSET($G$163,MATCH(\"screening\",$G$165:$G$172,0),1)),0))))","v":0},{"$f":"SUM((IFERROR(OFFSET($G$20,MATCH(\"screening\",$G$21:$G$28,0),3),0)),((IFERROR((OFFSET($G$36,MATCH(\"screening\",$G$37:$G$44,0),3)),0))),((IFERROR((OFFSET($G$52,MATCH(\"screening\",$G$53:$G$60,0),3)),0))),((IFERROR((OFFSET($G$68,MATCH(\"screening\",$G$69:$G$76,0),3)),0))),((IFERROR((OFFSET($G$84,MATCH(\"screening\",$G$85:$G$92,0),3)),0))),((IFERROR((OFFSET($G$100,MATCH(\"screening\",$G$101:$G$108,0),3)),0))),((IFERROR((OFFSET($G$116,MATCH(\"screening\",$G$117:$G$124,0),3)),0))),((IFERROR((OFFSET($G$132,MATCH(\"screening\",$G$133:$G$140,0),3)),0))),((IFERROR((OFFSET($G$148,MATCH(\"screening\",$G$149:$G$156,0),3)),0))),((IFERROR((OFFSET($G$163,MATCH(\"screening\",$G$165:$G$172,0),3)),0))))","v":0},null,null,null,{"$f":"SUM((IFERROR(OFFSET($G$20,MATCH(\"screening\",$G$21:$G$28,0),4),0)),((IFERROR((OFFSET($G$36,MATCH(\"screening\",$G$37:$G$44,0),4)),0))),((IFERROR((OFFSET($G$52,MATCH(\"screening\",$G$53:$G$60,0),4)),0))),((IFERROR((OFFSET($G$68,MATCH(\"screening\",$G$69:$G$76,0),4)),0))),((IFERROR((OFFSET($G$84,MATCH(\"screening\",$G$85:$G$92,0),4)),0))),((IFERROR((OFFSET($G$100,MATCH(\"screening\",$G$101:$G$108,0),4)),0))),((IFERROR((OFFSET($G$116,MATCH(\"screening\",$G$117:$G$124,0),4)),0))),((IFERROR((OFFSET($G$132,MATCH(\"screening\",$G$133:$G$140,0),4)),0))),((IFERROR((OFFSET($G$148,MATCH(\"screening\",$G$149:$G$156,0),4)),0))),((IFERROR((OFFSET($G$163,MATCH(\"screening\",$G$165:$G$172,0),4)),0))))","v":0}]
[null,null,null,null,null,null,null,null,null,null,null,null,"Secondary Crusher",{"$f":"MAX((IFERROR(OFFSET($G$20,MATCH(\"secondary crusher\",$G$21:$G$28,0),1),0)),((IFERROR((OFFSET($G$36,MATCH(\"secondary crusher\",$G$37:$G$44,0),1)),0))),((IFERROR((OFFSET($G$52,MATCH(\"secondary crusher\",$G$53:$G$60,0),1)),0))),((IFERROR((OFFSET($G$68,MATCH(\"secondary crusher\",$G$69:$G$76,0),1)),0))),((IFERROR((OFFSET($G$84,MATCH(\"secondary crusher\",$G$85:$G$92,0),1)),0))),((IFERROR((OFFSET($G$100,MATCH(\"secondary crusher\",$G$101:$G$108,0),1)),0))),((IFERROR((OFFSET($G$116,MATCH(\"secondary crusher\",$G$117:$G$124,0),1)),0))),((IFERROR((OFFSET($G$132,MATCH(\"secondary crusher\",$G$133:$G$140,0),1)),0))),((IFERROR((OFFSET($G$148,MATCH(\"secondary crusher\",$G$149:$G$156,0),1)),0))),((IFERROR((OFFSET($G$163,MATCH(\"secondary crusher\",$G$165:$G$172,0),1)),0))))","v":0},{"$f":"SUM((IFERROR(OFFSET($G$20,MATCH(\"secondary crusher\",$G$21:$G$28,0),3),0)),((IFERROR((OFFSET($G$36,MATCH(\"secondary crusher\",$G$37:$G$44,0),3)),0))),((IFERROR((OFFSET($G$52,MATCH(\"secondary crusher\",$G$53:$G$60,0),3)),0))),((IFERROR((OFFSET($G$68,MATCH(\"secondary crusher\",$G$69:$G$76,0),3)),0))),((IFERROR((OFFSET($G$84,MATCH(\"secondary crusher\",$G$85:$G$92,0),3)),0))),((IFERROR((OFFSET($G$100,MATCH(\"secondary crusher\",$G$101:$G$108,0),3)),0))),((IFERROR((OFFSET($G$116,MATCH(\"secondary crusher\",$G$117:$G$124,0),3)),0))),((IFERROR((OFFSET($G$132,MATCH(\"secondary crusher\",$G$133:$G$140,0),3)),0))),((IFERROR((OFFSET($G$148,MATCH(\"secondary crusher\",$G$149:$G$156,0),3)),0))),((IFERROR((OFFSET($G$163,MATCH(\"secondary crusher\",$G$165:$G$172,0),3)),0))))","v":0},null,null,null,{"$f":"SUM((IFERROR(OFFSET($G$20,MATCH(\"secondary crusher\",$G$21:$G$28,0),4),0)),((IFERROR((OFFSET($G$36,MATCH(\"secondary crusher\",$G$37:$G$44,0),4)),0))),((IFERROR((OFFSET($G$52,MATCH(\"secondary crusher\",$G$53:$G$60,0),4)),0))),((IFERROR((OFFSET($G$68,MATCH(\"secondary crusher\",$G$69:$G$76,0),4)),0))),((IFERROR((OFFSET($G$84,MATCH(\"secondary crusher\",$G$85:$G$92,0),4)),0))),((IFERROR((OFFSET($G$100,MATCH(\"secondary crusher\",$G$101:$G$108,0),4)),0))),((IFERROR((OFFSET($G$116,MATCH(\"secondary crusher\",$G$117:$G$124,0),4)),0))),((IFERROR((OFFSET($G$132,MATCH(\"secondary crusher\",$G$133:$G$140,0),4)),0))),((IFERROR((OFFSET($G$148,MATCH(\"secondary crusher\",$G$149:$G$156,0),4)),0))),((IFERROR((OFFSET($G$163,MATCH(\"secondary crusher\",$G$165:$G$172,0),4)),0))))","v":0}]
[null,"Plant Specific Operating Limits:",null,null,"Plant Specific Emission Limits:",null,null,null,null,null,null,null,"Tertiary Crusher",{"$f":"MAX((IFERROR(OFFSET($G$20,MATCH(\"tertiary crusher\",$G$21:$G$28,0),1),0)),((IFERROR((OFFSET($G$36,MATCH(\"tertiary crusher\",$G$37:$G$44,0),1)),0))),((IFERROR((OFFSET($G$52,MATCH(\"tertiary crusher\",$G$53:$G$60,0),1)),0))),((IFERROR((OFFSET($G$68,MATCH(\"tertiary crusher\",$G$69:$G$76,0),1)),0))),((IFERROR((OFFSET($G$84,MATCH(\"tertiary crusher\",$G$85:$G$92,0),1)),0))),((IFERROR((OFFSET($G$100,MATCH(\"tertiary crusher\",$G$101:$G$108,0),1)),0))),((IFERROR((OFFSET($G$116,MATCH(\"tertiary crusher\",$G$117:$G$124,0),1)),0))),((IFERROR((OFFSET($G$132,MATCH(\"tertiary crusher\",$G$133:$G$140,0),1)),0))),((IFERROR((OFFSET($G$148,MATCH(\"tertiary crusher\",$G$149:$G$156,0),1)),0))),((IFERROR((OFFSET($G$163,MATCH(\"tertiary crusher\",$G$165:$G$172,0),1)),0))))","v":0},{"$f":"SUM((IFERROR(OFFSET($G$20,MATCH(\"tertiary crusher\",$G$21:$G$28,0),3),0)),((IFERROR((OFFSET($G$36,MATCH(\"tertiary crusher\",$G$37:$G$44,0),3)),0))),((IFERROR((OFFSET($G$52,MATCH(\"tertiary crusher\",$G$53:$G$60,0),3)),0))),((IFERROR((OFFSET($G$68,MATCH(\"tertiary crusher\",$G$69:$G$76,0),3)),0))),((IFERROR((OFFSET($G$84,MATCH(\"tertiary crusher\",$G$85:$G$92,0),3)),0))),((IFERROR((OFFSET($G$100,MATCH(\"tertiary crusher\",$G$101:$G$108,0),3)),0))),((IFERROR((OFFSET($G$116,MATCH(\"tertiary crusher\",$G$117:$G$124,0),3)),0))),((IFERROR((OFFSET($G$132,MATCH(\"tertiary crusher\",$G$133:$G$140,0),3)),0))),((IFERROR((OFFSET($G$148,MATCH(\"tertiary crusher\",$G$149:$G$156,0),3)),0))),((IFERROR((OFFSET($G$163,MATCH(\"tertiary crusher\",$G$165:$G$172,0),3)),0))))","v":0},null,null,null,{"$f":"SUM((IFERROR(OFFSET($G$20,MATCH(\"tertiary crusher\",$G$21:$G$28,0),4),0)),((IFERROR((OFFSET($G$36,MATCH(\"tertiary crusher\",$G$37:$G$44,0),4)),0))),((IFERROR((OFFSET($G$52,MATCH(\"tertiary crusher\",$G$53:$G$60,0),4)),0))),((IFERROR((OFFSET($G$68,MATCH(\"tertiary crusher\",$G$69:$G$76,0),4)),0))),((IFERROR((OFFSET($G$84,MATCH(\"tertiary crusher\",$G$85:$G$92,0),4)),0))),((IFERROR((OFFSET($G$100,MATCH(\"tertiary crusher\",$G$101:$G$108,0),4)),0))),((IFERROR((OFFSET($G$116,MATCH(\"tertiary crusher\",$G$117:$G$124,0),4)),0))),((IFERROR((OFFSET($G$132,MATCH(\"tertiary crusher\",$G$133:$G$140,0),4)),0))),((IFERROR((OFFSET($G$148,MATCH(\"tertiary crusher\",$G$149:$G$156,0),4)),0))),((IFERROR((OFFSET($G$163,MATCH(\"tertiary crusher\",$G$165:$G$172,0),4)),0))))","v":0}]
[null,"Throughput Limit (tons/yr):",null,null,"Pollutant","lb/hr","tons/yr",null,null,null,null,null,"Fines Crushing",{"$f":"MAX((IFERROR(OFFSET($G$20,MATCH(\"fines crushing\",$G$21:$G$28,0),1),0)),((IFERROR((OFFSET($G$36,MATCH(\"fines crushing\",$G$37:$G$44,0),1)),0))),((IFERROR((OFFSET($G$52,MATCH(\"fines crushing\",$G$53:$G$60,0),1)),0))),((IFERROR((OFFSET($G$68,MATCH(\"fines crushing\",$G$69:$G$76,0),1)),0))),((IFERROR((OFFSET($G$84,MATCH(\"fines crushing\",$G$85:$G$92,0),1)),0))),((IFERROR((OFFSET($G$100,MATCH(\"fines crushing\",$G$101:$G$108,0),1)),0))),((IFERROR((OFFSET($G$116,MATCH(\"fines crushing\",$G$117:$G$124,0),1)),0))),((IFERROR((OFFSET($G$132,MATCH(\"fines crushing\",$G$133:$G$140,0),1)),0))),((IFERROR((OFFSET($G$148,MATCH(\"fines crushing\",$G$149:$G$156,0),1)),0))),((IFERROR((OFFSET($G$163,MATCH(\"fines crushing\",$G$165:$G$172,0),1)),0))))","v":0},{"$f":"SUM((IFERROR(OFFSET($G$20,MATCH(\"fines crushing\",$G$21:$G$28,0),3),0)),((IFERROR((OFFSET($G$36,MATCH(\"fines crushing\",$G$37:$G$44,0),3)),0))),((IFERROR((OFFSET($G$52,MATCH(\"fines crushing\",$G$53:$G$60,0),3)),0))),((IFERROR((OFFSET($G$68,MATCH(\"fines crushing\",$G$69:$G$76,0),3)),0))),((IFERROR((OFFSET($G$84,MATCH(\"fines crushing\",$G$85:$G$92,0),3)),0))),((IFERROR((OFFSET($G$100,MATCH(\"fines crushing\",$G$101:$G$108,0),3)),0))),((IFERROR((OFFSET($G$116,MATCH(\"fines crushing\",$G$117:$G$124,0),3)),0))),((IFERROR((OFFSET($G$132,MATCH(\"fines crushing\",$G$133:$G$140,0),3)),0))),((IFERROR((OFFSET($G$148,MATCH(\"fines crushing\",$G$149:$G$156,0),3)),0))),((IFERROR((OFFSET($G$163,MATCH(\"fines crushing\",$G$165:$G$172,0),3)),0))))","v":0},null,null,null,{"$f":"SUM((IFERROR(OFFSET($G$20,MATCH(\"fines crushing\",$G$21:$G$28,0),4),0)),((IFERROR((OFFSET($G$36,MATCH(\"fines crushing\",$G$37:$G$44,0),4)),0))),((IFERROR((OFFSET($G$52,MATCH(\"fines crushing\",$G$53:$G$60,0),4)),0))),((IFERROR((OFFSET($G$68,MATCH(\"fines crushing\",$G$69:$G$76,0),4)),0))),((IFERROR((OFFSET($G$84,MATCH(\"fines crushing\",$G$85:$G$92,0),4)),0))),((IFERROR((OFFSET($G$100,MATCH(\"fines crushing\",$G$101:$G$108,0),4)),0))),((IFERROR((OFFSET($G$116,MATCH(\"fines crushing\",$G$117:$G$124,0),4)),0))),((IFERROR((OFFSET($G$132,MATCH(\"fines crushing\",$G$133:$G$140,0),4)),0))),((IFERROR((OFFSET($G$148,MATCH(\"fines crushing\",$G$149:$G$156,0),4)),0))),((IFERROR((OFFSET($G$163,MATCH(\"fines crushing\",$G$165:$G$172,0),4)),0))))","v":0}]
[null,"Daily Throughput Limit (tons/day):",null,null,"PM2.5",null,null,null,null,null,null,null,"Fines Screening",{"$f":"MAX((IFERROR(OFFSET($G$20,MATCH(\"fines screening\",$G$21:$G$28,0),1),0)),((IFERROR((OFFSET($G$36,MATCH(\"fines screening\",$G$37:$G$44,0),1)),0))),((IFERROR((OFFSET($G$52,MATCH(\"fines screening\",$G$53:$G$60,0),1)),0))),((IFERROR((OFFSET($G$68,MATCH(\"fines screening\",$G$69:$G$76,0),1)),0))),((IFERROR((OFFSET($G$84,MATCH(\"fines screening\",$G$85:$G$92,0),1)),0))),((IFERROR((OFFSET($G$100,MATCH(\"fines screening\",$G$101:$G$108,0),1)),0))),((IFERROR((OFFSET($G$116,MATCH(\"fines screening\",$G$117:$G$124,0),1)),0))),((IFERROR((OFFSET($G$132,MATCH(\"fines screening\",$G$133:$G$140,0),1)),0))),((IFERROR((OFFSET($G$148,MATCH(\"fines screening\",$G$149:$G$156,0),1)),0))),((IFERROR((OFFSET($G$163,MATCH(\"fines screening\",$G$165:$G$172,0),1)),0))))","v":0},{"$f":"SUM((IFERROR(OFFSET($G$20,MATCH(\"fines screening\",$G$21:$G$28,0),3),0)),((IFERROR((OFFSET($G$36,MATCH(\"fines screening\",$G$37:$G$44,0),3)),0))),((IFERROR((OFFSET($G$52,MATCH(\"fines screening\",$G$53:$G$60,0),3)),0))),((IFERROR((OFFSET($G$68,MATCH(\"fines screening\",$G$69:$G$76,0),3)),0))),((IFERROR((OFFSET($G$84,MATCH(\"fines screening\",$G$85:$G$92,0),3)),0))),((IFERROR((OFFSET($G$100,MATCH(\"fines screening\",$G$101:$G$108,0),3)),0))),((IFERROR((OFFSET($G$116,MATCH(\"fines screening\",$G$117:$G$124,0),3)),0))),((IFERROR((OFFSET($G$132,MATCH(\"fines screening\",$G$133:$G$140,0),3)),0))),((IFERROR((OFFSET($G$148,MATCH(\"fines screening\",$G$149:$G$156,0),3)),0))),((IFERROR((OFFSET($G$163,MATCH(\"fines screening\",$G$165:$G$172,0),3)),0))))","v":0},null,null,null,{"$f":"SUM((IFERROR(OFFSET($G$20,MATCH(\"fines screening\",$G$21:$G$28,0),4),0)),((IFERROR((OFFSET($G$36,MATCH(\"fines screening\",$G$37:$G$44,0),4)),0))),((IFERROR((OFFSET($G$52,MATCH(\"fines screening\",$G$53:$G$60,0),4)),0))),((IFERROR((OFFSET($G$68,MATCH(\"fines screening\",$G$69:$G$76,0),4)),0))),((IFERROR((OFFSET($G$84,MATCH(\"fines screening\",$G$85:$G$92,0),4)),0))),((IFERROR((OFFSET($G$100,MATCH(\"fines screening\",$G$101:$G$108,0),4)),0))),((IFERROR((OFFSET($G$116,MATCH(\"fines screening\",$G$117:$G$124,0),4)),0))),((IFERROR((OFFSET($G$132,MATCH(\"fines screening\",$G$133:$G$140,0),4)),0))),((IFERROR((OFFSET($G$148,MATCH(\"fines screening\",$G$149:$G$156,0),4)),0))),((IFERROR((OFFSET($G$163,MATCH(\"fines screening\",$G$165:$G$172,0),4)),0))))","v":0}]
[null,"Hours of Operation Limit (hours/day):",null,null,"PM10",null,null,null,null,null,null,null,"Wet Drilling: Unfragmented Stone",{"$f":"MAX((IFERROR(OFFSET($G$20,MATCH(\"wet drilling: unfragmented stone\",$G$21:$G$28,0),1),0)),((IFERROR((OFFSET($G$36,MATCH(\"wet drilling: unfragmented stone\",$G$37:$G$44,0),1)),0))),((IFERROR((OFFSET($G$52,MATCH(\"wet drilling: unfragmented stone\",$G$53:$G$60,0),1)),0))),((IFERROR((OFFSET($G$68,MATCH(\"wet drilling: unfragmented stone\",$G$69:$G$76,0),1)),0))),((IFERROR((OFFSET($G$84,MATCH(\"wet drilling: unfragmented stone\",$G$85:$G$92,0),1)),0))),((IFERROR((OFFSET($G$100,MATCH(\"wet drilling: unfragmented stone\",$G$101:$G$108,0),1)),0))),((IFERROR((OFFSET($G$116,MATCH(\"wet drilling: unfragmented stone\",$G$117:$G$124,0),1)),0))),((IFERROR((OFFSET($G$132,MATCH(\"wet drilling: unfragmented stone\",$G$133:$G$140,0),1)),0))),((IFERROR((OFFSET($G$148,MATCH(\"wet drilling: unfragmented stone\",$G$149:$G$156,0),1)),0))),((IFERROR((OFFSET($G$163,MATCH(\"wet drilling: unfragmented stone\",$G$165:$G$172,0),1)),0))))","v":0},{"$f":"SUM((IFERROR(OFFSET($G$20,MATCH(\"wet drilling: unfragmented stone\",$G$21:$G$28,0),3),0)),((IFERROR((OFFSET($G$36,MATCH(\"wet drilling: unfragmented stone\",$G$37:$G$44,0),3)),0))),((IFERROR((OFFSET($G$52,MATCH(\"wet drilling: unfragmented stone\",$G$53:$G$60,0),3)),0))),((IFERROR((OFFSET($G$68,MATCH(\"wet drilling: unfragmented stone\",$G$69:$G$76,0),3)),0))),((IFERROR((OFFSET($G$84,MATCH(\"wet drilling: unfragmented stone\",$G$85:$G$92,0),3)),0))),((IFERROR((OFFSET($G$100,MATCH(\"wet drilling: unfragmented stone\",$G$101:$G$108,0),3)),0))),((IFERROR((OFFSET($G$116,MATCH(\"wet drilling: unfragmented stone\",$G$117:$G$124,0),3)),0))),((IFERROR((OFFSET($G$132,MATCH(\"wet drilling: unfragmented stone\",$G$133:$G$140,0),3)),0))),((IFERROR((OFFSET($G$148,MATCH(\"wet drilling: unfragmented stone\",$G$149:$G$156,0),3)),0))),((IFERROR((OFFSET($G$163,MATCH(\"wet drilling: unfragmented stone\",$G$165:$G$172,0),3)),0))))","v":0},null,null,null,{"$f":"SUM((IFERROR(OFFSET($G$20,MATCH(\"wet drilling: unfragmented stone\",$G$21:$G$28,0),4),0)),((IFERROR((OFFSET($G$36,MATCH(\"wet drilling: unfragmented stone\",$G$37:$G$44,0),4)),0))),((IFERROR((OFFSET($G$52,MATCH(\"wet drilling: unfragmented stone\",$G$53:$G$60,0),4)),0))),((IFERROR((OFFSET($G$68,MATCH(\"wet drilling: unfragmented stone\",$G$69:$G$76,0),4)),0))),((IFERROR((OFFSET($G$84,MATCH(\"wet drilling: unfragmented stone\",$G$85:$G$92,0),4)),0))),((IFERROR((OFFSET($G$100,MATCH(\"wet drilling: unfragmented stone\",$G$101:$G$108,0),4)),0))),((IFERROR((OFFSET($G$116,MATCH(\"wet drilling: unfragmented stone\",$G$117:$G$124,0),4)),0))),((IFERROR((OFFSET($G$132,MATCH(\"wet drilling: unfragmented stone\",$G$133:$G$140,0),4)),0))),((IFERROR((OFFSET($G$148,MATCH(\"wet drilling: unfragmented stone\",$G$149:$G$156,0),4)),0))),((IFERROR((OFFSET($G$163,MATCH(\"wet drilling: unfragmented stone\",$G$165:$G$172,0),4)),0))))","v":0}]
[null,"Note: if the plant has a hours/day and a tons/hr permit limit, those values should be multiplied together to calculate a tons/day limit and that value should be placed in cell C10.",null,null,"SO2",null,null,null,null,null,null,null,"Conveyor Transfer Points",{"$f":"MAX((IFERROR(OFFSET($G$20,MATCH(\"conveyor transfer points\",$G$21:$G$28,0),1),0)),((IFERROR((OFFSET($G$36,MATCH(\"conveyor transfer points\",$G$37:$G$44,0),1)),0))),((IFERROR((OFFSET($G$52,MATCH(\"conveyor transfer points\",$G$53:$G$60,0),1)),0))),((IFERROR((OFFSET($G$68,MATCH(\"conveyor transfer points\",$G$69:$G$76,0),1)),0))),((IFERROR((OFFSET($G$84,MATCH(\"conveyor transfer points\",$G$85:$G$92,0),1)),0))),((IFERROR((OFFSET($G$100,MATCH(\"conveyor transfer points\",$G$101:$G$108,0),1)),0))),((IFERROR((OFFSET($G$116,MATCH(\"conveyor transfer points\",$G$117:$G$124,0),1)),0))),((IFERROR((OFFSET($G$132,MATCH(\"conveyor transfer points\",$G$133:$G$140,0),1)),0))),((IFERROR((OFFSET($G$148,MATCH(\"conveyor transfer points\",$G$149:$G$156,0),1)),0))),((IFERROR((OFFSET($G$163,MATCH(\"conveyor transfer points\",$G$165:$G$172,0),1)),0))))","v":0},{"$f":"SUM((IFERROR(OFFSET($G$20,MATCH(\"conveyor transfer points\",$G$21:$G$28,0),3),0)),((IFERROR((OFFSET($G$36,MATCH(\"conveyor transfer points\",$G$37:$G$44,0),3)),0))),((IFERROR((OFFSET($G$52,MATCH(\"conveyor transfer points\",$G$53:$G$60,0),3)),0))),((IFERROR((OFFSET($G$68,MATCH(\"conveyor transfer points\",$G$69:$G$76,0),3)),0))),((IFERROR((OFFSET($G$84,MATCH(\"conveyor transfer points\",$G$85:$G$92,0),3)),0))),((IFERROR((OFFSET($G$100,MATCH(\"conveyor transfer points\",$G$101:$G$108,0),3)),0))),((IFERROR((OFFSET($G$116,MATCH(\"conveyor transfer points\",$G$117:$G$124,0),3)),0))),((IFERROR((OFFSET($G$132,MATCH(\"conveyor transfer points\",$G$133:$G$140,0),3)),0))),((IFERROR((OFFSET($G$148,MATCH(\"conveyor transfer points\",$G$149:$G$156,0),3)),0))),((IFERROR((OFFSET($G$163,MATCH(\"conveyor transfer points\",$G$165:$G$172,0),3)),0))))","v":0},null,null,null,{"$f":"SUM((IFERROR(OFFSET($G$20,MATCH(\"conveyor transfer points\",$G$21:$G$28,0),4),0)),((IFERROR((OFFSET($G$36,MATCH(\"conveyor transfer points\",$G$37:$G$44,0),4)),0))),((IFERROR((OFFSET($G$52,MATCH(\"conveyor transfer points\",$G$53:$G$60,0),4)),0))),((IFERROR((OFFSET($G$68,MATCH(\"conveyor transfer points\",$G$69:$G$76,0),4)),0))),((IFERROR((OFFSET($G$84,MATCH(\"conveyor transfer points\",$G$85:$G$92,0),4)),0))),((IFERROR((OFFSET($G$100,MATCH(\"conveyor transfer points\",$G$101:$G$108,0),4)),0))),((IFERROR((OFFSET($G$116,MATCH(\"conveyor transfer points\",$G$117:$G$124,0),4)),0))),((IFERROR((OFFSET($G$132,MATCH(\"conveyor transfer points\",$G$133:$G$140,0),4)),0))),((IFERROR((OFFSET($G$148,MATCH(\"conveyor transfer points\",$G$149:$G$156,0),4)),0))),((IFERROR((OFFSET($G$163,MATCH(\"conveyor transfer points\",$G$165:$G$172,0),4)),0))))","v":0}]
[null,null,null,null,"NOx",null,null,null,null,null,null,null,null,"Maximum (acres/day)","Actual (acres-day/yr)"]
[null,null,null,null,"VOC",null,null,null,null,null,null,null,"Storage Pile",{"$f":"SUM(G32,G48,G64,G80,G96,G112,G128,G144,G160,G176)","v":0},{"$f":"SUM(H32*I32,H48*I48,H64*I64,H80*I80,H96*I96,H112*I112,H128*I128,H144*I144,H160*I160,H176*I176)","v":0}]
[null,null,null,null,"CO"]
[]
[null,null,null,null,null,null,null,null,null,null,null,null,"Actual Emissions for the Listed Processes at this Plant"]
[null,null,null,null,null,null,null,null,null,null,null,null,null,"Maximum Design Rate (tons/hr)","Emission Factor (lb/ton)","Potential Uncontrolled Emissions (lb/hr)","Potential Controlled Emissions (lb/hr)","Potential Annual Emissions (tons/yr)","Actual Annual Emissions (tons/yr)"]
[null,"CRUSHER PLANT","Site 1",null,"Emission Point #","Emission    Unit #","Processes","Combined Maximum Hourly Design Rate for all Like Processes (tons/hr)",{"$f":"('Facility Information'!G5&\" Annual Throughput (tons)\")","v":" Annual Throughput (tons)"},null,null,null,"PM2.5"]
[null,null,null,null,null,null,null,null,null,"no wet supress","wet supress",null,"Primary Crusher",{"$f":"N5","v":0},{"$f":"IF(N20=0,0,IF(OR($C$24=\"no\",$C$40=\"no\",$C$56=\"no\",$C$72=\"no\",$C$88=\"no\",$C$104=\"no\",$C$120=\"no\",$C$136=\"no\",$C$152=\"no\",$C$168=\"no\"),'Emission Factors'!D8,'Emission Factors'!D20))","v":0},{"$f":"IF(OR($C$24=\"no\",$C$40=\"no\",$C$56=\"no\",$C$72=\"no\",$C$88=\"no\",$C$104=\"no\",$C$120=\"no\",$C$136=\"no\",$C$152=\"no\",$C$168=\"no\"),N20*O20,\"\")","v":""},{"$f":"IF($F$10>0,$F$10,IF(OR($C$24=\"no\",$C$40=\"no\",$C$56=\"no\",$C$72=\"no\",$C$88=\"no\",$C$104=\"no\",$C$120=\"no\",$C$136=\"no\",$C$152=\"no\",$C$168=\"no\"),\"\",N20*O20))","v":0},{"$f":"IF($G$10>0,$G$10,IF($C$9>0,$C$9*O20/2000,IF($C$10>0,$C$10*365*O20/2000,IF($C$11>0,$C$11*365*O20*N20/2000,IF(Q20=\"\",P20*8760/2000,Q20*8760/2000)))))","v":0},{"$f":"(O5*'Emission Factors'!D8/2000)+('Emission Factors'!D20*S5/2000)","v":0}]
["YES","Site Name:",null,null,{"$f":"IF(G21=\"\",\"\",\"LP-3 EP-1\")","v":""},{"$f":"IF(G21=\"\",\"\",IF(G21=\"primary crusher\",\"LP-3 EU-1\",IF(G21=\"screening\",\"LP-3 EU-2\",IF(G21=\"secondary crusher\",\"LP-3 EU-3\",IF(G21=\"tertiary crusher\",\"LP-3 EU-4\",IF(G21=\"fines crushing\",\"LP-3 EU-5\",IF(G21=\"fines screening\",\"LP-3 EU-6\",IF(G21=\"wet drilling: unfragmented stone\",\"LP-3 EU-7\",IF(G21=\"conveyor transfer points\",\"LP-3 EU-8\")))))))))","v":""},null,null,null,{"$f":"IF($C24=\"no\",I21,0)","v":0},{"$f":"IF($C$24=\"yes\",I21,0)","v":0},null,"Screening",0,{"$f":"IF(N21=0,0,IF(OR($C$24=\"no\",$C$40=\"no\",$C$56=\"no\",$C$72=\"no\",$C$88=\"no\",$C$104=\"no\",$C$120=\"no\",$C$136=\"no\",$C$152=\"no\",$C$168=\"no\"),'Emission Factors'!D9,'Emission Factors'!D21))","v":0},"",0,{"$f":"IF($G$10>0,\"\",IF($C$9>0,$C$9*O21/2000,IF($C$10>0,$C$10*365*O21/2000,IF($C$11>0,$C$11*365*O21*N21/2000,IF(Q21=\"\",P21*8760/2000,Q21*8760/2000)))))","v":0},{"$f":"(O6*'Emission Factors'!D9/2000)+('Emission Factors'!D21*S6/2000)","v":0}]
["NO","County:",null,null,{"$f":"IF(G22=\"\",\"\",\"LP-3 EP-1\")","v":""},{"$f":"IF(G22=\"\",\"\",IF(G22=\"primary crusher\",\"LP-3 EU-1\",IF(G22=\"screening\",\"LP-3 EU-2\",IF(G22=\"secondary crusher\",\"LP-3 EU-3\",IF(G22=\"tertiary crusher\",\"LP-3 EU-4\",IF(G22=\"fines crushing\",\"LP-3 EU-5\",IF(G22=\"fines screening\",\"LP-3 EU-6\",IF(G22=\"wet drilling: unfragmented stone\",\"LP-3 EU-7\",IF(G22=\"conveyor transfer points\",\"LP-3 EU-8\")))))))))","v":""},null,null,null,{"$f":"IF($C$24=\"no\",I22,0)","v":0},0,null,"Secondary Crusher",0,{"$f":"IF(N22=0,0,IF(OR($C$24=\"no\",$C$40=\"no\",$C$56=\"no\",$C$72=\"no\",$C$88=\"no\",$C$104=\"no\",$C$120=\"no\",$C$136=\"no\",$C$152=\"no\",$C$168=\"no\"),'Emission Factors'!D10,'Emission Factors'!D22))","v":0},"",0,0,{"$f":"(O7*'Emission Factors'!D10/2000)+('Emission Factors'!D22*S7/2000)","v":0}]
[null,"Crushing Period (Dates):",null,null,"","",null,null,null,0,0,null,"Tertiary Crusher",0,{"$f":"IF(N23=0,0,IF(OR(C24=\"no\",C40=\"no\",C56=\"no\",C72=\"no\",C88=\"no\",C104=\"no\",C120=\"no\",C136=\"no\",C152=\"no\",C168=\"no\"),'Emission Factors'!D12,'Emission Factors'!D24))","v":0},"",0,0,{"$f":"(O8*'Emission Factors'!D12/2000)+('Emission Factors'!D24*S8/2000)","v":0}]
["Primary Crusher","Controlled with Dust Suppressant or Material Being Processed has Moisture Content > 1.5%?",null,null,"","",null,null,null,0,0,null,"Fines Crushing",0,{"$f":"IF(N24=0,0,IF(OR(C24=\"no\",C40=\"no\",C56=\"no\",C72=\"no\",C88=\"no\",C104=\"no\",C120=\"no\",C136=\"no\",C152=\"no\",C168=\"no\"),'Emission Factors'!D6,'Emission Factors'!D18))","v":0},"",0,0,{"$f":"(O9*'Emission Factors'!D6/2000)+('Emission Factors'!D18*S9/2000)","v":0}]
["Screening",null,null,null,"","",null,null,null,0,0,null,"Fines Screening",0,{"$f":"IF(N25=0,0,IF(OR($C$24=\"no\",$C$40=\"no\",$C$56=\"no\",$C$72=\"no\",$C$88=\"no\",$C$104=\"no\",$C$120=\"no\",$C$136=\"no\",$C$152=\"no\",$C$168=\"no\"),'Emission Factors'!D7,'Emission Factors'!D19))","v":0},"",0,0,{"$f":"(O10*'Emission Factors'!D7/2000)+('Emission Factors'!D19*S10/2000)","v":0}]
["Secondary Crusher",null,null,null,"","",null,null,null,0,0,null,"Wet Drilling: Unfragmented Stone",0,{"$f":"IF(N26=0,0,IF(OR(C24=\"no\",C40=\"no\",C56=\"no\",C72=\"no\",C88=\"no\",C104=\"no\",C120=\"no\",C136=\"no\",C152=\"no\",C168=\"no\"),'Emission Factors'!D13,'Emission Factors'!D25))","v":0},"",0,0,{"$f":"(O11*'Emission Factors'!D13/2000)+('Emission Factors'!D25*S11/2000)","v":0}]
["Tertiary Crusher",null,null,null,"","",null,null,null,0,0,null,"Conveyor Transfer Points",0,{"$f":"IF(N27=0,0,IF(OR(C24=\"no\",C40=\"no\",C56=\"no\",C72=\"no\",C88=\"no\",C104=\"no\",C120=\"no\",C136=\"no\",C152=\"no\",C168=\"no\"),'Emission Factors'!D5,'Emission Factors'!D17))","v":0},"",0,0,{"$f":"(O12*'Emission Factors'!D5/2000)+('Emission Factors'!D17*S12/2000)","v":0}]
["Fines Crushing",null,null,null,"","",null,null,null,0,0,null,"PM10"]
["Fines Screening",null,null,null,null,null,null,null,null,null,null,null,"Primary Crusher",{"$f":"N5","v":0},{"$f":"IF(N29=0,0,IF(OR($C$24=\"no\",$C$40=\"no\",$C$56=\"no\",$C$72=\"no\",$C$88=\"no\",$C$104=\"no\",$C$120=\"no\",$C$136=\"no\",$C$152=\"no\",$C$168=\"no\"),'Emission Factors'!F8,'Emission Factors'!F20))","v":0},{"$f":"IF(OR($C$24=\"no\",$C$40=\"no\",$C$56=\"no\",$C$72=\"no\",$C$88=\"no\",$C$104=\"no\",$C$120=\"no\",$C$136=\"no\",$C$152=\"no\",$C$168=\"no\"),N29*O29,\"\")","v":""},{"$f":"IF($F$11>0,$F$11,IF(OR($C$24=\"no\",$C$40=\"no\",$C$56=\"no\",$C$72=\"no\",$C$88=\"no\",$C$104=\"no\",$C$120=\"no\",$C$136=\"no\",$C$152=\"no\",$C$168=\"no\"),\"\",N29*O29))","v":0},{"$f":"IF($G$11>0,$G$11,IF($C$9>0,$C$9*O29/2000,IF($C$10>0,$C$10*365*O29/2000,IF($C$11>0,$C$11*365*O29*N29/2000,IF(Q29=\"\",P29*8760/2000,Q29*8760/2000)))))","v":0},{"$f":"(O5*'Emission Factors'!F8/2000)+('Emission Factors'!F20*S5/2000)","v":0}]
["Wet Drilling: Unfragmented Stone",null,null,null,"Stock Pile Area",null,null,null,null,null,null,null,"Screening",{"$f":"N6","v":0},{"$f":"IF(N30=0,0,IF(OR($C$24=\"no\",$C$40=\"no\",$C$56=\"no\",$C$72=\"no\",$C$88=\"no\",$C$104=\"no\",$C$120=\"no\",$C$136=\"no\",$C$152=\"no\",$C$168=\"no\"),'Emission Factors'!F9,'Emission Factors'!F21))","v":0},"",0,{"$f":"IF($G$11>0,\"\",IF($C$9>0,$C$9*O30/2000,IF($C$10>0,$C$10*365*O30/2000,IF($C$11>0,$C$11*365*O30*N30/2000,IF(Q30=\"\",P30*8760/2000,Q30*8760/2000)))))","v":0},{"$f":"(O6*'Emission Factors'!F9/2000)+('Emission Factors'!F21*S6/2000)","v":0}]
["Conveyor Transfer Points",null,null,null,null,"Emission Unit #","Maximum Storage Area (acres)","Actual Storage Area (acres)","Actual Days in Existence (days)",null,null,null,"Secondary Crusher",0,{"$f":"IF(N31=0,0,IF(OR($C$24=\"no\",$C$40=\"no\",$C$56=\"no\",$C$72=\"no\",$C$88=\"no\",$C$104=\"no\",$C$120=\"no\",$C$136=\"no\",$C$152=\"no\",$C$168=\"no\"),'Emission Factors'!F10,'Emission Factors'!F22))","v":0},"",0,0,{"$f":"(O7*'Emission Factors'!F10/2000)+('Emission Factors'!F22*S7/2000)","v":0}]
[null,null,null,null,null,null,null,null,null,null,null,null,"Tertiary Crusher",0,{"$f":"IF(N32=0,0,IF(OR(C24=\"no\",C40=\"no\",C56=\"no\",C72=\"no\",C88=\"no\",C104=\"no\",C120=\"no\",C136=\"no\",C152=\"no\",C168=\"no\"),'Emission Factors'!F12,'Emission Factors'!F24))","v":0},"",0,0,{"$f":"(O8*'Emission Factors'!F12/2000)+('Emission Factors'!F24*S8/2000)","v":0}]
[null,null,null,null,null,null,null,null,null,null,null,null,"Fines Crushing",0,{"$f":"IF(N33=0,0,IF(OR(C24=\"no\",C40=\"no\",C56=\"no\",C72=\"no\",C88=\"no\",C104=\"no\",C120=\"no\",C136=\"no\",C152=\"no\",C168=\"no\"),'Emission Factors'!F6,'Emission Factors'!F18))","v":0},"",0,0,{"$f":"(O9*'Emission Factors'!F6/2000)+('Emission Factors'!F18*S9/2000)","v":0}]
[{"$f":"C21","v":0},null,null,null,null,null,null,null,null,null,null,null,"Fines Screening",0,{"$f":"IF(N34=0,0,IF(OR(C24=\"no\",C40=\"no\",C56=\"no\",C72=\"no\",C88=\"no\",C104=\"no\",C120=\"no\",C136=\"no\",C152=\"no\",C168=\"no\"),'Emission Factors'!F7,'Emission Factors'!F19))","v":0},"",0,0,{"$f":"(O10*'Emission Factors'!F7/2000)+('Emission Factors'!F19*S10/2000)","v":0}]
[{"$f":"C37","v":0},{"$f":"IF('Limestone Plant (LP-3)'!$D$4>1,\"CRUSHER PLANT\",\"\")","v":""},{"$f":"IF('Limestone Plant (LP-3)'!$D$4>1,\"Site 2\",\"\")","v":""},null,{"$f":"IF('Limestone Plant (LP-3)'!$D$4>1,\"Emission Point #\",\"\")","v":""},{"$f":"IF('Limestone Plant (LP-3)'!$D$4>1,\"Emission    Unit #\",\"\")","v":""},{"$f":"IF('Limestone Plant (LP-3)'!$D$4>1,\"Processes\",\"\")","v":""},{"$f":"IF('Limestone Plant (LP-3)'!$D$4>1,\"Combined Maximum Hourly Design Rate for all Like Processes (tons/hr)\",\"\")","v":""},{"$f":"IF('Limestone Plant (LP-3)'!$D$4>1,('Facility Information'!G5&\" Annual Throughput (tons)\"),\"\")","v":""},null,null,null,"Wet Drilling: Unfragmented Stone",0,{"$f":"IF(N35=0,0,IF(OR(C24=\"no\",C40=\"no\",C56=\"no\",C72=\"no\",C88=\"no\",C104=\"no\",C120=\"no\",C136=\"no\",C152=\"no\",C168=\"no\"),'Emission Factors'!F13,'Emission Factors'!F25))","v":0},"",0,0,{"$f":"(O11*'Emission Factors'!F13/2000)+('Emission Factors'!F25*S11/2000)","v":0}]
[{"$f":"C53","v":0},null,null,null,null,null,null,null,null,null,null,null,"Conveyor Transfer Points",0,{"$f":"IF(N36=0,0,IF(OR(C24=\"no\",C40=\"no\",C56=\"no\",C72=\"no\",C88=\"no\",C104=\"no\",C120=\"no\",C136=\"no\",C152=\"no\",C168=\"no\"),'Emission Factors'!F5,'Emission Factors'!F17))","v":0},"",0,0,{"$f":"(O12*'Emission Factors'!F5/2000)+('Emission Factors'!F17*S12/2000)","v":0}]
[{"$f":"C69","v":0},{"$f":"IF('Limestone Plant (LP-3)'!$D$4>1,\"Site Name:\",\"\")","v":""},null,null,{"$f":"IF(G37=\"\",\"\",\"LP-3 EP-1\")","v":""},{"$f":"IF(G37=\"\",\"\",IF(G37=\"primary crusher\",\"LP-3 EU-1\",IF(G37=\"screening\",\"LP-3 EU-2\",IF(G37=\"secondary crusher\",\"LP-3 EU-3\",IF(G37=\"tertiary crusher\",\"LP-3 EU-4\",IF(G37=\"fines crushing\",\"LP-3 EU-5\",IF(G37=\"fines screening\",\"LP-3 EU-6\",IF(G37=\"wet drilling: unfragmented stone\",\"LP-3 EU-7\",IF(G37=\"conveyor transfer points\",\"LP-3 EU-8\")))))))))","v":""},null,null,null,{"$f":"IF($C$40=\"no\",I37,0)","v":0},{"$f":"IF($C$40=\"yes\",I37,0)","v":0}]
[{"$f":"C85","v":0},{"$f":"IF('Limestone Plant (LP-3)'!$D$4>1,\"County:\",\"\")","v":""},null,null,{"$f":"IF(G38=\"\",\"\",\"LP-3 EP-1\")","v":""},{"$f":"IF(G38=\"\",\"\",IF(G38=\"primary crusher\",\"LP-3 EU-1\",IF(G38=\"screening\",\"LP-3 EU-2\",IF(G38=\"secondary crusher\",\"LP-3 EU-3\",IF(G38=\"tertiary crusher\",\"LP-3 EU-4\",IF(G38=\"fines crushing\",\"LP-3 EU-5\",IF(G38=\"fines screening\",\"LP-3 EU-6\",IF(G38=\"wet drilling: unfragmented stone\",\"LP-3 EU-7\",IF(G38=\"conveyor transfer points\",\"LP-3 EU-8\")))))))))","v":""},null,null,null,{"$f":"IF($C$40=\"no\",I38,0)","v":0},{"$f":"IF($C$40=\"yes\",I38,0)","v":0},null,null,"Max Design Rate (acres/day)","Emission Factor   (lb/acre-day)","Potential Uncontrolled Emissions (lb/hr)","Potential Controlled Emissions (lb/hr)","Potential Annual Emissions (tons/yr)","Actual Annual Emissions (tons/yr)"]
[{"$f":"C101","v":0},{"$f":"IF('Limestone Plant (LP-3)'!$D$4>1,\"Crushing Period (Dates):\",\"\")","v":""},null,null,"","",null,null,null,0,0,null,"Storage Pile"]
[{"$f":"C117","v":0},{"$f":"IF('Limestone Plant (LP-3)'!$D$4>1,\"Controlled with Dust Suppressant or Material Being Processed has Moisture Content > 1.5%?\",\"\")","v":""},null,null,"","",null,null,null,0,0,null,"PM2.5/PM10",{"$f":"N14","v":0},3.64,{"$f":"N40*O40*(1/24)","v":0},null,{"$f":"N40*O40*365/2000","v":0},{"$f":"O14*O40/2000","v":0}]
[{"$f":"C133","v":0},null,null,null,"","",null,null,null,0,0]
[{"$f":"C149","v":0},null,null,null,"","",null,null,null,0,0]
[{"$f":"C165","v":0},null,null,null,"","",null,null,null,0,0]
[null,null,null,null,"","",null,null,null,0,0]
[]
[null,null,null,null,{"$f":"IF('Limestone Plant (LP-3)'!$D$4>1,\"Stock Pile Area\",\"\")","v":""}]
[null,null,null,null,null,{"$f":"IF('Limestone Plant (LP-3)'!$D$4>1,\"Emission Unit #\",\"\")","v":""},{"$f":"IF('Limestone Plant (LP-3)'!$D$4>1,\"Maximum Storage Area (acres)\",\"\")","v":""},{"$f":"IF('Limestone Plant (LP-3)'!$D$4>1,\"Actual Storage Area (acres)\",\"\")","v":""},{"$f":"IF('Limestone Plant (LP-3)'!$D$4>1,\"Actual Days in Existence (days)\",\"\")","v":""}]
[]
[]
[]
[null,{"$f":"IF('Limestone Plant (LP-3)'!$D$4>2,\"CRUSHER PLANT\",\"\")","v":""},{"$f":"IF('Limestone Plant (LP-3)'!$D$4>2,\"Site 3\",\"\")","v":""},null,{"$f":"IF('Limestone Plant (LP-3)'!$D$4>2,\"Emission Point #\",\"\")","v":""},{"$f":"IF('Limestone Plant (LP-3)'!$D$4>2,\"Emission    Unit #\",\"\")","v":""},{"$f":"IF('Limestone Plant (LP-3)'!$D$4>2,\"Processes\",\"\")","v":""},{"$f":"IF('Limestone Plant (LP-3)'!$D$4>2,\"Combined Maximum Hourly Design Rate for all Like Processes (tons/hr)\",\"\")","v":""},{"$f":"IF('Limestone Plant (LP-3)'!$D$4>2,('Facility Information'!G5&\" Annual Throughput (tons)\"),\"\")","v":""}]
[]
[null,{"$f":"IF('Limestone Plant (LP-3)'!$D$4>2,\"Site Name:\",\"\")","v":""},null,null,{"$f":"IF(G53=\"\",\"\",\"LP-3 EP-1\")","v":""},{"$f":"IF(G53=\"\",\"\",IF(G53=\"primary crusher\",\"LP-3 EU-1\",IF(G53=\"screening\",\"LP-3 EU-2\",IF(G53=\"secondary crusher\",\"LP-3 EU-3\",IF(G53=\"tertiary crusher\",\"LP-3 EU-4\",IF(G53=\"fines crushing\",\"LP-3 EU-5\",IF(G53=\"fines screening\",\"LP-3 EU-6\",IF(G53=\"wet drilling: unfragmented stone\",\"LP-3 EU-7\",IF(G53=\"conveyor transfer points\",\"LP-3 EU-8\")))))))))","v":""},null,null,null,{"$f":"IF($C$56=\"no\",I53,0)","v":0},{"$f":"IF($C$56=\"yes\",I53,0)","v":0}]
[null,{"$f":"IF('Limestone Plant (LP-3)'!$D$4>2,\"County:\",\"\")","v":""},null,null,{"$f":"IF(G54=\"\",\"\",\"LP-3 EP-1\")","v":""},{"$f":"IF(G54=\"\",\"\",IF(G54=\"primary crusher\",\"LP-3 EU-1\",IF(G54=\"screening\",\"LP-3 EU-2\",IF(G54=\"secondary crusher\",\"LP-3 EU-3\",IF(G54=\"tertiary crusher\",\"LP-3 EU-4\",IF(G54=\"fines crushing\",\"LP-3 EU-5\",IF(G54=\"fines screening\",\"LP-3 EU-6\",IF(G54=\"wet drilling: unfragmented stone\",\"LP-3 EU-7\",IF(G54=\"conveyor transfer points\",\"LP-3 EU-8\")))))))))","v":""},null,null,null,{"$f":"IF($C$56=\"no\",I54,0)","v":0},{"$f":"IF($C$56=\"yes\",I54,0)","v":0}]
[null,{"$f":"IF('Limestone Plant (LP-3)'!$D$4>2,\"Crushing Period (Dates):\",\"\")","v":""},null,null,"","",null,null,null,0,0]
[null,{"$f":"IF('Limestone Plant (LP-3)'!$D$4>2,\"Controlled with Dust Suppressant or Material Being Processed has Moisture Content > 1.5%?\",\"\")","v":""},null,null,"","",null,null,null,0,0]
[null,null,null,null,"","",null,null,null,0,0]
[null,null,null,null,"","",null,null,null,0,0]
[null,null,null,null,"","",null,null,null,0,0]
[null,null,null,null,"","",null,null,null,0,0]
[]
[null,null,null,null,{"$f":"IF('Limestone Plant (LP-3)'!$D$4>2,\"Stock Pile Area\",\"\")","v":""}]
[null,null,null,null,null,{"$f":"IF('Limestone Plant (LP-3)'!$D$4>2,\"Emission Unit #\",\"\")","v":""},{"$f":"IF('Limestone Plant (LP-3)'!$D$4>2,\"Maximum Storage Area (acres)\",\"\")","v":""},{"$f":"IF('Limestone Plant (LP-3)'!$D$4>2,\"Actual Storage Area (acres)\",\"\")","v":""},{"$f":"IF('Limestone Plant (LP-3)'!$D$4>2,\"Actual Days in Existence (days)\",\"\")","v":""}]
[]
[]
[]
[null,{"$f":"IF('Limestone Plant (LP-3)'!$D$4>3,\"CRUSHER PLANT\",\"\")","v":""},{"$f":"IF('Limestone Plant (LP-3)'!$D$4>3,\"Site 4\",\"\")","v":""},null,{"$f":"IF('Limestone Plant (LP-3)'!$D$4>3,\"Emission Point #\",\"\")","v":""},{"$f":"IF('Limestone Plant (LP-3)'!$D$4>3,\"Emission    Unit #\",\"\")","v":""},{"$f":"IF('Limestone Plant (LP-3)'!$D$4>3,\"Processes\",\"\")","v":""},{"$f":"IF('Limestone Plant (LP-3)'!$D$4>3,\"Combined Maximum Hourly Design Rate for all Like Processes (tons/hr)\",\"\")","v":""},{"$f":"IF('Limestone Plant (LP-3)'!$D$4>3,('Facility Information'!G5&\" Annual Throughput (tons)\"),\"\")","v":""}]
[]
[null,{"$f":"IF('Limestone Plant (LP-3)'!$D$4>3,\"Site Name:\",\"\")","v":""},null,null,{"$f":"IF(G69=\"\",\"\",\"LP-3 EP-1\")","v":""},{"$f":"IF(G69=\"\",\"\",IF(G69=\"primary crusher\",\"LP-3 EU-1\",IF(G69=\"screening\",\"LP-3 EU-2\",IF(G69=\"secondary crusher\",\"LP-3 EU-3\",IF(G69=\"tertiary crusher\",\"LP-3 EU-4\",IF(G69=\"fines crushing\",\"LP-3 EU-5\",IF(G69=\"fines screening\",\"LP-3 EU-6\",IF(G69=\"wet drilling: unfragmented stone\",\"LP-3 EU-7\",IF(G69=\"conveyor transfer points\",\"LP-3 EU-8\")))))))))","v":""},null,null,null,{"$f":"IF($C$72=\"no\",I69,0)","v":0},{"$f":"IF($C$72=\"yes\",I69,0)","v":0}]
[null,{"$f":"IF('Limestone Plant (LP-3)'!$D$4>3,\"County:\",\"\")","v":""},null,null,{"$f":"IF(G70=\"\",\"\",\"LP-3 EP-1\")","v":""},{"$f":"IF(G70=\"\",\"\",IF(G70=\"primary crusher\",\"LP-3 EU-1\",IF(G70=\"screening\",\"LP-3 EU-2\",IF(G70=\"secondary crusher\",\"LP-3 EU-3\",IF(G70=\"tertiary crusher\",\"LP-3 EU-4\",IF(G70=\"fines crushing\",\"LP-3 EU-5\",IF(G70=\"fines screening\",\"LP-3 EU-6\",IF(G70=\"wet drilling: unfragmented stone\",\"LP-3 EU-7\",IF(G70=\"conveyor transfer points\",\"LP-3 EU-8\")))))))))","v":""},null,null,null,{"$f":"IF($C$72=\"no\",I70,0)","v":0},{"$f":"IF($C$72=\"yes\",I70,0)","v":0}]
[null,{"$f":"IF('Limestone Plant (LP-3)'!$D$4>3,\"Crushing Period (Dates):\",\"\")","v":""},null,null,"","",null,null,null,0,0]
[null,{"$f":"IF('Limestone Plant (LP-3)'!$D$4>3,\"Controlled with Dust Suppressant or Material Being Processed has Moisture Content > 1.5%?\",\"\")","v":""},null,null,"","",null,null,null,0,0]
[null,null,null,null,"","",null,null,null,0,0]
[null,null,null,null,"","",null,null,null,0,0]
[null,null,null,null,"","",null,null,null,0,0]
[null,null,null,null,{"$f":"IF(G76=\"\",\"\",\"LP-3 EP-1\")","v":""},"",null,null,null,0,0]
[]
[null,null,null,null,{"$f":"IF('Limestone Plant (LP-3)'!$D$4>3,\"Stock Pile Area\",\"\")","v":""}]
[null,null,null,null,null,{"$f":"IF('Limestone Plant (LP-3)'!$D$4>3,\"Emission Unit #\",\"\")","v":""},{"$f":"IF('Limestone Plant (LP-3)'!$D$4>3,\"Maximum Storage Area (acres)\",\"\")","v":""},{"$f":"IF('Limestone Plant (LP-3)'!$D$4>3,\"Actual Storage Area (acres)\",\"\")","v":""},{"$f":"IF('Limestone Plant (LP-3)'!$D$4>3,\"Actual Days in Existence (days)\",\"\")","v":""}]
[]
[]
[]
[null,{"$f":"IF('Limestone Plant (LP-3)'!$D$4>4,\"CRUSHER PLANT\",\"\")","v":""},{"$f":"IF('Limestone Plant (LP-3)'!$D$4>4,\"Site 5\",\"\")","v":""},null,{"$f":"IF('Limestone Plant (LP-3)'!$D$4>4,\"Emission Point #\",\"\")","v":""},{"$f":"IF('Limestone Plant (LP-3)'!$D$4>4,\"Emission   Unit #\",\"\")","v":""},{"$f":"IF('Limestone Plant (LP-3)'!$D$4>4,\"Processes\",\"\")","v":""},{"$f":"IF('Limestone Plant (LP-3)'!$D$4>4,\"Combined Maximum Hourly Design Rate for all Like Processes (tons/hr)\",\"\")","v":""},{"$f":"IF('Limestone Plant (LP-3)'!$D$4>4,('Facility Information'!G5&\" Annual Throughput (tons)\"),\"\")","v":""}]
[]
[null,{"$f":"IF('Limestone Plant (LP-3)'!$D$4>4,\"Site Name:\",\"\")","v":""},null,null,{"$f":"IF(G85=\"\",\"\",\"LP-3 EP-1\")","v":""},{"$f":"IF(G85=\"\",\"\",IF(G85=\"primary crusher\",\"LP-3 EU-1\",IF(G85=\"screening\",\"LP-3 EU-2\",IF(G85=\"secondary crusher\",\"LP-3 EU-3\",IF(G85=\"tertiary crusher\",\"LP-3 EU-4\",IF(G85=\"fines crushing\",\"LP-3 EU-5\",IF(G85=\"fines screening\",\"LP-3 EU-6\",IF(G85=\"wet drilling: unfragmented stone\",\"LP-3 EU-7\",IF(G85=\"conveyor transfer points\",\"LP-3 EU-8\")))))))))","v":""},null,null,null,{"$f":"IF($C$88=\"no\",I85,0)","v":0},{"$f":"IF($C$88=\"yes\",I85,0)","v":0}]
[null,{"$f":"IF('Limestone Plant (LP-3)'!$D$4>4,\"County:\",\"\")","v":""},null,null,{"$f":"IF(G86=\"\",\"\",\"LP-3 EP-1\")","v":""},{"$f":"IF(G86=\"\",\"\",IF(G86=\"primary crusher\",\"LP-3 EU-1\",IF(G86=\"screening\",\"LP-3 EU-2\",IF(G86=\"secondary crusher\",\"LP-3 EU-3\",IF(G86=\"tertiary crusher\",\"LP-3 EU-4\",IF(G86=\"fines crushing\",\"LP-3 EU-5\",IF(G86=\"fines screening\",\"LP-3 EU-6\",IF(G86=\"wet drilling: unfragmented stone\",\"LP-3 EU-7\",IF(G86=\"conveyor transfer points\",\"LP-3 EU-8\")))))))))","v":""},null,null,null,{"$f":"IF($C$88=\"no\",I86,0)","v":0},{"$f":"IF($C$88=\"yes\",I86,0)","v":0}]
[null,{"$f":"IF('Limestone Plant (LP-3)'!$D$4>4,\"Crushing Period (Dates):\",\"\")","v":""},null,null,"","",null,null,null,0,0]
[null,{"$f":"IF('Limestone Plant (LP-3)'!$D$4>4,\"Controlled with Dust Suppressant or Material Being Processed has Moisture Content > 1.5%?\",\"\")","v":""},null,null,"","",null,null,null,0,0]
[null,null,null,null,"","",null,null,null,0,0]
[null,null,null,null,"","",null,null,null,0,0]
[null,null,null,null,"","",null,null,null,0,0]
[null,null,null,null,"","",null,null,null,0,0]
[]
[null,null,null,null,{"$f":"IF('Limestone Plant (LP-3)'!$D$4>4,\"Stock Pile Area\",\"\")","v":""}]
[null,null,null,null,null,{"$f":"IF('Limestone Plant (LP-3)'!$D$4>4,\"Emission Unit #\",\"\")","v":""},{"$f":"IF('Limestone Plant (LP-3)'!$D$4>4,\"Maximum Storage Area (acres)\",\"\")","v":""},{"$f":"IF('Limestone Plant (LP-3)'!$D$4>4,\"Actual Storage Area (acres)\",\"\")","v":""},{"$f":"IF('Limestone Plant (LP-3)'!$D$4>4,\"Actual Days in Existence (days)\",\"\")","v":""}]
[]
[]
[]
[null,{"$f":"IF('Limestone Plant (LP-3)'!$D$4>5,\"CRUSHER PLANT\",\"\")","v":""},{"$f":"IF('Limestone Plant (LP-3)'!$D$4>5,\"Site 6\",\"\")","v":""},null,{"$f":"IF('Limestone Plant (LP-3)'!$D$4>5,\"Emission Point #\",\"\")","v":""},{"$f":"IF('Limestone Plant (LP-3)'!$D$4>5,\"Emission    Unit #\",\"\")","v":""},{"$f":"IF('Limestone Plant (LP-3)'!$D$4>5,\"Processes\",\"\")","v":""},{"$f":"IF('Limestone Plant (LP-3)'!$D$4>5,\"Combined Maximum Hourly Design Rate for all Like Processes (tons/hr)\",\"\")","v":""},{"$f":"IF('Limestone Plant (LP-3)'!$D$4>5,('Facility Information'!G5&\" Annual Throughput (tons)\"),\"\")","v":""}]
[]
[null,{"$f":"IF('Limestone Plant (LP-3)'!$D$4>5,\"Site Name:\",\"\")","v":""},null,null,{"$f":"IF(G101=\"\",\"\",\"LP-3 EP-1\")","v":""},{"$f":"IF(G101=\"\",\"\",IF(G101=\"primary crusher\",\"LP-3 EU-1\",IF(G101=\"screening\",\"LP-3 EU-2\",IF(G101=\"secondary crusher\",\"LP-3 EU-3\",IF(G101=\"tertiary crusher\",\"LP-3 EU-4\",IF(G101=\"fines crushing\",\"LP-3 EU-5\",IF(G101=\"fines screening\",\"LP-3 EU-6\",IF(G101=\"wet drilling: unfragmented stone\",\"LP-3 EU-7\",IF(G101=\"conveyor transfer points\",\"LP-3 EU-8\")))))))))","v":""},null,null,null,{"$f":"IF($C$104=\"no\",I101,0)","v":0},{"$f":"IF($C$104=\"yes\",I101,0)","v":0}]
[null,{"$f":"IF('Limestone Plant (LP-3)'!$D$4>5,\"County:\",\"\")","v":""},null,null,{"$f":"IF(G102=\"\",\"\",\"LP-3 EP-1\")","v":""},{"$f":"IF(G102=\"\",\"\",IF(G102=\"primary crusher\",\"LP-3 EU-1\",IF(G102=\"screening\",\"LP-3 EU-2\",IF(G102=\"secondary crusher\",\"LP-3 EU-3\",IF(G102=\"tertiary crusher\",\"LP-3 EU-4\",IF(G102=\"fines crushing\",\"LP-3 EU-5\",IF(G102=\"fines screening\",\"LP-3 EU-6\",IF(G102=\"wet drilling: unfragmented stone\",\"LP-3 EU-7\",IF(G102=\"conveyor transfer points\",\"LP-3 EU-8\")))))))))","v":""},null,null,null,{"$f":"IF($C$104=\"no\",I102,0)","v":0},{"$f":"IF($C$104=\"yes\",I102,0)","v":0}]
[null,{"$f":"IF('Limestone Plant (LP-3)'!$D$4>5,\"Crushing Period (Dates):\",\"\")","v":""},null,null,"","",null,null,null,0,0]
[null,{"$f":"IF('Limestone Plant (LP-3)'!$D$4>5,\"Controlled with Dust Suppressant or Material Being Processed has Moisture Content > 1.5%?\",\"\")","v":""},null,null,"","",null,null,null,0,0]
[null,null,null,null,"","",null,null,null,0,0]
[null,null,null,null,"","",null,null,null,0,0]
[null,null,null,null,"","",null,null,null,0,0]
[null,null,null,null,"","",null,null,null,0,0]
[]
[null,null,null,null,{"$f":"IF('Limestone Plant (LP-3)'!$D$4>5,\"Stock Pile Area\",\"\")","v":""}]
[null,null,null,null,null,{"$f":"IF('Limestone Plant (LP-3)'!$D$4>5,\"Emission Unit #\",\"\")","v":""},{"$f":"IF('Limestone Plant (LP-3)'!$D$4>5,\"Maximum Storage Area (acres)\",\"\")","v":""},{"$f":"IF('Limestone Plant (LP-3)'!$D$4>5,\"Actual Storage Area (acres)\",\"\")","v":""},{"$f":"IF('Limestone Plant (LP-3)'!$D$4>5,\"Actual Days in Existence (days)\",\"\")","v":""}]
[]
[]
[]
[null,{"$f":"IF('Limestone Plant (LP-3)'!$D$4>6,\"CRUSHER PLANT\",\"\")","v":""},{"$f":"IF('Limestone Plant (LP-3)'!$D$4>6,\"Site 7\",\"\")","v":""},null,{"$f":"IF('Limestone Plant (LP-3)'!$D$4>6,\"Emission Point #\",\"\")","v":""},{"$f":"IF('Limestone Plant (LP-3)'!$D$4>6,\"Emission    Unit #\",\"\")","v":""},{"$f":"IF('Limestone Plant (LP-3)'!$D$4>6,\"Processes\",\"\")","v":""},{"$f":"IF('Limestone Plant (LP-3)'!$D$4>6,\"Combined Maximum Hourly Design Rate for all Like Processes (tons/hr)\",\"\")","v":""},{"$f":"IF('Limestone Plant (LP-3)'!$D$4>6,('Facility Information'!G5&\" Annual Throughput (tons)\"),\"\")","v":""}]
[]
[null,{"$f":"IF('Limestone Plant (LP-3)'!$D$4>6,\"Site Name:\",\"\")","v":""},null,null,{"$f":"IF(G117=\"\",\"\",\"LP-3 EP-1\")","v":""},{"$f":"IF(G117=\"\",\"\",IF(G117=\"primary crusher\",\"LP-3 EU-1\",IF(G117=\"screening\",\"LP-3 EU-2\",IF(G117=\"secondary crusher\",\"LP-3 EU-3\",IF(G117=\"tertiary crusher\",\"LP-3 EU-4\",IF(G117=\"fines crushing\",\"LP-3 EU-5\",IF(G117=\"fines screening\",\"LP-3 EU-6\",IF(G117=\"wet drilling: unfragmented stone\",\"LP-3 EU-7\",IF(G117=\"conveyor transfer points\",\"LP-3 EU-8\")))))))))","v":""},null,null,null,{"$f":"IF($C$120=\"no\",I117,0)","v":0},{"$f":"IF($C$120=\"yes\",I117,0)","v":0}]
[null,{"$f":"IF('Limestone Plant (LP-3)'!$D$4>6,\"County:\",\"\")","v":""},null,null,{"$f":"IF(G118=\"\",\"\",\"LP-3 EP-1\")","v":""},{"$f":"IF(G118=\"\",\"\",IF(G118=\"primary crusher\",\"LP-3 EU-1\",IF(G118=\"screening\",\"LP-3 EU-2\",IF(G118=\"secondary crusher\",\"LP-3 EU-3\",IF(G118=\"tertiary crusher\",\"LP-3 EU-4\",IF(G118=\"fines crushing\",\"LP-3 EU-5\",IF(G118=\"fines screening\",\"LP-3 EU-6\",IF(G118=\"wet drilling: unfragmented stone\",\"LP-3 EU-7\",IF(G118=\"conveyor transfer points\",\"LP-3 EU-8\")))))))))","v":""},null,null,null,{"$f":"IF($C$120=\"no\",I118,0)","v":0},{"$f":"IF($C$120=\"yes\",I118,0)","v":0}]
[null,{"$f":"IF('Limestone Plant (LP-3)'!$D$4>6,\"Crushing Period (Dates):\",\"\")","v":""},null,null,"","",null,null,null,0,0]
[null,{"$f":"IF('Limestone Plant (LP-3)'!$D$4>6,\"Controlled with Dust Suppressant or Material Being Processed has Moisture Content > 1.5%?\",\"\")","v":""},null,null,"","",null,null,null,0,0]
[null,null,null,null,"","",null,null,null,0,0]
[null,null,null,null,"","",null,null,null,0,0]
[null,null,null,null,"","",null,null,null,0,0]
[null,null,null,null,"","",null,null,null,0,0]
[]
[null,null,null,null,{"$f":"IF('Limestone Plant (LP-3)'!$D$4>6,\"Stock Pile Area\",\"\")","v":""}]
[null,null,null,null,null,{"$f":"IF('Limestone Plant (LP-3)'!$D$4>6,\"Emission Unit #\",\"\")","v":""},{"$f":"IF('Limestone Plant (LP-3)'!$D$4>6,\"Maximum Storage Area (acres)\",\"\")","v":""},{"$f":"IF('Limestone Plant (LP-3)'!$D$4>6,\"Actual Storage Area (acres)\",\"\")","v":""},{"$f":"IF('Limestone Plant (LP-3)'!$D$4>6,\"Actual Days in Existence (days)\",\"\")","v":""}]
[]
[]
[]
[null,{"$f":"IF('Limestone Plant (LP-3)'!$D$4>7,\"CRUSHER PLANT\",\"\")","v":""},{"$f":"IF('Limestone Plant (LP-3)'!$D$4>7,\"Site 8\",\"\")","v":""},null,{"$f":"IF('Limestone Plant (LP-3)'!$D$4>7,\"Emission Point #\",\"\")","v":""},{"$f":"IF('Limestone Plant (LP-3)'!$D$4>7,\"Emission    Unit #\",\"\")","v":""},{"$f":"IF('Limestone Plant (LP-3)'!$D$4>7,\"Processes\",\"\")","v":""},{"$f":"IF('Limestone Plant (LP-3)'!$D$4>7,\"Combined Maximum Hourly Design Rate for all Like Processes (tons/hr)\",\"\")","v":""},{"$f":"IF('Limestone Plant (LP-3)'!$D$4>7,('Facility Information'!G5&\" Annual Throughput (tons)\"),\"\")","v":""}]
[]
[null,{"$f":"IF('Limestone Plant (LP-3)'!$D$4>7,\"Site Name:\",\"\")","v":""},null,null,{"$f":"IF(G133=\"\",\"\",\"LP-3 EP-1\")","v":""},{"$f":"IF(G133=\"\",\"\",IF(G133=\"primary crusher\",\"LP-3 EU-1\",IF(G133=\"screening\",\"LP-3 EU-2\",IF(G133=\"secondary crusher\",\"LP-3 EU-3\",IF(G133=\"tertiary crusher\",\"LP-3 EU-4\",IF(G133=\"fines crushing\",\"LP-3 EU-5\",IF(G133=\"fines screening\",\"LP-3 EU-6\",IF(G133=\"wet drilling: unfragmented stone\",\"LP-3 EU-7\",IF(G133=\"conveyor transfer points\",\"LP-3 EU-8\")))))))))","v":""},null,null,null,{"$f":"IF($C$136=\"no\",I133,0)","v":0},{"$f":"IF($C$136=\"yes\",I133,0)","v":0}]
[null,{"$f":"IF('Limestone Plant (LP-3)'!$D$4>7,\"County:\",\"\")","v":""},null,null,{"$f":"IF(G134=\"\",\"\",\"LP-3 EP-1\")","v":""},{"$f":"IF(G134=\"\",\"\",IF(G134=\"primary crusher\",\"LP-3 EU-1\",IF(G134=\"screening\",\"LP-3 EU-2\",IF(G134=\"secondary crusher\",\"LP-3 EU-3\",IF(G134=\"tertiary crusher\",\"LP-3 EU-4\",IF(G134=\"fines crushing\",\"LP-3 EU-5\",IF(G134=\"fines screening\",\"LP-3 EU-6\",IF(G134=\"wet drilling: unfragmented stone\",\"LP-3 EU-7\",IF(G134=\"conveyor transfer points\",\"LP-3 EU-8\")))))))))","v":""},null,null,null,{"$f":"IF($C$136=\"no\",I134,0)","v":0},{"$f":"IF($C$136=\"yes\",I134,0)","v":0}]
[null,{"$f":"IF('Limestone Plant (LP-3)'!$D$4>7,\"Crushing Period (Dates):\",\"\")","v":""},null,null,"","",null,null,null,0,0]
[null,{"$f":"IF('Limestone Plant (LP-3)'!$D$4>7,\"Controlled with Dust Suppressant or Material Being Processed has Moisture Content > 1.5%?\",\"\")","v":""},null,null,"","",null,null,null,0,0]
[null,null,null,null,"","",null,null,null,0,0]
[null,null,null,null,"","",null,null,null,0,0]
[null,null,null,null,"","",null,null,null,0,0]
[null,null,null,null,"","",null,null,null,0,0]
[]
[null,null,null,null,{"$f":"IF('Limestone Plant (LP-3)'!$D$4>7,\"Stock Pile Area\",\"\")","v":""}]
[null,null,null,null,null,{"$f":"IF('Limestone Plant (LP-3)'!$D$4>7,\"Emission Unit #\",\"\")","v":""},{"$f":"IF('Limestone Plant (LP-3)'!$D$4>7,\"Maximum Storage Area (acres)\",\"\")","v":""},{"$f":"IF('Limestone Plant (LP-3)'!$D$4>7,\"Actual Storage Area (acres)\",\"\")","v":""},{"$f":"IF('Limestone Plant (LP-3)'!$D$4>7,\"Actual Days in Existence (days)\",\"\")","v":""}]
[]
[]
[]
[null,{"$f":"IF('Limestone Plant (LP-3)'!$D$4>8,\"CRUSHER PLANT\",\"\")","v":""},{"$f":"IF('Limestone Plant (LP-3)'!$D$4>8,\"Site 9\",\"\")","v":""},null,{"$f":"IF('Limestone Plant (LP-3)'!$D$4>8,\"Emission Point #\",\"\")","v":""},{"$f":"IF('Limestone Plant (LP-3)'!$D$4>8,\"Emission    Unit #\",\"\")","v":""},{"$f":"IF('Limestone Plant (LP-3)'!$D$4>8,\"Processes\",\"\")","v":""},{"$f":"IF('Limestone Plant (LP-3)'!$D$4>8,\"Combined Maximum Hourly Design Rate for all Like Processes (tons/hr)\",\"\")","v":""},{"$f":"IF('Limestone Plant (LP-3)'!$D$4>8,('Facility Information'!G5&\" Annual Throughput (tons)\"),\"\")","v":""}]
[]
[null,{"$f":"IF('Limestone Plant (LP-3)'!$D$4>8,\"Site Name:\",\"\")","v":""},null,null,{"$f":"IF(G149=\"\",\"\",\"LP-3 EP-1\")","v":""},{"$f":"IF(G149=\"\",\"\",IF(G149=\"primary crusher\",\"LP-3 EU-1\",IF(G149=\"screening\",\"LP-3 EU-2\",IF(G149=\"secondary crusher\",\"LP-3 EU-3\",IF(G149=\"tertiary crusher\",\"LP-3 EU-4\",IF(G149=\"fines crushing\",\"LP-3 EU-5\",IF(G149=\"fines screening\",\"LP-3 EU-6\",IF(G149=\"wet drilling: unfragmented stone\",\"LP-3 EU-7\",IF(G149=\"conveyor transfer points\",\"LP-3 EU-8\")))))))))","v":""},null,null,null,{"$f":"IF($C$152=\"no\",I149,0)","v":0},{"$f":"IF($C$152=\"yes\",I149,0)","v":0}]
[null,{"$f":"IF('Limestone Plant (LP-3)'!$D$4>8,\"County:\",\"\")","v":""},null,null,{"$f":"IF(G150=\"\",\"\",\"LP-3 EP-1\")","v":""},{"$f":"IF(G150=\"\",\"\",IF(G150=\"primary crusher\",\"LP-3 EU-1\",IF(G150=\"screening\",\"LP-3 EU-2\",IF(G150=\"secondary crusher\",\"LP-3 EU-3\",IF(G150=\"tertiary crusher\",\"LP-3 EU-4\",IF(G150=\"fines crushing\",\"LP-3 EU-5\",IF(G150=\"fines screening\",\"LP-3 EU-6\",IF(G150=\"wet drilling: unfragmented stone\",\"LP-3 EU-7\",IF(G150=\"conveyor transfer points\",\"LP-3 EU-8\")))))))))","v":""},null,null,null,{"$f":"IF($C$152=\"no\",I150,0)","v":0},{"$f":"IF($C$152=\"yes\",I150,0)","v":0}]
[null,{"$f":"IF('Limestone Plant (LP-3)'!$D$4>8,\"Crushing Period (Dates):\",\"\")","v":""},null,null,"","",null,null,null,0,0]
[null,{"$f":"IF('Limestone Plant (LP-3)'!$D$4>8,\"Controlled with Dust Suppressant or Material Being Processed has Moisture Content > 1.5%?\",\"\")","v":""},null,null,"","",null,null,null,0,0]
[null,null,null,null,"","",null,null,null,0,0]
[null,null,null,null,"","",null,null,null,0,0]
[null,null,null,null,"","",null,null,null,0,0]
[null,null,null,null,"","",null,null,null,0,0]
[]
[null,null,null,null,{"$f":"IF('Limestone Plant (LP-3)'!$D$4>8,\"Stock Pile Area\",\"\")","v":""}]
[null,null,null,null,null,{"$f":"IF('Limestone Plant (LP-3)'!$D$4>8,\"Emission Unit #\",\"\")","v":""},{"$f":"IF('Limestone Plant (LP-3)'!$D$4>8,\"Maximum Storage Area (acres)\",\"\")","v":""},{"$f":"IF('Limestone Plant (LP-3)'!$D$4>8,\"Actual Storage Area (acres)\",\"\")","v":""},{"$f":"IF('Limestone Plant (LP-3)'!$D$4>8,\"Actual Days in Existence (days)\",\"\")","v":""}]
[]
[]
[]
[null,{"$f":"IF('Limestone Plant (LP-3)'!$D$4>9,\"CRUSHER PLANT\",\"\")","v":""},{"$f":"IF('Limestone Plant (LP-3)'!$D$4>9,\"Site 10\",\"\")","v":""},null,{"$f":"IF('Limestone Plant (LP-3)'!$D$4>9,\"Emission Point #\",\"\")","v":""},{"$f":"IF('Limestone Plant (LP-3)'!$D$4>9,\"Emission    Unit #\",\"\")","v":""},{"$f":"IF('Limestone Plant (LP-3)'!$D$4>9,\"Processes\",\"\")","v":""},{"$f":"IF('Limestone Plant (LP-3)'!$D$4>9,\"Combined Maximum Hourly Design Rate for all Like Processes (tons/hr)\",\"\")","v":""},{"$f":"IF('Limestone Plant (LP-3)'!$D$4>9,('Facility Information'!G5&\" Annual Throughput (tons)\"),\"\")","v":""}]
[]
[null,{"$f":"IF('Limestone Plant (LP-3)'!$D$4>9,\"Site Name:\",\"\")","v":""},null,null,{"$f":"IF(G165=\"\",\"\",\"LP-3 EP-1\")","v":""},{"$f":"IF(G165=\"\",\"\",IF(G165=\"primary crusher\",\"LP-3 EU-1\",IF(G165=\"screening\",\"LP-3 EU-2\",IF(G165=\"secondary crusher\",\"LP-3 EU-3\",IF(G165=\"tertiary crusher\",\"LP-3 EU-4\",IF(G165=\"fines crushing\",\"LP-3 EU-5\",IF(G165=\"fines screening\",\"LP-3 EU-6\",IF(G165=\"wet drilling: unfragmented stone\",\"LP-3 EU-7\",IF(G165=\"conveyor transfer points\",\"LP-3 EU-8\")))))))))","v":""},null,null,null,{"$f":"IF($C168=\"no\",I165,0)","v":0}]
[null,{"$f":"IF('Limestone Plant (LP-3)'!$D$4>9,\"County:\",\"\")","v":""},null,null,{"$f":"IF(G166=\"\",\"\",\"LP-3 EP-1\")","v":""},{"$f":"IF(G166=\"\",\"\",IF(G166=\"primary crusher\",\"LP-3 EU-1\",IF(G166=\"screening\",\"LP-3 EU-2\",IF(G166=\"secondary crusher\",\"LP-3 EU-3\",IF(G166=\"tertiary crusher\",\"LP-3 EU-4\",IF(G166=\"fines crushing\",\"LP-3 EU-5\",IF(G166=\"fines screening\",\"LP-3 EU-6\",IF(G166=\"wet drilling: unfragmented stone\",\"LP-3 EU-7\",IF(G166=\"conveyor transfer points\",\"LP-3 EU-8\")))))))))","v":""}]
[null,{"$f":"IF('Limestone Plant (LP-3)'!$D$4>9,\"Crushing Period (Dates):\",\"\")","v":""},null,null,"",""]
[null,{"$f":"IF('Limestone Plant (LP-3)'!$D$4>9,\"Controlled with Dust Suppressant or Material Being Processed has Moisture Content > 1.5%?\",\"\")","v":""},null,null,"",""]
[null,null,null,null,"",""]
[null,null,null,null,"",""]
[null,null,null,null,"",""]
[null,null,null,null,"",""]
[]
[null,null,null,null,{"$f":"IF('Limestone Plant (LP-3)'!$D$4>9,\"Stock Pile Area\",\"\")","v":""}]
[null,null,null,null,null,{"$f":"IF('Limestone Plant (LP-3)'!$D$4>9,\"Emission Unit #\",\"\")","v":""},{"$f":"IF('Limestone Plant (LP-3)'!$D$4>9,\"Maximum Storage Area (acres)\",\"\")","v":""},{"$f":"IF('Limestone Plant (LP-3)'!$D$4>9,\"Actual Storage Area (acres)\",\"\")","v":""},{"$f":"IF('Limestone Plant (LP-3)'!$D$4>9,\"Actual Days in Existence (days)\",\"\")","v":""}]

{"sheet":"Limestone Plant (LP-4)","index":4,"n_rows":175,"n_cols":19,"rows_kept":175,"cut":false,"hidden":true,"merged":[[167,1,169,1],[167,2,169,2],[119,1,121,1],[119,2,121,2],[135,1,137,1],[135,2,137,2],[151,1,153,1],[151,2,153,2],[71,1,73,1],[71,2,73,2],[87,1,89,1],[87,2,89,2],[103,1,105,1],[103,2,105,2],[23,1,25,1],[23,2,25,2],[39,1,41,1],[39,2,41,2],[55,1,57,1],[55,2,57,2],[162,4,163,4],[162,6,163,6],[162,7,163,7],[162,8,163,8],[130,4,131,4],[130,6,131,6],[130,7,131,7],[130,8,131,8],[146,4,147,4],[146,6,147,6],[146,7,147,7],[146,8,147,8],[130,5,131,5],[146,5,147,5],[162,5,163,5],[98,4,99,4],[98,6,99,6],[98,7,99,7],[98,8,99,8],[114,4,115,4],[114,6,115,6],[114,7,115,7],[114,8,115,8],[98,5,99,5],[114,5,115,5],[66,4,67,4],[66,6,67,6],[66,7,67,7],[66,8,67,8],[82,4,83,4],[82,6,83,6],[82,7,83,7],[82,8,83,8],[66,5,67,5],[82,5,83,5],[48,3,48,4],[50,4,51,4],[50,6,51,6],[50,7,51,7],[50,8,51,8],[50,5,51,5],[37,14,38,14],[37,15,38,15],[37,16,38,16],[37,17,38,17],[37,18,38,18],[34,4,35,4],[34,6,35,6],[34,7,35,7],[34,8,35,8],[37,13,38,13],[34,5,35,5],[17,16,18,16],[17,17,18,17],[17,18,18,18],[18,4,19,4],[18,6,19,6],[18,7,19,7],[18,8,19,8],[17,13,18,13],[17,14,18,14],[17,15,18,15],[18,5,19,5],[2,13,3,13],[2,14,3,14],[2,18,3,18],[3,1,3,2],[3,3,3,4],[11,1,13,2],[0,1,0,2],[1,1,1,2],[1,7,1,8],[2,12,3,12]]}
[null,"LIMESTONE CRUSHING PLANT (LP-4)"]
[null,"Please fill in the yellow boxes as applicable for your facility. ",null,null,null,null,null,"Values used for calculating emissions →",null,null,null,null,"Values Used to Calculate Actual Emissions for the Listed Processes at this Plant"]
[null,null,null,null,null,null,null,null,null,null,null,null,"Process","Maximum Design Rate (tons/hr)","Actual throughput w/o wet supression (tons/yr)",null,null,null,"Actual throughtput w/ wet supression (tons/yr)"]
[null,{"$f":"\"Number of Sites this Plant operated at in \"&'Facility Information'!G5&\":\"","v":"Number of Sites this Plant operated at in :"},null,null,null,null,null,null,null,null,null,null,null,null,null,null,"** As of 2016 Potential Emissions are no longer required to be reported in the Minor Source Emissions Inventory**"]
[null,null,null,null,null,null,null,null,null,null,null,null,"Primary Crusher",{"$f":"MAX((IFERROR(OFFSET($G$20,MATCH(\"primary crusher\",$G$21:$G$28,0),1),0)),((IFERROR((OFFSET($G$36,MATCH(\"primary crusher\",$G$37:$G$44,0),1)),0))),((IFERROR((OFFSET($G$52,MATCH(\"primary crusher\",$G$53:$G$60,0),1)),0))),((IFERROR((OFFSET($G$68,MATCH(\"primary crusher\",$G$69:$G$76,0),1)),0))),((IFERROR((OFFSET($G$84,MATCH(\"primary crusher\",$G$85:$G$92,0),1)),0))),((IFERROR((OFFSET($G$100,MATCH(\"primary crusher\",$G$101:$G$108,0),1)),0))),((IFERROR((OFFSET($G$116,MATCH(\"primary crusher\",$G$117:$G$124,0),1)),0))),((IFERROR((OFFSET($G$132,MATCH(\"primary crusher\",$G$133:$G$140,0),1)),0))),((IFERROR((OFFSET($G$148,MATCH(\"primary crusher\",$G$149:$G$156,0),1)),0))),((IFERROR((OFFSET($G$163,MATCH(\"primary crusher\",$G$165:$G$172,0),1)),0))))","v":0},{"$f":"SUM((IFERROR(OFFSET($G$20,MATCH(\"primary crusher\",$G$21:$G$28,0),3),0)),((IFERROR((OFFSET($G$36,MATCH(\"primary crusher\",$G$37:$G$44,0),3)),0))),((IFERROR((OFFSET($G$52,MATCH(\"primary crusher\",$G$53:$G$60,0),3)),0))),((IFERROR((OFFSET($G$68,MATCH(\"primary crusher\",$G$69:$G$76,0),3)),0))),((IFERROR((OFFSET($G$84,MATCH(\"primary crusher\",$G$85:$G$92,0),3)),0))),((IFERROR((OFFSET($G$100,MATCH(\"primary crusher\",$G$101:$G$108,0),3)),0))),((IFERROR((OFFSET($G$116,MATCH(\"primary crusher\",$G$117:$G$124,0),3)),0))),((IFERROR((OFFSET($G$132,MATCH(\"primary crusher\",$G$133:$G$140,0),3)),0))),((IFERROR((OFFSET($G$148,MATCH(\"primary crusher\",$G$149:$G$156,0),3)),0))),((IFERROR((OFFSET($G$163,MATCH(\"primary crusher\",$G$165:$G$172,0),3)),0))))","v":0},null,null,null,{"$f":"SUM((IFERROR(OFFSET($G$20,MATCH(\"primary crusher\",$G$21:$G$28,0),4),0)),((IFERROR((OFFSET($G$36,MATCH(\"primary crusher\",$G$37:$G$44,0),4)),0))),((IFERROR((OFFSET($G$52,MATCH(\"primary crusher\",$G$53:$G$60,0),4)),0))),((IFERROR((OFFSET($G$68,MATCH(\"primary crusher\",$G$69:$G$76,0),4)),0))),((IFERROR((OFFSET($G$84,MATCH(\"primary crusher\",$G$85:$G$92,0),4)),0))),((IFERROR((OFFSET($G$100,MATCH(\"primary crusher\",$G$101:$G$108,0),4)),0))),((IFERROR((OFFSET($G$116,MATCH(\"primary crusher\",$G$117:$G$124,0),4)),0))),((IFERROR((OFFSET($G$132,MATCH(\"primary crusher\",$G$133:$G$140,0),4)),0))),((IFERROR((OFFSET($G$148,MATCH(\"primary crusher\",$G$149:$G$156,0),4)),0))),((IFERROR((OFFSET($G$163,MATCH(\"primary crusher\",$G$165:$G$172,0),4)),0))))","v":0}]
[null,"Plant Specific Permit Number: ",null,null,null,null,null,null,null,null,null,null,"Screening",{"$f":"MAX((IFERROR(OFFSET($G$20,MATCH(\"screening\",$G$21:$G$28,0),1),0)),((IFERROR((OFFSET($G$36,MATCH(\"screening\",$G$37:$G$44,0),1)),0))),((IFERROR((OFFSET($G$52,MATCH(\"screening\",$G$53:$G$60,0),1)),0))),((IFERROR((OFFSET($G$68,MATCH(\"screening\",$G$69:$G$76,0),1)),0))),((IFERROR((OFFSET($G$84,MATCH(\"screening\",$G$85:$G$92,0),1)),0))),((IFERROR((OFFSET($G$100,MATCH(\"screening\",$G$101:$G$108,0),1)),0))),((IFERROR((OFFSET($G$116,MATCH(\"screening\",$G$117:$G$124,0),1)),0))),((IFERROR((OFFSET($G$132,MATCH(\"screening\",$G$133:$G$140,0),1)),0))),((IFERROR((OFFSET($G$148,MATCH(\"screening\",$G$149:$G$156,0),1)),0))),((IFERROR((OFFSET($G$163,MATCH(\"screening\",$G$165:$G$172,0),1)),0))))","v":0},{"$f":"SUM((IFERROR(OFFSET($G$20,MATCH(\"screening\",$G$21:$G$28,0),3),0)),((IFERROR((OFFSET($G$36,MATCH(\"screening\",$G$37:$G$44,0),3)),0))),((IFERROR((OFFSET($G$52,MATCH(\"screening\",$G$53:$G$60,0),3)),0))),((IFERROR((OFFSET($G$68,MATCH(\"screening\",$G$69:$G$76,0),3)),0))),((IFERROR((OFFSET($G$84,MATCH(\"screening\",$G$85:$G$92,0),3)),0))),((IFERROR((OFFSET($G$100,MATCH(\"screening\",$G$101:$G$108,0),3)),0))),((IFERROR((OFFSET($G$116,MATCH(\"screening\",$G$117:$G$124,0),3)),0))),((IFERROR((OFFSET($G$132,MATCH(\"screening\",$G$133:$G$140,0),3)),0))),((IFERROR((OFFSET($G$148,MATCH(\"screening\",$G$149:$G$156,0),3)),0))),((IFERROR((OFFSET($G$163,MATCH(\"screening\",$G$165:$G$172,0),3)),0))))","v":0},null,null,null,{"$f":"SUM((IFERROR(OFFSET($G$20,MATCH(\"screening\",$G$21:$G$28,0),4),0)),((IFERROR((OFFSET($G$36,MATCH(\"screening\",$G$37:$G$44,0),4)),0))),((IFERROR((OFFSET($G$52,MATCH(\"screening\",$G$53:$G$60,0),4)),0))),((IFERROR((OFFSET($G$68,MATCH(\"screening\",$G$69:$G$76,0),4)),0))),((IFERROR((OFFSET($G$84,MATCH(\"screening\",$G$85:$G$92,0),4)),0))),((IFERROR((OFFSET($G$100,MATCH(\"screening\",$G$101:$G$108,0),4)),0))),((IFERROR((OFFSET($G$116,MATCH(\"screening\",$G$117:$G$124,0),4)),0))),((IFERROR((OFFSET($G$132,MATCH(\"screening\",$G$133:$G$140,0),4)),0))),((IFERROR((OFFSET($G$148,MATCH(\"screening\",$G$149:$G$156,0),4)),0))),((IFERROR((OFFSET($G$163,MATCH(\"screening\",$G$165:$G$172,0),4)),0))))","v":0}]
[null,null,null,null,null,null,null,null,null,null,null,null,"Secondary Crusher",{"$f":"MAX((IFERROR(OFFSET($G$20,MATCH(\"secondary crusher\",$G$21:$G$28,0),1),0)),((IFERROR((OFFSET($G$36,MATCH(\"secondary crusher\",$G$37:$G$44,0),1)),0))),((IFERROR((OFFSET($G$52,MATCH(\"secondary crusher\",$G$53:$G$60,0),1)),0))),((IFERROR((OFFSET($G$68,MATCH(\"secondary crusher\",$G$69:$G$76,0),1)),0))),((IFERROR((OFFSET($G$84,MATCH(\"secondary crusher\",$G$85:$G$92,0),1)),0))),((IFERROR((OFFSET($G$100,MATCH(\"secondary crusher\",$G$101:$G$108,0),1)),0))),((IFERROR((OFFSET($G$116,MATCH(\"secondary crusher\",$G$117:$G$124,0),1)),0))),((IFERROR((OFFSET($G$132,MATCH(\"secondary crusher\",$G$133:$G$140,0),1)),0))),((IFERROR((OFFSET($G$148,MATCH(\"secondary crusher\",$G$149:$G$156,0),1)),0))),((IFERROR((OFFSET($G$163,MATCH(\"secondary crusher\",$G$165:$G$172,0),1)),0))))","v":0},{"$f":"SUM((IFERROR(OFFSET($G$20,MATCH(\"secondary crusher\",$G$21:$G$28,0),3),0)),((IFERROR((OFFSET($G$36,MATCH(\"secondary crusher\",$G$37:$G$44,0),3)),0))),((IFERROR((OFFSET($G$52,MATCH(\"secondary crusher\",$G$53:$G$60,0),3)),0))),((IFERROR((OFFSET($G$68,MATCH(\"secondary crusher\",$G$69:$G$76,0),3)),0))),((IFERROR((OFFSET($G$84,MATCH(\"secondary crusher\",$G$85:$G$92,0),3)),0))),((IFERROR((OFFSET($G$100,MATCH(\"secondary crusher\",$G$101:$G$108,0),3)),0))),((IFERROR((OFFSET($G$116,MATCH(\"secondary crusher\",$G$117:$G$124,0),3)),0))),((IFERROR((OFFSET($G$132,MATCH(\"secondary crusher\",$G$133:$G$140,0),3)),0))),((IFERROR((OFFSET($G$148,MATCH(\"secondary crusher\",$G$149:$G$156,0),3)),0))),((IFERROR((OFFSET($G$163,MATCH(\"secondary crusher\",$G$165:$G$172,0),3)),0))))","v":0},null,null,null,{"$f":"SUM((IFERROR(OFFSET($G$20,MATCH(\"secondary crusher\",$G$21:$G$28,0),4),0)),((IFERROR((OFFSET($G$36,MATCH(\"secondary crusher\",$G$37:$G$44,0),4)),0))),((IFERROR((OFFSET($G$52,MATCH(\"secondary crusher\",$G$53:$G$60,0),4)),0))),((IFERROR((OFFSET($G$68,MATCH(\"secondary crusher\",$G$69:$G$76,0),4)),0))),((IFERROR((OFFSET($G$84,MATCH(\"secondary crusher\",$G$85:$G$92,0),4)),0))),((IFERROR((OFFSET($G$100,MATCH(\"secondary crusher\",$G$101:$G$108,0),4)),0))),((IFERROR((OFFSET($G$116,MATCH(\"secondary crusher\",$G$117:$G$124,0),4)),0))),((IFERROR((OFFSET($G$132,MATCH(\"secondary crusher\",$G$133:$G$140,0),4)),0))),((IFERROR((OFFSET($G$148,MATCH(\"secondary crusher\",$G$149:$G$156,0),4)),0))),((IFERROR((OFFSET($G$163,MATCH(\"secondary crusher\",$G$165:$G$172,0),4)),0))))","v":0}]
[null,"Plant Specific Operating Limits:",null,null,"Plant Specific Emission Limits:",null,null,null,null,null,null,null,"Tertiary Crusher",{"$f":"MAX((IFERROR(OFFSET($G$20,MATCH(\"tertiary crusher\",$G$21:$G$28,0),1),0)),((IFERROR((OFFSET($G$36,MATCH(\"tertiary crusher\",$G$37:$G$44,0),1)),0))),((IFERROR((OFFSET($G$52,MATCH(\"tertiary crusher\",$G$53:$G$60,0),1)),0))),((IFERROR((OFFSET($G$68,MATCH(\"tertiary crusher\",$G$69:$G$76,0),1)),0))),((IFERROR((OFFSET($G$84,MATCH(\"tertiary crusher\",$G$85:$G$92,0),1)),0))),((IFERROR((OFFSET($G$100,MATCH(\"tertiary crusher\",$G$101:$G$108,0),1)),0))),((IFERROR((OFFSET($G$116,MATCH(\"tertiary crusher\",$G$117:$G$124,0),1)),0))),((IFERROR((OFFSET($G$132,MATCH(\"tertiary crusher\",$G$133:$G$140,0),1)),0))),((IFERROR((OFFSET($G$148,MATCH(\"tertiary crusher\",$G$149:$G$156,0),1)),0))),((IFERROR((OFFSET($G$163,MATCH(\"tertiary crusher\",$G$165:$G$172,0),1)),0))))","v":0},{"$f":"SUM((IFERROR(OFFSET($G$20,MATCH(\"tertiary crusher\",$G$21:$G$28,0),3),0)),((IFERROR((OFFSET($G$36,MATCH(\"tertiary crusher\",$G$37:$G$44,0),3)),0))),((IFERROR((OFFSET($G$52,MATCH(\"tertiary crusher\",$G$53:$G$60,0),3)),0))),((IFERROR((OFFSET($G$68,MATCH(\"tertiary crusher\",$G$69:$G$76,0),3)),0))),((IFERROR((OFFSET($G$84,MATCH(\"tertiary crusher\",$G$85:$G$92,0),3)),0))),((IFERROR((OFFSET($G$100,MATCH(\"tertiary crusher\",$G$101:$G$108,0),3)),0))),((IFERROR((OFFSET($G$116,MATCH(\"tertiary crusher\",$G$117:$G$124,0),3)),0))),((IFERROR((OFFSET($G$132,MATCH(\"tertiary crusher\",$G$133:$G$140,0),3)),0))),((IFERROR((OFFSET($G$148,MATCH(\"tertiary crusher\",$G$149:$G$156,0),3)),0))),((IFERROR((OFFSET($G$163,MATCH(\"tertiary crusher\",$G$165:$G$172,0),3)),0))))","v":0},null,null,null,{"$f":"SUM((IFERROR(OFFSET($G$20,MATCH(\"tertiary crusher\",$G$21:$G$28,0),4),0)),((IFERROR((OFFSET($G$36,MATCH(\"tertiary crusher\",$G$37:$G$44,0),4)),0))),((IFERROR((OFFSET($G$52,MATCH(\"tertiary crusher\",$G$53:$G$60,0),4)),0))),((IFERROR((OFFSET($G$68,MATCH(\"tertiary crusher\",$G$69:$G$76,0),4)),0))),((IFERROR((OFFSET($G$84,MATCH(\"tertiary crusher\",$G$85:$G$92,0),4)),0))),((IFERROR((OFFSET($G$100,MATCH(\"tertiary crusher\",$G$101:$G$108,0),4)),0))),((IFERROR((OFFSET($G$116,MATCH(\"tertiary crusher\",$G$117:$G$124,0),4)),0))),((IFERROR((OFFSET($G$132,MATCH(\"tertiary crusher\",$G$133:$G$140,0),4)),0))),((IFERROR((OFFSET($G$148,MATCH(\"tertiary crusher\",$G$149:$G$156,0),4)),0))),((IFERROR((OFFSET($G$163,MATCH(\"tertiary crusher\",$G$165:$G$172,0),4)),0))))","v":0}]
[null,"Throughput Limit (tons/yr):",null,null,"Pollutant","lb/hr","tons/yr",null,null,null,null,null,"Fines Crushing",{"$f":"MAX((IFERROR(OFFSET($G$20,MATCH(\"fines crushing\",$G$21:$G$28,0),1),0)),((IFERROR((OFFSET($G$36,MATCH(\"fines crushing\",$G$37:$G$44,0),1)),0))),((IFERROR((OFFSET($G$52,MATCH(\"fines crushing\",$G$53:$G$60,0),1)),0))),((IFERROR((OFFSET($G$68,MATCH(\"fines crushing\",$G$69:$G$76,0),1)),0))),((IFERROR((OFFSET($G$84,MATCH(\"fines crushing\",$G$85:$G$92,0),1)),0))),((IFERROR((OFFSET($G$100,MATCH(\"fines crushing\",$G$101:$G$108,0),1)),0))),((IFERROR((OFFSET($G$116,MATCH(\"fines crushing\",$G$117:$G$124,0),1)),0))),((IFERROR((OFFSET($G$132,MATCH(\"fines crushing\",$G$133:$G$140,0),1)),0))),((IFERROR((OFFSET($G$148,MATCH(\"fines crushing\",$G$149:$G$156,0),1)),0))),((IFERROR((OFFSET($G$163,MATCH(\"fines crushing\",$G$165:$G$172,0),1)),0))))","v":0},{"$f":"SUM((IFERROR(OFFSET($G$20,MATCH(\"fines crushing\",$G$21:$G$28,0),3),0)),((IFERROR((OFFSET($G$36,MATCH(\"fines crushing\",$G$37:$G$44,0),3)),0))),((IFERROR((OFFSET($G$52,MATCH(\"fines crushing\",$G$53:$G$60,0),3)),0))),((IFERROR((OFFSET($G$68,MATCH(\"fines crushing\",$G$69:$G$76,0),3)),0))),((IFERROR((OFFSET($G$84,MATCH(\"fines crushing\",$G$85:$G$92,0),3)),0))),((IFERROR((OFFSET($G$100,MATCH(\"fines crushing\",$G$101:$G$108,0),3)),0))),((IFERROR((OFFSET($G$116,MATCH(\"fines crushing\",$G$117:$G$124,0),3)),0))),((IFERROR((OFFSET($G$132,MATCH(\"fines crushing\",$G$133:$G$140,0),3)),0))),((IFERROR((OFFSET($G$148,MATCH(\"fines crushing\",$G$149:$G$156,0),3)),0))),((IFERROR((OFFSET($G$163,MATCH(\"fines crushing\",$G$165:$G$172,0),3)),0))))","v":0},null,null,null,{"$f":"SUM((IFERROR(OFFSET($G$20,MATCH(\"fines crushing\",$G$21:$G$28,0),4),0)),((IFERROR((OFFSET($G$36,MATCH(\"fines crushing\",$G$37:$G$44,0),4)),0))),((IFERROR((OFFSET($G$52,MATCH(\"fines crushing\",$G$53:$G$60,0),4)),0))),((IFERROR((OFFSET($G$68,MATCH(\"fines crushing\",$G$69:$G$76,0),4)),0))),((IFERROR((OFFSET($G$84,MATCH(\"fines crushing\",$G$85:$G$92,0),4)),0))),((IFERROR((OFFSET($G$100,MATCH(\"fines crushing\",$G$101:$G$108,0),4)),0))),((IFERROR((OFFSET($G$116,MATCH(\"fines crushing\",$G$117:$G$124,0),4)),0))),((IFERROR((OFFSET($G$132,MATCH(\"fines crushing\",$G$133:$G$140,0),4)),0))),((IFERROR((OFFSET($G$148,MATCH(\"fines crushing\",$G$149:$G$156,0),4)),0))),((IFERROR((OFFSET($G$163,MATCH(\"fines crushing\",$G$165:$G$172,0),4)),0))))","v":0}]
[null,"Daily Throughput Limit (tons/day):",null,null,"PM2.5",null,null,null,null,null,null,null,"Fines Screening",{"$f":"MAX((IFERROR(OFFSET($G$20,MATCH(\"fines screening\",$G$21:$G$28,0),1),0)),((IFERROR((OFFSET($G$36,MATCH(\"fines screening\",$G$37:$G$44,0),1)),0))),((IFERROR((OFFSET($G$52,MATCH(\"fines screening\",$G$53:$G$60,0),1)),0))),((IFERROR((OFFSET($G$68,MATCH(\"fines screening\",$G$69:$G$76,0),1)),0))),((IFERROR((OFFSET($G$84,MATCH(\"fines screening\",$G$85:$G$92,0),1)),0))),((IFERROR((OFFSET($G$100,MATCH(\"fines screening\",$G$101:$G$108,0),1)),0))),((IFERROR((OFFSET($G$116,MATCH(\"fines screening\",$G$117:$G$124,0),1)),0))),((IFERROR((OFFSET($G$132,MATCH(\"fines screening\",$G$133:$G$140,0),1)),0))),((IFERROR((OFFSET($G$148,MATCH(\"fines screening\",$G$149:$G$156,0),1)),0))),((IFERROR((OFFSET($G$163,MATCH(\"fines screening\",$G$165:$G$172,0),1)),0))))","v":0},{"$f":"SUM((IFERROR(OFFSET($G$20,MATCH(\"fines screening\",$G$21:$G$28,0),3),0)),((IFERROR((OFFSET($G$36,MATCH(\"fines screening\",$G$37:$G$44,0),3)),0))),((IFERROR((OFFSET($G$52,MATCH(\"fines screening\",$G$53:$G$60,0),3)),0))),((IFERROR((OFFSET($G$68,MATCH(\"fines screening\",$G$69:$G$76,0),3)),0))),((IFERROR((OFFSET($G$84,MATCH(\"fines screening\",$G$85:$G$92,0),3)),0))),((IFERROR((OFFSET($G$100,MATCH(\"fines screening\",$G$101:$G$108,0),3)),0))),((IFERROR((OFFSET($G$116,MATCH(\"fines screening\",$G$117:$G$124,0),3)),0))),((IFERROR((OFFSET($G$132,MATCH(\"fines screening\",$G$133:$G$140,0),3)),0))),((IFERROR((OFFSET($G$148,MATCH(\"fines screening\",$G$149:$G$156,0),3)),0))),((IFERROR((OFFSET($G$163,MATCH(\"fines screening\",$G$165:$G$172,0),3)),0))))","v":0},null,null,null,{"$f":"SUM((IFERROR(OFFSET($G$20,MATCH(\"fines screening\",$G$21:$G$28,0),4),0)),((IFERROR((OFFSET($G$36,MATCH(\"fines screening\",$G$37:$G$44,0),4)),0))),((IFERROR((OFFSET($G$52,MATCH(\"fines screening\",$G$53:$G$60,0),4)),0))),((IFERROR((OFFSET($G$68,MATCH(\"fines screening\",$G$69:$G$76,0),4)),0))),((IFERROR((OFFSET($G$84,MATCH(\"fines screening\",$G$85:$G$92,0),4)),0))),((IFERROR((OFFSET($G$100,MATCH(\"fines screening\",$G$101:$G$108,0),4)),0))),((IFERROR((OFFSET($G$116,MATCH(\"fines screening\",$G$117:$G$124,0),4)),0))),((IFERROR((OFFSET($G$132,MATCH(\"fines screening\",$G$133:$G$140,0),4)),0))),((IFERROR((OFFSET($G$148,MATCH(\"fines screening\",$G$149:$G$156,0),4)),0))),((IFERROR((OFFSET($G$163,MATCH(\"fines screening\",$G$165:$G$172,0),4)),0))))","v":0}]
[null,"Hours of Operation Limit (hours/day):",null,null,"PM10",null,null,null,null,null,null,null,"Wet Drilling: Unfragmented Stone",{"$f":"MAX((IFERROR(OFFSET($G$20,MATCH(\"wet drilling: unfragmented stone\",$G$21:$G$28,0),1),0)),((IFERROR((OFFSET($G$36,MATCH(\"wet drilling: unfragmented stone\",$G$37:$G$44,0),1)),0))),((IFERROR((OFFSET($G$52,MATCH(\"wet drilling: unfragmented stone\",$G$53:$G$60,0),1)),0))),((IFERROR((OFFSET($G$68,MATCH(\"wet drilling: unfragmented stone\",$G$69:$G$76,0),1)),0))),((IFERROR((OFFSET($G$84,MATCH(\"wet drilling: unfragmented stone\",$G$85:$G$92,0),1)),0))),((IFERROR((OFFSET($G$100,MATCH(\"wet drilling: unfragmented stone\",$G$101:$G$108,0),1)),0))),((IFERROR((OFFSET($G$116,MATCH(\"wet drilling: unfragmented stone\",$G$117:$G$124,0),1)),0))),((IFERROR((OFFSET($G$132,MATCH(\"wet drilling: unfragmented stone\",$G$133:$G$140,0),1)),0))),((IFERROR((OFFSET($G$148,MATCH(\"wet drilling: unfragmented stone\",$G$149:$G$156,0),1)),0))),((IFERROR((OFFSET($G$163,MATCH(\"wet drilling: unfragmented stone\",$G$165:$G$172,0),1)),0))))","v":0},{"$f":"SUM((IFERROR(OFFSET($G$20,MATCH(\"wet drilling: unfragmented stone\",$G$21:$G$28,0),3),0)),((IFERROR((OFFSET($G$36,MATCH(\"wet drilling: unfragmented stone\",$G$37:$G$44,0),3)),0))),((IFERROR((OFFSET($G$52,MATCH(\"wet drilling: unfragmented stone\",$G$53:$G$60,0),3)),0))),((IFERROR((OFFSET($G$68,MATCH(\"wet drilling: unfragmented stone\",$G$69:$G$76,0),3)),0))),((IFERROR((OFFSET($G$84,MATCH(\"wet drilling: unfragmented stone\",$G$85:$G$92,0),3)),0))),((IFERROR((OFFSET($G$100,MATCH(\"wet drilling: unfragmented stone\",$G$101:$G$108,0),3)),0))),((IFERROR((OFFSET($G$116,MATCH(\"wet drilling: unfragmented stone\",$G$117:$G$124,0),3)),0))),((IFERROR((OFFSET($G$132,MATCH(\"wet drilling: unfragmented stone\",$G$133:$G$140,0),3)),0))),((IFERROR((OFFSET($G$148,MATCH(\"wet drilling: unfragmented stone\",$G$149:$G$156,0),3)),0))),((IFERROR((OFFSET($G$163,MATCH(\"wet drilling: unfragmented stone\",$G$165:$G$172,0),3)),0))))","v":0},null,null,null,{"$f":"SUM((IFERROR(OFFSET($G$20,MATCH(\"wet drilling: unfragmented stone\",$G$21:$G$28,0),4),0)),((IFERROR((OFFSET($G$36,MATCH(\"wet drilling: unfragmented stone\",$G$37:$G$44,0),4)),0))),((IFERROR((OFFSET($G$52,MATCH(\"wet drilling: unfragmented stone\",$G$53:$G$60,0),4)),0))),((IFERROR((OFFSET($G$68,MATCH(\"wet drilling: unfragmented stone\",$G$69:$G$76,0),4)),0))),((IFERROR((OFFSET($G$84,MATCH(\"wet drilling: unfragmented stone\",$G$85:$G$92,0),4)),0))),((IFERROR((OFFSET($G$100,MATCH(\"wet drilling: unfragmented stone\",$G$101:$G$108,0),4)),0))),((IFERROR((OFFSET($G$116,MATCH(\"wet drilling: unfragmented stone\",$G$117:$G$124,0),4)),0))),((IFERROR((OFFSET($G$132,MATCH(\"wet drilling: unfragmented stone\",$G$133:$G$140,0),4)),0))),((IFERROR((OFFSET($G$148,MATCH(\"wet drilling: unfragmented stone\",$G$149:$G$156,0),4)),0))),((IFERROR((OFFSET($G$163,MATCH(\"wet drilling: unfragmented stone\",$G$165:$G$172,0),4)),0))))","v":0}]
[null,"Note: if the plant has a hours/day and a tons/hr permit limit, those values should be multiplied together to calculate a tons/day limit and that value should be placed in cell C10.",null,null,"SO2",null,null,null,null,null,null,null,"Conveyor Transfer Points",{"$f":"MAX((IFERROR(OFFSET($G$20,MATCH(\"conveyor transfer points\",$G$21:$G$28,0),1),0)),((IFERROR((OFFSET($G$36,MATCH(\"conveyor transfer points\",$G$37:$G$44,0),1)),0))),((IFERROR((OFFSET($G$52,MATCH(\"conveyor transfer points\",$G$53:$G$60,0),1)),0))),((IFERROR((OFFSET($G$68,MATCH(\"conveyor transfer points\",$G$69:$G$76,0),1)),0))),((IFERROR((OFFSET($G$84,MATCH(\"conveyor transfer points\",$G$85:$G$92,0),1)),0))),((IFERROR((OFFSET($G$100,MATCH(\"conveyor transfer points\",$G$101:$G$108,0),1)),0))),((IFERROR((OFFSET($G$116,MATCH(\"conveyor transfer points\",$G$117:$G$124,0),1)),0))),((IFERROR((OFFSET($G$132,MATCH(\"conveyor transfer points\",$G$133:$G$140,0),1)),0))),((IFERROR((OFFSET($G$148,MATCH(\"conveyor transfer points\",$G$149:$G$156,0),1)),0))),((IFERROR((OFFSET($G$163,MATCH(\"conveyor transfer points\",$G$165:$G$172,0),1)),0))))","v":0},{"$f":"SUM((IFERROR(OFFSET($G$20,MATCH(\"conveyor transfer points\",$G$21:$G$28,0),3),0)),((IFERROR((OFFSET($G$36,MATCH(\"conveyor transfer points\",$G$37:$G$44,0),3)),0))),((IFERROR((OFFSET($G$52,MATCH(\"conveyor transfer points\",$G$53:$G$60,0),3)),0))),((IFERROR((OFFSET($G$68,MATCH(\"conveyor transfer points\",$G$69:$G$76,0),3)),0))),((IFERROR((OFFSET($G$84,MATCH(\"conveyor transfer points\",$G$85:$G$92,0),3)),0))),((IFERROR((OFFSET($G$100,MATCH(\"conveyor transfer points\",$G$101:$G$108,0),3)),0))),((IFERROR((OFFSET($G$116,MATCH(\"conveyor transfer points\",$G$117:$G$124,0),3)),0))),((IFERROR((OFFSET($G$132,MATCH(\"conveyor transfer points\",$G$133:$G$140,0),3)),0))),((IFERROR((OFFSET($G$148,MATCH(\"conveyor transfer points\",$G$149:$G$156,0),3)),0))),((IFERROR((OFFSET($G$163,MATCH(\"conveyor transfer points\",$G$165:$G$172,0),3)),0))))","v":0},null,null,null,{"$f":"SUM((IFERROR(OFFSET($G$20,MATCH(\"conveyor transfer points\",$G$21:$G$28,0),4),0)),((IFERROR((OFFSET($G$36,MATCH(\"conveyor transfer points\",$G$37:$G$44,0),4)),0))),((IFERROR((OFFSET($G$52,MATCH(\"conveyor transfer points\",$G$53:$G$60,0),4)),0))),((IFERROR((OFFSET($G$68,MATCH(\"conveyor transfer points\",$G$69:$G$76,0),4)),0))),((IFERROR((OFFSET($G$84,MATCH(\"conveyor transfer points\",$G$85:$G$92,0),4)),0))),((IFERROR((OFFSET($G$100,MATCH(\"conveyor transfer points\",$G$101:$G$108,0),4)),0))),((IFERROR((OFFSET($G$116,MATCH(\"conveyor transfer points\",$G$117:$G$124,0),4)),0))),((IFERROR((OFFSET($G$132,MATCH(\"conveyor transfer points\",$G$133:$G$140,0),4)),0))),((IFERROR((OFFSET($G$148,MATCH(\"conveyor transfer points\",$G$149:$G$156,0),4)),0))),((IFERROR((OFFSET($G$163,MATCH(\"conveyor transfer points\",$G$165:$G$172,0),4)),0))))","v":0}]
[null,null,null,null,"NOx",null,null,null,null,null,null,null,null,"Maximum (acres/day)","Actual (acres-day/yr)"]
[null,null,null,null,"VOC",null,null,null,null,null,null,null,"Storage Pile",{"$f":"SUM(G32,G48,G64,G80,G96,G112,G128,G144,G160,G176)","v":0},{"$f":"SUM(H32*I32,H48*I48,H64*I64,H80*I80,H96*I96,H112*I112,H128*I128,H144*I144,H160*I160,H176*I176)","v":0}]
[null,null,null,null,"CO"]
[]
[null,null,null,null,null,null,null,null,null,null,null,null,"Actual Emissions for the Listed Processes at this Plant"]
[null,null,null,null,null,null,null,null,null,null,null,null,null,"Maximum Design Rate (tons/hr)","Emission Factor (lb/ton)","Potential Uncontrolled Emissions (lb/hr)","Potential Controlled Emissions (lb/hr)","Potential Annual Emissions (tons/yr)","Actual Annual Emissions (tons/yr)"]
[null,"CRUSHER PLANT","Site 1",null,"Emission Point #","Emission    Unit #","Processes","Combined Maximum Hourly Design Rate for all Like Processes (tons/hr)",{"$f":"('Facility Information'!G5&\" Annual Throughput (tons)\")","v":" Annual Throughput (tons)"},null,null,null,"PM2.5"]
[null,null,null,null,null,null,null,null,null,"no wet supress","wet supress",null,"Primary Crusher",{"$f":"N5","v":0},{"$f":"IF(N20=0,0,IF(OR($C$24=\"no\",$C$40=\"no\",$C$56=\"no\",$C$72=\"no\",$C$88=\"no\",$C$104=\"no\",$C$120=\"no\",$C$136=\"no\",$C$152=\"no\",$C$168=\"no\"),'Emission Factors'!D8,'Emission Factors'!D20))","v":0},{"$f":"IF(OR($C$24=\"no\",$C$40=\"no\",$C$56=\"no\",$C$72=\"no\",$C$88=\"no\",$C$104=\"no\",$C$120=\"no\",$C$136=\"no\",$C$152=\"no\",$C$168=\"no\"),N20*O20,\"\")","v":""},{"$f":"IF($F$10>0,$F$10,IF(OR($C$24=\"no\",$C$40=\"no\",$C$56=\"no\",$C$72=\"no\",$C$88=\"no\",$C$104=\"no\",$C$120=\"no\",$C$136=\"no\",$C$152=\"no\",$C$168=\"no\"),\"\",N20*O20))","v":0},{"$f":"IF($G$10>0,$G$10,IF($C$9>0,$C$9*O20/2000,IF($C$10>0,$C$10*365*O20/2000,IF($C$11>0,$C$11*365*O20*N20/2000,IF(Q20=\"\",P20*8760/2000,Q20*8760/2000)))))","v":0},{"$f":"(O5*'Emission Factors'!D8/2000)+('Emission Factors'!D20*S5/2000)","v":0}]
["YES","Site Name:",null,null,{"$f":"IF(G21=\"\",\"\",\"LP-4 EP-1\")","v":""},{"$f":"IF(G21=\"\",\"\",IF(G21=\"primary crusher\",\"LP-4 EU-1\",IF(G21=\"screening\",\"LP-4 EU-2\",IF(G21=\"secondary crusher\",\"LP-4 EU-3\",IF(G21=\"tertiary crusher\",\"LP-4 EU-4\",IF(G21=\"fines crushing\",\"LP-4 EU-5\",IF(G21=\"fines screening\",\"LP-4 EU-6\",IF(G21=\"wet drilling: unfragmented stone\",\"LP-4 EU-7\",IF(G21=\"conveyor transfer points\",\"LP-4 EU-8\")))))))))","v":""},null,null,null,{"$f":"IF($C24=\"no\",I21,0)","v":0},{"$f":"IF($C$24=\"yes\",I21,0)","v":0},null,"Screening",0,{"$f":"IF(N21=0,0,IF(OR($C$24=\"no\",$C$40=\"no\",$C$56=\"no\",$C$72=\"no\",$C$88=\"no\",$C$104=\"no\",$C$120=\"no\",$C$136=\"no\",$C$152=\"no\",$C$168=\"no\"),'Emission Factors'!D9,'Emission Factors'!D21))","v":0},"",0,{"$f":"IF($G$10>0,\"\",IF($C$9>0,$C$9*O21/2000,IF($C$10>0,$C$10*365*O21/2000,IF($C$11>0,$C$11*365*O21*N21/2000,IF(Q21=\"\",P21*8760/2000,Q21*8760/2000)))))","v":0},{"$f":"(O6*'Emission Factors'!D9/2000)+('Emission Factors'!D21*S6/2000)","v":0}]
["NO","County:",null,null,{"$f":"IF(G22=\"\",\"\",\"LP-4 EP-1\")","v":""},{"$f":"IF(G22=\"\",\"\",IF(G22=\"primary crusher\",\"LP-4 EU-1\",IF(G22=\"screening\",\"LP-4 EU-2\",IF(G22=\"secondary crusher\",\"LP-4 EU-3\",IF(G22=\"tertiary crusher\",\"LP-4 EU-4\",IF(G22=\"fines crushing\",\"LP-4 EU-5\",IF(G22=\"fines screening\",\"LP-4 EU-6\",IF(G22=\"wet drilling: unfragmented stone\",\"LP-4 EU-7\",IF(G22=\"conveyor transfer points\",\"LP-4 EU-8\")))))))))","v":""},null,null,null,{"$f":"IF($C$24=\"no\",I22,0)","v":0},0,null,"Secondary Crusher",0,{"$f":"IF(N22=0,0,IF(OR($C$24=\"no\",$C$40=\"no\",$C$56=\"no\",$C$72=\"no\",$C$88=\"no\",$C$104=\"no\",$C$120=\"no\",$C$136=\"no\",$C$152=\"no\",$C$168=\"no\"),'Emission Factors'!D10,'Emission Factors'!D22))","v":0},"",0,0,{"$f":"(O7*'Emission Factors'!D10/2000)+('Emission Factors'!D22*S7/2000)","v":0}]
[null,"Crushing Period (Dates):",null,null,"","",null,null,null,0,0,null,"Tertiary Crusher",0,{"$f":"IF(N23=0,0,IF(OR(C24=\"no\",C40=\"no\",C56=\"no\",C72=\"no\",C88=\"no\",C104=\"no\",C120=\"no\",C136=\"no\",C152=\"no\",C168=\"no\"),'Emission Factors'!D12,'Emission Factors'!D24))","v":0},"",0,0,{"$f":"(O8*'Emission Factors'!D12/2000)+('Emission Factors'!D24*S8/2000)","v":0}]
["Primary Crusher","Controlled with Dust Suppressant or Material Being Processed has Moisture Content > 1.5%?",null,null,"","",null,null,null,0,0,null,"Fines Crushing",0,{"$f":"IF(N24=0,0,IF(OR(C24=\"no\",C40=\"no\",C56=\"no\",C72=\"no\",C88=\"no\",C104=\"no\",C120=\"no\",C136=\"no\",C152=\"no\",C168=\"no\"),'Emission Factors'!D6,'Emission Factors'!D18))","v":0},"",0,0,{"$f":"(O9*'Emission Factors'!D6/2000)+('Emission Factors'!D18*S9/2000)","v":0}]
["Screening",null,null,null,"","",null,null,null,0,0,null,"Fines Screening",0,{"$f":"IF(N25=0,0,IF(OR($C$24=\"no\",$C$40=\"no\",$C$56=\"no\",$C$72=\"no\",$C$88=\"no\",$C$104=\"no\",$C$120=\"no\",$C$136=\"no\",$C$152=\"no\",$C$168=\"no\"),'Emission Factors'!D7,'Emission Factors'!D19))","v":0},"",0,0,{"$f":"(O10*'Emission Factors'!D7/2000)+('Emission Factors'!D19*S10/2000)","v":0}]
["Secondary Crusher",null,null,null,"","",null,null,null,0,0,null,"Wet Drilling: Unfragmented Stone",0,{"$f":"IF(N26=0,0,IF(OR(C24=\"no\",C40=\"no\",C56=\"no\",C72=\"no\",C88=\"no\",C104=\"no\",C120=\"no\",C136=\"no\",C152=\"no\",C168=\"no\"),'Emission Factors'!D13,'Emission Factors'!D25))","v":0},"",0,0,{"$f":"(O11*'Emission Factors'!D13/2000)+('Emission Factors'!D25*S11/2000)","v":0}]
["Tertiary Crusher",null,null,null,"","",null,null,null,0,0,null,"Conveyor Transfer Points",0,{"$f":"IF(N27=0,0,IF(OR(C24=\"no\",C40=\"no\",C56=\"no\",C72=\"no\",C88=\"no\",C104=\"no\",C120=\"no\",C136=\"no\",C152=\"no\",C168=\"no\"),'Emission Factors'!D5,'Emission Factors'!D17))","v":0},"",0,0,{"$f":"(O12*'Emission Factors'!D5/2000)+('Emission Factors'!D17*S12/2000)","v":0}]
["Fines Crushing",null,null,null,"","",null,null,null,0,0,null,"PM10"]
["Fines Screening",null,null,null,null,null,null,null,null,null,null,null,"Primary Crusher",{"$f":"N5","v":0},{"$f":"IF(N29=0,0,IF(OR($C$24=\"no\",$C$40=\"no\",$C$56=\"no\",$C$72=\"no\",$C$88=\"no\",$C$104=\"no\",$C$120=\"no\",$C$136=\"no\",$C$152=\"no\",$C$168=\"no\"),'Emission Factors'!F8,'Emission Factors'!F20))","v":0},{"$f":"IF(OR($C$24=\"no\",$C$40=\"no\",$C$56=\"no\",$C$72=\"no\",$C$88=\"no\",$C$104=\"no\",$C$120=\"no\",$C$136=\"no\",$C$152=\"no\",$C$168=\"no\"),N29*O29,\"\")","v":""},{"$f":"IF($F$11>0,$F$11,IF(OR($C$24=\"no\",$C$40=\"no\",$C$56=\"no\",$C$72=\"no\",$C$88=\"no\",$C$104=\"no\",$C$120=\"no\",$C$136=\"no\",$C$152=\"no\",$C$168=\"no\"),\"\",N29*O29))","v":0},{"$f":"IF($G$11>0,$G$11,IF($C$9>0,$C$9*O29/2000,IF($C$10>0,$C$10*365*O29/2000,IF($C$11>0,$C$11*365*O29*N29/2000,IF(Q29=\"\",P29*8760/2000,Q29*8760/2000)))))","v":0},{"$f":"(O5*'Emission Factors'!F8/2000)+('Emission Factors'!F20*S5/2000)","v":0}]
["Wet Drilling: Unfragmented Stone",null,null,null,"Stock Pile Area",null,null,null,null,null,null,null,"Screening",{"$f":"N6","v":0},{"$f":"IF(N30=0,0,IF(OR($C$24=\"no\",$C$40=\"no\",$C$56=\"no\",$C$72=\"no\",$C$88=\"no\",$C$104=\"no\",$C$120=\"no\",$C$136=\"no\",$C$152=\"no\",$C$168=\"no\"),'Emission Factors'!F9,'Emission Factors'!F21))","v":0},"",0,{"$f":"IF($G$11>0,\"\",IF($C$9>0,$C$9*O30/2000,IF($C$10>0,$C$10*365*O30/2000,IF($C$11>0,$C$11*365*O30*N30/2000,IF(Q30=\"\",P30*8760/2000,Q30*8760/2000)))))","v":0},{"$f":"(O6*'Emission Factors'!F9/2000)+('Emission Factors'!F21*S6/2000)","v":0}]
["Conveyor Transfer Points",null,null,null,null,"Emission Unit #","Maximum Storage Area (acres)","Actual Storage Area (acres)","Actual Days in Existence (days)",null,null,null,"Secondary Crusher",0,{"$f":"IF(N31=0,0,IF(OR($C$24=\"no\",$C$40=\"no\",$C$56=\"no\",$C$72=\"no\",$C$88=\"no\",$C$104=\"no\",$C$120=\"no\",$C$136=\"no\",$C$152=\"no\",$C$168=\"no\"),'Emission Factors'!F10,'Emission Factors'!F22))","v":0},"",0,0,{"$f":"(O7*'Emission Factors'!F10/2000)+('Emission Factors'!F22*S7/2000)","v":0}]
[null,null,null,null,null,null,null,null,null,null,null,null,"Tertiary Crusher",0,{"$f":"IF(N32=0,0,IF(OR(C24=\"no\",C40=\"no\",C56=\"no\",C72=\"no\",C88=\"no\",C104=\"no\",C120=\"no\",C136=\"no\",C152=\"no\",C168=\"no\"),'Emission Factors'!F12,'Emission Factors'!F24))","v":0},"",0,0,{"$f":"(O8*'Emission Factors'!F12/2000)+('Emission Factors'!F24*S8/2000)","v":0}]
[null,null,null,null,null,null,null,null,null,null,null,null,"Fines Crushing",0,{"$f":"IF(N33=0,0,IF(OR(C24=\"no\",C40=\"no\",C56=\"no\",C72=\"no\",C88=\"no\",C104=\"no\",C120=\"no\",C136=\"no\",C152=\"no\",C168=\"no\"),'Emission Factors'!F6,'Emission Factors'!F18))","v":0},"",0,0,{"$f":"(O9*'Emission Factors'!F6/2000)+('Emission Factors'!F18*S9/2000)","v":0}]
[{"$f":"C21","v":0},null,null,null,null,null,null,null,null,null,null,null,"Fines Screening",0,{"$f":"IF(N34=0,0,IF(OR(C24=\"no\",C40=\"no\",C56=\"no\",C72=\"no\",C88=\"no\",C104=\"no\",C120=\"no\",C136=\"no\",C152=\"no\",C168=\"no\"),'Emission Factors'!F7,'Emission Factors'!F19))","v":0},"",0,0,{"$f":"(O10*'Emission Factors'!F7/2000)+('Emission Factors'!F19*S10/2000)","v":0}]
[{"$f":"C37","v":0},{"$f":"IF('Limestone Plant (LP-4)'!$D$4>1,\"CRUSHER PLANT\",\"\")","v":""},{"$f":"IF('Limestone Plant (LP-4)'!$D$4>1,\"Site 2\",\"\")","v":""},null,{"$f":"IF('Limestone Plant (LP-4)'!$D$4>1,\"Emission Point #\",\"\")","v":""},{"$f":"IF('Limestone Plant (LP-4)'!$D$4>1,\"Emission    Unit #\",\"\")","v":""},{"$f":"IF('Limestone Plant (LP-4)'!$D$4>1,\"Processes\",\"\")","v":""},{"$f":"IF('Limestone Plant (LP-4)'!$D$4>1,\"Combined Maximum Hourly Design Rate for all Like Processes (tons/hr)\",\"\")","v":""},{"$f":"IF('Limestone Plant (LP-4)'!$D$4>1,('Facility Information'!G5&\" Annual Throughput (tons)\"),\"\")","v":""},null,null,null,"Wet Drilling: Unfragmented Stone",0,{"$f":"IF(N35=0,0,IF(OR(C24=\"no\",C40=\"no\",C56=\"no\",C72=\"no\",C88=\"no\",C104=\"no\",C120=\"no\",C136=\"no\",C152=\"no\",C168=\"no\"),'Emission Factors'!F13,'Emission Factors'!F25))","v":0},"",0,0,{"$f":"(O11*'Emission Factors'!F13/2000)+('Emission Factors'!F25*S11/2000)","v":0}]
[{"$f":"C53","v":0},null,null,null,null,null,null,null,null,null,null,null,"Conveyor Transfer Points",0,{"$f":"IF(N36=0,0,IF(OR(C24=\"no\",C40=\"no\",C56=\"no\",C72=\"no\",C88=\"no\",C104=\"no\",C120=\"no\",C136=\"no\",C152=\"no\",C168=\"no\"),'Emission Factors'!F5,'Emission Factors'!F17))","v":0},"",0,0,{"$f":"(O12*'Emission Factors'!F5/2000)+('Emission Factors'!F17*S12/2000)","v":0}]
[{"$f":"C69","v":0},{"$f":"IF('Limestone Plant (LP-4)'!$D$4>1,\"Site Name:\",\"\")","v":""},null,null,{"$f":"IF(G37=\"\",\"\",\"LP-4 EP-1\")","v":""},{"$f":"IF(G37=\"\",\"\",IF(G37=\"primary crusher\",\"LP-4 EU-1\",IF(G37=\"screening\",\"LP-4 EU-2\",IF(G37=\"secondary crusher\",\"LP-4 EU-3\",IF(G37=\"tertiary crusher\",\"LP-4 EU-4\",IF(G37=\"fines crushing\",\"LP-4 EU-5\",IF(G37=\"fines screening\",\"LP-4 EU-6\",IF(G37=\"wet drilling: unfragmented stone\",\"LP-4 EU-7\",IF(G37=\"conveyor transfer points\",\"LP-4 EU-8\")))))))))","v":""},null,null,null,{"$f":"IF($C$40=\"no\",I37,0)","v":0},{"$f":"IF($C$40=\"yes\",I37,0)","v":0}]
[{"$f":"C85","v":0},{"$f":"IF('Limestone Plant (LP-4)'!$D$4>1,\"County:\",\"\")","v":""},null,null,{"$f":"IF(G38=\"\",\"\",\"LP-4 EP-1\")","v":""},{"$f":"IF(G38=\"\",\"\",IF(G38=\"primary crusher\",\"LP-4 EU-1\",IF(G38=\"screening\",\"LP-4 EU-2\",IF(G38=\"secondary crusher\",\"LP-4 EU-3\",IF(G38=\"tertiary crusher\",\"LP-4 EU-4\",IF(G38=\"fines crushing\",\"LP-4 EU-5\",IF(G38=\"fines screening\",\"LP-4 EU-6\",IF(G38=\"wet drilling: unfragmented stone\",\"LP-4 EU-7\",IF(G38=\"conveyor transfer points\",\"LP-4 EU-8\")))))))))","v":""},null,null,null,{"$f":"IF($C$40=\"no\",I38,0)","v":0},{"$f":"IF($C$40=\"yes\",I38,0)","v":0},null,null,"Max Design Rate (acres/day)","Emission Factor   (lb/acre-day)","Potential Uncontrolled Emissions (lb/hr)","Potential Controlled Emissions (lb/hr)","Potential Annual Emissions (tons/yr)","Actual Annual Emissions (tons/yr)"]
[{"$f":"C101","v":0},{"$f":"IF('Limestone Plant (LP-4)'!$D$4>1,\"Crushing Period (Dates):\",\"\")","v":""},null,null,"","",null,null,null,0,0,null,"Storage Pile"]
[{"$f":"C117","v":0},{"$f":"IF('Limestone Plant (LP-4)'!$D$4>1,\"Controlled with Dust Suppressant or Material Being Processed has Moisture Content > 1.5%?\",\"\")","v":""},null,null,"","",null,null,null,0,0,null,"PM2.5/PM10",{"$f":"N14","v":0},3.64,{"$f":"N40*O40*(1/24)","v":0},null,{"$f":"N40*O40*365/2000","v":0},{"$f":"O14*O40/2000","v":0}]
[{"$f":"C133","v":0},null,null,null,"","",null,null,null,0,0]
[{"$f":"C149","v":0},null,null,null,"","",null,null,null,0,0]
[{"$f":"C165","v":0},null,null,null,"","",null,null,null,0,0]
[null,null,null,null,"","",null,null,null,0,0]
[]
[null,null,null,null,{"$f":"IF('Limestone Plant (LP-4)'!$D$4>1,\"Stock Pile Area\",\"\")","v":""}]
[null,null,null,null,null,{"$f":"IF('Limestone Plant (LP-4)'!$D$4>1,\"Emission Unit #\",\"\")","v":""},{"$f":"IF('Limestone Plant (LP-4)'!$D$4>1,\"Maximum Storage Area (acres)\",\"\")","v":""},{"$f":"IF('Limestone Plant (LP-4)'!$D$4>1,\"Actual Storage Area (acres)\",\"\")","v":""},{"$f":"IF('Limestone Plant (LP-4)'!$D$4>1,\"Actual Days in Existence (days)\",\"\")","v":""}]
[]
[]
[]
[null,{"$f":"IF('Limestone Plant (LP-4)'!$D$4>2,\"CRUSHER PLANT\",\"\")","v":""},{"$f":"IF('Limestone Plant (LP-4)'!$D$4>2,\"Site 3\",\"\")","v":""},null,{"$f":"IF('Limestone Plant (LP-4)'!$D$4>2,\"Emission Point #\",\"\")","v":""},{"$f":"IF('Limestone Plant (LP-4)'!$D$4>2,\"Emission    Unit #\",\"\")","v":""},{"$f":"IF('Limestone Plant (LP-4)'!$D$4>2,\"Processes\",\"\")","v":""},{"$f":"IF('Limestone Plant (LP-4)'!$D$4>2,\"Combined Maximum Hourly Design Rate for all Like Processes (tons/hr)\",\"\")","v":""},{"$f":"IF('Limestone Plant (LP-4)'!$D$4>2,('Facility Information'!G5&\" Annual Throughput (tons)\"),\"\")","v":""}]
[]
[null,{"$f":"IF('Limestone Plant (LP-4)'!$D$4>2,\"Site Name:\",\"\")","v":""},null,null,{"$f":"IF(G53=\"\",\"\",\"LP-4 EP-1\")","v":""},{"$f":"IF(G53=\"\",\"\",IF(G53=\"primary crusher\",\"LP-4 EU-1\",IF(G53=\"screening\",\"LP-4 EU-2\",IF(G53=\"secondary crusher\",\"LP-4 EU-3\",IF(G53=\"tertiary crusher\",\"LP-4 EU-4\",IF(G53=\"fines crushing\",\"LP-4 EU-5\",IF(G53=\"fines screening\",\"LP-4 EU-6\",IF(G53=\"wet drilling: unfragmented stone\",\"LP-4 EU-7\",IF(G53=\"conveyor transfer points\",\"LP-4 EU-8\")))))))))","v":""},null,null,null,{"$f":"IF($C$56=\"no\",I53,0)","v":0},{"$f":"IF($C$56=\"yes\",I53,0)","v":0}]
[null,{"$f":"IF('Limestone Plant (LP-4)'!$D$4>2,\"County:\",\"\")","v":""},null,null,{"$f":"IF(G54=\"\",\"\",\"LP-4 EP-1\")","v":""},{"$f":"IF(G54=\"\",\"\",IF(G54=\"primary crusher\",\"LP-4 EU-1\",IF(G54=\"screening\",\"LP-4 EU-2\",IF(G54=\"secondary crusher\",\"LP-4 EU-3\",IF(G54=\"tertiary crusher\",\"LP-4 EU-4\",IF(G54=\"fines crushing\",\"LP-4 EU-5\",IF(G54=\"fines screening\",\"LP-4 EU-6\",IF(G54=\"wet drilling: unfragmented stone\",\"LP-4 EU-7\",IF(G54=\"conveyor transfer points\",\"LP-4 EU-8\")))))))))","v":""},null,null,null,{"$f":"IF($C$56=\"no\",I54,0)","v":0},{"$f":"IF($C$56=\"yes\",I54,0)","v":0}]
[null,{"$f":"IF('Limestone Plant (LP-4)'!$D$4>2,\"Crushing Period (Dates):\",\"\")","v":""},null,null,"","",null,null,null,0,0]
[null,{"$f":"IF('Limestone Plant (LP-4)'!$D$4>2,\"Controlled with Dust Suppressant or Material Being Processed has Moisture Content > 1.5%?\",\"\")","v":""},null,null,"","",null,null,null,0,0]
[null,null,null,null,"","",null,null,null,0,0]
[null,null,null,null,"","",null,null,null,0,0]
[null,null,null,null,"","",null,null,null,0,0]
[null,null,null,null,"","",null,null,null,0,0]
[]
[null,null,null,null,{"$f":"IF('Limestone Plant (LP-4)'!$D$4>2,\"Stock Pile Area\",\"\")","v":""}]
[null,null,null,null,null,{"$f":"IF('Limestone Plant (LP-4)'!$D$4>2,\"Emission Unit #\",\"\")","v":""},{"$f":"IF('Limestone Plant (LP-4)'!$D$4>2,\"Maximum Storage Area (acres)\",\"\")","v":""},{"$f":"IF('Limestone Plant (LP-4)'!$D$4>2,\"Actual Storage Area (acres)\",\"\")","v":""},{"$f":"IF('Limestone Plant (LP-4)'!$D$4>2,\"Actual Days in Existence (days)\",\"\")","v":""}]
[]
[]
[]
[null,{"$f":"IF('Limestone Plant (LP-4)'!$D$4>3,\"CRUSHER PLANT\",\"\")","v":""},{"$f":"IF('Limestone Plant (LP-4)'!$D$4>3,\"Site 4\",\"\")","v":""},null,{"$f":"IF('Limestone Plant (LP-4)'!$D$4>3,\"Emission Point #\",\"\")","v":""},{"$f":"IF('Limestone Plant (LP-4)'!$D$4>3,\"Emission    Unit #\",\"\")","v":""},{"$f":"IF('Limestone Plant (LP-4)'!$D$4>3,\"Processes\",\"\")","v":""},{"$f":"IF('Limestone Plant (LP-4)'!$D$4>3,\"Combined Maximum Hourly Design Rate for all Like Processes (tons/hr)\",\"\")","v":""},{"$f":"IF('Limestone Plant (LP-4)'!$D$4>3,('Facility Information'!G43&\" Annual Throughput (tons)\"),\"\")","v":""}]
[]
[null,{"$f":"IF('Limestone Plant (LP-4)'!$D$4>3,\"Site Name:\",\"\")","v":""},null,null,{"$f":"IF(G69=\"\",\"\",\"LP-4 EP-1\")","v":""},{"$f":"IF(G69=\"\",\"\",IF(G69=\"primary crusher\",\"LP-4 EU-1\",IF(G69=\"screening\",\"LP-4 EU-2\",IF(G69=\"secondary crusher\",\"LP-4 EU-3\",IF(G69=\"tertiary crusher\",\"LP-4 EU-4\",IF(G69=\"fines crushing\",\"LP-4 EU-5\",IF(G69=\"fines screening\",\"LP-4 EU-6\",IF(G69=\"wet drilling: unfragmented stone\",\"LP-4 EU-7\",IF(G69=\"conveyor transfer points\",\"LP-4 EU-8\")))))))))","v":""},null,null,null,{"$f":"IF($C$72=\"no\",I69,0)","v":0},{"$f":"IF($C$72=\"yes\",I69,0)","v":0}]
[null,{"$f":"IF('Limestone Plant (LP-4)'!$D$4>3,\"County:\",\"\")","v":""},null,null,{"$f":"IF(G70=\"\",\"\",\"LP-4 EP-1\")","v":""},{"$f":"IF(G70=\"\",\"\",IF(G70=\"primary crusher\",\"LP-4 EU-1\",IF(G70=\"screening\",\"LP-4 EU-2\",IF(G70=\"secondary crusher\",\"LP-4 EU-3\",IF(G70=\"tertiary crusher\",\"LP-4 EU-4\",IF(G70=\"fines crushing\",\"LP-4 EU-5\",IF(G70=\"fines screening\",\"LP-4 EU-6\",IF(G70=\"wet drilling: unfragmented stone\",\"LP-4 EU-7\",IF(G70=\"conveyor transfer points\",\"LP-4 EU-8\")))))))))","v":""},null,null,null,{"$f":"IF($C$72=\"no\",I70,0)","v":0},{"$f":"IF($C$72=\"yes\",I70,0)","v":0}]
[null,{"$f":"IF('Limestone Plant (LP-4)'!$D$4>3,\"Crushing Period (Dates):\",\"\")","v":""},null,null,"","",null,null,null,0,0]
[null,{"$f":"IF('Limestone Plant (LP-4)'!$D$4>3,\"Controlled with Dust Suppressant or Material Being Processed has Moisture Content > 1.5%?\",\"\")","v":""},null,null,"","",null,null,null,0,0]
[null,null,null,null,"","",null,null,null,0,0]
[null,null,null,null,"","",null,null,null,0,0]
[null,null,null,null,"","",null,null,null,0,0]
[null,null,null,null,"","",null,null,null,0,0]
[]
[null,null,null,null,{"$f":"IF('Limestone Plant (LP-4)'!$D$4>3,\"Stock Pile Area\",\"\")","v":""}]
[null,null,null,null,null,{"$f":"IF('Limestone Plant (LP-4)'!$D$4>3,\"Emission Unit #\",\"\")","v":""},{"$f":"IF('Limestone Plant (LP-4)'!$D$4>3,\"Maximum Storage Area (acres)\",\"\")","v":""},{"$f":"IF('Limestone Plant (LP-4)'!$D$4>3,\"Actual Storage Area (acres)\",\"\")","v":""},{"$f":"IF('Limestone Plant (LP-4)'!$D$4>3,\"Actual Days in Existence (days)\",\"\")","v":""}]
[]
[]
[]
[null,{"$f":"IF('Limestone Plant (LP-4)'!$D$4>4,\"CRUSHER PLANT\",\"\")","v":""},{"$f":"IF('Limestone Plant (LP-4)'!$D$4>4,\"Site 5\",\"\")","v":""},null,{"$f":"IF('Limestone Plant (LP-4)'!$D$4>4,\"Emission Point #\",\"\")","v":""},{"$f":"IF('Limestone Plant (LP-4)'!$D$4>4,\"Emission    Unit #\",\"\")","v":""},{"$f":"IF('Limestone Plant (LP-4)'!$D$4>4,\"Processes\",\"\")","v":""},{"$f":"IF('Limestone Plant (LP-4)'!$D$4>4,\"Combined Maximum Hourly Design Rate for all Like Processes (tons/hr)\",\"\")","v":""},{"$f":"IF('Limestone Plant (LP-4)'!$D$4>4,('Facility Information'!G5&\" Annual Throughput (tons)\"),\"\")","v":""}]
[]
[null,{"$f":"IF('Limestone Plant (LP-4)'!$D$4>4,\"Site Name:\",\"\")","v":""},null,null,{"$f":"IF(G85=\"\",\"\",\"LP-4 EP-1\")","v":""},{"$f":"IF(G85=\"\",\"\",IF(G85=\"primary crusher\",\"LP-4 EU-1\",IF(G85=\"screening\",\"LP-4 EU-2\",IF(G85=\"secondary crusher\",\"LP-4 EU-3\",IF(G85=\"tertiary crusher\",\"LP-4 EU-4\",IF(G85=\"fines crushing\",\"LP-4 EU-5\",IF(G85=\"fines screening\",\"LP-4 EU-6\",IF(G85=\"wet drilling: unfragmented stone\",\"LP-4 EU-7\",IF(G85=\"conveyor transfer points\",\"LP-4 EU-8\")))))))))","v":""},null,null,null,{"$f":"IF($C$88=\"no\",I85,0)","v":0},{"$f":"IF($C$88=\"yes\",I85,0)","v":0}]
[null,{"$f":"IF('Limestone Plant (LP-4)'!$D$4>4,\"County:\",\"\")","v":""},null,null,{"$f":"IF(G86=\"\",\"\",\"LP-4 EP-1\")","v":""},{"$f":"IF(G86=\"\",\"\",IF(G86=\"primary crusher\",\"LP-4 EU-1\",IF(G86=\"screening\",\"LP-4 EU-2\",IF(G86=\"secondary crusher\",\"LP-4 EU-3\",IF(G86=\"tertiary crusher\",\"LP-4 EU-4\",IF(G86=\"fines crushing\",\"LP-4 EU-5\",IF(G86=\"fines screening\",\"LP-4 EU-6\",IF(G86=\"wet drilling: unfragmented stone\",\"LP-4 EU-7\",IF(G86=\"conveyor transfer points\",\"LP-4 EU-8\")))))))))","v":""},null,null,null,{"$f":"IF($C$88=\"no\",I86,0)","v":0},{"$f":"IF($C$88=\"yes\",I86,0)","v":0}]
[null,{"$f":"IF('Limestone Plant (LP-4)'!$D$4>4,\"Crushing Period (Dates):\",\"\")","v":""},null,null,"","",null,null,null,0,0]
[null,{"$f":"IF('Limestone Plant (LP-4)'!$D$4>4,\"Controlled with Dust Suppressant or Material Being Processed has Moisture Content > 1.5%?\",\"\")","v":""},null,null,"","",null,null,null,0,0]
[null,null,null,null,"","",null,null,null,0,0]
[null,null,null,null,"","",null,null,null,0,0]
[null,null,null,null,"","",null,null,null,0,0]
[null,null,null,null,"","",null,null,null,0,0]
[]
[null,null,null,null,{"$f":"IF('Limestone Plant (LP-4)'!$D$4>4,\"Stock Pile Area\",\"\")","v":""}]
[null,null,null,null,null,{"$f":"IF('Limestone Plant (LP-4)'!$D$4>4,\"Emission Unit #\",\"\")","v":""},{"$f":"IF('Limestone Plant (LP-4)'!$D$4>4,\"Maximum Storage Area (acres)\",\"\")","v":""},{"$f":"IF('Limestone Plant (LP-4)'!$D$4>4,\"Actual Storage Area (acres)\",\"\")","v":""},{"$f":"IF('Limestone Plant (LP-4)'!$D$4>4,\"Actual Days in Existence (days)\",\"\")","v":""}]
[]
[]
[]
[null,{"$f":"IF('Limestone Plant (LP-4)'!$D$4>5,\"CRUSHER PLANT\",\"\")","v":""},{"$f":"IF('Limestone Plant (LP-4)'!$D$4>5,\"Site 6\",\"\")","v":""},null,{"$f":"IF('Limestone Plant (LP-4)'!$D$4>5,\"Emission Point #\",\"\")","v":""},{"$f":"IF('Limestone Plant (LP-4)'!$D$4>5,\"Emission    Unit #\",\"\")","v":""},{"$f":"IF('Limestone Plant (LP-4)'!$D$4>5,\"Processes\",\"\")","v":""},{"$f":"IF('Limestone Plant (LP-4)'!$D$4>5,\"Combined Maximum Hourly Design Rate for all Like Processes (tons/hr)\",\"\")","v":""},{"$f":"IF('Limestone Plant (LP-4)'!$D$4>5,('Facility Information'!G5&\" Annual Throughput (tons)\"),\"\")","v":""}]
[]
[null,{"$f":"IF('Limestone Plant (LP-4)'!$D$4>5,\"Site Name:\",\"\")","v":""},null,null,{"$f":"IF(G101=\"\",\"\",\"LP-4 EP-1\")","v":""},{"$f":"IF(G101=\"\",\"\",IF(G101=\"primary crusher\",\"LP-4 EU-1\",IF(G101=\"screening\",\"LP-4 EU-2\",IF(G101=\"secondary crusher\",\"LP-4 EU-3\",IF(G101=\"tertiary crusher\",\"LP-4 EU-4\",IF(G101=\"fines crushing\",\"LP-4 EU-5\",IF(G101=\"fines screening\",\"LP-4 EU-6\",IF(G101=\"wet drilling: unfragmented stone\",\"LP-4 EU-7\",IF(G101=\"conveyor transfer points\",\"LP-4 EU-8\")))))))))","v":""},null,null,null,{"$f":"IF($C$104=\"no\",I101,0)","v":0},{"$f":"IF($C$104=\"yes\",I101,0)","v":0}]
[null,{"$f":"IF('Limestone Plant (LP-4)'!$D$4>5,\"County:\",\"\")","v":""},null,null,{"$f":"IF(G102=\"\",\"\",\"LP-4 EP-1\")","v":""},{"$f":"IF(G102=\"\",\"\",IF(G102=\"primary crusher\",\"LP-4 EU-1\",IF(G102=\"screening\",\"LP-4 EU-2\",IF(G102=\"secondary crusher\",\"LP-4 EU-3\",IF(G102=\"tertiary crusher\",\"LP-4 EU-4\",IF(G102=\"fines crushing\",\"LP-4 EU-5\",IF(G102=\"fines screening\",\"LP-4 EU-6\",IF(G102=\"wet drilling: unfragmented stone\",\"LP-4 EU-7\",IF(G102=\"conveyor transfer points\",\"LP-4 EU-8\")))))))))","v":""},null,null,null,{"$f":"IF($C$104=\"no\",I102,0)","v":0},{"$f":"IF($C$104=\"yes\",I102,0)","v":0}]
[null,{"$f":"IF('Limestone Plant (LP-4)'!$D$4>5,\"Crushing Period (Dates):\",\"\")","v":""},null,null,"","",null,null,null,0,0]
[null,{"$f":"IF('Limestone Plant (LP-4)'!$D$4>5,\"Controlled with Dust Suppressant or Material Being Processed has Moisture Content > 1.5%?\",\"\")","v":""},null,null,"","",null,null,null,0,0]
[null,null,null,null,"","",null,null,null,0,0]
[null,null,null,null,"","",null,null,null,0,0]
[null,null,null,null,"","",null,null,null,0,0]
[null,null,null,null,"","",null,null,null,0,0]
[]
[null,null,null,null,{"$f":"IF('Limestone Plant (LP-4)'!$D$4>5,\"Stock Pile Area\",\"\")","v":""}]
[null,null,null,null,null,{"$f":"IF('Limestone Plant (LP-4)'!$D$4>5,\"Emission Unit #\",\"\")","v":""},{"$f":"IF('Limestone Plant (LP-4)'!$D$4>5,\"Maximum Storage Area (acres)\",\"\")","v":""},{"$f":"IF('Limestone Plant (LP-4)'!$D$4>5,\"Actual Storage Area (acres)\",\"\")","v":""},{"$f":"IF('Limestone Plant (LP-4)'!$D$4>5,\"Actual Days in Existence (days)\",\"\")","v":""}]
[]
[]
[]
[null,{"$f":"IF('Limestone Plant (LP-4)'!$D$4>6,\"CRUSHER PLANT\",\"\")","v":""},{"$f":"IF('Limestone Plant (LP-4)'!$D$4>6,\"Site 7\",\"\")","v":""},null,{"$f":"IF('Limestone Plant (LP-4)'!$D$4>6,\"Emission Point #\",\"\")","v":""},{"$f":"IF('Limestone Plant (LP-4)'!$D$4>6,\"Emission    Unit #\",\"\")","v":""},{"$f":"IF('Limestone Plant (LP-4)'!$D$4>6,\"Processes\",\"\")","v":""},{"$f":"IF('Limestone Plant (LP-4)'!$D$4>6,\"Combined Maximum Hourly Design Rate for all Like Processes (tons/hr)\",\"\")","v":""},{"$f":"IF('Limestone Plant (LP-4)'!$D$4>6,('Facility Information'!G5&\" Annual Throughput (tons)\"),\"\")","v":""}]
[]
[null,{"$f":"IF('Limestone Plant (LP-4)'!$D$4>6,\"Site Name:\",\"\")","v":""},null,null,{"$f":"IF(G117=\"\",\"\",\"LP-4 EP-1\")","v":""},{"$f":"IF(G117=\"\",\"\",IF(G117=\"primary crusher\",\"LP-4 EU-1\",IF(G117=\"screening\",\"LP-4 EU-2\",IF(G117=\"secondary crusher\",\"LP-4 EU-3\",IF(G117=\"tertiary crusher\",\"LP-4 EU-4\",IF(G117=\"fines crushing\",\"LP-4 EU-5\",IF(G117=\"fines screening\",\"LP-4 EU-6\",IF(G117=\"wet drilling: unfragmented stone\",\"LP-4 EU-7\",IF(G117=\"conveyor transfer points\",\"LP-4 EU-8\")))))))))","v":""},null,null,null,{"$f":"IF($C$120=\"no\",I117,0)","v":0},{"$f":"IF($C$120=\"yes\",I117,0)","v":0}]
[null,{"$f":"IF('Limestone Plant (LP-4)'!$D$4>6,\"County:\",\"\")","v":""},null,null,{"$f":"IF(G118=\"\",\"\",\"LP-4 EP-1\")","v":""},{"$f":"IF(G118=\"\",\"\",IF(G118=\"primary crusher\",\"LP-4 EU-1\",IF(G118=\"screening\",\"LP-4 EU-2\",IF(G118=\"secondary crusher\",\"LP-4 EU-3\",IF(G118=\"tertiary crusher\",\"LP-4 EU-4\",IF(G118=\"fines crushing\",\"LP-4 EU-5\",IF(G118=\"fines screening\",\"LP-4 EU-6\",IF(G118=\"wet drilling: unfragmented stone\",\"LP-4 EU-7\",IF(G118=\"conveyor transfer points\",\"LP-4 EU-8\")))))))))","v":""},null,null,null,{"$f":"IF($C$120=\"no\",I118,0)","v":0},{"$f":"IF($C$120=\"yes\",I118,0)","v":0}]
[null,{"$f":"IF('Limestone Plant (LP-4)'!$D$4>6,\"Crushing Period (Dates):\",\"\")","v":""},null,null,"","",null,null,null,0,0]
[null,{"$f":"IF('Limestone Plant (LP-4)'!$D$4>6,\"Controlled with Dust Suppressant or Material Being Processed has Moisture Content > 1.5%?\",\"\")","v":""},null,null,"","",null,null,null,0,0]
[null,null,null,null,"","",null,null,null,0,0]
[null,null,null,null,"","",null,null,null,0,0]
[null,null,null,null,"","",null,null,null,0,0]
[null,null,null,null,"","",null,null,null,0,0]
[]
[null,null,null,null,{"$f":"IF('Limestone Plant (LP-4)'!$D$4>6,\"Stock Pile Area\",\"\")","v":""}]
[null,null,null,null,null,{"$f":"IF('Limestone Plant (LP-4)'!$D$4>6,\"Emission Unit #\",\"\")","v":""},{"$f":"IF('Limestone Plant (LP-4)'!$D$4>6,\"Maximum Storage Area (acres)\",\"\")","v":""},{"$f":"IF('Limestone Plant (LP-4)'!$D$4>6,\"Actual Storage Area (acres)\",\"\")","v":""},{"$f":"IF('Limestone Plant (LP-4)'!$D$4>6,\"Actual Days in Existence (days)\",\"\")","v":""}]
[]
[]
[]
[null,{"$f":"IF('Limestone Plant (LP-4)'!$D$4>7,\"CRUSHER PLANT\",\"\")","v":""},{"$f":"IF('Limestone Plant (LP-4)'!$D$4>7,\"Site 8\",\"\")","v":""},null,{"$f":"IF('Limestone Plant (LP-4)'!$D$4>7,\"Emission Point #\",\"\")","v":""},{"$f":"IF('Limestone Plant (LP-4)'!$D$4>7,\"Emission   Unit #\",\"\")","v":""},{"$f":"IF('Limestone Plant (LP-4)'!$D$4>7,\"Processes\",\"\")","v":""},{"$f":"IF('Limestone Plant (LP-4)'!$D$4>7,\"Combined Maximum Hourly Design Rate for all Like Processes (tons/hr)\",\"\")","v":""},{"$f":"IF('Limestone Plant (LP-4)'!$D$4>7,('Facility Information'!G5&\" Annual Throughput (tons)\"),\"\")","v":""}]
[]
[null,{"$f":"IF('Limestone Plant (LP-4)'!$D$4>7,\"Site Name:\",\"\")","v":""},null,null,{"$f":"IF(G133=\"\",\"\",\"LP-4 EP-1\")","v":""},{"$f":"IF(G133=\"\",\"\",IF(G133=\"primary crusher\",\"LP-4 EU-1\",IF(G133=\"screening\",\"LP-4 EU-2\",IF(G133=\"secondary crusher\",\"LP-4 EU-3\",IF(G133=\"tertiary crusher\",\"LP-4 EU-4\",IF(G133=\"fines crushing\",\"LP-4 EU-5\",IF(G133=\"fines screening\",\"LP-4 EU-6\",IF(G133=\"wet drilling: unfragmented stone\",\"LP-4 EU-7\",IF(G133=\"conveyor transfer points\",\"LP-4 EU-8\")))))))))","v":""},null,null,null,{"$f":"IF($C$136=\"no\",I133,0)","v":0},{"$f":"IF($C$136=\"yes\",I133,0)","v":0}]
[null,{"$f":"IF('Limestone Plant (LP-4)'!$D$4>7,\"County:\",\"\")","v":""},null,null,{"$f":"IF(G134=\"\",\"\",\"LP-4 EP-1\")","v":""},{"$f":"IF(G134=\"\",\"\",IF(G134=\"primary crusher\",\"LP-4 EU-1\",IF(G134=\"screening\",\"LP-4 EU-2\",IF(G134=\"secondary crusher\",\"LP-4 EU-3\",IF(G134=\"tertiary crusher\",\"LP-4 EU-4\",IF(G134=\"fines crushing\",\"LP-4 EU-5\",IF(G134=\"fines screening\",\"LP-4 EU-6\",IF(G134=\"wet drilling: unfragmented stone\",\"LP-4 EU-7\",IF(G134=\"conveyor transfer points\",\"LP-4 EU-8\")))))))))","v":""},null,null,null,{"$f":"IF($C$136=\"no\",I134,0)","v":0},{"$f":"IF($C$136=\"yes\",I134,0)","v":0}]
[null,{"$f":"IF('Limestone Plant (LP-4)'!$D$4>7,\"Crushing Period (Dates):\",\"\")","v":""},null,null,"","",null,null,null,0,0]
[null,{"$f":"IF('Limestone Plant (LP-4)'!$D$4>7,\"Controlled with Dust Suppressant or Material Being Processed has Moisture Content > 1.5%?\",\"\")","v":""},null,null,"","",null,null,null,0,0]
[null,null,null,null,"","",null,null,null,0,0]
[null,null,null,null,"","",null,null,null,0,0]
[null,null,null,null,"","",null,null,null,0,0]
[null,null,null,null,"","",null,null,null,0,0]
[]
[null,null,null,null,{"$f":"IF('Limestone Plant (LP-4)'!$D$4>7,\"Stock Pile Area\",\"\")","v":""}]
[null,null,null,null,null,{"$f":"IF('Limestone Plant (LP-4)'!$D$4>7,\"Emission Unit #\",\"\")","v":""},{"$f":"IF('Limestone Plant (LP-4)'!$D$4>7,\"Maximum Storage Area (acres)\",\"\")","v":""},{"$f":"IF('Limestone Plant (LP-4)'!$D$4>7,\"Actual Storage Area (acres)\",\"\")","v":""},{"$f":"IF('Limestone Plant (LP-4)'!$D$4>7,\"Actual Days in Existence (days)\",\"\")","v":""}]
[]
[]
[]
[null,{"$f":"IF('Limestone Plant (LP-4)'!$D$4>8,\"CRUSHER PLANT\",\"\")","v":""},{"$f":"IF('Limestone Plant (LP-4)'!$D$4>8,\"Site 9\",\"\")","v":""},null,{"$f":"IF('Limestone Plant (LP-4)'!$D$4>8,\"Emission Point #\",\"\")","v":""},{"$f":"IF('Limestone Plant (LP-4)'!$D$4>8,\"Emission   Unit #\",\"\")","v":""},{"$f":"IF('Limestone Plant (LP-4)'!$D$4>8,\"Processes\",\"\")","v":""},{"$f":"IF('Limestone Plant (LP-4)'!$D$4>8,\"Combined Maximum Hourly Design Rate for all Like Processes (tons/hr)\",\"\")","v":""},{"$f":"IF('Limestone Plant (LP-4)'!$D$4>8,('Facility Information'!G5&\" Annual Throughput (tons)\"),\"\")","v":""}]
[]
[null,{"$f":"IF('Limestone Plant (LP-4)'!$D$4>8,\"Site Name:\",\"\")","v":""},null,null,{"$f":"IF(G149=\"\",\"\",\"LP-4 EP-1\")","v":""},{"$f":"IF(G149=\"\",\"\",IF(G149=\"primary crusher\",\"LP-4 EU-1\",IF(G149=\"screening\",\"LP-4 EU-2\",IF(G149=\"secondary crusher\",\"LP-4 EU-3\",IF(G149=\"tertiary crusher\",\"LP-4 EU-4\",IF(G149=\"fines crushing\",\"LP-4 EU-5\",IF(G149=\"fines screening\",\"LP-4 EU-6\",IF(G149=\"wet drilling: unfragmented stone\",\"LP-4 EU-7\",IF(G149=\"conveyor transfer points\",\"LP-4 EU-8\")))))))))","v":""},null,null,null,{"$f":"IF($C$152=\"no\",I149,0)","v":0},{"$f":"IF($C$152=\"yes\",I149,0)","v":0}]
[null,{"$f":"IF('Limestone Plant (LP-4)'!$D$4>8,\"County:\",\"\")","v":""},null,null,{"$f":"IF(G150=\"\",\"\",\"LP-4 EP-1\")","v":""},{"$f":"IF(G150=\"\",\"\",IF(G150=\"primary crusher\",\"LP-4 EU-1\",IF(G150=\"screening\",\"LP-4 EU-2\",IF(G150=\"secondary crusher\",\"LP-4 EU-3\",IF(G150=\"tertiary crusher\",\"LP-4 EU-4\",IF(G150=\"fines crushing\",\"LP-4 EU-5\",IF(G150=\"fines screening\",\"LP-4 EU-6\",IF(G150=\"wet drilling: unfragmented stone\",\"LP-4 EU-7\",IF(G150=\"conveyor transfer points\",\"LP-4 EU-8\")))))))))","v":""},null,null,null,{"$f":"IF($C$152=\"no\",I150,0)","v":0},{"$f":"IF($C$152=\"yes\",I150,0)","v":0}]
[null,{"$f":"IF('Limestone Plant (LP-4)'!$D$4>8,\"Crushing Period (Dates):\",\"\")","v":""},null,null,"","",null,null,null,0,0]
[null,{"$f":"IF('Limestone Plant (LP-4)'!$D$4>8,\"Controlled with Dust Suppressant or Material Being Processed has Moisture Content > 1.5%?\",\"\")","v":""},null,null,"","",null,null,null,0,0]
[null,null,null,null,"","",null,null,null,0,0]
[null,null,null,null,"","",null,null,null,0,0]
[null,null,null,null,"","",null,null,null,0,0]
[null,null,null,null,"","",null,null,null,0,0]
[]
[null,null,null,null,{"$f":"IF('Limestone Plant (LP-4)'!$D$4>8,\"Stock Pile Area\",\"\")","v":""}]
[null,null,null,null,null,{"$f":"IF('Limestone Plant (LP-4)'!$D$4>8,\"Emission Unit #\",\"\")","v":""},{"$f":"IF('Limestone Plant (LP-4)'!$D$4>8,\"Maximum Storage Area (acres)\",\"\")","v":""},{"$f":"IF('Limestone Plant (LP-4)'!$D$4>8,\"Actual Storage Area (acres)\",\"\")","v":""},{"$f":"IF('Limestone Plant (LP-4)'!$D$4>8,\"Actual Days in Existence (days)\",\"\")","v":""}]
[]
[]
[]
[null,{"$f":"IF('Limestone Plant (LP-4)'!$D$4>9,\"CRUSHER PLANT\",\"\")","v":""},{"$f":"IF('Limestone Plant (LP-4)'!$D$4>9,\"Site 10\",\"\")","v":""},null,{"$f":"IF('Limestone Plant (LP-4)'!$D$4>9,\"Emission Point #\",\"\")","v":""},{"$f":"IF('Limestone Plant (LP-4)'!$D$4>9,\"Emission    Unit #\",\"\")","v":""},{"$f":"IF('Limestone Plant (LP-4)'!$D$4>9,\"Processes\",\"\")","v":""},{"$f":"IF('Limestone Plant (LP-4)'!$D$4>9,\"Combined Maximum Hourly Design Rate for all Like Processes (tons/hr)\",\"\")","v":""},{"$f":"IF('Limestone Plant (LP-4)'!$D$4>9,('Facility Information'!G5&\" Annual Throughput (tons)\"),\"\")","v":""}]
[]
[null,{"$f":"IF('Limestone Plant (LP-4)'!$D$4>9,\"Site Name:\",\"\")","v":""},null,null,{"$f":"IF(G165=\"\",\"\",\"LP-4 EP-1\")","v":""},{"$f":"IF(G165=\"\",\"\",IF(G165=\"primary crusher\",\"LP-4 EU-1\",IF(G165=\"screening\",\"LP-4 EU-2\",IF(G165=\"secondary crusher\",\"LP-4 EU-3\",IF(G165=\"tertiary crusher\",\"LP-4 EU-4\",IF(G165=\"fines crushing\",\"LP-4 EU-5\",IF(G165=\"fines screening\",\"LP-4 EU-6\",IF(G165=\"wet drilling: unfragmented stone\",\"LP-4 EU-7\",IF(G165=\"conveyor transfer points\",\"LP-4 EU-8\")))))))))","v":""},null,null,null,{"$f":"IF($C168=\"no\",I165,0)","v":0}]
[null,{"$f":"IF('Limestone Plant (LP-4)'!$D$4>9,\"County:\",\"\")","v":""},null,null,{"$f":"IF(G166=\"\",\"\",\"LP-4 EP-1\")","v":""},{"$f":"IF(G166=\"\",\"\",IF(G166=\"primary crusher\",\"LP-4 EU-1\",IF(G166=\"screening\",\"LP-4 EU-2\",IF(G166=\"secondary crusher\",\"LP-4 EU-3\",IF(G166=\"tertiary crusher\",\"LP-4 EU-4\",IF(G166=\"fines crushing\",\"LP-4 EU-5\",IF(G166=\"fines screening\",\"LP-4 EU-6\",IF(G166=\"wet drilling: unfragmented stone\",\"LP-4 EU-7\",IF(G166=\"conveyor transfer points\",\"LP-4 EU-8\")))))))))","v":""}]
[null,{"$f":"IF('Limestone Plant (LP-4)'!$D$4>9,\"Crushing Period (Dates):\",\"\")","v":""},null,null,"",""]
[null,{"$f":"IF('Limestone Plant (LP-4)'!$D$4>9,\"Controlled with Dust Suppressant or Material Being Processed has Moisture Content > 1.5%?\",\"\")","v":""},null,null,"",""]
[null,null,null,null,"",""]
[null,null,null,null,"",""]
[null,null,null,null,"",""]
[null,null,null,null,"",""]
[]
[null,null,null,null,{"$f":"IF('Limestone Plant (LP-4)'!$D$4>9,\"Stock Pile Area\",\"\")","v":""}]
[null,null,null,null,null,{"$f":"IF('Limestone Plant (LP-4)'!$D$4>9,\"Emission Unit #\",\"\")","v":""},{"$f":"IF('Limestone Plant (LP-4)'!$D$4>9,\"Maximum Storage Area (acres)\",\"\")","v":""},{"$f":"IF('Limestone Plant (LP-4)'!$D$4>9,\"Actual Storage Area (acres)\",\"\")","v":""},{"$f":"IF('Limestone Plant (LP-4)'!$D$4>9,\"Actual Days in Existence (days)\",\"\")","v":""}]

{"sheet":"Limestone Plant (LP-5)","index":5,"n_rows":175,"n_cols":19,"rows_kept":175,"cut":false,"hidden":true,"merged":[[167,1,169,1],[167,2,169,2],[119,1,121,1],[119,2,121,2],[135,1,137,1],[135,2,137,2],[151,1,153,1],[151,2,153,2],[71,1,73,1],[71,2,73,2],[87,1,89,1],[87,2,89,2],[103,1,105,1],[103,2,105,2],[23,1,25,1],[23,2,25,2],[39,1,41,1],[39,2,41,2],[55,1,57,1],[55,2,57,2],[162,4,163,4],[162,6,163,6],[162,7,163,7],[162,8,163,8],[130,4,131,4],[130,6,131,6],[130,7,131,7],[130,8,131,8],[146,4,147,4],[146,6,147,6],[146,7,147,7],[146,8,147,8],[130,5,131,5],[146,5,147,5],[162,5,163,5],[98,4,99,4],[98,6,99,6],[98,7,99,7],[98,8,99,8],[114,4,115,4],[114,6,115,6],[114,7,115,7],[114,8,115,8],[98,5,99,5],[114,5,115,5],[66,4,67,4],[66,6,67,6],[66,7,67,7],[66,8,67,8],[82,4,83,4],[82,6,83,6],[82,7,83,7],[82,8,83,8],[66,5,67,5],[82,5,83,5],[48,3,48,4],[50,4,51,4],[50,6,51,6],[50,7,51,7],[50,8,51,8],[50,5,51,5],[37,14,38,14],[37,15,38,15],[37,16,38,16],[37,17,38,17],[37,18,38,18],[34,4,35,4],[34,6,35,6],[34,7,35,7],[34,8,35,8],[37,13,38,13],[34,5,35,5],[17,16,18,16],[17,17,18,17],[17,18,18,18],[18,4,19,4],[18,6,19,6],[18,7,19,7],[18,8,19,8],[17,13,18,13],[17,14,18,14],[17,15,18,15],[18,5,19,5],[2,13,3,13],[2,14,3,14],[2,18,3,18],[3,1,3,2],[3,3,3,4],[11,1,13,2],[0,1,0,2],[1,1,1,2],[1,7,1,8],[2,12,3,12]]}
[null,"LIMESTONE CRUSHING PLANT (LP-5)"]
[null,"Please fill in the yellow boxes as applicable for your facility. ",null,null,null,null,null,"Values used for calculating emissions →",null,null,null,null,"Values Used to Calculate Actual Emissions for the Listed Processes at this Plant"]
[null,null,null,null,null,null,null,null,null,null,null,null,"Process","Maximum Design Rate (tons/hr)","Actual throughput w/o wet supression (tons/yr)",null,null,null,"Actual throughtput w/ wet supression (tons/yr)"]
[null,{"$f":"\"Number of Sites this Plant operated at in \"&'Facility Information'!G5&\":\"","v":"Number of Sites this Plant operated at in :"},null,null,null,null,null,null,null,null,null,null,null,null,null,null,"** As of 2016 Potential Emissions are no longer required to be reported in the Minor Source Emissions Inventory**"]
[null,null,null,null,null,null,null,null,null,null,null,null,"Primary Crusher",{"$f":"MAX((IFERROR(OFFSET($G$20,MATCH(\"primary crusher\",$G$21:$G$28,0),1),0)),((IFERROR((OFFSET($G$36,MATCH(\"primary crusher\",$G$37:$G$44,0),1)),0))),((IFERROR((OFFSET($G$52,MATCH(\"primary crusher\",$G$53:$G$60,0),1)),0))),((IFERROR((OFFSET($G$68,MATCH(\"primary crusher\",$G$69:$G$76,0),1)),0))),((IFERROR((OFFSET($G$84,MATCH(\"primary crusher\",$G$85:$G$92,0),1)),0))),((IFERROR((OFFSET($G$100,MATCH(\"primary crusher\",$G$101:$G$108,0),1)),0))),((IFERROR((OFFSET($G$116,MATCH(\"primary crusher\",$G$117:$G$124,0),1)),0))),((IFERROR((OFFSET($G$132,MATCH(\"primary crusher\",$G$133:$G$140,0),1)),0))),((IFERROR((OFFSET($G$148,MATCH(\"primary crusher\",$G$149:$G$156,0),1)),0))),((IFERROR((OFFSET($G$163,MATCH(\"primary crusher\",$G$165:$G$172,0),1)),0))))","v":0},{"$f":"SUM((IFERROR(OFFSET($G$20,MATCH(\"primary crusher\",$G$21:$G$28,0),3),0)),((IFERROR((OFFSET($G$36,MATCH(\"primary crusher\",$G$37:$G$44,0),3)),0))),((IFERROR((OFFSET($G$52,MATCH(\"primary crusher\",$G$53:$G$60,0),3)),0))),((IFERROR((OFFSET($G$68,MATCH(\"primary crusher\",$G$69:$G$76,0),3)),0))),((IFERROR((OFFSET($G$84,MATCH(\"primary crusher\",$G$85:$G$92,0),3)),0))),((IFERROR((OFFSET($G$100,MATCH(\"primary crusher\",$G$101:$G$108,0),3)),0))),((IFERROR((OFFSET($G$116,MATCH(\"primary crusher\",$G$117:$G$124,0),3)),0))),((IFERROR((OFFSET($G$132,MATCH(\"primary crusher\",$G$133:$G$140,0),3)),0))),((IFERROR((OFFSET($G$148,MATCH(\"primary crusher\",$G$149:$G$156,0),3)),0))),((IFERROR((OFFSET($G$163,MATCH(\"primary crusher\",$G$165:$G$172,0),3)),0))))","v":0},null,null,null,{"$f":"SUM((IFERROR(OFFSET($G$20,MATCH(\"primary crusher\",$G$21:$G$28,0),4),0)),((IFERROR((OFFSET($G$36,MATCH(\"primary crusher\",$G$37:$G$44,0),4)),0))),((IFERROR((OFFSET($G$52,MATCH(\"primary crusher\",$G$53:$G$60,0),4)),0))),((IFERROR((OFFSET($G$68,MATCH(\"primary crusher\",$G$69:$G$76,0),4)),0))),((IFERROR((OFFSET($G$84,MATCH(\"primary crusher\",$G$85:$G$92,0),4)),0))),((IFERROR((OFFSET($G$100,MATCH(\"primary crusher\",$G$101:$G$108,0),4)),0))),((IFERROR((OFFSET($G$116,MATCH(\"primary crusher\",$G$117:$G$124,0),4)),0))),((IFERROR((OFFSET($G$132,MATCH(\"primary crusher\",$G$133:$G$140,0),4)),0))),((IFERROR((OFFSET($G$148,MATCH(\"primary crusher\",$G$149:$G$156,0),4)),0))),((IFERROR((OFFSET($G$163,MATCH(\"primary crusher\",$G$165:$G$172,0),4)),0))))","v":0}]
[null,"Plant Specific Permit Number: ",null,null,null,null,null,null,null,null,null,null,"Screening",{"$f":"MAX((IFERROR(OFFSET($G$20,MATCH(\"screening\",$G$21:$G$28,0),1),0)),((IFERROR((OFFSET($G$36,MATCH(\"screening\",$G$37:$G$44,0),1)),0))),((IFERROR((OFFSET($G$52,MATCH(\"screening\",$G$53:$G$60,0),1)),0))),((IFERROR((OFFSET($G$68,MATCH(\"screening\",$G$69:$G$76,0),1)),0))),((IFERROR((OFFSET($G$84,MATCH(\"screening\",$G$85:$G$92,0),1)),0))),((IFERROR((OFFSET($G$100,MATCH(\"screening\",$G$101:$G$108,0),1)),0))),((IFERROR((OFFSET($G$116,MATCH(\"screening\",$G$117:$G$124,0),1)),0))),((IFERROR((OFFSET($G$132,MATCH(\"screening\",$G$133:$G$140,0),1)),0))),((IFERROR((OFFSET($G$148,MATCH(\"screening\",$G$149:$G$156,0),1)),0))),((IFERROR((OFFSET($G$163,MATCH(\"screening\",$G$165:$G$172,0),1)),0))))","v":0},{"$f":"SUM((IFERROR(OFFSET($G$20,MATCH(\"screening\",$G$21:$G$28,0),3),0)),((IFERROR((OFFSET($G$36,MATCH(\"screening\",$G$37:$G$44,0),3)),0))),((IFERROR((OFFSET($G$52,MATCH(\"screening\",$G$53:$G$60,0),3)),0))),((IFERROR((OFFSET($G$68,MATCH(\"screening\",$G$69:$G$76,0),3)),0))),((IFERROR((OFFSET($G$84,MATCH(\"screening\",$G$85:$G$92,0),3)),0))),((IFERROR((OFFSET($G$100,MATCH(\"screening\",$G$101:$G$108,0),3)),0))),((IFERROR((OFFSET($G$116,MATCH(\"screening\",$G$117:$G$124,0),3)),0))),((IFERROR((OFFSET($G$132,MATCH(\"screening\",$G$133:$G$140,0),3)),0))),((IFERROR((OFFSET($G$148,MATCH(\"screening\",$G$149:$G$156,0),3)),0))),((IFERROR((OFFSET($G$163,MATCH(\"screening\",$G$165:$G$172,0),3)),0))))","v":0},null,null,null,{"$f":"SUM((IFERROR(OFFSET($G$20,MATCH(\"screening\",$G$21:$G$28,0),4),0)),((IFERROR((OFFSET($G$36,MATCH(\"screening\",$G$37:$G$44,0),4)),0))),((IFERROR((OFFSET($G$52,MATCH(\"screening\",$G$53:$G$60,0),4)),0))),((IFERROR((OFFSET($G$68,MATCH(\"screening\",$G$69:$G$76,0),4)),0))),((IFERROR((OFFSET($G$84,MATCH(\"screening\",$G$85:$G$92,0),4)),0))),((IFERROR((OFFSET($G$100,MATCH(\"screening\",$G$101:$G$108,0),4)),0))),((IFERROR((OFFSET($G$116,MATCH(\"screening\",$G$117:$G$124,0),4)),0))),((IFERROR((OFFSET($G$132,MATCH(\"screening\",$G$133:$G$140,0),4)),0))),((IFERROR((OFFSET($G$148,MATCH(\"screening\",$G$149:$G$156,0),4)),0))),((IFERROR((OFFSET($G$163,MATCH(\"screening\",$G$165:$G$172,0),4)),0))))","v":0}]
[null,null,null,null,null,null,null,null,null,null,null,null,"Secondary Crusher",{"$f":"MAX((IFERROR(OFFSET($G$20,MATCH(\"secondary crusher\",$G$21:$G$28,0),1),0)),((IFERROR((OFFSET($G$36,MATCH(\"secondary crusher\",$G$37:$G$44,0),1)),0))),((IFERROR((OFFSET($G$52,MATCH(\"secondary crusher\",$G$53:$G$60,0),1)),0))),((IFERROR((OFFSET($G$68,MATCH(\"secondary crusher\",$G$69:$G$76,0),1)),0))),((IFERROR((OFFSET($G$84,MATCH(\"secondary crusher\",$G$85:$G$92,0),1)),0))),((IFERROR((OFFSET($G$100,MATCH(\"secondary crusher\",$G$101:$G$108,0),1)),0))),((IFERROR((OFFSET($G$116,MATCH(\"secondary crusher\",$G$117:$G$124,0),1)),0))),((IFERROR((OFFSET($G$132,MATCH(\"secondary crusher\",$G$133:$G$140,0),1)),0))),((IFERROR((OFFSET($G$148,MATCH(\"secondary crusher\",$G$149:$G$156,0),1)),0))),((IFERROR((OFFSET($G$163,MATCH(\"secondary crusher\",$G$165:$G$172,0),1)),0))))","v":0},{"$f":"SUM((IFERROR(OFFSET($G$20,MATCH(\"secondary crusher\",$G$21:$G$28,0),3),0)),((IFERROR((OFFSET($G$36,MATCH(\"secondary crusher\",$G$37:$G$44,0),3)),0))),((IFERROR((OFFSET($G$52,MATCH(\"secondary crusher\",$G$53:$G$60,0),3)),0))),((IFERROR((OFFSET($G$68,MATCH(\"secondary crusher\",$G$69:$G$76,0),3)),0))),((IFERROR((OFFSET($G$84,MATCH(\"secondary crusher\",$G$85:$G$92,0),3)),0))),((IFERROR((OFFSET($G$100,MATCH(\"secondary crusher\",$G$101:$G$108,0),3)),0))),((IFERROR((OFFSET($G$116,MATCH(\"secondary crusher\",$G$117:$G$124,0),3)),0))),((IFERROR((OFFSET($G$132,MATCH(\"secondary crusher\",$G$133:$G$140,0),3)),0))),((IFERROR((OFFSET($G$148,MATCH(\"secondary crusher\",$G$149:$G$156,0),3)),0))),((IFERROR((OFFSET($G$163,MATCH(\"secondary crusher\",$G$165:$G$172,0),3)),0))))","v":0},null,null,null,{"$f":"SUM((IFERROR(OFFSET($G$20,MATCH(\"secondary crusher\",$G$21:$G$28,0),4),0)),((IFERROR((OFFSET($G$36,MATCH(\"secondary crusher\",$G$37:$G$44,0),4)),0))),((IFERROR((OFFSET($G$52,MATCH(\"secondary crusher\",$G$53:$G$60,0),4)),0))),((IFERROR((OFFSET($G$68,MATCH(\"secondary crusher\",$G$69:$G$76,0),4)),0))),((IFERROR((OFFSET($G$84,MATCH(\"secondary crusher\",$G$85:$G$92,0),4)),0))),((IFERROR((OFFSET($G$100,MATCH(\"secondary crusher\",$G$101:$G$108,0),4)),0))),((IFERROR((OFFSET($G$116,MATCH(\"secondary crusher\",$G$117:$G$124,0),4)),0))),((IFERROR((OFFSET($G$132,MATCH(\"secondary crusher\",$G$133:$G$140,0),4)),0))),((IFERROR((OFFSET($G$148,MATCH(\"secondary crusher\",$G$149:$G$156,0),4)),0))),((IFERROR((OFFSET($G$163,MATCH(\"secondary crusher\",$G$165:$G$172,0),4)),0))))","v":0}]
[null,"Plant Specific Operating Limits:",null,null,"Plant Specific Emission Limits:",null,null,null,null,null,null,null,"Tertiary Crusher",{"$f":"MAX((IFERROR(OFFSET($G$20,MATCH(\"tertiary crusher\",$G$21:$G$28,0),1),0)),((IFERROR((OFFSET($G$36,MATCH(\"tertiary crusher\",$G$37:$G$44,0),1)),0))),((IFERROR((OFFSET($G$52,MATCH(\"tertiary crusher\",$G$53:$G$60,0),1)),0))),((IFERROR((OFFSET($G$68,MATCH(\"tertiary crusher\",$G$69:$G$76,0),1)),0))),((IFERROR((OFFSET($G$84,MATCH(\"tertiary crusher\",$G$85:$G$92,0),1)),0))),((IFERROR((OFFSET($G$100,MATCH(\"tertiary crusher\",$G$101:$G$108,0),1)),0))),((IFERROR((OFFSET($G$116,MATCH(\"tertiary crusher\",$G$117:$G$124,0),1)),0))),((IFERROR((OFFSET($G$132,MATCH(\"tertiary crusher\",$G$133:$G$140,0),1)),0))),((IFERROR((OFFSET($G$148,MATCH(\"tertiary crusher\",$G$149:$G$156,0),1)),0))),((IFERROR((OFFSET($G$163,MATCH(\"tertiary crusher\",$G$165:$G$172,0),1)),0))))","v":0},{"$f":"SUM((IFERROR(OFFSET($G$20,MATCH(\"tertiary crusher\",$G$21:$G$28,0),3),0)),((IFERROR((OFFSET($G$36,MATCH(\"tertiary crusher\",$G$37:$G$44,0),3)),0))),((IFERROR((OFFSET($G$52,MATCH(\"tertiary crusher\",$G$53:$G$60,0),3)),0))),((IFERROR((OFFSET($G$68,MATCH(\"tertiary crusher\",$G$69:$G$76,0),3)),0))),((IFERROR((OFFSET($G$84,MATCH(\"tertiary crusher\",$G$85:$G$92,0),3)),0))),((IFERROR((OFFSET($G$100,MATCH(\"tertiary crusher\",$G$101:$G$108,0),3)),0))),((IFERROR((OFFSET($G$116,MATCH(\"tertiary crusher\",$G$117:$G$124,0),3)),0))),((IFERROR((OFFSET($G$132,MATCH(\"tertiary crusher\",$G$133:$G$140,0),3)),0))),((IFERROR((OFFSET($G$148,MATCH(\"tertiary crusher\",$G$149:$G$156,0),3)),0))),((IFERROR((OFFSET($G$163,MATCH(\"tertiary crusher\",$G$165:$G$172,0),3)),0))))","v":0},null,null,null,{"$f":"SUM((IFERROR(OFFSET($G$20,MATCH(\"tertiary crusher\",$G$21:$G$28,0),4),0)),((IFERROR((OFFSET($G$36,MATCH(\"tertiary crusher\",$G$37:$G$44,0),4)),0))),((IFERROR((OFFSET($G$52,MATCH(\"tertiary crusher\",$G$53:$G$60,0),4)),0))),((IFERROR((OFFSET($G$68,MATCH(\"tertiary crusher\",$G$69:$G$76,0),4)),0))),((IFERROR((OFFSET($G$84,MATCH(\"tertiary crusher\",$G$85:$G$92,0),4)),0))),((IFERROR((OFFSET($G$100,MATCH(\"tertiary crusher\",$G$101:$G$108,0),4)),0))),((IFERROR((OFFSET($G$116,MATCH(\"tertiary crusher\",$G$117:$G$124,0),4)),0))),((IFERROR((OFFSET($G$132,MATCH(\"tertiary crusher\",$G$133:$G$140,0),4)),0))),((IFERROR((OFFSET($G$148,MATCH(\"tertiary crusher\",$G$149:$G$156,0),4)),0))),((IFERROR((OFFSET($G$163,MATCH(\"tertiary crusher\",$G$165:$G$172,0),4)),0))))","v":0}]
[null,"Throughput Limit (tons/yr):",null,null,"Pollutant","lb/hr","tons/yr",null,null,null,null,null,"Fines Crushing",{"$f":"MAX((IFERROR(OFFSET($G$20,MATCH(\"fines crushing\",$G$21:$G$28,0),1),0)),((IFERROR((OFFSET($G$36,MATCH(\"fines crushing\",$G$37:$G$44,0),1)),0))),((IFERROR((OFFSET($G$52,MATCH(\"fines crushing\",$G$53:$G$60,0),1)),0))),((IFERROR((OFFSET($G$68,MATCH(\"fines crushing\",$G$69:$G$76,0),1)),0))),((IFERROR((OFFSET($G$84,MATCH(\"fines crushing\",$G$85:$G$92,0),1)),0))),((IFERROR((OFFSET($G$100,MATCH(\"fines crushing\",$G$101:$G$108,0),1)),0))),((IFERROR((OFFSET($G$116,MATCH(\"fines crushing\",$G$117:$G$124,0),1)),0))),((IFERROR((OFFSET($G$132,MATCH(\"fines crushing\",$G$133:$G$140,0),1)),0))),((IFERROR((OFFSET($G$148,MATCH(\"fines crushing\",$G$149:$G$156,0),1)),0))),((IFERROR((OFFSET($G$163,MATCH(\"fines crushing\",$G$165:$G$172,0),1)),0))))","v":0},{"$f":"SUM((IFERROR(OFFSET($G$20,MATCH(\"fines crushing\",$G$21:$G$28,0),3),0)),((IFERROR((OFFSET($G$36,MATCH(\"fines crushing\",$G$37:$G$44,0),3)),0))),((IFERROR((OFFSET($G$52,MATCH(\"fines crushing\",$G$53:$G$60,0),3)),0))),((IFERROR((OFFSET($G$68,MATCH(\"fines crushing\",$G$69:$G$76,0),3)),0))),((IFERROR((OFFSET($G$84,MATCH(\"fines crushing\",$G$85:$G$92,0),3)),0))),((IFERROR((OFFSET($G$100,MATCH(\"fines crushing\",$G$101:$G$108,0),3)),0))),((IFERROR((OFFSET($G$116,MATCH(\"fines crushing\",$G$117:$G$124,0),3)),0))),((IFERROR((OFFSET($G$132,MATCH(\"fines crushing\",$G$133:$G$140,0),3)),0))),((IFERROR((OFFSET($G$148,MATCH(\"fines crushing\",$G$149:$G$156,0),3)),0))),((IFERROR((OFFSET($G$163,MATCH(\"fines crushing\",$G$165:$G$172,0),3)),0))))","v":0},null,null,null,{"$f":"SUM((IFERROR(OFFSET($G$20,MATCH(\"fines crushing\",$G$21:$G$28,0),4),0)),((IFERROR((OFFSET($G$36,MATCH(\"fines crushing\",$G$37:$G$44,0),4)),0))),((IFERROR((OFFSET($G$52,MATCH(\"fines crushing\",$G$53:$G$60,0),4)),0))),((IFERROR((OFFSET($G$68,MATCH(\"fines crushing\",$G$69:$G$76,0),4)),0))),((IFERROR((OFFSET($G$84,MATCH(\"fines crushing\",$G$85:$G$92,0),4)),0))),((IFERROR((OFFSET($G$100,MATCH(\"fines crushing\",$G$101:$G$108,0),4)),0))),((IFERROR((OFFSET($G$116,MATCH(\"fines crushing\",$G$117:$G$124,0),4)),0))),((IFERROR((OFFSET($G$132,MATCH(\"fines crushing\",$G$133:$G$140,0),4)),0))),((IFERROR((OFFSET($G$148,MATCH(\"fines crushing\",$G$149:$G$156,0),4)),0))),((IFERROR((OFFSET($G$163,MATCH(\"fines crushing\",$G$165:$G$172,0),4)),0))))","v":0}]
[null,"Daily Throughput Limit (tons/day):",null,null,"PM2.5",null,null,null,null,null,null,null,"Fines Screening",{"$f":"MAX((IFERROR(OFFSET($G$20,MATCH(\"fines screening\",$G$21:$G$28,0),1),0)),((IFERROR((OFFSET($G$36,MATCH(\"fines screening\",$G$37:$G$44,0),1)),0))),((IFERROR((OFFSET($G$52,MATCH(\"fines screening\",$G$53:$G$60,0),1)),0))),((IFERROR((OFFSET($G$68,MATCH(\"fines screening\",$G$69:$G$76,0),1)),0))),((IFERROR((OFFSET($G$84,MATCH(\"fines screening\",$G$85:$G$92,0),1)),0))),((IFERROR((OFFSET($G$100,MATCH(\"fines screening\",$G$101:$G$108,0),1)),0))),((IFERROR((OFFSET($G$116,MATCH(\"fines screening\",$G$117:$G$124,0),1)),0))),((IFERROR((OFFSET($G$132,MATCH(\"fines screening\",$G$133:$G$140,0),1)),0))),((IFERROR((OFFSET($G$148,MATCH(\"fines screening\",$G$149:$G$156,0),1)),0))),((IFERROR((OFFSET($G$163,MATCH(\"fines screening\",$G$165:$G$172,0),1)),0))))","v":0},{"$f":"SUM((IFERROR(OFFSET($G$20,MATCH(\"fines screening\",$G$21:$G$28,0),3),0)),((IFERROR((OFFSET($G$36,MATCH(\"fines screening\",$G$37:$G$44,0),3)),0))),((IFERROR((OFFSET($G$52,MATCH(\"fines screening\",$G$53:$G$60,0),3)),0))),((IFERROR((OFFSET($G$68,MATCH(\"fines screening\",$G$69:$G$76,0),3)),0))),((IFERROR((OFFSET($G$84,MATCH(\"fines screening\",$G$85:$G$92,0),3)),0))),((IFERROR((OFFSET($G$100,MATCH(\"fines screening\",$G$101:$G$108,0),3)),0))),((IFERROR((OFFSET($G$116,MATCH(\"fines screening\",$G$117:$G$124,0),3)),0))),((IFERROR((OFFSET($G$132,MATCH(\"fines screening\",$G$133:$G$140,0),3)),0))),((IFERROR((OFFSET($G$148,MATCH(\"fines screening\",$G$149:$G$156,0),3)),0))),((IFERROR((OFFSET($G$163,MATCH(\"fines screening\",$G$165:$G$172,0),3)),0))))","v":0},null,null,null,{"$f":"SUM((IFERROR(OFFSET($G$20,MATCH(\"fines screening\",$G$21:$G$28,0),4),0)),((IFERROR((OFFSET($G$36,MATCH(\"fines screening\",$G$37:$G$44,0),4)),0))),((IFERROR((OFFSET($G$52,MATCH(\"fines screening\",$G$53:$G$60,0),4)),0))),((IFERROR((OFFSET($G$68,MATCH(\"fines screening\",$G$69:$G$76,0),4)),0))),((IFERROR((OFFSET($G$84,MATCH(\"fines screening\",$G$85:$G$92,0),4)),0))),((IFERROR((OFFSET($G$100,MATCH(\"fines screening\",$G$101:$G$108,0),4)),0))),((IFERROR((OFFSET($G$116,MATCH(\"fines screening\",$G$117:$G$124,0),4)),0))),((IFERROR((OFFSET($G$132,MATCH(\"fines screening\",$G$133:$G$140,0),4)),0))),((IFERROR((OFFSET($G$148,MATCH(\"fines screening\",$G$149:$G$156,0),4)),0))),((IFERROR((OFFSET($G$163,MATCH(\"fines screening\",$G$165:$G$172,0),4)),0))))","v":0}]
[null,"Hours of Operation Limit (hours/day):",null,null,"PM10",null,null,null,null,null,null,null,"Wet Drilling: Unfragmented Stone",{"$f":"MAX((IFERROR(OFFSET($G$20,MATCH(\"wet drilling: unfragmented stone\",$G$21:$G$28,0),1),0)),((IFERROR((OFFSET($G$36,MATCH(\"wet drilling: unfragmented stone\",$G$37:$G$44,0),1)),0))),((IFERROR((OFFSET($G$52,MATCH(\"wet drilling: unfragmented stone\",$G$53:$G$60,0),1)),0))),((IFERROR((OFFSET($G$68,MATCH(\"wet drilling: unfragmented stone\",$G$69:$G$76,0),1)),0))),((IFERROR((OFFSET($G$84,MATCH(\"wet drilling: unfragmented stone\",$G$85:$G$92,0),1)),0))),((IFERROR((OFFSET($G$100,MATCH(\"wet drilling: unfragmented stone\",$G$101:$G$108,0),1)),0))),((IFERROR((OFFSET($G$116,MATCH(\"wet drilling: unfragmented stone\",$G$117:$G$124,0),1)),0))),((IFERROR((OFFSET($G$132,MATCH(\"wet drilling: unfragmented stone\",$G$133:$G$140,0),1)),0))),((IFERROR((OFFSET($G$148,MATCH(\"wet drilling: unfragmented stone\",$G$149:$G$156,0),1)),0))),((IFERROR((OFFSET($G$163,MATCH(\"wet drilling: unfragmented stone\",$G$165:$G$172,0),1)),0))))","v":0},{"$f":"SUM((IFERROR(OFFSET($G$20,MATCH(\"wet drilling: unfragmented stone\",$G$21:$G$28,0),3),0)),((IFERROR((OFFSET($G$36,MATCH(\"wet drilling: unfragmented stone\",$G$37:$G$44,0),3)),0))),((IFERROR((OFFSET($G$52,MATCH(\"wet drilling: unfragmented stone\",$G$53:$G$60,0),3)),0))),((IFERROR((OFFSET($G$68,MATCH(\"wet drilling: unfragmented stone\",$G$69:$G$76,0),3)),0))),((IFERROR((OFFSET($G$84,MATCH(\"wet drilling: unfragmented stone\",$G$85:$G$92,0),3)),0))),((IFERROR((OFFSET($G$100,MATCH(\"wet drilling: unfragmented stone\",$G$101:$G$108,0),3)),0))),((IFERROR((OFFSET($G$116,MATCH(\"wet drilling: unfragmented stone\",$G$117:$G$124,0),3)),0))),((IFERROR((OFFSET($G$132,MATCH(\"wet drilling: unfragmented stone\",$G$133:$G$140,0),3)),0))),((IFERROR((OFFSET($G$148,MATCH(\"wet drilling: unfragmented stone\",$G$149:$G$156,0),3)),0))),((IFERROR((OFFSET($G$163,MATCH(\"wet drilling: unfragmented stone\",$G$165:$G$172,0),3)),0))))","v":0},null,null,null,{"$f":"SUM((IFERROR(OFFSET($G$20,MATCH(\"wet drilling: unfragmented stone\",$G$21:$G$28,0),4),0)),((IFERROR((OFFSET($G$36,MATCH(\"wet drilling: unfragmented stone\",$G$37:$G$44,0),4)),0))),((IFERROR((OFFSET($G$52,MATCH(\"wet drilling: unfragmented stone\",$G$53:$G$60,0),4)),0))),((IFERROR((OFFSET($G$68,MATCH(\"wet drilling: unfragmented stone\",$G$69:$G$76,0),4)),0))),((IFERROR((OFFSET($G$84,MATCH(\"wet drilling: unfragmented stone\",$G$85:$G$92,0),4)),0))),((IFERROR((OFFSET($G$100,MATCH(\"wet drilling: unfragmented stone\",$G$101:$G$108,0),4)),0))),((IFERROR((OFFSET($G$116,MATCH(\"wet drilling: unfragmented stone\",$G$117:$G$124,0),4)),0))),((IFERROR((OFFSET($G$132,MATCH(\"wet drilling: unfragmented stone\",$G$133:$G$140,0),4)),0))),((IFERROR((OFFSET($G$148,MATCH(\"wet drilling: unfragmented stone\",$G$149:$G$156,0),4)),0))),((IFERROR((OFFSET($G$163,MATCH(\"wet drilling: unfragmented stone\",$G$165:$G$172,0),4)),0))))","v":0}]
[null,"Note: if the plant has a hours/day and a tons/hr permit limit, those values should be multiplied together to calculate a tons/day limit and that value should be placed in cell C10.",null,null,"SO2",null,null,null,null,null,null,null,"Conveyor Transfer Points",{"$f":"MAX((IFERROR(OFFSET($G$20,MATCH(\"conveyor transfer points\",$G$21:$G$28,0),1),0)),((IFERROR((OFFSET($G$36,MATCH(\"conveyor transfer points\",$G$37:$G$44,0),1)),0))),((IFERROR((OFFSET($G$52,MATCH(\"conveyor transfer points\",$G$53:$G$60,0),1)),0))),((IFERROR((OFFSET($G$68,MATCH(\"conveyor transfer points\",$G$69:$G$76,0),1)),0))),((IFERROR((OFFSET($G$84,MATCH(\"conveyor transfer points\",$G$85:$G$92,0),1)),0))),((IFERROR((OFFSET($G$100,MATCH(\"conveyor transfer points\",$G$101:$G$108,0),1)),0))),((IFERROR((OFFSET($G$116,MATCH(\"conveyor transfer points\",$G$117:$G$124,0),1)),0))),((IFERROR((OFFSET($G$132,MATCH(\"conveyor transfer points\",$G$133:$G$140,0),1)),0))),((IFERROR((OFFSET($G$148,MATCH(\"conveyor transfer points\",$G$149:$G$156,0),1)),0))),((IFERROR((OFFSET($G$163,MATCH(\"conveyor transfer points\",$G$165:$G$172,0),1)),0))))","v":0},{"$f":"SUM((IFERROR(OFFSET($G$20,MATCH(\"conveyor transfer points\",$G$21:$G$28,0),3),0)),((IFERROR((OFFSET($G$36,MATCH(\"conveyor transfer points\",$G$37:$G$44,0),3)),0))),((IFERROR((OFFSET($G$52,MATCH(\"conveyor transfer points\",$G$53:$G$60,0),3)),0))),((IFERROR((OFFSET($G$68,MATCH(\"conveyor transfer points\",$G$69:$G$76,0),3)),0))),((IFERROR((OFFSET($G$84,MATCH(\"conveyor transfer points\",$G$85:$G$92,0),3)),0))),((IFERROR((OFFSET($G$100,MATCH(\"conveyor transfer points\",$G$101:$G$108,0),3)),0))),((IFERROR((OFFSET($G$116,MATCH(\"conveyor transfer points\",$G$117:$G$124,0),3)),0))),((IFERROR((OFFSET($G$132,MATCH(\"conveyor transfer points\",$G$133:$G$140,0),3)),0))),((IFERROR((OFFSET($G$148,MATCH(\"conveyor transfer points\",$G$149:$G$156,0),3)),0))),((IFERROR((OFFSET($G$163,MATCH(\"conveyor transfer points\",$G$165:$G$172,0),3)),0))))","v":0},null,null,null,{"$f":"SUM((IFERROR(OFFSET($G$20,MATCH(\"conveyor transfer points\",$G$21:$G$28,0),4),0)),((IFERROR((OFFSET($G$36,MATCH(\"conveyor transfer points\",$G$37:$G$44,0),4)),0))),((IFERROR((OFFSET($G$52,MATCH(\"conveyor transfer points\",$G$53:$G$60,0),4)),0))),((IFERROR((OFFSET($G$68,MATCH(\"conveyor transfer points\",$G$69:$G$76,0),4)),0))),((IFERROR((OFFSET($G$84,MATCH(\"conveyor transfer points\",$G$85:$G$92,0),4)),0))),((IFERROR((OFFSET($G$100,MATCH(\"conveyor transfer points\",$G$101:$G$108,0),4)),0))),((IFERROR((OFFSET($G$116,MATCH(\"conveyor transfer points\",$G$117:$G$124,0),4)),0))),((IFERROR((OFFSET($G$132,MATCH(\"conveyor transfer points\",$G$133:$G$140,0),4)),0))),((IFERROR((OFFSET($G$148,MATCH(\"conveyor transfer points\",$G$149:$G$156,0),4)),0))),((IFERROR((OFFSET($G$163,MATCH(\"conveyor transfer points\",$G$165:$G$172,0),4)),0))))","v":0}]
[null,null,null,null,"NOx",null,null,null,null,null,null,null,null,"Maximum (acres/day)","Actual (acres-day/yr)"]
[null,null,null,null,"VOC",null,null,null,null,null,null,null,"Storage Pile",{"$f":"SUM(G32,G48,G64,G80,G96,G112,G128,G144,G160,G176)","v":0},{"$f":"SUM(H32*I32,H48*I48,H64*I64,H80*I80,H96*I96,H112*I112,H128*I128,H144*I144,H160*I160,H176*I176)","v":0}]
[null,null,null,null,"CO"]
[]
[null,null,null,null,null,null,null,null,null,null,null,null,"Actual Emissions for the Listed Processes at this Plant"]
[null,null,null,null,null,null,null,null,null,null,null,null,null,"Maximum Design Rate (tons/hr)","Emission Factor (lb/ton)","Potential Uncontrolled Emissions (lb/hr)","Potential Controlled Emissions (lb/hr)","Potential Annual Emissions (tons/yr)","Actual Annual Emissions (tons/yr)"]
[null,"CRUSHER PLANT","Site 1",null,"Emission Point #","Emission    Unit #","Processes","Combined Maximum Hourly Design Rate for all Like Processes (tons/hr)",{"$f":"('Facility Information'!G5&\" Annual Throughput (tons)\")","v":" Annual Throughput (tons)"},null,null,null,"PM2.5"]
[null,null,null,null,null,null,null,null,null,"no wet supress","wet supress",null,"Primary Crusher",{"$f":"N5","v":0},{"$f":"IF(N20=0,0,IF(OR($C$24=\"no\",$C$40=\"no\",$C$56=\"no\",$C$72=\"no\",$C$88=\"no\",$C$104=\"no\",$C$120=\"no\",$C$136=\"no\",$C$152=\"no\",$C$168=\"no\"),'Emission Factors'!D8,'Emission Factors'!D20))","v":0},{"$f":"IF(OR($C$24=\"no\",$C$40=\"no\",$C$56=\"no\",$C$72=\"no\",$C$88=\"no\",$C$104=\"no\",$C$120=\"no\",$C$136=\"no\",$C$152=\"no\",$C$168=\"no\"),N20*O20,\"\")","v":""},{"$f":"IF($F$10>0,$F$10,IF(OR($C$24=\"no\",$C$40=\"no\",$C$56=\"no\",$C$72=\"no\",$C$88=\"no\",$C$104=\"no\",$C$120=\"no\",$C$136=\"no\",$C$152=\"no\",$C$168=\"no\"),\"\",N20*O20))","v":0},{"$f":"IF($G$10>0,$G$10,IF($C$9>0,$C$9*O20/2000,IF($C$10>0,$C$10*365*O20/2000,IF($C$11>0,$C$11*365*O20*N20/2000,IF(Q20=\"\",P20*8760/2000,Q20*8760/2000)))))","v":0},{"$f":"(O5*'Emission Factors'!D8/2000)+('Emission Factors'!D20*S5/2000)","v":0}]
["YES","Site Name:",null,null,{"$f":"IF(G21=\"\",\"\",\"LP-5 EP-1\")","v":""},{"$f":"IF(G21=\"\",\"\",IF(G21=\"primary crusher\",\"LP-5 EU-1\",IF(G21=\"screening\",\"LP-5 EU-2\",IF(G21=\"secondary crusher\",\"LP-5 EU-3\",IF(G21=\"tertiary crusher\",\"LP-5 EU-4\",IF(G21=\"fines crushing\",\"LP-5 EU-5\",IF(G21=\"fines screening\",\"LP-5 EU-6\",IF(G21=\"wet drilling: unfragmented stone\",\"LP-5 EU-7\",IF(G21=\"conveyor transfer points\",\"LP-5 EU-8\")))))))))","v":""},null,null,null,{"$f":"IF($C24=\"no\",I21,0)","v":0},{"$f":"IF($C$24=\"yes\",I21,0)","v":0},null,"Screening",0,{"$f":"IF(N21=0,0,IF(OR($C$24=\"no\",$C$40=\"no\",$C$56=\"no\",$C$72=\"no\",$C$88=\"no\",$C$104=\"no\",$C$120=\"no\",$C$136=\"no\",$C$152=\"no\",$C$168=\"no\"),'Emission Factors'!D9,'Emission Factors'!D21))","v":0},"",0,{"$f":"IF($G$10>0,\"\",IF($C$9>0,$C$9*O21/2000,IF($C$10>0,$C$10*365*O21/2000,IF($C$11>0,$C$11*365*O21*N21/2000,IF(Q21=\"\",P21*8760/2000,Q21*8760/2000)))))","v":0},{"$f":"(O6*'Emission Factors'!D9/2000)+('Emission Factors'!D21*S6/2000)","v":0}]
["NO","County:",null,null,{"$f":"IF(G22=\"\",\"\",\"LP-5 EP-1\")","v":""},{"$f":"IF(G22=\"\",\"\",IF(G22=\"primary crusher\",\"LP-5 EU-1\",IF(G22=\"screening\",\"LP-5 EU-2\",IF(G22=\"secondary crusher\",\"LP-5 EU-3\",IF(G22=\"tertiary crusher\",\"LP-5 EU-4\",IF(G22=\"fines crushing\",\"LP-5 EU-5\",IF(G22=\"fines screening\",\"LP-5 EU-6\",IF(G22=\"wet drilling: unfragmented stone\",\"LP-5 EU-7\",IF(G22=\"conveyor transfer points\",\"LP-5 EU-8\")))))))))","v":""},null,null,null,{"$f":"IF($C$24=\"no\",I22,0)","v":0},0,null,"Secondary Crusher",0,{"$f":"IF(N22=0,0,IF(OR($C$24=\"no\",$C$40=\"no\",$C$56=\"no\",$C$72=\"no\",$C$88=\"no\",$C$104=\"no\",$C$120=\"no\",$C$136=\"no\",$C$152=\"no\",$C$168=\"no\"),'Emission Factors'!D10,'Emission Factors'!D22))","v":0},"",0,0,{"$f":"(O7*'Emission Factors'!D10/2000)+('Emission Factors'!D22*S7/2000)","v":0}]
[null,"Crushing Period (Dates):",null,null,"","",null,null,null,0,0,null,"Tertiary Crusher",0,{"$f":"IF(N23=0,0,IF(OR(C24=\"no\",C40=\"no\",C56=\"no\",C72=\"no\",C88=\"no\",C104=\"no\",C120=\"no\",C136=\"no\",C152=\"no\",C168=\"no\"),'Emission Factors'!D12,'Emission Factors'!D24))","v":0},"",0,0,{"$f":"(O8*'Emission Factors'!D12/2000)+('Emission Factors'!D24*S8/2000)","v":0}]
["Primary Crusher","Controlled with Dust Suppressant or Material Being Processed has Moisture Content > 1.5%?",null,null,"","",null,null,null,0,0,null,"Fines Crushing",0,{"$f":"IF(N24=0,0,IF(OR(C24=\"no\",C40=\"no\",C56=\"no\",C72=\"no\",C88=\"no\",C104=\"no\",C120=\"no\",C136=\"no\",C152=\"no\",C168=\"no\"),'Emission Factors'!D6,'Emission Factors'!D18))","v":0},"",0,0,{"$f":"(O9*'Emission Factors'!D6/2000)+('Emission Factors'!D18*S9/2000)","v":0}]
["Screening",null,null,null,"","",null,null,null,0,0,null,"Fines Screening",0,{"$f":"IF(N25=0,0,IF(OR($C$24=\"no\",$C$40=\"no\",$C$56=\"no\",$C$72=\"no\",$C$88=\"no\",$C$104=\"no\",$C$120=\"no\",$C$136=\"no\",$C$152=\"no\",$C$168=\"no\"),'Emission Factors'!D7,'Emission Factors'!D19))","v":0},"",0,0,{"$f":"(O10*'Emission Factors'!D7/2000)+('Emission Factors'!D19*S10/2000)","v":0}]
["Secondary Crusher",null,null,null,"","",null,null,null,0,0,null,"Wet Drilling: Unfragmented Stone",0,{"$f":"IF(N26=0,0,IF(OR(C24=\"no\",C40=\"no\",C56=\"no\",C72=\"no\",C88=\"no\",C104=\"no\",C120=\"no\",C136=\"no\",C152=\"no\",C168=\"no\"),'Emission Factors'!D13,'Emission Factors'!D25))","v":0},"",0,0,{"$f":"(O11*'Emission Factors'!D13/2000)+('Emission Factors'!D25*S11/2000)","v":0}]
["Tertiary Crusher",null,null,null,"","",null,null,null,0,0,null,"Conveyor Transfer Points",0,{"$f":"IF(N27=0,0,IF(OR(C24=\"no\",C40=\"no\",C56=\"no\",C72=\"no\",C88=\"no\",C104=\"no\",C120=\"no\",C136=\"no\",C152=\"no\",C168=\"no\"),'Emission Factors'!D5,'Emission Factors'!D17))","v":0},"",0,0,{"$f":"(O12*'Emission Factors'!D5/2000)+('Emission Factors'!D17*S12/2000)","v":0}]
["Fines Crushing",null,null,null,"","",null,null,null,0,0,null,"PM10"]
["Fines Screening",null,null,null,null,null,null,null,null,null,null,null,"Primary Crusher",{"$f":"N5","v":0},{"$f":"IF(N29=0,0,IF(OR($C$24=\"no\",$C$40=\"no\",$C$56=\"no\",$C$72=\"no\",$C$88=\"no\",$C$104=\"no\",$C$120=\"no\",$C$136=\"no\",$C$152=\"no\",$C$168=\"no\"),'Emission Factors'!F8,'Emission Factors'!F20))","v":0},{"$f":"IF(OR($C$24=\"no\",$C$40=\"no\",$C$56=\"no\",$C$72=\"no\",$C$88=\"no\",$C$104=\"no\",$C$120=\"no\",$C$136=\"no\",$C$152=\"no\",$C$168=\"no\"),N29*O29,\"\")","v":""},{"$f":"IF($F$11>0,$F$11,IF(OR($C$24=\"no\",$C$40=\"no\",$C$56=\"no\",$C$72=\"no\",$C$88=\"no\",$C$104=\"no\",$C$120=\"no\",$C$136=\"no\",$C$152=\"no\",$C$168=\"no\"),\"\",N29*O29))","v":0},{"$f":"IF($G$11>0,$G$11,IF($C$9>0,$C$9*O29/2000,IF($C$10>0,$C$10*365*O29/2000,IF($C$11>0,$C$11*365*O29*N29/2000,IF(Q29=\"\",P29*8760/2000,Q29*8760/2000)))))","v":0},{"$f":"(O5*'Emission Factors'!F8/2000)+('Emission Factors'!F20*S5/2000)","v":0}]
["Wet Drilling: Unfragmented Stone",null,null,null,"Stock Pile Area",null,null,null,null,null,null,null,"Screening",{"$f":"N6","v":0},{"$f":"IF(N30=0,0,IF(OR($C$24=\"no\",$C$40=\"no\",$C$56=\"no\",$C$72=\"no\",$C$88=\"no\",$C$104=\"no\",$C$120=\"no\",$C$136=\"no\",$C$152=\"no\",$C$168=\"no\"),'Emission Factors'!F9,'Emission Factors'!F21))","v":0},"",0,{"$f":"IF($G$11>0,\"\",IF($C$9>0,$C$9*O30/2000,IF($C$10>0,$C$10*365*O30/2000,IF($C$11>0,$C$11*365*O30*N30/2000,IF(Q30=\"\",P30*8760/2000,Q30*8760/2000)))))","v":0},{"$f":"(O6*'Emission Factors'!F9/2000)+('Emission Factors'!F21*S6/2000)","v":0}]
["Conveyor Transfer Points",null,null,null,null,"Emission Unit #","Maximum Storage Area (acres)","Actual Storage Area (acres)","Actual Days in Existence (days)",null,null,null,"Secondary Crusher",0,{"$f":"IF(N31=0,0,IF(OR($C$24=\"no\",$C$40=\"no\",$C$56=\"no\",$C$72=\"no\",$C$88=\"no\",$C$104=\"no\",$C$120=\"no\",$C$136=\"no\",$C$152=\"no\",$C$168=\"no\"),'Emission Factors'!F10,'Emission Factors'!F22))","v":0},"",0,0,{"$f":"(O7*'Emission Factors'!F10/2000)+('Emission Factors'!F22*S7/2000)","v":0}]
[null,null,null,null,null,null,null,null,null,null,null,null,"Tertiary Crusher",0,{"$f":"IF(N32=0,0,IF(OR(C24=\"no\",C40=\"no\",C56=\"no\",C72=\"no\",C88=\"no\",C104=\"no\",C120=\"no\",C136=\"no\",C152=\"no\",C168=\"no\"),'Emission Factors'!F12,'Emission Factors'!F24))","v":0},"",0,0,{"$f":"(O8*'Emission Factors'!F12/2000)+('Emission Factors'!F24*S8/2000)","v":0}]
[null,null,null,null,null,null,null,null,null,null,null,null,"Fines Crushing",0,{"$f":"IF(N33=0,0,IF(OR(C24=\"no\",C40=\"no\",C56=\"no\",C72=\"no\",C88=\"no\",C104=\"no\",C120=\"no\",C136=\"no\",C152=\"no\",C168=\"no\"),'Emission Factors'!F6,'Emission Factors'!F18))","v":0},"",0,0,{"$f":"(O9*'Emission Factors'!F6/2000)+('Emission Factors'!F18*S9/2000)","v":0}]
[{"$f":"C21","v":0},null,null,null,null,null,null,null,null,null,null,null,"Fines Screening",0,{"$f":"IF(N34=0,0,IF(OR(C24=\"no\",C40=\"no\",C56=\"no\",C72=\"no\",C88=\"no\",C104=\"no\",C120=\"no\",C136=\"no\",C152=\"no\",C168=\"no\"),'Emission Factors'!F7,'Emission Factors'!F19))","v":0},"",0,0,{"$f":"(O10*'Emission Factors'!F7/2000)+('Emission Factors'!F19*S10/2000)","v":0}]
[{"$f":"C37","v":0},{"$f":"IF('Limestone Plant (LP-5)'!$D$4>1,\"CRUSHER PLANT\",\"\")","v":""},{"$f":"IF('Limestone Plant (LP-5)'!$D$4>1,\"Site 2\",\"\")","v":""},null,{"$f":"IF('Limestone Plant (LP-5)'!$D$4>1,\"Emission Point #\",\"\")","v":""},{"$f":"IF('Limestone Plant (LP-5)'!$D$4>1,\"Emission    Unit #\",\"\")","v":""},{"$f":"IF('Limestone Plant (LP-5)'!$D$4>1,\"Processes\",\"\")","v":""},{"$f":"IF('Limestone Plant (LP-5)'!$D$4>1,\"Combined Maximum Hourly Design Rate for all Like Processes (tons/hr)\",\"\")","v":""},{"$f":"IF('Limestone Plant (LP-5)'!$D$4>1,('Facility Information'!G5&\" Annual Throughput (tons)\"),\"\")","v":""},null,null,null,"Wet Drilling: Unfragmented Stone",0,{"$f":"IF(N35=0,0,IF(OR(C24=\"no\",C40=\"no\",C56=\"no\",C72=\"no\",C88=\"no\",C104=\"no\",C120=\"no\",C136=\"no\",C152=\"no\",C168=\"no\"),'Emission Factors'!F13,'Emission Factors'!F25))","v":0},"",0,0,{"$f":"(O11*'Emission Factors'!F13/2000)+('Emission Factors'!F25*S11/2000)","v":0}]
[{"$f":"C53","v":0},null,null,null,null,null,null,null,null,null,null,null,"Conveyor Transfer Points",0,{"$f":"IF(N36=0,0,IF(OR(C24=\"no\",C40=\"no\",C56=\"no\",C72=\"no\",C88=\"no\",C104=\"no\",C120=\"no\",C136=\"no\",C152=\"no\",C168=\"no\"),'Emission Factors'!F5,'Emission Factors'!F17))","v":0},"",0,0,{"$f":"(O12*'Emission Factors'!F5/2000)+('Emission Factors'!F17*S12/2000)","v":0}]
[{"$f":"C69","v":0},{"$f":"IF('Limestone Plant (LP-5)'!$D$4>1,\"Site Name:\",\"\")","v":""},null,null,{"$f":"IF(G37=\"\",\"\",\"LP-5 EP-1\")","v":""},{"$f":"IF(G37=\"\",\"\",IF(G37=\"primary crusher\",\"LP-5 EU-1\",IF(G37=\"screening\",\"LP-5 EU-2\",IF(G37=\"secondary crusher\",\"LP-5 EU-3\",IF(G37=\"tertiary crusher\",\"LP-5 EU-4\",IF(G37=\"fines crushing\",\"LP-5 EU-5\",IF(G37=\"fines screening\",\"LP-5 EU-6\",IF(G37=\"wet drilling: unfragmented stone\",\"LP-5 EU-7\",IF(G37=\"conveyor transfer points\",\"LP-5 EU-8\")))))))))","v":""},null,null,null,{"$f":"IF($C$40=\"no\",I37,0)","v":0},{"$f":"IF($C$40=\"yes\",I37,0)","v":0}]
[{"$f":"C85","v":0},{"$f":"IF('Limestone Plant (LP-5)'!$D$4>1,\"County:\",\"\")","v":""},null,null,{"$f":"IF(G38=\"\",\"\",\"LP-5 EP-1\")","v":""},{"$f":"IF(G38=\"\",\"\",IF(G38=\"primary crusher\",\"LP-5 EU-1\",IF(G38=\"screening\",\"LP-5 EU-2\",IF(G38=\"secondary crusher\",\"LP-5 EU-3\",IF(G38=\"tertiary crusher\",\"LP-5 EU-4\",IF(G38=\"fines crushing\",\"LP-5 EU-5\",IF(G38=\"fines screening\",\"LP-5 EU-6\",IF(G38=\"wet drilling: unfragmented stone\",\"LP-5 EU-7\",IF(G38=\"conveyor transfer points\",\"LP-5 EU-8\")))))))))","v":""},null,null,null,{"$f":"IF($C$40=\"no\",I38,0)","v":0},{"$f":"IF($C$40=\"yes\",I38,0)","v":0},null,null,"Max Design Rate (acres/day)","Emission Factor   (lb/acre-day)","Potential Uncontrolled Emissions (lb/hr)","Potential Controlled Emissions (lb/hr)","Potential Annual Emissions (tons/yr)","Actual Annual Emissions (tons/yr)"]
[{"$f":"C101","v":0},{"$f":"IF('Limestone Plant (LP-5)'!$D$4>1,\"Crushing Period (Dates):\",\"\")","v":""},null,null,"","",null,null,null,0,0,null,"Storage Pile"]
[{"$f":"C117","v":0},{"$f":"IF('Limestone Plant (LP-5)'!$D$4>1,\"Controlled with Dust Suppressant or Material Being Processed has Moisture Content > 1.5%?\",\"\")","v":""},null,null,"","",null,null,null,0,0,null,"PM2.5/PM10",{"$f":"N14","v":0},3.64,{"$f":"N40*O40*(1/24)","v":0},null,{"$f":"N40*O40*365/2000","v":0},{"$f":"O14*O40/2000","v":0}]
[{"$f":"C133","v":0},null,null,null,"","",null,null,null,0,0]
[{"$f":"C149","v":0},null,null,null,"","",null,null,null,0,0]
[{"$f":"C165","v":0},null,null,null,"","",null,null,null,0,0]
[null,null,null,null,"","",null,null,null,0,0]
[]
[null,null,null,null,{"$f":"IF('Limestone Plant (LP-5)'!$D$4>1,\"Stock Pile Area\",\"\")","v":""}]
[null,null,null,null,null,{"$f":"IF('Limestone Plant (LP-5)'!$D$4>1,\"Emission Unit #\",\"\")","v":""},{"$f":"IF('Limestone Plant (LP-5)'!$D$4>1,\"Maximum Storage Area (acres)\",\"\")","v":""},{"$f":"IF('Limestone Plant (LP-5)'!$D$4>1,\"Actual Storage Area (acres)\",\"\")","v":""},{"$f":"IF('Limestone Plant (LP-5)'!$D$4>1,\"Actual Days in Existence (days)\",\"\")","v":""}]
[]
[]
[]
[null,{"$f":"IF('Limestone Plant (LP-5)'!$D$4>2,\"CRUSHER PLANT\",\"\")","v":""},{"$f":"IF('Limestone Plant (LP-5)'!$D$4>2,\"Site 3\",\"\")","v":""},null,{"$f":"IF('Limestone Plant (LP-5)'!$D$4>2,\"Emission Point #\",\"\")","v":""},{"$f":"IF('Limestone Plant (LP-5)'!$D$4>2,\"Emission    Unit #\",\"\")","v":""},{"$f":"IF('Limestone Plant (LP-5)'!$D$4>2,\"Processes\",\"\")","v":""},{"$f":"IF('Limestone Plant (LP-5)'!$D$4>2,\"Combined Maximum Hourly Design Rate for all Like Processes (tons/hr)\",\"\")","v":""},{"$f":"IF('Limestone Plant (LP-5)'!$D$4>2,('Facility Information'!G5&\" Annual Throughput (tons)\"),\"\")","v":""}]
[]
[null,{"$f":"IF('Limestone Plant (LP-5)'!$D$4>2,\"Site Name:\",\"\")","v":""},null,null,{"$f":"IF(G53=\"\",\"\",\"LP-5 EP-1\")","v":""},{"$f":"IF(G53=\"\",\"\",IF(G53=\"primary crusher\",\"LP-5 EU-1\",IF(G53=\"screening\",\"LP-5 EU-2\",IF(G53=\"secondary crusher\",\"LP-5 EU-3\",IF(G53=\"tertiary crusher\",\"LP-5 EU-4\",IF(G53=\"fines crushing\",\"LP-5 EU-5\",IF(G53=\"fines screening\",\"LP-5 EU-6\",IF(G53=\"wet drilling: unfragmented stone\",\"LP-5 EU-7\",IF(G53=\"conveyor transfer points\",\"LP-5 EU-8\")))))))))","v":""},null,null,null,{"$f":"IF($C$56=\"no\",I53,0)","v":0},{"$f":"IF($C$56=\"yes\",I53,0)","v":0}]
[null,{"$f":"IF('Limestone Plant (LP-5)'!$D$4>2,\"County:\",\"\")","v":""},null,null,{"$f":"IF(G54=\"\",\"\",\"LP-5 EP-1\")","v":""},{"$f":"IF(G54=\"\",\"\",IF(G54=\"primary crusher\",\"LP-5 EU-1\",IF(G54=\"screening\",\"LP-5 EU-2\",IF(G54=\"secondary crusher\",\"LP-5 EU-3\",IF(G54=\"tertiary crusher\",\"LP-5 EU-4\",IF(G54=\"fines crushing\",\"LP-5 EU-5\",IF(G54=\"fines screening\",\"LP-5 EU-6\",IF(G54=\"wet drilling: unfragmented stone\",\"LP-5 EU-7\",IF(G54=\"conveyor transfer points\",\"LP-5 EU-8\")))))))))","v":""},null,null,null,{"$f":"IF($C$56=\"no\",I54,0)","v":0},{"$f":"IF($C$56=\"yes\",I54,0)","v":0}]
[null,{"$f":"IF('Limestone Plant (LP-5)'!$D$4>2,\"Crushing Period (Dates):\",\"\")","v":""},null,null,"","",null,null,null,0,0]
[null,{"$f":"IF('Limestone Plant (LP-5)'!$D$4>2,\"Controlled with Dust Suppressant or Material Being Processed has Moisture Content > 1.5%?\",\"\")","v":""},null,null,"","",null,null,null,0,0]
[null,null,null,null,"","",null,null,null,0,0]
[null,null,null,null,"","",null,null,null,0,0]
[null,null,null,null,"","",null,null,null,0,0]
[null,null,null,null,"","",null,null,null,0,0]
[]
[null,null,null,null,{"$f":"IF('Limestone Plant (LP-5)'!$D$4>2,\"Stock Pile Area\",\"\")","v":""}]
[null,null,null,null,null,{"$f":"IF('Limestone Plant (LP-5)'!$D$4>2,\"Emission Unit #\",\"\")","v":""},{"$f":"IF('Limestone Plant (LP-5)'!$D$4>2,\"Maximum Storage Area (acres)\",\"\")","v":""},{"$f":"IF('Limestone Plant (LP-5)'!$D$4>2,\"Actual Storage Area (acres)\",\"\")","v":""},{"$f":"IF('Limestone Plant (LP-5)'!$D$4>2,\"Actual Days in Existence (days)\",\"\")","v":""}]
[]
[]
[]
[null,{"$f":"IF('Limestone Plant (LP-5)'!$D$4>3,\"CRUSHER PLANT\",\"\")","v":""},{"$f":"IF('Limestone Plant (LP-5)'!$D$4>3,\"Site 4\",\"\")","v":""},null,{"$f":"IF('Limestone Plant (LP-5)'!$D$4>3,\"Emission Point #\",\"\")","v":""},{"$f":"IF('Limestone Plant (LP-5)'!$D$4>3,\"Emission    Unit #\",\"\")","v":""},{"$f":"IF('Limestone Plant (LP-5)'!$D$4>3,\"Processes\",\"\")","v":""},{"$f":"IF('Limestone Plant (LP-5)'!$D$4>3,\"Combined Maximum Hourly Design Rate for all Like Processes (tons/hr)\",\"\")","v":""},{"$f":"IF('Limestone Plant (LP-5)'!$D$4>3,('Facility Information'!G5&\" Annual Throughput (tons)\"),\"\")","v":""}]
[]
[null,{"$f":"IF('Limestone Plant (LP-5)'!$D$4>3,\"Site Name:\",\"\")","v":""},null,null,{"$f":"IF(G69=\"\",\"\",\"LP-5 EP-1\")","v":""},{"$f":"IF(G69=\"\",\"\",IF(G69=\"primary crusher\",\"LP-5 EU-1\",IF(G69=\"screening\",\"LP-5 EU-2\",IF(G69=\"secondary crusher\",\"LP-5 EU-3\",IF(G69=\"tertiary crusher\",\"LP-5 EU-4\",IF(G69=\"fines crushing\",\"LP-5 EU-5\",IF(G69=\"fines screening\",\"LP-5 EU-6\",IF(G69=\"wet drilling: unfragmented stone\",\"LP-5 EU-7\",IF(G69=\"conveyor transfer points\",\"LP-5 EU-8\")))))))))","v":""},null,null,null,{"$f":"IF($C$72=\"no\",I69,0)","v":0},{"$f":"IF($C$72=\"yes\",I69,0)","v":0}]
[null,{"$f":"IF('Limestone Plant (LP-5)'!$D$4>3,\"County:\",\"\")","v":""},null,null,{"$f":"IF(G70=\"\",\"\",\"LP-5 EP-1\")","v":""},{"$f":"IF(G70=\"\",\"\",IF(G70=\"primary crusher\",\"LP-5 EU-1\",IF(G70=\"screening\",\"LP-5 EU-2\",IF(G70=\"secondary crusher\",\"LP-5 EU-3\",IF(G70=\"tertiary crusher\",\"LP-5 EU-4\",IF(G70=\"fines crushing\",\"LP-5 EU-5\",IF(G70=\"fines screening\",\"LP-5 EU-6\",IF(G70=\"wet drilling: unfragmented stone\",\"LP-5 EU-7\",IF(G70=\"conveyor transfer points\",\"LP-5 EU-8\")))))))))","v":""},null,null,null,{"$f":"IF($C$72=\"no\",I70,0)","v":0},{"$f":"IF($C$72=\"yes\",I70,0)","v":0}]
[null,{"$f":"IF('Limestone Plant (LP-5)'!$D$4>3,\"Crushing Period (Dates):\",\"\")","v":""},null,null,"","",null,null,null,0,0]
[null,{"$f":"IF('Limestone Plant (LP-5)'!$D$4>3,\"Controlled with Dust Suppressant or Material Being Processed has Moisture Content > 1.5%?\",\"\")","v":""},null,null,"","",null,null,null,0,0]
[null,null,null,null,"","",null,null,null,0,0]
[null,null,null,null,"","",null,null,null,0,0]
[null,null,null,null,"","",null,null,null,0,0]
[null,null,null,null,"","",null,null,null,0,0]
[]
[null,null,null,null,{"$f":"IF('Limestone Plant (LP-5)'!$D$4>3,\"Stock Pile Area\",\"\")","v":""}]
[null,null,null,null,null,{"$f":"IF('Limestone Plant (LP-5)'!$D$4>3,\"Emission Unit #\",\"\")","v":""},{"$f":"IF('Limestone Plant (LP-5)'!$D$4>3,\"Maximum Storage Area (acres)\",\"\")","v":""},{"$f":"IF('Limestone Plant (LP-5)'!$D$4>3,\"Actual Storage Area (acres)\",\"\")","v":""},{"$f":"IF('Limestone Plant (LP-5)'!$D$4>3,\"Actual Days in Existence (days)\",\"\")","v":""}]
[]
[]
[]
[null,{"$f":"IF('Limestone Plant (LP-5)'!$D$4>4,\"CRUSHER PLANT\",\"\")","v":""},{"$f":"IF('Limestone Plant (LP-5)'!$D$4>4,\"Site 5\",\"\")","v":""},null,{"$f":"IF('Limestone Plant (LP-5)'!$D$4>4,\"Emission Point #\",\"\")","v":""},{"$f":"IF('Limestone Plant (LP-5)'!$D$4>4,\"Emission    Unit #\",\"\")","v":""},{"$f":"IF('Limestone Plant (LP-5)'!$D$4>4,\"Processes\",\"\")","v":""},{"$f":"IF('Limestone Plant (LP-5)'!$D$4>4,\"Combined Maximum Hourly Design Rate for all Like Processes (tons/hr)\",\"\")","v":""},{"$f":"IF('Limestone Plant (LP-5)'!$D$4>4,('Facility Information'!G5&\" Annual Throughput (tons)\"),\"\")","v":""}]
[]
[null,{"$f":"IF('Limestone Plant (LP-5)'!$D$4>4,\"Site Name:\",\"\")","v":""},null,null,{"$f":"IF(G85=\"\",\"\",\"LP-5 EP-1\")","v":""},{"$f":"IF(G85=\"\",\"\",IF(G85=\"primary crusher\",\"LP-5 EU-1\",IF(G85=\"screening\",\"LP-5 EU-2\",IF(G85=\"secondary crusher\",\"LP-5 EU-3\",IF(G85=\"tertiary crusher\",\"LP-5 EU-4\",IF(G85=\"fines crushing\",\"LP-5 EU-5\",IF(G85=\"fines screening\",\"LP-5 EU-6\",IF(G85=\"wet drilling: unfragmented stone\",\"LP-5 EU-7\",IF(G85=\"conveyor transfer points\",\"LP-5 EU-8\")))))))))","v":""},null,null,null,{"$f":"IF($C$88=\"no\",I85,0)","v":0},{"$f":"IF($C$88=\"yes\",I85,0)","v":0}]
[null,{"$f":"IF('Limestone Plant (LP-5)'!$D$4>4,\"County:\",\"\")","v":""},null,null,{"$f":"IF(G86=\"\",\"\",\"LP-5 EP-1\")","v":""},{"$f":"IF(G86=\"\",\"\",IF(G86=\"primary crusher\",\"LP-5 EU-1\",IF(G86=\"screening\",\"LP-5 EU-2\",IF(G86=\"secondary crusher\",\"LP-5 EU-3\",IF(G86=\"tertiary crusher\",\"LP-5 EU-4\",IF(G86=\"fines crushing\",\"LP-5 EU-5\",IF(G86=\"fines screening\",\"LP-5 EU-6\",IF(G86=\"wet drilling: unfragmented stone\",\"LP-5 EU-7\",IF(G86=\"conveyor transfer points\",\"LP-5 EU-8\")))))))))","v":""},null,null,null,{"$f":"IF($C$88=\"no\",I86,0)","v":0},{"$f":"IF($C$88=\"yes\",I86,0)","v":0}]
[null,{"$f":"IF('Limestone Plant (LP-5)'!$D$4>4,\"Crushing Period (Dates):\",\"\")","v":""},null,null,"","",null,null,null,0,0]
[null,{"$f":"IF('Limestone Plant (LP-5)'!$D$4>4,\"Controlled with Dust Suppressant or Material Being Processed has Moisture Content > 1.5%?\",\"\")","v":""},null,null,"","",null,null,null,0,0]
[null,null,null,null,"","",null,null,null,0,0]
[null,null,null,null,"","",null,null,null,0,0]
[null,null,null,null,"","",null,null,null,0,0]
[null,null,null,null,"","",null,null,null,0,0]
[]
[null,null,null,null,{"$f":"IF('Limestone Plant (LP-5)'!$D$4>4,\"Stock Pile Area\",\"\")","v":""}]
[null,null,null,null,null,{"$f":"IF('Limestone Plant (LP-5)'!$D$4>4,\"Emission Unit #\",\"\")","v":""},{"$f":"IF('Limestone Plant (LP-5)'!$D$4>4,\"Maximum Storage Area (acres)\",\"\")","v":""},{"$f":"IF('Limestone Plant (LP-5)'!$D$4>4,\"Actual Storage Area (acres)\",\"\")","v":""},{"$f":"IF('Limestone Plant (LP-5)'!$D$4>4,\"Actual Days in Existence (days)\",\"\")","v":""}]
[]
[]
[]
[null,{"$f":"IF('Limestone Plant (LP-5)'!$D$4>5,\"CRUSHER PLANT\",\"\")","v":""},{"$f":"IF('Limestone Plant (LP-5)'!$D$4>5,\"Site 6\",\"\")","v":""},null,{"$f":"IF('Limestone Plant (LP-5)'!$D$4>5,\"Emission Point #\",\"\")","v":""},{"$f":"IF('Limestone Plant (LP-5)'!$D$4>5,\"Emission    Unit #\",\"\")","v":""},{"$f":"IF('Limestone Plant (LP-5)'!$D$4>5,\"Processes\",\"\")","v":""},{"$f":"IF('Limestone Plant (LP-5)'!$D$4>5,\"Combined Maximum Hourly Design Rate for all Like Processes (tons/hr)\",\"\")","v":""},{"$f":"IF('Limestone Plant (LP-5)'!$D$4>5,('Facility Information'!G5&\" Annual Throughput (tons)\"),\"\")","v":""}]
[]
[null,{"$f":"IF('Limestone Plant (LP-5)'!$D$4>5,\"Site Name:\",\"\")","v":""},null,null,{"$f":"IF(G101=\"\",\"\",\"LP-5 EP-1\")","v":""},{"$f":"IF(G101=\"\",\"\",IF(G101=\"primary crusher\",\"LP-5 EU-1\",IF(G101=\"screening\",\"LP-5 EU-2\",IF(G101=\"secondary crusher\",\"LP-5 EU-3\",IF(G101=\"tertiary crusher\",\"LP-5 EU-4\",IF(G101=\"fines crushing\",\"LP-5 EU-5\",IF(G101=\"fines screening\",\"LP-5 EU-6\",IF(G101=\"wet drilling: unfragmented stone\",\"LP-5 EU-7\",IF(G101=\"conveyor transfer points\",\"LP-5 EU-8\")))))))))","v":""},null,null,null,{"$f":"IF($C$104=\"no\",I101,0)","v":0},{"$f":"IF($C$104=\"yes\",I101,0)","v":0}]
[null,{"$f":"IF('Limestone Plant (LP-5)'!$D$4>5,\"County:\",\"\")","v":""},null,null,{"$f":"IF(G102=\"\",\"\",\"LP-5 EP-1\")","v":""},{"$f":"IF(G102=\"\",\"\",IF(G102=\"primary crusher\",\"LP-5 EU-1\",IF(G102=\"screening\",\"LP-5 EU-2\",IF(G102=\"secondary crusher\",\"LP-5 EU-3\",IF(G102=\"tertiary crusher\",\"LP-5 EU-4\",IF(G102=\"fines crushing\",\"LP-5 EU-5\",IF(G102=\"fines screening\",\"LP-5 EU-6\",IF(G102=\"wet drilling: unfragmented stone\",\"LP-5 EU-7\",IF(G102=\"conveyor transfer points\",\"LP-5 EU-8\")))))))))","v":""},null,null,null,{"$f":"IF($C$104=\"no\",I102,0)","v":0},{"$f":"IF($C$104=\"yes\",I102,0)","v":0}]
[null,{"$f":"IF('Limestone Plant (LP-5)'!$D$4>5,\"Crushing Period (Dates):\",\"\")","v":""},null,null,"","",null,null,null,0,0]
[null,{"$f":"IF('Limestone Plant (LP-5)'!$D$4>5,\"Controlled with Dust Suppressant or Material Being Processed has Moisture Content > 1.5%?\",\"\")","v":""},null,null,"","",null,null,null,0,0]
[null,null,null,null,"","",null,null,null,0,0]
[null,null,null,null,"","",null,null,null,0,0]
[null,null,null,null,"","",null,null,null,0,0]
[null,null,null,null,"","",null,null,null,0,0]
[]
[null,null,null,null,{"$f":"IF('Limestone Plant (LP-5)'!$D$4>5,\"Stock Pile Area\",\"\")","v":""}]
[null,null,null,null,null,{"$f":"IF('Limestone Plant (LP-5)'!$D$4>5,\"Emission Unit #\",\"\")","v":""},{"$f":"IF('Limestone Plant (LP-5)'!$D$4>5,\"Maximum Storage Area (acres)\",\"\")","v":""},{"$f":"IF('Limestone Plant (LP-5)'!$D$4>5,\"Actual Storage Area (acres)\",\"\")","v":""},{"$f":"IF('Limestone Plant (LP-5)'!$D$4>5,\"Actual Days in Existence (days)\",\"\")","v":""}]
[]
[]
[]
[null,{"$f":"IF('Limestone Plant (LP-5)'!$D$4>6,\"CRUSHER PLANT\",\"\")","v":""},{"$f":"IF('Limestone Plant (LP-5)'!$D$4>6,\"Site 7\",\"\")","v":""},null,{"$f":"IF('Limestone Plant (LP-5)'!$D$4>6,\"Emission Point #\",\"\")","v":""},{"$f":"IF('Limestone Plant (LP-5)'!$D$4>6,\"Emission    Unit #\",\"\")","v":""},{"$f":"IF('Limestone Plant (LP-5)'!$D$4>6,\"Processes\",\"\")","v":""},{"$f":"IF('Limestone Plant (LP-5)'!$D$4>6,\"Combined Maximum Hourly Design Rate for all Like Processes (tons/hr)\",\"\")","v":""},{"$f":"IF('Limestone Plant (LP-5)'!$D$4>6,('Facility Information'!G5&\" Annual Throughput (tons)\"),\"\")","v":""}]
[]
[null,{"$f":"IF('Limestone Plant (LP-5)'!$D$4>6,\"Site Name:\",\"\")","v":""},null,null,{"$f":"IF(G117=\"\",\"\",\"LP-5 EP-1\")","v":""},{"$f":"IF(G117=\"\",\"\",IF(G117=\"primary crusher\",\"LP-5 EU-1\",IF(G117=\"screening\",\"LP-5 EU-2\",IF(G117=\"secondary crusher\",\"LP-5 EU-3\",IF(G117=\"tertiary crusher\",\"LP-5 EU-4\",IF(G117=\"fines crushing\",\"LP-5 EU-5\",IF(G117=\"fines screening\",\"LP-5 EU-6\",IF(G117=\"wet drilling: unfragmented stone\",\"LP-5 EU-7\",IF(G117=\"conveyor transfer points\",\"LP-5 EU-8\")))))))))","v":""},null,null,null,{"$f":"IF($C$120=\"no\",I117,0)","v":0},{"$f":"IF($C$120=\"yes\",I117,0)","v":0}]
[null,{"$f":"IF('Limestone Plant (LP-5)'!$D$4>6,\"County:\",\"\")","v":""},null,null,{"$f":"IF(G118=\"\",\"\",\"LP-5 EP-1\")","v":""},{"$f":"IF(G118=\"\",\"\",IF(G118=\"primary crusher\",\"LP-5 EU-1\",IF(G118=\"screening\",\"LP-5 EU-2\",IF(G118=\"secondary crusher\",\"LP-5 EU-3\",IF(G118=\"tertiary crusher\",\"LP-5 EU-4\",IF(G118=\"fines crushing\",\"LP-5 EU-5\",IF(G118=\"fines screening\",\"LP-5 EU-6\",IF(G118=\"wet drilling: unfragmented stone\",\"LP-5 EU-7\",IF(G118=\"conveyor transfer points\",\"LP-5 EU-8\")))))))))","v":""},null,null,null,{"$f":"IF($C$120=\"no\",I118,0)","v":0},{"$f":"IF($C$120=\"yes\",I118,0)","v":0}]
[null,{"$f":"IF('Limestone Plant (LP-5)'!$D$4>6,\"Crushing Period (Dates):\",\"\")","v":""},null,null,"","",null,null,null,0,0]
[null,{"$f":"IF('Limestone Plant (LP-5)'!$D$4>6,\"Controlled with Dust Suppressant or Material Being Processed has Moisture Content > 1.5%?\",\"\")","v":""},null,null,"","",null,null,null,0,0]
[null,null,null,null,"","",null,null,null,0,0]
[null,null,null,null,"","",null,null,null,0,0]
[null,null,null,null,"","",null,null,null,0,0]
[null,null,null,null,"","",null,null,null,0,0]
[]
[null,null,null,null,{"$f":"IF('Limestone Plant (LP-5)'!$D$4>6,\"Stock Pile Area\",\"\")","v":""}]
[null,null,null,null,null,{"$f":"IF('Limestone Plant (LP-5)'!$D$4>6,\"Emission Unit #\",\"\")","v":""},{"$f":"IF('Limestone Plant (LP-5)'!$D$4>6,\"Maximum Storage Area (acres)\",\"\")","v":""},{"$f":"IF('Limestone Plant (LP-5)'!$D$4>6,\"Actual Storage Area (acres)\",\"\")","v":""},{"$f":"IF('Limestone Plant (LP-5)'!$D$4>6,\"Actual Days in Existence (days)\",\"\")","v":""}]
[]
[]
[]
[null,{"$f":"IF('Limestone Plant (LP-5)'!$D$4>7,\"CRUSHER PLANT\",\"\")","v":""},{"$f":"IF('Limestone Plant (LP-5)'!$D$4>7,\"Site 8\",\"\")","v":""},null,{"$f":"IF('Limestone Plant (LP-5)'!$D$4>7,\"Emission Point #\",\"\")","v":""},{"$f":"IF('Limestone Plant (LP-5)'!$D$4>7,\"Emission    Unit #\",\"\")","v":""},{"$f":"IF('Limestone Plant (LP-5)'!$D$4>7,\"Processes\",\"\")","v":""},{"$f":"IF('Limestone Plant (LP-5)'!$D$4>7,\"Combined Maximum Hourly Design Rate for all Like Processes (tons/hr)\",\"\")","v":""},{"$f":"IF('Limestone Plant (LP-5)'!$D$4>7,('Facility Information'!G5&\" Annual Throughput (tons)\"),\"\")","v":""}]
[]
[null,{"$f":"IF('Limestone Plant (LP-5)'!$D$4>7,\"Site Name:\",\"\")","v":""},null,null,{"$f":"IF(G133=\"\",\"\",\"LP-5 EP-1\")","v":""},{"$f":"IF(G133=\"\",\"\",IF(G133=\"primary crusher\",\"LP-5 EU-1\",IF(G133=\"screening\",\"LP-5 EU-2\",IF(G133=\"secondary crusher\",\"LP-5 EU-3\",IF(G133=\"tertiary crusher\",\"LP-5 EU-4\",IF(G133=\"fines crushing\",\"LP-5 EU-5\",IF(G133=\"fines screening\",\"LP-5 EU-6\",IF(G133=\"wet drilling: unfragmented stone\",\"LP-5 EU-7\",IF(G133=\"conveyor transfer points\",\"LP-5 EU-8\")))))))))","v":""},null,null,null,{"$f":"IF($C$136=\"no\",I133,0)","v":0},{"$f":"IF($C$136=\"yes\",I133,0)","v":0}]
[null,{"$f":"IF('Limestone Plant (LP-5)'!$D$4>7,\"County:\",\"\")","v":""},null,null,{"$f":"IF(G134=\"\",\"\",\"LP-5 EP-1\")","v":""},{"$f":"IF(G134=\"\",\"\",IF(G134=\"primary crusher\",\"LP-5 EU-1\",IF(G134=\"screening\",\"LP-5 EU-2\",IF(G134=\"secondary crusher\",\"LP-5 EU-3\",IF(G134=\"tertiary crusher\",\"LP-5 EU-4\",IF(G134=\"fines crushing\",\"LP-5 EU-5\",IF(G134=\"fines screening\",\"LP-5 EU-6\",IF(G134=\"wet drilling: unfragmented stone\",\"LP-5 EU-7\",IF(G134=\"conveyor transfer points\",\"LP-5 EU-8\")))))))))","v":""},null,null,null,{"$f":"IF($C$136=\"no\",I134,0)","v":0},{"$f":"IF($C$136=\"yes\",I134,0)","v":0}]
[null,{"$f":"IF('Limestone Plant (LP-5)'!$D$4>7,\"Crushing Period (Dates):\",\"\")","v":""},null,null,"","",null,null,null,0,0]
[null,{"$f":"IF('Limestone Plant (LP-5)'!$D$4>7,\"Controlled with Dust Suppressant or Material Being Processed has Moisture Content > 1.5%?\",\"\")","v":""},null,null,"","",null,null,null,0,0]
[null,null,null,null,"","",null,null,null,0,0]
[null,null,null,null,"","",null,null,null,0,0]
[null,null,null,null,"","",null,null,null,0,0]
[null,null,null,null,"","",null,null,null,0,0]
[]
[null,null,null,null,{"$f":"IF('Limestone Plant (LP-5)'!$D$4>7,\"Stock Pile Area\",\"\")","v":""}]
[null,null,null,null,null,{"$f":"IF('Limestone Plant (LP-5)'!$D$4>7,\"Emission Unit #\",\"\")","v":""},{"$f":"IF('Limestone Plant (LP-5)'!$D$4>7,\"Maximum Storage Area (acres)\",\"\")","v":""},{"$f":"IF('Limestone Plant (LP-5)'!$D$4>7,\"Actual Storage Area (acres)\",\"\")","v":""},{"$f":"IF('Limestone Plant (LP-5)'!$D$4>7,\"Actual Days in Existence (days)\",\"\")","v":""}]
[]
[]
[]
[null,{"$f":"IF('Limestone Plant (LP-5)'!$D$4>8,\"CRUSHER PLANT\",\"\")","v":""},{"$f":"IF('Limestone Plant (LP-5)'!$D$4>8,\"Site 9\",\"\")","v":""},null,{"$f":"IF('Limestone Plant (LP-5)'!$D$4>8,\"Emission Point #\",\"\")","v":""},{"$f":"IF('Limestone Plant (LP-5)'!$D$4>8,\"Emission    Unit #\",\"\")","v":""},{"$f":"IF('Limestone Plant (LP-5)'!$D$4>8,\"Processes\",\"\")","v":""},{"$f":"IF('Limestone Plant (LP-5)'!$D$4>8,\"Combined Maximum Hourly Design Rate for all Like Processes (tons/hr)\",\"\")","v":""},{"$f":"IF('Limestone Plant (LP-5)'!$D$4>8,('Facility Information'!G5&\" Annual Throughput (tons)\"),\"\")","v":""}]
[]
[null,{"$f":"IF('Limestone Plant (LP-5)'!$D$4>8,\"Site Name:\",\"\")","v":""},null,null,{"$f":"IF(G149=\"\",\"\",\"LP-5 EP-1\")","v":""},{"$f":"IF(G149=\"\",\"\",IF(G149=\"primary crusher\",\"LP-5 EU-1\",IF(G149=\"screening\",\"LP-5 EU-2\",IF(G149=\"secondary crusher\",\"LP-5 EU-3\",IF(G149=\"tertiary crusher\",\"LP-5 EU-4\",IF(G149=\"fines crushing\",\"LP-5 EU-5\",IF(G149=\"fines screening\",\"LP-5 EU-6\",IF(G149=\"wet drilling: unfragmented stone\",\"LP-5 EU-7\",IF(G149=\"conveyor transfer points\",\"LP-5 EU-8\")))))))))","v":""},null,null,null,{"$f":"IF($C$152=\"no\",I149,0)","v":0},{"$f":"IF($C$152=\"yes\",I149,0)","v":0}]
[null,{"$f":"IF('Limestone Plant (LP-5)'!$D$4>8,\"County:\",\"\")","v":""},null,null,{"$f":"IF(G150=\"\",\"\",\"LP-5 EP-1\")","v":""},{"$f":"IF(G150=\"\",\"\",IF(G150=\"primary crusher\",\"LP-5 EU-1\",IF(G150=\"screening\",\"LP-5 EU-2\",IF(G150=\"secondary crusher\",\"LP-5 EU-3\",IF(G150=\"tertiary crusher\",\"LP-5 EU-4\",IF(G150=\"fines crushing\",\"LP-5 EU-5\",IF(G150=\"fines screening\",\"LP-5 EU-6\",IF(G150=\"wet drilling: unfragmented stone\",\"LP-5 EU-7\",IF(G150=\"conveyor transfer points\",\"LP-5 EU-8\")))))))))","v":""},null,null,null,{"$f":"IF($C$152=\"no\",I150,0)","v":0},{"$f":"IF($C$152=\"yes\",I150,0)","v":0}]
[null,{"$f":"IF('Limestone Plant (LP-5)'!$D$4>8,\"Crushing Period (Dates):\",\"\")","v":""},null,null,"","",null,null,null,0,0]
[null,{"$f":"IF('Limestone Plant (LP-5)'!$D$4>8,\"Controlled with Dust Suppressant or Material Being Processed has Moisture Content > 1.5%?\",\"\")","v":""},null,null,"","",null,null,null,0,0]
[null,null,null,null,"","",null,null,null,0,0]
[null,null,null,null,"","",null,null,null,0,0]
[null,null,null,null,"","",null,null,null,0,0]
[null,null,null,null,"","",null,null,null,0,0]
[]
[null,null,null,null,{"$f":"IF('Limestone Plant (LP-5)'!$D$4>8,\"Stock Pile Area\",\"\")","v":""}]
[null,null,null,null,null,{"$f":"IF('Limestone Plant (LP-5)'!$D$4>8,\"Emission Unit #\",\"\")","v":""},{"$f":"IF('Limestone Plant (LP-5)'!$D$4>8,\"Maximum Storage Area (acres)\",\"\")","v":""},{"$f":"IF('Limestone Plant (LP-5)'!$D$4>8,\"Actual Storage Area (acres)\",\"\")","v":""},{"$f":"IF('Limestone Plant (LP-5)'!$D$4>8,\"Actual Days in Existence (days)\",\"\")","v":""}]
[]
[]
[]
[null,{"$f":"IF('Limestone Plant (LP-5)'!$D$4>9,\"CRUSHER PLANT\",\"\")","v":""},{"$f":"IF('Limestone Plant (LP-5)'!$D$4>9,\"Site 10\",\"\")","v":""},null,{"$f":"IF('Limestone Plant (LP-5)'!$D$4>9,\"Emission Point #\",\"\")","v":""},{"$f":"IF('Limestone Plant (LP-5)'!$D$4>9,\"Emission    Unit #\",\"\")","v":""},{"$f":"IF('Limestone Plant (LP-5)'!$D$4>9,\"Processes\",\"\")","v":""},{"$f":"IF('Limestone Plant (LP-5)'!$D$4>9,\"Combined Maximum Hourly Design Rate for all Like Processes (tons/hr)\",\"\")","v":""},{"$f":"IF('Limestone Plant (LP-5)'!$D$4>9,('Facility Information'!G5&\" Annual Throughput (tons)\"),\"\")","v":""}]
[]
[null,{"$f":"IF('Limestone Plant (LP-5)'!$D$4>9,\"Site Name:\",\"\")","v":""},null,null,{"$f":"IF(G165=\"\",\"\",\"LP-5 EP-1\")","v":""},{"$f":"IF(G165=\"\",\"\",IF(G165=\"primary crusher\",\"LP-5 EU-1\",IF(G165=\"screening\",\"LP-5 EU-2\",IF(G165=\"secondary crusher\",\"LP-5 EU-3\",IF(G165=\"tertiary crusher\",\"LP-5 EU-4\",IF(G165=\"fines crushing\",\"LP-5 EU-5\",IF(G165=\"fines screening\",\"LP-5 EU-6\",IF(G165=\"wet drilling: unfragmented stone\",\"LP-5 EU-7\",IF(G165=\"conveyor transfer points\",\"LP-5 EU-8\")))))))))","v":""},null,null,null,{"$f":"IF($C168=\"no\",I165,0)","v":0}]
[null,{"$f":"IF('Limestone Plant (LP-5)'!$D$4>9,\"County:\",\"\")","v":""},null,null,{"$f":"IF(G166=\"\",\"\",\"LP-5 EP-1\")","v":""},{"$f":"IF(G166=\"\",\"\",IF(G166=\"primary crusher\",\"LP-5 EU-1\",IF(G166=\"screening\",\"LP-5 EU-2\",IF(G166=\"secondary crusher\",\"LP-5 EU-3\",IF(G166=\"tertiary crusher\",\"LP-5 EU-4\",IF(G166=\"fines crushing\",\"LP-5 EU-5\",IF(G166=\"fines screening\",\"LP-5 EU-6\",IF(G166=\"wet drilling: unfragmented stone\",\"LP-5 EU-7\",IF(G166=\"conveyor transfer points\",\"LP-5 EU-8\")))))))))","v":""}]
[null,{"$f":"IF('Limestone Plant (LP-5)'!$D$4>9,\"Crushing Period (Dates):\",\"\")","v":""},null,null,"",""]
[null,{"$f":"IF('Limestone Plant (LP-5)'!$D$4>9,\"Controlled with Dust Suppressant or Material Being Processed has Moisture Content > 1.5%?\",\"\")","v":""},null,null,"",""]
[null,null,null,null,"",""]
[null,null,null,null,"",""]
[null,null,null,null,"",""]
[null,null,null,null,"",""]
[]
[null,null,null,null,{"$f":"IF('Limestone Plant (LP-5)'!$D$4>9,\"Stock Pile Area\",\"\")","v":""}]
[null,null,null,null,null,{"$f":"IF('Limestone Plant (LP-5)'!$D$4>9,\"Emission Unit #\",\"\")","v":""},{"$f":"IF('Limestone Plant (LP-5)'!$D$4>9,\"Maximum Storage Area (acres)\",\"\")","v":""},{"$f":"IF('Limestone Plant (LP-5)'!$D$4>9,\"Actual Storage Area (acres)\",\"\")","v":""},{"$f":"IF('Limestone Plant (LP-5)'!$D$4>9,\"Actual Days in Existence (days)\",\"\")","v":""}]

{"sheet":"Limestone Plant (LP-6)","index":6,"n_rows":175,"n_cols":19,"rows_kept":175,"cut":false,"hidden":true,"merged":[[167,1,169,1],[167,2,169,2],[119,1,121,1],[119,2,121,2],[135,1,137,1],[135,2,137,2],[151,1,153,1],[151,2,153,2],[71,1,73,1],[71,2,73,2],[87,1,89,1],[87,2,89,2],[103,2,105,2],[103,1,105,1],[23,2,25,2],[23,1,25,1],[39,1,41,1],[39,2,41,2],[55,1,57,1],[55,2,57,2],[162,4,163,4],[162,6,163,6],[162,7,163,7],[162,8,163,8],[130,4,131,4],[130,6,131,6],[130,7,131,7],[130,8,131,8],[146,4,147,4],[146,6,147,6],[146,7,147,7],[146,8,147,8],[130,5,131,5],[146,5,147,5],[162,5,163,5],[98,4,99,4],[98,6,99,6],[98,7,99,7],[98,8,99,8],[114,4,115,4],[114,6,115,6],[114,7,115,7],[114,8,115,8],[98,5,99,5],[114,5,115,5],[66,4,67,4],[66,6,67,6],[66,7,67,7],[66,8,67,8],[82,4,83,4],[82,6,83,6],[82,7,83,7],[82,8,83,8],[66,5,67,5],[82,5,83,5],[48,3,48,4],[50,4,51,4],[50,6,51,6],[50,7,51,7],[50,8,51,8],[50,5,51,5],[37,14,38,14],[37,15,38,15],[37,16,38,16],[37,17,38,17],[37,18,38,18],[34,4,35,4],[34,6,35,6],[34,7,35,7],[34,8,35,8],[37,13,38,13],[34,5,35,5],[17,16,18,16],[17,17,18,17],[17,18,18,18],[18,4,19,4],[18,6,19,6],[18,7,19,7],[18,8,19,8],[17,13,18,13],[17,14,18,14],[17,15,18,15],[18,5,19,5],[2,13,3,13],[2,14,3,14],[2,18,3,18],[3,1,3,2],[3,3,3,4],[11,1,13,2],[0,1,0,2],[1,1,1,2],[1,7,1,8],[2,12,3,12]]}
[null,"LIMESTONE CRUSHING PLANT (LP-6)"]
[null,"Please fill in the yellow boxes as applicable for your facility. ",null,null,null,null,null,"Values used for calculating emissions →",null,null,null,null,"Values Used to Calculate Actual Emissions for the Listed Processes at this Plant"]
[null,null,null,null,null,null,null,null,null,null,null,null,"Process","Maximum Design Rate (tons/hr)","Actual throughput w/o wet supression (tons/yr)",null,null,null,"Actual throughtput w/ wet supression (tons/yr)"]
[null,{"$f":"\"Number of Sites this Plant operated at in \"&'Facility Information'!G5&\":\"","v":"Number of Sites this Plant operated at in :"},null,null,null,null,null,null,null,null,null,null,null,null,null,null,"** As of 2016 Potential Emissions are no longer required to be reported in the Minor Source Emissions Inventory**"]
[null,null,null,null,null,null,null,null,null,null,null,null,"Primary Crusher",{"$f":"MAX((IFERROR(OFFSET($G$20,MATCH(\"primary crusher\",$G$21:$G$28,0),1),0)),((IFERROR((OFFSET($G$36,MATCH(\"primary crusher\",$G$37:$G$44,0),1)),0))),((IFERROR((OFFSET($G$52,MATCH(\"primary crusher\",$G$53:$G$60,0),1)),0))),((IFERROR((OFFSET($G$68,MATCH(\"primary crusher\",$G$69:$G$76,0),1)),0))),((IFERROR((OFFSET($G$84,MATCH(\"primary crusher\",$G$85:$G$92,0),1)),0))),((IFERROR((OFFSET($G$100,MATCH(\"primary crusher\",$G$101:$G$108,0),1)),0))),((IFERROR((OFFSET($G$116,MATCH(\"primary crusher\",$G$117:$G$124,0),1)),0))),((IFERROR((OFFSET($G$132,MATCH(\"primary crusher\",$G$133:$G$140,0),1)),0))),((IFERROR((OFFSET($G$148,MATCH(\"primary crusher\",$G$149:$G$156,0),1)),0))),((IFERROR((OFFSET($G$163,MATCH(\"primary crusher\",$G$165:$G$172,0),1)),0))))","v":0},{"$f":"SUM((IFERROR(OFFSET($G$20,MATCH(\"primary crusher\",$G$21:$G$28,0),3),0)),((IFERROR((OFFSET($G$36,MATCH(\"primary crusher\",$G$37:$G$44,0),3)),0))),((IFERROR((OFFSET($G$52,MATCH(\"primary crusher\",$G$53:$G$60,0),3)),0))),((IFERROR((OFFSET($G$68,MATCH(\"primary crusher\",$G$69:$G$76,0),3)),0))),((IFERROR((OFFSET($G$84,MATCH(\"primary crusher\",$G$85:$G$92,0),3)),0))),((IFERROR((OFFSET($G$100,MATCH(\"primary crusher\",$G$101:$G$108,0),3)),0))),((IFERROR((OFFSET($G$116,MATCH(\"primary crusher\",$G$117:$G$124,0),3)),0))),((IFERROR((OFFSET($G$132,MATCH(\"primary crusher\",$G$133:$G$140,0),3)),0))),((IFERROR((OFFSET($G$148,MATCH(\"primary crusher\",$G$149:$G$156,0),3)),0))),((IFERROR((OFFSET($G$163,MATCH(\"primary crusher\",$G$165:$G$172,0),3)),0))))","v":0},null,null,null,{"$f":"SUM((IFERROR(OFFSET($G$20,MATCH(\"primary crusher\",$G$21:$G$28,0),4),0)),((IFERROR((OFFSET($G$36,MATCH(\"primary crusher\",$G$37:$G$44,0),4)),0))),((IFERROR((OFFSET($G$52,MATCH(\"primary crusher\",$G$53:$G$60,0),4)),0))),((IFERROR((OFFSET($G$68,MATCH(\"primary crusher\",$G$69:$G$76,0),4)),0))),((IFERROR((OFFSET($G$84,MATCH(\"primary crusher\",$G$85:$G$92,0),4)),0))),((IFERROR((OFFSET($G$100,MATCH(\"primary crusher\",$G$101:$G$108,0),4)),0))),((IFERROR((OFFSET($G$116,MATCH(\"primary crusher\",$G$117:$G$124,0),4)),0))),((IFERROR((OFFSET($G$132,MATCH(\"primary crusher\",$G$133:$G$140,0),4)),0))),((IFERROR((OFFSET($G$148,MATCH(\"primary crusher\",$G$149:$G$156,0),4)),0))),((IFERROR((OFFSET($G$163,MATCH(\"primary crusher\",$G$165:$G$172,0),4)),0))))","v":0}]
[null,"Plant Specific Permit Number: ",null,null,null,null,null,null,null,null,null,null,"Screening",{"$f":"MAX((IFERROR(OFFSET($G$20,MATCH(\"screening\",$G$21:$G$28,0),1),0)),((IFERROR((OFFSET($G$36,MATCH(\"screening\",$G$37:$G$44,0),1)),0))),((IFERROR((OFFSET($G$52,MATCH(\"screening\",$G$53:$G$60,0),1)),0))),((IFERROR((OFFSET($G$68,MATCH(\"screening\",$G$69:$G$76,0),1)),0))),((IFERROR((OFFSET($G$84,MATCH(\"screening\",$G$85:$G$92,0),1)),0))),((IFERROR((OFFSET($G$100,MATCH(\"screening\",$G$101:$G$108,0),1)),0))),((IFERROR((OFFSET($G$116,MATCH(\"screening\",$G$117:$G$124,0),1)),0))),((IFERROR((OFFSET($G$132,MATCH(\"screening\",$G$133:$G$140,0),1)),0))),((IFERROR((OFFSET($G$148,MATCH(\"screening\",$G$149:$G$156,0),1)),0))),((IFERROR((OFFSET($G$163,MATCH(\"screening\",$G$165:$G$172,0),1)),0))))","v":0},{"$f":"SUM((IFERROR(OFFSET($G$20,MATCH(\"screening\",$G$21:$G$28,0),3),0)),((IFERROR((OFFSET($G$36,MATCH(\"screening\",$G$37:$G$44,0),3)),0))),((IFERROR((OFFSET($G$52,MATCH(\"screening\",$G$53:$G$60,0),3)),0))),((IFERROR((OFFSET($G$68,MATCH(\"screening\",$G$69:$G$76,0),3)),0))),((IFERROR((OFFSET($G$84,MATCH(\"screening\",$G$85:$G$92,0),3)),0))),((IFERROR((OFFSET($G$100,MATCH(\"screening\",$G$101:$G$108,0),3)),0))),((IFERROR((OFFSET($G$116,MATCH(\"screening\",$G$117:$G$124,0),3)),0))),((IFERROR((OFFSET($G$132,MATCH(\"screening\",$G$133:$G$140,0),3)),0))),((IFERROR((OFFSET($G$148,MATCH(\"screening\",$G$149:$G$156,0),3)),0))),((IFERROR((OFFSET($G$163,MATCH(\"screening\",$G$165:$G$172,0),3)),0))))","v":0},null,null,null,{"$f":"SUM((IFERROR(OFFSET($G$20,MATCH(\"screening\",$G$21:$G$28,0),4),0)),((IFERROR((OFFSET($G$36,MATCH(\"screening\",$G$37:$G$44,0),4)),0))),((IFERROR((OFFSET($G$52,MATCH(\"screening\",$G$53:$G$60,0),4)),0))),((IFERROR((OFFSET($G$68,MATCH(\"screening\",$G$69:$G$76,0),4)),0))),((IFERROR((OFFSET($G$84,MATCH(\"screening\",$G$85:$G$92,0),4)),0))),((IFERROR((OFFSET($G$100,MATCH(\"screening\",$G$101:$G$108,0),4)),0))),((IFERROR((OFFSET($G$116,MATCH(\"screening\",$G$117:$G$124,0),4)),0))),((IFERROR((OFFSET($G$132,MATCH(\"screening\",$G$133:$G$140,0),4)),0))),((IFERROR((OFFSET($G$148,MATCH(\"screening\",$G$149:$G$156,0),4)),0))),((IFERROR((OFFSET($G$163,MATCH(\"screening\",$G$165:$G$172,0),4)),0))))","v":0}]
[null,null,null,null,null,null,null,null,null,null,null,null,"Secondary Crusher",{"$f":"MAX((IFERROR(OFFSET($G$20,MATCH(\"secondary crusher\",$G$21:$G$28,0),1),0)),((IFERROR((OFFSET($G$36,MATCH(\"secondary crusher\",$G$37:$G$44,0),1)),0))),((IFERROR((OFFSET($G$52,MATCH(\"secondary crusher\",$G$53:$G$60,0),1)),0))),((IFERROR((OFFSET($G$68,MATCH(\"secondary crusher\",$G$69:$G$76,0),1)),0))),((IFERROR((OFFSET($G$84,MATCH(\"secondary crusher\",$G$85:$G$92,0),1)),0))),((IFERROR((OFFSET($G$100,MATCH(\"secondary crusher\",$G$101:$G$108,0),1)),0))),((IFERROR((OFFSET($G$116,MATCH(\"secondary crusher\",$G$117:$G$124,0),1)),0))),((IFERROR((OFFSET($G$132,MATCH(\"secondary crusher\",$G$133:$G$140,0),1)),0))),((IFERROR((OFFSET($G$148,MATCH(\"secondary crusher\",$G$149:$G$156,0),1)),0))),((IFERROR((OFFSET($G$163,MATCH(\"secondary crusher\",$G$165:$G$172,0),1)),0))))","v":0},{"$f":"SUM((IFERROR(OFFSET($G$20,MATCH(\"secondary crusher\",$G$21:$G$28,0),3),0)),((IFERROR((OFFSET($G$36,MATCH(\"secondary crusher\",$G$37:$G$44,0),3)),0))),((IFERROR((OFFSET($G$52,MATCH(\"secondary crusher\",$G$53:$G$60,0),3)),0))),((IFERROR((OFFSET($G$68,MATCH(\"secondary crusher\",$G$69:$G$76,0),3)),0))),((IFERROR((OFFSET($G$84,MATCH(\"secondary crusher\",$G$85:$G$92,0),3)),0))),((IFERROR((OFFSET($G$100,MATCH(\"secondary crusher\",$G$101:$G$108,0),3)),0))),((IFERROR((OFFSET($G$116,MATCH(\"secondary crusher\",$G$117:$G$124,0),3)),0))),((IFERROR((OFFSET($G$132,MATCH(\"secondary crusher\",$G$133:$G$140,0),3)),0))),((IFERROR((OFFSET($G$148,MATCH(\"secondary crusher\",$G$149:$G$156,0),3)),0))),((IFERROR((OFFSET($G$163,MATCH(\"secondary crusher\",$G$165:$G$172,0),3)),0))))","v":0},null,null,null,{"$f":"SUM((IFERROR(OFFSET($G$20,MATCH(\"secondary crusher\",$G$21:$G$28,0),4),0)),((IFERROR((OFFSET($G$36,MATCH(\"secondary crusher\",$G$37:$G$44,0),4)),0))),((IFERROR((OFFSET($G$52,MATCH(\"secondary crusher\",$G$53:$G$60,0),4)),0))),((IFERROR((OFFSET($G$68,MATCH(\"secondary crusher\",$G$69:$G$76,0),4)),0))),((IFERROR((OFFSET($G$84,MATCH(\"secondary crusher\",$G$85:$G$92,0),4)),0))),((IFERROR((OFFSET($G$100,MATCH(\"secondary crusher\",$G$101:$G$108,0),4)),0))),((IFERROR((OFFSET($G$116,MATCH(\"secondary crusher\",$G$117:$G$124,0),4)),0))),((IFERROR((OFFSET($G$132,MATCH(\"secondary crusher\",$G$133:$G$140,0),4)),0))),((IFERROR((OFFSET($G$148,MATCH(\"secondary crusher\",$G$149:$G$156,0),4)),0))),((IFERROR((OFFSET($G$163,MATCH(\"secondary crusher\",$G$165:$G$172,0),4)),0))))","v":0}]
[null,"Plant Specific Operating Limits:",null,null,"Plant Specific Emission Limits:",null,null,null,null,null,null,null,"Tertiary Crusher",{"$f":"MAX((IFERROR(OFFSET($G$20,MATCH(\"tertiary crusher\",$G$21:$G$28,0),1),0)),((IFERROR((OFFSET($G$36,MATCH(\"tertiary crusher\",$G$37:$G$44,0),1)),0))),((IFERROR((OFFSET($G$52,MATCH(\"tertiary crusher\",$G$53:$G$60,0),1)),0))),((IFERROR((OFFSET($G$68,MATCH(\"tertiary crusher\",$G$69:$G$76,0),1)),0))),((IFERROR((OFFSET($G$84,MATCH(\"tertiary crusher\",$G$85:$G$92,0),1)),0))),((IFERROR((OFFSET($G$100,MATCH(\"tertiary crusher\",$G$101:$G$108,0),1)),0))),((IFERROR((OFFSET($G$116,MATCH(\"tertiary crusher\",$G$117:$G$124,0),1)),0))),((IFERROR((OFFSET($G$132,MATCH(\"tertiary crusher\",$G$133:$G$140,0),1)),0))),((IFERROR((OFFSET($G$148,MATCH(\"tertiary crusher\",$G$149:$G$156,0),1)),0))),((IFERROR((OFFSET($G$163,MATCH(\"tertiary crusher\",$G$165:$G$172,0),1)),0))))","v":0},{"$f":"SUM((IFERROR(OFFSET($G$20,MATCH(\"tertiary crusher\",$G$21:$G$28,0),3),0)),((IFERROR((OFFSET($G$36,MATCH(\"tertiary crusher\",$G$37:$G$44,0),3)),0))),((IFERROR((OFFSET($G$52,MATCH(\"tertiary crusher\",$G$53:$G$60,0),3)),0))),((IFERROR((OFFSET($G$68,MATCH(\"tertiary crusher\",$G$69:$G$76,0),3)),0))),((IFERROR((OFFSET($G$84,MATCH(\"tertiary crusher\",$G$85:$G$92,0),3)),0))),((IFERROR((OFFSET($G$100,MATCH(\"tertiary crusher\",$G$101:$G$108,0),3)),0))),((IFERROR((OFFSET($G$116,MATCH(\"tertiary crusher\",$G$117:$G$124,0),3)),0))),((IFERROR((OFFSET($G$132,MATCH(\"tertiary crusher\",$G$133:$G$140,0),3)),0))),((IFERROR((OFFSET($G$148,MATCH(\"tertiary crusher\",$G$149:$G$156,0),3)),0))),((IFERROR((OFFSET($G$163,MATCH(\"tertiary crusher\",$G$165:$G$172,0),3)),0))))","v":0},null,null,null,{"$f":"SUM((IFERROR(OFFSET($G$20,MATCH(\"tertiary crusher\",$G$21:$G$28,0),4),0)),((IFERROR((OFFSET($G$36,MATCH(\"tertiary crusher\",$G$37:$G$44,0),4)),0))),((IFERROR((OFFSET($G$52,MATCH(\"tertiary crusher\",$G$53:$G$60,0),4)),0))),((IFERROR((OFFSET($G$68,MATCH(\"tertiary crusher\",$G$69:$G$76,0),4)),0))),((IFERROR((OFFSET($G$84,MATCH(\"tertiary crusher\",$G$85:$G$92,0),4)),0))),((IFERROR((OFFSET($G$100,MATCH(\"tertiary crusher\",$G$101:$G$108,0),4)),0))),((IFERROR((OFFSET($G$116,MATCH(\"tertiary crusher\",$G$117:$G$124,0),4)),0))),((IFERROR((OFFSET($G$132,MATCH(\"tertiary crusher\",$G$133:$G$140,0),4)),0))),((IFERROR((OFFSET($G$148,MATCH(\"tertiary crusher\",$G$149:$G$156,0),4)),0))),((IFERROR((OFFSET($G$163,MATCH(\"tertiary crusher\",$G$165:$G$172,0),4)),0))))","v":0}]
[null,"Throughput Limit (tons/yr):",null,null,"Pollutant","lb/hr","tons/yr",null,null,null,null,null,"Fines Crushing",{"$f":"MAX((IFERROR(OFFSET($G$20,MATCH(\"fines crushing\",$G$21:$G$28,0),1),0)),((IFERROR((OFFSET($G$36,MATCH(\"fines crushing\",$G$37:$G$44,0),1)),0))),((IFERROR((OFFSET($G$52,MATCH(\"fines crushing\",$G$53:$G$60,0),1)),0))),((IFERROR((OFFSET($G$68,MATCH(\"fines crushing\",$G$69:$G$76,0),1)),0))),((IFERROR((OFFSET($G$84,MATCH(\"fines crushing\",$G$85:$G$92,0),1)),0))),((IFERROR((OFFSET($G$100,MATCH(\"fines crushing\",$G$101:$G$108,0),1)),0))),((IFERROR((OFFSET($G$116,MATCH(\"fines crushing\",$G$117:$G$124,0),1)),0))),((IFERROR((OFFSET($G$132,MATCH(\"fines crushing\",$G$133:$G$140,0),1)),0))),((IFERROR((OFFSET($G$148,MATCH(\"fines crushing\",$G$149:$G$156,0),1)),0))),((IFERROR((OFFSET($G$163,MATCH(\"fines crushing\",$G$165:$G$172,0),1)),0))))","v":0},{"$f":"SUM((IFERROR(OFFSET($G$20,MATCH(\"fines crushing\",$G$21:$G$28,0),3),0)),((IFERROR((OFFSET($G$36,MATCH(\"fines crushing\",$G$37:$G$44,0),3)),0))),((IFERROR((OFFSET($G$52,MATCH(\"fines crushing\",$G$53:$G$60,0),3)),0))),((IFERROR((OFFSET($G$68,MATCH(\"fines crushing\",$G$69:$G$76,0),3)),0))),((IFERROR((OFFSET($G$84,MATCH(\"fines crushing\",$G$85:$G$92,0),3)),0))),((IFERROR((OFFSET($G$100,MATCH(\"fines crushing\",$G$101:$G$108,0),3)),0))),((IFERROR((OFFSET($G$116,MATCH(\"fines crushing\",$G$117:$G$124,0),3)),0))),((IFERROR((OFFSET($G$132,MATCH(\"fines crushing\",$G$133:$G$140,0),3)),0))),((IFERROR((OFFSET($G$148,MATCH(\"fines crushing\",$G$149:$G$156,0),3)),0))),((IFERROR((OFFSET($G$163,MATCH(\"fines crushing\",$G$165:$G$172,0),3)),0))))","v":0},null,null,null,{"$f":"SUM((IFERROR(OFFSET($G$20,MATCH(\"fines crushing\",$G$21:$G$28,0),4),0)),((IFERROR((OFFSET($G$36,MATCH(\"fines crushing\",$G$37:$G$44,0),4)),0))),((IFERROR((OFFSET($G$52,MATCH(\"fines crushing\",$G$53:$G$60,0),4)),0))),((IFERROR((OFFSET($G$68,MATCH(\"fines crushing\",$G$69:$G$76,0),4)),0))),((IFERROR((OFFSET($G$84,MATCH(\"fines crushing\",$G$85:$G$92,0),4)),0))),((IFERROR((OFFSET($G$100,MATCH(\"fines crushing\",$G$101:$G$108,0),4)),0))),((IFERROR((OFFSET($G$116,MATCH(\"fines crushing\",$G$117:$G$124,0),4)),0))),((IFERROR((OFFSET($G$132,MATCH(\"fines crushing\",$G$133:$G$140,0),4)),0))),((IFERROR((OFFSET($G$148,MATCH(\"fines crushing\",$G$149:$G$156,0),4)),0))),((IFERROR((OFFSET($G$163,MATCH(\"fines crushing\",$G$165:$G$172,0),4)),0))))","v":0}]
[null,"Daily Throughput Limit (tons/day):",null,null,"PM2.5",null,null,null,null,null,null,null,"Fines Screening",{"$f":"MAX((IFERROR(OFFSET($G$20,MATCH(\"fines screening\",$G$21:$G$28,0),1),0)),((IFERROR((OFFSET($G$36,MATCH(\"fines screening\",$G$37:$G$44,0),1)),0))),((IFERROR((OFFSET($G$52,MATCH(\"fines screening\",$G$53:$G$60,0),1)),0))),((IFERROR((OFFSET($G$68,MATCH(\"fines screening\",$G$69:$G$76,0),1)),0))),((IFERROR((OFFSET($G$84,MATCH(\"fines screening\",$G$85:$G$92,0),1)),0))),((IFERROR((OFFSET($G$100,MATCH(\"fines screening\",$G$101:$G$108,0),1)),0))),((IFERROR((OFFSET($G$116,MATCH(\"fines screening\",$G$117:$G$124,0),1)),0))),((IFERROR((OFFSET($G$132,MATCH(\"fines screening\",$G$133:$G$140,0),1)),0))),((IFERROR((OFFSET($G$148,MATCH(\"fines screening\",$G$149:$G$156,0),1)),0))),((IFERROR((OFFSET($G$163,MATCH(\"fines screening\",$G$165:$G$172,0),1)),0))))","v":0},{"$f":"SUM((IFERROR(OFFSET($G$20,MATCH(\"fines screening\",$G$21:$G$28,0),3),0)),((IFERROR((OFFSET($G$36,MATCH(\"fines screening\",$G$37:$G$44,0),3)),0))),((IFERROR((OFFSET($G$52,MATCH(\"fines screening\",$G$53:$G$60,0),3)),0))),((IFERROR((OFFSET($G$68,MATCH(\"fines screening\",$G$69:$G$76,0),3)),0))),((IFERROR((OFFSET($G$84,MATCH(\"fines screening\",$G$85:$G$92,0),3)),0))),((IFERROR((OFFSET($G$100,MATCH(\"fines screening\",$G$101:$G$108,0),3)),0))),((IFERROR((OFFSET($G$116,MATCH(\"fines screening\",$G$117:$G$124,0),3)),0))),((IFERROR((OFFSET($G$132,MATCH(\"fines screening\",$G$133:$G$140,0),3)),0))),((IFERROR((OFFSET($G$148,MATCH(\"fines screening\",$G$149:$G$156,0),3)),0))),((IFERROR((OFFSET($G$163,MATCH(\"fines screening\",$G$165:$G$172,0),3)),0))))","v":0},null,null,null,{"$f":"SUM((IFERROR(OFFSET($G$20,MATCH(\"fines screening\",$G$21:$G$28,0),4),0)),((IFERROR((OFFSET($G$36,MATCH(\"fines screening\",$G$37:$G$44,0),4)),0))),((IFERROR((OFFSET($G$52,MATCH(\"fines screening\",$G$53:$G$60,0),4)),0))),((IFERROR((OFFSET($G$68,MATCH(\"fines screening\",$G$69:$G$76,0),4)),0))),((IFERROR((OFFSET($G$84,MATCH(\"fines screening\",$G$85:$G$92,0),4)),0))),((IFERROR((OFFSET($G$100,MATCH(\"fines screening\",$G$101:$G$108,0),4)),0))),((IFERROR((OFFSET($G$116,MATCH(\"fines screening\",$G$117:$G$124,0),4)),0))),((IFERROR((OFFSET($G$132,MATCH(\"fines screening\",$G$133:$G$140,0),4)),0))),((IFERROR((OFFSET($G$148,MATCH(\"fines screening\",$G$149:$G$156,0),4)),0))),((IFERROR((OFFSET($G$163,MATCH(\"fines screening\",$G$165:$G$172,0),4)),0))))","v":0}]
[null,"Hours of Operation Limit (hours/day):",null,null,"PM10",null,null,null,null,null,null,null,"Wet Drilling: Unfragmented Stone",{"$f":"MAX((IFERROR(OFFSET($G$20,MATCH(\"wet drilling: unfragmented stone\",$G$21:$G$28,0),1),0)),((IFERROR((OFFSET($G$36,MATCH(\"wet drilling: unfragmented stone\",$G$37:$G$44,0),1)),0))),((IFERROR((OFFSET($G$52,MATCH(\"wet drilling: unfragmented stone\",$G$53:$G$60,0),1)),0))),((IFERROR((OFFSET($G$68,MATCH(\"wet drilling: unfragmented stone\",$G$69:$G$76,0),1)),0))),((IFERROR((OFFSET($G$84,MATCH(\"wet drilling: unfragmented stone\",$G$85:$G$92,0),1)),0))),((IFERROR((OFFSET($G$100,MATCH(\"wet drilling: unfragmented stone\",$G$101:$G$108,0),1)),0))),((IFERROR((OFFSET($G$116,MATCH(\"wet drilling: unfragmented stone\",$G$117:$G$124,0),1)),0))),((IFERROR((OFFSET($G$132,MATCH(\"wet drilling: unfragmented stone\",$G$133:$G$140,0),1)),0))),((IFERROR((OFFSET($G$148,MATCH(\"wet drilling: unfragmented stone\",$G$149:$G$156,0),1)),0))),((IFERROR((OFFSET($G$163,MATCH(\"wet drilling: unfragmented stone\",$G$165:$G$172,0),1)),0))))","v":0},{"$f":"SUM((IFERROR(OFFSET($G$20,MATCH(\"wet drilling: unfragmented stone\",$G$21:$G$28,0),3),0)),((IFERROR((OFFSET($G$36,MATCH(\"wet drilling: unfragmented stone\",$G$37:$G$44,0),3)),0))),((IFERROR((OFFSET($G$52,MATCH(\"wet drilling: unfragmented stone\",$G$53:$G$60,0),3)),0))),((IFERROR((OFFSET($G$68,MATCH(\"wet drilling: unfragmented stone\",$G$69:$G$76,0),3)),0))),((IFERROR((OFFSET($G$84,MATCH(\"wet drilling: unfragmented stone\",$G$85:$G$92,0),3)),0))),((IFERROR((OFFSET($G$100,MATCH(\"wet drilling: unfragmented stone\",$G$101:$G$108,0),3)),0))),((IFERROR((OFFSET($G$116,MATCH(\"wet drilling: unfragmented stone\",$G$117:$G$124,0),3)),0))),((IFERROR((OFFSET($G$132,MATCH(\"wet drilling: unfragmented stone\",$G$133:$G$140,0),3)),0))),((IFERROR((OFFSET($G$148,MATCH(\"wet drilling: unfragmented stone\",$G$149:$G$156,0),3)),0))),((IFERROR((OFFSET($G$163,MATCH(\"wet drilling: unfragmented stone\",$G$165:$G$172,0),3)),0))))","v":0},null,null,null,{"$f":"SUM((IFERROR(OFFSET($G$20,MATCH(\"wet drilling: unfragmented stone\",$G$21:$G$28,0),4),0)),((IFERROR((OFFSET($G$36,MATCH(\"wet drilling: unfragmented stone\",$G$37:$G$44,0),4)),0))),((IFERROR((OFFSET($G$52,MATCH(\"wet drilling: unfragmented stone\",$G$53:$G$60,0),4)),0))),((IFERROR((OFFSET($G$68,MATCH(\"wet drilling: unfragmented stone\",$G$69:$G$76,0),4)),0))),((IFERROR((OFFSET($G$84,MATCH(\"wet drilling: unfragmented stone\",$G$85:$G$92,0),4)),0))),((IFERROR((OFFSET($G$100,MATCH(\"wet drilling: unfragmented stone\",$G$101:$G$108,0),4)),0))),((IFERROR((OFFSET($G$116,MATCH(\"wet drilling: unfragmented stone\",$G$117:$G$124,0),4)),0))),((IFERROR((OFFSET($G$132,MATCH(\"wet drilling: unfragmented stone\",$G$133:$G$140,0),4)),0))),((IFERROR((OFFSET($G$148,MATCH(\"wet drilling: unfragmented stone\",$G$149:$G$156,0),4)),0))),((IFERROR((OFFSET($G$163,MATCH(\"wet drilling: unfragmented stone\",$G$165:$G$172,0),4)),0))))","v":0}]
[null,"Note: if the plant has a hours/day and a tons/hr permit limit, those values should be multiplied together to calculate a tons/day limit and that value should be placed in cell C10.",null,null,"SO2",null,null,null,null,null,null,null,"Conveyor Transfer Points",{"$f":"MAX((IFERROR(OFFSET($G$20,MATCH(\"conveyor transfer points\",$G$21:$G$28,0),1),0)),((IFERROR((OFFSET($G$36,MATCH(\"conveyor transfer points\",$G$37:$G$44,0),1)),0))),((IFERROR((OFFSET($G$52,MATCH(\"conveyor transfer points\",$G$53:$G$60,0),1)),0))),((IFERROR((OFFSET($G$68,MATCH(\"conveyor transfer points\",$G$69:$G$76,0),1)),0))),((IFERROR((OFFSET($G$84,MATCH(\"conveyor transfer points\",$G$85:$G$92,0),1)),0))),((IFERROR((OFFSET($G$100,MATCH(\"conveyor transfer points\",$G$101:$G$108,0),1)),0))),((IFERROR((OFFSET($G$116,MATCH(\"conveyor transfer points\",$G$117:$G$124,0),1)),0))),((IFERROR((OFFSET($G$132,MATCH(\"conveyor transfer points\",$G$133:$G$140,0),1)),0))),((IFERROR((OFFSET($G$148,MATCH(\"conveyor transfer points\",$G$149:$G$156,0),1)),0))),((IFERROR((OFFSET($G$163,MATCH(\"conveyor transfer points\",$G$165:$G$172,0),1)),0))))","v":0},{"$f":"SUM((IFERROR(OFFSET($G$20,MATCH(\"conveyor transfer points\",$G$21:$G$28,0),3),0)),((IFERROR((OFFSET($G$36,MATCH(\"conveyor transfer points\",$G$37:$G$44,0),3)),0))),((IFERROR((OFFSET($G$52,MATCH(\"conveyor transfer points\",$G$53:$G$60,0),3)),0))),((IFERROR((OFFSET($G$68,MATCH(\"conveyor transfer points\",$G$69:$G$76,0),3)),0))),((IFERROR((OFFSET($G$84,MATCH(\"conveyor transfer points\",$G$85:$G$92,0),3)),0))),((IFERROR((OFFSET($G$100,MATCH(\"conveyor transfer points\",$G$101:$G$108,0),3)),0))),((IFERROR((OFFSET($G$116,MATCH(\"conveyor transfer points\",$G$117:$G$124,0),3)),0))),((IFERROR((OFFSET($G$132,MATCH(\"conveyor transfer points\",$G$133:$G$140,0),3)),0))),((IFERROR((OFFSET($G$148,MATCH(\"conveyor transfer points\",$G$149:$G$156,0),3)),0))),((IFERROR((OFFSET($G$163,MATCH(\"conveyor transfer points\",$G$165:$G$172,0),3)),0))))","v":0},null,null,null,{"$f":"SUM((IFERROR(OFFSET($G$20,MATCH(\"conveyor transfer points\",$G$21:$G$28,0),4),0)),((IFERROR((OFFSET($G$36,MATCH(\"conveyor transfer points\",$G$37:$G$44,0),4)),0))),((IFERROR((OFFSET($G$52,MATCH(\"conveyor transfer points\",$G$53:$G$60,0),4)),0))),((IFERROR((OFFSET($G$68,MATCH(\"conveyor transfer points\",$G$69:$G$76,0),4)),0))),((IFERROR((OFFSET($G$84,MATCH(\"conveyor transfer points\",$G$85:$G$92,0),4)),0))),((IFERROR((OFFSET($G$100,MATCH(\"conveyor transfer points\",$G$101:$G$108,0),4)),0))),((IFERROR((OFFSET($G$116,MATCH(\"conveyor transfer points\",$G$117:$G$124,0),4)),0))),((IFERROR((OFFSET($G$132,MATCH(\"conveyor transfer points\",$G$133:$G$140,0),4)),0))),((IFERROR((OFFSET($G$148,MATCH(\"conveyor transfer points\",$G$149:$G$156,0),4)),0))),((IFERROR((OFFSET($G$163,MATCH(\"conveyor transfer points\",$G$165:$G$172,0),4)),0))))","v":0}]
[null,null,null,null,"NOx",null,null,null,null,null,null,null,null,"Maximum (acres/day)","Actual (acres-day/yr)"]
[null,null,null,null,"VOC",null,null,null,null,null,null,null,"Storage Pile",{"$f":"SUM(G32,G48,G64,G80,G96,G112,G128,G144,G160,G176)","v":0},{"$f":"SUM(H32*I32,H48*I48,H64*I64,H80*I80,H96*I96,H112*I112,H128*I128,H144*I144,H160*I160,H176*I176)","v":0}]
[null,null,null,null,"CO"]
[]
[null,null,null,null,null,null,null,null,null,null,null,null,"Actual Emissions for the Listed Processes at this Plant"]
[null,null,null,null,null,null,null,null,null,null,null,null,null,"Maximum Design Rate (tons/hr)","Emission Factor (lb/ton)","Potential Uncontrolled Emissions (lb/hr)","Potential Controlled Emissions (lb/hr)","Potential Annual Emissions (tons/yr)","Actual Annual Emissions (tons/yr)"]
[null,"CRUSHER PLANT","Site 1",null,"Emission Point #","Emission    Unit #","Processes","Combined Maximum Hourly Design Rate for all Like Processes (tons/hr)",{"$f":"('Facility Information'!G5&\" Annual Throughput (tons)\")","v":" Annual Throughput (tons)"},null,null,null,"PM2.5"]
[null,null,null,null,null,null,null,null,null,"no wet supress","wet supress",null,"Primary Crusher",{"$f":"N5","v":0},{"$f":"IF(N20=0,0,IF(OR($C$24=\"no\",$C$40=\"no\",$C$56=\"no\",$C$72=\"no\",$C$88=\"no\",$C$104=\"no\",$C$120=\"no\",$C$136=\"no\",$C$152=\"no\",$C$168=\"no\"),'Emission Factors'!D8,'Emission Factors'!D20))","v":0},{"$f":"IF(OR($C$24=\"no\",$C$40=\"no\",$C$56=\"no\",$C$72=\"no\",$C$88=\"no\",$C$104=\"no\",$C$120=\"no\",$C$136=\"no\",$C$152=\"no\",$C$168=\"no\"),N20*O20,\"\")","v":""},{"$f":"IF($F$10>0,$F$10,IF(OR($C$24=\"no\",$C$40=\"no\",$C$56=\"no\",$C$72=\"no\",$C$88=\"no\",$C$104=\"no\",$C$120=\"no\",$C$136=\"no\",$C$152=\"no\",$C$168=\"no\"),\"\",N20*O20))","v":0},{"$f":"IF($G$10>0,$G$10,IF($C$9>0,$C$9*O20/2000,IF($C$10>0,$C$10*365*O20/2000,IF($C$11>0,$C$11*365*O20*N20/2000,IF(Q20=\"\",P20*8760/2000,Q20*8760/2000)))))","v":0},{"$f":"(O5*'Emission Factors'!D8/2000)+('Emission Factors'!D20*S5/2000)","v":0}]
["YES","Site Name:",null,null,{"$f":"IF(G21=\"\",\"\",\"LP-6 EP-1\")","v":""},{"$f":"IF(G21=\"\",\"\",IF(G21=\"primary crusher\",\"LP-6 EU-1\",IF(G21=\"screening\",\"LP-6 EU-2\",IF(G21=\"secondary crusher\",\"LP-6 EU-3\",IF(G21=\"tertiary crusher\",\"LP-6 EU-4\",IF(G21=\"fines crushing\",\"LP-6 EU-5\",IF(G21=\"fines screening\",\"LP-6 EU-6\",IF(G21=\"wet drilling: unfragmented stone\",\"LP-6 EU-7\",IF(G21=\"conveyor transfer points\",\"LP-6 EU-8\")))))))))","v":""},null,null,null,{"$f":"IF($C24=\"no\",I21,0)","v":0},{"$f":"IF($C$24=\"yes\",I21,0)","v":0},null,"Screening",0,{"$f":"IF(N21=0,0,IF(OR($C$24=\"no\",$C$40=\"no\",$C$56=\"no\",$C$72=\"no\",$C$88=\"no\",$C$104=\"no\",$C$120=\"no\",$C$136=\"no\",$C$152=\"no\",$C$168=\"no\"),'Emission Factors'!D9,'Emission Factors'!D21))","v":0},"",0,{"$f":"IF($G$10>0,\"\",IF($C$9>0,$C$9*O21/2000,IF($C$10>0,$C$10*365*O21/2000,IF($C$11>0,$C$11*365*O21*N21/2000,IF(Q21=\"\",P21*8760/2000,Q21*8760/2000)))))","v":0},{"$f":"(O6*'Emission Factors'!D9/2000)+('Emission Factors'!D21*S6/2000)","v":0}]
["NO","County:",null,null,{"$f":"IF(G22=\"\",\"\",\"LP-6 EP-1\")","v":""},{"$f":"IF(G22=\"\",\"\",IF(G22=\"primary crusher\",\"LP-6 EU-1\",IF(G22=\"screening\",\"LP-6 EU-2\",IF(G22=\"secondary crusher\",\"LP-6 EU-3\",IF(G22=\"tertiary crusher\",\"LP-6 EU-4\",IF(G22=\"fines crushing\",\"LP-6 EU-5\",IF(G22=\"fines screening\",\"LP-6 EU-6\",IF(G22=\"wet drilling: unfragmented stone\",\"LP-6 EU-7\",IF(G22=\"conveyor transfer points\",\"LP-6 EU-8\")))))))))","v":""},null,null,null,{"$f":"IF($C$24=\"no\",I22,0)","v":0},0,null,"Secondary Crusher",0,{"$f":"IF(N22=0,0,IF(OR($C$24=\"no\",$C$40=\"no\",$C$56=\"no\",$C$72=\"no\",$C$88=\"no\",$C$104=\"no\",$C$120=\"no\",$C$136=\"no\",$C$152=\"no\",$C$168=\"no\"),'Emission Factors'!D10,'Emission Factors'!D22))","v":0},"",0,0,{"$f":"(O7*'Emission Factors'!D10/2000)+('Emission Factors'!D22*S7/2000)","v":0}]
[null,"Crushing Period (Dates):",null,null,"","",null,null,null,0,0,null,"Tertiary Crusher",0,{"$f":"IF(N23=0,0,IF(OR(C24=\"no\",C40=\"no\",C56=\"no\",C72=\"no\",C88=\"no\",C104=\"no\",C120=\"no\",C136=\"no\",C152=\"no\",C168=\"no\"),'Emission Factors'!D12,'Emission Factors'!D24))","v":0},"",0,0,{"$f":"(O8*'Emission Factors'!D12/2000)+('Emission Factors'!D24*S8/2000)","v":0}]
["Primary Crusher","Controlled with Dust Suppressant or Material Being Processed has Moisture Content > 1.5%?",null,null,"","",null,null,null,0,0,null,"Fines Crushing",0,{"$f":"IF(N24=0,0,IF(OR(C24=\"no\",C40=\"no\",C56=\"no\",C72=\"no\",C88=\"no\",C104=\"no\",C120=\"no\",C136=\"no\",C152=\"no\",C168=\"no\"),'Emission Factors'!D6,'Emission Factors'!D18))","v":0},"",0,0,{"$f":"(O9*'Emission Factors'!D6/2000)+('Emission Factors'!D18*S9/2000)","v":0}]
["Screening",null,null,null,"","",null,null,null,0,0,null,"Fines Screening",0,{"$f":"IF(N25=0,0,IF(OR($C$24=\"no\",$C$40=\"no\",$C$56=\"no\",$C$72=\"no\",$C$88=\"no\",$C$104=\"no\",$C$120=\"no\",$C$136=\"no\",$C$152=\"no\",$C$168=\"no\"),'Emission Factors'!D7,'Emission Factors'!D19))","v":0},"",0,0,{"$f":"(O10*'Emission Factors'!D7/2000)+('Emission Factors'!D19*S10/2000)","v":0}]
["Secondary Crusher",null,null,null,"","",null,null,null,0,0,null,"Wet Drilling: Unfragmented Stone",0,{"$f":"IF(N26=0,0,IF(OR(C24=\"no\",C40=\"no\",C56=\"no\",C72=\"no\",C88=\"no\",C104=\"no\",C120=\"no\",C136=\"no\",C152=\"no\",C168=\"no\"),'Emission Factors'!D13,'Emission Factors'!D25))","v":0},"",0,0,{"$f":"(O11*'Emission Factors'!D13/2000)+('Emission Factors'!D25*S11/2000)","v":0}]
["Tertiary Crusher",null,null,null,"","",null,null,null,0,0,null,"Conveyor Transfer Points",0,{"$f":"IF(N27=0,0,IF(OR(C24=\"no\",C40=\"no\",C56=\"no\",C72=\"no\",C88=\"no\",C104=\"no\",C120=\"no\",C136=\"no\",C152=\"no\",C168=\"no\"),'Emission Factors'!D5,'Emission Factors'!D17))","v":0},"",0,0,{"$f":"(O12*'Emission Factors'!D5/2000)+('Emission Factors'!D17*S12/2000)","v":0}]
["Fines Crushing",null,null,null,"","",null,null,null,0,0,null,"PM10"]
["Fines Screening",null,null,null,null,null,null,null,null,null,null,null,"Primary Crusher",{"$f":"N5","v":0},{"$f":"IF(N29=0,0,IF(OR($C$24=\"no\",$C$40=\"no\",$C$56=\"no\",$C$72=\"no\",$C$88=\"no\",$C$104=\"no\",$C$120=\"no\",$C$136=\"no\",$C$152=\"no\",$C$168=\"no\"),'Emission Factors'!F8,'Emission Factors'!F20))","v":0},{"$f":"IF(OR($C$24=\"no\",$C$40=\"no\",$C$56=\"no\",$C$72=\"no\",$C$88=\"no\",$C$104=\"no\",$C$120=\"no\",$C$136=\"no\",$C$152=\"no\",$C$168=\"no\"),N29*O29,\"\")","v":""},{"$f":"IF($F$11>0,$F$11,IF(OR($C$24=\"no\",$C$40=\"no\",$C$56=\"no\",$C$72=\"no\",$C$88=\"no\",$C$104=\"no\",$C$120=\"no\",$C$136=\"no\",$C$152=\"no\",$C$168=\"no\"),\"\",N29*O29))","v":0},{"$f":"IF($G$11>0,$G$11,IF($C$9>0,$C$9*O29/2000,IF($C$10>0,$C$10*365*O29/2000,IF($C$11>0,$C$11*365*O29*N29/2000,IF(Q29=\"\",P29*8760/2000,Q29*8760/2000)))))","v":0},{"$f":"(O5*'Emission Factors'!F8/2000)+('Emission Factors'!F20*S5/2000)","v":0}]
["Wet Drilling: Unfragmented Stone",null,null,null,"Stock Pile Area",null,null,null,null,null,null,null,"Screening",{"$f":"N6","v":0},{"$f":"IF(N30=0,0,IF(OR($C$24=\"no\",$C$40=\"no\",$C$56=\"no\",$C$72=\"no\",$C$88=\"no\",$C$104=\"no\",$C$120=\"no\",$C$136=\"no\",$C$152=\"no\",$C$168=\"no\"),'Emission Factors'!F9,'Emission Factors'!F21))","v":0},"",0,{"$f":"IF($G$11>0,\"\",IF($C$9>0,$C$9*O30/2000,IF($C$10>0,$C$10*365*O30/2000,IF($C$11>0,$C$11*365*O30*N30/2000,IF(Q30=\"\",P30*8760/2000,Q30*8760/2000)))))","v":0},{"$f":"(O6*'Emission Factors'!F9/2000)+('Emission Factors'!F21*S6/2000)","v":0}]
["Conveyor Transfer Points",null,null,null,null,"Emission Unit #","Maximum Storage Area (acres)","Actual Storage Area (acres)","Actual Days in Existence (days)",null,null,null,"Secondary Crusher",0,{"$f":"IF(N31=0,0,IF(OR($C$24=\"no\",$C$40=\"no\",$C$56=\"no\",$C$72=\"no\",$C$88=\"no\",$C$104=\"no\",$C$120=\"no\",$C$136=\"no\",$C$152=\"no\",$C$168=\"no\"),'Emission Factors'!F10,'Emission Factors'!F22))","v":0},"",0,0,{"$f":"(O7*'Emission Factors'!F10/2000)+('Emission Factors'!F22*S7/2000)","v":0}]
[null,null,null,null,null,null,null,null,null,null,null,null,"Tertiary Crusher",0,{"$f":"IF(N32=0,0,IF(OR(C24=\"no\",C40=\"no\",C56=\"no\",C72=\"no\",C88=\"no\",C104=\"no\",C120=\"no\",C136=\"no\",C152=\"no\",C168=\"no\"),'Emission Factors'!F12,'Emission Factors'!F24))","v":0},"",0,0,{"$f":"(O8*'Emission Factors'!F12/2000)+('Emission Factors'!F24*S8/2000)","v":0}]
[null,null,null,null,null,null,null,null,null,null,null,null,"Fines Crushing",0,{"$f":"IF(N33=0,0,IF(OR(C24=\"no\",C40=\"no\",C56=\"no\",C72=\"no\",C88=\"no\",C104=\"no\",C120=\"no\",C136=\"no\",C152=\"no\",C168=\"no\"),'Emission Factors'!F6,'Emission Factors'!F18))","v":0},"",0,0,{"$f":"(O9*'Emission Factors'!F6/2000)+('Emission Factors'!F18*S9/2000)","v":0}]
[{"$f":"C21","v":0},null,null,null,null,null,null,null,null,null,null,null,"Fines Screening",0,{"$f":"IF(N34=0,0,IF(OR(C24=\"no\",C40=\"no\",C56=\"no\",C72=\"no\",C88=\"no\",C104=\"no\",C120=\"no\",C136=\"no\",C152=\"no\",C168=\"no\"),'Emission Factors'!F7,'Emission Factors'!F19))","v":0},"",0,0,{"$f":"(O10*'Emission Factors'!F7/2000)+('Emission Factors'!F19*S10/2000)","v":0}]
[{"$f":"C37","v":0},{"$f":"IF('Limestone Plant (LP-6)'!$D$4>1,\"CRUSHER PLANT\",\"\")","v":""},{"$f":"IF('Limestone Plant (LP-6)'!$D$4>1,\"Site 2\",\"\")","v":""},null,{"$f":"IF('Limestone Plant (LP-6)'!$D$4>1,\"Emission Point #\",\"\")","v":""},{"$f":"IF('Limestone Plant (LP-6)'!$D$4>1,\"Emission   Unit #\",\"\")","v":""},{"$f":"IF('Limestone Plant (LP-6)'!$D$4>1,\"Processes\",\"\")","v":""},{"$f":"IF('Limestone Plant (LP-6)'!$D$4>1,\"Combined Maximum Hourly Design Rate for all Like Processes (tons/hr)\",\"\")","v":""},{"$f":"IF('Limestone Plant (LP-6)'!$D$4>1,('Facility Information'!G5&\" Annual Throughput (tons)\"),\"\")","v":""},null,null,null,"Wet Drilling: Unfragmented Stone",0,{"$f":"IF(N35=0,0,IF(OR(C24=\"no\",C40=\"no\",C56=\"no\",C72=\"no\",C88=\"no\",C104=\"no\",C120=\"no\",C136=\"no\",C152=\"no\",C168=\"no\"),'Emission Factors'!F13,'Emission Factors'!F25))","v":0},"",0,0,{"$f":"(O11*'Emission Factors'!F13/2000)+('Emission Factors'!F25*S11/2000)","v":0}]
[{"$f":"C53","v":0},null,null,null,null,null,null,null,null,null,null,null,"Conveyor Transfer Points",0,{"$f":"IF(N36=0,0,IF(OR(C24=\"no\",C40=\"no\",C56=\"no\",C72=\"no\",C88=\"no\",C104=\"no\",C120=\"no\",C136=\"no\",C152=\"no\",C168=\"no\"),'Emission Factors'!F5,'Emission Factors'!F17))","v":0},"",0,0,{"$f":"(O12*'Emission Factors'!F5/2000)+('Emission Factors'!F17*S12/2000)","v":0}]
[{"$f":"C69","v":0},{"$f":"IF('Limestone Plant (LP-6)'!$D$4>1,\"Site Name:\",\"\")","v":""},null,null,{"$f":"IF(G37=\"\",\"\",\"LP-6 EP-1\")","v":""},{"$f":"IF(G37=\"\",\"\",IF(G37=\"primary crusher\",\"LP-6 EU-1\",IF(G37=\"screening\",\"LP-6 EU-2\",IF(G37=\"secondary crusher\",\"LP-6 EU-3\",IF(G37=\"tertiary crusher\",\"LP-6 EU-4\",IF(G37=\"fines crushing\",\"LP-6 EU-5\",IF(G37=\"fines screening\",\"LP-6 EU-6\",IF(G37=\"wet drilling: unfragmented stone\",\"LP-6 EU-7\",IF(G37=\"conveyor transfer points\",\"LP-6 EU-8\")))))))))","v":""},null,null,null,{"$f":"IF($C$40=\"no\",I37,0)","v":0},{"$f":"IF($C$40=\"yes\",I37,0)","v":0}]
[{"$f":"C85","v":0},{"$f":"IF('Limestone Plant (LP-6)'!$D$4>1,\"County:\",\"\")","v":""},null,null,{"$f":"IF(G38=\"\",\"\",\"LP-6 EP-1\")","v":""},{"$f":"IF(G38=\"\",\"\",IF(G38=\"primary crusher\",\"LP-6 EU-1\",IF(G38=\"screening\",\"LP-6 EU-2\",IF(G38=\"secondary crusher\",\"LP-6 EU-3\",IF(G38=\"tertiary crusher\",\"LP-6 EU-4\",IF(G38=\"fines crushing\",\"LP-6 EU-5\",IF(G38=\"fines screening\",\"LP-6 EU-6\",IF(G38=\"wet drilling: unfragmented stone\",\"LP-6 EU-7\",IF(G38=\"conveyor transfer points\",\"LP-6 EU-8\")))))))))","v":""},null,null,null,{"$f":"IF($C$40=\"no\",I38,0)","v":0},{"$f":"IF($C$40=\"yes\",I38,0)","v":0},null,null,"Max Design Rate (acres/day)","Emission Factor   (lb/acre-day)","Potential Uncontrolled Emissions (lb/hr)","Potential Controlled Emissions (lb/hr)","Potential Annual Emissions (tons/yr)","Actual Annual Emissions (tons/yr)"]
[{"$f":"C101","v":0},{"$f":"IF('Limestone Plant (LP-6)'!$D$4>1,\"Crushing Period (Dates):\",\"\")","v":""},null,null,"","",null,null,null,0,0,null,"Storage Pile"]
[{"$f":"C117","v":0},{"$f":"IF('Limestone Plant (LP-6)'!$D$4>1,\"Controlled with Dust Suppressant or Material Being Processed has Moisture Content > 1.5%?\",\"\")","v":""},null,null,"","",null,null,null,0,0,null,"PM2.5/PM10",{"$f":"N14","v":0},3.64,{"$f":"N40*O40*(1/24)","v":0},null,{"$f":"N40*O40*365/2000","v":0},{"$f":"O14*O40/2000","v":0}]
[{"$f":"C133","v":0},null,null,null,"","",null,null,null,0,0]
[{"$f":"C149","v":0},null,null,null,"","",null,null,null,0,0]
[{"$f":"C165","v":0},null,null,null,"","",null,null,null,0,0]
[null,null,null,null,"","",null,null,null,0,0]
[]
[null,null,null,null,{"$f":"IF('Limestone Plant (LP-6)'!$D$4>1,\"Stock Pile Area\",\"\")","v":""}]
[null,null,null,null,null,{"$f":"IF('Limestone Plant (LP-6)'!$D$4>1,\"Emission Unit #\",\"\")","v":""},{"$f":"IF('Limestone Plant (LP-6)'!$D$4>1,\"Maximum Storage Area (acres)\",\"\")","v":""},{"$f":"IF('Limestone Plant (LP-6)'!$D$4>1,\"Actual Storage Area (acres)\",\"\")","v":""},{"$f":"IF('Limestone Plant (LP-6)'!$D$4>1,\"Actual Days in Existence (days)\",\"\")","v":""}]
[]
[]
[]
[null,{"$f":"IF('Limestone Plant (LP-6)'!$D$4>2,\"CRUSHER PLANT\",\"\")","v":""},{"$f":"IF('Limestone Plant (LP-6)'!$D$4>2,\"Site 3\",\"\")","v":""},null,{"$f":"IF('Limestone Plant (LP-6)'!$D$4>2,\"Emission Point #\",\"\")","v":""},{"$f":"IF('Limestone Plant (LP-6)'!$D$4>2,\"Emission    Unit #\",\"\")","v":""},{"$f":"IF('Limestone Plant (LP-6)'!$D$4>2,\"Processes\",\"\")","v":""},{"$f":"IF('Limestone Plant (LP-6)'!$D$4>2,\"Combined Maximum Hourly Design Rate for all Like Processes (tons/hr)\",\"\")","v":""},{"$f":"IF('Limestone Plant (LP-6)'!$D$4>2,('Facility Information'!G5&\" Annual Throughput (tons)\"),\"\")","v":""}]
[]
[null,{"$f":"IF('Limestone Plant (LP-6)'!$D$4>2,\"Site Name:\",\"\")","v":""},null,null,{"$f":"IF(G53=\"\",\"\",\"LP-6 EP-1\")","v":""},{"$f":"IF(G53=\"\",\"\",IF(G53=\"primary crusher\",\"LP-6 EU-1\",IF(G53=\"screening\",\"LP-6 EU-2\",IF(G53=\"secondary crusher\",\"LP-6 EU-3\",IF(G53=\"tertiary crusher\",\"LP-6 EU-4\",IF(G53=\"fines crushing\",\"LP-6 EU-5\",IF(G53=\"fines screening\",\"LP-6 EU-6\",IF(G53=\"wet drilling: unfragmented stone\",\"LP-6 EU-7\",IF(G53=\"conveyor transfer points\",\"LP-6 EU-8\")))))))))","v":""},null,null,null,{"$f":"IF($C$56=\"no\",I53,0)","v":0},{"$f":"IF($C$56=\"yes\",I53,0)","v":0}]
[null,{"$f":"IF('Limestone Plant (LP-6)'!$D$4>2,\"County:\",\"\")","v":""},null,null,{"$f":"IF(G54=\"\",\"\",\"LP-6 EP-1\")","v":""},{"$f":"IF(G54=\"\",\"\",IF(G54=\"primary crusher\",\"LP-6 EU-1\",IF(G54=\"screening\",\"LP-6 EU-2\",IF(G54=\"secondary crusher\",\"LP-6 EU-3\",IF(G54=\"tertiary crusher\",\"LP-6 EU-4\",IF(G54=\"fines crushing\",\"LP-6 EU-5\",IF(G54=\"fines screening\",\"LP-6 EU-6\",IF(G54=\"wet drilling: unfragmented stone\",\"LP-6 EU-7\",IF(G54=\"conveyor transfer points\",\"LP-6 EU-8\")))))))))","v":""},null,null,null,{"$f":"IF($C$56=\"no\",I54,0)","v":0},{"$f":"IF($C$56=\"yes\",I54,0)","v":0}]
[null,{"$f":"IF('Limestone Plant (LP-6)'!$D$4>2,\"Crushing Period (Dates):\",\"\")","v":""},null,null,"","",null,null,null,0,0]
[null,{"$f":"IF('Limestone Plant (LP-6)'!$D$4>2,\"Controlled with Dust Suppressant or Material Being Processed has Moisture Content > 1.5%?\",\"\")","v":""},null,null,"","",null,null,null,0,0]
[null,null,null,null,"","",null,null,null,0,0]
[null,null,null,null,"","",null,null,null,0,0]
[null,null,null,null,"","",null,null,null,0,0]
[null,null,null,null,"","",null,null,null,0,0]
[]
[null,null,null,null,{"$f":"IF('Limestone Plant (LP-6)'!$D$4>2,\"Stock Pile Area\",\"\")","v":""}]
[null,null,null,null,null,{"$f":"IF('Limestone Plant (LP-6)'!$D$4>2,\"Emission Unit #\",\"\")","v":""},{"$f":"IF('Limestone Plant (LP-6)'!$D$4>2,\"Maximum Storage Area (acres)\",\"\")","v":""},{"$f":"IF('Limestone Plant (LP-6)'!$D$4>2,\"Actual Storage Area (acres)\",\"\")","v":""},{"$f":"IF('Limestone Plant (LP-6)'!$D$4>2,\"Actual Days in Existence (days)\",\"\")","v":""}]
[]
[]
[]
[null,{"$f":"IF('Limestone Plant (LP-6)'!$D$4>3,\"CRUSHER PLANT\",\"\")","v":""},{"$f":"IF('Limestone Plant (LP-6)'!$D$4>3,\"Site 4\",\"\")","v":""},null,{"$f":"IF('Limestone Plant (LP-6)'!$D$4>3,\"Emission Point #\",\"\")","v":""},{"$f":"IF('Limestone Plant (LP-6)'!$D$4>3,\"Emission    Unit #\",\"\")","v":""},{"$f":"IF('Limestone Plant (LP-6)'!$D$4>3,\"Processes\",\"\")","v":""},{"$f":"IF('Limestone Plant (LP-6)'!$D$4>3,\"Combined Maximum Hourly Design Rate for all Like Processes (tons/hr)\",\"\")","v":""},{"$f":"IF('Limestone Plant (LP-6)'!$D$4>3,('Facility Information'!G5&\" Annual Throughput (tons)\"),\"\")","v":""}]
[]
[null,{"$f":"IF('Limestone Plant (LP-6)'!$D$4>3,\"Site Name:\",\"\")","v":""},null,null,{"$f":"IF(G69=\"\",\"\",\"LP-6 EP-1\")","v":""},{"$f":"IF(G69=\"\",\"\",IF(G69=\"primary crusher\",\"LP-6 EU-1\",IF(G69=\"screening\",\"LP-6 EU-2\",IF(G69=\"secondary crusher\",\"LP-6 EU-3\",IF(G69=\"tertiary crusher\",\"LP-6 EU-4\",IF(G69=\"fines crushing\",\"LP-6 EU-5\",IF(G69=\"fines screening\",\"LP-6 EU-6\",IF(G69=\"wet drilling: unfragmented stone\",\"LP-6 EU-7\",IF(G69=\"conveyor transfer points\",\"LP-6 EU-8\")))))))))","v":""},null,null,null,{"$f":"IF($C$72=\"no\",I69,0)","v":0},{"$f":"IF($C$72=\"yes\",I69,0)","v":0}]
[null,{"$f":"IF('Limestone Plant (LP-6)'!$D$4>3,\"County:\",\"\")","v":""},null,null,{"$f":"IF(G70=\"\",\"\",\"LP-6 EP-1\")","v":""},{"$f":"IF(G70=\"\",\"\",IF(G70=\"primary crusher\",\"LP-6 EU-1\",IF(G70=\"screening\",\"LP-6 EU-2\",IF(G70=\"secondary crusher\",\"LP-6 EU-3\",IF(G70=\"tertiary crusher\",\"LP-6 EU-4\",IF(G70=\"fines crushing\",\"LP-6 EU-5\",IF(G70=\"fines screening\",\"LP-6 EU-6\",IF(G70=\"wet drilling: unfragmented stone\",\"LP-6 EU-7\",IF(G70=\"conveyor transfer points\",\"LP-6 EU-8\")))))))))","v":""},null,null,null,{"$f":"IF($C$72=\"no\",I70,0)","v":0},{"$f":"IF($C$72=\"yes\",I70,0)","v":0}]
[null,{"$f":"IF('Limestone Plant (LP-6)'!$D$4>3,\"Crushing Period (Dates):\",\"\")","v":""},null,null,"","",null,null,null,0,0]
[null,{"$f":"IF('Limestone Plant (LP-6)'!$D$4>3,\"Controlled with Dust Suppressant or Material Being Processed has Moisture Content > 1.5%?\",\"\")","v":""},null,null,"","",null,null,null,0,0]
[null,null,null,null,"","",null,null,null,0,0]
[null,null,null,null,"","",null,null,null,0,0]
[null,null,null,null,"","",null,null,null,0,0]
[null,null,null,null,"","",null,null,null,0,0]
[]
[null,null,null,null,{"$f":"IF('Limestone Plant (LP-6)'!$D$4>3,\"Stock Pile Area\",\"\")","v":""}]
[null,null,null,null,null,{"$f":"IF('Limestone Plant (LP-6)'!$D$4>3,\"Emission Unit #\",\"\")","v":""},{"$f":"IF('Limestone Plant (LP-6)'!$D$4>3,\"Maximum Storage Area (acres)\",\"\")","v":""},{"$f":"IF('Limestone Plant (LP-6)'!$D$4>3,\"Actual Storage Area (acres)\",\"\")","v":""},{"$f":"IF('Limestone Plant (LP-6)'!$D$4>3,\"Actual Days in Existence (days)\",\"\")","v":""}]
[]
[]
[]
[null,{"$f":"IF('Limestone Plant (LP-6)'!$D$4>4,\"CRUSHER PLANT\",\"\")","v":""},{"$f":"IF('Limestone Plant (LP-6)'!$D$4>4,\"Site 5\",\"\")","v":""},null,{"$f":"IF('Limestone Plant (LP-6)'!$D$4>4,\"Emission Point #\",\"\")","v":""},{"$f":"IF('Limestone Plant (LP-6)'!$D$4>4,\"Emission    Unit #\",\"\")","v":""},{"$f":"IF('Limestone Plant (LP-6)'!$D$4>4,\"Processes\",\"\")","v":""},{"$f":"IF('Limestone Plant (LP-6)'!$D$4>4,\"Combined Maximum Hourly Design Rate for all Like Processes (tons/hr)\",\"\")","v":""},{"$f":"IF('Limestone Plant (LP-6)'!$D$4>4,('Facility Information'!G5&\" Annual Throughput (tons)\"),\"\")","v":""}]
[]
[null,{"$f":"IF('Limestone Plant (LP-6)'!$D$4>4,\"Site Name:\",\"\")","v":""},null,null,{"$f":"IF(G85=\"\",\"\",\"LP-6 EP-1\")","v":""},{"$f":"IF(G85=\"\",\"\",IF(G85=\"primary crusher\",\"LP-6 EU-1\",IF(G85=\"screening\",\"LP-6 EU-2\",IF(G85=\"secondary crusher\",\"LP-6 EU-3\",IF(G85=\"tertiary crusher\",\"LP-6 EU-4\",IF(G85=\"fines crushing\",\"LP-6 EU-5\",IF(G85=\"fines screening\",\"LP-6 EU-6\",IF(G85=\"wet drilling: unfragmented stone\",\"LP-6 EU-7\",IF(G85=\"conveyor transfer points\",\"LP-6 EU-8\")))))))))","v":""},null,null,null,{"$f":"IF($C$88=\"no\",I85,0)","v":0},{"$f":"IF($C$88=\"yes\",I85,0)","v":0}]
[null,{"$f":"IF('Limestone Plant (LP-6)'!$D$4>4,\"County:\",\"\")","v":""},null,null,{"$f":"IF(G86=\"\",\"\",\"LP-6 EP-1\")","v":""},{"$f":"IF(G86=\"\",\"\",IF(G86=\"primary crusher\",\"LP-6 EU-1\",IF(G86=\"screening\",\"LP-6 EU-2\",IF(G86=\"secondary crusher\",\"LP-6 EU-3\",IF(G86=\"tertiary crusher\",\"LP-6 EU-4\",IF(G86=\"fines crushing\",\"LP-6 EU-5\",IF(G86=\"fines screening\",\"LP-6 EU-6\",IF(G86=\"wet drilling: unfragmented stone\",\"LP-6 EU-7\",IF(G86=\"conveyor transfer points\",\"LP-6 EU-8\")))))))))","v":""},null,null,null,{"$f":"IF($C$88=\"no\",I86,0)","v":0},{"$f":"IF($C$88=\"yes\",I86,0)","v":0}]
[null,{"$f":"IF('Limestone Plant (LP-6)'!$D$4>4,\"Crushing Period (Dates):\",\"\")","v":""},null,null,"","",null,null,null,0,0]
[null,{"$f":"IF('Limestone Plant (LP-6)'!$D$4>4,\"Controlled with Dust Suppressant or Material Being Processed has Moisture Content > 1.5%?\",\"\")","v":""},null,null,"","",null,null,null,0,0]
[null,null,null,null,"","",null,null,null,0,0]
[null,null,null,null,"","",null,null,null,0,0]
[null,null,null,null,"","",null,null,null,0,0]
[null,null,null,null,"","",null,null,null,0,0]
[]
[null,null,null,null,{"$f":"IF('Limestone Plant (LP-6)'!$D$4>4,\"Stock Pile Area\",\"\")","v":""}]
[null,null,null,null,null,{"$f":"IF('Limestone Plant (LP-6)'!$D$4>4,\"Emission Unit #\",\"\")","v":""},{"$f":"IF('Limestone Plant (LP-6)'!$D$4>4,\"Maximum Storage Area (acres)\",\"\")","v":""},{"$f":"IF('Limestone Plant (LP-6)'!$D$4>4,\"Actual Storage Area (acres)\",\"\")","v":""},{"$f":"IF('Limestone Plant (LP-6)'!$D$4>4,\"Actual Days in Existence (days)\",\"\")","v":""}]
[]
[]
[]
[null,{"$f":"IF('Limestone Plant (LP-6)'!$D$4>5,\"CRUSHER PLANT\",\"\")","v":""},{"$f":"IF('Limestone Plant (LP-6)'!$D$4>5,\"Site 6\",\"\")","v":""},null,{"$f":"IF('Limestone Plant (LP-6)'!$D$4>5,\"Emission Point #\",\"\")","v":""},{"$f":"IF('Limestone Plant (LP-6)'!$D$4>5,\"Emission    Unit #\",\"\")","v":""},{"$f":"IF('Limestone Plant (LP-6)'!$D$4>5,\"Processes\",\"\")","v":""},{"$f":"IF('Limestone Plant (LP-6)'!$D$4>5,\"Combined Maximum Hourly Design Rate for all Like Processes (tons/hr)\",\"\")","v":""},{"$f":"IF('Limestone Plant (LP-6)'!$D$4>5,('Facility Information'!G5&\" Annual Throughput (tons)\"),\"\")","v":""}]
[]
[null,{"$f":"IF('Limestone Plant (LP-6)'!$D$4>5,\"Site Name:\",\"\")","v":""},null,null,{"$f":"IF(G101=\"\",\"\",\"LP-6 EP-1\")","v":""},{"$f":"IF(G101=\"\",\"\",IF(G101=\"primary crusher\",\"LP-6 EU-1\",IF(G101=\"screening\",\"LP-6 EU-2\",IF(G101=\"secondary crusher\",\"LP-6 EU-3\",IF(G101=\"tertiary crusher\",\"LP-6 EU-4\",IF(G101=\"fines crushing\",\"LP-6 EU-5\",IF(G101=\"fines screening\",\"LP-6 EU-6\",IF(G101=\"wet drilling: unfragmented stone\",\"LP-6 EU-7\",IF(G101=\"conveyor transfer points\",\"LP-6 EU-8\")))))))))","v":""},null,null,null,{"$f":"IF($C$104=\"no\",I101,0)","v":0},{"$f":"IF($C$104=\"yes\",I101,0)","v":0}]
[null,{"$f":"IF('Limestone Plant (LP-6)'!$D$4>5,\"County:\",\"\")","v":""},null,null,{"$f":"IF(G102=\"\",\"\",\"LP-6 EP-1\")","v":""},{"$f":"IF(G102=\"\",\"\",IF(G102=\"primary crusher\",\"LP-6 EU-1\",IF(G102=\"screening\",\"LP-6 EU-2\",IF(G102=\"secondary crusher\",\"LP-6 EU-3\",IF(G102=\"tertiary crusher\",\"LP-6 EU-4\",IF(G102=\"fines crushing\",\"LP-6 EU-5\",IF(G102=\"fines screening\",\"LP-6 EU-6\",IF(G102=\"wet drilling: unfragmented stone\",\"LP-6 EU-7\",IF(G102=\"conveyor transfer points\",\"LP-6 EU-8\")))))))))","v":""},null,null,null,{"$f":"IF($C$104=\"no\",I102,0)","v":0},{"$f":"IF($C$104=\"yes\",I102,0)","v":0}]
[null,{"$f":"IF('Limestone Plant (LP-6)'!$D$4>5,\"Crushing Period (Dates):\",\"\")","v":""},null,null,"","",null,null,null,0,0]
[null,{"$f":"IF('Limestone Plant (LP-6)'!$D$4>5,\"Controlled with Dust Suppressant or Material Being Processed has Moisture Content > 1.5%?\",\"\")","v":""},null,null,"","",null,null,null,0,0]
[null,null,null,null,"","",null,null,null,0,0]
[null,null,null,null,"","",null,null,null,0,0]
[null,null,null,null,"","",null,null,null,0,0]
[null,null,null,null,"","",null,null,null,0,0]
[]
[null,null,null,null,{"$f":"IF('Limestone Plant (LP-6)'!$D$4>5,\"Stock Pile Area\",\"\")","v":""}]
[null,null,null,null,null,{"$f":"IF('Limestone Plant (LP-6)'!$D$4>5,\"Emission Unit #\",\"\")","v":""},{"$f":"IF('Limestone Plant (LP-6)'!$D$4>5,\"Maximum Storage Area (acres)\",\"\")","v":""},{"$f":"IF('Limestone Plant (LP-6)'!$D$4>5,\"Actual Storage Area (acres)\",\"\")","v":""},{"$f":"IF('Limestone Plant (LP-6)'!$D$4>5,\"Actual Days in Existence (days)\",\"\")","v":""}]
[]
[]
[]
[null,{"$f":"IF('Limestone Plant (LP-6)'!$D$4>6,\"CRUSHER PLANT\",\"\")","v":""},{"$f":"IF('Limestone Plant (LP-6)'!$D$4>6,\"Site 7\",\"\")","v":""},null,{"$f":"IF('Limestone Plant (LP-6)'!$D$4>6,\"Emission Point #\",\"\")","v":""},{"$f":"IF('Limestone Plant (LP-6)'!$D$4>6,\"Emission    Unit #\",\"\")","v":""},{"$f":"IF('Limestone Plant (LP-6)'!$D$4>6,\"Processes\",\"\")","v":""},{"$f":"IF('Limestone Plant (LP-6)'!$D$4>6,\"Combined Maximum Hourly Design Rate for all Like Processes (tons/hr)\",\"\")","v":""},{"$f":"IF('Limestone Plant (LP-6)'!$D$4>6,('Facility Information'!G5&\" Annual Throughput (tons)\"),\"\")","v":""}]
[]
[null,{"$f":"IF('Limestone Plant (LP-6)'!$D$4>6,\"Site Name:\",\"\")","v":""},null,null,{"$f":"IF(G117=\"\",\"\",\"LP-6 EP-1\")","v":""},{"$f":"IF(G117=\"\",\"\",IF(G117=\"primary crusher\",\"LP-6 EU-1\",IF(G117=\"screening\",\"LP-6 EU-2\",IF(G117=\"secondary crusher\",\"LP-6 EU-3\",IF(G117=\"tertiary crusher\",\"LP-6 EU-4\",IF(G117=\"fines crushing\",\"LP-6 EU-5\",IF(G117=\"fines screening\",\"LP-6 EU-6\",IF(G117=\"wet drilling: unfragmented stone\",\"LP-6 EU-7\",IF(G117=\"conveyor transfer points\",\"LP-6 EU-8\")))))))))","v":""},null,null,null,{"$f":"IF($C$120=\"no\",I117,0)","v":0},{"$f":"IF($C$120=\"yes\",I117,0)","v":0}]
[null,{"$f":"IF('Limestone Plant (LP-6)'!$D$4>6,\"County:\",\"\")","v":""},null,null,{"$f":"IF(G118=\"\",\"\",\"LP-6 EP-1\")","v":""},{"$f":"IF(G118=\"\",\"\",IF(G118=\"primary crusher\",\"LP-6 EU-1\",IF(G118=\"screening\",\"LP-6 EU-2\",IF(G118=\"secondary crusher\",\"LP-6 EU-3\",IF(G118=\"tertiary crusher\",\"LP-6 EU-4\",IF(G118=\"fines crushing\",\"LP-6 EU-5\",IF(G118=\"fines screening\",\"LP-6 EU-6\",IF(G118=\"wet drilling: unfragmented stone\",\"LP-6 EU-7\",IF(G118=\"conveyor transfer points\",\"LP-6 EU-8\")))))))))","v":""},null,null,null,{"$f":"IF($C$120=\"no\",I118,0)","v":0},{"$f":"IF($C$120=\"yes\",I118,0)","v":0}]
[null,{"$f":"IF('Limestone Plant (LP-6)'!$D$4>6,\"Crushing Period (Dates):\",\"\")","v":""},null,null,"","",null,null,null,0,0]
[null,{"$f":"IF('Limestone Plant (LP-6)'!$D$4>6,\"Controlled with Dust Suppressant or Material Being Processed has Moisture Content > 1.5%?\",\"\")","v":""},null,null,"","",null,null,null,0,0]
[null,null,null,null,"","",null,null,null,0,0]
[null,null,null,null,"","",null,null,null,0,0]
[null,null,null,null,"","",null,null,null,0,0]
[null,null,null,null,"","",null,null,null,0,0]
[]
[null,null,null,null,{"$f":"IF('Limestone Plant (LP-6)'!$D$4>6,\"Stock Pile Area\",\"\")","v":""}]
[null,null,null,null,null,{"$f":"IF('Limestone Plant (LP-6)'!$D$4>6,\"Emission Unit #\",\"\")","v":""},{"$f":"IF('Limestone Plant (LP-6)'!$D$4>6,\"Maximum Storage Area (acres)\",\"\")","v":""},{"$f":"IF('Limestone Plant (LP-6)'!$D$4>6,\"Actual Storage Area (acres)\",\"\")","v":""},{"$f":"IF('Limestone Plant (LP-6)'!$D$4>6,\"Actual Days in Existence (days)\",\"\")","v":""}]
[]
[]
[]
[null,{"$f":"IF('Limestone Plant (LP-6)'!$D$4>7,\"CRUSHER PLANT\",\"\")","v":""},{"$f":"IF('Limestone Plant (LP-6)'!$D$4>7,\"Site 8\",\"\")","v":""},null,{"$f":"IF('Limestone Plant (LP-6)'!$D$4>7,\"Emission Point #\",\"\")","v":""},{"$f":"IF('Limestone Plant (LP-6)'!$D$4>7,\"Emission    Unit #\",\"\")","v":""},{"$f":"IF('Limestone Plant (LP-6)'!$D$4>7,\"Processes\",\"\")","v":""},{"$f":"IF('Limestone Plant (LP-6)'!$D$4>7,\"Combined Maximum Hourly Design Rate for all Like Processes (tons/hr)\",\"\")","v":""},{"$f":"IF('Limestone Plant (LP-6)'!$D$4>7,('Facility Information'!G5&\" Annual Throughput (tons)\"),\"\")","v":""}]
[]
[null,{"$f":"IF('Limestone Plant (LP-6)'!$D$4>7,\"Site Name:\",\"\")","v":""},null,null,{"$f":"IF(G133=\"\",\"\",\"LP-6 EP-1\")","v":""},{"$f":"IF(G133=\"\",\"\",IF(G133=\"primary crusher\",\"LP-6 EU-1\",IF(G133=\"screening\",\"LP-6 EU-2\",IF(G133=\"secondary crusher\",\"LP-6 EU-3\",IF(G133=\"tertiary crusher\",\"LP-6 EU-4\",IF(G133=\"fines crushing\",\"LP-6 EU-5\",IF(G133=\"fines screening\",\"LP-6 EU-6\",IF(G133=\"wet drilling: unfragmented stone\",\"LP-6 EU-7\",IF(G133=\"conveyor transfer points\",\"LP-6 EU-8\")))))))))","v":""},null,null,null,{"$f":"IF($C$136=\"no\",I133,0)","v":0},{"$f":"IF($C$136=\"yes\",I133,0)","v":0}]
[null,{"$f":"IF('Limestone Plant (LP-6)'!$D$4>7,\"County:\",\"\")","v":""},null,null,{"$f":"IF(G134=\"\",\"\",\"LP-6 EP-1\")","v":""},{"$f":"IF(G134=\"\",\"\",IF(G134=\"primary crusher\",\"LP-6 EU-1\",IF(G134=\"screening\",\"LP-6 EU-2\",IF(G134=\"secondary crusher\",\"LP-6 EU-3\",IF(G134=\"tertiary crusher\",\"LP-6 EU-4\",IF(G134=\"fines crushing\",\"LP-6 EU-5\",IF(G134=\"fines screening\",\"LP-6 EU-6\",IF(G134=\"wet drilling: unfragmented stone\",\"LP-6 EU-7\",IF(G134=\"conveyor transfer points\",\"LP-6 EU-8\")))))))))","v":""},null,null,null,{"$f":"IF($C$136=\"no\",I134,0)","v":0},{"$f":"IF($C$136=\"yes\",I134,0)","v":0}]
[null,{"$f":"IF('Limestone Plant (LP-6)'!$D$4>7,\"Crushing Period (Dates):\",\"\")","v":""},null,null,"","",null,null,null,0,0]
[null,{"$f":"IF('Limestone Plant (LP-6)'!$D$4>7,\"Controlled with Dust Suppressant or Material Being Processed has Moisture Content > 1.5%?\",\"\")","v":""},null,null,"","",null,null,null,0,0]
[null,null,null,null,"","",null,null,null,0,0]
[null,null,null,null,"","",null,null,null,0,0]
[null,null,null,null,"","",null,null,null,0,0]
[null,null,null,null,"","",null,null,null,0,0]
[]
[null,null,null,null,{"$f":"IF('Limestone Plant (LP-6)'!$D$4>7,\"Stock Pile Area\",\"\")","v":""}]
[null,null,null,null,null,{"$f":"IF('Limestone Plant (LP-6)'!$D$4>7,\"Emission Unit #\",\"\")","v":""},{"$f":"IF('Limestone Plant (LP-6)'!$D$4>7,\"Maximum Storage Area (acres)\",\"\")","v":""},{"$f":"IF('Limestone Plant (LP-6)'!$D$4>7,\"Actual Storage Area (acres)\",\"\")","v":""},{"$f":"IF('Limestone Plant (LP-6)'!$D$4>7,\"Actual Days in Existence (days)\",\"\")","v":""}]
[]
[]
[]
[null,{"$f":"IF('Limestone Plant (LP-6)'!$D$4>8,\"CRUSHER PLANT\",\"\")","v":""},{"$f":"IF('Limestone Plant (LP-6)'!$D$4>8,\"Site 9\",\"\")","v":""},null,{"$f":"IF('Limestone Plant (LP-6)'!$D$4>8,\"Emission Point #\",\"\")","v":""},{"$f":"IF('Limestone Plant (LP-6)'!$D$4>8,\"Emission    Unit #\",\"\")","v":""},{"$f":"IF('Limestone Plant (LP-6)'!$D$4>8,\"Processes\",\"\")","v":""},{"$f":"IF('Limestone Plant (LP-6)'!$D$4>8,\"Combined Maximum Hourly Design Rate for all Like Processes (tons/hr)\",\"\")","v":""},{"$f":"IF('Limestone Plant (LP-6)'!$D$4>8,('Facility Information'!G5&\" Annual Throughput (tons)\"),\"\")","v":""}]
[]
[null,{"$f":"IF('Limestone Plant (LP-6)'!$D$4>8,\"Site Name:\",\"\")","v":""},null,null,{"$f":"IF(G149=\"\",\"\",\"LP-6 EP-1\")","v":""},{"$f":"IF(G149=\"\",\"\",IF(G149=\"primary crusher\",\"LP-6 EU-1\",IF(G149=\"screening\",\"LP-6 EU-2\",IF(G149=\"secondary crusher\",\"LP-6 EU-3\",IF(G149=\"tertiary crusher\",\"LP-6 EU-4\",IF(G149=\"fines crushing\",\"LP-6 EU-5\",IF(G149=\"fines screening\",\"LP-6 EU-6\",IF(G149=\"wet drilling: unfragmented stone\",\"LP-6 EU-7\",IF(G149=\"conveyor transfer points\",\"LP-6 EU-8\")))))))))","v":""},null,null,null,{"$f":"IF($C$152=\"no\",I149,0)","v":0},{"$f":"IF($C$152=\"yes\",I149,0)","v":0}]
[null,{"$f":"IF('Limestone Plant (LP-6)'!$D$4>8,\"County:\",\"\")","v":""},null,null,{"$f":"IF(G150=\"\",\"\",\"LP-6 EP-1\")","v":""},{"$f":"IF(G150=\"\",\"\",IF(G150=\"primary crusher\",\"LP-6 EU-1\",IF(G150=\"screening\",\"LP-6 EU-2\",IF(G150=\"secondary crusher\",\"LP-6 EU-3\",IF(G150=\"tertiary crusher\",\"LP-6 EU-4\",IF(G150=\"fines crushing\",\"LP-6 EU-5\",IF(G150=\"fines screening\",\"LP-6 EU-6\",IF(G150=\"wet drilling: unfragmented stone\",\"LP-6 EU-7\",IF(G150=\"conveyor transfer points\",\"LP-6 EU-8\")))))))))","v":""},null,null,null,{"$f":"IF($C$152=\"no\",I150,0)","v":0},{"$f":"IF($C$152=\"yes\",I150,0)","v":0}]
[null,{"$f":"IF('Limestone Plant (LP-6)'!$D$4>8,\"Crushing Period (Dates):\",\"\")","v":""},null,null,"","",null,null,null,0,0]
[null,{"$f":"IF('Limestone Plant (LP-6)'!$D$4>8,\"Controlled with Dust Suppressant or Material Being Processed has Moisture Content > 1.5%?\",\"\")","v":""},null,null,"","",null,null,null,0,0]
[null,null,null,null,"","",null,null,null,0,0]
[null,null,null,null,"","",null,null,null,0,0]
[null,null,null,null,"","",null,null,null,0,0]
[null,null,null,null,"","",null,null,null,0,0]
[]
[null,null,null,null,{"$f":"IF('Limestone Plant (LP-6)'!$D$4>8,\"Stock Pile Area\",\"\")","v":""}]
[null,null,null,null,null,{"$f":"IF('Limestone Plant (LP-6)'!$D$4>8,\"Emission Unit #\",\"\")","v":""},{"$f":"IF('Limestone Plant (LP-6)'!$D$4>8,\"Maximum Storage Area (acres)\",\"\")","v":""},{"$f":"IF('Limestone Plant (LP-6)'!$D$4>8,\"Actual Storage Area (acres)\",\"\")","v":""},{"$f":"IF('Limestone Plant (LP-6)'!$D$4>8,\"Actual Days in Existence (days)\",\"\")","v":""}]
[]
[]
[]
[null,{"$f":"IF('Limestone Plant (LP-6)'!$D$4>9,\"CRUSHER PLANT\",\"\")","v":""},{"$f":"IF('Limestone Plant (LP-6)'!$D$4>9,\"Site 10\",\"\")","v":""},null,{"$f":"IF('Limestone Plant (LP-6)'!$D$4>9,\"Emission Point #\",\"\")","v":""},{"$f":"IF('Limestone Plant (LP-6)'!$D$4>9,\"Emission    Unit #\",\"\")","v":""},{"$f":"IF('Limestone Plant (LP-6)'!$D$4>9,\"Processes\",\"\")","v":""},{"$f":"IF('Limestone Plant (LP-6)'!$D$4>9,\"Combined Maximum Hourly Design Rate for all Like Processes (tons/hr)\",\"\")","v":""},{"$f":"IF('Limestone Plant (LP-6)'!$D$4>9,('Facility Information'!G5&\" Annual Throughput (tons)\"),\"\")","v":""}]
[]
[null,{"$f":"IF('Limestone Plant (LP-6)'!$D$4>9,\"Site Name:\",\"\")","v":""},null,null,{"$f":"IF(G165=\"\",\"\",\"LP-6 EP-1\")","v":""},{"$f":"IF(G165=\"\",\"\",IF(G165=\"primary crusher\",\"LP-6 EU-1\",IF(G165=\"screening\",\"LP-6 EU-2\",IF(G165=\"secondary crusher\",\"LP-6 EU-3\",IF(G165=\"tertiary crusher\",\"LP-6 EU-4\",IF(G165=\"fines crushing\",\"LP-6 EU-5\",IF(G165=\"fines screening\",\"LP-6 EU-6\",IF(G165=\"wet drilling: unfragmented stone\",\"LP-6 EU-7\",IF(G165=\"conveyor transfer points\",\"LP-6 EU-8\")))))))))","v":""},null,null,null,{"$f":"IF($C168=\"no\",I165,0)","v":0}]
[null,{"$f":"IF('Limestone Plant (LP-6)'!$D$4>9,\"County:\",\"\")","v":""},null,null,{"$f":"IF(G166=\"\",\"\",\"LP-6 EP-1\")","v":""},{"$f":"IF(G166=\"\",\"\",IF(G166=\"primary crusher\",\"LP-6 EU-1\",IF(G166=\"screening\",\"LP-6 EU-2\",IF(G166=\"secondary crusher\",\"LP-6 EU-3\",IF(G166=\"tertiary crusher\",\"LP-6 EU-4\",IF(G166=\"fines crushing\",\"LP-6 EU-5\",IF(G166=\"fines screening\",\"LP-6 EU-6\",IF(G166=\"wet drilling: unfragmented stone\",\"LP-6 EU-7\",IF(G166=\"conveyor transfer points\",\"LP-6 EU-8\")))))))))","v":""}]
[null,{"$f":"IF('Limestone Plant (LP-6)'!$D$4>9,\"Crushing Period (Dates):\",\"\")","v":""},null,null,"",""]
[null,{"$f":"IF('Limestone Plant (LP-6)'!$D$4>9,\"Controlled with Dust Suppressant or Material Being Processed has Moisture Content > 1.5%?\",\"\")","v":""},null,null,"",""]
[null,null,null,null,"",""]
[null,null,null,null,"",""]
[null,null,null,null,"",""]
[null,null,null,null,"",""]
[]
[null,null,null,null,{"$f":"IF('Limestone Plant (LP-6)'!$D$4>9,\"Stock Pile Area\",\"\")","v":""}]
[null,null,null,null,null,{"$f":"IF('Limestone Plant (LP-6)'!$D$4>9,\"Emission Unit #\",\"\")","v":""},{"$f":"IF('Limestone Plant (LP-6)'!$D$4>9,\"Maximum Storage Area (acres)\",\"\")","v":""},{"$f":"IF('Limestone Plant (LP-6)'!$D$4>9,\"Actual Storage Area (acres)\",\"\")","v":""},{"$f":"IF('Limestone Plant (LP-6)'!$D$4>9,\"Actual Days in Existence (days)\",\"\")","v":""}]

{"sheet":"Limestone Plant (LP-7)","index":7,"n_rows":175,"n_cols":19,"rows_kept":175,"cut":false,"hidden":true,"merged":[[167,1,169,1],[167,2,169,2],[119,1,121,1],[119,2,121,2],[135,1,137,1],[135,2,137,2],[151,1,153,1],[151,2,153,2],[71,1,73,1],[71,2,73,2],[87,1,89,1],[87,2,89,2],[103,1,105,1],[103,2,105,2],[23,1,25,1],[23,2,25,2],[39,1,41,1],[39,2,41,2],[55,1,57,1],[55,2,57,2],[162,4,163,4],[162,6,163,6],[162,7,163,7],[162,8,163,8],[130,4,131,4],[130,6,131,6],[130,7,131,7],[130,8,131,8],[146,4,147,4],[146,6,147,6],[146,7,147,7],[146,8,147,8],[130,5,131,5],[146,5,147,5],[162,5,163,5],[98,4,99,4],[98,6,99,6],[98,7,99,7],[98,8,99,8],[114,4,115,4],[114,6,115,6],[114,7,115,7],[114,8,115,8],[98,5,99,5],[114,5,115,5],[66,4,67,4],[66,6,67,6],[66,7,67,7],[66,8,67,8],[82,4,83,4],[82,6,83,6],[82,7,83,7],[82,8,83,8],[66,5,67,5],[82,5,83,5],[48,3,48,4],[50,4,51,4],[50,6,51,6],[50,7,51,7],[50,8,51,8],[50,5,51,5],[37,14,38,14],[37,15,38,15],[37,16,38,16],[37,17,38,17],[37,18,38,18],[34,4,35,4],[34,6,35,6],[34,7,35,7],[34,8,35,8],[37,13,38,13],[34,5,35,5],[17,16,18,16],[17,17,18,17],[17,18,18,18],[18,4,19,4],[18,6,19,6],[18,7,19,7],[18,8,19,8],[17,13,18,13],[17,14,18,14],[17,15,18,15],[18,5,19,5],[2,13,3,13],[2,14,3,14],[2,18,3,18],[3,1,3,2],[3,3,3,4],[11,1,13,2],[0,1,0,2],[1,1,1,2],[1,7,1,8],[2,12,3,12]]}
[null,"LIMESTONE CRUSHING PLANT (LP-7)"]
[null,"Please fill in the yellow boxes as applicable for your facility. ",null,null,null,null,null,"Values used for calculating emissions →",null,null,null,null,"Values Used to Calculate Actual Emissions for the Listed Processes at this Plant"]
[null,null,null,null,null,null,null,null,null,null,null,null,"Process","Maximum Design Rate (tons/hr)","Actual throughput w/o wet supression (tons/yr)",null,null,null,"Actual throughtput w/ wet supression (tons/yr)"]
[null,{"$f":"\"Number of Sites this Plant operated at in \"&'Facility Information'!G5&\":\"","v":"Number of Sites this Plant operated at in :"},null,null,null,null,null,null,null,null,null,null,null,null,null,null,"** As of 2016 Potential Emissions are no longer required to be reported in the Minor Source Emissions Inventory**"]
[null,null,null,null,null,null,null,null,null,null,null,null,"Primary Crusher",{"$f":"MAX((IFERROR(OFFSET($G$20,MATCH(\"primary crusher\",$G$21:$G$28,0),1),0)),((IFERROR((OFFSET($G$36,MATCH(\"primary crusher\",$G$37:$G$44,0),1)),0))),((IFERROR((OFFSET($G$52,MATCH(\"primary crusher\",$G$53:$G$60,0),1)),0))),((IFERROR((OFFSET($G$68,MATCH(\"primary crusher\",$G$69:$G$76,0),1)),0))),((IFERROR((OFFSET($G$84,MATCH(\"primary crusher\",$G$85:$G$92,0),1)),0))),((IFERROR((OFFSET($G$100,MATCH(\"primary crusher\",$G$101:$G$108,0),1)),0))),((IFERROR((OFFSET($G$116,MATCH(\"primary crusher\",$G$117:$G$124,0),1)),0))),((IFERROR((OFFSET($G$132,MATCH(\"primary crusher\",$G$133:$G$140,0),1)),0))),((IFERROR((OFFSET($G$148,MATCH(\"primary crusher\",$G$149:$G$156,0),1)),0))),((IFERROR((OFFSET($G$163,MATCH(\"primary crusher\",$G$165:$G$172,0),1)),0))))","v":0},{"$f":"SUM((IFERROR(OFFSET($G$20,MATCH(\"primary crusher\",$G$21:$G$28,0),3),0)),((IFERROR((OFFSET($G$36,MATCH(\"primary crusher\",$G$37:$G$44,0),3)),0))),((IFERROR((OFFSET($G$52,MATCH(\"primary crusher\",$G$53:$G$60,0),3)),0))),((IFERROR((OFFSET($G$68,MATCH(\"primary crusher\",$G$69:$G$76,0),3)),0))),((IFERROR((OFFSET($G$84,MATCH(\"primary crusher\",$G$85:$G$92,0),3)),0))),((IFERROR((OFFSET($G$100,MATCH(\"primary crusher\",$G$101:$G$108,0),3)),0))),((IFERROR((OFFSET($G$116,MATCH(\"primary crusher\",$G$117:$G$124,0),3)),0))),((IFERROR((OFFSET($G$132,MATCH(\"primary crusher\",$G$133:$G$140,0),3)),0))),((IFERROR((OFFSET($G$148,MATCH(\"primary crusher\",$G$149:$G$156,0),3)),0))),((IFERROR((OFFSET($G$163,MATCH(\"primary crusher\",$G$165:$G$172,0),3)),0))))","v":0},null,null,null,{"$f":"SUM((IFERROR(OFFSET($G$20,MATCH(\"primary crusher\",$G$21:$G$28,0),4),0)),((IFERROR((OFFSET($G$36,MATCH(\"primary crusher\",$G$37:$G$44,0),4)),0))),((IFERROR((OFFSET($G$52,MATCH(\"primary crusher\",$G$53:$G$60,0),4)),0))),((IFERROR((OFFSET($G$68,MATCH(\"primary crusher\",$G$69:$G$76,0),4)),0))),((IFERROR((OFFSET($G$84,MATCH(\"primary crusher\",$G$85:$G$92,0),4)),0))),((IFERROR((OFFSET($G$100,MATCH(\"primary crusher\",$G$101:$G$108,0),4)),0))),((IFERROR((OFFSET($G$116,MATCH(\"primary crusher\",$G$117:$G$124,0),4)),0))),((IFERROR((OFFSET($G$132,MATCH(\"primary crusher\",$G$133:$G$140,0),4)),0))),((IFERROR((OFFSET($G$148,MATCH(\"primary crusher\",$G$149:$G$156,0),4)),0))),((IFERROR((OFFSET($G$163,MATCH(\"primary crusher\",$G$165:$G$172,0),4)),0))))","v":0}]
[null,"Plant Specific Permit Number: ",null,null,null,null,null,null,null,null,null,null,"Screening",{"$f":"MAX((IFERROR(OFFSET($G$20,MATCH(\"screening\",$G$21:$G$28,0),1),0)),((IFERROR((OFFSET($G$36,MATCH(\"screening\",$G$37:$G$44,0),1)),0))),((IFERROR((OFFSET($G$52,MATCH(\"screening\",$G$53:$G$60,0),1)),0))),((IFERROR((OFFSET($G$68,MATCH(\"screening\",$G$69:$G$76,0),1)),0))),((IFERROR((OFFSET($G$84,MATCH(\"screening\",$G$85:$G$92,0),1)),0))),((IFERROR((OFFSET($G$100,MATCH(\"screening\",$G$101:$G$108,0),1)),0))),((IFERROR((OFFSET($G$116,MATCH(\"screening\",$G$117:$G$124,0),1)),0))),((IFERROR((OFFSET($G$132,MATCH(\"screening\",$G$133:$G$140,0),1)),0))),((IFERROR((OFFSET($G$148,MATCH(\"screening\",$G$149:$G$156,0),1)),0))),((IFERROR((OFFSET($G$163,MATCH(\"screening\",$G$165:$G$172,0),1)),0))))","v":0},{"$f":"SUM((IFERROR(OFFSET($G$20,MATCH(\"screening\",$G$21:$G$28,0),3),0)),((IFERROR((OFFSET($G$36,MATCH(\"screening\",$G$37:$G$44,0),3)),0))),((IFERROR((OFFSET($G$52,MATCH(\"screening\",$G$53:$G$60,0),3)),0))),((IFERROR((OFFSET($G$68,MATCH(\"screening\",$G$69:$G$76,0),3)),0))),((IFERROR((OFFSET($G$84,MATCH(\"screening\",$G$85:$G$92,0),3)),0))),((IFERROR((OFFSET($G$100,MATCH(\"screening\",$G$101:$G$108,0),3)),0))),((IFERROR((OFFSET($G$116,MATCH(\"screening\",$G$117:$G$124,0),3)),0))),((IFERROR((OFFSET($G$132,MATCH(\"screening\",$G$133:$G$140,0),3)),0))),((IFERROR((OFFSET($G$148,MATCH(\"screening\",$G$149:$G$156,0),3)),0))),((IFERROR((OFFSET($G$163,MATCH(\"screening\",$G$165:$G$172,0),3)),0))))","v":0},null,null,null,{"$f":"SUM((IFERROR(OFFSET($G$20,MATCH(\"screening\",$G$21:$G$28,0),4),0)),((IFERROR((OFFSET($G$36,MATCH(\"screening\",$G$37:$G$44,0),4)),0))),((IFERROR((OFFSET($G$52,MATCH(\"screening\",$G$53:$G$60,0),4)),0))),((IFERROR((OFFSET($G$68,MATCH(\"screening\",$G$69:$G$76,0),4)),0))),((IFERROR((OFFSET($G$84,MATCH(\"screening\",$G$85:$G$92,0),4)),0))),((IFERROR((OFFSET($G$100,MATCH(\"screening\",$G$101:$G$108,0),4)),0))),((IFERROR((OFFSET($G$116,MATCH(\"screening\",$G$117:$G$124,0),4)),0))),((IFERROR((OFFSET($G$132,MATCH(\"screening\",$G$133:$G$140,0),4)),0))),((IFERROR((OFFSET($G$148,MATCH(\"screening\",$G$149:$G$156,0),4)),0))),((IFERROR((OFFSET($G$163,MATCH(\"screening\",$G$165:$G$172,0),4)),0))))","v":0}]
[null,null,null,null,null,null,null,null,null,null,null,null,"Secondary Crusher",{"$f":"MAX((IFERROR(OFFSET($G$20,MATCH(\"secondary crusher\",$G$21:$G$28,0),1),0)),((IFERROR((OFFSET($G$36,MATCH(\"secondary crusher\",$G$37:$G$44,0),1)),0))),((IFERROR((OFFSET($G$52,MATCH(\"secondary crusher\",$G$53:$G$60,0),1)),0))),((IFERROR((OFFSET($G$68,MATCH(\"secondary crusher\",$G$69:$G$76,0),1)),0))),((IFERROR((OFFSET($G$84,MATCH(\"secondary crusher\",$G$85:$G$92,0),1)),0))),((IFERROR((OFFSET($G$100,MATCH(\"secondary crusher\",$G$101:$G$108,0),1)),0))),((IFERROR((OFFSET($G$116,MATCH(\"secondary crusher\",$G$117:$G$124,0),1)),0))),((IFERROR((OFFSET($G$132,MATCH(\"secondary crusher\",$G$133:$G$140,0),1)),0))),((IFERROR((OFFSET($G$148,MATCH(\"secondary crusher\",$G$149:$G$156,0),1)),0))),((IFERROR((OFFSET($G$163,MATCH(\"secondary crusher\",$G$165:$G$172,0),1)),0))))","v":0},{"$f":"SUM((IFERROR(OFFSET($G$20,MATCH(\"secondary crusher\",$G$21:$G$28,0),3),0)),((IFERROR((OFFSET($G$36,MATCH(\"secondary crusher\",$G$37:$G$44,0),3)),0))),((IFERROR((OFFSET($G$52,MATCH(\"secondary crusher\",$G$53:$G$60,0),3)),0))),((IFERROR((OFFSET($G$68,MATCH(\"secondary crusher\",$G$69:$G$76,0),3)),0))),((IFERROR((OFFSET($G$84,MATCH(\"secondary crusher\",$G$85:$G$92,0),3)),0))),((IFERROR((OFFSET($G$100,MATCH(\"secondary crusher\",$G$101:$G$108,0),3)),0))),((IFERROR((OFFSET($G$116,MATCH(\"secondary crusher\",$G$117:$G$124,0),3)),0))),((IFERROR((OFFSET($G$132,MATCH(\"secondary crusher\",$G$133:$G$140,0),3)),0))),((IFERROR((OFFSET($G$148,MATCH(\"secondary crusher\",$G$149:$G$156,0),3)),0))),((IFERROR((OFFSET($G$163,MATCH(\"secondary crusher\",$G$165:$G$172,0),3)),0))))","v":0},null,null,null,{"$f":"SUM((IFERROR(OFFSET($G$20,MATCH(\"secondary crusher\",$G$21:$G$28,0),4),0)),((IFERROR((OFFSET($G$36,MATCH(\"secondary crusher\",$G$37:$G$44,0),4)),0))),((IFERROR((OFFSET($G$52,MATCH(\"secondary crusher\",$G$53:$G$60,0),4)),0))),((IFERROR((OFFSET($G$68,MATCH(\"secondary crusher\",$G$69:$G$76,0),4)),0))),((IFERROR((OFFSET($G$84,MATCH(\"secondary crusher\",$G$85:$G$92,0),4)),0))),((IFERROR((OFFSET($G$100,MATCH(\"secondary crusher\",$G$101:$G$108,0),4)),0))),((IFERROR((OFFSET($G$116,MATCH(\"secondary crusher\",$G$117:$G$124,0),4)),0))),((IFERROR((OFFSET($G$132,MATCH(\"secondary crusher\",$G$133:$G$140,0),4)),0))),((IFERROR((OFFSET($G$148,MATCH(\"secondary crusher\",$G$149:$G$156,0),4)),0))),((IFERROR((OFFSET($G$163,MATCH(\"secondary crusher\",$G$165:$G$172,0),4)),0))))","v":0}]
[null,"Plant Specific Operating Limits:",null,null,"Plant Specific Emission Limits:",null,null,null,null,null,null,null,"Tertiary Crusher",{"$f":"MAX((IFERROR(OFFSET($G$20,MATCH(\"tertiary crusher\",$G$21:$G$28,0),1),0)),((IFERROR((OFFSET($G$36,MATCH(\"tertiary crusher\",$G$37:$G$44,0),1)),0))),((IFERROR((OFFSET($G$52,MATCH(\"tertiary crusher\",$G$53:$G$60,0),1)),0))),((IFERROR((OFFSET($G$68,MATCH(\"tertiary crusher\",$G$69:$G$76,0),1)),0))),((IFERROR((OFFSET($G$84,MATCH(\"tertiary crusher\",$G$85:$G$92,0),1)),0))),((IFERROR((OFFSET($G$100,MATCH(\"tertiary crusher\",$G$101:$G$108,0),1)),0))),((IFERROR((OFFSET($G$116,MATCH(\"tertiary crusher\",$G$117:$G$124,0),1)),0))),((IFERROR((OFFSET($G$132,MATCH(\"tertiary crusher\",$G$133:$G$140,0),1)),0))),((IFERROR((OFFSET($G$148,MATCH(\"tertiary crusher\",$G$149:$G$156,0),1)),0))),((IFERROR((OFFSET($G$163,MATCH(\"tertiary crusher\",$G$165:$G$172,0),1)),0))))","v":0},{"$f":"SUM((IFERROR(OFFSET($G$20,MATCH(\"tertiary crusher\",$G$21:$G$28,0),3),0)),((IFERROR((OFFSET($G$36,MATCH(\"tertiary crusher\",$G$37:$G$44,0),3)),0))),((IFERROR((OFFSET($G$52,MATCH(\"tertiary crusher\",$G$53:$G$60,0),3)),0))),((IFERROR((OFFSET($G$68,MATCH(\"tertiary crusher\",$G$69:$G$76,0),3)),0))),((IFERROR((OFFSET($G$84,MATCH(\"tertiary crusher\",$G$85:$G$92,0),3)),0))),((IFERROR((OFFSET($G$100,MATCH(\"tertiary crusher\",$G$101:$G$108,0),3)),0))),((IFERROR((OFFSET($G$116,MATCH(\"tertiary crusher\",$G$117:$G$124,0),3)),0))),((IFERROR((OFFSET($G$132,MATCH(\"tertiary crusher\",$G$133:$G$140,0),3)),0))),((IFERROR((OFFSET($G$148,MATCH(\"tertiary crusher\",$G$149:$G$156,0),3)),0))),((IFERROR((OFFSET($G$163,MATCH(\"tertiary crusher\",$G$165:$G$172,0),3)),0))))","v":0},null,null,null,{"$f":"SUM((IFERROR(OFFSET($G$20,MATCH(\"tertiary crusher\",$G$21:$G$28,0),4),0)),((IFERROR((OFFSET($G$36,MATCH(\"tertiary crusher\",$G$37:$G$44,0),4)),0))),((IFERROR((OFFSET($G$52,MATCH(\"tertiary crusher\",$G$53:$G$60,0),4)),0))),((IFERROR((OFFSET($G$68,MATCH(\"tertiary crusher\",$G$69:$G$76,0),4)),0))),((IFERROR((OFFSET($G$84,MATCH(\"tertiary crusher\",$G$85:$G$92,0),4)),0))),((IFERROR((OFFSET($G$100,MATCH(\"tertiary crusher\",$G$101:$G$108,0),4)),0))),((IFERROR((OFFSET($G$116,MATCH(\"tertiary crusher\",$G$117:$G$124,0),4)),0))),((IFERROR((OFFSET($G$132,MATCH(\"tertiary crusher\",$G$133:$G$140,0),4)),0))),((IFERROR((OFFSET($G$148,MATCH(\"tertiary crusher\",$G$149:$G$156,0),4)),0))),((IFERROR((OFFSET($G$163,MATCH(\"tertiary crusher\",$G$165:$G$172,0),4)),0))))","v":0}]
[null,"Throughput Limit (tons/yr):",null,null,"Pollutant","lb/hr","tons/yr",null,null,null,null,null,"Fines Crushing",{"$f":"MAX((IFERROR(OFFSET($G$20,MATCH(\"fines crushing\",$G$21:$G$28,0),1),0)),((IFERROR((OFFSET($G$36,MATCH(\"fines crushing\",$G$37:$G$44,0),1)),0))),((IFERROR((OFFSET($G$52,MATCH(\"fines crushing\",$G$53:$G$60,0),1)),0))),((IFERROR((OFFSET($G$68,MATCH(\"fines crushing\",$G$69:$G$76,0),1)),0))),((IFERROR((OFFSET($G$84,MATCH(\"fines crushing\",$G$85:$G$92,0),1)),0))),((IFERROR((OFFSET($G$100,MATCH(\"fines crushing\",$G$101:$G$108,0),1)),0))),((IFERROR((OFFSET($G$116,MATCH(\"fines crushing\",$G$117:$G$124,0),1)),0))),((IFERROR((OFFSET($G$132,MATCH(\"fines crushing\",$G$133:$G$140,0),1)),0))),((IFERROR((OFFSET($G$148,MATCH(\"fines crushing\",$G$149:$G$156,0),1)),0))),((IFERROR((OFFSET($G$163,MATCH(\"fines crushing\",$G$165:$G$172,0),1)),0))))","v":0},{"$f":"SUM((IFERROR(OFFSET($G$20,MATCH(\"fines crushing\",$G$21:$G$28,0),3),0)),((IFERROR((OFFSET($G$36,MATCH(\"fines crushing\",$G$37:$G$44,0),3)),0))),((IFERROR((OFFSET($G$52,MATCH(\"fines crushing\",$G$53:$G$60,0),3)),0))),((IFERROR((OFFSET($G$68,MATCH(\"fines crushing\",$G$69:$G$76,0),3)),0))),((IFERROR((OFFSET($G$84,MATCH(\"fines crushing\",$G$85:$G$92,0),3)),0))),((IFERROR((OFFSET($G$100,MATCH(\"fines crushing\",$G$101:$G$108,0),3)),0))),((IFERROR((OFFSET($G$116,MATCH(\"fines crushing\",$G$117:$G$124,0),3)),0))),((IFERROR((OFFSET($G$132,MATCH(\"fines crushing\",$G$133:$G$140,0),3)),0))),((IFERROR((OFFSET($G$148,MATCH(\"fines crushing\",$G$149:$G$156,0),3)),0))),((IFERROR((OFFSET($G$163,MATCH(\"fines crushing\",$G$165:$G$172,0),3)),0))))","v":0},null,null,null,{"$f":"SUM((IFERROR(OFFSET($G$20,MATCH(\"fines crushing\",$G$21:$G$28,0),4),0)),((IFERROR((OFFSET($G$36,MATCH(\"fines crushing\",$G$37:$G$44,0),4)),0))),((IFERROR((OFFSET($G$52,MATCH(\"fines crushing\",$G$53:$G$60,0),4)),0))),((IFERROR((OFFSET($G$68,MATCH(\"fines crushing\",$G$69:$G$76,0),4)),0))),((IFERROR((OFFSET($G$84,MATCH(\"fines crushing\",$G$85:$G$92,0),4)),0))),((IFERROR((OFFSET($G$100,MATCH(\"fines crushing\",$G$101:$G$108,0),4)),0))),((IFERROR((OFFSET($G$116,MATCH(\"fines crushing\",$G$117:$G$124,0),4)),0))),((IFERROR((OFFSET($G$132,MATCH(\"fines crushing\",$G$133:$G$140,0),4)),0))),((IFERROR((OFFSET($G$148,MATCH(\"fines crushing\",$G$149:$G$156,0),4)),0))),((IFERROR((OFFSET($G$163,MATCH(\"fines crushing\",$G$165:$G$172,0),4)),0))))","v":0}]
[null,"Daily Throughput Limit (tons/day):",null,null,"PM2.5",null,null,null,null,null,null,null,"Fines Screening",{"$f":"MAX((IFERROR(OFFSET($G$20,MATCH(\"fines screening\",$G$21:$G$28,0),1),0)),((IFERROR((OFFSET($G$36,MATCH(\"fines screening\",$G$37:$G$44,0),1)),0))),((IFERROR((OFFSET($G$52,MATCH(\"fines screening\",$G$53:$G$60,0),1)),0))),((IFERROR((OFFSET($G$68,MATCH(\"fines screening\",$G$69:$G$76,0),1)),0))),((IFERROR((OFFSET($G$84,MATCH(\"fines screening\",$G$85:$G$92,0),1)),0))),((IFERROR((OFFSET($G$100,MATCH(\"fines screening\",$G$101:$G$108,0),1)),0))),((IFERROR((OFFSET($G$116,MATCH(\"fines screening\",$G$117:$G$124,0),1)),0))),((IFERROR((OFFSET($G$132,MATCH(\"fines screening\",$G$133:$G$140,0),1)),0))),((IFERROR((OFFSET($G$148,MATCH(\"fines screening\",$G$149:$G$156,0),1)),0))),((IFERROR((OFFSET($G$163,MATCH(\"fines screening\",$G$165:$G$172,0),1)),0))))","v":0},{"$f":"SUM((IFERROR(OFFSET($G$20,MATCH(\"fines screening\",$G$21:$G$28,0),3),0)),((IFERROR((OFFSET($G$36,MATCH(\"fines screening\",$G$37:$G$44,0),3)),0))),((IFERROR((OFFSET($G$52,MATCH(\"fines screening\",$G$53:$G$60,0),3)),0))),((IFERROR((OFFSET($G$68,MATCH(\"fines screening\",$G$69:$G$76,0),3)),0))),((IFERROR((OFFSET($G$84,MATCH(\"fines screening\",$G$85:$G$92,0),3)),0))),((IFERROR((OFFSET($G$100,MATCH(\"fines screening\",$G$101:$G$108,0),3)),0))),((IFERROR((OFFSET($G$116,MATCH(\"fines screening\",$G$117:$G$124,0),3)),0))),((IFERROR((OFFSET($G$132,MATCH(\"fines screening\",$G$133:$G$140,0),3)),0))),((IFERROR((OFFSET($G$148,MATCH(\"fines screening\",$G$149:$G$156,0),3)),0))),((IFERROR((OFFSET($G$163,MATCH(\"fines screening\",$G$165:$G$172,0),3)),0))))","v":0},null,null,null,{"$f":"SUM((IFERROR(OFFSET($G$20,MATCH(\"fines screening\",$G$21:$G$28,0),4),0)),((IFERROR((OFFSET($G$36,MATCH(\"fines screening\",$G$37:$G$44,0),4)),0))),((IFERROR((OFFSET($G$52,MATCH(\"fines screening\",$G$53:$G$60,0),4)),0))),((IFERROR((OFFSET($G$68,MATCH(\"fines screening\",$G$69:$G$76,0),4)),0))),((IFERROR((OFFSET($G$84,MATCH(\"fines screening\",$G$85:$G$92,0),4)),0))),((IFERROR((OFFSET($G$100,MATCH(\"fines screening\",$G$101:$G$108,0),4)),0))),((IFERROR((OFFSET($G$116,MATCH(\"fines screening\",$G$117:$G$124,0),4)),0))),((IFERROR((OFFSET($G$132,MATCH(\"fines screening\",$G$133:$G$140,0),4)),0))),((IFERROR((OFFSET($G$148,MATCH(\"fines screening\",$G$149:$G$156,0),4)),0))),((IFERROR((OFFSET($G$163,MATCH(\"fines screening\",$G$165:$G$172,0),4)),0))))","v":0}]
[null,"Hours of Operation Limit (hours/day):",null,null,"PM10",null,null,null,null,null,null,null,"Wet Drilling: Unfragmented Stone",{"$f":"MAX((IFERROR(OFFSET($G$20,MATCH(\"wet drilling: unfragmented stone\",$G$21:$G$28,0),1),0)),((IFERROR((OFFSET($G$36,MATCH(\"wet drilling: unfragmented stone\",$G$37:$G$44,0),1)),0))),((IFERROR((OFFSET($G$52,MATCH(\"wet drilling: unfragmented stone\",$G$53:$G$60,0),1)),0))),((IFERROR((OFFSET($G$68,MATCH(\"wet drilling: unfragmented stone\",$G$69:$G$76,0),1)),0))),((IFERROR((OFFSET($G$84,MATCH(\"wet drilling: unfragmented stone\",$G$85:$G$92,0),1)),0))),((IFERROR((OFFSET($G$100,MATCH(\"wet drilling: unfragmented stone\",$G$101:$G$108,0),1)),0))),((IFERROR((OFFSET($G$116,MATCH(\"wet drilling: unfragmented stone\",$G$117:$G$124,0),1)),0))),((IFERROR((OFFSET($G$132,MATCH(\"wet drilling: unfragmented stone\",$G$133:$G$140,0),1)),0))),((IFERROR((OFFSET($G$148,MATCH(\"wet drilling: unfragmented stone\",$G$149:$G$156,0),1)),0))),((IFERROR((OFFSET($G$163,MATCH(\"wet drilling: unfragmented stone\",$G$165:$G$172,0),1)),0))))","v":0},{"$f":"SUM((IFERROR(OFFSET($G$20,MATCH(\"wet drilling: unfragmented stone\",$G$21:$G$28,0),3),0)),((IFERROR((OFFSET($G$36,MATCH(\"wet drilling: unfragmented stone\",$G$37:$G$44,0),3)),0))),((IFERROR((OFFSET($G$52,MATCH(\"wet drilling: unfragmented stone\",$G$53:$G$60,0),3)),0))),((IFERROR((OFFSET($G$68,MATCH(\"wet drilling: unfragmented stone\",$G$69:$G$76,0),3)),0))),((IFERROR((OFFSET($G$84,MATCH(\"wet drilling: unfragmented stone\",$G$85:$G$92,0),3)),0))),((IFERROR((OFFSET($G$100,MATCH(\"wet drilling: unfragmented stone\",$G$101:$G$108,0),3)),0))),((IFERROR((OFFSET($G$116,MATCH(\"wet drilling: unfragmented stone\",$G$117:$G$124,0),3)),0))),((IFERROR((OFFSET($G$132,MATCH(\"wet drilling: unfragmented stone\",$G$133:$G$140,0),3)),0))),((IFERROR((OFFSET($G$148,MATCH(\"wet drilling: unfragmented stone\",$G$149:$G$156,0),3)),0))),((IFERROR((OFFSET($G$163,MATCH(\"wet drilling: unfragmented stone\",$G$165:$G$172,0),3)),0))))","v":0},null,null,null,{"$f":"SUM((IFERROR(OFFSET($G$20,MATCH(\"wet drilling: unfragmented stone\",$G$21:$G$28,0),4),0)),((IFERROR((OFFSET($G$36,MATCH(\"wet drilling: unfragmented stone\",$G$37:$G$44,0),4)),0))),((IFERROR((OFFSET($G$52,MATCH(\"wet drilling: unfragmented stone\",$G$53:$G$60,0),4)),0))),((IFERROR((OFFSET($G$68,MATCH(\"wet drilling: unfragmented stone\",$G$69:$G$76,0),4)),0))),((IFERROR((OFFSET($G$84,MATCH(\"wet drilling: unfragmented stone\",$G$85:$G$92,0),4)),0))),((IFERROR((OFFSET($G$100,MATCH(\"wet drilling: unfragmented stone\",$G$101:$G$108,0),4)),0))),((IFERROR((OFFSET($G$116,MATCH(\"wet drilling: unfragmented stone\",$G$117:$G$124,0),4)),0))),((IFERROR((OFFSET($G$132,MATCH(\"wet drilling: unfragmented stone\",$G$133:$G$140,0),4)),0))),((IFERROR((OFFSET($G$148,MATCH(\"wet drilling: unfragmented stone\",$G$149:$G$156,0),4)),0))),((IFERROR((OFFSET($G$163,MATCH(\"wet drilling: unfragmented stone\",$G$165:$G$172,0),4)),0))))","v":0}]
[null,"Note: if the plant has a hours/day and a tons/hr permit limit, those values should be multiplied together to calculate a tons/day limit and that value should be placed in cell C10.",null,null,"SO2",null,null,null,null,null,null,null,"Conveyor Transfer Points",{"$f":"MAX((IFERROR(OFFSET($G$20,MATCH(\"conveyor transfer points\",$G$21:$G$28,0),1),0)),((IFERROR((OFFSET($G$36,MATCH(\"conveyor transfer points\",$G$37:$G$44,0),1)),0))),((IFERROR((OFFSET($G$52,MATCH(\"conveyor transfer points\",$G$53:$G$60,0),1)),0))),((IFERROR((OFFSET($G$68,MATCH(\"conveyor transfer points\",$G$69:$G$76,0),1)),0))),((IFERROR((OFFSET($G$84,MATCH(\"conveyor transfer points\",$G$85:$G$92,0),1)),0))),((IFERROR((OFFSET($G$100,MATCH(\"conveyor transfer points\",$G$101:$G$108,0),1)),0))),((IFERROR((OFFSET($G$116,MATCH(\"conveyor transfer points\",$G$117:$G$124,0),1)),0))),((IFERROR((OFFSET($G$132,MATCH(\"conveyor transfer points\",$G$133:$G$140,0),1)),0))),((IFERROR((OFFSET($G$148,MATCH(\"conveyor transfer points\",$G$149:$G$156,0),1)),0))),((IFERROR((OFFSET($G$163,MATCH(\"conveyor transfer points\",$G$165:$G$172,0),1)),0))))","v":0},{"$f":"SUM((IFERROR(OFFSET($G$20,MATCH(\"conveyor transfer points\",$G$21:$G$28,0),3),0)),((IFERROR((OFFSET($G$36,MATCH(\"conveyor transfer points\",$G$37:$G$44,0),3)),0))),((IFERROR((OFFSET($G$52,MATCH(\"conveyor transfer points\",$G$53:$G$60,0),3)),0))),((IFERROR((OFFSET($G$68,MATCH(\"conveyor transfer points\",$G$69:$G$76,0),3)),0))),((IFERROR((OFFSET($G$84,MATCH(\"conveyor transfer points\",$G$85:$G$92,0),3)),0))),((IFERROR((OFFSET($G$100,MATCH(\"conveyor transfer points\",$G$101:$G$108,0),3)),0))),((IFERROR((OFFSET($G$116,MATCH(\"conveyor transfer points\",$G$117:$G$124,0),3)),0))),((IFERROR((OFFSET($G$132,MATCH(\"conveyor transfer points\",$G$133:$G$140,0),3)),0))),((IFERROR((OFFSET($G$148,MATCH(\"conveyor transfer points\",$G$149:$G$156,0),3)),0))),((IFERROR((OFFSET($G$163,MATCH(\"conveyor transfer points\",$G$165:$G$172,0),3)),0))))","v":0},null,null,null,{"$f":"SUM((IFERROR(OFFSET($G$20,MATCH(\"conveyor transfer points\",$G$21:$G$28,0),4),0)),((IFERROR((OFFSET($G$36,MATCH(\"conveyor transfer points\",$G$37:$G$44,0),4)),0))),((IFERROR((OFFSET($G$52,MATCH(\"conveyor transfer points\",$G$53:$G$60,0),4)),0))),((IFERROR((OFFSET($G$68,MATCH(\"conveyor transfer points\",$G$69:$G$76,0),4)),0))),((IFERROR((OFFSET($G$84,MATCH(\"conveyor transfer points\",$G$85:$G$92,0),4)),0))),((IFERROR((OFFSET($G$100,MATCH(\"conveyor transfer points\",$G$101:$G$108,0),4)),0))),((IFERROR((OFFSET($G$116,MATCH(\"conveyor transfer points\",$G$117:$G$124,0),4)),0))),((IFERROR((OFFSET($G$132,MATCH(\"conveyor transfer points\",$G$133:$G$140,0),4)),0))),((IFERROR((OFFSET($G$148,MATCH(\"conveyor transfer points\",$G$149:$G$156,0),4)),0))),((IFERROR((OFFSET($G$163,MATCH(\"conveyor transfer points\",$G$165:$G$172,0),4)),0))))","v":0}]
[null,null,null,null,"NOx",null,null,null,null,null,null,null,null,"Maximum (acres/day)","Actual (acres-day/yr)"]
[null,null,null,null,"VOC",null,null,null,null,null,null,null,"Storage Pile",{"$f":"SUM(G32,G48,G64,G80,G96,G112,G128,G144,G160,G176)","v":0},{"$f":"SUM(H32*I32,H48*I48,H64*I64,H80*I80,H96*I96,H112*I112,H128*I128,H144*I144,H160*I160,H176*I176)","v":0}]
[null,null,null,null,"CO"]
[]
[null,null,null,null,null,null,null,null,null,null,null,null,"Actual Emissions for the Listed Processes at this Plant"]
[null,null,null,null,null,null,null,null,null,null,null,null,null,"Maximum Design Rate (tons/hr)","Emission Factor (lb/ton)","Potential Uncontrolled Emissions (lb/hr)","Potential Controlled Emissions (lb/hr)","Potential Annual Emissions (tons/yr)","Actual Annual Emissions (tons/yr)"]
[null,"CRUSHER PLANT","Site 1",null,"Emission Point #","Emission    Unit #","Processes","Combined Maximum Hourly Design Rate for all Like Processes (tons/hr)",{"$f":"('Facility Information'!G5&\" Annual Throughput (tons)\")","v":" Annual Throughput (tons)"},null,null,null,"PM2.5"]
[null,null,null,null,null,null,null,null,null,"no wet supress","wet supress",null,"Primary Crusher",{"$f":"N5","v":0},{"$f":"IF(N20=0,0,IF(OR($C$24=\"no\",$C$40=\"no\",$C$56=\"no\",$C$72=\"no\",$C$88=\"no\",$C$104=\"no\",$C$120=\"no\",$C$136=\"no\",$C$152=\"no\",$C$168=\"no\"),'Emission Factors'!D8,'Emission Factors'!D20))","v":0},{"$f":"IF(OR($C$24=\"no\",$C$40=\"no\",$C$56=\"no\",$C$72=\"no\",$C$88=\"no\",$C$104=\"no\",$C$120=\"no\",$C$136=\"no\",$C$152=\"no\",$C$168=\"no\"),N20*O20,\"\")","v":""},{"$f":"IF($F$10>0,$F$10,IF(OR($C$24=\"no\",$C$40=\"no\",$C$56=\"no\",$C$72=\"no\",$C$88=\"no\",$C$104=\"no\",$C$120=\"no\",$C$136=\"no\",$C$152=\"no\",$C$168=\"no\"),\"\",N20*O20))","v":0},{"$f":"IF($G$10>0,$G$10,IF($C$9>0,$C$9*O20/2000,IF($C$10>0,$C$10*365*O20/2000,IF($C$11>0,$C$11*365*O20*N20/2000,IF(Q20=\"\",P20*8760/2000,Q20*8760/2000)))))","v":0},{"$f":"(O5*'Emission Factors'!D8/2000)+('Emission Factors'!D20*S5/2000)","v":0}]
["YES","Site Name:",null,null,{"$f":"IF(G21=\"\",\"\",\"LP-7 EP-1\")","v":""},{"$f":"IF(G21=\"\",\"\",IF(G21=\"primary crusher\",\"LP-7 EU-1\",IF(G21=\"screening\",\"LP-7 EU-2\",IF(G21=\"secondary crusher\",\"LP-7 EU-3\",IF(G21=\"tertiary crusher\",\"LP-7 EU-4\",IF(G21=\"fines crushing\",\"LP-7 EU-5\",IF(G21=\"fines screening\",\"LP-7 EU-6\",IF(G21=\"wet drilling: unfragmented stone\",\"LP-7 EU-7\",IF(G21=\"conveyor transfer points\",\"LP-7 EU-8\")))))))))","v":""},null,null,null,{"$f":"IF($C24=\"no\",I21,0)","v":0},{"$f":"IF($C$24=\"yes\",I21,0)","v":0},null,"Screening",0,{"$f":"IF(N21=0,0,IF(OR($C$24=\"no\",$C$40=\"no\",$C$56=\"no\",$C$72=\"no\",$C$88=\"no\",$C$104=\"no\",$C$120=\"no\",$C$136=\"no\",$C$152=\"no\",$C$168=\"no\"),'Emission Factors'!D9,'Emission Factors'!D21))","v":0},"",0,{"$f":"IF($G$10>0,\"\",IF($C$9>0,$C$9*O21/2000,IF($C$10>0,$C$10*365*O21/2000,IF($C$11>0,$C$11*365*O21*N21/2000,IF(Q21=\"\",P21*8760/2000,Q21*8760/2000)))))","v":0},{"$f":"(O6*'Emission Factors'!D9/2000)+('Emission Factors'!D21*S6/2000)","v":0}]
["NO","County:",null,null,{"$f":"IF(G22=\"\",\"\",\"LP-7 EP-1\")","v":""},{"$f":"IF(G22=\"\",\"\",IF(G22=\"primary crusher\",\"LP-7 EU-1\",IF(G22=\"screening\",\"LP-7 EU-2\",IF(G22=\"secondary crusher\",\"LP-7 EU-3\",IF(G22=\"tertiary crusher\",\"LP-7 EU-4\",IF(G22=\"fines crushing\",\"LP-7 EU-5\",IF(G22=\"fines screening\",\"LP-7 EU-6\",IF(G22=\"wet drilling: unfragmented stone\",\"LP-7 EU-7\",IF(G22=\"conveyor transfer points\",\"LP-7 EU-8\")))))))))","v":""},null,null,null,{"$f":"IF($C$24=\"no\",I22,0)","v":0},0,null,"Secondary Crusher",0,{"$f":"IF(N22=0,0,IF(OR($C$24=\"no\",$C$40=\"no\",$C$56=\"no\",$C$72=\"no\",$C$88=\"no\",$C$104=\"no\",$C$120=\"no\",$C$136=\"no\",$C$152=\"no\",$C$168=\"no\"),'Emission Factors'!D10,'Emission Factors'!D22))","v":0},"",0,0,{"$f":"(O7*'Emission Factors'!D10/2000)+('Emission Factors'!D22*S7/2000)","v":0}]
[null,"Crushing Period (Dates):",null,null,"","",null,null,null,0,0,null,"Tertiary Crusher",0,{"$f":"IF(N23=0,0,IF(OR(C24=\"no\",C40=\"no\",C56=\"no\",C72=\"no\",C88=\"no\",C104=\"no\",C120=\"no\",C136=\"no\",C152=\"no\",C168=\"no\"),'Emission Factors'!D12,'Emission Factors'!D24))","v":0},"",0,0,{"$f":"(O8*'Emission Factors'!D12/2000)+('Emission Factors'!D24*S8/2000)","v":0}]
["Primary Crusher","Controlled with Dust Suppressant or Material Being Processed has Moisture Content > 1.5%?",null,null,"","",null,null,null,0,0,null,"Fines Crushing",0,{"$f":"IF(N24=0,0,IF(OR(C24=\"no\",C40=\"no\",C56=\"no\",C72=\"no\",C88=\"no\",C104=\"no\",C120=\"no\",C136=\"no\",C152=\"no\",C168=\"no\"),'Emission Factors'!D6,'Emission Factors'!D18))","v":0},"",0,0,{"$f":"(O9*'Emission Factors'!D6/2000)+('Emission Factors'!D18*S9/2000)","v":0}]
["Screening",null,null,null,"","",null,null,null,0,0,null,"Fines Screening",0,{"$f":"IF(N25=0,0,IF(OR($C$24=\"no\",$C$40=\"no\",$C$56=\"no\",$C$72=\"no\",$C$88=\"no\",$C$104=\"no\",$C$120=\"no\",$C$136=\"no\",$C$152=\"no\",$C$168=\"no\"),'Emission Factors'!D7,'Emission Factors'!D19))","v":0},"",0,0,{"$f":"(O10*'Emission Factors'!D7/2000)+('Emission Factors'!D19*S10/2000)","v":0}]
["Secondary Crusher",null,null,null,"","",null,null,null,0,0,null,"Wet Drilling: Unfragmented Stone",0,{"$f":"IF(N26=0,0,IF(OR(C24=\"no\",C40=\"no\",C56=\"no\",C72=\"no\",C88=\"no\",C104=\"no\",C120=\"no\",C136=\"no\",C152=\"no\",C168=\"no\"),'Emission Factors'!D13,'Emission Factors'!D25))","v":0},"",0,0,{"$f":"(O11*'Emission Factors'!D13/2000)+('Emission Factors'!D25*S11/2000)","v":0}]
["Tertiary Crusher",null,null,null,"","",null,null,null,0,0,null,"Conveyor Transfer Points",0,{"$f":"IF(N27=0,0,IF(OR(C24=\"no\",C40=\"no\",C56=\"no\",C72=\"no\",C88=\"no\",C104=\"no\",C120=\"no\",C136=\"no\",C152=\"no\",C168=\"no\"),'Emission Factors'!D5,'Emission Factors'!D17))","v":0},"",0,0,{"$f":"(O12*'Emission Factors'!D5/2000)+('Emission Factors'!D17*S12/2000)","v":0}]
["Fines Crushing",null,null,null,"","",null,null,null,0,0,null,"PM10"]
["Fines Screening",null,null,null,null,null,null,null,null,null,null,null,"Primary Crusher",{"$f":"N5","v":0},{"$f":"IF(N29=0,0,IF(OR($C$24=\"no\",$C$40=\"no\",$C$56=\"no\",$C$72=\"no\",$C$88=\"no\",$C$104=\"no\",$C$120=\"no\",$C$136=\"no\",$C$152=\"no\",$C$168=\"no\"),'Emission Factors'!F8,'Emission Factors'!F20))","v":0},{"$f":"IF(OR($C$24=\"no\",$C$40=\"no\",$C$56=\"no\",$C$72=\"no\",$C$88=\"no\",$C$104=\"no\",$C$120=\"no\",$C$136=\"no\",$C$152=\"no\",$C$168=\"no\"),N29*O29,\"\")","v":""},{"$f":"IF($F$11>0,$F$11,IF(OR($C$24=\"no\",$C$40=\"no\",$C$56=\"no\",$C$72=\"no\",$C$88=\"no\",$C$104=\"no\",$C$120=\"no\",$C$136=\"no\",$C$152=\"no\",$C$168=\"no\"),\"\",N29*O29))","v":0},{"$f":"IF($G$11>0,$G$11,IF($C$9>0,$C$9*O29/2000,IF($C$10>0,$C$10*365*O29/2000,IF($C$11>0,$C$11*365*O29*N29/2000,IF(Q29=\"\",P29*8760/2000,Q29*8760/2000)))))","v":0},{"$f":"(O5*'Emission Factors'!F8/2000)+('Emission Factors'!F20*S5/2000)","v":0}]
["Wet Drilling: Unfragmented Stone",null,null,null,"Stock Pile Area",null,null,null,null,null,null,null,"Screening",{"$f":"N6","v":0},{"$f":"IF(N30=0,0,IF(OR($C$24=\"no\",$C$40=\"no\",$C$56=\"no\",$C$72=\"no\",$C$88=\"no\",$C$104=\"no\",$C$120=\"no\",$C$136=\"no\",$C$152=\"no\",$C$168=\"no\"),'Emission Factors'!F9,'Emission Factors'!F21))","v":0},"",0,{"$f":"IF($G$11>0,\"\",IF($C$9>0,$C$9*O30/2000,IF($C$10>0,$C$10*365*O30/2000,IF($C$11>0,$C$11*365*O30*N30/2000,IF(Q30=\"\",P30*8760/2000,Q30*8760/2000)))))","v":0},{"$f":"(O6*'Emission Factors'!F9/2000)+('Emission Factors'!F21*S6/2000)","v":0}]
["Conveyor Transfer Points",null,null,null,null,"Emission Unit #","Maximum Storage Area (acres)","Actual Storage Area (acres)","Actual Days in Existence (days)",null,null,null,"Secondary Crusher",0,{"$f":"IF(N31=0,0,IF(OR($C$24=\"no\",$C$40=\"no\",$C$56=\"no\",$C$72=\"no\",$C$88=\"no\",$C$104=\"no\",$C$120=\"no\",$C$136=\"no\",$C$152=\"no\",$C$168=\"no\"),'Emission Factors'!F10,'Emission Factors'!F22))","v":0},"",0,0,{"$f":"(O7*'Emission Factors'!F10/2000)+('Emission Factors'!F22*S7/2000)","v":0}]
[null,null,null,null,null,null,null,null,null,null,null,null,"Tertiary Crusher",0,{"$f":"IF(N32=0,0,IF(OR(C24=\"no\",C40=\"no\",C56=\"no\",C72=\"no\",C88=\"no\",C104=\"no\",C120=\"no\",C136=\"no\",C152=\"no\",C168=\"no\"),'Emission Factors'!F12,'Emission Factors'!F24))","v":0},"",0,0,{"$f":"(O8*'Emission Factors'!F12/2000)+('Emission Factors'!F24*S8/2000)","v":0}]
[null,null,null,null,null,null,null,null,null,null,null,null,"Fines Crushing",0,{"$f":"IF(N33=0,0,IF(OR(C24=\"no\",C40=\"no\",C56=\"no\",C72=\"no\",C88=\"no\",C104=\"no\",C120=\"no\",C136=\"no\",C152=\"no\",C168=\"no\"),'Emission Factors'!F6,'Emission Factors'!F18))","v":0},"",0,0,{"$f":"(O9*'Emission Factors'!F6/2000)+('Emission Factors'!F18*S9/2000)","v":0}]
[{"$f":"C21","v":0},null,null,null,null,null,null,null,null,null,null,null,"Fines Screening",0,{"$f":"IF(N34=0,0,IF(OR(C24=\"no\",C40=\"no\",C56=\"no\",C72=\"no\",C88=\"no\",C104=\"no\",C120=\"no\",C136=\"no\",C152=\"no\",C168=\"no\"),'Emission Factors'!F7,'Emission Factors'!F19))","v":0},"",0,0,{"$f":"(O10*'Emission Factors'!F7/2000)+('Emission Factors'!F19*S10/2000)","v":0}]
[{"$f":"C37","v":0},{"$f":"IF('Limestone Plant (LP-7)'!$D$4>1,\"CRUSHER PLANT\",\"\")","v":""},{"$f":"IF('Limestone Plant (LP-7)'!$D$4>1,\"Site 2\",\"\")","v":""},null,{"$f":"IF('Limestone Plant (LP-7)'!$D$4>1,\"Emission Point #\",\"\")","v":""},{"$f":"IF('Limestone Plant (LP-7)'!$D$4>1,\"Emission   Unit #\",\"\")","v":""},{"$f":"IF('Limestone Plant (LP-7)'!$D$4>1,\"Processes\",\"\")","v":""},{"$f":"IF('Limestone Plant (LP-7)'!$D$4>1,\"Combined Maximum Hourly Design Rate for all Like Processes (tons/hr)\",\"\")","v":""},{"$f":"IF('Limestone Plant (LP-7)'!$D$4>1,('Facility Information'!G5&\" Annual Throughput (tons)\"),\"\")","v":""},null,null,null,"Wet Drilling: Unfragmented Stone",0,{"$f":"IF(N35=0,0,IF(OR(C24=\"no\",C40=\"no\",C56=\"no\",C72=\"no\",C88=\"no\",C104=\"no\",C120=\"no\",C136=\"no\",C152=\"no\",C168=\"no\"),'Emission Factors'!F13,'Emission Factors'!F25))","v":0},"",0,0,{"$f":"(O11*'Emission Factors'!F13/2000)+('Emission Factors'!F25*S11/2000)","v":0}]
[{"$f":"C53","v":0},null,null,null,null,null,null,null,null,null,null,null,"Conveyor Transfer Points",0,{"$f":"IF(N36=0,0,IF(OR(C24=\"no\",C40=\"no\",C56=\"no\",C72=\"no\",C88=\"no\",C104=\"no\",C120=\"no\",C136=\"no\",C152=\"no\",C168=\"no\"),'Emission Factors'!F5,'Emission Factors'!F17))","v":0},"",0,0,{"$f":"(O12*'Emission Factors'!F5/2000)+('Emission Factors'!F17*S12/2000)","v":0}]
[{"$f":"C69","v":0},{"$f":"IF('Limestone Plant (LP-7)'!$D$4>1,\"Site Name:\",\"\")","v":""},null,null,{"$f":"IF(G37=\"\",\"\",\"LP-7 EP-1\")","v":""},{"$f":"IF(G37=\"\",\"\",IF(G37=\"primary crusher\",\"LP-7 EU-1\",IF(G37=\"screening\",\"LP-7 EU-2\",IF(G37=\"secondary crusher\",\"LP-7 EU-3\",IF(G37=\"tertiary crusher\",\"LP-7 EU-4\",IF(G37=\"fines crushing\",\"LP-7 EU-5\",IF(G37=\"fines screening\",\"LP-7 EU-6\",IF(G37=\"wet drilling: unfragmented stone\",\"LP-7 EU-7\",IF(G37=\"conveyor transfer points\",\"LP-7 EU-8\")))))))))","v":""},null,null,null,{"$f":"IF($C$40=\"no\",I37,0)","v":0},{"$f":"IF($C$40=\"yes\",I37,0)","v":0}]
[{"$f":"C85","v":0},{"$f":"IF('Limestone Plant (LP-7)'!$D$4>1,\"County:\",\"\")","v":""},null,null,{"$f":"IF(G38=\"\",\"\",\"LP-7 EP-1\")","v":""},{"$f":"IF(G38=\"\",\"\",IF(G38=\"primary crusher\",\"LP-7 EU-1\",IF(G38=\"screening\",\"LP-7 EU-2\",IF(G38=\"secondary crusher\",\"LP-7 EU-3\",IF(G38=\"tertiary crusher\",\"LP-7 EU-4\",IF(G38=\"fines crushing\",\"LP-7 EU-5\",IF(G38=\"fines screening\",\"LP-7 EU-6\",IF(G38=\"wet drilling: unfragmented stone\",\"LP-7 EU-7\",IF(G38=\"conveyor transfer points\",\"LP-7 EU-8\")))))))))","v":""},null,null,null,{"$f":"IF($C$40=\"no\",I38,0)","v":0},{"$f":"IF($C$40=\"yes\",I38,0)","v":0},null,null,"Max Design Rate (acres/day)","Emission Factor   (lb/acre-day)","Potential Uncontrolled Emissions (lb/hr)","Potential Controlled Emissions (lb/hr)","Potential Annual Emissions (tons/yr)","Actual Annual Emissions (tons/yr)"]
[{"$f":"C101","v":0},{"$f":"IF('Limestone Plant (LP-7)'!$D$4>1,\"Crushing Period (Dates):\",\"\")","v":""},null,null,"","",null,null,null,0,0,null,"Storage Pile"]
[{"$f":"C117","v":0},{"$f":"IF('Limestone Plant (LP-7)'!$D$4>1,\"Controlled with Dust Suppressant or Material Being Processed has Moisture Content > 1.5%?\",\"\")","v":""},null,null,"","",null,null,null,0,0,null,"PM2.5/PM10",{"$f":"N14","v":0},3.64,{"$f":"N40*O40*(1/24)","v":0},null,{"$f":"N40*O40*365/2000","v":0},{"$f":"O14*O40/2000","v":0}]
[{"$f":"C133","v":0},null,null,null,"","",null,null,null,0,0]
[{"$f":"C149","v":0},null,null,null,"","",null,null,null,0,0]
[{"$f":"C165","v":0},null,null,null,"","",null,null,null,0,0]
[null,null,null,null,"","",null,null,null,0,0]
[]
[null,null,null,null,{"$f":"IF('Limestone Plant (LP-7)'!$D$4>1,\"Stock Pile Area\",\"\")","v":""}]
[null,null,null,null,null,{"$f":"IF('Limestone Plant (LP-7)'!$D$4>1,\"Emission Unit #\",\"\")","v":""},{"$f":"IF('Limestone Plant (LP-7)'!$D$4>1,\"Maximum Storage Area (acres)\",\"\")","v":""},{"$f":"IF('Limestone Plant (LP-7)'!$D$4>1,\"Actual Storage Area (acres)\",\"\")","v":""},{"$f":"IF('Limestone Plant (LP-7)'!$D$4>1,\"Actual Days in Existence (days)\",\"\")","v":""}]
[]
[]
[]
[null,{"$f":"IF('Limestone Plant (LP-7)'!$D$4>2,\"CRUSHER PLANT\",\"\")","v":""},{"$f":"IF('Limestone Plant (LP-7)'!$D$4>2,\"Site 3\",\"\")","v":""},null,{"$f":"IF('Limestone Plant (LP-7)'!$D$4>2,\"Emission Point #\",\"\")","v":""},{"$f":"IF('Limestone Plant (LP-7)'!$D$4>2,\"Emission    Unit #\",\"\")","v":""},{"$f":"IF('Limestone Plant (LP-7)'!$D$4>2,\"Processes\",\"\")","v":""},{"$f":"IF('Limestone Plant (LP-7)'!$D$4>2,\"Combined Maximum Hourly Design Rate for all Like Processes (tons/hr)\",\"\")","v":""},{"$f":"IF('Limestone Plant (LP-7)'!$D$4>2,('Facility Information'!G5&\" Annual Throughput (tons)\"),\"\")","v":""}]
[]
[null,{"$f":"IF('Limestone Plant (LP-7)'!$D$4>2,\"Site Name:\",\"\")","v":""},null,null,{"$f":"IF(G53=\"\",\"\",\"LP-7 EP-1\")","v":""},{"$f":"IF(G53=\"\",\"\",IF(G53=\"primary crusher\",\"LP-7 EU-1\",IF(G53=\"screening\",\"LP-7 EU-2\",IF(G53=\"secondary crusher\",\"LP-7 EU-3\",IF(G53=\"tertiary crusher\",\"LP-7 EU-4\",IF(G53=\"fines crushing\",\"LP-7 EU-5\",IF(G53=\"fines screening\",\"LP-7 EU-6\",IF(G53=\"wet drilling: unfragmented stone\",\"LP-7 EU-7\",IF(G53=\"conveyor transfer points\",\"LP-7 EU-8\")))))))))","v":""},null,null,null,{"$f":"IF($C$56=\"no\",I53,0)","v":0},{"$f":"IF($C$56=\"yes\",I53,0)","v":0}]
[null,{"$f":"IF('Limestone Plant (LP-7)'!$D$4>2,\"County:\",\"\")","v":""},null,null,{"$f":"IF(G54=\"\",\"\",\"LP-7 EP-1\")","v":""},{"$f":"IF(G54=\"\",\"\",IF(G54=\"primary crusher\",\"LP-7 EU-1\",IF(G54=\"screening\",\"LP-7 EU-2\",IF(G54=\"secondary crusher\",\"LP-7 EU-3\",IF(G54=\"tertiary crusher\",\"LP-7 EU-4\",IF(G54=\"fines crushing\",\"LP-7 EU-5\",IF(G54=\"fines screening\",\"LP-7 EU-6\",IF(G54=\"wet drilling: unfragmented stone\",\"LP-7 EU-7\",IF(G54=\"conveyor transfer points\",\"LP-7 EU-8\")))))))))","v":""},null,null,null,{"$f":"IF($C$56=\"no\",I54,0)","v":0},{"$f":"IF($C$56=\"yes\",I54,0)","v":0}]
[null,{"$f":"IF('Limestone Plant (LP-7)'!$D$4>2,\"Crushing Period (Dates):\",\"\")","v":""},null,null,"","",null,null,null,0,0]
[null,{"$f":"IF('Limestone Plant (LP-7)'!$D$4>2,\"Controlled with Dust Suppressant or Material Being Processed has Moisture Content > 1.5%?\",\"\")","v":""},null,null,"","",null,null,null,0,0]
[null,null,null,null,"","",null,null,null,0,0]
[null,null,null,null,"","",null,null,null,0,0]
[null,null,null,null,"","",null,null,null,0,0]
[null,null,null,null,"","",null,null,null,0,0]
[]
[null,null,null,null,{"$f":"IF('Limestone Plant (LP-7)'!$D$4>2,\"Stock Pile Area\",\"\")","v":""}]
[null,null,null,null,null,{"$f":"IF('Limestone Plant (LP-7)'!$D$4>2,\"Emission Unit #\",\"\")","v":""},{"$f":"IF('Limestone Plant (LP-7)'!$D$4>2,\"Maximum Storage Area (acres)\",\"\")","v":""},{"$f":"IF('Limestone Plant (LP-7)'!$D$4>2,\"Actual Storage Area (acres)\",\"\")","v":""},{"$f":"IF('Limestone Plant (LP-7)'!$D$4>2,\"Actual Days in Existence (days)\",\"\")","v":""}]
[]
[]
[]
[null,{"$f":"IF('Limestone Plant (LP-7)'!$D$4>3,\"CRUSHER PLANT\",\"\")","v":""},{"$f":"IF('Limestone Plant (LP-7)'!$D$4>3,\"Site 4\",\"\")","v":""},null,{"$f":"IF('Limestone Plant (LP-7)'!$D$4>3,\"Emission Point #\",\"\")","v":""},{"$f":"IF('Limestone Plant (LP-7)'!$D$4>3,\"Emission    Unit #\",\"\")","v":""},{"$f":"IF('Limestone Plant (LP-7)'!$D$4>3,\"Processes\",\"\")","v":""},{"$f":"IF('Limestone Plant (LP-7)'!$D$4>3,\"Combined Maximum Hourly Design Rate for all Like Processes (tons/hr)\",\"\")","v":""},{"$f":"IF('Limestone Plant (LP-7)'!$D$4>3,('Facility Information'!G5&\" Annual Throughput (tons)\"),\"\")","v":""}]
[]
[null,{"$f":"IF('Limestone Plant (LP-7)'!$D$4>3,\"Site Name:\",\"\")","v":""},null,null,{"$f":"IF(G69=\"\",\"\",\"LP-7 EP-1\")","v":""},{"$f":"IF(G69=\"\",\"\",IF(G69=\"primary crusher\",\"LP-7 EU-1\",IF(G69=\"screening\",\"LP-7 EU-2\",IF(G69=\"secondary crusher\",\"LP-7 EU-3\",IF(G69=\"tertiary crusher\",\"LP-7 EU-4\",IF(G69=\"fines crushing\",\"LP-7 EU-5\",IF(G69=\"fines screening\",\"LP-7 EU-6\",IF(G69=\"wet drilling: unfragmented stone\",\"LP-7 EU-7\",IF(G69=\"conveyor transfer points\",\"LP-7 EU-8\")))))))))","v":""},null,null,null,{"$f":"IF($C$72=\"no\",I69,0)","v":0},{"$f":"IF($C$72=\"yes\",I69,0)","v":0}]
[null,{"$f":"IF('Limestone Plant (LP-7)'!$D$4>3,\"County:\",\"\")","v":""},null,null,{"$f":"IF(G70=\"\",\"\",\"LP-7 EP-1\")","v":""},{"$f":"IF(G70=\"\",\"\",IF(G70=\"primary crusher\",\"LP-7 EU-1\",IF(G70=\"screening\",\"LP-7 EU-2\",IF(G70=\"secondary crusher\",\"LP-7 EU-3\",IF(G70=\"tertiary crusher\",\"LP-7 EU-4\",IF(G70=\"fines crushing\",\"LP-7 EU-5\",IF(G70=\"fines screening\",\"LP-7 EU-6\",IF(G70=\"wet drilling: unfragmented stone\",\"LP-7 EU-7\",IF(G70=\"conveyor transfer points\",\"LP-7 EU-8\")))))))))","v":""},null,null,null,{"$f":"IF($C$72=\"no\",I70,0)","v":0},{"$f":"IF($C$72=\"yes\",I70,0)","v":0}]
[null,{"$f":"IF('Limestone Plant (LP-7)'!$D$4>3,\"Crushing Period (Dates):\",\"\")","v":""},null,null,"","",null,null,null,0,0]
[null,{"$f":"IF('Limestone Plant (LP-7)'!$D$4>3,\"Controlled with Dust Suppressant or Material Being Processed has Moisture Content > 1.5%?\",\"\")","v":""},null,null,"","",null,null,null,0,0]
[null,null,null,null,"","",null,null,null,0,0]
[null,null,null,null,"","",null,null,null,0,0]
[null,null,null,null,"","",null,null,null,0,0]
[null,null,null,null,"","",null,null,null,0,0]
[]
[null,null,null,null,{"$f":"IF('Limestone Plant (LP-7)'!$D$4>3,\"Stock Pile Area\",\"\")","v":""}]
[null,null,null,null,null,{"$f":"IF('Limestone Plant (LP-7)'!$D$4>3,\"Emission Unit #\",\"\")","v":""},{"$f":"IF('Limestone Plant (LP-7)'!$D$4>3,\"Maximum Storage Area (acres)\",\"\")","v":""},{"$f":"IF('Limestone Plant (LP-7)'!$D$4>3,\"Actual Storage Area (acres)\",\"\")","v":""},{"$f":"IF('Limestone Plant (LP-7)'!$D$4>3,\"Actual Days in Existence (days)\",\"\")","v":""}]
[]
[]
[]
[null,{"$f":"IF('Limestone Plant (LP-7)'!$D$4>4,\"CRUSHER PLANT\",\"\")","v":""},{"$f":"IF('Limestone Plant (LP-7)'!$D$4>4,\"Site 5\",\"\")","v":""},null,{"$f":"IF('Limestone Plant (LP-7)'!$D$4>4,\"Emission Point #\",\"\")","v":""},{"$f":"IF('Limestone Plant (LP-7)'!$D$4>4,\"Emission    Unit #\",\"\")","v":""},{"$f":"IF('Limestone Plant (LP-7)'!$D$4>4,\"Processes\",\"\")","v":""},{"$f":"IF('Limestone Plant (LP-7)'!$D$4>4,\"Combined Maximum Hourly Design Rate for all Like Processes (tons/hr)\",\"\")","v":""},{"$f":"IF('Limestone Plant (LP-7)'!$D$4>4,('Facility Information'!G5&\" Annual Throughput (tons)\"),\"\")","v":""}]
[]
[null,{"$f":"IF('Limestone Plant (LP-7)'!$D$4>4,\"Site Name:\",\"\")","v":""},null,null,{"$f":"IF(G85=\"\",\"\",\"LP-7 EP-1\")","v":""},{"$f":"IF(G85=\"\",\"\",IF(G85=\"primary crusher\",\"LP-7 EU-1\",IF(G85=\"screening\",\"LP-7 EU-2\",IF(G85=\"secondary crusher\",\"LP-7 EU-3\",IF(G85=\"tertiary crusher\",\"LP-7 EU-4\",IF(G85=\"fines crushing\",\"LP-7 EU-5\",IF(G85=\"fines screening\",\"LP-7 EU-6\",IF(G85=\"wet drilling: unfragmented stone\",\"LP-7 EU-7\",IF(G85=\"conveyor transfer points\",\"LP-7 EU-8\")))))))))","v":""},null,null,null,{"$f":"IF($C$88=\"no\",I85,0)","v":0},{"$f":"IF($C$88=\"yes\",I85,0)","v":0}]
[null,{"$f":"IF('Limestone Plant (LP-7)'!$D$4>4,\"County:\",\"\")","v":""},null,null,{"$f":"IF(G86=\"\",\"\",\"LP-7 EP-1\")","v":""},{"$f":"IF(G86=\"\",\"\",IF(G86=\"primary crusher\",\"LP-7 EU-1\",IF(G86=\"screening\",\"LP-7 EU-2\",IF(G86=\"secondary crusher\",\"LP-7 EU-3\",IF(G86=\"tertiary crusher\",\"LP-7 EU-4\",IF(G86=\"fines crushing\",\"LP-7 EU-5\",IF(G86=\"fines screening\",\"LP-7 EU-6\",IF(G86=\"wet drilling: unfragmented stone\",\"LP-7 EU-7\",IF(G86=\"conveyor transfer points\",\"LP-7 EU-8\")))))))))","v":""},null,null,null,{"$f":"IF($C$88=\"no\",I86,0)","v":0},{"$f":"IF($C$88=\"yes\",I86,0)","v":0}]
[null,{"$f":"IF('Limestone Plant (LP-7)'!$D$4>4,\"Crushing Period (Dates):\",\"\")","v":""},null,null,"","",null,null,null,0,0]
[null,{"$f":"IF('Limestone Plant (LP-7)'!$D$4>4,\"Controlled with Dust Suppressant or Material Being Processed has Moisture Content > 1.5%?\",\"\")","v":""},null,null,"","",null,null,null,0,0]
[null,null,null,null,"","",null,null,null,0,0]
[null,null,null,null,"","",null,null,null,0,0]
[null,null,null,null,"","",null,null,null,0,0]
[null,null,null,null,"","",null,null,null,0,0]
[]
[null,null,null,null,{"$f":"IF('Limestone Plant (LP-7)'!$D$4>4,\"Stock Pile Area\",\"\")","v":""}]
[null,null,null,null,null,{"$f":"IF('Limestone Plant (LP-7)'!$D$4>4,\"Emission Unit #\",\"\")","v":""},{"$f":"IF('Limestone Plant (LP-7)'!$D$4>4,\"Maximum Storage Area (acres)\",\"\")","v":""},{"$f":"IF('Limestone Plant (LP-7)'!$D$4>4,\"Actual Storage Area (acres)\",\"\")","v":""},{"$f":"IF('Limestone Plant (LP-7)'!$D$4>4,\"Actual Days in Existence (days)\",\"\")","v":""}]
[]
[]
[]
[null,{"$f":"IF('Limestone Plant (LP-7)'!$D$4>5,\"CRUSHER PLANT\",\"\")","v":""},{"$f":"IF('Limestone Plant (LP-7)'!$D$4>5,\"Site 6\",\"\")","v":""},null,{"$f":"IF('Limestone Plant (LP-7)'!$D$4>5,\"Emission Point #\",\"\")","v":""},{"$f":"IF('Limestone Plant (LP-7)'!$D$4>5,\"Emission    Unit #\",\"\")","v":""},{"$f":"IF('Limestone Plant (LP-7)'!$D$4>5,\"Processes\",\"\")","v":""},{"$f":"IF('Limestone Plant (LP-7)'!$D$4>5,\"Combined Maximum Hourly Design Rate for all Like Processes (tons/hr)\",\"\")","v":""},{"$f":"IF('Limestone Plant (LP-7)'!$D$4>5,('Facility Information'!G5&\" Annual Throughput (tons)\"),\"\")","v":""}]
[]
[null,{"$f":"IF('Limestone Plant (LP-7)'!$D$4>5,\"Site Name:\",\"\")","v":""},null,null,{"$f":"IF(G101=\"\",\"\",\"LP-7 EP-1\")","v":""},{"$f":"IF(G101=\"\",\"\",IF(G101=\"primary crusher\",\"LP-7 EU-1\",IF(G101=\"screening\",\"LP-7 EU-2\",IF(G101=\"secondary crusher\",\"LP-7 EU-3\",IF(G101=\"tertiary crusher\",\"LP-7 EU-4\",IF(G101=\"fines crushing\",\"LP-7 EU-5\",IF(G101=\"fines screening\",\"LP-7 EU-6\",IF(G101=\"wet drilling: unfragmented stone\",\"LP-7 EU-7\",IF(G101=\"conveyor transfer points\",\"LP-7 EU-8\")))))))))","v":""},null,null,null,{"$f":"IF($C$104=\"no\",I101,0)","v":0},{"$f":"IF($C$104=\"yes\",I101,0)","v":0}]
[null,{"$f":"IF('Limestone Plant (LP-7)'!$D$4>5,\"County:\",\"\")","v":""},null,null,{"$f":"IF(G102=\"\",\"\",\"LP-7 EP-1\")","v":""},{"$f":"IF(G102=\"\",\"\",IF(G102=\"primary crusher\",\"LP-7 EU-1\",IF(G102=\"screening\",\"LP-7 EU-2\",IF(G102=\"secondary crusher\",\"LP-7 EU-3\",IF(G102=\"tertiary crusher\",\"LP-7 EU-4\",IF(G102=\"fines crushing\",\"LP-7 EU-5\",IF(G102=\"fines screening\",\"LP-7 EU-6\",IF(G102=\"wet drilling: unfragmented stone\",\"LP-7 EU-7\",IF(G102=\"conveyor transfer points\",\"LP-7 EU-8\")))))))))","v":""},null,null,null,{"$f":"IF($C$104=\"no\",I102,0)","v":0},{"$f":"IF($C$104=\"yes\",I102,0)","v":0}]
[null,{"$f":"IF('Limestone Plant (LP-7)'!$D$4>5,\"Crushing Period (Dates):\",\"\")","v":""},null,null,"","",null,null,null,0,0]
[null,{"$f":"IF('Limestone Plant (LP-7)'!$D$4>5,\"Controlled with Dust Suppressant or Material Being Processed has Moisture Content > 1.5%?\",\"\")","v":""},null,null,"","",null,null,null,0,0]
[null,null,null,null,"","",null,null,null,0,0]
[null,null,null,null,"","",null,null,null,0,0]
[null,null,null,null,"","",null,null,null,0,0]
[null,null,null,null,"","",null,null,null,0,0]
[]
[null,null,null,null,{"$f":"IF('Limestone Plant (LP-7)'!$D$4>5,\"Stock Pile Area\",\"\")","v":""}]
[null,null,null,null,null,{"$f":"IF('Limestone Plant (LP-7)'!$D$4>5,\"Emission Unit #\",\"\")","v":""},{"$f":"IF('Limestone Plant (LP-7)'!$D$4>5,\"Maximum Storage Area (acres)\",\"\")","v":""},{"$f":"IF('Limestone Plant (LP-7)'!$D$4>5,\"Actual Storage Area (acres)\",\"\")","v":""},{"$f":"IF('Limestone Plant (LP-7)'!$D$4>5,\"Actual Days in Existence (days)\",\"\")","v":""}]
[]
[]
[]
[null,{"$f":"IF('Limestone Plant (LP-7)'!$D$4>6,\"CRUSHER PLANT\",\"\")","v":""},{"$f":"IF('Limestone Plant (LP-7)'!$D$4>6,\"Site 7\",\"\")","v":""},null,{"$f":"IF('Limestone Plant (LP-7)'!$D$4>6,\"Emission Point #\",\"\")","v":""},{"$f":"IF('Limestone Plant (LP-7)'!$D$4>6,\"Emission    Unit #\",\"\")","v":""},{"$f":"IF('Limestone Plant (LP-7)'!$D$4>6,\"Processes\",\"\")","v":""},{"$f":"IF('Limestone Plant (LP-7)'!$D$4>6,\"Combined Maximum Hourly Design Rate for all Like Processes (tons/hr)\",\"\")","v":""},{"$f":"IF('Limestone Plant (LP-7)'!$D$4>6,('Facility Information'!G5&\" Annual Throughput (tons)\"),\"\")","v":""}]
[]
[null,{"$f":"IF('Limestone Plant (LP-7)'!$D$4>6,\"Site Name:\",\"\")","v":""},null,null,{"$f":"IF(G117=\"\",\"\",\"LP-7 EP-1\")","v":""},{"$f":"IF(G117=\"\",\"\",IF(G117=\"primary crusher\",\"LP-7 EU-1\",IF(G117=\"screening\",\"LP-7 EU-2\",IF(G117=\"secondary crusher\",\"LP-7 EU-3\",IF(G117=\"tertiary crusher\",\"LP-7 EU-4\",IF(G117=\"fines crushing\",\"LP-7 EU-5\",IF(G117=\"fines screening\",\"LP-7 EU-6\",IF(G117=\"wet drilling: unfragmented stone\",\"LP-7 EU-7\",IF(G117=\"conveyor transfer points\",\"LP-7 EU-8\")))))))))","v":""},null,null,null,{"$f":"IF($C$120=\"no\",I117,0)","v":0},{"$f":"IF($C$120=\"yes\",I117,0)","v":0}]
[null,{"$f":"IF('Limestone Plant (LP-7)'!$D$4>6,\"County:\",\"\")","v":""},null,null,{"$f":"IF(G118=\"\",\"\",\"LP-7 EP-1\")","v":""},{"$f":"IF(G118=\"\",\"\",IF(G118=\"primary crusher\",\"LP-7 EU-1\",IF(G118=\"screening\",\"LP-7 EU-2\",IF(G118=\"secondary crusher\",\"LP-7 EU-3\",IF(G118=\"tertiary crusher\",\"LP-7 EU-4\",IF(G118=\"fines crushing\",\"LP-7 EU-5\",IF(G118=\"fines screening\",\"LP-7 EU-6\",IF(G118=\"wet drilling: unfragmented stone\",\"LP-7 EU-7\",IF(G118=\"conveyor transfer points\",\"LP-7 EU-8\")))))))))","v":""},null,null,null,{"$f":"IF($C$120=\"no\",I118,0)","v":0},{"$f":"IF($C$120=\"yes\",I118,0)","v":0}]
[null,{"$f":"IF('Limestone Plant (LP-7)'!$D$4>6,\"Crushing Period (Dates):\",\"\")","v":""},null,null,"","",null,null,null,0,0]
[null,{"$f":"IF('Limestone Plant (LP-7)'!$D$4>6,\"Controlled with Dust Suppressant or Material Being Processed has Moisture Content > 1.5%?\",\"\")","v":""},null,null,"","",null,null,null,0,0]
[null,null,null,null,"","",null,null,null,0,0]
[null,null,null,null,"","",null,null,null,0,0]
[null,null,null,null,"","",null,null,null,0,0]
[null,null,null,null,"","",null,null,null,0,0]
[]
[null,null,null,null,{"$f":"IF('Limestone Plant (LP-7)'!$D$4>6,\"Stock Pile Area\",\"\")","v":""}]
[null,null,null,null,null,{"$f":"IF('Limestone Plant (LP-7)'!$D$4>6,\"Emission Unit #\",\"\")","v":""},{"$f":"IF('Limestone Plant (LP-7)'!$D$4>6,\"Maximum Storage Area (acres)\",\"\")","v":""},{"$f":"IF('Limestone Plant (LP-7)'!$D$4>6,\"Actual Storage Area (acres)\",\"\")","v":""},{"$f":"IF('Limestone Plant (LP-7)'!$D$4>6,\"Actual Days in Existence (days)\",\"\")","v":""}]
[]
[]
[]
[null,{"$f":"IF('Limestone Plant (LP-7)'!$D$4>7,\"CRUSHER PLANT\",\"\")","v":""},{"$f":"IF('Limestone Plant (LP-7)'!$D$4>7,\"Site 8\",\"\")","v":""},null,{"$f":"IF('Limestone Plant (LP-7)'!$D$4>7,\"Emission Point #\",\"\")","v":""},{"$f":"IF('Limestone Plant (LP-7)'!$D$4>7,\"Emission    Unit #\",\"\")","v":""},{"$f":"IF('Limestone Plant (LP-7)'!$D$4>7,\"Processes\",\"\")","v":""},{"$f":"IF('Limestone Plant (LP-7)'!$D$4>7,\"Combined Maximum Hourly Design Rate for all Like Processes (tons/hr)\",\"\")","v":""},{"$f":"IF('Limestone Plant (LP-7)'!$D$4>7,('Facility Information'!G5&\" Annual Throughput (tons)\"),\"\")","v":""}]
[]
[null,{"$f":"IF('Limestone Plant (LP-7)'!$D$4>7,\"Site Name:\",\"\")","v":""},null,null,{"$f":"IF(G133=\"\",\"\",\"LP-7 EP-1\")","v":""},{"$f":"IF(G133=\"\",\"\",IF(G133=\"primary crusher\",\"LP-7 EU-1\",IF(G133=\"screening\",\"LP-7 EU-2\",IF(G133=\"secondary crusher\",\"LP-7 EU-3\",IF(G133=\"tertiary crusher\",\"LP-7 EU-4\",IF(G133=\"fines crushing\",\"LP-7 EU-5\",IF(G133=\"fines screening\",\"LP-7 EU-6\",IF(G133=\"wet drilling: unfragmented stone\",\"LP-7 EU-7\",IF(G133=\"conveyor transfer points\",\"LP-7 EU-8\")))))))))","v":""},null,null,null,{"$f":"IF($C$136=\"no\",I133,0)","v":0},{"$f":"IF($C$136=\"yes\",I133,0)","v":0}]
[null,{"$f":"IF('Limestone Plant (LP-7)'!$D$4>7,\"County:\",\"\")","v":""},null,null,{"$f":"IF(G134=\"\",\"\",\"LP-7 EP-1\")","v":""},{"$f":"IF(G134=\"\",\"\",IF(G134=\"primary crusher\",\"LP-7 EU-1\",IF(G134=\"screening\",\"LP-7 EU-2\",IF(G134=\"secondary crusher\",\"LP-7 EU-3\",IF(G134=\"tertiary crusher\",\"LP-7 EU-4\",IF(G134=\"fines crushing\",\"LP-7 EU-5\",IF(G134=\"fines screening\",\"LP-7 EU-6\",IF(G134=\"wet drilling: unfragmented stone\",\"LP-7 EU-7\",IF(G134=\"conveyor transfer points\",\"LP-7 EU-8\")))))))))","v":""},null,null,null,{"$f":"IF($C$136=\"no\",I134,0)","v":0},{"$f":"IF($C$136=\"yes\",I134,0)","v":0}]
[null,{"$f":"IF('Limestone Plant (LP-7)'!$D$4>7,\"Crushing Period (Dates):\",\"\")","v":""},null,null,"","",null,null,null,0,0]
[null,{"$f":"IF('Limestone Plant (LP-7)'!$D$4>7,\"Controlled with Dust Suppressant or Material Being Processed has Moisture Content > 1.5%?\",\"\")","v":""},null,null,"","",null,null,null,0,0]
[null,null,null,null,"","",null,null,null,0,0]
[null,null,null,null,"","",null,null,null,0,0]
[null,null,null,null,"","",null,null,null,0,0]
[null,null,null,null,"","",null,null,null,0,0]
[]
[null,null,null,null,{"$f":"IF('Limestone Plant (LP-7)'!$D$4>7,\"Stock Pile Area\",\"\")","v":""}]
[null,null,null,null,null,{"$f":"IF('Limestone Plant (LP-7)'!$D$4>7,\"Emission Unit #\",\"\")","v":""},{"$f":"IF('Limestone Plant (LP-7)'!$D$4>7,\"Maximum Storage Area (acres)\",\"\")","v":""},{"$f":"IF('Limestone Plant (LP-7)'!$D$4>7,\"Actual Storage Area (acres)\",\"\")","v":""},{"$f":"IF('Limestone Plant (LP-7)'!$D$4>7,\"Actual Days in Existence (days)\",\"\")","v":""}]
[]
[]
[]
[null,{"$f":"IF('Limestone Plant (LP-7)'!$D$4>8,\"CRUSHER PLANT\",\"\")","v":""},{"$f":"IF('Limestone Plant (LP-7)'!$D$4>8,\"Site 9\",\"\")","v":""},null,{"$f":"IF('Limestone Plant (LP-7)'!$D$4>8,\"Emission Point #\",\"\")","v":""},{"$f":"IF('Limestone Plant (LP-7)'!$D$4>8,\"Emission    Unit #\",\"\")","v":""},{"$f":"IF('Limestone Plant (LP-7)'!$D$4>8,\"Processes\",\"\")","v":""},{"$f":"IF('Limestone Plant (LP-7)'!$D$4>8,\"Combined Maximum Hourly Design Rate for all Like Processes (tons/hr)\",\"\")","v":""},{"$f":"IF('Limestone Plant (LP-7)'!$D$4>8,('Facility Information'!G5&\" Annual Throughput (tons)\"),\"\")","v":""}]
[]
[null,{"$f":"IF('Limestone Plant (LP-7)'!$D$4>8,\"Site Name:\",\"\")","v":""},null,null,{"$f":"IF(G149=\"\",\"\",\"LP-7 EP-1\")","v":""},{"$f":"IF(G149=\"\",\"\",IF(G149=\"primary crusher\",\"LP-7 EU-1\",IF(G149=\"screening\",\"LP-7 EU-2\",IF(G149=\"secondary crusher\",\"LP-7 EU-3\",IF(G149=\"tertiary crusher\",\"LP-7 EU-4\",IF(G149=\"fines crushing\",\"LP-7 EU-5\",IF(G149=\"fines screening\",\"LP-7 EU-6\",IF(G149=\"wet drilling: unfragmented stone\",\"LP-7 EU-7\",IF(G149=\"conveyor transfer points\",\"LP-7 EU-8\")))))))))","v":""},null,null,null,{"$f":"IF($C$152=\"no\",I149,0)","v":0},{"$f":"IF($C$152=\"yes\",I149,0)","v":0}]
[null,{"$f":"IF('Limestone Plant (LP-7)'!$D$4>8,\"County:\",\"\")","v":""},null,null,{"$f":"IF(G150=\"\",\"\",\"LP-7 EP-1\")","v":""},{"$f":"IF(G150=\"\",\"\",IF(G150=\"primary crusher\",\"LP-7 EU-1\",IF(G150=\"screening\",\"LP-7 EU-2\",IF(G150=\"secondary crusher\",\"LP-7 EU-3\",IF(G150=\"tertiary crusher\",\"LP-7 EU-4\",IF(G150=\"fines crushing\",\"LP-7 EU-5\",IF(G150=\"fines screening\",\"LP-7 EU-6\",IF(G150=\"wet drilling: unfragmented stone\",\"LP-7 EU-7\",IF(G150=\"conveyor transfer points\",\"LP-7 EU-8\")))))))))","v":""},null,null,null,{"$f":"IF($C$152=\"no\",I150,0)","v":0},{"$f":"IF($C$152=\"yes\",I150,0)","v":0}]
[null,{"$f":"IF('Limestone Plant (LP-7)'!$D$4>8,\"Crushing Period (Dates):\",\"\")","v":""},null,null,"","",null,null,null,0,0]
[null,{"$f":"IF('Limestone Plant (LP-7)'!$D$4>8,\"Controlled with Dust Suppressant or Material Being Processed has Moisture Content > 1.5%?\",\"\")","v":""},null,null,"","",null,null,null,0,0]
[null,null,null,null,"","",null,null,null,0,0]
[null,null,null,null,"","",null,null,null,0,0]
[null,null,null,null,"","",null,null,null,0,0]
[null,null,null,null,"","",null,null,null,0,0]
[]
[null,null,null,null,{"$f":"IF('Limestone Plant (LP-7)'!$D$4>8,\"Stock Pile Area\",\"\")","v":""}]
[null,null,null,null,null,{"$f":"IF('Limestone Plant (LP-7)'!$D$4>8,\"Emission Unit #\",\"\")","v":""},{"$f":"IF('Limestone Plant (LP-7)'!$D$4>8,\"Maximum Storage Area (acres)\",\"\")","v":""},{"$f":"IF('Limestone Plant (LP-7)'!$D$4>8,\"Actual Storage Area (acres)\",\"\")","v":""},{"$f":"IF('Limestone Plant (LP-7)'!$D$4>8,\"Actual Days in Existence (days)\",\"\")","v":""}]
[]
[]
[]
[null,{"$f":"IF('Limestone Plant (LP-7)'!$D$4>9,\"CRUSHER PLANT\",\"\")","v":""},{"$f":"IF('Limestone Plant (LP-7)'!$D$4>9,\"Site 10\",\"\")","v":""},null,{"$f":"IF('Limestone Plant (LP-7)'!$D$4>9,\"Emission Point #\",\"\")","v":""},{"$f":"IF('Limestone Plant (LP-7)'!$D$4>9,\"Emission    Unit #\",\"\")","v":""},{"$f":"IF('Limestone Plant (LP-7)'!$D$4>9,\"Processes\",\"\")","v":""},{"$f":"IF('Limestone Plant (LP-7)'!$D$4>9,\"Combined Maximum Hourly Design Rate for all Like Processes (tons/hr)\",\"\")","v":""},{"$f":"IF('Limestone Plant (LP-7)'!$D$4>9,('Facility Information'!G5&\" Annual Throughput (tons)\"),\"\")","v":""}]
[]
[null,{"$f":"IF('Limestone Plant (LP-7)'!$D$4>9,\"Site Name:\",\"\")","v":""},null,null,{"$f":"IF(G165=\"\",\"\",\"LP-7 EP-1\")","v":""},{"$f":"IF(G165=\"\",\"\",IF(G165=\"primary crusher\",\"LP-7 EU-1\",IF(G165=\"screening\",\"LP-7 EU-2\",IF(G165=\"secondary crusher\",\"LP-7 EU-3\",IF(G165=\"tertiary crusher\",\"LP-7 EU-4\",IF(G165=\"fines crushing\",\"LP-7 EU-5\",IF(G165=\"fines screening\",\"LP-7 EU-6\",IF(G165=\"wet drilling: unfragmented stone\",\"LP-7 EU-7\",IF(G165=\"conveyor transfer points\",\"LP-7 EU-8\")))))))))","v":""},null,null,null,{"$f":"IF($C168=\"no\",I165,0)","v":0}]
[null,{"$f":"IF('Limestone Plant (LP-7)'!$D$4>9,\"County:\",\"\")","v":""},null,null,{"$f":"IF(G166=\"\",\"\",\"LP-7 EP-1\")","v":""},{"$f":"IF(G166=\"\",\"\",IF(G166=\"primary crusher\",\"LP-7 EU-1\",IF(G166=\"screening\",\"LP-7 EU-2\",IF(G166=\"secondary crusher\",\"LP-7 EU-3\",IF(G166=\"tertiary crusher\",\"LP-7 EU-4\",IF(G166=\"fines crushing\",\"LP-7 EU-5\",IF(G166=\"fines screening\",\"LP-7 EU-6\",IF(G166=\"wet drilling: unfragmented stone\",\"LP-7 EU-7\",IF(G166=\"conveyor transfer points\",\"LP-7 EU-8\")))))))))","v":""}]
[null,{"$f":"IF('Limestone Plant (LP-7)'!$D$4>9,\"Crushing Period (Dates):\",\"\")","v":""},null,null,"",""]
[null,{"$f":"IF('Limestone Plant (LP-7)'!$D$4>9,\"Controlled with Dust Suppressant or Material Being Processed has Moisture Content > 1.5%?\",\"\")","v":""},null,null,"",""]
[null,null,null,null,"",""]
[null,null,null,null,"",""]
[null,null,null,null,"",""]
[null,null,null,null,"",""]
[]
[null,null,null,null,{"$f":"IF('Limestone Plant (LP-7)'!$D$4>9,\"Stock Pile Area\",\"\")","v":""}]
[null,null,null,null,null,{"$f":"IF('Limestone Plant (LP-7)'!$D$4>9,\"Emission Unit #\",\"\")","v":""},{"$f":"IF('Limestone Plant (LP-7)'!$D$4>9,\"Maximum Storage Area (acres)\",\"\")","v":""},{"$f":"IF('Limestone Plant (LP-7)'!$D$4>9,\"Actual Storage Area (acres)\",\"\")","v":""},{"$f":"IF('Limestone Plant (LP-7)'!$D$4>9,\"Actual Days in Existence (days)\",\"\")","v":""}]

{"sheet":"Limestone Plant (LP-8)","index":8,"n_rows":175,"n_cols":19,"rows_kept":175,"cut":false,"hidden":true,"merged":[[167,1,169,1],[167,2,169,2],[119,1,121,1],[119,2,121,2],[135,1,137,1],[135,2,137,2],[151,2,153,2],[151,1,153,1],[71,1,73,1],[71,2,73,2],[87,2,89,2],[87,1,89,1],[103,1,105,1],[103,2,105,2],[23,1,25,1],[23,2,25,2],[39,1,41,1],[39,2,41,2],[55,1,57,1],[55,2,57,2],[162,4,163,4],[162,6,163,6],[162,7,163,7],[162,8,163,8],[130,4,131,4],[130,6,131,6],[130,7,131,7],[130,8,131,8],[146,4,147,4],[146,6,147,6],[146,7,147,7],[146,8,147,8],[130,5,131,5],[146,5,147,5],[162,5,163,5],[98,4,99,4],[98,6,99,6],[98,7,99,7],[98,8,99,8],[114,4,115,4],[114,6,115,6],[114,7,115,7],[114,8,115,8],[98,5,99,5],[114,5,115,5],[66,4,67,4],[66,6,67,6],[66,7,67,7],[66,8,67,8],[82,4,83,4],[82,6,83,6],[82,7,83,7],[82,8,83,8],[66,5,67,5],[82,5,83,5],[48,3,48,4],[50,4,51,4],[50,6,51,6],[50,7,51,7],[50,8,51,8],[50,5,51,5],[37,14,38,14],[37,15,38,15],[37,16,38,16],[37,17,38,17],[37,18,38,18],[34,4,35,4],[34,6,35,6],[34,7,35,7],[34,8,35,8],[37,13,38,13],[34,5,35,5],[17,16,18,16],[17,17,18,17],[17,18,18,18],[18,4,19,4],[18,6,19,6],[18,7,19,7],[18,8,19,8],[17,13,18,13],[17,14,18,14],[17,15,18,15],[18,5,19,5],[2,13,3,13],[2,14,3,14],[2,18,3,18],[3,1,3,2],[3,3,3,4],[11,1,13,2],[0,1,0,2],[1,1,1,2],[1,7,1,8],[2,12,3,12]]}
[null,"LIMESTONE CRUSHING PLANT (LP-8)"]
[null,"Please fill in the yellow boxes as applicable for your facility. ",null,null,null,null,null,"Values used for calculating emissions →",null,null,null,null,"Values Used to Calculate Actual Emissions for the Listed Processes at this Plant"]
[null,null,null,null,null,null,null,null,null,null,null,null,"Process","Maximum Design Rate (tons/hr)","Actual throughput w/o wet supression (tons/yr)",null,null,null,"Actual throughtput w/ wet supression (tons/yr)"]
[null,{"$f":"\"Number of Sites this Plant operated at in \"&'Facility Information'!G5&\":\"","v":"Number of Sites this Plant operated at in :"},null,null,null,null,null,null,null,null,null,null,null,null,null,null,"** As of 2016 Potential Emissions are no longer required to be reported in the Minor Source Emissions Inventory**"]
[null,null,null,null,null,null,null,null,null,null,null,null,"Primary Crusher",{"$f":"MAX((IFERROR(OFFSET($G$20,MATCH(\"primary crusher\",$G$21:$G$28,0),1),0)),((IFERROR((OFFSET($G$36,MATCH(\"primary crusher\",$G$37:$G$44,0),1)),0))),((IFERROR((OFFSET($G$52,MATCH(\"primary crusher\",$G$53:$G$60,0),1)),0))),((IFERROR((OFFSET($G$68,MATCH(\"primary crusher\",$G$69:$G$76,0),1)),0))),((IFERROR((OFFSET($G$84,MATCH(\"primary crusher\",$G$85:$G$92,0),1)),0))),((IFERROR((OFFSET($G$100,MATCH(\"primary crusher\",$G$101:$G$108,0),1)),0))),((IFERROR((OFFSET($G$116,MATCH(\"primary crusher\",$G$117:$G$124,0),1)),0))),((IFERROR((OFFSET($G$132,MATCH(\"primary crusher\",$G$133:$G$140,0),1)),0))),((IFERROR((OFFSET($G$148,MATCH(\"primary crusher\",$G$149:$G$156,0),1)),0))),((IFERROR((OFFSET($G$163,MATCH(\"primary crusher\",$G$165:$G$172,0),1)),0))))","v":0},{"$f":"SUM((IFERROR(OFFSET($G$20,MATCH(\"primary crusher\",$G$21:$G$28,0),3),0)),((IFERROR((OFFSET($G$36,MATCH(\"primary crusher\",$G$37:$G$44,0),3)),0))),((IFERROR((OFFSET($G$52,MATCH(\"primary crusher\",$G$53:$G$60,0),3)),0))),((IFERROR((OFFSET($G$68,MATCH(\"primary crusher\",$G$69:$G$76,0),3)),0))),((IFERROR((OFFSET($G$84,MATCH(\"primary crusher\",$G$85:$G$92,0),3)),0))),((IFERROR((OFFSET($G$100,MATCH(\"primary crusher\",$G$101:$G$108,0),3)),0))),((IFERROR((OFFSET($G$116,MATCH(\"primary crusher\",$G$117:$G$124,0),3)),0))),((IFERROR((OFFSET($G$132,MATCH(\"primary crusher\",$G$133:$G$140,0),3)),0))),((IFERROR((OFFSET($G$148,MATCH(\"primary crusher\",$G$149:$G$156,0),3)),0))),((IFERROR((OFFSET($G$163,MATCH(\"primary crusher\",$G$165:$G$172,0),3)),0))))","v":0},null,null,null,{"$f":"SUM((IFERROR(OFFSET($G$20,MATCH(\"primary crusher\",$G$21:$G$28,0),4),0)),((IFERROR((OFFSET($G$36,MATCH(\"primary crusher\",$G$37:$G$44,0),4)),0))),((IFERROR((OFFSET($G$52,MATCH(\"primary crusher\",$G$53:$G$60,0),4)),0))),((IFERROR((OFFSET($G$68,MATCH(\"primary crusher\",$G$69:$G$76,0),4)),0))),((IFERROR((OFFSET($G$84,MATCH(\"primary crusher\",$G$85:$G$92,0),4)),0))),((IFERROR((OFFSET($G$100,MATCH(\"primary crusher\",$G$101:$G$108,0),4)),0))),((IFERROR((OFFSET($G$116,MATCH(\"primary crusher\",$G$117:$G$124,0),4)),0))),((IFERROR((OFFSET($G$132,MATCH(\"primary crusher\",$G$133:$G$140,0),4)),0))),((IFERROR((OFFSET($G$148,MATCH(\"primary crusher\",$G$149:$G$156,0),4)),0))),((IFERROR((OFFSET($G$163,MATCH(\"primary crusher\",$G$165:$G$172,0),4)),0))))","v":0}]
[null,"Plant Specific Permit Number: ",null,null,null,null,null,null,null,null,null,null,"Screening",{"$f":"MAX((IFERROR(OFFSET($G$20,MATCH(\"screening\",$G$21:$G$28,0),1),0)),((IFERROR((OFFSET($G$36,MATCH(\"screening\",$G$37:$G$44,0),1)),0))),((IFERROR((OFFSET($G$52,MATCH(\"screening\",$G$53:$G$60,0),1)),0))),((IFERROR((OFFSET($G$68,MATCH(\"screening\",$G$69:$G$76,0),1)),0))),((IFERROR((OFFSET($G$84,MATCH(\"screening\",$G$85:$G$92,0),1)),0))),((IFERROR((OFFSET($G$100,MATCH(\"screening\",$G$101:$G$108,0),1)),0))),((IFERROR((OFFSET($G$116,MATCH(\"screening\",$G$117:$G$124,0),1)),0))),((IFERROR((OFFSET($G$132,MATCH(\"screening\",$G$133:$G$140,0),1)),0))),((IFERROR((OFFSET($G$148,MATCH(\"screening\",$G$149:$G$156,0),1)),0))),((IFERROR((OFFSET($G$163,MATCH(\"screening\",$G$165:$G$172,0),1)),0))))","v":0},{"$f":"SUM((IFERROR(OFFSET($G$20,MATCH(\"screening\",$G$21:$G$28,0),3),0)),((IFERROR((OFFSET($G$36,MATCH(\"screening\",$G$37:$G$44,0),3)),0))),((IFERROR((OFFSET($G$52,MATCH(\"screening\",$G$53:$G$60,0),3)),0))),((IFERROR((OFFSET($G$68,MATCH(\"screening\",$G$69:$G$76,0),3)),0))),((IFERROR((OFFSET($G$84,MATCH(\"screening\",$G$85:$G$92,0),3)),0))),((IFERROR((OFFSET($G$100,MATCH(\"screening\",$G$101:$G$108,0),3)),0))),((IFERROR((OFFSET($G$116,MATCH(\"screening\",$G$117:$G$124,0),3)),0))),((IFERROR((OFFSET($G$132,MATCH(\"screening\",$G$133:$G$140,0),3)),0))),((IFERROR((OFFSET($G$148,MATCH(\"screening\",$G$149:$G$156,0),3)),0))),((IFERROR((OFFSET($G$163,MATCH(\"screening\",$G$165:$G$172,0),3)),0))))","v":0},null,null,null,{"$f":"SUM((IFERROR(OFFSET($G$20,MATCH(\"screening\",$G$21:$G$28,0),4),0)),((IFERROR((OFFSET($G$36,MATCH(\"screening\",$G$37:$G$44,0),4)),0))),((IFERROR((OFFSET($G$52,MATCH(\"screening\",$G$53:$G$60,0),4)),0))),((IFERROR((OFFSET($G$68,MATCH(\"screening\",$G$69:$G$76,0),4)),0))),((IFERROR((OFFSET($G$84,MATCH(\"screening\",$G$85:$G$92,0),4)),0))),((IFERROR((OFFSET($G$100,MATCH(\"screening\",$G$101:$G$108,0),4)),0))),((IFERROR((OFFSET($G$116,MATCH(\"screening\",$G$117:$G$124,0),4)),0))),((IFERROR((OFFSET($G$132,MATCH(\"screening\",$G$133:$G$140,0),4)),0))),((IFERROR((OFFSET($G$148,MATCH(\"screening\",$G$149:$G$156,0),4)),0))),((IFERROR((OFFSET($G$163,MATCH(\"screening\",$G$165:$G$172,0),4)),0))))","v":0}]
[null,null,null,null,null,null,null,null,null,null,null,null,"Secondary Crusher",{"$f":"MAX((IFERROR(OFFSET($G$20,MATCH(\"secondary crusher\",$G$21:$G$28,0),1),0)),((IFERROR((OFFSET($G$36,MATCH(\"secondary crusher\",$G$37:$G$44,0),1)),0))),((IFERROR((OFFSET($G$52,MATCH(\"secondary crusher\",$G$53:$G$60,0),1)),0))),((IFERROR((OFFSET($G$68,MATCH(\"secondary crusher\",$G$69:$G$76,0),1)),0))),((IFERROR((OFFSET($G$84,MATCH(\"secondary crusher\",$G$85:$G$92,0),1)),0))),((IFERROR((OFFSET($G$100,MATCH(\"secondary crusher\",$G$101:$G$108,0),1)),0))),((IFERROR((OFFSET($G$116,MATCH(\"secondary crusher\",$G$117:$G$124,0),1)),0))),((IFERROR((OFFSET($G$132,MATCH(\"secondary crusher\",$G$133:$G$140,0),1)),0))),((IFERROR((OFFSET($G$148,MATCH(\"secondary crusher\",$G$149:$G$156,0),1)),0))),((IFERROR((OFFSET($G$163,MATCH(\"secondary crusher\",$G$165:$G$172,0),1)),0))))","v":0},{"$f":"SUM((IFERROR(OFFSET($G$20,MATCH(\"secondary crusher\",$G$21:$G$28,0),3),0)),((IFERROR((OFFSET($G$36,MATCH(\"secondary crusher\",$G$37:$G$44,0),3)),0))),((IFERROR((OFFSET($G$52,MATCH(\"secondary crusher\",$G$53:$G$60,0),3)),0))),((IFERROR((OFFSET($G$68,MATCH(\"secondary crusher\",$G$69:$G$76,0),3)),0))),((IFERROR((OFFSET($G$84,MATCH(\"secondary crusher\",$G$85:$G$92,0),3)),0))),((IFERROR((OFFSET($G$100,MATCH(\"secondary crusher\",$G$101:$G$108,0),3)),0))),((IFERROR((OFFSET($G$116,MATCH(\"secondary crusher\",$G$117:$G$124,0),3)),0))),((IFERROR((OFFSET($G$132,MATCH(\"secondary crusher\",$G$133:$G$140,0),3)),0))),((IFERROR((OFFSET($G$148,MATCH(\"secondary crusher\",$G$149:$G$156,0),3)),0))),((IFERROR((OFFSET($G$163,MATCH(\"secondary crusher\",$G$165:$G$172,0),3)),0))))","v":0},null,null,null,{"$f":"SUM((IFERROR(OFFSET($G$20,MATCH(\"secondary crusher\",$G$21:$G$28,0),4),0)),((IFERROR((OFFSET($G$36,MATCH(\"secondary crusher\",$G$37:$G$44,0),4)),0))),((IFERROR((OFFSET($G$52,MATCH(\"secondary crusher\",$G$53:$G$60,0),4)),0))),((IFERROR((OFFSET($G$68,MATCH(\"secondary crusher\",$G$69:$G$76,0),4)),0))),((IFERROR((OFFSET($G$84,MATCH(\"secondary crusher\",$G$85:$G$92,0),4)),0))),((IFERROR((OFFSET($G$100,MATCH(\"secondary crusher\",$G$101:$G$108,0),4)),0))),((IFERROR((OFFSET($G$116,MATCH(\"secondary crusher\",$G$117:$G$124,0),4)),0))),((IFERROR((OFFSET($G$132,MATCH(\"secondary crusher\",$G$133:$G$140,0),4)),0))),((IFERROR((OFFSET($G$148,MATCH(\"secondary crusher\",$G$149:$G$156,0),4)),0))),((IFERROR((OFFSET($G$163,MATCH(\"secondary crusher\",$G$165:$G$172,0),4)),0))))","v":0}]
[null,"Plant Specific Operating Limits:",null,null,"Plant Specific Emission Limits:",null,null,null,null,null,null,null,"Tertiary Crusher",{"$f":"MAX((IFERROR(OFFSET($G$20,MATCH(\"tertiary crusher\",$G$21:$G$28,0),1),0)),((IFERROR((OFFSET($G$36,MATCH(\"tertiary crusher\",$G$37:$G$44,0),1)),0))),((IFERROR((OFFSET($G$52,MATCH(\"tertiary crusher\",$G$53:$G$60,0),1)),0))),((IFERROR((OFFSET($G$68,MATCH(\"tertiary crusher\",$G$69:$G$76,0),1)),0))),((IFERROR((OFFSET($G$84,MATCH(\"tertiary crusher\",$G$85:$G$92,0),1)),0))),((IFERROR((OFFSET($G$100,MATCH(\"tertiary crusher\",$G$101:$G$108,0),1)),0))),((IFERROR((OFFSET($G$116,MATCH(\"tertiary crusher\",$G$117:$G$124,0),1)),0))),((IFERROR((OFFSET($G$132,MATCH(\"tertiary crusher\",$G$133:$G$140,0),1)),0))),((IFERROR((OFFSET($G$148,MATCH(\"tertiary crusher\",$G$149:$G$156,0),1)),0))),((IFERROR((OFFSET($G$163,MATCH(\"tertiary crusher\",$G$165:$G$172,0),1)),0))))","v":0},{"$f":"SUM((IFERROR(OFFSET($G$20,MATCH(\"tertiary crusher\",$G$21:$G$28,0),3),0)),((IFERROR((OFFSET($G$36,MATCH(\"tertiary crusher\",$G$37:$G$44,0),3)),0))),((IFERROR((OFFSET($G$52,MATCH(\"tertiary crusher\",$G$53:$G$60,0),3)),0))),((IFERROR((OFFSET($G$68,MATCH(\"tertiary crusher\",$G$69:$G$76,0),3)),0))),((IFERROR((OFFSET($G$84,MATCH(\"tertiary crusher\",$G$85:$G$92,0),3)),0))),((IFERROR((OFFSET($G$100,MATCH(\"tertiary crusher\",$G$101:$G$108,0),3)),0))),((IFERROR((OFFSET($G$116,MATCH(\"tertiary crusher\",$G$117:$G$124,0),3)),0))),((IFERROR((OFFSET($G$132,MATCH(\"tertiary crusher\",$G$133:$G$140,0),3)),0))),((IFERROR((OFFSET($G$148,MATCH(\"tertiary crusher\",$G$149:$G$156,0),3)),0))),((IFERROR((OFFSET($G$163,MATCH(\"tertiary crusher\",$G$165:$G$172,0),3)),0))))","v":0},null,null,null,{"$f":"SUM((IFERROR(OFFSET($G$20,MATCH(\"tertiary crusher\",$G$21:$G$28,0),4),0)),((IFERROR((OFFSET($G$36,MATCH(\"tertiary crusher\",$G$37:$G$44,0),4)),0))),((IFERROR((OFFSET($G$52,MATCH(\"tertiary crusher\",$G$53:$G$60,0),4)),0))),((IFERROR((OFFSET($G$68,MATCH(\"tertiary crusher\",$G$69:$G$76,0),4)),0))),((IFERROR((OFFSET($G$84,MATCH(\"tertiary crusher\",$G$85:$G$92,0),4)),0))),((IFERROR((OFFSET($G$100,MATCH(\"tertiary crusher\",$G$101:$G$108,0),4)),0))),((IFERROR((OFFSET($G$116,MATCH(\"tertiary crusher\",$G$117:$G$124,0),4)),0))),((IFERROR((OFFSET($G$132,MATCH(\"tertiary crusher\",$G$133:$G$140,0),4)),0))),((IFERROR((OFFSET($G$148,MATCH(\"tertiary crusher\",$G$149:$G$156,0),4)),0))),((IFERROR((OFFSET($G$163,MATCH(\"tertiary crusher\",$G$165:$G$172,0),4)),0))))","v":0}]
[null,"Throughput Limit (tons/yr):",null,null,"Pollutant","lb/hr","tons/yr",null,null,null,null,null,"Fines Crushing",{"$f":"MAX((IFERROR(OFFSET($G$20,MATCH(\"fines crushing\",$G$21:$G$28,0),1),0)),((IFERROR((OFFSET($G$36,MATCH(\"fines crushing\",$G$37:$G$44,0),1)),0))),((IFERROR((OFFSET($G$52,MATCH(\"fines crushing\",$G$53:$G$60,0),1)),0))),((IFERROR((OFFSET($G$68,MATCH(\"fines crushing\",$G$69:$G$76,0),1)),0))),((IFERROR((OFFSET($G$84,MATCH(\"fines crushing\",$G$85:$G$92,0),1)),0))),((IFERROR((OFFSET($G$100,MATCH(\"fines crushing\",$G$101:$G$108,0),1)),0))),((IFERROR((OFFSET($G$116,MATCH(\"fines crushing\",$G$117:$G$124,0),1)),0))),((IFERROR((OFFSET($G$132,MATCH(\"fines crushing\",$G$133:$G$140,0),1)),0))),((IFERROR((OFFSET($G$148,MATCH(\"fines crushing\",$G$149:$G$156,0),1)),0))),((IFERROR((OFFSET($G$163,MATCH(\"fines crushing\",$G$165:$G$172,0),1)),0))))","v":0},{"$f":"SUM((IFERROR(OFFSET($G$20,MATCH(\"fines crushing\",$G$21:$G$28,0),3),0)),((IFERROR((OFFSET($G$36,MATCH(\"fines crushing\",$G$37:$G$44,0),3)),0))),((IFERROR((OFFSET($G$52,MATCH(\"fines crushing\",$G$53:$G$60,0),3)),0))),((IFERROR((OFFSET($G$68,MATCH(\"fines crushing\",$G$69:$G$76,0),3)),0))),((IFERROR((OFFSET($G$84,MATCH(\"fines crushing\",$G$85:$G$92,0),3)),0))),((IFERROR((OFFSET($G$100,MATCH(\"fines crushing\",$G$101:$G$108,0),3)),0))),((IFERROR((OFFSET($G$116,MATCH(\"fines crushing\",$G$117:$G$124,0),3)),0))),((IFERROR((OFFSET($G$132,MATCH(\"fines crushing\",$G$133:$G$140,0),3)),0))),((IFERROR((OFFSET($G$148,MATCH(\"fines crushing\",$G$149:$G$156,0),3)),0))),((IFERROR((OFFSET($G$163,MATCH(\"fines crushing\",$G$165:$G$172,0),3)),0))))","v":0},null,null,null,{"$f":"SUM((IFERROR(OFFSET($G$20,MATCH(\"fines crushing\",$G$21:$G$28,0),4),0)),((IFERROR((OFFSET($G$36,MATCH(\"fines crushing\",$G$37:$G$44,0),4)),0))),((IFERROR((OFFSET($G$52,MATCH(\"fines crushing\",$G$53:$G$60,0),4)),0))),((IFERROR((OFFSET($G$68,MATCH(\"fines crushing\",$G$69:$G$76,0),4)),0))),((IFERROR((OFFSET($G$84,MATCH(\"fines crushing\",$G$85:$G$92,0),4)),0))),((IFERROR((OFFSET($G$100,MATCH(\"fines crushing\",$G$101:$G$108,0),4)),0))),((IFERROR((OFFSET($G$116,MATCH(\"fines crushing\",$G$117:$G$124,0),4)),0))),((IFERROR((OFFSET($G$132,MATCH(\"fines crushing\",$G$133:$G$140,0),4)),0))),((IFERROR((OFFSET($G$148,MATCH(\"fines crushing\",$G$149:$G$156,0),4)),0))),((IFERROR((OFFSET($G$163,MATCH(\"fines crushing\",$G$165:$G$172,0),4)),0))))","v":0}]
[null,"Daily Throughput Limit (tons/day):",null,null,"PM2.5",null,null,null,null,null,null,null,"Fines Screening",{"$f":"MAX((IFERROR(OFFSET($G$20,MATCH(\"fines screening\",$G$21:$G$28,0),1),0)),((IFERROR((OFFSET($G$36,MATCH(\"fines screening\",$G$37:$G$44,0),1)),0))),((IFERROR((OFFSET($G$52,MATCH(\"fines screening\",$G$53:$G$60,0),1)),0))),((IFERROR((OFFSET($G$68,MATCH(\"fines screening\",$G$69:$G$76,0),1)),0))),((IFERROR((OFFSET($G$84,MATCH(\"fines screening\",$G$85:$G$92,0),1)),0))),((IFERROR((OFFSET($G$100,MATCH(\"fines screening\",$G$101:$G$108,0),1)),0))),((IFERROR((OFFSET($G$116,MATCH(\"fines screening\",$G$117:$G$124,0),1)),0))),((IFERROR((OFFSET($G$132,MATCH(\"fines screening\",$G$133:$G$140,0),1)),0))),((IFERROR((OFFSET($G$148,MATCH(\"fines screening\",$G$149:$G$156,0),1)),0))),((IFERROR((OFFSET($G$163,MATCH(\"fines screening\",$G$165:$G$172,0),1)),0))))","v":0},{"$f":"SUM((IFERROR(OFFSET($G$20,MATCH(\"fines screening\",$G$21:$G$28,0),3),0)),((IFERROR((OFFSET($G$36,MATCH(\"fines screening\",$G$37:$G$44,0),3)),0))),((IFERROR((OFFSET($G$52,MATCH(\"fines screening\",$G$53:$G$60,0),3)),0))),((IFERROR((OFFSET($G$68,MATCH(\"fines screening\",$G$69:$G$76,0),3)),0))),((IFERROR((OFFSET($G$84,MATCH(\"fines screening\",$G$85:$G$92,0),3)),0))),((IFERROR((OFFSET($G$100,MATCH(\"fines screening\",$G$101:$G$108,0),3)),0))),((IFERROR((OFFSET($G$116,MATCH(\"fines screening\",$G$117:$G$124,0),3)),0))),((IFERROR((OFFSET($G$132,MATCH(\"fines screening\",$G$133:$G$140,0),3)),0))),((IFERROR((OFFSET($G$148,MATCH(\"fines screening\",$G$149:$G$156,0),3)),0))),((IFERROR((OFFSET($G$163,MATCH(\"fines screening\",$G$165:$G$172,0),3)),0))))","v":0},null,null,null,{"$f":"SUM((IFERROR(OFFSET($G$20,MATCH(\"fines screening\",$G$21:$G$28,0),4),0)),((IFERROR((OFFSET($G$36,MATCH(\"fines screening\",$G$37:$G$44,0),4)),0))),((IFERROR((OFFSET($G$52,MATCH(\"fines screening\",$G$53:$G$60,0),4)),0))),((IFERROR((OFFSET($G$68,MATCH(\"fines screening\",$G$69:$G$76,0),4)),0))),((IFERROR((OFFSET($G$84,MATCH(\"fines screening\",$G$85:$G$92,0),4)),0))),((IFERROR((OFFSET($G$100,MATCH(\"fines screening\",$G$101:$G$108,0),4)),0))),((IFERROR((OFFSET($G$116,MATCH(\"fines screening\",$G$117:$G$124,0),4)),0))),((IFERROR((OFFSET($G$132,MATCH(\"fines screening\",$G$133:$G$140,0),4)),0))),((IFERROR((OFFSET($G$148,MATCH(\"fines screening\",$G$149:$G$156,0),4)),0))),((IFERROR((OFFSET($G$163,MATCH(\"fines screening\",$G$165:$G$172,0),4)),0))))","v":0}]
[null,"Hours of Operation Limit (hours/day):",null,null,"PM10",null,null,null,null,null,null,null,"Wet Drilling: Unfragmented Stone",{"$f":"MAX((IFERROR(OFFSET($G$20,MATCH(\"wet drilling: unfragmented stone\",$G$21:$G$28,0),1),0)),((IFERROR((OFFSET($G$36,MATCH(\"wet drilling: unfragmented stone\",$G$37:$G$44,0),1)),0))),((IFERROR((OFFSET($G$52,MATCH(\"wet drilling: unfragmented stone\",$G$53:$G$60,0),1)),0))),((IFERROR((OFFSET($G$68,MATCH(\"wet drilling: unfragmented stone\",$G$69:$G$76,0),1)),0))),((IFERROR((OFFSET($G$84,MATCH(\"wet drilling: unfragmented stone\",$G$85:$G$92,0),1)),0))),((IFERROR((OFFSET($G$100,MATCH(\"wet drilling: unfragmented stone\",$G$101:$G$108,0),1)),0))),((IFERROR((OFFSET($G$116,MATCH(\"wet drilling: unfragmented stone\",$G$117:$G$124,0),1)),0))),((IFERROR((OFFSET($G$132,MATCH(\"wet drilling: unfragmented stone\",$G$133:$G$140,0),1)),0))),((IFERROR((OFFSET($G$148,MATCH(\"wet drilling: unfragmented stone\",$G$149:$G$156,0),1)),0))),((IFERROR((OFFSET($G$163,MATCH(\"wet drilling: unfragmented stone\",$G$165:$G$172,0),1)),0))))","v":0},{"$f":"SUM((IFERROR(OFFSET($G$20,MATCH(\"wet drilling: unfragmented stone\",$G$21:$G$28,0),3),0)),((IFERROR((OFFSET($G$36,MATCH(\"wet drilling: unfragmented stone\",$G$37:$G$44,0),3)),0))),((IFERROR((OFFSET($G$52,MATCH(\"wet drilling: unfragmented stone\",$G$53:$G$60,0),3)),0))),((IFERROR((OFFSET($G$68,MATCH(\"wet drilling: unfragmented stone\",$G$69:$G$76,0),3)),0))),((IFERROR((OFFSET($G$84,MATCH(\"wet drilling: unfragmented stone\",$G$85:$G$92,0),3)),0))),((IFERROR((OFFSET($G$100,MATCH(\"wet drilling: unfragmented stone\",$G$101:$G$108,0),3)),0))),((IFERROR((OFFSET($G$116,MATCH(\"wet drilling: unfragmented stone\",$G$117:$G$124,0),3)),0))),((IFERROR((OFFSET($G$132,MATCH(\"wet drilling: unfragmented stone\",$G$133:$G$140,0),3)),0))),((IFERROR((OFFSET($G$148,MATCH(\"wet drilling: unfragmented stone\",$G$149:$G$156,0),3)),0))),((IFERROR((OFFSET($G$163,MATCH(\"wet drilling: unfragmented stone\",$G$165:$G$172,0),3)),0))))","v":0},null,null,null,{"$f":"SUM((IFERROR(OFFSET($G$20,MATCH(\"wet drilling: unfragmented stone\",$G$21:$G$28,0),4),0)),((IFERROR((OFFSET($G$36,MATCH(\"wet drilling: unfragmented stone\",$G$37:$G$44,0),4)),0))),((IFERROR((OFFSET($G$52,MATCH(\"wet drilling: unfragmented stone\",$G$53:$G$60,0),4)),0))),((IFERROR((OFFSET($G$68,MATCH(\"wet drilling: unfragmented stone\",$G$69:$G$76,0),4)),0))),((IFERROR((OFFSET($G$84,MATCH(\"wet drilling: unfragmented stone\",$G$85:$G$92,0),4)),0))),((IFERROR((OFFSET($G$100,MATCH(\"wet drilling: unfragmented stone\",$G$101:$G$108,0),4)),0))),((IFERROR((OFFSET($G$116,MATCH(\"wet drilling: unfragmented stone\",$G$117:$G$124,0),4)),0))),((IFERROR((OFFSET($G$132,MATCH(\"wet drilling: unfragmented stone\",$G$133:$G$140,0),4)),0))),((IFERROR((OFFSET($G$148,MATCH(\"wet drilling: unfragmented stone\",$G$149:$G$156,0),4)),0))),((IFERROR((OFFSET($G$163,MATCH(\"wet drilling: unfragmented stone\",$G$165:$G$172,0),4)),0))))","v":0}]
[null,"Note: if the plant has a hours/day and a tons/hr permit limit, those values should be multiplied together to calculate a tons/day limit and that value should be placed in cell C10.",null,null,"SO2",null,null,null,null,null,null,null,"Conveyor Transfer Points",{"$f":"MAX((IFERROR(OFFSET($G$20,MATCH(\"conveyor transfer points\",$G$21:$G$28,0),1),0)),((IFERROR((OFFSET($G$36,MATCH(\"conveyor transfer points\",$G$37:$G$44,0),1)),0))),((IFERROR((OFFSET($G$52,MATCH(\"conveyor transfer points\",$G$53:$G$60,0),1)),0))),((IFERROR((OFFSET($G$68,MATCH(\"conveyor transfer points\",$G$69:$G$76,0),1)),0))),((IFERROR((OFFSET($G$84,MATCH(\"conveyor transfer points\",$G$85:$G$92,0),1)),0))),((IFERROR((OFFSET($G$100,MATCH(\"conveyor transfer points\",$G$101:$G$108,0),1)),0))),((IFERROR((OFFSET($G$116,MATCH(\"conveyor transfer points\",$G$117:$G$124,0),1)),0))),((IFERROR((OFFSET($G$132,MATCH(\"conveyor transfer points\",$G$133:$G$140,0),1)),0))),((IFERROR((OFFSET($G$148,MATCH(\"conveyor transfer points\",$G$149:$G$156,0),1)),0))),((IFERROR((OFFSET($G$163,MATCH(\"conveyor transfer points\",$G$165:$G$172,0),1)),0))))","v":0},{"$f":"SUM((IFERROR(OFFSET($G$20,MATCH(\"conveyor transfer points\",$G$21:$G$28,0),3),0)),((IFERROR((OFFSET($G$36,MATCH(\"conveyor transfer points\",$G$37:$G$44,0),3)),0))),((IFERROR((OFFSET($G$52,MATCH(\"conveyor transfer points\",$G$53:$G$60,0),3)),0))),((IFERROR((OFFSET($G$68,MATCH(\"conveyor transfer points\",$G$69:$G$76,0),3)),0))),((IFERROR((OFFSET($G$84,MATCH(\"conveyor transfer points\",$G$85:$G$92,0),3)),0))),((IFERROR((OFFSET($G$100,MATCH(\"conveyor transfer points\",$G$101:$G$108,0),3)),0))),((IFERROR((OFFSET($G$116,MATCH(\"conveyor transfer points\",$G$117:$G$124,0),3)),0))),((IFERROR((OFFSET($G$132,MATCH(\"conveyor transfer points\",$G$133:$G$140,0),3)),0))),((IFERROR((OFFSET($G$148,MATCH(\"conveyor transfer points\",$G$149:$G$156,0),3)),0))),((IFERROR((OFFSET($G$163,MATCH(\"conveyor transfer points\",$G$165:$G$172,0),3)),0))))","v":0},null,null,null,{"$f":"SUM((IFERROR(OFFSET($G$20,MATCH(\"conveyor transfer points\",$G$21:$G$28,0),4),0)),((IFERROR((OFFSET($G$36,MATCH(\"conveyor transfer points\",$G$37:$G$44,0),4)),0))),((IFERROR((OFFSET($G$52,MATCH(\"conveyor transfer points\",$G$53:$G$60,0),4)),0))),((IFERROR((OFFSET($G$68,MATCH(\"conveyor transfer points\",$G$69:$G$76,0),4)),0))),((IFERROR((OFFSET($G$84,MATCH(\"conveyor transfer points\",$G$85:$G$92,0),4)),0))),((IFERROR((OFFSET($G$100,MATCH(\"conveyor transfer points\",$G$101:$G$108,0),4)),0))),((IFERROR((OFFSET($G$116,MATCH(\"conveyor transfer points\",$G$117:$G$124,0),4)),0))),((IFERROR((OFFSET($G$132,MATCH(\"conveyor transfer points\",$G$133:$G$140,0),4)),0))),((IFERROR((OFFSET($G$148,MATCH(\"conveyor transfer points\",$G$149:$G$156,0),4)),0))),((IFERROR((OFFSET($G$163,MATCH(\"conveyor transfer points\",$G$165:$G$172,0),4)),0))))","v":0}]
[null,null,null,null,"NOx",null,null,null,null,null,null,null,null,"Maximum (acres/day)","Actual (acres-day/yr)"]
[null,null,null,null,"VOC",null,null,null,null,null,null,null,"Storage Pile",{"$f":"SUM(G32,G48,G64,G80,G96,G112,G128,G144,G160,G176)","v":0},{"$f":"SUM(H32*I32,H48*I48,H64*I64,H80*I80,H96*I96,H112*I112,H128*I128,H144*I144,H160*I160,H176*I176)","v":0}]
[null,null,null,null,"CO"]
[]
[null,null,null,null,null,null,null,null,null,null,null,null,"Actual Emissions for the Listed Processes at this Plant"]
[null,null,null,null,null,null,null,null,null,null,null,null,null,"Maximum Design Rate (tons/hr)","Emission Factor (lb/ton)","Potential Uncontrolled Emissions (lb/hr)","Potential Controlled Emissions (lb/hr)","Potential Annual Emissions (tons/yr)","Actual Annual Emissions (tons/yr)"]
[null,"CRUSHER PLANT","Site 1",null,"Emission Point #","Emission    Unit #","Processes","Combined Maximum Hourly Design Rate for all Like Processes (tons/hr)",{"$f":"('Facility Information'!G5&\" Annual Throughput (tons)\")","v":" Annual Throughput (tons)"},null,null,null,"PM2.5"]
[null,null,null,null,null,null,null,null,null,"no wet supress","wet supress",null,"Primary Crusher",{"$f":"N5","v":0},{"$f":"IF(N20=0,0,IF(OR($C$24=\"no\",$C$40=\"no\",$C$56=\"no\",$C$72=\"no\",$C$88=\"no\",$C$104=\"no\",$C$120=\"no\",$C$136=\"no\",$C$152=\"no\",$C$168=\"no\"),'Emission Factors'!D8,'Emission Factors'!D20))","v":0},{"$f":"IF(OR($C$24=\"no\",$C$40=\"no\",$C$56=\"no\",$C$72=\"no\",$C$88=\"no\",$C$104=\"no\",$C$120=\"no\",$C$136=\"no\",$C$152=\"no\",$C$168=\"no\"),N20*O20,\"\")","v":""},{"$f":"IF($F$10>0,$F$10,IF(OR($C$24=\"no\",$C$40=\"no\",$C$56=\"no\",$C$72=\"no\",$C$88=\"no\",$C$104=\"no\",$C$120=\"no\",$C$136=\"no\",$C$152=\"no\",$C$168=\"no\"),\"\",N20*O20))","v":0},{"$f":"IF($G$10>0,$G$10,IF($C$9>0,$C$9*O20/2000,IF($C$10>0,$C$10*365*O20/2000,IF($C$11>0,$C$11*365*O20*N20/2000,IF(Q20=\"\",P20*8760/2000,Q20*8760/2000)))))","v":0},{"$f":"(O5*'Emission Factors'!D8/2000)+('Emission Factors'!D20*S5/2000)","v":0}]
["YES","Site Name:",null,null,{"$f":"IF(G21=\"\",\"\",\"LP-8 EP-1\")","v":""},{"$f":"IF(G21=\"\",\"\",IF(G21=\"primary crusher\",\"LP-8 EU-1\",IF(G21=\"screening\",\"LP-8 EU-2\",IF(G21=\"secondary crusher\",\"LP-8 EU-3\",IF(G21=\"tertiary crusher\",\"LP-8 EU-4\",IF(G21=\"fines crushing\",\"LP-8 EU-5\",IF(G21=\"fines screening\",\"LP-8 EU-6\",IF(G21=\"wet drilling: unfragmented stone\",\"LP-8 EU-7\",IF(G21=\"conveyor transfer points\",\"LP-8 EU-8\")))))))))","v":""},null,null,null,{"$f":"IF($C24=\"no\",I21,0)","v":0},{"$f":"IF($C$24=\"yes\",I21,0)","v":0},null,"Screening",0,{"$f":"IF(N21=0,0,IF(OR($C$24=\"no\",$C$40=\"no\",$C$56=\"no\",$C$72=\"no\",$C$88=\"no\",$C$104=\"no\",$C$120=\"no\",$C$136=\"no\",$C$152=\"no\",$C$168=\"no\"),'Emission Factors'!D9,'Emission Factors'!D21))","v":0},"",0,{"$f":"IF($G$10>0,\"\",IF($C$9>0,$C$9*O21/2000,IF($C$10>0,$C$10*365*O21/2000,IF($C$11>0,$C$11*365*O21*N21/2000,IF(Q21=\"\",P21*8760/2000,Q21*8760/2000)))))","v":0},{"$f":"(O6*'Emission Factors'!D9/2000)+('Emission Factors'!D21*S6/2000)","v":0}]
["NO","County:",null,null,{"$f":"IF(G22=\"\",\"\",\"LP-8 EP-1\")","v":""},{"$f":"IF(G22=\"\",\"\",IF(G22=\"primary crusher\",\"LP-8 EU-1\",IF(G22=\"screening\",\"LP-8 EU-2\",IF(G22=\"secondary crusher\",\"LP-8 EU-3\",IF(G22=\"tertiary crusher\",\"LP-8 EU-4\",IF(G22=\"fines crushing\",\"LP-8 EU-5\",IF(G22=\"fines screening\",\"LP-8 EU-6\",IF(G22=\"wet drilling: unfragmented stone\",\"LP-8 EU-7\",IF(G22=\"conveyor transfer points\",\"LP-8 EU-8\")))))))))","v":""},null,null,null,{"$f":"IF($C$24=\"no\",I22,0)","v":0},0,null,"Secondary Crusher",0,{"$f":"IF(N22=0,0,IF(OR($C$24=\"no\",$C$40=\"no\",$C$56=\"no\",$C$72=\"no\",$C$88=\"no\",$C$104=\"no\",$C$120=\"no\",$C$136=\"no\",$C$152=\"no\",$C$168=\"no\"),'Emission Factors'!D10,'Emission Factors'!D22))","v":0},"",0,0,{"$f":"(O7*'Emission Factors'!D10/2000)+('Emission Factors'!D22*S7/2000)","v":0}]
[null,"Crushing Period (Dates):",null,null,"","",null,null,null,0,0,null,"Tertiary Crusher",0,{"$f":"IF(N23=0,0,IF(OR(C24=\"no\",C40=\"no\",C56=\"no\",C72=\"no\",C88=\"no\",C104=\"no\",C120=\"no\",C136=\"no\",C152=\"no\",C168=\"no\"),'Emission Factors'!D12,'Emission Factors'!D24))","v":0},"",0,0,{"$f":"(O8*'Emission Factors'!D12/2000)+('Emission Factors'!D24*S8/2000)","v":0}]
["Primary Crusher","Controlled with Dust Suppressant or Material Being Processed has Moisture Content > 1.5%?",null,null,"","",null,null,null,0,0,null,"Fines Crushing",0,{"$f":"IF(N24=0,0,IF(OR(C24=\"no\",C40=\"no\",C56=\"no\",C72=\"no\",C88=\"no\",C104=\"no\",C120=\"no\",C136=\"no\",C152=\"no\",C168=\"no\"),'Emission Factors'!D6,'Emission Factors'!D18))","v":0},"",0,0,{"$f":"(O9*'Emission Factors'!D6/2000)+('Emission Factors'!D18*S9/2000)","v":0}]
["Screening",null,null,null,"","",null,null,null,0,0,null,"Fines Screening",0,{"$f":"IF(N25=0,0,IF(OR($C$24=\"no\",$C$40=\"no\",$C$56=\"no\",$C$72=\"no\",$C$88=\"no\",$C$104=\"no\",$C$120=\"no\",$C$136=\"no\",$C$152=\"no\",$C$168=\"no\"),'Emission Factors'!D7,'Emission Factors'!D19))","v":0},"",0,0,{"$f":"(O10*'Emission Factors'!D7/2000)+('Emission Factors'!D19*S10/2000)","v":0}]
["Secondary Crusher",null,null,null,"","",null,null,null,0,0,null,"Wet Drilling: Unfragmented Stone",0,{"$f":"IF(N26=0,0,IF(OR(C24=\"no\",C40=\"no\",C56=\"no\",C72=\"no\",C88=\"no\",C104=\"no\",C120=\"no\",C136=\"no\",C152=\"no\",C168=\"no\"),'Emission Factors'!D13,'Emission Factors'!D25))","v":0},"",0,0,{"$f":"(O11*'Emission Factors'!D13/2000)+('Emission Factors'!D25*S11/2000)","v":0}]
["Tertiary Crusher",null,null,null,"","",null,null,null,0,0,null,"Conveyor Transfer Points",0,{"$f":"IF(N27=0,0,IF(OR(C24=\"no\",C40=\"no\",C56=\"no\",C72=\"no\",C88=\"no\",C104=\"no\",C120=\"no\",C136=\"no\",C152=\"no\",C168=\"no\"),'Emission Factors'!D5,'Emission Factors'!D17))","v":0},"",0,0,{"$f":"(O12*'Emission Factors'!D5/2000)+('Emission Factors'!D17*S12/2000)","v":0}]
["Fines Crushing",null,null,null,"","",null,null,null,0,0,null,"PM10"]
["Fines Screening",null,null,null,null,null,null,null,null,null,null,null,"Primary Crusher",{"$f":"N5","v":0},{"$f":"IF(N29=0,0,IF(OR($C$24=\"no\",$C$40=\"no\",$C$56=\"no\",$C$72=\"no\",$C$88=\"no\",$C$104=\"no\",$C$120=\"no\",$C$136=\"no\",$C$152=\"no\",$C$168=\"no\"),'Emission Factors'!F8,'Emission Factors'!F20))","v":0},{"$f":"IF(OR($C$24=\"no\",$C$40=\"no\",$C$56=\"no\",$C$72=\"no\",$C$88=\"no\",$C$104=\"no\",$C$120=\"no\",$C$136=\"no\",$C$152=\"no\",$C$168=\"no\"),N29*O29,\"\")","v":""},{"$f":"IF($F$11>0,$F$11,IF(OR($C$24=\"no\",$C$40=\"no\",$C$56=\"no\",$C$72=\"no\",$C$88=\"no\",$C$104=\"no\",$C$120=\"no\",$C$136=\"no\",$C$152=\"no\",$C$168=\"no\"),\"\",N29*O29))","v":0},{"$f":"IF($G$11>0,$G$11,IF($C$9>0,$C$9*O29/2000,IF($C$10>0,$C$10*365*O29/2000,IF($C$11>0,$C$11*365*O29*N29/2000,IF(Q29=\"\",P29*8760/2000,Q29*8760/2000)))))","v":0},{"$f":"(O5*'Emission Factors'!F8/2000)+('Emission Factors'!F20*S5/2000)","v":0}]
["Wet Drilling: Unfragmented Stone",null,null,null,"Stock Pile Area",null,null,null,null,null,null,null,"Screening",{"$f":"N6","v":0},{"$f":"IF(N30=0,0,IF(OR($C$24=\"no\",$C$40=\"no\",$C$56=\"no\",$C$72=\"no\",$C$88=\"no\",$C$104=\"no\",$C$120=\"no\",$C$136=\"no\",$C$152=\"no\",$C$168=\"no\"),'Emission Factors'!F9,'Emission Factors'!F21))","v":0},"",0,{"$f":"IF($G$11>0,\"\",IF($C$9>0,$C$9*O30/2000,IF($C$10>0,$C$10*365*O30/2000,IF($C$11>0,$C$11*365*O30*N30/2000,IF(Q30=\"\",P30*8760/2000,Q30*8760/2000)))))","v":0},{"$f":"(O6*'Emission Factors'!F9/2000)+('Emission Factors'!F21*S6/2000)","v":0}]
["Conveyor Transfer Points",null,null,null,null,"Emission Unit #","Maximum Storage Area (acres)","Actual Storage Area (acres)","Actual Days in Existence (days)",null,null,null,"Secondary Crusher",0,{"$f":"IF(N31=0,0,IF(OR($C$24=\"no\",$C$40=\"no\",$C$56=\"no\",$C$72=\"no\",$C$88=\"no\",$C$104=\"no\",$C$120=\"no\",$C$136=\"no\",$C$152=\"no\",$C$168=\"no\"),'Emission Factors'!F10,'Emission Factors'!F22))","v":0},"",0,0,{"$f":"(O7*'Emission Factors'!F10/2000)+('Emission Factors'!F22*S7/2000)","v":0}]
[null,null,null,null,null,null,null,null,null,null,null,null,"Tertiary Crusher",0,{"$f":"IF(N32=0,0,IF(OR(C24=\"no\",C40=\"no\",C56=\"no\",C72=\"no\",C88=\"no\",C104=\"no\",C120=\"no\",C136=\"no\",C152=\"no\",C168=\"no\"),'Emission Factors'!F12,'Emission Factors'!F24))","v":0},"",0,0,{"$f":"(O8*'Emission Factors'!F12/2000)+('Emission Factors'!F24*S8/2000)","v":0}]
[null,null,null,null,null,null,null,null,null,null,null,null,"Fines Crushing",0,{"$f":"IF(N33=0,0,IF(OR(C24=\"no\",C40=\"no\",C56=\"no\",C72=\"no\",C88=\"no\",C104=\"no\",C120=\"no\",C136=\"no\",C152=\"no\",C168=\"no\"),'Emission Factors'!F6,'Emission Factors'!F18))","v":0},"",0,0,{"$f":"(O9*'Emission Factors'!F6/2000)+('Emission Factors'!F18*S9/2000)","v":0}]
[{"$f":"C21","v":0},null,null,null,null,null,null,null,null,null,null,null,"Fines Screening",0,{"$f":"IF(N34=0,0,IF(OR(C24=\"no\",C40=\"no\",C56=\"no\",C72=\"no\",C88=\"no\",C104=\"no\",C120=\"no\",C136=\"no\",C152=\"no\",C168=\"no\"),'Emission Factors'!F7,'Emission Factors'!F19))","v":0},"",0,0,{"$f":"(O10*'Emission Factors'!F7/2000)+('Emission Factors'!F19*S10/2000)","v":0}]
[{"$f":"C37","v":0},{"$f":"IF('Limestone Plant (LP-8)'!$D$4>1,\"CRUSHER PLANT\",\"\")","v":""},{"$f":"IF('Limestone Plant (LP-8)'!$D$4>1,\"Site 2\",\"\")","v":""},null,{"$f":"IF('Limestone Plant (LP-8)'!$D$4>1,\"Emission Point #\",\"\")","v":""},{"$f":"IF('Limestone Plant (LP-8)'!$D$4>1,\"Emission     Unit #\",\"\")","v":""},{"$f":"IF('Limestone Plant (LP-8)'!$D$4>1,\"Processes\",\"\")","v":""},{"$f":"IF('Limestone Plant (LP-8)'!$D$4>1,\"Combined Maximum Hourly Design Rate for all Like Processes (tons/hr)\",\"\")","v":""},{"$f":"IF('Limestone Plant (LP-8)'!$D$4>1,('Facility Information'!G5&\" Annual Throughput (tons)\"),\"\")","v":""},null,null,null,"Wet Drilling: Unfragmented Stone",0,{"$f":"IF(N35=0,0,IF(OR(C24=\"no\",C40=\"no\",C56=\"no\",C72=\"no\",C88=\"no\",C104=\"no\",C120=\"no\",C136=\"no\",C152=\"no\",C168=\"no\"),'Emission Factors'!F13,'Emission Factors'!F25))","v":0},"",0,0,{"$f":"(O11*'Emission Factors'!F13/2000)+('Emission Factors'!F25*S11/2000)","v":0}]
[{"$f":"C53","v":0},null,null,null,null,null,null,null,null,null,null,null,"Conveyor Transfer Points",0,{"$f":"IF(N36=0,0,IF(OR(C24=\"no\",C40=\"no\",C56=\"no\",C72=\"no\",C88=\"no\",C104=\"no\",C120=\"no\",C136=\"no\",C152=\"no\",C168=\"no\"),'Emission Factors'!F5,'Emission Factors'!F17))","v":0},"",0,0,{"$f":"(O12*'Emission Factors'!F5/2000)+('Emission Factors'!F17*S12/2000)","v":0}]
[{"$f":"C69","v":0},{"$f":"IF('Limestone Plant (LP-8)'!$D$4>1,\"Site Name:\",\"\")","v":""},null,null,{"$f":"IF(G37=\"\",\"\",\"LP-8 EP-1\")","v":""},{"$f":"IF(G37=\"\",\"\",IF(G37=\"primary crusher\",\"LP-8 EU-1\",IF(G37=\"screening\",\"LP-8 EU-2\",IF(G37=\"secondary crusher\",\"LP-8 EU-3\",IF(G37=\"tertiary crusher\",\"LP-1 EU-4\",IF(G37=\"fines crushing\",\"LP-8 EU-5\",IF(G37=\"fines screening\",\"LP-8 EU-6\",IF(G37=\"wet drilling: unfragmented stone\",\"LP-8 EU-7\",IF(G37=\"conveyor transfer points\",\"LP-8 EU-8\")))))))))","v":""},null,null,null,{"$f":"IF($C$40=\"no\",I37,0)","v":0},{"$f":"IF($C$40=\"yes\",I37,0)","v":0}]
[{"$f":"C85","v":0},{"$f":"IF('Limestone Plant (LP-8)'!$D$4>1,\"County:\",\"\")","v":""},null,null,"",{"$f":"IF(G38=\"\",\"\",IF(G38=\"primary crusher\",\"LP-8 EU-1\",IF(G38=\"screening\",\"LP-8 EU-2\",IF(G38=\"secondary crusher\",\"LP-8 EU-3\",IF(G38=\"tertiary crusher\",\"LP-1 EU-4\",IF(G38=\"fines crushing\",\"LP-8 EU-5\",IF(G38=\"fines screening\",\"LP-8 EU-6\",IF(G38=\"wet drilling: unfragmented stone\",\"LP-8 EU-7\",IF(G38=\"conveyor transfer points\",\"LP-8 EU-8\")))))))))","v":""},null,null,null,{"$f":"IF($C$40=\"no\",I38,0)","v":0},{"$f":"IF($C$40=\"yes\",I38,0)","v":0},null,null,"Max Design Rate (acres/day)","Emission Factor   (lb/acre-day)","Potential Uncontrolled Emissions (lb/hr)","Potential Controlled Emissions (lb/hr)","Potential Annual Emissions (tons/yr)","Actual Annual Emissions (tons/yr)"]
[{"$f":"C101","v":0},{"$f":"IF('Limestone Plant (LP-8)'!$D$4>1,\"Crushing Period (Dates):\",\"\")","v":""},null,null,"","",null,null,null,0,0,null,"Storage Pile"]
[{"$f":"C117","v":0},{"$f":"IF('Limestone Plant (LP-8)'!$D$4>1,\"Controlled with Dust Suppressant or Material Being Processed has Moisture Content > 1.5%?\",\"\")","v":""},null,null,"","",null,null,null,0,0,null,"PM2.5/PM10",{"$f":"N14","v":0},3.64,{"$f":"N40*O40*(1/24)","v":0},null,{"$f":"N40*O40*365/2000","v":0},{"$f":"O14*O40/2000","v":0}]
[{"$f":"C133","v":0},null,null,null,"","",null,null,null,0,0]
[{"$f":"C149","v":0},null,null,null,"","",null,null,null,0,0]
[{"$f":"C165","v":0},null,null,null,"","",null,null,null,0,0]
[null,null,null,null,"","",null,null,null,0,0]
[]
[null,null,null,null,{"$f":"IF('Limestone Plant (LP-8)'!$D$4>1,\"Stock Pile Area\",\"\")","v":""}]
[null,null,null,null,null,{"$f":"IF('Limestone Plant (LP-8)'!$D$4>1,\"Emission Unit #\",\"\")","v":""},{"$f":"IF('Limestone Plant (LP-8)'!$D$4>1,\"Maximum Storage Area (acres)\",\"\")","v":""},{"$f":"IF('Limestone Plant (LP-8)'!$D$4>1,\"Actual Storage Area (acres)\",\"\")","v":""},{"$f":"IF('Limestone Plant (LP-8)'!$D$4>1,\"Actual Days in Existence (days)\",\"\")","v":""}]
[]
[]
[]
[null,{"$f":"IF('Limestone Plant (LP-8)'!$D$4>2,\"CRUSHER PLANT\",\"\")","v":""},{"$f":"IF('Limestone Plant (LP-8)'!$D$4>2,\"Site 3\",\"\")","v":""},null,{"$f":"IF('Limestone Plant (LP-8)'!$D$4>2,\"Emission Point #\",\"\")","v":""},{"$f":"IF('Limestone Plant (LP-8)'!$D$4>2,\"Emission    Unit #\",\"\")","v":""},{"$f":"IF('Limestone Plant (LP-8)'!$D$4>2,\"Processes\",\"\")","v":""},{"$f":"IF('Limestone Plant (LP-8)'!$D$4>2,\"Combined Maximum Hourly Design Rate for all Like Processes (tons/hr)\",\"\")","v":""},{"$f":"IF('Limestone Plant (LP-8)'!$D$4>2,('Facility Information'!G5&\" Annual Throughput (tons)\"),\"\")","v":""}]
[]
[null,{"$f":"IF('Limestone Plant (LP-8)'!$D$4>2,\"Site Name:\",\"\")","v":""},null,null,{"$f":"IF(G53=\"\",\"\",\"LP-8 EP-1\")","v":""},{"$f":"IF(G53=\"\",\"\",IF(G53=\"primary crusher\",\"LP-8 EU-1\",IF(G53=\"screening\",\"LP-8 EU-2\",IF(G53=\"secondary crusher\",\"LP-8 EU-3\",IF(G53=\"tertiary crusher\",\"LP-1 EU-4\",IF(G53=\"fines crushing\",\"LP-8 EU-5\",IF(G53=\"fines screening\",\"LP-8 EU-6\",IF(G53=\"wet drilling: unfragmented stone\",\"LP-8 EU-7\",IF(G53=\"conveyor transfer points\",\"LP-8 EU-8\")))))))))","v":""},null,null,null,{"$f":"IF($C$56=\"no\",I53,0)","v":0},{"$f":"IF($C$56=\"yes\",I53,0)","v":0}]
[null,{"$f":"IF('Limestone Plant (LP-8)'!$D$4>2,\"County:\",\"\")","v":""},null,null,{"$f":"IF(G54=\"\",\"\",\"LP-8 EP-1\")","v":""},{"$f":"IF(G54=\"\",\"\",IF(G54=\"primary crusher\",\"LP-8 EU-1\",IF(G54=\"screening\",\"LP-8 EU-2\",IF(G54=\"secondary crusher\",\"LP-8 EU-3\",IF(G54=\"tertiary crusher\",\"LP-1 EU-4\",IF(G54=\"fines crushing\",\"LP-8 EU-5\",IF(G54=\"fines screening\",\"LP-8 EU-6\",IF(G54=\"wet drilling: unfragmented stone\",\"LP-8 EU-7\",IF(G54=\"conveyor transfer points\",\"LP-8 EU-8\")))))))))","v":""},null,null,null,{"$f":"IF($C$56=\"no\",I54,0)","v":0},{"$f":"IF($C$56=\"yes\",I54,0)","v":0}]
[null,{"$f":"IF('Limestone Plant (LP-8)'!$D$4>2,\"Crushing Period (Dates):\",\"\")","v":""},null,null,"","",null,null,null,0,0]
[null,{"$f":"IF('Limestone Plant (LP-8)'!$D$4>2,\"Controlled with Dust Suppressant or Material Being Processed has Moisture Content > 1.5%?\",\"\")","v":""},null,null,"","",null,null,null,0,0]
[null,null,null,null,"","",null,null,null,0,0]
[null,null,null,null,"","",null,null,null,0,0]
[null,null,null,null,"","",null,null,null,0,0]
[null,null,null,null,"","",null,null,null,0,0]
[]
[null,null,null,null,{"$f":"IF('Limestone Plant (LP-8)'!$D$4>2,\"Stock Pile Area\",\"\")","v":""}]
[null,null,null,null,null,{"$f":"IF('Limestone Plant (LP-8)'!$D$4>2,\"Emission Unit #\",\"\")","v":""},{"$f":"IF('Limestone Plant (LP-8)'!$D$4>2,\"Maximum Storage Area (acres)\",\"\")","v":""},{"$f":"IF('Limestone Plant (LP-8)'!$D$4>2,\"Actual Storage Area (acres)\",\"\")","v":""},{"$f":"IF('Limestone Plant (LP-8)'!$D$4>2,\"Actual Days in Existence (days)\",\"\")","v":""}]
[]
[]
[]
[null,{"$f":"IF('Limestone Plant (LP-8)'!$D$4>3,\"CRUSHER PLANT\",\"\")","v":""},{"$f":"IF('Limestone Plant (LP-8)'!$D$4>3,\"Site 4\",\"\")","v":""},null,{"$f":"IF('Limestone Plant (LP-8)'!$D$4>3,\"Emission Point #\",\"\")","v":""},{"$f":"IF('Limestone Plant (LP-8)'!$D$4>3,\"Emission    Unit #\",\"\")","v":""},{"$f":"IF('Limestone Plant (LP-8)'!$D$4>3,\"Processes\",\"\")","v":""},{"$f":"IF('Limestone Plant (LP-8)'!$D$4>3,\"Combined Maximum Hourly Design Rate for all Like Processes (tons/hr)\",\"\")","v":""},{"$f":"IF('Limestone Plant (LP-8)'!$D$4>3,('Facility Information'!G5&\" Annual Throughput (tons)\"),\"\")","v":""}]
[]
[null,{"$f":"IF('Limestone Plant (LP-8)'!$D$4>3,\"Site Name:\",\"\")","v":""},null,null,{"$f":"IF(G69=\"\",\"\",\"LP-8 EP-1\")","v":""},{"$f":"IF(G69=\"\",\"\",IF(G69=\"primary crusher\",\"LP-8 EU-1\",IF(G69=\"screening\",\"LP-8 EU-2\",IF(G69=\"secondary crusher\",\"LP-8 EU-3\",IF(G69=\"tertiary crusher\",\"LP-1 EU-4\",IF(G69=\"fines crushing\",\"LP-8 EU-5\",IF(G69=\"fines screening\",\"LP-8 EU-6\",IF(G69=\"wet drilling: unfragmented stone\",\"LP-8 EU-7\",IF(G69=\"conveyor transfer points\",\"LP-8 EU-8\")))))))))","v":""},null,null,null,{"$f":"IF($C$72=\"no\",I69,0)","v":0},{"$f":"IF($C$72=\"yes\",I69,0)","v":0}]
[null,{"$f":"IF('Limestone Plant (LP-8)'!$D$4>3,\"County:\",\"\")","v":""},null,null,{"$f":"IF(G70=\"\",\"\",\"LP-8 EP-1\")","v":""},{"$f":"IF(G70=\"\",\"\",IF(G70=\"primary crusher\",\"LP-8 EU-1\",IF(G70=\"screening\",\"LP-8 EU-2\",IF(G70=\"secondary crusher\",\"LP-8 EU-3\",IF(G70=\"tertiary crusher\",\"LP-1 EU-4\",IF(G70=\"fines crushing\",\"LP-8 EU-5\",IF(G70=\"fines screening\",\"LP-8 EU-6\",IF(G70=\"wet drilling: unfragmented stone\",\"LP-8 EU-7\",IF(G70=\"conveyor transfer points\",\"LP-8 EU-8\")))))))))","v":""},null,null,null,{"$f":"IF($C$72=\"no\",I70,0)","v":0},{"$f":"IF($C$72=\"yes\",I70,0)","v":0}]
[null,{"$f":"IF('Limestone Plant (LP-8)'!$D$4>3,\"Crushing Period (Dates):\",\"\")","v":""},null,null,"","",null,null,null,0,0]
[null,{"$f":"IF('Limestone Plant (LP-8)'!$D$4>3,\"Controlled with Dust Suppressant or Material Being Processed has Moisture Content > 1.5%?\",\"\")","v":""},null,null,"","",null,null,null,0,0]
[null,null,null,null,"","",null,null,null,0,0]
[null,null,null,null,"","",null,null,null,0,0]
[null,null,null,null,"","",null,null,null,0,0]
[null,null,null,null,"","",null,null,null,0,0]
[]
[null,null,null,null,{"$f":"IF('Limestone Plant (LP-8)'!$D$4>3,\"Stock Pile Area\",\"\")","v":""}]
[null,null,null,null,null,{"$f":"IF('Limestone Plant (LP-8)'!$D$4>3,\"Emission Unit #\",\"\")","v":""},{"$f":"IF('Limestone Plant (LP-8)'!$D$4>3,\"Maximum Storage Area (acres)\",\"\")","v":""},{"$f":"IF('Limestone Plant (LP-8)'!$D$4>3,\"Actual Storage Area (acres)\",\"\")","v":""},{"$f":"IF('Limestone Plant (LP-8)'!$D$4>3,\"Actual Days in Existence (days)\",\"\")","v":""}]
[]
[]
[]
[null,{"$f":"IF('Limestone Plant (LP-8)'!$D$4>4,\"CRUSHER PLANT\",\"\")","v":""},{"$f":"IF('Limestone Plant (LP-8)'!$D$4>4,\"Site 5\",\"\")","v":""},null,{"$f":"IF('Limestone Plant (LP-8)'!$D$4>4,\"Emission Point #\",\"\")","v":""},{"$f":"IF('Limestone Plant (LP-8)'!$D$4>4,\"Emission    Unit #\",\"\")","v":""},{"$f":"IF('Limestone Plant (LP-8)'!$D$4>4,\"Processes\",\"\")","v":""},{"$f":"IF('Limestone Plant (LP-8)'!$D$4>4,\"Combined Maximum Hourly Design Rate for all Like Processes (tons/hr)\",\"\")","v":""},{"$f":"IF('Limestone Plant (LP-8)'!$D$4>4,('Facility Information'!G5&\" Annual Throughput (tons)\"),\"\")","v":""}]
[]
[null,{"$f":"IF('Limestone Plant (LP-8)'!$D$4>4,\"Site Name:\",\"\")","v":""},null,null,{"$f":"IF(G85=\"\",\"\",\"LP-8 EP-1\")","v":""},{"$f":"IF(G85=\"\",\"\",IF(G85=\"primary crusher\",\"LP-8 EU-1\",IF(G85=\"screening\",\"LP-8 EU-2\",IF(G85=\"secondary crusher\",\"LP-8 EU-3\",IF(G85=\"tertiary crusher\",\"LP-1 EU-4\",IF(G85=\"fines crushing\",\"LP-8 EU-5\",IF(G85=\"fines screening\",\"LP-8 EU-6\",IF(G85=\"wet drilling: unfragmented stone\",\"LP-8 EU-7\",IF(G85=\"conveyor transfer points\",\"LP-8 EU-8\")))))))))","v":""},null,null,null,{"$f":"IF($C$88=\"no\",I85,0)","v":0},{"$f":"IF($C$88=\"yes\",I85,0)","v":0}]
[null,{"$f":"IF('Limestone Plant (LP-8)'!$D$4>4,\"County:\",\"\")","v":""},null,null,{"$f":"IF(G86=\"\",\"\",\"LP-8 EP-1\")","v":""},{"$f":"IF(G86=\"\",\"\",IF(G86=\"primary crusher\",\"LP-8 EU-1\",IF(G86=\"screening\",\"LP-8 EU-2\",IF(G86=\"secondary crusher\",\"LP-8 EU-3\",IF(G86=\"tertiary crusher\",\"LP-1 EU-4\",IF(G86=\"fines crushing\",\"LP-8 EU-5\",IF(G86=\"fines screening\",\"LP-8 EU-6\",IF(G86=\"wet drilling: unfragmented stone\",\"LP-8 EU-7\",IF(G86=\"conveyor transfer points\",\"LP-8 EU-8\")))))))))","v":""},null,null,null,{"$f":"IF($C$88=\"no\",I86,0)","v":0},{"$f":"IF($C$88=\"yes\",I86,0)","v":0}]
[null,{"$f":"IF('Limestone Plant (LP-8)'!$D$4>4,\"Crushing Period (Dates):\",\"\")","v":""},null,null,"","",null,null,null,0,0]
[null,{"$f":"IF('Limestone Plant (LP-8)'!$D$4>4,\"Controlled with Dust Suppressant or Material Being Processed has Moisture Content > 1.5%?\",\"\")","v":""},null,null,"","",null,null,null,0,0]
[null,null,null,null,"","",null,null,null,0,0]
[null,null,null,null,"","",null,null,null,0,0]
[null,null,null,null,"","",null,null,null,0,0]
[null,null,null,null,"","",null,null,null,0,0]
[]
[null,null,null,null,{"$f":"IF('Limestone Plant (LP-8)'!$D$4>4,\"Stock Pile Area\",\"\")","v":""}]
[null,null,null,null,null,{"$f":"IF('Limestone Plant (LP-8)'!$D$4>4,\"Emission Unit #\",\"\")","v":""},{"$f":"IF('Limestone Plant (LP-8)'!$D$4>4,\"Maximum Storage Area (acres)\",\"\")","v":""},{"$f":"IF('Limestone Plant (LP-8)'!$D$4>4,\"Actual Storage Area (acres)\",\"\")","v":""},{"$f":"IF('Limestone Plant (LP-8)'!$D$4>4,\"Actual Days in Existence (days)\",\"\")","v":""}]
[]
[]
[]
[null,{"$f":"IF('Limestone Plant (LP-8)'!$D$4>5,\"CRUSHER PLANT\",\"\")","v":""},{"$f":"IF('Limestone Plant (LP-8)'!$D$4>5,\"Site 6\",\"\")","v":""},null,{"$f":"IF('Limestone Plant (LP-8)'!$D$4>5,\"Emission Point #\",\"\")","v":""},{"$f":"IF('Limestone Plant (LP-8)'!$D$4>5,\"Emission    Unit #\",\"\")","v":""},{"$f":"IF('Limestone Plant (LP-8)'!$D$4>5,\"Processes\",\"\")","v":""},{"$f":"IF('Limestone Plant (LP-8)'!$D$4>5,\"Combined Maximum Hourly Design Rate for all Like Processes (tons/hr)\",\"\")","v":""},{"$f":"IF('Limestone Plant (LP-8)'!$D$4>5,('Facility Information'!G5&\" Annual Throughput (tons)\"),\"\")","v":""}]
[]
[null,{"$f":"IF('Limestone Plant (LP-8)'!$D$4>5,\"Site Name:\",\"\")","v":""},null,null,{"$f":"IF(G101=\"\",\"\",\"LP-8 EP-1\")","v":""},{"$f":"IF(G101=\"\",\"\",IF(G101=\"primary crusher\",\"LP-8 EU-1\",IF(G101=\"screening\",\"LP-8 EU-2\",IF(G101=\"secondary crusher\",\"LP-8 EU-3\",IF(G101=\"tertiary crusher\",\"LP-1 EU-4\",IF(G101=\"fines crushing\",\"LP-8 EU-5\",IF(G101=\"fines screening\",\"LP-8 EU-6\",IF(G101=\"wet drilling: unfragmented stone\",\"LP-8 EU-7\",IF(G101=\"conveyor transfer points\",\"LP-8 EU-8\")))))))))","v":""},null,null,null,{"$f":"IF($C$104=\"no\",I101,0)","v":0},{"$f":"IF($C$104=\"yes\",I101,0)","v":0}]
[null,{"$f":"IF('Limestone Plant (LP-8)'!$D$4>5,\"County:\",\"\")","v":""},null,null,{"$f":"IF(G102=\"\",\"\",\"LP-8 EP-1\")","v":""},{"$f":"IF(G102=\"\",\"\",IF(G102=\"primary crusher\",\"LP-8 EU-1\",IF(G102=\"screening\",\"LP-8 EU-2\",IF(G102=\"secondary crusher\",\"LP-8 EU-3\",IF(G102=\"tertiary crusher\",\"LP-1 EU-4\",IF(G102=\"fines crushing\",\"LP-8 EU-5\",IF(G102=\"fines screening\",\"LP-8 EU-6\",IF(G102=\"wet drilling: unfragmented stone\",\"LP-8 EU-7\",IF(G102=\"conveyor transfer points\",\"LP-8 EU-8\")))))))))","v":""},null,null,null,{"$f":"IF($C$104=\"no\",I102,0)","v":0},{"$f":"IF($C$104=\"yes\",I102,0)","v":0}]
[null,{"$f":"IF('Limestone Plant (LP-8)'!$D$4>5,\"Crushing Period (Dates):\",\"\")","v":""},null,null,"","",null,null,null,0,0]
[null,{"$f":"IF('Limestone Plant (LP-8)'!$D$4>5,\"Controlled with Dust Suppressant or Material Being Processed has Moisture Content > 1.5%?\",\"\")","v":""},null,null,"","",null,null,null,0,0]
[null,null,null,null,"","",null,null,null,0,0]
[null,null,null,null,"","",null,null,null,0,0]
[null,null,null,null,"","",null,null,null,0,0]
[null,null,null,null,"","",null,null,null,0,0]
[]
[null,null,null,null,{"$f":"IF('Limestone Plant (LP-8)'!$D$4>5,\"Stock Pile Area\",\"\")","v":""}]
[null,null,null,null,null,{"$f":"IF('Limestone Plant (LP-8)'!$D$4>5,\"Emission Unit #\",\"\")","v":""},{"$f":"IF('Limestone Plant (LP-8)'!$D$4>5,\"Maximum Storage Area (acres)\",\"\")","v":""},{"$f":"IF('Limestone Plant (LP-8)'!$D$4>5,\"Actual Storage Area (acres)\",\"\")","v":""},{"$f":"IF('Limestone Plant (LP-8)'!$D$4>5,\"Actual Days in Existence (days)\",\"\")","v":""}]
[]
[]
[]
[null,{"$f":"IF('Limestone Plant (LP-8)'!$D$4>6,\"CRUSHER PLANT\",\"\")","v":""},{"$f":"IF('Limestone Plant (LP-8)'!$D$4>6,\"Site 7\",\"\")","v":""},null,{"$f":"IF('Limestone Plant (LP-8)'!$D$4>6,\"Emission Point #\",\"\")","v":""},{"$f":"IF('Limestone Plant (LP-8)'!$D$4>6,\"Emission    Unit #\",\"\")","v":""},{"$f":"IF('Limestone Plant (LP-8)'!$D$4>6,\"Processes\",\"\")","v":""},{"$f":"IF('Limestone Plant (LP-8)'!$D$4>6,\"Combined Maximum Hourly Design Rate for all Like Processes (tons/hr)\",\"\")","v":""},{"$f":"IF('Limestone Plant (LP-8)'!$D$4>6,('Facility Information'!G5&\" Annual Throughput (tons)\"),\"\")","v":""}]
[]
[null,{"$f":"IF('Limestone Plant (LP-8)'!$D$4>6,\"Site Name:\",\"\")","v":""},null,null,{"$f":"IF(G117=\"\",\"\",\"LP-8 EP-1\")","v":""},{"$f":"IF(G117=\"\",\"\",IF(G117=\"primary crusher\",\"LP-8 EU-1\",IF(G117=\"screening\",\"LP-8 EU-2\",IF(G117=\"secondary crusher\",\"LP-8 EU-3\",IF(G117=\"tertiary crusher\",\"LP-1 EU-4\",IF(G117=\"fines crushing\",\"LP-8 EU-5\",IF(G117=\"fines screening\",\"LP-8 EU-6\",IF(G117=\"wet drilling: unfragmented stone\",\"LP-8 EU-7\",IF(G117=\"conveyor transfer points\",\"LP-8 EU-8\")))))))))","v":""},null,null,null,{"$f":"IF($C$120=\"no\",I117,0)","v":0},{"$f":"IF($C$120=\"yes\",I117,0)","v":0}]
[null,{"$f":"IF('Limestone Plant (LP-8)'!$D$4>6,\"County:\",\"\")","v":""},null,null,{"$f":"IF(G118=\"\",\"\",\"LP-8 EP-1\")","v":""},{"$f":"IF(G118=\"\",\"\",IF(G118=\"primary crusher\",\"LP-8 EU-1\",IF(G118=\"screening\",\"LP-8 EU-2\",IF(G118=\"secondary crusher\",\"LP-8 EU-3\",IF(G118=\"tertiary crusher\",\"LP-1 EU-4\",IF(G118=\"fines crushing\",\"LP-8 EU-5\",IF(G118=\"fines screening\",\"LP-8 EU-6\",IF(G118=\"wet drilling: unfragmented stone\",\"LP-8 EU-7\",IF(G118=\"conveyor transfer points\",\"LP-8 EU-8\")))))))))","v":""},null,null,null,{"$f":"IF($C$120=\"no\",I118,0)","v":0},{"$f":"IF($C$120=\"yes\",I118,0)","v":0}]
[null,{"$f":"IF('Limestone Plant (LP-8)'!$D$4>6,\"Crushing Period (Dates):\",\"\")","v":""},null,null,"","",null,null,null,0,0]
[null,{"$f":"IF('Limestone Plant (LP-8)'!$D$4>6,\"Controlled with Dust Suppressant or Material Being Processed has Moisture Content > 1.5%?\",\"\")","v":""},null,null,"","",null,null,null,0,0]
[null,null,null,null,"","",null,null,null,0,0]
[null,null,null,null,"","",null,null,null,0,0]
[null,null,null,null,"","",null,null,null,0,0]
[null,null,null,null,"","",null,null,null,0,0]
[]
[null,null,null,null,{"$f":"IF('Limestone Plant (LP-8)'!$D$4>6,\"Stock Pile Area\",\"\")","v":""}]
[null,null,null,null,null,{"$f":"IF('Limestone Plant (LP-8)'!$D$4>6,\"Emission Unit #\",\"\")","v":""},{"$f":"IF('Limestone Plant (LP-8)'!$D$4>6,\"Maximum Storage Area (acres)\",\"\")","v":""},{"$f":"IF('Limestone Plant (LP-8)'!$D$4>6,\"Actual Storage Area (acres)\",\"\")","v":""},{"$f":"IF('Limestone Plant (LP-8)'!$D$4>6,\"Actual Days in Existence (days)\",\"\")","v":""}]
[]
[]
[]
[null,{"$f":"IF('Limestone Plant (LP-8)'!$D$4>7,\"CRUSHER PLANT\",\"\")","v":""},{"$f":"IF('Limestone Plant (LP-8)'!$D$4>7,\"Site 8\",\"\")","v":""},null,{"$f":"IF('Limestone Plant (LP-8)'!$D$4>7,\"Emission Point #\",\"\")","v":""},{"$f":"IF('Limestone Plant (LP-8)'!$D$4>7,\"Emission    Unit #\",\"\")","v":""},{"$f":"IF('Limestone Plant (LP-8)'!$D$4>7,\"Processes\",\"\")","v":""},{"$f":"IF('Limestone Plant (LP-8)'!$D$4>7,\"Combined Maximum Hourly Design Rate for all Like Processes (tons/hr)\",\"\")","v":""},{"$f":"IF('Limestone Plant (LP-8)'!$D$4>7,('Facility Information'!G5&\" Annual Throughput (tons)\"),\"\")","v":""}]
[]
[null,{"$f":"IF('Limestone Plant (LP-8)'!$D$4>7,\"Site Name:\",\"\")","v":""},null,null,{"$f":"IF(G133=\"\",\"\",\"LP-8 EP-1\")","v":""},{"$f":"IF(G133=\"\",\"\",IF(G133=\"primary crusher\",\"LP-8 EU-1\",IF(G133=\"screening\",\"LP-8 EU-2\",IF(G133=\"secondary crusher\",\"LP-8 EU-3\",IF(G133=\"tertiary crusher\",\"LP-1 EU-4\",IF(G133=\"fines crushing\",\"LP-8 EU-5\",IF(G133=\"fines screening\",\"LP-8 EU-6\",IF(G133=\"wet drilling: unfragmented stone\",\"LP-8 EU-7\",IF(G133=\"conveyor transfer points\",\"LP-8 EU-8\")))))))))","v":""},null,null,null,{"$f":"IF($C$136=\"no\",I133,0)","v":0},{"$f":"IF($C$136=\"yes\",I133,0)","v":0}]
[null,{"$f":"IF('Limestone Plant (LP-8)'!$D$4>7,\"County:\",\"\")","v":""},null,null,{"$f":"IF(G134=\"\",\"\",\"LP-8 EP-1\")","v":""},{"$f":"IF(G134=\"\",\"\",IF(G134=\"primary crusher\",\"LP-8 EU-1\",IF(G134=\"screening\",\"LP-8 EU-2\",IF(G134=\"secondary crusher\",\"LP-8 EU-3\",IF(G134=\"tertiary crusher\",\"LP-1 EU-4\",IF(G134=\"fines crushing\",\"LP-8 EU-5\",IF(G134=\"fines screening\",\"LP-8 EU-6\",IF(G134=\"wet drilling: unfragmented stone\",\"LP-8 EU-7\",IF(G134=\"conveyor transfer points\",\"LP-8 EU-8\")))))))))","v":""},null,null,null,{"$f":"IF($C$136=\"no\",I134,0)","v":0},{"$f":"IF($C$136=\"yes\",I134,0)","v":0}]
[null,{"$f":"IF('Limestone Plant (LP-8)'!$D$4>7,\"Crushing Period (Dates):\",\"\")","v":""},null,null,"","",null,null,null,0,0]
[null,{"$f":"IF('Limestone Plant (LP-8)'!$D$4>7,\"Controlled with Dust Suppressant or Material Being Processed has Moisture Content > 1.5%?\",\"\")","v":""},null,null,"","",null,null,null,0,0]
[null,null,null,null,"","",null,null,null,0,0]
[null,null,null,null,"","",null,null,null,0,0]
[null,null,null,null,"","",null,null,null,0,0]
[null,null,null,null,"","",null,null,null,0,0]
[]
[null,null,null,null,{"$f":"IF('Limestone Plant (LP-8)'!$D$4>7,\"Stock Pile Area\",\"\")","v":""}]
[null,null,null,null,null,{"$f":"IF('Limestone Plant (LP-8)'!$D$4>7,\"Emission Unit #\",\"\")","v":""},{"$f":"IF('Limestone Plant (LP-8)'!$D$4>7,\"Maximum Storage Area (acres)\",\"\")","v":""},{"$f":"IF('Limestone Plant (LP-8)'!$D$4>7,\"Actual Storage Area (acres)\",\"\")","v":""},{"$f":"IF('Limestone Plant (LP-8)'!$D$4>7,\"Actual Days in Existence (days)\",\"\")","v":""}]
[]
[]
[]
[null,{"$f":"IF('Limestone Plant (LP-8)'!$D$4>8,\"CRUSHER PLANT\",\"\")","v":""},{"$f":"IF('Limestone Plant (LP-8)'!$D$4>8,\"Site 9\",\"\")","v":""},null,{"$f":"IF('Limestone Plant (LP-8)'!$D$4>8,\"Emission Point #\",\"\")","v":""},{"$f":"IF('Limestone Plant (LP-8)'!$D$4>8,\"Emission    Unit #\",\"\")","v":""},{"$f":"IF('Limestone Plant (LP-8)'!$D$4>8,\"Processes\",\"\")","v":""},{"$f":"IF('Limestone Plant (LP-8)'!$D$4>8,\"Combined Maximum Hourly Design Rate for all Like Processes (tons/hr)\",\"\")","v":""},{"$f":"IF('Limestone Plant (LP-8)'!$D$4>8,('Facility Information'!G5&\" Annual Throughput (tons)\"),\"\")","v":""}]
[]
[null,{"$f":"IF('Limestone Plant (LP-8)'!$D$4>8,\"Site Name:\",\"\")","v":""},null,null,{"$f":"IF(G149=\"\",\"\",\"LP-8 EP-1\")","v":""},{"$f":"IF(G149=\"\",\"\",IF(G149=\"primary crusher\",\"LP-8 EU-1\",IF(G149=\"screening\",\"LP-8 EU-2\",IF(G149=\"secondary crusher\",\"LP-8 EU-3\",IF(G149=\"tertiary crusher\",\"LP-1 EU-4\",IF(G149=\"fines crushing\",\"LP-8 EU-5\",IF(G149=\"fines screening\",\"LP-8 EU-6\",IF(G149=\"wet drilling: unfragmented stone\",\"LP-8 EU-7\",IF(G149=\"conveyor transfer points\",\"LP-8 EU-8\")))))))))","v":""},null,null,null,{"$f":"IF($C$152=\"no\",I149,0)","v":0},{"$f":"IF($C$152=\"yes\",I149,0)","v":0}]
[null,{"$f":"IF('Limestone Plant (LP-8)'!$D$4>8,\"County:\",\"\")","v":""},null,null,{"$f":"IF(G150=\"\",\"\",\"LP-8 EP-1\")","v":""},{"$f":"IF(G150=\"\",\"\",IF(G150=\"primary crusher\",\"LP-8 EU-1\",IF(G150=\"screening\",\"LP-8 EU-2\",IF(G150=\"secondary crusher\",\"LP-8 EU-3\",IF(G150=\"tertiary crusher\",\"LP-1 EU-4\",IF(G150=\"fines crushing\",\"LP-8 EU-5\",IF(G150=\"fines screening\",\"LP-8 EU-6\",IF(G150=\"wet drilling: unfragmented stone\",\"LP-8 EU-7\",IF(G150=\"conveyor transfer points\",\"LP-8 EU-8\")))))))))","v":""},null,null,null,{"$f":"IF($C$152=\"no\",I150,0)","v":0},{"$f":"IF($C$152=\"yes\",I150,0)","v":0}]
[null,{"$f":"IF('Limestone Plant (LP-8)'!$D$4>8,\"Crushing Period (Dates):\",\"\")","v":""},null,null,"","",null,null,null,0,0]
[null,{"$f":"IF('Limestone Plant (LP-8)'!$D$4>8,\"Controlled with Dust Suppressant or Material Being Processed has Moisture Content > 1.5%?\",\"\")","v":""},null,null,"","",null,null,null,0,0]
[null,null,null,null,"","",null,null,null,0,0]
[null,null,null,null,"","",null,null,null,0,0]
[null,null,null,null,"","",null,null,null,0,0]
[null,null,null,null,"","",null,null,null,0,0]
[]
[null,null,null,null,{"$f":"IF('Limestone Plant (LP-8)'!$D$4>8,\"Stock Pile Area\",\"\")","v":""}]
[null,null,null,null,null,{"$f":"IF('Limestone Plant (LP-8)'!$D$4>8,\"Emission Unit #\",\"\")","v":""},{"$f":"IF('Limestone Plant (LP-8)'!$D$4>8,\"Maximum Storage Area (acres)\",\"\")","v":""},{"$f":"IF('Limestone Plant (LP-8)'!$D$4>8,\"Actual Storage Area (acres)\",\"\")","v":""},{"$f":"IF('Limestone Plant (LP-8)'!$D$4>8,\"Actual Days in Existence (days)\",\"\")","v":""}]
[]
[]
[]
[null,{"$f":"IF('Limestone Plant (LP-8)'!$D$4>9,\"CRUSHER PLANT\",\"\")","v":""},{"$f":"IF('Limestone Plant (LP-8)'!$D$4>9,\"Site 10\",\"\")","v":""},null,{"$f":"IF('Limestone Plant (LP-8)'!$D$4>9,\"Emission Point #\",\"\")","v":""},{"$f":"IF('Limestone Plant (LP-8)'!$D$4>9,\"Emission    Unit #\",\"\")","v":""},{"$f":"IF('Limestone Plant (LP-8)'!$D$4>9,\"Processes\",\"\")","v":""},{"$f":"IF('Limestone Plant (LP-8)'!$D$4>9,\"Combined Maximum Hourly Design Rate for all Like Processes (tons/hr)\",\"\")","v":""},{"$f":"IF('Limestone Plant (LP-8)'!$D$4>9,('Facility Information'!G5&\" Annual Throughput (tons)\"),\"\")","v":""}]
[]
[null,{"$f":"IF('Limestone Plant (LP-8)'!$D$4>9,\"Site Name:\",\"\")","v":""},null,null,{"$f":"IF(G165=\"\",\"\",\"LP-8 EP-1\")","v":""},{"$f":"IF(G165=\"\",\"\",IF(G165=\"primary crusher\",\"LP-8 EU-1\",IF(G165=\"screening\",\"LP-8 EU-2\",IF(G165=\"secondary crusher\",\"LP-8 EU-3\",IF(G165=\"tertiary crusher\",\"LP-1 EU-4\",IF(G165=\"fines crushing\",\"LP-8 EU-5\",IF(G165=\"fines screening\",\"LP-8 EU-6\",IF(G165=\"wet drilling: unfragmented stone\",\"LP-8 EU-7\",IF(G165=\"conveyor transfer points\",\"LP-8 EU-8\")))))))))","v":""},null,null,null,{"$f":"IF($C168=\"no\",I165,0)","v":0}]
[null,{"$f":"IF('Limestone Plant (LP-8)'!$D$4>9,\"County:\",\"\")","v":""},null,null,{"$f":"IF(G166=\"\",\"\",\"LP-8 EP-1\")","v":""},{"$f":"IF(G166=\"\",\"\",IF(G166=\"primary crusher\",\"LP-8 EU-1\",IF(G166=\"screening\",\"LP-8 EU-2\",IF(G166=\"secondary crusher\",\"LP-8 EU-3\",IF(G166=\"tertiary crusher\",\"LP-1 EU-4\",IF(G166=\"fines crushing\",\"LP-8 EU-5\",IF(G166=\"fines screening\",\"LP-8 EU-6\",IF(G166=\"wet drilling: unfragmented stone\",\"LP-8 EU-7\",IF(G166=\"conveyor transfer points\",\"LP-8 EU-8\")))))))))","v":""}]
[null,{"$f":"IF('Limestone Plant (LP-8)'!$D$4>9,\"Crushing Period (Dates):\",\"\")","v":""},null,null,"",""]
[null,{"$f":"IF('Limestone Plant (LP-8)'!$D$4>9,\"Controlled with Dust Suppressant or Material Being Processed has Moisture Content > 1.5%?\",\"\")","v":""},null,null,"",""]
[null,null,null,null,"",""]
[null,null,null,null,"",""]
[null,null,null,null,"",""]
[null,null,null,null,"",""]
[]
[null,null,null,null,{"$f":"IF('Limestone Plant (LP-8)'!$D$4>9,\"Stock Pile Area\",\"\")","v":""}]
[null,null,null,null,null,{"$f":"IF('Limestone Plant (LP-8)'!$D$4>9,\"Emission Unit #\",\"\")","v":""},{"$f":"IF('Limestone Plant (LP-8)'!$D$4>9,\"Maximum Storage Area (acres)\",\"\")","v":""},{"$f":"IF('Limestone Plant (LP-8)'!$D$4>9,\"Actual Storage Area (acres)\",\"\")","v":""},{"$f":"IF('Limestone Plant (LP-8)'!$D$4>9,\"Actual Days in Existence (days)\",\"\")","v":""}]

{"sheet":"Limestone Plant (LP-9)","index":9,"n_rows":175,"n_cols":19,"rows_kept":175,"cut":false,"hidden":true,"merged":[[167,1,169,1],[167,2,169,2],[119,1,121,1],[119,2,121,2],[135,1,137,1],[135,2,137,2],[151,1,153,1],[151,2,153,2],[71,1,73,1],[71,2,73,2],[87,1,89,1],[87,2,89,2],[103,1,105,1],[103,2,105,2],[23,1,25,1],[23,2,25,2],[39,1,41,1],[39,2,41,2],[55,1,57,1],[55,2,57,2],[162,4,163,4],[162,6,163,6],[162,7,163,7],[162,8,163,8],[130,4,131,4],[130,6,131,6],[130,7,131,7],[130,8,131,8],[146,4,147,4],[146,6,147,6],[146,7,147,7],[146,8,147,8],[162,5,163,5],[146,5,147,5],[130,5,131,5],[98,4,99,4],[98,6,99,6],[98,7,99,7],[98,8,99,8],[114,4,115,4],[114,6,115,6],[114,7,115,7],[114,8,115,8],[114,5,115,5],[98,5,99,5],[66,4,67,4],[66,6,67,6],[66,7,67,7],[66,8,67,8],[82,4,83,4],[82,6,83,6],[82,7,83,7],[82,8,83,8],[82,5,83,5],[66,5,67,5],[48,3,48,4],[50,4,51,4],[50,6,51,6],[50,7,51,7],[50,8,51,8],[50,5,51,5],[37,14,38,14],[37,15,38,15],[37,16,38,16],[37,17,38,17],[37,18,38,18],[34,4,35,4],[34,6,35,6],[34,7,35,7],[34,8,35,8],[37,13,38,13],[34,5,35,5],[17,16,18,16],[17,17,18,17],[17,18,18,18],[18,4,19,4],[18,6,19,6],[18,7,19,7],[18,8,19,8],[17,13,18,13],[17,14,18,14],[17,15,18,15],[18,5,19,5],[2,13,3,13],[2,14,3,14],[2,18,3,18],[3,1,3,2],[3,3,3,4],[11,1,13,2],[0,1,0,2],[1,1,1,2],[1,7,1,8],[2,12,3,12]]}
[null,"LIMESTONE CRUSHING PLANT (LP-9)"]
[null,"Please fill in the yellow boxes as applicable for your facility. ",null,null,null,null,null,"Values used for calculating emissions →",null,null,null,null,"Values Used to Calculate Actual Emissions for the Listed Processes at this Plant"]
[null,null,null,null,null,null,null,null,null,null,null,null,"Process","Maximum Design Rate (tons/hr)","Actual throughput w/o wet supression (tons/yr)",null,null,null,"Actual throughtput w/ wet supression (tons/yr)"]
[null,{"$f":"\"Number of Sites this Plant operated at in \"&'Facility Information'!G5&\":\"","v":"Number of Sites this Plant operated at in :"},null,null,null,null,null,null,null,null,null,null,null,null,null,null,"** As of 2016 Potential Emissions are no longer required to be reported in the Minor Source Emissions Inventory**"]
[null,null,null,null,null,null,null,null,null,null,null,null,"Primary Crusher",{"$f":"MAX((IFERROR(OFFSET($G$20,MATCH(\"primary crusher\",$G$21:$G$28,0),1),0)),((IFERROR((OFFSET($G$36,MATCH(\"primary crusher\",$G$37:$G$44,0),1)),0))),((IFERROR((OFFSET($G$52,MATCH(\"primary crusher\",$G$53:$G$60,0),1)),0))),((IFERROR((OFFSET($G$68,MATCH(\"primary crusher\",$G$69:$G$76,0),1)),0))),((IFERROR((OFFSET($G$84,MATCH(\"primary crusher\",$G$85:$G$92,0),1)),0))),((IFERROR((OFFSET($G$100,MATCH(\"primary crusher\",$G$101:$G$108,0),1)),0))),((IFERROR((OFFSET($G$116,MATCH(\"primary crusher\",$G$117:$G$124,0),1)),0))),((IFERROR((OFFSET($G$132,MATCH(\"primary crusher\",$G$133:$G$140,0),1)),0))),((IFERROR((OFFSET($G$148,MATCH(\"primary crusher\",$G$149:$G$156,0),1)),0))),((IFERROR((OFFSET($G$163,MATCH(\"primary crusher\",$G$165:$G$172,0),1)),0))))","v":0},{"$f":"SUM((IFERROR(OFFSET($G$20,MATCH(\"primary crusher\",$G$21:$G$28,0),3),0)),((IFERROR((OFFSET($G$36,MATCH(\"primary crusher\",$G$37:$G$44,0),3)),0))),((IFERROR((OFFSET($G$52,MATCH(\"primary crusher\",$G$53:$G$60,0),3)),0))),((IFERROR((OFFSET($G$68,MATCH(\"primary crusher\",$G$69:$G$76,0),3)),0))),((IFERROR((OFFSET($G$84,MATCH(\"primary crusher\",$G$85:$G$92,0),3)),0))),((IFERROR((OFFSET($G$100,MATCH(\"primary crusher\",$G$101:$G$108,0),3)),0))),((IFERROR((OFFSET($G$116,MATCH(\"primary crusher\",$G$117:$G$124,0),3)),0))),((IFERROR((OFFSET($G$132,MATCH(\"primary crusher\",$G$133:$G$140,0),3)),0))),((IFERROR((OFFSET($G$148,MATCH(\"primary crusher\",$G$149:$G$156,0),3)),0))),((IFERROR((OFFSET($G$163,MATCH(\"primary crusher\",$G$165:$G$172,0),3)),0))))","v":0},null,null,null,{"$f":"SUM((IFERROR(OFFSET($G$20,MATCH(\"primary crusher\",$G$21:$G$28,0),4),0)),((IFERROR((OFFSET($G$36,MATCH(\"primary crusher\",$G$37:$G$44,0),4)),0))),((IFERROR((OFFSET($G$52,MATCH(\"primary crusher\",$G$53:$G$60,0),4)),0))),((IFERROR((OFFSET($G$68,MATCH(\"primary crusher\",$G$69:$G$76,0),4)),0))),((IFERROR((OFFSET($G$84,MATCH(\"primary crusher\",$G$85:$G$92,0),4)),0))),((IFERROR((OFFSET($G$100,MATCH(\"primary crusher\",$G$101:$G$108,0),4)),0))),((IFERROR((OFFSET($G$116,MATCH(\"primary crusher\",$G$117:$G$124,0),4)),0))),((IFERROR((OFFSET($G$132,MATCH(\"primary crusher\",$G$133:$G$140,0),4)),0))),((IFERROR((OFFSET($G$148,MATCH(\"primary crusher\",$G$149:$G$156,0),4)),0))),((IFERROR((OFFSET($G$163,MATCH(\"primary crusher\",$G$165:$G$172,0),4)),0))))","v":0}]
[null,"Plant Specific Permit Number: ",null,null,null,null,null,null,null,null,null,null,"Screening",{"$f":"MAX((IFERROR(OFFSET($G$20,MATCH(\"screening\",$G$21:$G$28,0),1),0)),((IFERROR((OFFSET($G$36,MATCH(\"screening\",$G$37:$G$44,0),1)),0))),((IFERROR((OFFSET($G$52,MATCH(\"screening\",$G$53:$G$60,0),1)),0))),((IFERROR((OFFSET($G$68,MATCH(\"screening\",$G$69:$G$76,0),1)),0))),((IFERROR((OFFSET($G$84,MATCH(\"screening\",$G$85:$G$92,0),1)),0))),((IFERROR((OFFSET($G$100,MATCH(\"screening\",$G$101:$G$108,0),1)),0))),((IFERROR((OFFSET($G$116,MATCH(\"screening\",$G$117:$G$124,0),1)),0))),((IFERROR((OFFSET($G$132,MATCH(\"screening\",$G$133:$G$140,0),1)),0))),((IFERROR((OFFSET($G$148,MATCH(\"screening\",$G$149:$G$156,0),1)),0))),((IFERROR((OFFSET($G$163,MATCH(\"screening\",$G$165:$G$172,0),1)),0))))","v":0},{"$f":"SUM((IFERROR(OFFSET($G$20,MATCH(\"screening\",$G$21:$G$28,0),3),0)),((IFERROR((OFFSET($G$36,MATCH(\"screening\",$G$37:$G$44,0),3)),0))),((IFERROR((OFFSET($G$52,MATCH(\"screening\",$G$53:$G$60,0),3)),0))),((IFERROR((OFFSET($G$68,MATCH(\"screening\",$G$69:$G$76,0),3)),0))),((IFERROR((OFFSET($G$84,MATCH(\"screening\",$G$85:$G$92,0),3)),0))),((IFERROR((OFFSET($G$100,MATCH(\"screening\",$G$101:$G$108,0),3)),0))),((IFERROR((OFFSET($G$116,MATCH(\"screening\",$G$117:$G$124,0),3)),0))),((IFERROR((OFFSET($G$132,MATCH(\"screening\",$G$133:$G$140,0),3)),0))),((IFERROR((OFFSET($G$148,MATCH(\"screening\",$G$149:$G$156,0),3)),0))),((IFERROR((OFFSET($G$163,MATCH(\"screening\",$G$165:$G$172,0),3)),0))))","v":0},null,null,null,{"$f":"SUM((IFERROR(OFFSET($G$20,MATCH(\"screening\",$G$21:$G$28,0),4),0)),((IFERROR((OFFSET($G$36,MATCH(\"screening\",$G$37:$G$44,0),4)),0))),((IFERROR((OFFSET($G$52,MATCH(\"screening\",$G$53:$G$60,0),4)),0))),((IFERROR((OFFSET($G$68,MATCH(\"screening\",$G$69:$G$76,0),4)),0))),((IFERROR((OFFSET($G$84,MATCH(\"screening\",$G$85:$G$92,0),4)),0))),((IFERROR((OFFSET($G$100,MATCH(\"screening\",$G$101:$G$108,0),4)),0))),((IFERROR((OFFSET($G$116,MATCH(\"screening\",$G$117:$G$124,0),4)),0))),((IFERROR((OFFSET($G$132,MATCH(\"screening\",$G$133:$G$140,0),4)),0))),((IFERROR((OFFSET($G$148,MATCH(\"screening\",$G$149:$G$156,0),4)),0))),((IFERROR((OFFSET($G$163,MATCH(\"screening\",$G$165:$G$172,0),4)),0))))","v":0}]
[null,null,null,null,null,null,null,null,null,null,null,null,"Secondary Crusher",{"$f":"MAX((IFERROR(OFFSET($G$20,MATCH(\"secondary crusher\",$G$21:$G$28,0),1),0)),((IFERROR((OFFSET($G$36,MATCH(\"secondary crusher\",$G$37:$G$44,0),1)),0))),((IFERROR((OFFSET($G$52,MATCH(\"secondary crusher\",$G$53:$G$60,0),1)),0))),((IFERROR((OFFSET($G$68,MATCH(\"secondary crusher\",$G$69:$G$76,0),1)),0))),((IFERROR((OFFSET($G$84,MATCH(\"secondary crusher\",$G$85:$G$92,0),1)),0))),((IFERROR((OFFSET($G$100,MATCH(\"secondary crusher\",$G$101:$G$108,0),1)),0))),((IFERROR((OFFSET($G$116,MATCH(\"secondary crusher\",$G$117:$G$124,0),1)),0))),((IFERROR((OFFSET($G$132,MATCH(\"secondary crusher\",$G$133:$G$140,0),1)),0))),((IFERROR((OFFSET($G$148,MATCH(\"secondary crusher\",$G$149:$G$156,0),1)),0))),((IFERROR((OFFSET($G$163,MATCH(\"secondary crusher\",$G$165:$G$172,0),1)),0))))","v":0},{"$f":"SUM((IFERROR(OFFSET($G$20,MATCH(\"secondary crusher\",$G$21:$G$28,0),3),0)),((IFERROR((OFFSET($G$36,MATCH(\"secondary crusher\",$G$37:$G$44,0),3)),0))),((IFERROR((OFFSET($G$52,MATCH(\"secondary crusher\",$G$53:$G$60,0),3)),0))),((IFERROR((OFFSET($G$68,MATCH(\"secondary crusher\",$G$69:$G$76,0),3)),0))),((IFERROR((OFFSET($G$84,MATCH(\"secondary crusher\",$G$85:$G$92,0),3)),0))),((IFERROR((OFFSET($G$100,MATCH(\"secondary crusher\",$G$101:$G$108,0),3)),0))),((IFERROR((OFFSET($G$116,MATCH(\"secondary crusher\",$G$117:$G$124,0),3)),0))),((IFERROR((OFFSET($G$132,MATCH(\"secondary crusher\",$G$133:$G$140,0),3)),0))),((IFERROR((OFFSET($G$148,MATCH(\"secondary crusher\",$G$149:$G$156,0),3)),0))),((IFERROR((OFFSET($G$163,MATCH(\"secondary crusher\",$G$165:$G$172,0),3)),0))))","v":0},null,null,null,{"$f":"SUM((IFERROR(OFFSET($G$20,MATCH(\"secondary crusher\",$G$21:$G$28,0),4),0)),((IFERROR((OFFSET($G$36,MATCH(\"secondary crusher\",$G$37:$G$44,0),4)),0))),((IFERROR((OFFSET($G$52,MATCH(\"secondary crusher\",$G$53:$G$60,0),4)),0))),((IFERROR((OFFSET($G$68,MATCH(\"secondary crusher\",$G$69:$G$76,0),4)),0))),((IFERROR((OFFSET($G$84,MATCH(\"secondary crusher\",$G$85:$G$92,0),4)),0))),((IFERROR((OFFSET($G$100,MATCH(\"secondary crusher\",$G$101:$G$108,0),4)),0))),((IFERROR((OFFSET($G$116,MATCH(\"secondary crusher\",$G$117:$G$124,0),4)),0))),((IFERROR((OFFSET($G$132,MATCH(\"secondary crusher\",$G$133:$G$140,0),4)),0))),((IFERROR((OFFSET($G$148,MATCH(\"secondary crusher\",$G$149:$G$156,0),4)),0))),((IFERROR((OFFSET($G$163,MATCH(\"secondary crusher\",$G$165:$G$172,0),4)),0))))","v":0}]
[null,"Plant Specific Operating Limits:",null,null,"Plant Specific Emission Limits:",null,null,null,null,null,null,null,"Tertiary Crusher",{"$f":"MAX((IFERROR(OFFSET($G$20,MATCH(\"tertiary crusher\",$G$21:$G$28,0),1),0)),((IFERROR((OFFSET($G$36,MATCH(\"tertiary crusher\",$G$37:$G$44,0),1)),0))),((IFERROR((OFFSET($G$52,MATCH(\"tertiary crusher\",$G$53:$G$60,0),1)),0))),((IFERROR((OFFSET($G$68,MATCH(\"tertiary crusher\",$G$69:$G$76,0),1)),0))),((IFERROR((OFFSET($G$84,MATCH(\"tertiary crusher\",$G$85:$G$92,0),1)),0))),((IFERROR((OFFSET($G$100,MATCH(\"tertiary crusher\",$G$101:$G$108,0),1)),0))),((IFERROR((OFFSET($G$116,MATCH(\"tertiary crusher\",$G$117:$G$124,0),1)),0))),((IFERROR((OFFSET($G$132,MATCH(\"tertiary crusher\",$G$133:$G$140,0),1)),0))),((IFERROR((OFFSET($G$148,MATCH(\"tertiary crusher\",$G$149:$G$156,0),1)),0))),((IFERROR((OFFSET($G$163,MATCH(\"tertiary crusher\",$G$165:$G$172,0),1)),0))))","v":0},{"$f":"SUM((IFERROR(OFFSET($G$20,MATCH(\"tertiary crusher\",$G$21:$G$28,0),3),0)),((IFERROR((OFFSET($G$36,MATCH(\"tertiary crusher\",$G$37:$G$44,0),3)),0))),((IFERROR((OFFSET($G$52,MATCH(\"tertiary crusher\",$G$53:$G$60,0),3)),0))),((IFERROR((OFFSET($G$68,MATCH(\"tertiary crusher\",$G$69:$G$76,0),3)),0))),((IFERROR((OFFSET($G$84,MATCH(\"tertiary crusher\",$G$85:$G$92,0),3)),0))),((IFERROR((OFFSET($G$100,MATCH(\"tertiary crusher\",$G$101:$G$108,0),3)),0))),((IFERROR((OFFSET($G$116,MATCH(\"tertiary crusher\",$G$117:$G$124,0),3)),0))),((IFERROR((OFFSET($G$132,MATCH(\"tertiary crusher\",$G$133:$G$140,0),3)),0))),((IFERROR((OFFSET($G$148,MATCH(\"tertiary crusher\",$G$149:$G$156,0),3)),0))),((IFERROR((OFFSET($G$163,MATCH(\"tertiary crusher\",$G$165:$G$172,0),3)),0))))","v":0},null,null,null,{"$f":"SUM((IFERROR(OFFSET($G$20,MATCH(\"tertiary crusher\",$G$21:$G$28,0),4),0)),((IFERROR((OFFSET($G$36,MATCH(\"tertiary crusher\",$G$37:$G$44,0),4)),0))),((IFERROR((OFFSET($G$52,MATCH(\"tertiary crusher\",$G$53:$G$60,0),4)),0))),((IFERROR((OFFSET($G$68,MATCH(\"tertiary crusher\",$G$69:$G$76,0),4)),0))),((IFERROR((OFFSET($G$84,MATCH(\"tertiary crusher\",$G$85:$G$92,0),4)),0))),((IFERROR((OFFSET($G$100,MATCH(\"tertiary crusher\",$G$101:$G$108,0),4)),0))),((IFERROR((OFFSET($G$116,MATCH(\"tertiary crusher\",$G$117:$G$124,0),4)),0))),((IFERROR((OFFSET($G$132,MATCH(\"tertiary crusher\",$G$133:$G$140,0),4)),0))),((IFERROR((OFFSET($G$148,MATCH(\"tertiary crusher\",$G$149:$G$156,0),4)),0))),((IFERROR((OFFSET($G$163,MATCH(\"tertiary crusher\",$G$165:$G$172,0),4)),0))))","v":0}]
[null,"Throughput Limit (tons/yr):",null,null,"Pollutant","lb/hr","tons/yr",null,null,null,null,null,"Fines Crushing",{"$f":"MAX((IFERROR(OFFSET($G$20,MATCH(\"fines crushing\",$G$21:$G$28,0),1),0)),((IFERROR((OFFSET($G$36,MATCH(\"fines crushing\",$G$37:$G$44,0),1)),0))),((IFERROR((OFFSET($G$52,MATCH(\"fines crushing\",$G$53:$G$60,0),1)),0))),((IFERROR((OFFSET($G$68,MATCH(\"fines crushing\",$G$69:$G$76,0),1)),0))),((IFERROR((OFFSET($G$84,MATCH(\"fines crushing\",$G$85:$G$92,0),1)),0))),((IFERROR((OFFSET($G$100,MATCH(\"fines crushing\",$G$101:$G$108,0),1)),0))),((IFERROR((OFFSET($G$116,MATCH(\"fines crushing\",$G$117:$G$124,0),1)),0))),((IFERROR((OFFSET($G$132,MATCH(\"fines crushing\",$G$133:$G$140,0),1)),0))),((IFERROR((OFFSET($G$148,MATCH(\"fines crushing\",$G$149:$G$156,0),1)),0))),((IFERROR((OFFSET($G$163,MATCH(\"fines crushing\",$G$165:$G$172,0),1)),0))))","v":0},{"$f":"SUM((IFERROR(OFFSET($G$20,MATCH(\"fines crushing\",$G$21:$G$28,0),3),0)),((IFERROR((OFFSET($G$36,MATCH(\"fines crushing\",$G$37:$G$44,0),3)),0))),((IFERROR((OFFSET($G$52,MATCH(\"fines crushing\",$G$53:$G$60,0),3)),0))),((IFERROR((OFFSET($G$68,MATCH(\"fines crushing\",$G$69:$G$76,0),3)),0))),((IFERROR((OFFSET($G$84,MATCH(\"fines crushing\",$G$85:$G$92,0),3)),0))),((IFERROR((OFFSET($G$100,MATCH(\"fines crushing\",$G$101:$G$108,0),3)),0))),((IFERROR((OFFSET($G$116,MATCH(\"fines crushing\",$G$117:$G$124,0),3)),0))),((IFERROR((OFFSET($G$132,MATCH(\"fines crushing\",$G$133:$G$140,0),3)),0))),((IFERROR((OFFSET($G$148,MATCH(\"fines crushing\",$G$149:$G$156,0),3)),0))),((IFERROR((OFFSET($G$163,MATCH(\"fines crushing\",$G$165:$G$172,0),3)),0))))","v":0},null,null,null,{"$f":"SUM((IFERROR(OFFSET($G$20,MATCH(\"fines crushing\",$G$21:$G$28,0),4),0)),((IFERROR((OFFSET($G$36,MATCH(\"fines crushing\",$G$37:$G$44,0),4)),0))),((IFERROR((OFFSET($G$52,MATCH(\"fines crushing\",$G$53:$G$60,0),4)),0))),((IFERROR((OFFSET($G$68,MATCH(\"fines crushing\",$G$69:$G$76,0),4)),0))),((IFERROR((OFFSET($G$84,MATCH(\"fines crushing\",$G$85:$G$92,0),4)),0))),((IFERROR((OFFSET($G$100,MATCH(\"fines crushing\",$G$101:$G$108,0),4)),0))),((IFERROR((OFFSET($G$116,MATCH(\"fines crushing\",$G$117:$G$124,0),4)),0))),((IFERROR((OFFSET($G$132,MATCH(\"fines crushing\",$G$133:$G$140,0),4)),0))),((IFERROR((OFFSET($G$148,MATCH(\"fines crushing\",$G$149:$G$156,0),4)),0))),((IFERROR((OFFSET($G$163,MATCH(\"fines crushing\",$G$165:$G$172,0),4)),0))))","v":0}]
[null,"Daily Throughput Limit (tons/day):",null,null,"PM2.5",null,null,null,null,null,null,null,"Fines Screening",{"$f":"MAX((IFERROR(OFFSET($G$20,MATCH(\"fines screening\",$G$21:$G$28,0),1),0)),((IFERROR((OFFSET($G$36,MATCH(\"fines screening\",$G$37:$G$44,0),1)),0))),((IFERROR((OFFSET($G$52,MATCH(\"fines screening\",$G$53:$G$60,0),1)),0))),((IFERROR((OFFSET($G$68,MATCH(\"fines screening\",$G$69:$G$76,0),1)),0))),((IFERROR((OFFSET($G$84,MATCH(\"fines screening\",$G$85:$G$92,0),1)),0))),((IFERROR((OFFSET($G$100,MATCH(\"fines screening\",$G$101:$G$108,0),1)),0))),((IFERROR((OFFSET($G$116,MATCH(\"fines screening\",$G$117:$G$124,0),1)),0))),((IFERROR((OFFSET($G$132,MATCH(\"fines screening\",$G$133:$G$140,0),1)),0))),((IFERROR((OFFSET($G$148,MATCH(\"fines screening\",$G$149:$G$156,0),1)),0))),((IFERROR((OFFSET($G$163,MATCH(\"fines screening\",$G$165:$G$172,0),1)),0))))","v":0},{"$f":"SUM((IFERROR(OFFSET($G$20,MATCH(\"fines screening\",$G$21:$G$28,0),3),0)),((IFERROR((OFFSET($G$36,MATCH(\"fines screening\",$G$37:$G$44,0),3)),0))),((IFERROR((OFFSET($G$52,MATCH(\"fines screening\",$G$53:$G$60,0),3)),0))),((IFERROR((OFFSET($G$68,MATCH(\"fines screening\",$G$69:$G$76,0),3)),0))),((IFERROR((OFFSET($G$84,MATCH(\"fines screening\",$G$85:$G$92,0),3)),0))),((IFERROR((OFFSET($G$100,MATCH(\"fines screening\",$G$101:$G$108,0),3)),0))),((IFERROR((OFFSET($G$116,MATCH(\"fines screening\",$G$117:$G$124,0),3)),0))),((IFERROR((OFFSET($G$132,MATCH(\"fines screening\",$G$133:$G$140,0),3)),0))),((IFERROR((OFFSET($G$148,MATCH(\"fines screening\",$G$149:$G$156,0),3)),0))),((IFERROR((OFFSET($G$163,MATCH(\"fines screening\",$G$165:$G$172,0),3)),0))))","v":0},null,null,null,{"$f":"SUM((IFERROR(OFFSET($G$20,MATCH(\"fines screening\",$G$21:$G$28,0),4),0)),((IFERROR((OFFSET($G$36,MATCH(\"fines screening\",$G$37:$G$44,0),4)),0))),((IFERROR((OFFSET($G$52,MATCH(\"fines screening\",$G$53:$G$60,0),4)),0))),((IFERROR((OFFSET($G$68,MATCH(\"fines screening\",$G$69:$G$76,0),4)),0))),((IFERROR((OFFSET($G$84,MATCH(\"fines screening\",$G$85:$G$92,0),4)),0))),((IFERROR((OFFSET($G$100,MATCH(\"fines screening\",$G$101:$G$108,0),4)),0))),((IFERROR((OFFSET($G$116,MATCH(\"fines screening\",$G$117:$G$124,0),4)),0))),((IFERROR((OFFSET($G$132,MATCH(\"fines screening\",$G$133:$G$140,0),4)),0))),((IFERROR((OFFSET($G$148,MATCH(\"fines screening\",$G$149:$G$156,0),4)),0))),((IFERROR((OFFSET($G$163,MATCH(\"fines screening\",$G$165:$G$172,0),4)),0))))","v":0}]
[null,"Hours of Operation Limit (hours/day):",null,null,"PM10",null,null,null,null,null,null,null,"Wet Drilling: Unfragmented Stone",{"$f":"MAX((IFERROR(OFFSET($G$20,MATCH(\"wet drilling: unfragmented stone\",$G$21:$G$28,0),1),0)),((IFERROR((OFFSET($G$36,MATCH(\"wet drilling: unfragmented stone\",$G$37:$G$44,0),1)),0))),((IFERROR((OFFSET($G$52,MATCH(\"wet drilling: unfragmented stone\",$G$53:$G$60,0),1)),0))),((IFERROR((OFFSET($G$68,MATCH(\"wet drilling: unfragmented stone\",$G$69:$G$76,0),1)),0))),((IFERROR((OFFSET($G$84,MATCH(\"wet drilling: unfragmented stone\",$G$85:$G$92,0),1)),0))),((IFERROR((OFFSET($G$100,MATCH(\"wet drilling: unfragmented stone\",$G$101:$G$108,0),1)),0))),((IFERROR((OFFSET($G$116,MATCH(\"wet drilling: unfragmented stone\",$G$117:$G$124,0),1)),0))),((IFERROR((OFFSET($G$132,MATCH(\"wet drilling: unfragmented stone\",$G$133:$G$140,0),1)),0))),((IFERROR((OFFSET($G$148,MATCH(\"wet drilling: unfragmented stone\",$G$149:$G$156,0),1)),0))),((IFERROR((OFFSET($G$163,MATCH(\"wet drilling: unfragmented stone\",$G$165:$G$172,0),1)),0))))","v":0},{"$f":"SUM((IFERROR(OFFSET($G$20,MATCH(\"wet drilling: unfragmented stone\",$G$21:$G$28,0),3),0)),((IFERROR((OFFSET($G$36,MATCH(\"wet drilling: unfragmented stone\",$G$37:$G$44,0),3)),0))),((IFERROR((OFFSET($G$52,MATCH(\"wet drilling: unfragmented stone\",$G$53:$G$60,0),3)),0))),((IFERROR((OFFSET($G$68,MATCH(\"wet drilling: unfragmented stone\",$G$69:$G$76,0),3)),0))),((IFERROR((OFFSET($G$84,MATCH(\"wet drilling: unfragmented stone\",$G$85:$G$92,0),3)),0))),((IFERROR((OFFSET($G$100,MATCH(\"wet drilling: unfragmented stone\",$G$101:$G$108,0),3)),0))),((IFERROR((OFFSET($G$116,MATCH(\"wet drilling: unfragmented stone\",$G$117:$G$124,0),3)),0))),((IFERROR((OFFSET($G$132,MATCH(\"wet drilling: unfragmented stone\",$G$133:$G$140,0),3)),0))),((IFERROR((OFFSET($G$148,MATCH(\"wet drilling: unfragmented stone\",$G$149:$G$156,0),3)),0))),((IFERROR((OFFSET($G$163,MATCH(\"wet drilling: unfragmented stone\",$G$165:$G$172,0),3)),0))))","v":0},null,null,null,{"$f":"SUM((IFERROR(OFFSET($G$20,MATCH(\"wet drilling: unfragmented stone\",$G$21:$G$28,0),4),0)),((IFERROR((OFFSET($G$36,MATCH(\"wet drilling: unfragmented stone\",$G$37:$G$44,0),4)),0))),((IFERROR((OFFSET($G$52,MATCH(\"wet drilling: unfragmented stone\",$G$53:$G$60,0),4)),0))),((IFERROR((OFFSET($G$68,MATCH(\"wet drilling: unfragmented stone\",$G$69:$G$76,0),4)),0))),((IFERROR((OFFSET($G$84,MATCH(\"wet drilling: unfragmented stone\",$G$85:$G$92,0),4)),0))),((IFERROR((OFFSET($G$100,MATCH(\"wet drilling: unfragmented stone\",$G$101:$G$108,0),4)),0))),((IFERROR((OFFSET($G$116,MATCH(\"wet drilling: unfragmented stone\",$G$117:$G$124,0),4)),0))),((IFERROR((OFFSET($G$132,MATCH(\"wet drilling: unfragmented stone\",$G$133:$G$140,0),4)),0))),((IFERROR((OFFSET($G$148,MATCH(\"wet drilling: unfragmented stone\",$G$149:$G$156,0),4)),0))),((IFERROR((OFFSET($G$163,MATCH(\"wet drilling: unfragmented stone\",$G$165:$G$172,0),4)),0))))","v":0}]
[null,"Note: if the plant has a hours/day and a tons/hr permit limit, those values should be multiplied together to calculate a tons/day limit and that value should be placed in cell C10.",null,null,"SO2",null,null,null,null,null,null,null,"Conveyor Transfer Points",{"$f":"MAX((IFERROR(OFFSET($G$20,MATCH(\"conveyor transfer points\",$G$21:$G$28,0),1),0)),((IFERROR((OFFSET($G$36,MATCH(\"conveyor transfer points\",$G$37:$G$44,0),1)),0))),((IFERROR((OFFSET($G$52,MATCH(\"conveyor transfer points\",$G$53:$G$60,0),1)),0))),((IFERROR((OFFSET($G$68,MATCH(\"conveyor transfer points\",$G$69:$G$76,0),1)),0))),((IFERROR((OFFSET($G$84,MATCH(\"conveyor transfer points\",$G$85:$G$92,0),1)),0))),((IFERROR((OFFSET($G$100,MATCH(\"conveyor transfer points\",$G$101:$G$108,0),1)),0))),((IFERROR((OFFSET($G$116,MATCH(\"conveyor transfer points\",$G$117:$G$124,0),1)),0))),((IFERROR((OFFSET($G$132,MATCH(\"conveyor transfer points\",$G$133:$G$140,0),1)),0))),((IFERROR((OFFSET($G$148,MATCH(\"conveyor transfer points\",$G$149:$G$156,0),1)),0))),((IFERROR((OFFSET($G$163,MATCH(\"conveyor transfer points\",$G$165:$G$172,0),1)),0))))","v":0},{"$f":"SUM((IFERROR(OFFSET($G$20,MATCH(\"conveyor transfer points\",$G$21:$G$28,0),3),0)),((IFERROR((OFFSET($G$36,MATCH(\"conveyor transfer points\",$G$37:$G$44,0),3)),0))),((IFERROR((OFFSET($G$52,MATCH(\"conveyor transfer points\",$G$53:$G$60,0),3)),0))),((IFERROR((OFFSET($G$68,MATCH(\"conveyor transfer points\",$G$69:$G$76,0),3)),0))),((IFERROR((OFFSET($G$84,MATCH(\"conveyor transfer points\",$G$85:$G$92,0),3)),0))),((IFERROR((OFFSET($G$100,MATCH(\"conveyor transfer points\",$G$101:$G$108,0),3)),0))),((IFERROR((OFFSET($G$116,MATCH(\"conveyor transfer points\",$G$117:$G$124,0),3)),0))),((IFERROR((OFFSET($G$132,MATCH(\"conveyor transfer points\",$G$133:$G$140,0),3)),0))),((IFERROR((OFFSET($G$148,MATCH(\"conveyor transfer points\",$G$149:$G$156,0),3)),0))),((IFERROR((OFFSET($G$163,MATCH(\"conveyor transfer points\",$G$165:$G$172,0),3)),0))))","v":0},null,null,null,{"$f":"SUM((IFERROR(OFFSET($G$20,MATCH(\"conveyor transfer points\",$G$21:$G$28,0),4),0)),((IFERROR((OFFSET($G$36,MATCH(\"conveyor transfer points\",$G$37:$G$44,0),4)),0))),((IFERROR((OFFSET($G$52,MATCH(\"conveyor transfer points\",$G$53:$G$60,0),4)),0))),((IFERROR((OFFSET($G$68,MATCH(\"conveyor transfer points\",$G$69:$G$76,0),4)),0))),((IFERROR((OFFSET($G$84,MATCH(\"conveyor transfer points\",$G$85:$G$92,0),4)),0))),((IFERROR((OFFSET($G$100,MATCH(\"conveyor transfer points\",$G$101:$G$108,0),4)),0))),((IFERROR((OFFSET($G$116,MATCH(\"conveyor transfer points\",$G$117:$G$124,0),4)),0))),((IFERROR((OFFSET($G$132,MATCH(\"conveyor transfer points\",$G$133:$G$140,0),4)),0))),((IFERROR((OFFSET($G$148,MATCH(\"conveyor transfer points\",$G$149:$G$156,0),4)),0))),((IFERROR((OFFSET($G$163,MATCH(\"conveyor transfer points\",$G$165:$G$172,0),4)),0))))","v":0}]
[null,null,null,null,"NOx",null,null,null,null,null,null,null,null,"Maximum (acres/day)","Actual (acres-day/yr)"]
[null,null,null,null,"VOC",null,null,null,null,null,null,null,"Storage Pile",{"$f":"SUM(G32,G48,G64,G80,G96,G112,G128,G144,G160,G176)","v":0},{"$f":"SUM(H32*I32,H48*I48,H64*I64,H80*I80,H96*I96,H112*I112,H128*I128,H144*I144,H160*I160,H176*I176)","v":0}]
[null,null,null,null,"CO"]
[]
[null,null,null,null,null,null,null,null,null,null,null,null,"Actual Emissions for the Listed Processes at this Plant"]
[null,null,null,null,null,null,null,null,null,null,null,null,null,"Maximum Design Rate (tons/hr)","Emission Factor (lb/ton)","Potential Uncontrolled Emissions (lb/hr)","Potential Controlled Emissions (lb/hr)","Potential Annual Emissions (tons/yr)","Actual Annual Emissions (tons/yr)"]
[null,"CRUSHER PLANT","Site 1",null,"Emission Point #","Emission    Unit #","Processes","Combined Maximum Hourly Design Rate for all Like Processes (tons/hr)",{"$f":"('Facility Information'!G5&\" Annual Throughput (tons)\")","v":" Annual Throughput (tons)"},null,null,null,"PM2.5"]
[null,null,null,null,null,null,null,null,null,"no wet supress","wet supress",null,"Primary Crusher",{"$f":"N5","v":0},{"$f":"IF(N20=0,0,IF(OR($C$24=\"no\",$C$40=\"no\",$C$56=\"no\",$C$72=\"no\",$C$88=\"no\",$C$104=\"no\",$C$120=\"no\",$C$136=\"no\",$C$152=\"no\",$C$168=\"no\"),'Emission Factors'!D8,'Emission Factors'!D20))","v":0},{"$f":"IF(OR($C$24=\"no\",$C$40=\"no\",$C$56=\"no\",$C$72=\"no\",$C$88=\"no\",$C$104=\"no\",$C$120=\"no\",$C$136=\"no\",$C$152=\"no\",$C$168=\"no\"),N20*O20,\"\")","v":""},{"$f":"IF($F$10>0,$F$10,IF(OR($C$24=\"no\",$C$40=\"no\",$C$56=\"no\",$C$72=\"no\",$C$88=\"no\",$C$104=\"no\",$C$120=\"no\",$C$136=\"no\",$C$152=\"no\",$C$168=\"no\"),\"\",N20*O20))","v":0},{"$f":"IF($G$10>0,$G$10,IF($C$9>0,$C$9*O20/2000,IF($C$10>0,$C$10*365*O20/2000,IF($C$11>0,$C$11*365*O20*N20/2000,IF(Q20=\"\",P20*8760/2000,Q20*8760/2000)))))","v":0},{"$f":"(O5*'Emission Factors'!D8/2000)+('Emission Factors'!D20*S5/2000)","v":0}]
["YES","Site Name:",null,null,{"$f":"IF(G21=\"\",\"\",\"LP-9 EP-1\")","v":""},{"$f":"IF(G21=\"\",\"\",IF(G21=\"primary crusher\",\"LP-9 EU-1\",IF(G21=\"screening\",\"LP-9 EU-2\",IF(G21=\"secondary crusher\",\"LP-9 EU-3\",IF(G21=\"tertiary crusher\",\"LP-9 EU-4\",IF(G21=\"fines crushing\",\"LP-9 EU-5\",IF(G21=\"fines screening\",\"LP-9 EU-6\",IF(G21=\"wet drilling: unfragmented stone\",\"LP-9 EU-7\",IF(G21=\"conveyor transfer points\",\"LP-9 EU-8\")))))))))","v":""},null,null,null,{"$f":"IF($C24=\"no\",I21,0)","v":0},{"$f":"IF($C$24=\"yes\",I21,0)","v":0},null,"Screening",0,{"$f":"IF(N21=0,0,IF(OR($C$24=\"no\",$C$40=\"no\",$C$56=\"no\",$C$72=\"no\",$C$88=\"no\",$C$104=\"no\",$C$120=\"no\",$C$136=\"no\",$C$152=\"no\",$C$168=\"no\"),'Emission Factors'!D9,'Emission Factors'!D21))","v":0},"",0,{"$f":"IF($G$10>0,\"\",IF($C$9>0,$C$9*O21/2000,IF($C$10>0,$C$10*365*O21/2000,IF($C$11>0,$C$11*365*O21*N21/2000,IF(Q21=\"\",P21*8760/2000,Q21*8760/2000)))))","v":0},{"$f":"(O6*'Emission Factors'!D9/2000)+('Emission Factors'!D21*S6/2000)","v":0}]
["NO","County:",null,null,{"$f":"IF(G22=\"\",\"\",\"LP-9 EP-1\")","v":""},{"$f":"IF(G22=\"\",\"\",IF(G22=\"primary crusher\",\"LP-9 EU-1\",IF(G22=\"screening\",\"LP-9 EU-2\",IF(G22=\"secondary crusher\",\"LP-9 EU-3\",IF(G22=\"tertiary crusher\",\"LP-9 EU-4\",IF(G22=\"fines crushing\",\"LP-9 EU-5\",IF(G22=\"fines screening\",\"LP-9 EU-6\",IF(G22=\"wet drilling: unfragmented stone\",\"LP-9 EU-7\",IF(G22=\"conveyor transfer points\",\"LP-9 EU-8\")))))))))","v":""},null,null,null,{"$f":"IF($C$24=\"no\",I22,0)","v":0},0,null,"Secondary Crusher",0,{"$f":"IF(N22=0,0,IF(OR($C$24=\"no\",$C$40=\"no\",$C$56=\"no\",$C$72=\"no\",$C$88=\"no\",$C$104=\"no\",$C$120=\"no\",$C$136=\"no\",$C$152=\"no\",$C$168=\"no\"),'Emission Factors'!D10,'Emission Factors'!D22))","v":0},"",0,0,{"$f":"(O7*'Emission Factors'!D10/2000)+('Emission Factors'!D22*S7/2000)","v":0}]
[null,"Crushing Period (Dates):",null,null,"","",null,null,null,0,0,null,"Tertiary Crusher",0,{"$f":"IF(N23=0,0,IF(OR(C24=\"no\",C40=\"no\",C56=\"no\",C72=\"no\",C88=\"no\",C104=\"no\",C120=\"no\",C136=\"no\",C152=\"no\",C168=\"no\"),'Emission Factors'!D12,'Emission Factors'!D24))","v":0},"",0,0,{"$f":"(O8*'Emission Factors'!D12/2000)+('Emission Factors'!D24*S8/2000)","v":0}]
["Primary Crusher","Controlled with Dust Suppressant or Material Being Processed has Moisture Content > 1.5%?",null,null,"","",null,null,null,0,0,null,"Fines Crushing",0,{"$f":"IF(N24=0,0,IF(OR($C$24=\"no\",$C$40=\"no\",$C$56=\"no\",$C$72=\"no\",$C$88=\"no\",$C$104=\"no\",$C$120=\"no\",$C$136=\"no\",$C$152=\"no\",$C$168=\"no\"),'Emission Factors'!D6,'Emission Factors'!D18))","v":0},"",0,0,{"$f":"(O9*'Emission Factors'!D6/2000)+('Emission Factors'!D18*S9/2000)","v":0}]
["Screening",null,null,null,"","",null,null,null,0,0,null,"Fines Screening",0,{"$f":"IF(N25=0,0,IF(OR($C$24=\"no\",$C$40=\"no\",$C$56=\"no\",$C$72=\"no\",$C$88=\"no\",$C$104=\"no\",$C$120=\"no\",$C$136=\"no\",$C$152=\"no\",$C$168=\"no\"),'Emission Factors'!D7,'Emission Factors'!D19))","v":0},"",0,0,{"$f":"(O10*'Emission Factors'!D7/2000)+('Emission Factors'!D19*S10/2000)","v":0}]
["Secondary Crusher",null,null,null,"","",null,null,null,0,0,null,"Wet Drilling: Unfragmented Stone",0,{"$f":"IF(N26=0,0,IF(OR(C24=\"no\",C40=\"no\",C56=\"no\",C72=\"no\",C88=\"no\",C104=\"no\",C120=\"no\",C136=\"no\",C152=\"no\",C168=\"no\"),'Emission Factors'!D13,'Emission Factors'!D25))","v":0},"",0,0,{"$f":"(O11*'Emission Factors'!D13/2000)+('Emission Factors'!D25*S11/2000)","v":0}]
["Tertiary Crusher",null,null,null,"","",null,null,null,0,0,null,"Conveyor Transfer Points",0,{"$f":"IF(N27=0,0,IF(OR(C24=\"no\",C40=\"no\",C56=\"no\",C72=\"no\",C88=\"no\",C104=\"no\",C120=\"no\",C136=\"no\",C152=\"no\",C168=\"no\"),'Emission Factors'!D5,'Emission Factors'!D17))","v":0},"",0,0,{"$f":"(O12*'Emission Factors'!D5/2000)+('Emission Factors'!D17*S12/2000)","v":0}]
["Fines Crushing",null,null,null,"","",null,null,null,0,0,null,"PM10"]
["Fines Screening",null,null,null,null,null,null,null,null,null,null,null,"Primary Crusher",{"$f":"N5","v":0},{"$f":"IF(N29=0,0,IF(OR($C$24=\"no\",$C$40=\"no\",$C$56=\"no\",$C$72=\"no\",$C$88=\"no\",$C$104=\"no\",$C$120=\"no\",$C$136=\"no\",$C$152=\"no\",$C$168=\"no\"),'Emission Factors'!F8,'Emission Factors'!F20))","v":0},{"$f":"IF(OR($C$24=\"no\",$C$40=\"no\",$C$56=\"no\",$C$72=\"no\",$C$88=\"no\",$C$104=\"no\",$C$120=\"no\",$C$136=\"no\",$C$152=\"no\",$C$168=\"no\"),N29*O29,\"\")","v":""},{"$f":"IF($F$11>0,$F$11,IF(OR($C$24=\"no\",$C$40=\"no\",$C$56=\"no\",$C$72=\"no\",$C$88=\"no\",$C$104=\"no\",$C$120=\"no\",$C$136=\"no\",$C$152=\"no\",$C$168=\"no\"),\"\",N29*O29))","v":0},{"$f":"IF($G$11>0,$G$11,IF($C$9>0,$C$9*O29/2000,IF($C$10>0,$C$10*365*O29/2000,IF($C$11>0,$C$11*365*O29*N29/2000,IF(Q29=\"\",P29*8760/2000,Q29*8760/2000)))))","v":0},{"$f":"(O5*'Emission Factors'!F8/2000)+('Emission Factors'!F20*S5/2000)","v":0}]
["Wet Drilling: Unfragmented Stone",null,null,null,"Stock Pile Area",null,null,null,null,null,null,null,"Screening",{"$f":"N6","v":0},{"$f":"IF(N30=0,0,IF(OR($C$24=\"no\",$C$40=\"no\",$C$56=\"no\",$C$72=\"no\",$C$88=\"no\",$C$104=\"no\",$C$120=\"no\",$C$136=\"no\",$C$152=\"no\",$C$168=\"no\"),'Emission Factors'!F9,'Emission Factors'!F21))","v":0},"",0,{"$f":"IF($G$11>0,\"\",IF($C$9>0,$C$9*O30/2000,IF($C$10>0,$C$10*365*O30/2000,IF($C$11>0,$C$11*365*O30*N30/2000,IF(Q30=\"\",P30*8760/2000,Q30*8760/2000)))))","v":0},{"$f":"(O6*'Emission Factors'!F9/2000)+('Emission Factors'!F21*S6/2000)","v":0}]
["Conveyor Transfer Points",null,null,null,null,"Emission Unit #","Maximum Storage Area (acres)","Actual Storage Area (acres)","Actual Days in Existence (days)",null,null,null,"Secondary Crusher",0,{"$f":"IF(N31=0,0,IF(OR($C$24=\"no\",$C$40=\"no\",$C$56=\"no\",$C$72=\"no\",$C$88=\"no\",$C$104=\"no\",$C$120=\"no\",$C$136=\"no\",$C$152=\"no\",$C$168=\"no\"),'Emission Factors'!F10,'Emission Factors'!F22))","v":0},"",0,0,{"$f":"(O7*'Emission Factors'!F10/2000)+('Emission Factors'!F22*S7/2000)","v":0}]
[null,null,null,null,null,null,null,null,null,null,null,null,"Tertiary Crusher",0,{"$f":"IF(N32=0,0,IF(OR(C24=\"no\",C40=\"no\",C56=\"no\",C72=\"no\",C88=\"no\",C104=\"no\",C120=\"no\",C136=\"no\",C152=\"no\",C168=\"no\"),'Emission Factors'!F12,'Emission Factors'!F24))","v":0},"",0,0,{"$f":"(O8*'Emission Factors'!F12/2000)+('Emission Factors'!F24*S8/2000)","v":0}]
[null,null,null,null,null,null,null,null,null,null,null,null,"Fines Crushing",0,{"$f":"IF(N33=0,0,IF(OR(C24=\"no\",C40=\"no\",C56=\"no\",C72=\"no\",C88=\"no\",C104=\"no\",C120=\"no\",C136=\"no\",C152=\"no\",C168=\"no\"),'Emission Factors'!F6,'Emission Factors'!F18))","v":0},"",0,0,{"$f":"(O9*'Emission Factors'!F6/2000)+('Emission Factors'!F18*S9/2000)","v":0}]
[{"$f":"C21","v":0},null,null,null,null,null,null,null,null,null,null,null,"Fines Screening",0,{"$f":"IF(N34=0,0,IF(OR(C24=\"no\",C40=\"no\",C56=\"no\",C72=\"no\",C88=\"no\",C104=\"no\",C120=\"no\",C136=\"no\",C152=\"no\",C168=\"no\"),'Emission Factors'!F7,'Emission Factors'!F19))","v":0},"",0,0,{"$f":"(O10*'Emission Factors'!F7/2000)+('Emission Factors'!F19*S10/2000)","v":0}]
[{"$f":"C37","v":0},{"$f":"IF('Limestone Plant (LP-9)'!$D$4>1,\"CRUSHER PLANT\",\"\")","v":""},{"$f":"IF('Limestone Plant (LP-9)'!$D$4>1,\"Site 2\",\"\")","v":""},null,{"$f":"IF('Limestone Plant (LP-9)'!$D$4>1,\"Emission Point #\",\"\")","v":""},{"$f":"IF('Limestone Plant (LP-9)'!$D$4>1,\"Emission     Unit #\",\"\")","v":""},{"$f":"IF('Limestone Plant (LP-9)'!$D$4>1,\"Processes\",\"\")","v":""},{"$f":"IF('Limestone Plant (LP-9)'!$D$4>1,\"Combined Maximum Hourly Design Rate for all Like Processes (tons/hr)\",\"\")","v":""},{"$f":"IF('Limestone Plant (LP-9)'!$D$4>1,('Facility Information'!G5&\" Annual Throughput (tons)\"),\"\")","v":""},null,null,null,"Wet Drilling: Unfragmented Stone",0,{"$f":"IF(N35=0,0,IF(OR(C24=\"no\",C40=\"no\",C56=\"no\",C72=\"no\",C88=\"no\",C104=\"no\",C120=\"no\",C136=\"no\",C152=\"no\",C168=\"no\"),'Emission Factors'!F13,'Emission Factors'!F25))","v":0},"",0,0,{"$f":"(O11*'Emission Factors'!F13/2000)+('Emission Factors'!F25*S11/2000)","v":0}]
[{"$f":"C53","v":0},null,null,null,null,null,null,null,null,null,null,null,"Conveyor Transfer Points",0,{"$f":"IF(N36=0,0,IF(OR(C24=\"no\",C40=\"no\",C56=\"no\",C72=\"no\",C88=\"no\",C104=\"no\",C120=\"no\",C136=\"no\",C152=\"no\",C168=\"no\"),'Emission Factors'!F5,'Emission Factors'!F17))","v":0},"",0,0,{"$f":"(O12*'Emission Factors'!F5/2000)+('Emission Factors'!F17*S12/2000)","v":0}]
[{"$f":"C69","v":0},{"$f":"IF('Limestone Plant (LP-9)'!$D$4>1,\"Site Name:\",\"\")","v":""},null,null,{"$f":"IF(G37=\"\",\"\",\"LP-9 EP-1\")","v":""},{"$f":"IF(G37=\"\",\"\",IF(G37=\"primary crusher\",\"LP-9 EU-1\",IF(G37=\"screening\",\"LP-9 EU-2\",IF(G37=\"secondary crusher\",\"LP-9 EU-3\",IF(G37=\"tertiary crusher\",\"LP-9 EU-4\",IF(G37=\"fines crushing\",\"LP-9 EU-5\",IF(G37=\"fines screening\",\"LP-9 EU-6\",IF(G37=\"wet drilling: unfragmented stone\",\"LP-9 EU-7\",IF(G37=\"conveyor transfer points\",\"LP-9 EU-8\")))))))))","v":""},null,null,null,{"$f":"IF($C$40=\"no\",I37,0)","v":0},{"$f":"IF($C$40=\"yes\",I37,0)","v":0}]
[{"$f":"C85","v":0},{"$f":"IF('Limestone Plant (LP-9)'!$D$4>1,\"County:\",\"\")","v":""},null,null,{"$f":"IF(G38=\"\",\"\",\"LP-9 EP-1\")","v":""},{"$f":"IF(G38=\"\",\"\",IF(G38=\"primary crusher\",\"LP-9 EU-1\",IF(G38=\"screening\",\"LP-9 EU-2\",IF(G38=\"secondary crusher\",\"LP-9 EU-3\",IF(G38=\"tertiary crusher\",\"LP-9 EU-4\",IF(G38=\"fines crushing\",\"LP-9 EU-5\",IF(G38=\"fines screening\",\"LP-9 EU-6\",IF(G38=\"wet drilling: unfragmented stone\",\"LP-9 EU-7\",IF(G38=\"conveyor transfer points\",\"LP-9 EU-8\")))))))))","v":""},null,null,null,{"$f":"IF($C$40=\"no\",I38,0)","v":0},{"$f":"IF($C$40=\"yes\",I38,0)","v":0},null,null,"Max Design Rate (acres/day)","Emission Factor   (lb/acre-day)","Potential Uncontrolled Emissions (lb/hr)","Potential Controlled Emissions (lb/hr)","Potential Annual Emissions (tons/yr)","Actual Annual Emissions (tons/yr)"]
[{"$f":"C101","v":0},{"$f":"IF('Limestone Plant (LP-9)'!$D$4>1,\"Crushing Period (Dates):\",\"\")","v":""},null,null,"","",null,null,null,0,0,null,"Storage Pile"]
[{"$f":"C117","v":0},{"$f":"IF('Limestone Plant (LP-9)'!$D$4>1,\"Controlled with Dust Suppressant or Material Being Processed has Moisture Content > 1.5%?\",\"\")","v":""},null,null,"","",null,null,null,0,0,null,"PM2.5/PM10",{"$f":"N14","v":0},3.64,{"$f":"N40*O40*(1/24)","v":0},null,{"$f":"N40*O40*365/2000","v":0},{"$f":"O14*O40/2000","v":0}]
[{"$f":"C133","v":0},null,null,null,"","",null,null,null,0,0]
[{"$f":"C149","v":0},null,null,null,"","",null,null,null,0,0]
[{"$f":"C165","v":0},null,null,null,"","",null,null,null,0,0]
[null,null,null,null,"","",null,null,null,0,0]
[]
[null,null,null,null,{"$f":"IF('Limestone Plant (LP-9)'!$D$4>1,\"Stock Pile Area\",\"\")","v":""}]
[null,null,null,null,null,{"$f":"IF('Limestone Plant (LP-9)'!$D$4>1,\"Emission Unit #\",\"\")","v":""},{"$f":"IF('Limestone Plant (LP-9)'!$D$4>1,\"Maximum Storage Area (acres)\",\"\")","v":""},{"$f":"IF('Limestone Plant (LP-9)'!$D$4>1,\"Actual Storage Area (acres)\",\"\")","v":""},{"$f":"IF('Limestone Plant (LP-9)'!$D$4>1,\"Actual Days in Existence (days)\",\"\")","v":""}]
[]
[]
[]
[null,{"$f":"IF('Limestone Plant (LP-9)'!$D$4>2,\"CRUSHER PLANT\",\"\")","v":""},{"$f":"IF('Limestone Plant (LP-9)'!$D$4>2,\"Site 3\",\"\")","v":""},null,{"$f":"IF('Limestone Plant (LP-9)'!$D$4>2,\"Emission Point #\",\"\")","v":""},{"$f":"IF('Limestone Plant (LP-9)'!$D$4>2,\"Emission     Unit #\",\"\")","v":""},{"$f":"IF('Limestone Plant (LP-9)'!$D$4>2,\"Processes\",\"\")","v":""},{"$f":"IF('Limestone Plant (LP-9)'!$D$4>2,\"Combined Maximum Hourly Design Rate for all Like Processes (tons/hr)\",\"\")","v":""},{"$f":"IF('Limestone Plant (LP-9)'!$D$4>2,('Facility Information'!G5&\" Annual Throughput (tons)\"),\"\")","v":""}]
[]
[null,{"$f":"IF('Limestone Plant (LP-9)'!$D$4>2,\"Site Name:\",\"\")","v":""},null,null,{"$f":"IF(G53=\"\",\"\",\"LP-9 EP-1\")","v":""},{"$f":"IF(G53=\"\",\"\",IF(G53=\"primary crusher\",\"LP-9 EU-1\",IF(G53=\"screening\",\"LP-9 EU-2\",IF(G53=\"secondary crusher\",\"LP-9 EU-3\",IF(G53=\"tertiary crusher\",\"LP-9 EU-4\",IF(G53=\"fines crushing\",\"LP-9 EU-5\",IF(G53=\"fines screening\",\"LP-9 EU-6\",IF(G53=\"wet drilling: unfragmented stone\",\"LP-9 EU-7\",IF(G53=\"conveyor transfer points\",\"LP-9 EU-8\")))))))))","v":""},null,null,null,{"$f":"IF($C$56=\"no\",I53,0)","v":0},{"$f":"IF($C$56=\"yes\",I53,0)","v":0}]
[null,{"$f":"IF('Limestone Plant (LP-9)'!$D$4>2,\"County:\",\"\")","v":""},null,null,{"$f":"IF(G54=\"\",\"\",\"LP-9 EP-1\")","v":""},{"$f":"IF(G54=\"\",\"\",IF(G54=\"primary crusher\",\"LP-9 EU-1\",IF(G54=\"screening\",\"LP-9 EU-2\",IF(G54=\"secondary crusher\",\"LP-9 EU-3\",IF(G54=\"tertiary crusher\",\"LP-9 EU-4\",IF(G54=\"fines crushing\",\"LP-9 EU-5\",IF(G54=\"fines screening\",\"LP-9 EU-6\",IF(G54=\"wet drilling: unfragmented stone\",\"LP-9 EU-7\",IF(G54=\"conveyor transfer points\",\"LP-9 EU-8\")))))))))","v":""},null,null,null,{"$f":"IF($C$56=\"no\",I54,0)","v":0},{"$f":"IF($C$56=\"yes\",I54,0)","v":0}]
[null,{"$f":"IF('Limestone Plant (LP-9)'!$D$4>2,\"Crushing Period (Dates):\",\"\")","v":""},null,null,"","",null,null,null,0,0]
[null,{"$f":"IF('Limestone Plant (LP-9)'!$D$4>2,\"Controlled with Dust Suppressant or Material Being Processed has Moisture Content > 1.5%?\",\"\")","v":""},null,null,"","",null,null,null,0,0]
[null,null,null,null,"","",null,null,null,0,0]
[null,null,null,null,"","",null,null,null,0,0]
[null,null,null,null,"","",null,null,null,0,0]
[null,null,null,null,"","",null,null,null,0,0]
[]
[null,null,null,null,{"$f":"IF('Limestone Plant (LP-9)'!$D$4>2,\"Stock Pile Area\",\"\")","v":""}]
[null,null,null,null,null,{"$f":"IF('Limestone Plant (LP-9)'!$D$4>2,\"Emission Unit #\",\"\")","v":""},{"$f":"IF('Limestone Plant (LP-9)'!$D$4>2,\"Maximum Storage Area (acres)\",\"\")","v":""},{"$f":"IF('Limestone Plant (LP-9)'!$D$4>2,\"Actual Storage Area (acres)\",\"\")","v":""},{"$f":"IF('Limestone Plant (LP-9)'!$D$4>2,\"Actual Days in Existence (days)\",\"\")","v":""}]
[]
[]
[]
[null,{"$f":"IF('Limestone Plant (LP-9)'!$D$4>3,\"CRUSHER PLANT\",\"\")","v":""},{"$f":"IF('Limestone Plant (LP-9)'!$D$4>3,\"Site 4\",\"\")","v":""},null,{"$f":"IF('Limestone Plant (LP-9)'!$D$4>3,\"Emission Point #\",\"\")","v":""},{"$f":"IF('Limestone Plant (LP-9)'!$D$4>3,\"Emission     Unit #\",\"\")","v":""},{"$f":"IF('Limestone Plant (LP-9)'!$D$4>3,\"Processes\",\"\")","v":""},{"$f":"IF('Limestone Plant (LP-9)'!$D$4>3,\"Combined Maximum Hourly Design Rate for all Like Processes (tons/hr)\",\"\")","v":""},{"$f":"IF('Limestone Plant (LP-9)'!$D$4>3,('Facility Information'!G5&\" Annual Throughput (tons)\"),\"\")","v":""}]
[]
[null,{"$f":"IF('Limestone Plant (LP-9)'!$D$4>3,\"Site Name:\",\"\")","v":""},null,null,{"$f":"IF(G69=\"\",\"\",\"LP-9 EP-1\")","v":""},{"$f":"IF(G69=\"\",\"\",IF(G69=\"primary crusher\",\"LP-9 EU-1\",IF(G69=\"screening\",\"LP-9 EU-2\",IF(G69=\"secondary crusher\",\"LP-9 EU-3\",IF(G69=\"tertiary crusher\",\"LP-9 EU-4\",IF(G69=\"fines crushing\",\"LP-9 EU-5\",IF(G69=\"fines screening\",\"LP-9 EU-6\",IF(G69=\"wet drilling: unfragmented stone\",\"LP-9 EU-7\",IF(G69=\"conveyor transfer points\",\"LP-9 EU-8\")))))))))","v":""},null,null,null,{"$f":"IF($C$72=\"no\",I69,0)","v":0},{"$f":"IF($C$72=\"yes\",I69,0)","v":0}]
[null,{"$f":"IF('Limestone Plant (LP-9)'!$D$4>3,\"County:\",\"\")","v":""},null,null,{"$f":"IF(G70=\"\",\"\",\"LP-9 EP-1\")","v":""},{"$f":"IF(G70=\"\",\"\",IF(G70=\"primary crusher\",\"LP-9 EU-1\",IF(G70=\"screening\",\"LP-9 EU-2\",IF(G70=\"secondary crusher\",\"LP-9 EU-3\",IF(G70=\"tertiary crusher\",\"LP-9 EU-4\",IF(G70=\"fines crushing\",\"LP-9 EU-5\",IF(G70=\"fines screening\",\"LP-9 EU-6\",IF(G70=\"wet drilling: unfragmented stone\",\"LP-9 EU-7\",IF(G70=\"conveyor transfer points\",\"LP-9 EU-8\")))))))))","v":""},null,null,null,{"$f":"IF($C$72=\"no\",I70,0)","v":0},{"$f":"IF($C$72=\"yes\",I70,0)","v":0}]
[null,{"$f":"IF('Limestone Plant (LP-9)'!$D$4>3,\"Crushing Period (Dates):\",\"\")","v":""},null,null,"","",null,null,null,0,0]
[null,{"$f":"IF('Limestone Plant (LP-9)'!$D$4>3,\"Controlled with Dust Suppressant or Material Being Processed has Moisture Content > 1.5%?\",\"\")","v":""},null,null,"","",null,null,null,0,0]
[null,null,null,null,"","",null,null,null,0,0]
[null,null,null,null,"","",null,null,null,0,0]
[null,null,null,null,"","",null,null,null,0,0]
[null,null,null,null,"","",null,null,null,0,0]
[]
[null,null,null,null,{"$f":"IF('Limestone Plant (LP-9)'!$D$4>3,\"Stock Pile Area\",\"\")","v":""}]
[null,null,null,null,null,{"$f":"IF('Limestone Plant (LP-9)'!$D$4>3,\"Emission Unit #\",\"\")","v":""},{"$f":"IF('Limestone Plant (LP-9)'!$D$4>3,\"Maximum Storage Area (acres)\",\"\")","v":""},{"$f":"IF('Limestone Plant (LP-9)'!$D$4>3,\"Actual Storage Area (acres)\",\"\")","v":""},{"$f":"IF('Limestone Plant (LP-9)'!$D$4>3,\"Actual Days in Existence (days)\",\"\")","v":""}]
[]
[]
[]
[null,{"$f":"IF('Limestone Plant (LP-9)'!$D$4>4,\"CRUSHER PLANT\",\"\")","v":""},{"$f":"IF('Limestone Plant (LP-9)'!$D$4>4,\"Site 5\",\"\")","v":""},null,{"$f":"IF('Limestone Plant (LP-9)'!$D$4>4,\"Emission Point #\",\"\")","v":""},{"$f":"IF('Limestone Plant (LP-9)'!$D$4>4,\"Emission    Unit #\",\"\")","v":""},{"$f":"IF('Limestone Plant (LP-9)'!$D$4>4,\"Processes\",\"\")","v":""},{"$f":"IF('Limestone Plant (LP-9)'!$D$4>4,\"Combined Maximum Hourly Design Rate for all Like Processes (tons/hr)\",\"\")","v":""},{"$f":"IF('Limestone Plant (LP-9)'!$D$4>4,('Facility Information'!G5&\" Annual Throughput (tons)\"),\"\")","v":""}]
[]
[null,{"$f":"IF('Limestone Plant (LP-9)'!$D$4>4,\"Site Name:\",\"\")","v":""},null,null,{"$f":"IF(G85=\"\",\"\",\"LP-9 EP-1\")","v":""},{"$f":"IF(G85=\"\",\"\",IF(G85=\"primary crusher\",\"LP-9 EU-1\",IF(G85=\"screening\",\"LP-9 EU-2\",IF(G85=\"secondary crusher\",\"LP-9 EU-3\",IF(G85=\"tertiary crusher\",\"LP-9 EU-4\",IF(G85=\"fines crushing\",\"LP-9 EU-5\",IF(G85=\"fines screening\",\"LP-9 EU-6\",IF(G85=\"wet drilling: unfragmented stone\",\"LP-9 EU-7\",IF(G85=\"conveyor transfer points\",\"LP-9 EU-8\")))))))))","v":""},null,null,null,{"$f":"IF($C$88=\"no\",I85,0)","v":0},{"$f":"IF($C$88=\"yes\",I85,0)","v":0}]
[null,{"$f":"IF('Limestone Plant (LP-9)'!$D$4>4,\"County:\",\"\")","v":""},null,null,{"$f":"IF(G86=\"\",\"\",\"LP-9 EP-1\")","v":""},{"$f":"IF(G86=\"\",\"\",IF(G86=\"primary crusher\",\"LP-9 EU-1\",IF(G86=\"screening\",\"LP-9 EU-2\",IF(G86=\"secondary crusher\",\"LP-9 EU-3\",IF(G86=\"tertiary crusher\",\"LP-9 EU-4\",IF(G86=\"fines crushing\",\"LP-9 EU-5\",IF(G86=\"fines screening\",\"LP-9 EU-6\",IF(G86=\"wet drilling: unfragmented stone\",\"LP-9 EU-7\",IF(G86=\"conveyor transfer points\",\"LP-9 EU-8\")))))))))","v":""},null,null,null,{"$f":"IF($C$88=\"no\",I86,0)","v":0},{"$f":"IF($C$88=\"yes\",I86,0)","v":0}]
[null,{"$f":"IF('Limestone Plant (LP-9)'!$D$4>4,\"Crushing Period (Dates):\",\"\")","v":""},null,null,"","",null,null,null,0,0]
[null,{"$f":"IF('Limestone Plant (LP-9)'!$D$4>4,\"Controlled with Dust Suppressant or Material Being Processed has Moisture Content > 1.5%?\",\"\")","v":""},null,null,"","",null,null,null,0,0]
[null,null,null,null,"","",null,null,null,0,0]
[null,null,null,null,"","",null,null,null,0,0]
[null,null,null,null,"","",null,null,null,0,0]
[null,null,null,null,"","",null,null,null,0,0]
[]
[null,null,null,null,{"$f":"IF('Limestone Plant (LP-9)'!$D$4>4,\"Stock Pile Area\",\"\")","v":""}]
[null,null,null,null,null,{"$f":"IF('Limestone Plant (LP-9)'!$D$4>4,\"Emission Unit #\",\"\")","v":""},{"$f":"IF('Limestone Plant (LP-9)'!$D$4>4,\"Maximum Storage Area (acres)\",\"\")","v":""},{"$f":"IF('Limestone Plant (LP-9)'!$D$4>4,\"Actual Storage Area (acres)\",\"\")","v":""},{"$f":"IF('Limestone Plant (LP-9)'!$D$4>4,\"Actual Days in Existence (days)\",\"\")","v":""}]
[]
[]
[]
[null,{"$f":"IF('Limestone Plant (LP-9)'!$D$4>5,\"CRUSHER PLANT\",\"\")","v":""},{"$f":"IF('Limestone Plant (LP-9)'!$D$4>5,\"Site 6\",\"\")","v":""},null,{"$f":"IF('Limestone Plant (LP-9)'!$D$4>5,\"Emission Point #\",\"\")","v":""},{"$f":"IF('Limestone Plant (LP-9)'!$D$4>5,\"Emission     Unit #\",\"\")","v":""},{"$f":"IF('Limestone Plant (LP-9)'!$D$4>5,\"Processes\",\"\")","v":""},{"$f":"IF('Limestone Plant (LP-9)'!$D$4>5,\"Combined Maximum Hourly Design Rate for all Like Processes (tons/hr)\",\"\")","v":""},{"$f":"IF('Limestone Plant (LP-9)'!$D$4>5,('Facility Information'!G5&\" Annual Throughput (tons)\"),\"\")","v":""}]
[]
[null,{"$f":"IF('Limestone Plant (LP-9)'!$D$4>5,\"Site Name:\",\"\")","v":""},null,null,{"$f":"IF(G101=\"\",\"\",\"LP-9 EP-1\")","v":""},{"$f":"IF(G101=\"\",\"\",IF(G101=\"primary crusher\",\"LP-9 EU-1\",IF(G101=\"screening\",\"LP-9 EU-2\",IF(G101=\"secondary crusher\",\"LP-9 EU-3\",IF(G101=\"tertiary crusher\",\"LP-9 EU-4\",IF(G101=\"fines crushing\",\"LP-9 EU-5\",IF(G101=\"fines screening\",\"LP-9 EU-6\",IF(G101=\"wet drilling: unfragmented stone\",\"LP-9 EU-7\",IF(G101=\"conveyor transfer points\",\"LP-9 EU-8\")))))))))","v":""},null,null,null,{"$f":"IF($C$104=\"no\",I101,0)","v":0},{"$f":"IF($C$104=\"yes\",I101,0)","v":0}]
[null,{"$f":"IF('Limestone Plant (LP-9)'!$D$4>5,\"County:\",\"\")","v":""},null,null,{"$f":"IF(G102=\"\",\"\",\"LP-9 EP-1\")","v":""},{"$f":"IF(G102=\"\",\"\",IF(G102=\"primary crusher\",\"LP-9 EU-1\",IF(G102=\"screening\",\"LP-9 EU-2\",IF(G102=\"secondary crusher\",\"LP-9 EU-3\",IF(G102=\"tertiary crusher\",\"LP-9 EU-4\",IF(G102=\"fines crushing\",\"LP-9 EU-5\",IF(G102=\"fines screening\",\"LP-9 EU-6\",IF(G102=\"wet drilling: unfragmented stone\",\"LP-9 EU-7\",IF(G102=\"conveyor transfer points\",\"LP-9 EU-8\")))))))))","v":""},null,null,null,{"$f":"IF($C$104=\"no\",I102,0)","v":0},{"$f":"IF($C$104=\"yes\",I102,0)","v":0}]
[null,{"$f":"IF('Limestone Plant (LP-9)'!$D$4>5,\"Crushing Period (Dates):\",\"\")","v":""},null,null,"","",null,null,null,0,0]
[null,{"$f":"IF('Limestone Plant (LP-9)'!$D$4>5,\"Controlled with Dust Suppressant or Material Being Processed has Moisture Content > 1.5%?\",\"\")","v":""},null,null,"","",null,null,null,0,0]
[null,null,null,null,"","",null,null,null,0,0]
[null,null,null,null,"","",null,null,null,0,0]
[null,null,null,null,"","",null,null,null,0,0]
[null,null,null,null,"","",null,null,null,0,0]
[]
[null,null,null,null,{"$f":"IF('Limestone Plant (LP-9)'!$D$4>5,\"Stock Pile Area\",\"\")","v":""}]
[null,null,null,null,null,{"$f":"IF('Limestone Plant (LP-9)'!$D$4>5,\"Emission Unit #\",\"\")","v":""},{"$f":"IF('Limestone Plant (LP-9)'!$D$4>5,\"Maximum Storage Area (acres)\",\"\")","v":""},{"$f":"IF('Limestone Plant (LP-9)'!$D$4>5,\"Actual Storage Area (acres)\",\"\")","v":""},{"$f":"IF('Limestone Plant (LP-9)'!$D$4>5,\"Actual Days in Existence (days)\",\"\")","v":""}]
[]
[]
[]
[null,{"$f":"IF('Limestone Plant (LP-9)'!$D$4>6,\"CRUSHER PLANT\",\"\")","v":""},{"$f":"IF('Limestone Plant (LP-9)'!$D$4>6,\"Site 7\",\"\")","v":""},null,{"$f":"IF('Limestone Plant (LP-9)'!$D$4>6,\"Emission Point #\",\"\")","v":""},{"$f":"IF('Limestone Plant (LP-9)'!$D$4>6,\"Emission     Unit #\",\"\")","v":""},{"$f":"IF('Limestone Plant (LP-9)'!$D$4>6,\"Processes\",\"\")","v":""},{"$f":"IF('Limestone Plant (LP-9)'!$D$4>6,\"Combined Maximum Hourly Design Rate for all Like Processes (tons/hr)\",\"\")","v":""},{"$f":"IF('Limestone Plant (LP-9)'!$D$4>6,('Facility Information'!G5&\" Annual Throughput (tons)\"),\"\")","v":""}]
[]
[null,{"$f":"IF('Limestone Plant (LP-9)'!$D$4>6,\"Site Name:\",\"\")","v":""},null,null,{"$f":"IF(G117=\"\",\"\",\"LP-9 EP-1\")","v":""},{"$f":"IF(G117=\"\",\"\",IF(G117=\"primary crusher\",\"LP-9 EU-1\",IF(G117=\"screening\",\"LP-9 EU-2\",IF(G117=\"secondary crusher\",\"LP-9 EU-3\",IF(G117=\"tertiary crusher\",\"LP-9 EU-4\",IF(G117=\"fines crushing\",\"LP-9 EU-5\",IF(G117=\"fines screening\",\"LP-9 EU-6\",IF(G117=\"wet drilling: unfragmented stone\",\"LP-9 EU-7\",IF(G117=\"conveyor transfer points\",\"LP-9 EU-8\")))))))))","v":""},null,null,null,{"$f":"IF($C$120=\"no\",I117,0)","v":0},{"$f":"IF($C$120=\"yes\",I117,0)","v":0}]
[null,{"$f":"IF('Limestone Plant (LP-9)'!$D$4>6,\"County:\",\"\")","v":""},null,null,{"$f":"IF(G118=\"\",\"\",\"LP-9 EP-1\")","v":""},{"$f":"IF(G118=\"\",\"\",IF(G118=\"primary crusher\",\"LP-9 EU-1\",IF(G118=\"screening\",\"LP-9 EU-2\",IF(G118=\"secondary crusher\",\"LP-9 EU-3\",IF(G118=\"tertiary crusher\",\"LP-9 EU-4\",IF(G118=\"fines crushing\",\"LP-9 EU-5\",IF(G118=\"fines screening\",\"LP-9 EU-6\",IF(G118=\"wet drilling: unfragmented stone\",\"LP-9 EU-7\",IF(G118=\"conveyor transfer points\",\"LP-9 EU-8\")))))))))","v":""},null,null,null,{"$f":"IF($C$120=\"no\",I118,0)","v":0},{"$f":"IF($C$120=\"yes\",I118,0)","v":0}]
[null,{"$f":"IF('Limestone Plant (LP-9)'!$D$4>6,\"Crushing Period (Dates):\",\"\")","v":""},null,null,"","",null,null,null,0,0]
[null,{"$f":"IF('Limestone Plant (LP-9)'!$D$4>6,\"Controlled with Dust Suppressant or Material Being Processed has Moisture Content > 1.5%?\",\"\")","v":""},null,null,"","",null,null,null,0,0]
[null,null,null,null,"","",null,null,null,0,0]
[null,null,null,null,"","",null,null,null,0,0]
[null,null,null,null,"","",null,null,null,0,0]
[null,null,null,null,"","",null,null,null,0,0]
[]
[null,null,null,null,{"$f":"IF('Limestone Plant (LP-9)'!$D$4>6,\"Stock Pile Area\",\"\")","v":""}]
[null,null,null,null,null,{"$f":"IF('Limestone Plant (LP-9)'!$D$4>6,\"Emission Unit #\",\"\")","v":""},{"$f":"IF('Limestone Plant (LP-9)'!$D$4>6,\"Maximum Storage Area (acres)\",\"\")","v":""},{"$f":"IF('Limestone Plant (LP-9)'!$D$4>6,\"Actual Storage Area (acres)\",\"\")","v":""},{"$f":"IF('Limestone Plant (LP-9)'!$D$4>6,\"Actual Days in Existence (days)\",\"\")","v":""}]
[]
[]
[]
[null,{"$f":"IF('Limestone Plant (LP-9)'!$D$4>7,\"CRUSHER PLANT\",\"\")","v":""},{"$f":"IF('Limestone Plant (LP-9)'!$D$4>7,\"Site 8\",\"\")","v":""},null,{"$f":"IF('Limestone Plant (LP-9)'!$D$4>7,\"Emission Point #\",\"\")","v":""},{"$f":"IF('Limestone Plant (LP-9)'!$D$4>7,\"Emission     Unit #\",\"\")","v":""},{"$f":"IF('Limestone Plant (LP-9)'!$D$4>7,\"Processes\",\"\")","v":""},{"$f":"IF('Limestone Plant (LP-9)'!$D$4>7,\"Combined Maximum Hourly Design Rate for all Like Processes (tons/hr)\",\"\")","v":""},{"$f":"IF('Limestone Plant (LP-9)'!$D$4>7,('Facility Information'!G5&\" Annual Throughput (tons)\"),\"\")","v":""}]
[]
[null,{"$f":"IF('Limestone Plant (LP-9)'!$D$4>7,\"Site Name:\",\"\")","v":""},null,null,{"$f":"IF(G133=\"\",\"\",\"LP-9 EP-1\")","v":""},{"$f":"IF(G133=\"\",\"\",IF(G133=\"primary crusher\",\"LP-9 EU-1\",IF(G133=\"screening\",\"LP-9 EU-2\",IF(G133=\"secondary crusher\",\"LP-9 EU-3\",IF(G133=\"tertiary crusher\",\"LP-9 EU-4\",IF(G133=\"fines crushing\",\"LP-9 EU-5\",IF(G133=\"fines screening\",\"LP-9 EU-6\",IF(G133=\"wet drilling: unfragmented stone\",\"LP-9 EU-7\",IF(G133=\"conveyor transfer points\",\"LP-9 EU-8\")))))))))","v":""},null,null,null,{"$f":"IF($C$136=\"no\",I133,0)","v":0},{"$f":"IF($C$136=\"yes\",I133,0)","v":0}]
[null,{"$f":"IF('Limestone Plant (LP-9)'!$D$4>7,\"County:\",\"\")","v":""},null,null,{"$f":"IF(G134=\"\",\"\",\"LP-9 EP-1\")","v":""},{"$f":"IF(G134=\"\",\"\",IF(G134=\"primary crusher\",\"LP-9 EU-1\",IF(G134=\"screening\",\"LP-9 EU-2\",IF(G134=\"secondary crusher\",\"LP-9 EU-3\",IF(G134=\"tertiary crusher\",\"LP-9 EU-4\",IF(G134=\"fines crushing\",\"LP-9 EU-5\",IF(G134=\"fines screening\",\"LP-9 EU-6\",IF(G134=\"wet drilling: unfragmented stone\",\"LP-9 EU-7\",IF(G134=\"conveyor transfer points\",\"LP-9 EU-8\")))))))))","v":""},null,null,null,{"$f":"IF($C$136=\"no\",I134,0)","v":0},{"$f":"IF($C$136=\"yes\",I134,0)","v":0}]
[null,{"$f":"IF('Limestone Plant (LP-9)'!$D$4>7,\"Crushing Period (Dates):\",\"\")","v":""},null,null,"","",null,null,null,0,0]
[null,{"$f":"IF('Limestone Plant (LP-9)'!$D$4>7,\"Controlled with Dust Suppressant or Material Being Processed has Moisture Content > 1.5%?\",\"\")","v":""},null,null,"","",null,null,null,0,0]
[null,null,null,null,"","",null,null,null,0,0]
[null,null,null,null,"","",null,null,null,0,0]
[null,null,null,null,"","",null,null,null,0,0]
[null,null,null,null,"","",null,null,null,0,0]
[]
[null,null,null,null,{"$f":"IF('Limestone Plant (LP-9)'!$D$4>7,\"Stock Pile Area\",\"\")","v":""}]
[null,null,null,null,null,{"$f":"IF('Limestone Plant (LP-9)'!$D$4>7,\"Emission Unit #\",\"\")","v":""},{"$f":"IF('Limestone Plant (LP-9)'!$D$4>7,\"Maximum Storage Area (acres)\",\"\")","v":""},{"$f":"IF('Limestone Plant (LP-9)'!$D$4>7,\"Actual Storage Area (acres)\",\"\")","v":""},{"$f":"IF('Limestone Plant (LP-9)'!$D$4>7,\"Actual Days in Existence (days)\",\"\")","v":""}]
[]
[]
[]
[null,{"$f":"IF('Limestone Plant (LP-9)'!$D$4>8,\"CRUSHER PLANT\",\"\")","v":""},{"$f":"IF('Limestone Plant (LP-9)'!$D$4>8,\"Site 9\",\"\")","v":""},null,{"$f":"IF('Limestone Plant (LP-9)'!$D$4>8,\"Emission Point #\",\"\")","v":""},{"$f":"IF('Limestone Plant (LP-9)'!$D$4>8,\"Emission     Unit #\",\"\")","v":""},{"$f":"IF('Limestone Plant (LP-9)'!$D$4>8,\"Processes\",\"\")","v":""},{"$f":"IF('Limestone Plant (LP-9)'!$D$4>8,\"Combined Maximum Hourly Design Rate for all Like Processes (tons/hr)\",\"\")","v":""},{"$f":"IF('Limestone Plant (LP-9)'!$D$4>8,('Facility Information'!G5&\" Annual Throughput (tons)\"),\"\")","v":""}]
[]
[null,{"$f":"IF('Limestone Plant (LP-9)'!$D$4>8,\"Site Name:\",\"\")","v":""},null,null,{"$f":"IF(G149=\"\",\"\",\"LP-9 EP-1\")","v":""},{"$f":"IF(G149=\"\",\"\",IF(G149=\"primary crusher\",\"LP-9 EU-1\",IF(G149=\"screening\",\"LP-9 EU-2\",IF(G149=\"secondary crusher\",\"LP-9 EU-3\",IF(G149=\"tertiary crusher\",\"LP-9 EU-4\",IF(G149=\"fines crushing\",\"LP-9 EU-5\",IF(G149=\"fines screening\",\"LP-9 EU-6\",IF(G149=\"wet drilling: unfragmented stone\",\"LP-9 EU-7\",IF(G149=\"conveyor transfer points\",\"LP-9 EU-8\")))))))))","v":""},null,null,null,{"$f":"IF($C$152=\"no\",I149,0)","v":0},{"$f":"IF($C$152=\"yes\",I149,0)","v":0}]
[null,{"$f":"IF('Limestone Plant (LP-9)'!$D$4>8,\"County:\",\"\")","v":""},null,null,{"$f":"IF(G150=\"\",\"\",\"LP-9 EP-1\")","v":""},{"$f":"IF(G150=\"\",\"\",IF(G150=\"primary crusher\",\"LP-9 EU-1\",IF(G150=\"screening\",\"LP-9 EU-2\",IF(G150=\"secondary crusher\",\"LP-9 EU-3\",IF(G150=\"tertiary crusher\",\"LP-9 EU-4\",IF(G150=\"fines crushing\",\"LP-9 EU-5\",IF(G150=\"fines screening\",\"LP-9 EU-6\",IF(G150=\"wet drilling: unfragmented stone\",\"LP-9 EU-7\",IF(G150=\"conveyor transfer points\",\"LP-9 EU-8\")))))))))","v":""},null,null,null,{"$f":"IF($C$152=\"no\",I150,0)","v":0},{"$f":"IF($C$152=\"yes\",I150,0)","v":0}]
[null,{"$f":"IF('Limestone Plant (LP-9)'!$D$4>8,\"Crushing Period (Dates):\",\"\")","v":""},null,null,"","",null,null,null,0,0]
[null,{"$f":"IF('Limestone Plant (LP-9)'!$D$4>8,\"Controlled with Dust Suppressant or Material Being Processed has Moisture Content > 1.5%?\",\"\")","v":""},null,null,"","",null,null,null,0,0]
[null,null,null,null,"","",null,null,null,0,0]
[null,null,null,null,"","",null,null,null,0,0]
[null,null,null,null,"","",null,null,null,0,0]
[null,null,null,null,"","",null,null,null,0,0]
[]
[null,null,null,null,{"$f":"IF('Limestone Plant (LP-9)'!$D$4>8,\"Stock Pile Area\",\"\")","v":""}]
[null,null,null,null,null,{"$f":"IF('Limestone Plant (LP-9)'!$D$4>8,\"Emission Unit #\",\"\")","v":""},{"$f":"IF('Limestone Plant (LP-9)'!$D$4>8,\"Maximum Storage Area (acres)\",\"\")","v":""},{"$f":"IF('Limestone Plant (LP-9)'!$D$4>8,\"Actual Storage Area (acres)\",\"\")","v":""},{"$f":"IF('Limestone Plant (LP-9)'!$D$4>8,\"Actual Days in Existence (days)\",\"\")","v":""}]
[]
[]
[]
[null,{"$f":"IF('Limestone Plant (LP-9)'!$D$4>9,\"CRUSHER PLANT\",\"\")","v":""},{"$f":"IF('Limestone Plant (LP-9)'!$D$4>9,\"Site 10\",\"\")","v":""},null,{"$f":"IF('Limestone Plant (LP-9)'!$D$4>9,\"Emission Point #\",\"\")","v":""},{"$f":"IF('Limestone Plant (LP-9)'!$D$4>9,\"Emission     Unit #\",\"\")","v":""},{"$f":"IF('Limestone Plant (LP-9)'!$D$4>9,\"Processes\",\"\")","v":""},{"$f":"IF('Limestone Plant (LP-9)'!$D$4>9,\"Combined Maximum Hourly Design Rate for all Like Processes (tons/hr)\",\"\")","v":""},{"$f":"IF('Limestone Plant (LP-9)'!$D$4>9,('Facility Information'!G5&\" Annual Throughput (tons)\"),\"\")","v":""}]
[]
[null,{"$f":"IF('Limestone Plant (LP-9)'!$D$4>9,\"Site Name:\",\"\")","v":""},null,null,{"$f":"IF(G165=\"\",\"\",\"LP-9 EP-1\")","v":""},{"$f":"IF(G165=\"\",\"\",IF(G165=\"primary crusher\",\"LP-9 EU-1\",IF(G165=\"screening\",\"LP-9 EU-2\",IF(G165=\"secondary crusher\",\"LP-9 EU-3\",IF(G165=\"tertiary crusher\",\"LP-9 EU-4\",IF(G165=\"fines crushing\",\"LP-9 EU-5\",IF(G165=\"fines screening\",\"LP-9 EU-6\",IF(G165=\"wet drilling: unfragmented stone\",\"LP-9 EU-7\",IF(G165=\"conveyor transfer points\",\"LP-9 EU-8\")))))))))","v":""},null,null,null,{"$f":"IF($C168=\"no\",I165,0)","v":0}]
[null,{"$f":"IF('Limestone Plant (LP-9)'!$D$4>9,\"County:\",\"\")","v":""},null,null,{"$f":"IF(G166=\"\",\"\",\"LP-9 EP-1\")","v":""},{"$f":"IF(G166=\"\",\"\",IF(G166=\"primary crusher\",\"LP-9 EU-1\",IF(G166=\"screening\",\"LP-9 EU-2\",IF(G166=\"secondary crusher\",\"LP-9 EU-3\",IF(G166=\"tertiary crusher\",\"LP-9 EU-4\",IF(G166=\"fines crushing\",\"LP-9 EU-5\",IF(G166=\"fines screening\",\"LP-9 EU-6\",IF(G166=\"wet drilling: unfragmented stone\",\"LP-9 EU-7\",IF(G166=\"conveyor transfer points\",\"LP-9 EU-8\")))))))))","v":""}]
[null,{"$f":"IF('Limestone Plant (LP-9)'!$D$4>9,\"Crushing Period (Dates):\",\"\")","v":""},null,null,"",""]
[null,{"$f":"IF('Limestone Plant (LP-9)'!$D$4>9,\"Controlled with Dust Suppressant or Material Being Processed has Moisture Content > 1.5%?\",\"\")","v":""},null,null,"",""]
[null,null,null,null,"",""]
[null,null,null,null,"",""]
[null,null,null,null,"",""]
[null,null,null,null,"",""]
[]
[null,null,null,null,{"$f":"IF('Limestone Plant (LP-9)'!$D$4>9,\"Stock Pile Area\",\"\")","v":""}]
[null,null,null,null,null,{"$f":"IF('Limestone Plant (LP-9)'!$D$4>9,\"Emission Unit #\",\"\")","v":""},{"$f":"IF('Limestone Plant (LP-9)'!$D$4>9,\"Maximum Storage Area (acres)\",\"\")","v":""},{"$f":"IF('Limestone Plant (LP-9)'!$D$4>9,\"Actual Storage Area (acres)\",\"\")","v":""},{"$f":"IF('Limestone Plant (LP-9)'!$D$4>9,\"Actual Days in Existence (days)\",\"\")","v":""}]

{"sheet":"Limestone Plant (LP-10)","index":10,"n_rows":175,"n_cols":19,"rows_kept":175,"cut":false,"hidden":true,"merged":[[167,1,169,1],[167,2,169,2],[119,1,121,1],[119,2,121,2],[135,1,137,1],[135,2,137,2],[152,1,154,1],[152,2,154,2],[71,1,73,1],[71,2,73,2],[87,1,89,1],[87,2,89,2],[103,1,105,1],[103,2,105,2],[23,1,25,1],[23,2,25,2],[39,1,41,1],[39,2,41,2],[55,1,57,1],[55,2,57,2],[162,4,163,4],[162,6,163,6],[162,7,163,7],[162,8,163,8],[130,4,131,4],[130,6,131,6],[130,7,131,7],[130,8,131,8],[146,4,147,4],[146,6,147,6],[146,7,147,7],[146,8,147,8],[130,5,131,5],[146,5,147,5],[162,5,163,5],[98,4,99,4],[98,6,99,6],[98,7,99,7],[98,8,99,8],[114,4,115,4],[114,6,115,6],[114,7,115,7],[114,8,115,8],[98,5,99,5],[114,5,115,5],[66,4,67,4],[66,6,67,6],[66,7,67,7],[66,8,67,8],[82,4,83,4],[82,6,83,6],[82,7,83,7],[82,8,83,8],[66,5,67,5],[82,5,83,5],[48,3,48,4],[50,4,51,4],[50,6,51,6],[50,7,51,7],[50,8,51,8],[50,5,51,5],[37,14,38,14],[37,15,38,15],[37,16,38,16],[37,17,38,17],[37,18,38,18],[34,4,35,4],[34,6,35,6],[34,7,35,7],[34,8,35,8],[37,13,38,13],[34,5,35,5],[17,16,18,16],[17,17,18,17],[17,18,18,18],[18,4,19,4],[18,6,19,6],[18,7,19,7],[18,8,19,8],[17,13,18,13],[17,14,18,14],[17,15,18,15],[18,5,19,5],[2,13,3,13],[2,14,3,14],[2,18,3,18],[3,1,3,2],[3,3,3,4],[11,1,13,2],[0,1,0,2],[1,1,1,2],[1,7,1,8],[2,12,3,12]]}
[null,"LIMESTONE CRUSHING PLANT (LP-10)"]
[null,"Please fill in the yellow boxes as applicable for your facility. ",null,null,null,null,null,"Values used for calculating emissions →",null,null,null,null,"Values Used to Calculate Actual Emissions for the Listed Processes at this Plant"]
[null,null,null,null,null,null,null,null,null,null,null,null,"Process","Maximum Design Rate (tons/hr)","Actual throughput w/o wet supression (tons/yr)",null,null,null,"Actual throughtput w/ wet supression (tons/yr)"]
[null,{"$f":"\"Number of Sites this Plant operated at in \"&'Facility Information'!G5&\":\"","v":"Number of Sites this Plant operated at in :"},null,null,null,null,null,null,null,null,null,null,null,null,null,null,"** As of 2016 Potential Emissions are no longer required to be reported in the Minor Source Emissions Inventory**"]
[null,null,null,null,null,null,null,null,null,null,null,null,"Primary Crusher",{"$f":"MAX((IFERROR(OFFSET($G$20,MATCH(\"primary crusher\",$G$21:$G$28,0),1),0)),((IFERROR((OFFSET($G$36,MATCH(\"primary crusher\",$G$37:$G$44,0),1)),0))),((IFERROR((OFFSET($G$52,MATCH(\"primary crusher\",$G$53:$G$60,0),1)),0))),((IFERROR((OFFSET($G$68,MATCH(\"primary crusher\",$G$69:$G$76,0),1)),0))),((IFERROR((OFFSET($G$84,MATCH(\"primary crusher\",$G$85:$G$92,0),1)),0))),((IFERROR((OFFSET($G$100,MATCH(\"primary crusher\",$G$101:$G$108,0),1)),0))),((IFERROR((OFFSET($G$116,MATCH(\"primary crusher\",$G$117:$G$124,0),1)),0))),((IFERROR((OFFSET($G$132,MATCH(\"primary crusher\",$G$133:$G$140,0),1)),0))),((IFERROR((OFFSET($G$148,MATCH(\"primary crusher\",$G$149:$G$156,0),1)),0))),((IFERROR((OFFSET($G$163,MATCH(\"primary crusher\",$G$165:$G$172,0),1)),0))))","v":0},{"$f":"SUM((IFERROR(OFFSET($G$20,MATCH(\"primary crusher\",$G$21:$G$28,0),3),0)),((IFERROR((OFFSET($G$36,MATCH(\"primary crusher\",$G$37:$G$44,0),3)),0))),((IFERROR((OFFSET($G$52,MATCH(\"primary crusher\",$G$53:$G$60,0),3)),0))),((IFERROR((OFFSET($G$68,MATCH(\"primary crusher\",$G$69:$G$76,0),3)),0))),((IFERROR((OFFSET($G$84,MATCH(\"primary crusher\",$G$85:$G$92,0),3)),0))),((IFERROR((OFFSET($G$100,MATCH(\"primary crusher\",$G$101:$G$108,0),3)),0))),((IFERROR((OFFSET($G$116,MATCH(\"primary crusher\",$G$117:$G$124,0),3)),0))),((IFERROR((OFFSET($G$132,MATCH(\"primary crusher\",$G$133:$G$140,0),3)),0))),((IFERROR((OFFSET($G$148,MATCH(\"primary crusher\",$G$149:$G$156,0),3)),0))),((IFERROR((OFFSET($G$163,MATCH(\"primary crusher\",$G$165:$G$172,0),3)),0))))","v":0},null,null,null,{"$f":"SUM((IFERROR(OFFSET($G$20,MATCH(\"primary crusher\",$G$21:$G$28,0),4),0)),((IFERROR((OFFSET($G$36,MATCH(\"primary crusher\",$G$37:$G$44,0),4)),0))),((IFERROR((OFFSET($G$52,MATCH(\"primary crusher\",$G$53:$G$60,0),4)),0))),((IFERROR((OFFSET($G$68,MATCH(\"primary crusher\",$G$69:$G$76,0),4)),0))),((IFERROR((OFFSET($G$84,MATCH(\"primary crusher\",$G$85:$G$92,0),4)),0))),((IFERROR((OFFSET($G$100,MATCH(\"primary crusher\",$G$101:$G$108,0),4)),0))),((IFERROR((OFFSET($G$116,MATCH(\"primary crusher\",$G$117:$G$124,0),4)),0))),((IFERROR((OFFSET($G$132,MATCH(\"primary crusher\",$G$133:$G$140,0),4)),0))),((IFERROR((OFFSET($G$148,MATCH(\"primary crusher\",$G$149:$G$156,0),4)),0))),((IFERROR((OFFSET($G$163,MATCH(\"primary crusher\",$G$165:$G$172,0),4)),0))))","v":0}]
[null,"Plant Specific Permit Number: ",null,null,null,null,null,null,null,null,null,null,"Screening",{"$f":"MAX((IFERROR(OFFSET($G$20,MATCH(\"screening\",$G$21:$G$28,0),1),0)),((IFERROR((OFFSET($G$36,MATCH(\"screening\",$G$37:$G$44,0),1)),0))),((IFERROR((OFFSET($G$52,MATCH(\"screening\",$G$53:$G$60,0),1)),0))),((IFERROR((OFFSET($G$68,MATCH(\"screening\",$G$69:$G$76,0),1)),0))),((IFERROR((OFFSET($G$84,MATCH(\"screening\",$G$85:$G$92,0),1)),0))),((IFERROR((OFFSET($G$100,MATCH(\"screening\",$G$101:$G$108,0),1)),0))),((IFERROR((OFFSET($G$116,MATCH(\"screening\",$G$117:$G$124,0),1)),0))),((IFERROR((OFFSET($G$132,MATCH(\"screening\",$G$133:$G$140,0),1)),0))),((IFERROR((OFFSET($G$148,MATCH(\"screening\",$G$149:$G$156,0),1)),0))),((IFERROR((OFFSET($G$163,MATCH(\"screening\",$G$165:$G$172,0),1)),0))))","v":0},{"$f":"SUM((IFERROR(OFFSET($G$20,MATCH(\"screening\",$G$21:$G$28,0),3),0)),((IFERROR((OFFSET($G$36,MATCH(\"screening\",$G$37:$G$44,0),3)),0))),((IFERROR((OFFSET($G$52,MATCH(\"screening\",$G$53:$G$60,0),3)),0))),((IFERROR((OFFSET($G$68,MATCH(\"screening\",$G$69:$G$76,0),3)),0))),((IFERROR((OFFSET($G$84,MATCH(\"screening\",$G$85:$G$92,0),3)),0))),((IFERROR((OFFSET($G$100,MATCH(\"screening\",$G$101:$G$108,0),3)),0))),((IFERROR((OFFSET($G$116,MATCH(\"screening\",$G$117:$G$124,0),3)),0))),((IFERROR((OFFSET($G$132,MATCH(\"screening\",$G$133:$G$140,0),3)),0))),((IFERROR((OFFSET($G$148,MATCH(\"screening\",$G$149:$G$156,0),3)),0))),((IFERROR((OFFSET($G$163,MATCH(\"screening\",$G$165:$G$172,0),3)),0))))","v":0},null,null,null,{"$f":"SUM((IFERROR(OFFSET($G$20,MATCH(\"screening\",$G$21:$G$28,0),4),0)),((IFERROR((OFFSET($G$36,MATCH(\"screening\",$G$37:$G$44,0),4)),0))),((IFERROR((OFFSET($G$52,MATCH(\"screening\",$G$53:$G$60,0),4)),0))),((IFERROR((OFFSET($G$68,MATCH(\"screening\",$G$69:$G$76,0),4)),0))),((IFERROR((OFFSET($G$84,MATCH(\"screening\",$G$85:$G$92,0),4)),0))),((IFERROR((OFFSET($G$100,MATCH(\"screening\",$G$101:$G$108,0),4)),0))),((IFERROR((OFFSET($G$116,MATCH(\"screening\",$G$117:$G$124,0),4)),0))),((IFERROR((OFFSET($G$132,MATCH(\"screening\",$G$133:$G$140,0),4)),0))),((IFERROR((OFFSET($G$148,MATCH(\"screening\",$G$149:$G$156,0),4)),0))),((IFERROR((OFFSET($G$163,MATCH(\"screening\",$G$165:$G$172,0),4)),0))))","v":0}]
[null,null,null,null,null,null,null,null,null,null,null,null,"Secondary Crusher",{"$f":"MAX((IFERROR(OFFSET($G$20,MATCH(\"secondary crusher\",$G$21:$G$28,0),1),0)),((IFERROR((OFFSET($G$36,MATCH(\"secondary crusher\",$G$37:$G$44,0),1)),0))),((IFERROR((OFFSET($G$52,MATCH(\"secondary crusher\",$G$53:$G$60,0),1)),0))),((IFERROR((OFFSET($G$68,MATCH(\"secondary crusher\",$G$69:$G$76,0),1)),0))),((IFERROR((OFFSET($G$84,MATCH(\"secondary crusher\",$G$85:$G$92,0),1)),0))),((IFERROR((OFFSET($G$100,MATCH(\"secondary crusher\",$G$101:$G$108,0),1)),0))),((IFERROR((OFFSET($G$116,MATCH(\"secondary crusher\",$G$117:$G$124,0),1)),0))),((IFERROR((OFFSET($G$132,MATCH(\"secondary crusher\",$G$133:$G$140,0),1)),0))),((IFERROR((OFFSET($G$148,MATCH(\"secondary crusher\",$G$149:$G$156,0),1)),0))),((IFERROR((OFFSET($G$163,MATCH(\"secondary crusher\",$G$165:$G$172,0),1)),0))))","v":0},{"$f":"SUM((IFERROR(OFFSET($G$20,MATCH(\"secondary crusher\",$G$21:$G$28,0),3),0)),((IFERROR((OFFSET($G$36,MATCH(\"secondary crusher\",$G$37:$G$44,0),3)),0))),((IFERROR((OFFSET($G$52,MATCH(\"secondary crusher\",$G$53:$G$60,0),3)),0))),((IFERROR((OFFSET($G$68,MATCH(\"secondary crusher\",$G$69:$G$76,0),3)),0))),((IFERROR((OFFSET($G$84,MATCH(\"secondary crusher\",$G$85:$G$92,0),3)),0))),((IFERROR((OFFSET($G$100,MATCH(\"secondary crusher\",$G$101:$G$108,0),3)),0))),((IFERROR((OFFSET($G$116,MATCH(\"secondary crusher\",$G$117:$G$124,0),3)),0))),((IFERROR((OFFSET($G$132,MATCH(\"secondary crusher\",$G$133:$G$140,0),3)),0))),((IFERROR((OFFSET($G$148,MATCH(\"secondary crusher\",$G$149:$G$156,0),3)),0))),((IFERROR((OFFSET($G$163,MATCH(\"secondary crusher\",$G$165:$G$172,0),3)),0))))","v":0},null,null,null,{"$f":"SUM((IFERROR(OFFSET($G$20,MATCH(\"secondary crusher\",$G$21:$G$28,0),4),0)),((IFERROR((OFFSET($G$36,MATCH(\"secondary crusher\",$G$37:$G$44,0),4)),0))),((IFERROR((OFFSET($G$52,MATCH(\"secondary crusher\",$G$53:$G$60,0),4)),0))),((IFERROR((OFFSET($G$68,MATCH(\"secondary crusher\",$G$69:$G$76,0),4)),0))),((IFERROR((OFFSET($G$84,MATCH(\"secondary crusher\",$G$85:$G$92,0),4)),0))),((IFERROR((OFFSET($G$100,MATCH(\"secondary crusher\",$G$101:$G$108,0),4)),0))),((IFERROR((OFFSET($G$116,MATCH(\"secondary crusher\",$G$117:$G$124,0),4)),0))),((IFERROR((OFFSET($G$132,MATCH(\"secondary crusher\",$G$133:$G$140,0),4)),0))),((IFERROR((OFFSET($G$148,MATCH(\"secondary crusher\",$G$149:$G$156,0),4)),0))),((IFERROR((OFFSET($G$163,MATCH(\"secondary crusher\",$G$165:$G$172,0),4)),0))))","v":0}]
[null,"Plant Specific Operating Limits:",null,null,"Plant Specific Emission Limits:",null,null,null,null,null,null,null,"Tertiary Crusher",{"$f":"MAX((IFERROR(OFFSET($G$20,MATCH(\"tertiary crusher\",$G$21:$G$28,0),1),0)),((IFERROR((OFFSET($G$36,MATCH(\"tertiary crusher\",$G$37:$G$44,0),1)),0))),((IFERROR((OFFSET($G$52,MATCH(\"tertiary crusher\",$G$53:$G$60,0),1)),0))),((IFERROR((OFFSET($G$68,MATCH(\"tertiary crusher\",$G$69:$G$76,0),1)),0))),((IFERROR((OFFSET($G$84,MATCH(\"tertiary crusher\",$G$85:$G$92,0),1)),0))),((IFERROR((OFFSET($G$100,MATCH(\"tertiary crusher\",$G$101:$G$108,0),1)),0))),((IFERROR((OFFSET($G$116,MATCH(\"tertiary crusher\",$G$117:$G$124,0),1)),0))),((IFERROR((OFFSET($G$132,MATCH(\"tertiary crusher\",$G$133:$G$140,0),1)),0))),((IFERROR((OFFSET($G$148,MATCH(\"tertiary crusher\",$G$149:$G$156,0),1)),0))),((IFERROR((OFFSET($G$163,MATCH(\"tertiary crusher\",$G$165:$G$172,0),1)),0))))","v":0},{"$f":"SUM((IFERROR(OFFSET($G$20,MATCH(\"tertiary crusher\",$G$21:$G$28,0),3),0)),((IFERROR((OFFSET($G$36,MATCH(\"tertiary crusher\",$G$37:$G$44,0),3)),0))),((IFERROR((OFFSET($G$52,MATCH(\"tertiary crusher\",$G$53:$G$60,0),3)),0))),((IFERROR((OFFSET($G$68,MATCH(\"tertiary crusher\",$G$69:$G$76,0),3)),0))),((IFERROR((OFFSET($G$84,MATCH(\"tertiary crusher\",$G$85:$G$92,0),3)),0))),((IFERROR((OFFSET($G$100,MATCH(\"tertiary crusher\",$G$101:$G$108,0),3)),0))),((IFERROR((OFFSET($G$116,MATCH(\"tertiary crusher\",$G$117:$G$124,0),3)),0))),((IFERROR((OFFSET($G$132,MATCH(\"tertiary crusher\",$G$133:$G$140,0),3)),0))),((IFERROR((OFFSET($G$148,MATCH(\"tertiary crusher\",$G$149:$G$156,0),3)),0))),((IFERROR((OFFSET($G$163,MATCH(\"tertiary crusher\",$G$165:$G$172,0),3)),0))))","v":0},null,null,null,{"$f":"SUM((IFERROR(OFFSET($G$20,MATCH(\"tertiary crusher\",$G$21:$G$28,0),4),0)),((IFERROR((OFFSET($G$36,MATCH(\"tertiary crusher\",$G$37:$G$44,0),4)),0))),((IFERROR((OFFSET($G$52,MATCH(\"tertiary crusher\",$G$53:$G$60,0),4)),0))),((IFERROR((OFFSET($G$68,MATCH(\"tertiary crusher\",$G$69:$G$76,0),4)),0))),((IFERROR((OFFSET($G$84,MATCH(\"tertiary crusher\",$G$85:$G$92,0),4)),0))),((IFERROR((OFFSET($G$100,MATCH(\"tertiary crusher\",$G$101:$G$108,0),4)),0))),((IFERROR((OFFSET($G$116,MATCH(\"tertiary crusher\",$G$117:$G$124,0),4)),0))),((IFERROR((OFFSET($G$132,MATCH(\"tertiary crusher\",$G$133:$G$140,0),4)),0))),((IFERROR((OFFSET($G$148,MATCH(\"tertiary crusher\",$G$149:$G$156,0),4)),0))),((IFERROR((OFFSET($G$163,MATCH(\"tertiary crusher\",$G$165:$G$172,0),4)),0))))","v":0}]
[null,"Throughput Limit (tons/yr):",null,null,"Pollutant","lb/hr","tons/yr",null,null,null,null,null,"Fines Crushing",{"$f":"MAX((IFERROR(OFFSET($G$20,MATCH(\"fines crushing\",$G$21:$G$28,0),1),0)),((IFERROR((OFFSET($G$36,MATCH(\"fines crushing\",$G$37:$G$44,0),1)),0))),((IFERROR((OFFSET($G$52,MATCH(\"fines crushing\",$G$53:$G$60,0),1)),0))),((IFERROR((OFFSET($G$68,MATCH(\"fines crushing\",$G$69:$G$76,0),1)),0))),((IFERROR((OFFSET($G$84,MATCH(\"fines crushing\",$G$85:$G$92,0),1)),0))),((IFERROR((OFFSET($G$100,MATCH(\"fines crushing\",$G$101:$G$108,0),1)),0))),((IFERROR((OFFSET($G$116,MATCH(\"fines crushing\",$G$117:$G$124,0),1)),0))),((IFERROR((OFFSET($G$132,MATCH(\"fines crushing\",$G$133:$G$140,0),1)),0))),((IFERROR((OFFSET($G$148,MATCH(\"fines crushing\",$G$149:$G$156,0),1)),0))),((IFERROR((OFFSET($G$163,MATCH(\"fines crushing\",$G$165:$G$172,0),1)),0))))","v":0},{"$f":"SUM((IFERROR(OFFSET($G$20,MATCH(\"fines crushing\",$G$21:$G$28,0),3),0)),((IFERROR((OFFSET($G$36,MATCH(\"fines crushing\",$G$37:$G$44,0),3)),0))),((IFERROR((OFFSET($G$52,MATCH(\"fines crushing\",$G$53:$G$60,0),3)),0))),((IFERROR((OFFSET($G$68,MATCH(\"fines crushing\",$G$69:$G$76,0),3)),0))),((IFERROR((OFFSET($G$84,MATCH(\"fines crushing\",$G$85:$G$92,0),3)),0))),((IFERROR((OFFSET($G$100,MATCH(\"fines crushing\",$G$101:$G$108,0),3)),0))),((IFERROR((OFFSET($G$116,MATCH(\"fines crushing\",$G$117:$G$124,0),3)),0))),((IFERROR((OFFSET($G$132,MATCH(\"fines crushing\",$G$133:$G$140,0),3)),0))),((IFERROR((OFFSET($G$148,MATCH(\"fines crushing\",$G$149:$G$156,0),3)),0))),((IFERROR((OFFSET($G$163,MATCH(\"fines crushing\",$G$165:$G$172,0),3)),0))))","v":0},null,null,null,{"$f":"SUM((IFERROR(OFFSET($G$20,MATCH(\"fines crushing\",$G$21:$G$28,0),4),0)),((IFERROR((OFFSET($G$36,MATCH(\"fines crushing\",$G$37:$G$44,0),4)),0))),((IFERROR((OFFSET($G$52,MATCH(\"fines crushing\",$G$53:$G$60,0),4)),0))),((IFERROR((OFFSET($G$68,MATCH(\"fines crushing\",$G$69:$G$76,0),4)),0))),((IFERROR((OFFSET($G$84,MATCH(\"fines crushing\",$G$85:$G$92,0),4)),0))),((IFERROR((OFFSET($G$100,MATCH(\"fines crushing\",$G$101:$G$108,0),4)),0))),((IFERROR((OFFSET($G$116,MATCH(\"fines crushing\",$G$117:$G$124,0),4)),0))),((IFERROR((OFFSET($G$132,MATCH(\"fines crushing\",$G$133:$G$140,0),4)),0))),((IFERROR((OFFSET($G$148,MATCH(\"fines crushing\",$G$149:$G$156,0),4)),0))),((IFERROR((OFFSET($G$163,MATCH(\"fines crushing\",$G$165:$G$172,0),4)),0))))","v":0}]
[null,"Daily Throughput Limit (tons/day):",null,null,"PM2.5",null,null,null,null,null,null,null,"Fines Screening",{"$f":"MAX((IFERROR(OFFSET($G$20,MATCH(\"fines screening\",$G$21:$G$28,0),1),0)),((IFERROR((OFFSET($G$36,MATCH(\"fines screening\",$G$37:$G$44,0),1)),0))),((IFERROR((OFFSET($G$52,MATCH(\"fines screening\",$G$53:$G$60,0),1)),0))),((IFERROR((OFFSET($G$68,MATCH(\"fines screening\",$G$69:$G$76,0),1)),0))),((IFERROR((OFFSET($G$84,MATCH(\"fines screening\",$G$85:$G$92,0),1)),0))),((IFERROR((OFFSET($G$100,MATCH(\"fines screening\",$G$101:$G$108,0),1)),0))),((IFERROR((OFFSET($G$116,MATCH(\"fines screening\",$G$117:$G$124,0),1)),0))),((IFERROR((OFFSET($G$132,MATCH(\"fines screening\",$G$133:$G$140,0),1)),0))),((IFERROR((OFFSET($G$148,MATCH(\"fines screening\",$G$149:$G$156,0),1)),0))),((IFERROR((OFFSET($G$163,MATCH(\"fines screening\",$G$165:$G$172,0),1)),0))))","v":0},{"$f":"SUM((IFERROR(OFFSET($G$20,MATCH(\"fines screening\",$G$21:$G$28,0),3),0)),((IFERROR((OFFSET($G$36,MATCH(\"fines screening\",$G$37:$G$44,0),3)),0))),((IFERROR((OFFSET($G$52,MATCH(\"fines screening\",$G$53:$G$60,0),3)),0))),((IFERROR((OFFSET($G$68,MATCH(\"fines screening\",$G$69:$G$76,0),3)),0))),((IFERROR((OFFSET($G$84,MATCH(\"fines screening\",$G$85:$G$92,0),3)),0))),((IFERROR((OFFSET($G$100,MATCH(\"fines screening\",$G$101:$G$108,0),3)),0))),((IFERROR((OFFSET($G$116,MATCH(\"fines screening\",$G$117:$G$124,0),3)),0))),((IFERROR((OFFSET($G$132,MATCH(\"fines screening\",$G$133:$G$140,0),3)),0))),((IFERROR((OFFSET($G$148,MATCH(\"fines screening\",$G$149:$G$156,0),3)),0))),((IFERROR((OFFSET($G$163,MATCH(\"fines screening\",$G$165:$G$172,0),3)),0))))","v":0},null,null,null,{"$f":"SUM((IFERROR(OFFSET($G$20,MATCH(\"fines screening\",$G$21:$G$28,0),4),0)),((IFERROR((OFFSET($G$36,MATCH(\"fines screening\",$G$37:$G$44,0),4)),0))),((IFERROR((OFFSET($G$52,MATCH(\"fines screening\",$G$53:$G$60,0),4)),0))),((IFERROR((OFFSET($G$68,MATCH(\"fines screening\",$G$69:$G$76,0),4)),0))),((IFERROR((OFFSET($G$84,MATCH(\"fines screening\",$G$85:$G$92,0),4)),0))),((IFERROR((OFFSET($G$100,MATCH(\"fines screening\",$G$101:$G$108,0),4)),0))),((IFERROR((OFFSET($G$116,MATCH(\"fines screening\",$G$117:$G$124,0),4)),0))),((IFERROR((OFFSET($G$132,MATCH(\"fines screening\",$G$133:$G$140,0),4)),0))),((IFERROR((OFFSET($G$148,MATCH(\"fines screening\",$G$149:$G$156,0),4)),0))),((IFERROR((OFFSET($G$163,MATCH(\"fines screening\",$G$165:$G$172,0),4)),0))))","v":0}]
[null,"Hours of Operation Limit (hours/day):",null,null,"PM10",null,null,null,null,null,null,null,"Wet Drilling: Unfragmented Stone",{"$f":"MAX((IFERROR(OFFSET($G$20,MATCH(\"wet drilling: unfragmented stone\",$G$21:$G$28,0),1),0)),((IFERROR((OFFSET($G$36,MATCH(\"wet drilling: unfragmented stone\",$G$37:$G$44,0),1)),0))),((IFERROR((OFFSET($G$52,MATCH(\"wet drilling: unfragmented stone\",$G$53:$G$60,0),1)),0))),((IFERROR((OFFSET($G$68,MATCH(\"wet drilling: unfragmented stone\",$G$69:$G$76,0),1)),0))),((IFERROR((OFFSET($G$84,MATCH(\"wet drilling: unfragmented stone\",$G$85:$G$92,0),1)),0))),((IFERROR((OFFSET($G$100,MATCH(\"wet drilling: unfragmented stone\",$G$101:$G$108,0),1)),0))),((IFERROR((OFFSET($G$116,MATCH(\"wet drilling: unfragmented stone\",$G$117:$G$124,0),1)),0))),((IFERROR((OFFSET($G$132,MATCH(\"wet drilling: unfragmented stone\",$G$133:$G$140,0),1)),0))),((IFERROR((OFFSET($G$148,MATCH(\"wet drilling: unfragmented stone\",$G$149:$G$156,0),1)),0))),((IFERROR((OFFSET($G$163,MATCH(\"wet drilling: unfragmented stone\",$G$165:$G$172,0),1)),0))))","v":0},{"$f":"SUM((IFERROR(OFFSET($G$20,MATCH(\"wet drilling: unfragmented stone\",$G$21:$G$28,0),3),0)),((IFERROR((OFFSET($G$36,MATCH(\"wet drilling: unfragmented stone\",$G$37:$G$44,0),3)),0))),((IFERROR((OFFSET($G$52,MATCH(\"wet drilling: unfragmented stone\",$G$53:$G$60,0),3)),0))),((IFERROR((OFFSET($G$68,MATCH(\"wet drilling: unfragmented stone\",$G$69:$G$76,0),3)),0))),((IFERROR((OFFSET($G$84,MATCH(\"wet drilling: unfragmented stone\",$G$85:$G$92,0),3)),0))),((IFERROR((OFFSET($G$100,MATCH(\"wet drilling: unfragmented stone\",$G$101:$G$108,0),3)),0))),((IFERROR((OFFSET($G$116,MATCH(\"wet drilling: unfragmented stone\",$G$117:$G$124,0),3)),0))),((IFERROR((OFFSET($G$132,MATCH(\"wet drilling: unfragmented stone\",$G$133:$G$140,0),3)),0))),((IFERROR((OFFSET($G$148,MATCH(\"wet drilling: unfragmented stone\",$G$149:$G$156,0),3)),0))),((IFERROR((OFFSET($G$163,MATCH(\"wet drilling: unfragmented stone\",$G$165:$G$172,0),3)),0))))","v":0},null,null,null,{"$f":"SUM((IFERROR(OFFSET($G$20,MATCH(\"wet drilling: unfragmented stone\",$G$21:$G$28,0),4),0)),((IFERROR((OFFSET($G$36,MATCH(\"wet drilling: unfragmented stone\",$G$37:$G$44,0),4)),0))),((IFERROR((OFFSET($G$52,MATCH(\"wet drilling: unfragmented stone\",$G$53:$G$60,0),4)),0))),((IFERROR((OFFSET($G$68,MATCH(\"wet drilling: unfragmented stone\",$G$69:$G$76,0),4)),0))),((IFERROR((OFFSET($G$84,MATCH(\"wet drilling: unfragmented stone\",$G$85:$G$92,0),4)),0))),((IFERROR((OFFSET($G$100,MATCH(\"wet drilling: unfragmented stone\",$G$101:$G$108,0),4)),0))),((IFERROR((OFFSET($G$116,MATCH(\"wet drilling: unfragmented stone\",$G$117:$G$124,0),4)),0))),((IFERROR((OFFSET($G$132,MATCH(\"wet drilling: unfragmented stone\",$G$133:$G$140,0),4)),0))),((IFERROR((OFFSET($G$148,MATCH(\"wet drilling: unfragmented stone\",$G$149:$G$156,0),4)),0))),((IFERROR((OFFSET($G$163,MATCH(\"wet drilling: unfragmented stone\",$G$165:$G$172,0),4)),0))))","v":0}]
[null,"Note: if the plant has a hours/day and a tons/hr permit limit, those values should be multiplied together to calculate a tons/day limit and that value should be placed in cell C10.",null,null,"SO2",null,null,null,null,null,null,null,"Conveyor Transfer Points",{"$f":"MAX((IFERROR(OFFSET($G$20,MATCH(\"conveyor transfer points\",$G$21:$G$28,0),1),0)),((IFERROR((OFFSET($G$36,MATCH(\"conveyor transfer points\",$G$37:$G$44,0),1)),0))),((IFERROR((OFFSET($G$52,MATCH(\"conveyor transfer points\",$G$53:$G$60,0),1)),0))),((IFERROR((OFFSET($G$68,MATCH(\"conveyor transfer points\",$G$69:$G$76,0),1)),0))),((IFERROR((OFFSET($G$84,MATCH(\"conveyor transfer points\",$G$85:$G$92,0),1)),0))),((IFERROR((OFFSET($G$100,MATCH(\"conveyor transfer points\",$G$101:$G$108,0),1)),0))),((IFERROR((OFFSET($G$116,MATCH(\"conveyor transfer points\",$G$117:$G$124,0),1)),0))),((IFERROR((OFFSET($G$132,MATCH(\"conveyor transfer points\",$G$133:$G$140,0),1)),0))),((IFERROR((OFFSET($G$148,MATCH(\"conveyor transfer points\",$G$149:$G$156,0),1)),0))),((IFERROR((OFFSET($G$163,MATCH(\"conveyor transfer points\",$G$165:$G$172,0),1)),0))))","v":0},{"$f":"SUM((IFERROR(OFFSET($G$20,MATCH(\"conveyor transfer points\",$G$21:$G$28,0),3),0)),((IFERROR((OFFSET($G$36,MATCH(\"conveyor transfer points\",$G$37:$G$44,0),3)),0))),((IFERROR((OFFSET($G$52,MATCH(\"conveyor transfer points\",$G$53:$G$60,0),3)),0))),((IFERROR((OFFSET($G$68,MATCH(\"conveyor transfer points\",$G$69:$G$76,0),3)),0))),((IFERROR((OFFSET($G$84,MATCH(\"conveyor transfer points\",$G$85:$G$92,0),3)),0))),((IFERROR((OFFSET($G$100,MATCH(\"conveyor transfer points\",$G$101:$G$108,0),3)),0))),((IFERROR((OFFSET($G$116,MATCH(\"conveyor transfer points\",$G$117:$G$124,0),3)),0))),((IFERROR((OFFSET($G$132,MATCH(\"conveyor transfer points\",$G$133:$G$140,0),3)),0))),((IFERROR((OFFSET($G$148,MATCH(\"conveyor transfer points\",$G$149:$G$156,0),3)),0))),((IFERROR((OFFSET($G$163,MATCH(\"conveyor transfer points\",$G$165:$G$172,0),3)),0))))","v":0},null,null,null,{"$f":"SUM((IFERROR(OFFSET($G$20,MATCH(\"conveyor transfer points\",$G$21:$G$28,0),4),0)),((IFERROR((OFFSET($G$36,MATCH(\"conveyor transfer points\",$G$37:$G$44,0),4)),0))),((IFERROR((OFFSET($G$52,MATCH(\"conveyor transfer points\",$G$53:$G$60,0),4)),0))),((IFERROR((OFFSET($G$68,MATCH(\"conveyor transfer points\",$G$69:$G$76,0),4)),0))),((IFERROR((OFFSET($G$84,MATCH(\"conveyor transfer points\",$G$85:$G$92,0),4)),0))),((IFERROR((OFFSET($G$100,MATCH(\"conveyor transfer points\",$G$101:$G$108,0),4)),0))),((IFERROR((OFFSET($G$116,MATCH(\"conveyor transfer points\",$G$117:$G$124,0),4)),0))),((IFERROR((OFFSET($G$132,MATCH(\"conveyor transfer points\",$G$133:$G$140,0),4)),0))),((IFERROR((OFFSET($G$148,MATCH(\"conveyor transfer points\",$G$149:$G$156,0),4)),0))),((IFERROR((OFFSET($G$163,MATCH(\"conveyor transfer points\",$G$165:$G$172,0),4)),0))))","v":0}]
[null,null,null,null,"NOx",null,null,null,null,null,null,null,null,"Maximum (acres/day)","Actual (acres-day/yr)"]
[null,null,null,null,"VOC",null,null,null,null,null,null,null,"Storage Pile",{"$f":"SUM(G32,G48,G64,G80,G96,G112,G128,G144,G160,G176)","v":0},{"$f":"SUM(H32*I32,H48*I48,H64*I64,H80*I80,H96*I96,H112*I112,H128*I128,H144*I144,H160*I160,H176*I176)","v":0}]
[null,null,null,null,"CO"]
[]
[null,null,null,null,null,null,null,null,null,null,null,null,"Actual Emissions for the Listed Processes at this Plant"]
[null,null,null,null,null,null,null,null,null,null,null,null,null,"Maximum Design Rate (tons/hr)","Emission Factor (lb/ton)","Potential Uncontrolled Emissions (lb/hr)","Potential Controlled Emissions (lb/hr)","Potential Annual Emissions (tons/yr)","Actual Annual Emissions (tons/yr)"]
[null,"CRUSHER PLANT","Site 1",null,"Emission Point #","Emission    Unit #","Processes","Combined Maximum Hourly Design Rate for all Like Processes (tons/hr)",{"$f":"('Facility Information'!G5&\" Annual Throughput (tons)\")","v":" Annual Throughput (tons)"},null,null,null,"PM2.5"]
[null,null,null,null,null,null,null,null,null,"no wet supress","wet supress",null,"Primary Crusher",{"$f":"N5","v":0},{"$f":"IF(N20=0,0,IF(OR(C24=\"no\",C40=\"no\",C56=\"no\",C72=\"no\",C88=\"no\",C104=\"no\",C120=\"no\",C136=\"no\",C153=\"no\",C168=\"no\"),'Emission Factors'!D8,'Emission Factors'!D20))","v":0},{"$f":"IF(OR($C$24=\"no\",$C$40=\"no\",$C$56=\"no\",$C$72=\"no\",$C$88=\"no\",$C$104=\"no\",$C$120=\"no\",$C$136=\"no\",$C$153=\"no\",$C$168=\"no\"),N20*O20,\"\")","v":""},{"$f":"IF($F$10>0,$F$10,IF(OR($C$24=\"no\",$C$40=\"no\",$C$56=\"no\",$C$72=\"no\",$C$88=\"no\",$C$104=\"no\",$C$120=\"no\",$C$136=\"no\",$C$153=\"no\",$C$168=\"no\"),\"\",N20*O20))","v":0},{"$f":"IF($G$10>0,$G$10,IF($C$9>0,$C$9*O20/2000,IF($C$10>0,$C$10*365*O20/2000,IF($C$11>0,$C$11*365*O20*N20/2000,IF(Q20=\"\",P20*8760/2000,Q20*8760/2000)))))","v":0},{"$f":"(O5*'Emission Factors'!D8/2000)+('Emission Factors'!D20*S5/2000)","v":0}]
["YES","Site Name:",null,null,{"$f":"IF(G21=\"\",\"\",\"LP-10 EP-1\")","v":""},{"$f":"IF(G21=\"\",\"\",IF(G21=\"primary crusher\",\"LP-10 EU-1\",IF(G21=\"screening\",\"LP-10 EU-2\",IF(G21=\"secondary crusher\",\"LP-10 EU-3\",IF(G21=\"tertiary crusher\",\"LP-10 EU-4\",IF(G21=\"fines crushing\",\"LP-10 EU-5\",IF(G21=\"fines screening\",\"LP-10 EU-6\",IF(G21=\"wet drilling: unfragmented stone\",\"LP-10 EU-7\",IF(G21=\"conveyor transfer points\",\"LP-10 EU-8\")))))))))","v":""},null,null,null,{"$f":"IF($C24=\"no\",I21,0)","v":0},{"$f":"IF($C$24=\"yes\",I21,0)","v":0},null,"Screening",0,{"$f":"IF(N21=0,0,IF(OR(C24=\"no\",C40=\"no\",C56=\"no\",C72=\"no\",C88=\"no\",C104=\"no\",C120=\"no\",C136=\"no\",C153=\"no\",C168=\"no\"),'Emission Factors'!D9,'Emission Factors'!D21))","v":0},"",0,{"$f":"IF($G$10>0,\"\",IF($C$9>0,$C$9*O21/2000,IF($C$10>0,$C$10*365*O21/2000,IF($C$11>0,$C$11*365*O21*N21/2000,IF(Q21=\"\",P21*8760/2000,Q21*8760/2000)))))","v":0},{"$f":"(O6*'Emission Factors'!D9/2000)+('Emission Factors'!D21*S6/2000)","v":0}]
["NO","County:",null,null,{"$f":"IF(G22=\"\",\"\",\"LP-10 EP-1\")","v":""},{"$f":"IF(G22=\"\",\"\",IF(G22=\"primary crusher\",\"LP-10 EU-1\",IF(G22=\"screening\",\"LP-10 EU-2\",IF(G22=\"secondary crusher\",\"LP-10 EU-3\",IF(G22=\"tertiary crusher\",\"LP-10 EU-4\",IF(G22=\"fines crushing\",\"LP-10 EU-5\",IF(G22=\"fines screening\",\"LP-10 EU-6\",IF(G22=\"wet drilling: unfragmented stone\",\"LP-10 EU-7\",IF(G22=\"conveyor transfer points\",\"LP-10 EU-8\")))))))))","v":""},null,null,null,{"$f":"IF($C$24=\"no\",I22,0)","v":0},0,null,"Secondary Crusher",0,{"$f":"IF(N22=0,0,IF(OR(C24=\"no\",C40=\"no\",C56=\"no\",C72=\"no\",C88=\"no\",C104=\"no\",C120=\"no\",C136=\"no\",C153=\"no\",C168=\"no\"),'Emission Factors'!D10,'Emission Factors'!D22))","v":0},"",0,0,{"$f":"(O7*'Emission Factors'!D10/2000)+('Emission Factors'!D22*S7/2000)","v":0}]
[null,"Crushing Period (Dates):",null,null,"","",null,null,null,0,0,null,"Tertiary Crusher",0,{"$f":"IF(N23=0,0,IF(OR(C24=\"no\",C40=\"no\",C56=\"no\",C72=\"no\",C88=\"no\",C104=\"no\",C120=\"no\",C136=\"no\",C153=\"no\",C168=\"no\"),'Emission Factors'!D12,'Emission Factors'!D24))","v":0},"",0,0,{"$f":"(O8*'Emission Factors'!D12/2000)+('Emission Factors'!D24*S8/2000)","v":0}]
["Primary Crusher","Controlled with Dust Suppressant or Material Being Processed has Moisture Content > 1.5%?",null,null,"","",null,null,null,0,0,null,"Fines Crushing",0,{"$f":"IF(N24=0,0,IF(OR(C24=\"no\",C40=\"no\",C56=\"no\",C72=\"no\",C88=\"no\",C104=\"no\",C120=\"no\",C136=\"no\",C153=\"no\",C168=\"no\"),'Emission Factors'!D6,'Emission Factors'!D18))","v":0},"",0,0,{"$f":"(O9*'Emission Factors'!D6/2000)+('Emission Factors'!D18*S9/2000)","v":0}]
["Screening",null,null,null,"","",null,null,null,0,0,null,"Fines Screening",0,{"$f":"IF(N25=0,0,IF(OR(C24=\"no\",C40=\"no\",C56=\"no\",C72=\"no\",C88=\"no\",C104=\"no\",C120=\"no\",C136=\"no\",C153=\"no\",C168=\"no\"),'Emission Factors'!D7,'Emission Factors'!D19))","v":0},"",0,0,{"$f":"(O10*'Emission Factors'!D7/2000)+('Emission Factors'!D19*S10/2000)","v":0}]
["Secondary Crusher",null,null,null,"","",null,null,null,0,0,null,"Wet Drilling: Unfragmented Stone",0,{"$f":"IF(N26=0,0,IF(OR(C24=\"no\",C40=\"no\",C56=\"no\",C72=\"no\",C88=\"no\",C104=\"no\",C120=\"no\",C136=\"no\",C153=\"no\",C168=\"no\"),'Emission Factors'!D13,'Emission Factors'!D25))","v":0},"",0,0,{"$f":"(O11*'Emission Factors'!D13/2000)+('Emission Factors'!D25*S11/2000)","v":0}]
["Tertiary Crusher",null,null,null,"","",null,null,null,0,0,null,"Conveyor Transfer Points",0,{"$f":"IF(N27=0,0,IF(OR(C24=\"no\",C40=\"no\",C56=\"no\",C72=\"no\",C88=\"no\",C104=\"no\",C120=\"no\",C136=\"no\",C153=\"no\",C168=\"no\"),'Emission Factors'!D5,'Emission Factors'!D17))","v":0},"",0,0,{"$f":"(O12*'Emission Factors'!D5/2000)+('Emission Factors'!D17*S12/2000)","v":0}]
["Fines Crushing",null,null,null,"","",null,null,null,0,0,null,"PM10"]
["Fines Screening",null,null,null,null,null,null,null,null,null,null,null,"Primary Crusher",{"$f":"N5","v":0},{"$f":"IF(N29=0,0,IF(OR(C24=\"no\",C40=\"no\",C56=\"no\",C72=\"no\",C88=\"no\",C104=\"no\",C120=\"no\",C136=\"no\",C153=\"no\",C168=\"no\"),'Emission Factors'!F8,'Emission Factors'!F20))","v":0},{"$f":"IF(OR($C$24=\"no\",$C$40=\"no\",$C$56=\"no\",$C$72=\"no\",$C$88=\"no\",$C$104=\"no\",$C$120=\"no\",$C$136=\"no\",$C$153=\"no\",$C$168=\"no\"),N29*O29,\"\")","v":""},{"$f":"IF($F$11>0,$F$11,IF(OR($C$24=\"no\",$C$40=\"no\",$C$56=\"no\",$C$72=\"no\",$C$88=\"no\",$C$104=\"no\",$C$120=\"no\",$C$136=\"no\",$C$153=\"no\",$C$168=\"no\"),\"\",N29*O29))","v":0},{"$f":"IF($G$11>0,$G$11,IF($C$9>0,$C$9*O29/2000,IF($C$10>0,$C$10*365*O29/2000,IF($C$11>0,$C$11*365*O29*N29/2000,IF(Q29=\"\",P29*8760/2000,Q29*8760/2000)))))","v":0},{"$f":"(O5*'Emission Factors'!F8/2000)+('Emission Factors'!F20*S5/2000)","v":0}]
["Wet Drilling: Unfragmented Stone",null,null,null,"Stock Pile Area",null,null,null,null,null,null,null,"Screening",{"$f":"N6","v":0},{"$f":"IF(N30=0,0,IF(OR(C24=\"no\",C40=\"no\",C56=\"no\",C72=\"no\",C88=\"no\",C104=\"no\",C120=\"no\",C136=\"no\",C153=\"no\",C168=\"no\"),'Emission Factors'!F9,'Emission Factors'!F21))","v":0},"",0,{"$f":"IF($G$11>0,\"\",IF($C$9>0,$C$9*O30/2000,IF($C$10>0,$C$10*365*O30/2000,IF($C$11>0,$C$11*365*O30*N30/2000,IF(Q30=\"\",P30*8760/2000,Q30*8760/2000)))))","v":0},{"$f":"(O6*'Emission Factors'!F9/2000)+('Emission Factors'!F21*S6/2000)","v":0}]
["Conveyor Transfer Points",null,null,null,null,"Emission Unit #","Maximum Storage Area (acres)","Actual Storage Area (acres)","Actual Days in Existence (days)",null,null,null,"Secondary Crusher",0,{"$f":"IF(N31=0,0,IF(OR(C24=\"no\",C40=\"no\",C56=\"no\",C72=\"no\",C88=\"no\",C104=\"no\",C120=\"no\",C136=\"no\",C153=\"no\",C168=\"no\"),'Emission Factors'!F10,'Emission Factors'!F22))","v":0},"",0,0,{"$f":"(O7*'Emission Factors'!F10/2000)+('Emission Factors'!F22*S7/2000)","v":0}]
[null,null,null,null,null,null,null,null,null,null,null,null,"Tertiary Crusher",0,{"$f":"IF(N32=0,0,IF(OR(C24=\"no\",C40=\"no\",C56=\"no\",C72=\"no\",C88=\"no\",C104=\"no\",C120=\"no\",C136=\"no\",C153=\"no\",C168=\"no\"),'Emission Factors'!F12,'Emission Factors'!F24))","v":0},"",0,0,{"$f":"(O8*'Emission Factors'!F12/2000)+('Emission Factors'!F24*S8/2000)","v":0}]
[null,null,null,null,null,null,null,null,null,null,null,null,"Fines Crushing",0,{"$f":"IF(N33=0,0,IF(OR(C24=\"no\",C40=\"no\",C56=\"no\",C72=\"no\",C88=\"no\",C104=\"no\",C120=\"no\",C136=\"no\",C153=\"no\",C168=\"no\"),'Emission Factors'!F6,'Emission Factors'!F18))","v":0},"",0,0,{"$f":"(O9*'Emission Factors'!F6/2000)+('Emission Factors'!F18*S9/2000)","v":0}]
[{"$f":"C21","v":0},null,null,null,null,null,null,null,null,null,null,null,"Fines Screening",0,{"$f":"IF(N34=0,0,IF(OR(C24=\"no\",C40=\"no\",C56=\"no\",C72=\"no\",C88=\"no\",C104=\"no\",C120=\"no\",C136=\"no\",C153=\"no\",C168=\"no\"),'Emission Factors'!F7,'Emission Factors'!F19))","v":0},"",0,0,{"$f":"(O10*'Emission Factors'!F7/2000)+('Emission Factors'!F19*S10/2000)","v":0}]
[{"$f":"C37","v":0},{"$f":"IF('Limestone Plant (LP-10)'!$D$4>1,\"CRUSHER PLANT\",\"\")","v":""},{"$f":"IF('Limestone Plant (LP-10)'!$D$4>1,\"Site 2\",\"\")","v":""},null,{"$f":"IF('Limestone Plant (LP-10)'!$D$4>1,\"Emission Point #\",\"\")","v":""},{"$f":"IF('Limestone Plant (LP-10)'!$D$4>1,\"Emission    Unit #\",\"\")","v":""},{"$f":"IF('Limestone Plant (LP-10)'!$D$4>1,\"Processes\",\"\")","v":""},{"$f":"IF('Limestone Plant (LP-10)'!$D$4>1,\"Combined Maximum Hourly Design Rate for all Like Processes (tons/hr)\",\"\")","v":""},{"$f":"IF('Limestone Plant (LP-10)'!$D$4>1,('Facility Information'!G5&\" Annual Throughput (tons)\"),\"\")","v":""},null,null,null,"Wet Drilling: Unfragmented Stone",0,{"$f":"IF(N35=0,0,IF(OR(C24=\"no\",C40=\"no\",C56=\"no\",C72=\"no\",C88=\"no\",C104=\"no\",C120=\"no\",C136=\"no\",C153=\"no\",C168=\"no\"),'Emission Factors'!F13,'Emission Factors'!F25))","v":0},"",0,0,{"$f":"(O11*'Emission Factors'!F13/2000)+('Emission Factors'!F25*S11/2000)","v":0}]
[{"$f":"C53","v":0},null,null,null,null,null,null,null,null,null,null,null,"Conveyor Transfer Points",0,{"$f":"IF(N36=0,0,IF(OR(C24=\"no\",C40=\"no\",C56=\"no\",C72=\"no\",C88=\"no\",C104=\"no\",C120=\"no\",C136=\"no\",C153=\"no\",C168=\"no\"),'Emission Factors'!F5,'Emission Factors'!F17))","v":0},"",0,0,{"$f":"(O12*'Emission Factors'!F5/2000)+('Emission Factors'!F17*S12/2000)","v":0}]
[{"$f":"C69","v":0},{"$f":"IF('Limestone Plant (LP-10)'!$D$4>1,\"Site Name:\",\"\")","v":""},null,null,{"$f":"IF(G37=\"\",\"\",\"LP-10 EP-1\")","v":""},{"$f":"IF(G37=\"\",\"\",IF(G37=\"primary crusher\",\"LP-10 EU-1\",IF(G37=\"screening\",\"LP-10 EU-2\",IF(G37=\"secondary crusher\",\"LP-10 EU-3\",IF(G37=\"tertiary crusher\",\"LP-10 EU-4\",IF(G37=\"fines crushing\",\"LP-10 EU-5\",IF(G37=\"fines screening\",\"LP-10 EU-6\",IF(G37=\"wet drilling: unfragmented stone\",\"LP-10 EU-7\",IF(G37=\"conveyor transfer points\",\"LP-10 EU-8\")))))))))","v":""},null,null,null,{"$f":"IF($C$40=\"no\",I37,0)","v":0},{"$f":"IF($C$40=\"yes\",I37,0)","v":0}]
[{"$f":"C85","v":0},{"$f":"IF('Limestone Plant (LP-10)'!$D$4>1,\"County:\",\"\")","v":""},null,null,{"$f":"IF(G38=\"\",\"\",\"LP-10 EP-1\")","v":""},{"$f":"IF(G38=\"\",\"\",IF(G38=\"primary crusher\",\"LP-10 EU-1\",IF(G38=\"screening\",\"LP-10 EU-2\",IF(G38=\"secondary crusher\",\"LP-10 EU-3\",IF(G38=\"tertiary crusher\",\"LP-10 EU-4\",IF(G38=\"fines crushing\",\"LP-10 EU-5\",IF(G38=\"fines screening\",\"LP-10 EU-6\",IF(G38=\"wet drilling: unfragmented stone\",\"LP-10 EU-7\",IF(G38=\"conveyor transfer points\",\"LP-10 EU-8\")))))))))","v":""},null,null,null,{"$f":"IF($C$40=\"no\",I38,0)","v":0},{"$f":"IF($C$40=\"yes\",I38,0)","v":0},null,null,"Max Design Rate (acres/day)","Emission Factor   (lb/acre-day)","Potential Uncontrolled Emissions (lb/hr)","Potential Controlled Emissions (lb/hr)","Potential Annual Emissions (tons/yr)","Actual Annual Emissions (tons/yr)"]
[{"$f":"C101","v":0},{"$f":"IF('Limestone Plant (LP-10)'!$D$4>1,\"Crushing Period (Dates):\",\"\")","v":""},null,null,"","",null,null,null,0,0,null,"Storage Pile"]
[{"$f":"C117","v":0},{"$f":"IF('Limestone Plant (LP-10)'!$D$4>1,\"Controlled with Dust Suppressant or Material Being Processed has Moisture Content > 1.5%?\",\"\")","v":""},null,null,"","",null,null,null,0,0,null,"PM2.5/PM10",{"$f":"N14","v":0},3.64,{"$f":"N40*O40*(1/24)","v":0},null,{"$f":"N40*O40*365/2000","v":0},{"$f":"O14*O40/2000","v":0}]
[{"$f":"C133","v":0},null,null,null,"","",null,null,null,0,0]
[{"$f":"C149","v":0},null,null,null,"","",null,null,null,0,0]
[{"$f":"C165","v":0},null,null,null,"","",null,null,null,0,0]
[null,null,null,null,"","",null,null,null,0,0]
[]
[null,null,null,null,{"$f":"IF('Limestone Plant (LP-10)'!$D$4>1,\"Stock Pile Area\",\"\")","v":""}]
[null,null,null,null,null,{"$f":"IF('Limestone Plant (LP-10)'!$D$4>1,\"Emission Unit #\",\"\")","v":""},{"$f":"IF('Limestone Plant (LP-10)'!$D$4>1,\"Maximum Storage Area (acres)\",\"\")","v":""},{"$f":"IF('Limestone Plant (LP-10)'!$D$4>1,\"Actual Storage Area (acres)\",\"\")","v":""},{"$f":"IF('Limestone Plant (LP-10)'!$D$4>1,\"Actual Days in Existence (days)\",\"\")","v":""}]
[]
[]
[]
[null,{"$f":"IF('Limestone Plant (LP-10)'!$D$4>2,\"CRUSHER PLANT\",\"\")","v":""},{"$f":"IF('Limestone Plant (LP-10)'!$D$4>2,\"Site 3\",\"\")","v":""},null,{"$f":"IF('Limestone Plant (LP-10)'!$D$4>2,\"Emission Point #\",\"\")","v":""},{"$f":"IF('Limestone Plant (LP-10)'!$D$4>2,\"Emission     Unit #\",\"\")","v":""},{"$f":"IF('Limestone Plant (LP-10)'!$D$4>2,\"Processes\",\"\")","v":""},{"$f":"IF('Limestone Plant (LP-10)'!$D$4>2,\"Combined Maximum Hourly Design Rate for all Like Processes (tons/hr)\",\"\")","v":""},{"$f":"IF('Limestone Plant (LP-10)'!$D$4>2,('Facility Information'!G5&\" Annual Throughput (tons)\"),\"\")","v":""}]
[]
[null,{"$f":"IF('Limestone Plant (LP-10)'!$D$4>2,\"Site Name:\",\"\")","v":""},null,null,{"$f":"IF(G53=\"\",\"\",\"LP-10 EP-1\")","v":""},{"$f":"IF(G53=\"\",\"\",IF(G53=\"primary crusher\",\"LP-10 EU-1\",IF(G53=\"screening\",\"LP-10 EU-2\",IF(G53=\"secondary crusher\",\"LP-10 EU-3\",IF(G53=\"tertiary crusher\",\"LP-10 EU-4\",IF(G53=\"fines crushing\",\"LP-10 EU-5\",IF(G53=\"fines screening\",\"LP-10 EU-6\",IF(G53=\"wet drilling: unfragmented stone\",\"LP-10 EU-7\",IF(G53=\"conveyor transfer points\",\"LP-10 EU-8\")))))))))","v":""},null,null,null,{"$f":"IF($C$56=\"no\",I53,0)","v":0},{"$f":"IF($C$56=\"yes\",I53,0)","v":0}]
[null,{"$f":"IF('Limestone Plant (LP-10)'!$D$4>2,\"County:\",\"\")","v":""},null,null,{"$f":"IF(G54=\"\",\"\",\"LP-10 EP-1\")","v":""},{"$f":"IF(G54=\"\",\"\",IF(G54=\"primary crusher\",\"LP-10 EU-1\",IF(G54=\"screening\",\"LP-10 EU-2\",IF(G54=\"secondary crusher\",\"LP-10 EU-3\",IF(G54=\"tertiary crusher\",\"LP-10 EU-4\",IF(G54=\"fines crushing\",\"LP-10 EU-5\",IF(G54=\"fines screening\",\"LP-10 EU-6\",IF(G54=\"wet drilling: unfragmented stone\",\"LP-10 EU-7\",IF(G54=\"conveyor transfer points\",\"LP-10 EU-8\")))))))))","v":""},null,null,null,{"$f":"IF($C$56=\"no\",I54,0)","v":0},{"$f":"IF($C$56=\"yes\",I54,0)","v":0}]
[null,{"$f":"IF('Limestone Plant (LP-10)'!$D$4>2,\"Crushing Period (Dates):\",\"\")","v":""},null,null,"","",null,null,null,0,0]
[null,{"$f":"IF('Limestone Plant (LP-10)'!$D$4>2,\"Controlled with Dust Suppressant or Material Being Processed has Moisture Content > 1.5%?\",\"\")","v":""},null,null,"","",null,null,null,0,0]
[null,null,null,null,"","",null,null,null,0,0]
[null,null,null,null,"","",null,null,null,0,0]
[null,null,null,null,"","",null,null,null,0,0]
[null,null,null,null,"","",null,null,null,0,0]
[]
[null,null,null,null,{"$f":"IF('Limestone Plant (LP-10)'!$D$4>2,\"Stock Pile Area\",\"\")","v":""}]
[null,null,null,null,null,{"$f":"IF('Limestone Plant (LP-10)'!$D$4>2,\"Emission Unit #\",\"\")","v":""},{"$f":"IF('Limestone Plant (LP-10)'!$D$4>2,\"Maximum Storage Area (acres)\",\"\")","v":""},{"$f":"IF('Limestone Plant (LP-10)'!$D$4>2,\"Actual Storage Area (acres)\",\"\")","v":""},{"$f":"IF('Limestone Plant (LP-10)'!$D$4>2,\"Actual Days in Existence (days)\",\"\")","v":""}]
[]
[]
[]
[null,{"$f":"IF('Limestone Plant (LP-10)'!$D$4>3,\"CRUSHER PLANT\",\"\")","v":""},{"$f":"IF('Limestone Plant (LP-10)'!$D$4>3,\"Site 4\",\"\")","v":""},null,{"$f":"IF('Limestone Plant (LP-10)'!$D$4>3,\"Emission Point #\",\"\")","v":""},{"$f":"IF('Limestone Plant (LP-10)'!$D$4>3,\"Emission     Unit #\",\"\")","v":""},{"$f":"IF('Limestone Plant (LP-10)'!$D$4>3,\"Processes\",\"\")","v":""},{"$f":"IF('Limestone Plant (LP-10)'!$D$4>3,\"Combined Maximum Hourly Design Rate for all Like Processes (tons/hr)\",\"\")","v":""},{"$f":"IF('Limestone Plant (LP-10)'!$D$4>3,('Facility Information'!G5&\" Annual Throughput (tons)\"),\"\")","v":""}]
[]
[null,{"$f":"IF('Limestone Plant (LP-10)'!$D$4>3,\"Site Name:\",\"\")","v":""},null,null,{"$f":"IF(G69=\"\",\"\",\"LP-10 EP-1\")","v":""},{"$f":"IF(G69=\"\",\"\",IF(G69=\"primary crusher\",\"LP-10 EU-1\",IF(G69=\"screening\",\"LP-10 EU-2\",IF(G69=\"secondary crusher\",\"LP-10 EU-3\",IF(G69=\"tertiary crusher\",\"LP-10 EU-4\",IF(G69=\"fines crushing\",\"LP-10 EU-5\",IF(G69=\"fines screening\",\"LP-10 EU-6\",IF(G69=\"wet drilling: unfragmented stone\",\"LP-10 EU-7\",IF(G69=\"conveyor transfer points\",\"LP-10 EU-8\")))))))))","v":""},null,null,null,{"$f":"IF($C$72=\"no\",I69,0)","v":0},{"$f":"IF($C$72=\"yes\",I69,0)","v":0}]
[null,{"$f":"IF('Limestone Plant (LP-10)'!$D$4>3,\"County:\",\"\")","v":""},null,null,{"$f":"IF(G70=\"\",\"\",\"LP-10 EP-1\")","v":""},{"$f":"IF(G70=\"\",\"\",IF(G70=\"primary crusher\",\"LP-10 EU-1\",IF(G70=\"screening\",\"LP-10 EU-2\",IF(G70=\"secondary crusher\",\"LP-10 EU-3\",IF(G70=\"tertiary crusher\",\"LP-10 EU-4\",IF(G70=\"fines crushing\",\"LP-10 EU-5\",IF(G70=\"fines screening\",\"LP-10 EU-6\",IF(G70=\"wet drilling: unfragmented stone\",\"LP-10 EU-7\",IF(G70=\"conveyor transfer points\",\"LP-10 EU-8\")))))))))","v":""},null,null,null,{"$f":"IF($C$72=\"no\",I70,0)","v":0},{"$f":"IF($C$72=\"yes\",I70,0)","v":0}]
[null,{"$f":"IF('Limestone Plant (LP-10)'!$D$4>3,\"Crushing Period (Dates):\",\"\")","v":""},null,null,"","",null,null,null,0,0]
[null,{"$f":"IF('Limestone Plant (LP-10)'!$D$4>3,\"Controlled with Dust Suppressant or Material Being Processed has Moisture Content > 1.5%?\",\"\")","v":""},null,null,"","",null,null,null,0,0]
[null,null,null,null,"","",null,null,null,0,0]
[null,null,null,null,"","",null,null,null,0,0]
[null,null,null,null,"","",null,null,null,0,0]
[null,null,null,null,"","",null,null,null,0,0]
[]
[null,null,null,null,{"$f":"IF('Limestone Plant (LP-10)'!$D$4>3,\"Stock Pile Area\",\"\")","v":""}]
[null,null,null,null,null,{"$f":"IF('Limestone Plant (LP-10)'!$D$4>3,\"Emission Unit #\",\"\")","v":""},{"$f":"IF('Limestone Plant (LP-10)'!$D$4>3,\"Maximum Storage Area (acres)\",\"\")","v":""},{"$f":"IF('Limestone Plant (LP-10)'!$D$4>3,\"Actual Storage Area (acres)\",\"\")","v":""},{"$f":"IF('Limestone Plant (LP-10)'!$D$4>3,\"Actual Days in Existence (days)\",\"\")","v":""}]
[]
[]
[]
[null,{"$f":"IF('Limestone Plant (LP-10)'!$D$4>4,\"CRUSHER PLANT\",\"\")","v":""},{"$f":"IF('Limestone Plant (LP-10)'!$D$4>4,\"Site 5\",\"\")","v":""},null,{"$f":"IF('Limestone Plant (LP-10)'!$D$4>4,\"Emission Point #\",\"\")","v":""},{"$f":"IF('Limestone Plant (LP-10)'!$D$4>4,\"Emission     Unit #\",\"\")","v":""},{"$f":"IF('Limestone Plant (LP-10)'!$D$4>4,\"Processes\",\"\")","v":""},{"$f":"IF('Limestone Plant (LP-10)'!$D$4>4,\"Combined Maximum Hourly Design Rate for all Like Processes (tons/hr)\",\"\")","v":""},{"$f":"IF('Limestone Plant (LP-10)'!$D$4>4,('Facility Information'!G5&\" Annual Throughput (tons)\"),\"\")","v":""}]
[]
[null,{"$f":"IF('Limestone Plant (LP-10)'!$D$4>4,\"Site Name:\",\"\")","v":""},null,null,{"$f":"IF(G85=\"\",\"\",\"LP-10 EP-1\")","v":""},{"$f":"IF(G85=\"\",\"\",IF(G85=\"primary crusher\",\"LP-10 EU-1\",IF(G85=\"screening\",\"LP-10 EU-2\",IF(G85=\"secondary crusher\",\"LP-10 EU-3\",IF(G85=\"tertiary crusher\",\"LP-10 EU-4\",IF(G85=\"fines crushing\",\"LP-10 EU-5\",IF(G85=\"fines screening\",\"LP-10 EU-6\",IF(G85=\"wet drilling: unfragmented stone\",\"LP-10 EU-7\",IF(G85=\"conveyor transfer points\",\"LP-10 EU-8\")))))))))","v":""},null,null,null,{"$f":"IF($C$88=\"no\",I85,0)","v":0},{"$f":"IF($C$88=\"yes\",I85,0)","v":0}]
[null,{"$f":"IF('Limestone Plant (LP-10)'!$D$4>4,\"County:\",\"\")","v":""},null,null,{"$f":"IF(G86=\"\",\"\",\"LP-10 EP-1\")","v":""},{"$f":"IF(G86=\"\",\"\",IF(G86=\"primary crusher\",\"LP-10 EU-1\",IF(G86=\"screening\",\"LP-10 EU-2\",IF(G86=\"secondary crusher\",\"LP-10 EU-3\",IF(G86=\"tertiary crusher\",\"LP-10 EU-4\",IF(G86=\"fines crushing\",\"LP-10 EU-5\",IF(G86=\"fines screening\",\"LP-10 EU-6\",IF(G86=\"wet drilling: unfragmented stone\",\"LP-10 EU-7\",IF(G86=\"conveyor transfer points\",\"LP-10 EU-8\")))))))))","v":""},null,null,null,{"$f":"IF($C$88=\"no\",I86,0)","v":0},{"$f":"IF($C$88=\"yes\",I86,0)","v":0}]
[null,{"$f":"IF('Limestone Plant (LP-10)'!$D$4>4,\"Crushing Period (Dates):\",\"\")","v":""},null,null,"","",null,null,null,0,0]
[null,{"$f":"IF('Limestone Plant (LP-10)'!$D$4>4,\"Controlled with Dust Suppressant or Material Being Processed has Moisture Content > 1.5%?\",\"\")","v":""},null,null,"","",null,null,null,0,0]
[null,null,null,null,"","",null,null,null,0,0]
[null,null,null,null,"","",null,null,null,0,0]
[null,null,null,null,"","",null,null,null,0,0]
[null,null,null,null,"","",null,null,null,0,0]
[]
[null,null,null,null,{"$f":"IF('Limestone Plant (LP-10)'!$D$4>4,\"Stock Pile Area\",\"\")","v":""}]
[null,null,null,null,null,{"$f":"IF('Limestone Plant (LP-10)'!$D$4>4,\"Emission Unit #\",\"\")","v":""},{"$f":"IF('Limestone Plant (LP-10)'!$D$4>4,\"Maximum Storage Area (acres)\",\"\")","v":""},{"$f":"IF('Limestone Plant (LP-10)'!$D$4>4,\"Actual Storage Area (acres)\",\"\")","v":""},{"$f":"IF('Limestone Plant (LP-10)'!$D$4>4,\"Actual Days in Existence (days)\",\"\")","v":""}]
[]
[]
[]
[null,{"$f":"IF('Limestone Plant (LP-10)'!$D$4>5,\"CRUSHER PLANT\",\"\")","v":""},{"$f":"IF('Limestone Plant (LP-10)'!$D$4>5,\"Site 6\",\"\")","v":""},null,{"$f":"IF('Limestone Plant (LP-10)'!$D$4>5,\"Emission Point #\",\"\")","v":""},{"$f":"IF('Limestone Plant (LP-10)'!$D$4>5,\"Emission     Unit #\",\"\")","v":""},{"$f":"IF('Limestone Plant (LP-10)'!$D$4>5,\"Processes\",\"\")","v":""},{"$f":"IF('Limestone Plant (LP-10)'!$D$4>5,\"Combined Maximum Hourly Design Rate for all Like Processes (tons/hr)\",\"\")","v":""},{"$f":"IF('Limestone Plant (LP-10)'!$D$4>5,('Facility Information'!G5&\" Annual Throughput (tons)\"),\"\")","v":""}]
[]
[null,{"$f":"IF('Limestone Plant (LP-10)'!$D$4>5,\"Site Name:\",\"\")","v":""},null,null,{"$f":"IF(G101=\"\",\"\",\"LP-10 EP-1\")","v":""},{"$f":"IF(G101=\"\",\"\",IF(G101=\"primary crusher\",\"LP-10 EU-1\",IF(G101=\"screening\",\"LP-10 EU-2\",IF(G101=\"secondary crusher\",\"LP-10 EU-3\",IF(G101=\"tertiary crusher\",\"LP-10 EU-4\",IF(G101=\"fines crushing\",\"LP-10 EU-5\",IF(G101=\"fines screening\",\"LP-10 EU-6\",IF(G101=\"wet drilling: unfragmented stone\",\"LP-10 EU-7\",IF(G101=\"conveyor transfer points\",\"LP-10 EU-8\")))))))))","v":""},null,null,null,{"$f":"IF($C$104=\"no\",I101,0)","v":0},{"$f":"IF($C$104=\"yes\",I101,0)","v":0}]
[null,{"$f":"IF('Limestone Plant (LP-10)'!$D$4>5,\"County:\",\"\")","v":""},null,null,{"$f":"IF(G102=\"\",\"\",\"LP-10 EP-1\")","v":""},{"$f":"IF(G102=\"\",\"\",IF(G102=\"primary crusher\",\"LP-10 EU-1\",IF(G102=\"screening\",\"LP-10 EU-2\",IF(G102=\"secondary crusher\",\"LP-10 EU-3\",IF(G102=\"tertiary crusher\",\"LP-10 EU-4\",IF(G102=\"fines crushing\",\"LP-10 EU-5\",IF(G102=\"fines screening\",\"LP-10 EU-6\",IF(G102=\"wet drilling: unfragmented stone\",\"LP-10 EU-7\",IF(G102=\"conveyor transfer points\",\"LP-10 EU-8\")))))))))","v":""},null,null,null,{"$f":"IF($C$104=\"no\",I102,0)","v":0},{"$f":"IF($C$104=\"yes\",I102,0)","v":0}]
[null,{"$f":"IF('Limestone Plant (LP-10)'!$D$4>5,\"Crushing Period (Dates):\",\"\")","v":""},null,null,"","",null,null,null,0,0]
[null,{"$f":"IF('Limestone Plant (LP-10)'!$D$4>5,\"Controlled with Dust Suppressant or Material Being Processed has Moisture Content > 1.5%?\",\"\")","v":""},null,null,"","",null,null,null,0,0]
[null,null,null,null,"","",null,null,null,0,0]
[null,null,null,null,"","",null,null,null,0,0]
[null,null,null,null,"","",null,null,null,0,0]
[null,null,null,null,"","",null,null,null,0,0]
[]
[null,null,null,null,{"$f":"IF('Limestone Plant (LP-10)'!$D$4>5,\"Stock Pile Area\",\"\")","v":""}]
[null,null,null,null,null,{"$f":"IF('Limestone Plant (LP-10)'!$D$4>5,\"Emission Unit #\",\"\")","v":""},{"$f":"IF('Limestone Plant (LP-10)'!$D$4>5,\"Maximum Storage Area (acres)\",\"\")","v":""},{"$f":"IF('Limestone Plant (LP-10)'!$D$4>5,\"Actual Storage Area (acres)\",\"\")","v":""},{"$f":"IF('Limestone Plant (LP-10)'!$D$4>5,\"Actual Days in Existence (days)\",\"\")","v":""}]
[]
[]
[]
[null,{"$f":"IF('Limestone Plant (LP-10)'!$D$4>6,\"CRUSHER PLANT\",\"\")","v":""},{"$f":"IF('Limestone Plant (LP-10)'!$D$4>6,\"Site 7\",\"\")","v":""},null,{"$f":"IF('Limestone Plant (LP-10)'!$D$4>6,\"Emission Point #\",\"\")","v":""},{"$f":"IF('Limestone Plant (LP-10)'!$D$4>6,\"Emission     Unit #\",\"\")","v":""},{"$f":"IF('Limestone Plant (LP-10)'!$D$4>6,\"Processes\",\"\")","v":""},{"$f":"IF('Limestone Plant (LP-10)'!$D$4>6,\"Combined Maximum Hourly Design Rate for all Like Processes (tons/hr)\",\"\")","v":""},{"$f":"IF('Limestone Plant (LP-10)'!$D$4>6,('Facility Information'!G5&\" Annual Throughput (tons)\"),\"\")","v":""}]
[]
[null,{"$f":"IF('Limestone Plant (LP-10)'!$D$4>6,\"Site Name:\",\"\")","v":""},null,null,{"$f":"IF(G117=\"\",\"\",\"LP-10 EP-1\")","v":""},{"$f":"IF(G117=\"\",\"\",IF(G117=\"primary crusher\",\"LP-10 EU-1\",IF(G117=\"screening\",\"LP-10 EU-2\",IF(G117=\"secondary crusher\",\"LP-10 EU-3\",IF(G117=\"tertiary crusher\",\"LP-10 EU-4\",IF(G117=\"fines crushing\",\"LP-10 EU-5\",IF(G117=\"fines screening\",\"LP-10 EU-6\",IF(G117=\"wet drilling: unfragmented stone\",\"LP-10 EU-7\",IF(G117=\"conveyor transfer points\",\"LP-10 EU-8\")))))))))","v":""},null,null,null,{"$f":"IF($C$120=\"no\",I117,0)","v":0},{"$f":"IF($C$120=\"yes\",I117,0)","v":0}]
[null,{"$f":"IF('Limestone Plant (LP-10)'!$D$4>6,\"County:\",\"\")","v":""},null,null,{"$f":"IF(G118=\"\",\"\",\"LP-10 EP-1\")","v":""},{"$f":"IF(G118=\"\",\"\",IF(G118=\"primary crusher\",\"LP-10 EU-1\",IF(G118=\"screening\",\"LP-10 EU-2\",IF(G118=\"secondary crusher\",\"LP-10 EU-3\",IF(G118=\"tertiary crusher\",\"LP-10 EU-4\",IF(G118=\"fines crushing\",\"LP-10 EU-5\",IF(G118=\"fines screening\",\"LP-10 EU-6\",IF(G118=\"wet drilling: unfragmented stone\",\"LP-10 EU-7\",IF(G118=\"conveyor transfer points\",\"LP-10 EU-8\")))))))))","v":""},null,null,null,{"$f":"IF($C$120=\"no\",I118,0)","v":0},{"$f":"IF($C$120=\"yes\",I118,0)","v":0}]
[null,{"$f":"IF('Limestone Plant (LP-10)'!$D$4>6,\"Crushing Period (Dates):\",\"\")","v":""},null,null,"","",null,null,null,0,0]
[null,{"$f":"IF('Limestone Plant (LP-10)'!$D$4>6,\"Controlled with Dust Suppressant or Material Being Processed has Moisture Content > 1.5%?\",\"\")","v":""},null,null,"","",null,null,null,0,0]
[null,null,null,null,"","",null,null,null,0,0]
[null,null,null,null,"","",null,null,null,0,0]
[null,null,null,null,"","",null,null,null,0,0]
[null,null,null,null,"","",null,null,null,0,0]
[]
[null,null,null,null,{"$f":"IF('Limestone Plant (LP-10)'!$D$4>6,\"Stock Pile Area\",\"\")","v":""}]
[null,null,null,null,null,{"$f":"IF('Limestone Plant (LP-10)'!$D$4>6,\"Emission Unit #\",\"\")","v":""},{"$f":"IF('Limestone Plant (LP-10)'!$D$4>6,\"Maximum Storage Area (acres)\",\"\")","v":""},{"$f":"IF('Limestone Plant (LP-10)'!$D$4>6,\"Actual Storage Area (acres)\",\"\")","v":""},{"$f":"IF('Limestone Plant (LP-10)'!$D$4>6,\"Actual Days in Existence (days)\",\"\")","v":""}]
[]
[]
[]
[null,{"$f":"IF('Limestone Plant (LP-10)'!$D$4>7,\"CRUSHER PLANT\",\"\")","v":""},{"$f":"IF('Limestone Plant (LP-10)'!$D$4>7,\"Site 8\",\"\")","v":""},null,{"$f":"IF('Limestone Plant (LP-10)'!$D$4>7,\"Emission Point #\",\"\")","v":""},{"$f":"IF('Limestone Plant (LP-10)'!$D$4>7,\"Emission     Unit #\",\"\")","v":""},{"$f":"IF('Limestone Plant (LP-10)'!$D$4>7,\"Processes\",\"\")","v":""},{"$f":"IF('Limestone Plant (LP-10)'!$D$4>7,\"Combined Maximum Hourly Design Rate for all Like Processes (tons/hr)\",\"\")","v":""},{"$f":"IF('Limestone Plant (LP-10)'!$D$4>7,('Facility Information'!G5&\" Annual Throughput (tons)\"),\"\")","v":""}]
[]
[null,{"$f":"IF('Limestone Plant (LP-10)'!$D$4>7,\"Site Name:\",\"\")","v":""},null,null,{"$f":"IF(G133=\"\",\"\",\"LP-10 EP-1\")","v":""},{"$f":"IF(G133=\"\",\"\",IF(G133=\"primary crusher\",\"LP-10 EU-1\",IF(G133=\"screening\",\"LP-10 EU-2\",IF(G133=\"secondary crusher\",\"LP-10 EU-3\",IF(G133=\"tertiary crusher\",\"LP-10 EU-4\",IF(G133=\"fines crushing\",\"LP-10 EU-5\",IF(G133=\"fines screening\",\"LP-10 EU-6\",IF(G133=\"wet drilling: unfragmented stone\",\"LP-10 EU-7\",IF(G133=\"conveyor transfer points\",\"LP-10 EU-8\")))))))))","v":""},null,null,null,{"$f":"IF($C$136=\"no\",I133,0)","v":0},{"$f":"IF($C$136=\"yes\",I133,0)","v":0}]
[null,{"$f":"IF('Limestone Plant (LP-10)'!$D$4>7,\"County:\",\"\")","v":""},null,null,{"$f":"IF(G134=\"\",\"\",\"LP-10 EP-1\")","v":""},{"$f":"IF(G134=\"\",\"\",IF(G134=\"primary crusher\",\"LP-10 EU-1\",IF(G134=\"screening\",\"LP-10 EU-2\",IF(G134=\"secondary crusher\",\"LP-10 EU-3\",IF(G134=\"tertiary crusher\",\"LP-10 EU-4\",IF(G134=\"fines crushing\",\"LP-10 EU-5\",IF(G134=\"fines screening\",\"LP-10 EU-6\",IF(G134=\"wet drilling: unfragmented stone\",\"LP-10 EU-7\",IF(G134=\"conveyor transfer points\",\"LP-10 EU-8\")))))))))","v":""},null,null,null,{"$f":"IF($C$136=\"no\",I134,0)","v":0},{"$f":"IF($C$136=\"yes\",I134,0)","v":0}]
[null,{"$f":"IF('Limestone Plant (LP-10)'!$D$4>7,\"Crushing Period (Dates):\",\"\")","v":""},null,null,"","",null,null,null,0,0]
[null,{"$f":"IF('Limestone Plant (LP-10)'!$D$4>7,\"Controlled with Dust Suppressant or Material Being Processed has Moisture Content > 1.5%?\",\"\")","v":""},null,null,"","",null,null,null,0,0]
[null,null,null,null,"","",null,null,null,0,0]
[null,null,null,null,"","",null,null,null,0,0]
[null,null,null,null,"","",null,null,null,0,0]
[null,null,null,null,"","",null,null,null,0,0]
[]
[null,null,null,null,{"$f":"IF('Limestone Plant (LP-10)'!$D$4>7,\"Stock Pile Area\",\"\")","v":""}]
[null,null,null,null,null,{"$f":"IF('Limestone Plant (LP-10)'!$D$4>7,\"Emission Unit #\",\"\")","v":""},{"$f":"IF('Limestone Plant (LP-10)'!$D$4>7,\"Maximum Storage Area (acres)\",\"\")","v":""},{"$f":"IF('Limestone Plant (LP-10)'!$D$4>7,\"Actual Storage Area (acres)\",\"\")","v":""},{"$f":"IF('Limestone Plant (LP-10)'!$D$4>7,\"Actual Days in Existence (days)\",\"\")","v":""}]
[]
[]
[]
[null,{"$f":"IF('Limestone Plant (LP-10)'!$D$4>8,\"CRUSHER PLANT\",\"\")","v":""},{"$f":"IF('Limestone Plant (LP-10)'!$D$4>8,\"Site 9\",\"\")","v":""},null,{"$f":"IF('Limestone Plant (LP-10)'!$D$4>8,\"Emission Point #\",\"\")","v":""},{"$f":"IF('Limestone Plant (LP-10)'!$D$4>8,\"Emission     Unit #\",\"\")","v":""},{"$f":"IF('Limestone Plant (LP-10)'!$D$4>8,\"Processes\",\"\")","v":""},{"$f":"IF('Limestone Plant (LP-10)'!$D$4>8,\"Combined Maximum Hourly Design Rate for all Like Processes (tons/hr)\",\"\")","v":""},{"$f":"IF('Limestone Plant (LP-10)'!$D$4>8,('Facility Information'!G5&\" Annual Throughput (tons)\"),\"\")","v":""}]
[]
[null,{"$f":"IF('Limestone Plant (LP-10)'!$D$4>8,\"Permit Number:\",\"\")","v":""},null,null,{"$f":"IF(G149=\"\",\"\",\"LP-10 EP-1\")","v":""},{"$f":"IF(G149=\"\",\"\",IF(G149=\"primary crusher\",\"LP-10 EU-1\",IF(G149=\"screening\",\"LP-10 EU-2\",IF(G149=\"secondary crusher\",\"LP-10 EU-3\",IF(G149=\"tertiary crusher\",\"LP-10 EU-4\",IF(G149=\"fines crushing\",\"LP-10 EU-5\",IF(G149=\"fines screening\",\"LP-10 EU-6\",IF(G149=\"wet drilling: unfragmented stone\",\"LP-10 EU-7\",IF(G149=\"conveyor transfer points\",\"LP-10 EU-8\")))))))))","v":""},null,null,null,{"$f":"IF($C$153=\"no\",I149,0)","v":0},{"$f":"IF($C$153=\"yes\",I149,0)","v":0}]
[null,{"$f":"IF('Limestone Plant (LP-10)'!$D$4>8,\"Site Name:\",\"\")","v":""},null,null,{"$f":"IF(G150=\"\",\"\",\"LP-10 EP-1\")","v":""},{"$f":"IF(G150=\"\",\"\",IF(G150=\"primary crusher\",\"LP-10 EU-1\",IF(G150=\"screening\",\"LP-10 EU-2\",IF(G150=\"secondary crusher\",\"LP-10 EU-3\",IF(G150=\"tertiary crusher\",\"LP-10 EU-4\",IF(G150=\"fines crushing\",\"LP-10 EU-5\",IF(G150=\"fines screening\",\"LP-10 EU-6\",IF(G150=\"wet drilling: unfragmented stone\",\"LP-10 EU-7\",IF(G150=\"conveyor transfer points\",\"LP-10 EU-8\")))))))))","v":""},null,null,null,{"$f":"IF($C$153=\"no\",I150,0)","v":0},{"$f":"IF($C$153=\"yes\",I150,0)","v":0}]
[null,{"$f":"IF('Limestone Plant (LP-10)'!$D$4>8,\"County:\",\"\")","v":""},null,null,"","",null,null,null,0,0]
[null,{"$f":"IF('Limestone Plant (LP-10)'!$D$4>8,\"Crushing Period (Dates):\",\"\")","v":""},null,null,"","",null,null,null,0,0]
[null,{"$f":"IF('Limestone Plant (LP-10)'!$D$4>8,\"Controlled with Dust Suppressant or Material Being Processed has Moisture Content > 1.5%?\",\"\")","v":""},null,null,"","",null,null,null,0,0]
[null,null,null,null,"","",null,null,null,0,0]
[null,null,null,null,"","",null,null,null,0,0]
[null,null,null,null,"","",null,null,null,0,0]
[]
[null,null,null,null,{"$f":"IF('Limestone Plant (LP-10)'!$D$4>8,\"Stock Pile Area\",\"\")","v":""}]
[null,null,null,null,null,{"$f":"IF('Limestone Plant (LP-10)'!$D$4>8,\"Emission Unit #\",\"\")","v":""},{"$f":"IF('Limestone Plant (LP-10)'!$D$4>8,\"Maximum Storage Area (acres)\",\"\")","v":""},{"$f":"IF('Limestone Plant (LP-10)'!$D$4>8,\"Actual Storage Area (acres)\",\"\")","v":""},{"$f":"IF('Limestone Plant (LP-10)'!$D$4>8,\"Actual Days in Existence (days)\",\"\")","v":""}]
[]
[]
[]
[null,{"$f":"IF('Limestone Plant (LP-10)'!$D$4>9,\"CRUSHER PLANT\",\"\")","v":""},{"$f":"IF('Limestone Plant (LP-10)'!$D$4>9,\"Site 10\",\"\")","v":""},null,{"$f":"IF('Limestone Plant (LP-10)'!$D$4>9,\"Emission Point #\",\"\")","v":""},{"$f":"IF('Limestone Plant (LP-10)'!$D$4>9,\"Emission     Unit #\",\"\")","v":""},{"$f":"IF('Limestone Plant (LP-10)'!$D$4>9,\"Processes\",\"\")","v":""},{"$f":"IF('Limestone Plant (LP-10)'!$D$4>9,\"Combined Maximum Hourly Design Rate for all Like Processes (tons/hr)\",\"\")","v":""},{"$f":"IF('Limestone Plant (LP-10)'!$D$4>9,('Facility Information'!G5&\" Annual Throughput (tons)\"),\"\")","v":""}]
[]
[null,{"$f":"IF('Limestone Plant (LP-10)'!$D$4>9,\"Site Name:\",\"\")","v":""},null,null,{"$f":"IF(G165=\"\",\"\",\"LP-10 EP-1\")","v":""},{"$f":"IF(G165=\"\",\"\",IF(G165=\"primary crusher\",\"LP-10 EU-1\",IF(G165=\"screening\",\"LP-10 EU-2\",IF(G165=\"secondary crusher\",\"LP-10 EU-3\",IF(G165=\"tertiary crusher\",\"LP-10 EU-4\",IF(G165=\"fines crushing\",\"LP-10 EU-5\",IF(G165=\"fines screening\",\"LP-10 EU-6\",IF(G165=\"wet drilling: unfragmented stone\",\"LP-10 EU-7\",IF(G165=\"conveyor transfer points\",\"LP-10 EU-8\")))))))))","v":""},null,null,null,{"$f":"IF($C168=\"no\",I165,0)","v":0}]
[null,{"$f":"IF('Limestone Plant (LP-10)'!$D$4>9,\"County:\",\"\")","v":""},null,null,{"$f":"IF(G166=\"\",\"\",\"LP-10 EP-1\")","v":""},{"$f":"IF(G166=\"\",\"\",IF(G166=\"primary crusher\",\"LP-10 EU-1\",IF(G166=\"screening\",\"LP-10 EU-2\",IF(G166=\"secondary crusher\",\"LP-10 EU-3\",IF(G166=\"tertiary crusher\",\"LP-10 EU-4\",IF(G166=\"fines crushing\",\"LP-10 EU-5\",IF(G166=\"fines screening\",\"LP-10 EU-6\",IF(G166=\"wet drilling: unfragmented stone\",\"LP-10 EU-7\",IF(G166=\"conveyor transfer points\",\"LP-10 EU-8\")))))))))","v":""}]
[null,{"$f":"IF('Limestone Plant (LP-10)'!$D$4>9,\"Crushing Period (Dates):\",\"\")","v":""},null,null,"",""]
[null,{"$f":"IF('Limestone Plant (LP-10)'!$D$4>9,\"Controlled with Dust Suppressant or Material Being Processed has Moisture Content > 1.5%?\",\"\")","v":""},null,null,"",""]
[null,null,null,null,"",""]
[null,null,null,null,"",""]
[null,null,null,null,"",""]
[null,null,null,null,"",""]
[]
[null,null,null,null,{"$f":"IF('Limestone Plant (LP-10)'!$D$4>9,\"Stock Pile Area\",\"\")","v":""}]
[null,null,null,null,null,{"$f":"IF('Limestone Plant (LP-10)'!$D$4>9,\"Emission Unit #\",\"\")","v":""},{"$f":"IF('Limestone Plant (LP-10)'!$D$4>9,\"Maximum Storage Area (acres)\",\"\")","v":""},{"$f":"IF('Limestone Plant (LP-10)'!$D$4>9,\"Actual Storage Area (acres)\",\"\")","v":""},{"$f":"IF('Limestone Plant (LP-10)'!$D$4>9,\"Actual Days in Existence (days)\",\"\")","v":""}]

{"sheet":"Haul Roads","index":11,"n_rows":50,"n_cols":41,"rows_kept":50,"cut":false,"hidden":false,"merged":[[4,28,7,28],[4,29,7,29],[4,4,7,4],[4,23,7,23],[4,22,7,22],[4,21,7,21],[4,26,7,26],[4,27,7,27],[4,24,7,24],[4,6,5,7],[4,5,7,5],[4,11,7,11],[4,8,7,8],[4,9,7,9],[4,25,7,25],[4,17,7,17],[4,18,7,18],[4,19,7,19],[6,13,7,13],[4,20,7,20],[4,15,7,15],[4,16,7,16],[6,14,7,14],[4,3,7,3],[4,12,5,14],[6,12,7,12],[4,1,7,1],[1,1,1,5],[4,10,7,10],[6,6,7,6],[6,7,7,7],[4,2,7,2]]}
[null,"HAUL ROADS"]
[null,"Please fill in the yellow boxes as applicable for your facility. "]
[null,"**As of 2016 Potential Emission are no longer required to be reported in the Minor Source Emission Inventory**"]
[]
[null,"Paved or Unpaved Haul Road","Emission Point Number","Emission Unit Number","Limestone Plant Number              (i.e., LP-1)","Site Name","Average Vehicle     Weight (tons)",null,"Percent of Miles Vehicles Travel While Empty (%)","Average Vehicle Weight (tons) W","Average Load Weight (tons)","Round Trip Length of Haul Road (miles)","Annual Throughput (tons/yr)",null,null,"Potential One-Way Trips Taken","Actual One-Way Trips Taken","Road Surface Silt Loading (g/m2) S/sL","Days/Year with at least 0.01 inches of Precipitation P","Is dust supressant used to control emissions?","PM2.5 Emission Factor (lb/vmt)","Potential Emissions (lb/hr)","Potential Controlled Emissions (lb/hr)","Potential Emissions (tons/yr)","Actual Emissions (tons/yr)","PM10 Emission Factor (lb/vmt)","Potential Emissions (lb/hr)","Potential Controlled Emissions (lb/hr)","Potential Emissions (tons/yr)","Actual Emissions (tons/yr)"]
[]
[null,null,null,null,null,null,"Empty (unloaded)","Full (loaded)",null,null,null,null,"Permit Limit","Maximum ","Annual",null,null,null,null,null,null,null,null,null,null,null,null,null,null,null,null,"PM2.5",null,"PM10",null,null,null,"PM2.5","PM2.5","PM10","PM10"]
[null,null,null,null,null,null,null,null,null,null,null,null,null,null,null,null,null,null,null,null,null,null,null,null,null,null,null,null,null,null,null,"Unpaved","Paved","Unpaved","Paved",null,null,"Potential tpy","Actual tpy","Potential tpy","Actual tpy"]
["Paved Haul Road",null,null,null,null,null,null,null,null,{"$f":"IF(G9=\"\",\"\",(G9*(I9/100)+H9*(1-(I9/100))))","v":""},{"$f":"IF(G9=\"\",\"\",H9-G9)","v":""},null,{"$f":"IF(E9=\"\",\"\",IF(E9=\"LP-1\",IF('Limestone Plant (LP-1)'!$C$9>0,'Limestone Plant (LP-1)'!$C$9,IF('Limestone Plant (LP-1)'!$C$10>0,'Limestone Plant (LP-1)'!$C$10*365,\"\")),IF(E9=\"LP-2\",IF('Limestone Plant (LP-1)'!$C$9>0,'Limestone Plant (LP-1)'!$C$9,IF('Limestone Plant (LP-2)'!$C$10>0,'Limestone Plant (LP-2)'!$C$10*365,\"\")),IF(E9=\"LP-3\",IF('Limestone Plant (LP-1)'!$C$9>0,'Limestone Plant (LP-1)'!$C$9,IF('Limestone Plant (LP-3)'!$C$10>0,'Limestone Plant (LP-3)'!$C$10*365,\"\")),IF(E9=\"LP-4\",IF('Limestone Plant (LP-1)'!$C$9>0,'Limestone Plant (LP-1)'!$C$9,IF('Limestone Plant (LP-4)'!$C$10>0,'Limestone Plant (LP-4)'!$C$10*365,\"\")),IF(E9=\"LP-5\",IF('Limestone Plant (LP-1)'!$C$9>0,'Limestone Plant (LP-1)'!$C$9,IF('Limestone Plant (LP-5)'!$C$10>0,'Limestone Plant (LP-5)'!$C$10*365,\"\")),IF(E9=\"LP-6\",IF('Limestone Plant (LP-1)'!$C$9>0,'Limestone Plant (LP-1)'!$C$9,IF('Limestone Plant (LP-6)'!$C$10>0,'Limestone Plant (LP-6)'!$C$10*365,\"\")),IF(E9=\"LP-7\",IF('Limestone Plant (LP-1)'!$C$9>0,'Limestone Plant (LP-1)'!$C$9,IF('Limestone Plant (LP-7)'!$C$10>0,'Limestone Plant (LP-7)'!$C$10*365,\"\")),IF(E9=\"LP-8\",IF('Limestone Plant (LP-1)'!$C$9>0,'Limestone Plant (LP-1)'!$C$9,IF('Limestone Plant (LP-8)'!$C$10>0,'Limestone Plant (LP-8)'!$C$10*365,\"\")),IF(E9=\"LP-9\",IF('Limestone Plant (LP-1)'!$C$9>0,'Limestone Plant (LP-1)'!$C$9,IF('Limestone Plant (LP-9)'!$C$10>0,'Limestone Plant (LP-9)'!$C$10*365,\"\")),IF(E9=\"LP-10\",IF('Limestone Plant (LP-1)'!$C$9>0,'Limestone Plant (LP-1)'!$C$9,IF('Limestone Plant (LP-10)'!$C$10>0,'Limestone Plant (LP-10)'!$C$10*365,\"\")))))))))))))","v":""},null,null,{"$f":"IF(B9=\"\",\"\",IF(M9=\"\",N9/K9,M9/K9))","v":""},{"$f":"IF(O9=\"\",\"\",O9/K9)","v":""},{"$f":"IF(B9=\"\",\"\",IF(B9=\"Unpaved Haul Road\",8.3,8.2))","v":""},{"$f":"IF(B9=\"\",\"\",100)","v":""},null,{"$f":"IF(B9=\"\",\"\",IF(B9=\"unpaved haul road\",(0.15*((R9/12)^0.9)*((J9/3)^0.45)*((365-S9)/365)),((0.00054*(R9^0.91)*(J9^1.02))*(1-S9/1460))))","v":""},{"$f":"IF(B9=\"\",\"\",U9*P9*L9/8760)","v":""},{"$f":"IF(B9=\"\",\"\",IF(T9=\"yes\",V9*((100-40)/100),\"\"))","v":""},{"$f":"IF(B9=\"\",\"\",IF(W9=\"\",V9*8760/2000,W9*8760/2000))","v":""},{"$f":"IF(B9=\"\",\"\",IF(T9=\"yes\",Q9*L9*U9/2000*((100-40)/100),Q9*L9*U9/2000))","v":""},{"$f":"IF(B9=\"\",\"\",IF(B9=\"unpaved haul road\",(1.5*((R9/12)^0.9)*((J9/3)^0.45)*((365-S9)/365)),((0.0022*(R9^0.91)*(J9^1.02))*(1-S9/1460))))","v":""},{"$f":"IF(B9=\"\",\"\",Z9*P9*L9/8760)","v":""},{"$f":"IF(B9=\"\",\"\",IF(T9=\"yes\",AA9*((100-40)/100),\"\"))","v":""},{"$f":"IF(B9=\"\",\"\",IF(AB9=\"\",AA9*8760/2000,AB9*8760/2000))","v":""},{"$f":"IF(B9=\"\",\"\",IF(T9=\"yes\",Q9*L9*Z9/2000*((100-40)/100),Q9*L9*Z9/2000))","v":""},{"$f":"IF(B9=\"unpaved haul road\",\"x\",\"\")","v":""},{"$f":"IF(AND('Limestone Plant (LP-1)'!$C$10=\"\",'Limestone Plant (LP-1)'!$C$9=\"\"),SUMIFS($X$9:$X$38,$E$9:$E$38,\"LP-1\",$AE$9:$AE$38,\"x\"),MAX(IF($E$9:$E$38=\"LP-1\",IF($AE$9:$AE$38=\"x\",$X$9:$X$38))))","v":0},{"$f":"IF(AND('Limestone Plant (LP-1)'!$C$10=\"\",'Limestone Plant (LP-1)'!$C$9=\"\"),SUMIFS($X$9:$X$38,$E$9:$E$38,\"LP-1\",AE9:AE38,\"\"),MAX(IF($E$9:$E$38=\"LP-1\",IF($AE$9:$AE$38=\"\",$X$9:$X$38))))","v":0},{"$f":"IF(AND('Limestone Plant (LP-1)'!$C$10=\"\",'Limestone Plant (LP-1)'!$C$9=\"\"),SUMIFS($AC$9:$AC$38,$E$9:$E$38,\"LP-1\",$AE$9:$AE$38,\"x\"),MAX(IF($E$9:$E$38=\"LP-1\",IF($AE$9:$AE$38=\"x\",$AC$9:$AC$38))))","v":0},{"$f":"IF(AND('Limestone Plant (LP-1)'!$C$10=\"\",'Limestone Plant (LP-1)'!$C$9=\"\"),SUMIFS($AC$9:$AC$38,$E$9:$E$38,\"LP-1\",$AE$9:$AE$38,\"\"),MAX(IF($E$9:$E$38=\"LP-1\",IF($AE$9:$AE$38=\"\",$AC$9:$AC$38))))","v":0},null,"LP-1",{"$f":"IF(AND('Limestone Plant (LP-1)'!$C$10=\"\",'Limestone Plant (LP-1)'!$C$9=\"\"),SUMIF($E$9:$E$38,\"LP-1\",$X$9:$X$38),MAX(IF($E$9:$E$38=\"LP-1\",$X$9:$X$38)))","v":0},{"$f":"SUMIF($E$9:$E$38,\"LP-1\",$Y$9:$Y$38)","v":0},{"$f":"IF(AND('Limestone Plant (LP-1)'!$C$10=\"\",'Limestone Plant (LP-1)'!$C$9=\"\"),SUMIF($E$9:$E$38,\"LP-1\",$AC$9:$AC$38),MAX(IF($E$9:$E$38=\"LP-1\",$AC$9:$AC$38)))","v":0},{"$f":"SUMIF($E$9:$E438,\"LP-1\",$AD$9:$AD$38)","v":0}]
["Unpaved Haul Road",null,null,null,null,null,null,null,null,{"$f":"IF(G10=\"\",\"\",(G10*(I10/100)+H10*(1-(I10/100))))","v":""},{"$f":"IF(G10=\"\",\"\",H10-G10)","v":""},null,{"$f":"IF(E10=\"\",\"\",IF(E10=\"LP-1\",IF('Limestone Plant (LP-1)'!$C$9>0,'Limestone Plant (LP-1)'!$C$9,IF('Limestone Plant (LP-1)'!$C$10>0,'Limestone Plant (LP-1)'!$C$10*365,\"\")),IF(E10=\"LP-2\",IF('Limestone Plant (LP-1)'!$C$9>0,'Limestone Plant (LP-1)'!$C$9,IF('Limestone Plant (LP-2)'!$C$10>0,'Limestone Plant (LP-2)'!$C$10*365,\"\")),IF(E10=\"LP-3\",IF('Limestone Plant (LP-1)'!$C$9>0,'Limestone Plant (LP-1)'!$C$9,IF('Limestone Plant (LP-3)'!$C$10>0,'Limestone Plant (LP-3)'!$C$10*365,\"\")),IF(E10=\"LP-4\",IF('Limestone Plant (LP-1)'!$C$9>0,'Limestone Plant (LP-1)'!$C$9,IF('Limestone Plant (LP-4)'!$C$10>0,'Limestone Plant (LP-4)'!$C$10*365,\"\")),IF(E10=\"LP-5\",IF('Limestone Plant (LP-1)'!$C$9>0,'Limestone Plant (LP-1)'!$C$9,IF('Limestone Plant (LP-5)'!$C$10>0,'Limestone Plant (LP-5)'!$C$10*365,\"\")),IF(E10=\"LP-6\",IF('Limestone Plant (LP-1)'!$C$9>0,'Limestone Plant (LP-1)'!$C$9,IF('Limestone Plant (LP-6)'!$C$10>0,'Limestone Plant (LP-6)'!$C$10*365,\"\")),IF(E10=\"LP-7\",IF('Limestone Plant (LP-1)'!$C$9>0,'Limestone Plant (LP-1)'!$C$9,IF('Limestone Plant (LP-7)'!$C$10>0,'Limestone Plant (LP-7)'!$C$10*365,\"\")),IF(E10=\"LP-8\",IF('Limestone Plant (LP-1)'!$C$9>0,'Limestone Plant (LP-1)'!$C$9,IF('Limestone Plant (LP-8)'!$C$10>0,'Limestone Plant (LP-8)'!$C$10*365,\"\")),IF(E10=\"LP-9\",IF('Limestone Plant (LP-1)'!$C$9>0,'Limestone Plant (LP-1)'!$C$9,IF('Limestone Plant (LP-9)'!$C$10>0,'Limestone Plant (LP-9)'!$C$10*365,\"\")),IF(E10=\"LP-10\",IF('Limestone Plant (LP-1)'!$C$9>0,'Limestone Plant (LP-1)'!$C$9,IF('Limestone Plant (LP-10)'!$C$10>0,'Limestone Plant (LP-10)'!$C$10*365,\"\")))))))))))))","v":""},null,null,"",{"$f":"IF(O10=\"\",\"\",O10/K10)","v":""},"","",null,"","","","","","","","","","",{"$f":"IF(B10=\"unpaved haul road\",\"x\",\"\")","v":""},{"$f":"IF(AND('Limestone Plant (LP-2)'!$C$10=\"\",'Limestone Plant (LP-2)'!$C$9=\"\"),SUMIFS($X$9:$X$38,$E$9:$E$38,\"LP-2\",$AE$9:$AE$38,\"x\"),MAX(IF($E$9:$E$38=\"LP-2\",IF($AE$9:$AE$38=\"x\",$X$9:$X$38))))","v":0},{"$f":"IF(AND('Limestone Plant (LP-2)'!$C$10=\"\",'Limestone Plant (LP-2)'!$C$9=\"\"),SUMIFS($X$9:$X$38,$E$9:$E$38,\"LP-2\",AE9:AE38,\"\"),MAX(IF($E$9:$E$38=\"LP-2\",IF($AE$9:$AE$38=\"\",$X$9:$X$38))))","v":0},{"$f":"IF(AND('Limestone Plant (LP-2)'!$C$10=\"\",'Limestone Plant (LP-2)'!$C$9=\"\"),SUMIFS($AC$9:$AC$38,$E$9:$E$38,\"LP-2\",$AE$9:$AE$38,\"x\"),MAX(IF($E$9:$E$38=\"LP-2\",IF($AE$9:$AE$38=\"x\",$AC$9:$AC$38))))","v":0},{"$f":"IF(AND('Limestone Plant (LP-2)'!$C$10=\"\",'Limestone Plant (LP-2)'!$C$9=\"\"),SUMIFS($AC$9:$AC$38,$E$9:$E$38,\"LP-2\",$AE$9:$AE$38,\"\"),MAX(IF($E$9:$E$38=\"LP-2\",IF($AE$9:$AE$38=\"\",$AC$9:$AC$38))))","v":0},null,"LP-2",{"$f":"IF(AND('Limestone Plant (LP-2)'!$C$10=\"\",'Limestone Plant (LP-2)'!$C$9=\"\"),SUMIF($E$9:$E$38,\"LP-2\",$X$9:$X$38),MAX(IF($E$9:$E$38=\"LP-2\",$X$9:$X$38)))","v":0},{"$f":"SUMIF($E$9:$E$38,\"LP-2\",$Y$9:$Y$38)","v":0},{"$f":"IF(AND('Limestone Plant (LP-2)'!$C$10=\"\",'Limestone Plant (LP-2)'!$C$9=\"\"),SUMIF($E$9:$E$38,\"LP-2\",$AC$9:$AC$38),MAX(IF($E$9:$E$38=\"LP-2\",$AC$9:$AC$38)))","v":0},{"$f":"SUMIF($E$9:$E439,\"LP-2\",$AD$9:$AD$38)","v":0}]
[null,null,null,null,null,null,null,null,null,"","",null,{"$f":"IF(E11=\"\",\"\",IF(E11=\"LP-1\",IF('Limestone Plant (LP-1)'!$C$9>0,'Limestone Plant (LP-1)'!$C$9,IF('Limestone Plant (LP-1)'!$C$10>0,'Limestone Plant (LP-1)'!$C$10*365,\"\")),IF(E11=\"LP-2\",IF('Limestone Plant (LP-1)'!$C$9>0,'Limestone Plant (LP-1)'!$C$9,IF('Limestone Plant (LP-2)'!$C$10>0,'Limestone Plant (LP-2)'!$C$10*365,\"\")),IF(E11=\"LP-3\",IF('Limestone Plant (LP-1)'!$C$9>0,'Limestone Plant (LP-1)'!$C$9,IF('Limestone Plant (LP-3)'!$C$10>0,'Limestone Plant (LP-3)'!$C$10*365,\"\")),IF(E11=\"LP-4\",IF('Limestone Plant (LP-1)'!$C$9>0,'Limestone Plant (LP-1)'!$C$9,IF('Limestone Plant (LP-4)'!$C$10>0,'Limestone Plant (LP-4)'!$C$10*365,\"\")),IF(E11=\"LP-5\",IF('Limestone Plant (LP-1)'!$C$9>0,'Limestone Plant (LP-1)'!$C$9,IF('Limestone Plant (LP-5)'!$C$10>0,'Limestone Plant (LP-5)'!$C$10*365,\"\")),IF(E11=\"LP-6\",IF('Limestone Plant (LP-1)'!$C$9>0,'Limestone Plant (LP-1)'!$C$9,IF('Limestone Plant (LP-6)'!$C$10>0,'Limestone Plant (LP-6)'!$C$10*365,\"\")),IF(E11=\"LP-7\",IF('Limestone Plant (LP-1)'!$C$9>0,'Limestone Plant (LP-1)'!$C$9,IF('Limestone Plant (LP-7)'!$C$10>0,'Limestone Plant (LP-7)'!$C$10*365,\"\")),IF(E11=\"LP-8\",IF('Limestone Plant (LP-1)'!$C$9>0,'Limestone Plant (LP-1)'!$C$9,IF('Limestone Plant (LP-8)'!$C$10>0,'Limestone Plant (LP-8)'!$C$10*365,\"\")),IF(E11=\"LP-9\",IF('Limestone Plant (LP-1)'!$C$9>0,'Limestone Plant (LP-1)'!$C$9,IF('Limestone Plant (LP-9)'!$C$10>0,'Limestone Plant (LP-9)'!$C$10*365,\"\")),IF(E11=\"LP-10\",IF('Limestone Plant (LP-1)'!$C$9>0,'Limestone Plant (LP-1)'!$C$9,IF('Limestone Plant (LP-10)'!$C$10>0,'Limestone Plant (LP-10)'!$C$10*365,\"\")))))))))))))","v":""},null,null,"","","","",null,"","","","","","","","","","","",{"$f":"IF(AND('Limestone Plant (LP-3)'!$C$10=\"\",'Limestone Plant (LP-3)'!$C$9=\"\"),SUMIFS($X$9:$X$38,$E$9:$E$38,\"LP-3\",$AE$9:$AE$38,\"x\"),MAX(IF($E$9:$E$38=\"LP-3\",IF($AE$9:$AE$38=\"x\",$X$9:$X$38))))","v":0},{"$f":"IF(AND('Limestone Plant (LP-3)'!$C$10=\"\",'Limestone Plant (LP-3)'!$C$9=\"\"),SUMIFS($X$9:$X$38,$E$9:$E$38,\"LP-3\",AE9:AE38,\"\"),MAX(IF($E$9:$E$38=\"LP-3\",IF($AE$9:$AE$38=\"\",$X$9:$X$38))))","v":0},{"$f":"IF(AND('Limestone Plant (LP-3)'!$C$10=\"\",'Limestone Plant (LP-3)'!$C$9=\"\"),SUMIFS($AC$9:$AC$38,$E$9:$E$38,\"LP-3\",$AE$9:$AE$38,\"x\"),MAX(IF($E$9:$E$38=\"LP-3\",IF($AE$9:$AE$38=\"x\",$AC$9:$AC$38))))","v":0},{"$f":"IF(AND('Limestone Plant (LP-3)'!$C$10=\"\",'Limestone Plant (LP-3)'!$C$9=\"\"),SUMIFS($AC$9:$AC$38,$E$9:$E$38,\"LP-3\",$AE$9:$AE$38,\"\"),MAX(IF($E$9:$E$38=\"LP-3\",IF($AE$9:$AE$38=\"\",$AC$9:$AC$38))))","v":0},null,"LP-3",{"$f":"IF(AND('Limestone Plant (LP-3)'!$C$10=\"\",'Limestone Plant (LP-3)'!$C$9=\"\"),SUMIF($E$9:$E$38,\"LP-3\",$X$9:$X$38),MAX(IF($E$9:$E$38=\"LP-3\",$X$9:$X$38)))","v":0},{"$f":"SUMIF($E$9:$E$38,\"LP-3\",$Y$9:$Y$38)","v":0},{"$f":"IF(AND('Limestone Plant (LP-3)'!$C$10=\"\",'Limestone Plant (LP-3)'!$C$9=\"\"),SUMIF($E$9:$E$38,\"LP-3\",$AC$9:$AC$38),MAX(IF($E$9:$E$38=\"LP-3\",$AC$9:$AC$38)))","v":0},{"$f":"SUMIF($E$9:$E440,\"LP-3\",$AD$9:$AD$38)","v":0}]
["yes",null,null,null,null,null,null,null,null,"","",null,{"$f":"IF(E12=\"\",\"\",IF(E12=\"LP-1\",IF('Limestone Plant (LP-1)'!$C$9>0,'Limestone Plant (LP-1)'!$C$9,IF('Limestone Plant (LP-1)'!$C$10>0,'Limestone Plant (LP-1)'!$C$10*365,\"\")),IF(E12=\"LP-2\",IF('Limestone Plant (LP-1)'!$C$9>0,'Limestone Plant (LP-1)'!$C$9,IF('Limestone Plant (LP-2)'!$C$10>0,'Limestone Plant (LP-2)'!$C$10*365,\"\")),IF(E12=\"LP-3\",IF('Limestone Plant (LP-1)'!$C$9>0,'Limestone Plant (LP-1)'!$C$9,IF('Limestone Plant (LP-3)'!$C$10>0,'Limestone Plant (LP-3)'!$C$10*365,\"\")),IF(E12=\"LP-4\",IF('Limestone Plant (LP-1)'!$C$9>0,'Limestone Plant (LP-1)'!$C$9,IF('Limestone Plant (LP-4)'!$C$10>0,'Limestone Plant (LP-4)'!$C$10*365,\"\")),IF(E12=\"LP-5\",IF('Limestone Plant (LP-1)'!$C$9>0,'Limestone Plant (LP-1)'!$C$9,IF('Limestone Plant (LP-5)'!$C$10>0,'Limestone Plant (LP-5)'!$C$10*365,\"\")),IF(E12=\"LP-6\",IF('Limestone Plant (LP-1)'!$C$9>0,'Limestone Plant (LP-1)'!$C$9,IF('Limestone Plant (LP-6)'!$C$10>0,'Limestone Plant (LP-6)'!$C$10*365,\"\")),IF(E12=\"LP-7\",IF('Limestone Plant (LP-1)'!$C$9>0,'Limestone Plant (LP-1)'!$C$9,IF('Limestone Plant (LP-7)'!$C$10>0,'Limestone Plant (LP-7)'!$C$10*365,\"\")),IF(E12=\"LP-8\",IF('Limestone Plant (LP-1)'!$C$9>0,'Limestone Plant (LP-1)'!$C$9,IF('Limestone Plant (LP-8)'!$C$10>0,'Limestone Plant (LP-8)'!$C$10*365,\"\")),IF(E12=\"LP-9\",IF('Limestone Plant (LP-1)'!$C$9>0,'Limestone Plant (LP-1)'!$C$9,IF('Limestone Plant (LP-9)'!$C$10>0,'Limestone Plant (LP-9)'!$C$10*365,\"\")),IF(E12=\"LP-10\",IF('Limestone Plant (LP-1)'!$C$9>0,'Limestone Plant (LP-1)'!$C$9,IF('Limestone Plant (LP-10)'!$C$10>0,'Limestone Plant (LP-10)'!$C$10*365,\"\")))))))))))))","v":""},null,null,"","","","",null,"","","","","","","","","","","",{"$f":"IF(AND('Limestone Plant (LP-4)'!$C$10=\"\",'Limestone Plant (LP-4)'!$C$9=\"\"),SUMIFS($X$9:$X$38,$E$9:$E$38,\"LP-4\",$AE$9:$AE$38,\"x\"),MAX(IF($E$9:$E$38=\"LP-4\",IF($AE$9:$AE$38=\"x\",$X$9:$X$38))))","v":0},{"$f":"IF(AND('Limestone Plant (LP-4)'!$C$10=\"\",'Limestone Plant (LP-4)'!$C$9=\"\"),SUMIFS($X$9:$X$38,$E$9:$E$38,\"LP-4\",AE9:AE38,\"\"),MAX(IF($E$9:$E$38=\"LP-4\",IF($AE$9:$AE$38=\"\",$X$9:$X$38))))","v":0},{"$f":"IF(AND('Limestone Plant (LP-4)'!$C$10=\"\",'Limestone Plant (LP-4)'!$C$9=\"\"),SUMIFS($AC$9:$AC$38,$E$9:$E$38,\"LP-4\",$AE$9:$AE$38,\"x\"),MAX(IF($E$9:$E$38=\"LP-4\",IF($AE$9:$AE$38=\"x\",$AC$9:$AC$38))))","v":0},{"$f":"IF(AND('Limestone Plant (LP-4)'!$C$10=\"\",'Limestone Plant (LP-4)'!$C$9=\"\"),SUMIFS($AC$9:$AC$38,$E$9:$E$38,\"LP-4\",$AE$9:$AE$38,\"\"),MAX(IF($E$9:$E$38=\"LP-4\",IF($AE$9:$AE$38=\"\",$AC$9:$AC$38))))","v":0},null,"LP-4",{"$f":"IF(AND('Limestone Plant (LP-4)'!$C$10=\"\",'Limestone Plant (LP-4)'!$C$9=\"\"),SUMIF($E$9:$E$38,\"LP-4\",$X$9:$X$38),MAX(IF($E$9:$E$38=\"LP-4\",$X$9:$X$38)))","v":0},{"$f":"SUMIF($E$9:$E$38,\"LP-4\",$Y$9:$Y$38)","v":0},{"$f":"IF(AND('Limestone Plant (LP-4)'!$C$10=\"\",'Limestone Plant (LP-4)'!$C$9=\"\"),SUMIF($E$9:$E$38,\"LP-4\",$AC$9:$AC$38),MAX(IF($E$9:$E$38=\"LP-4\",$AC$9:$AC$38)))","v":0},{"$f":"SUMIF($E$9:$E441,\"LP-4\",$AD$9:$AD$38)","v":0}]
["no",null,null,null,null,null,null,null,null,"","",null,{"$f":"IF(E13=\"\",\"\",IF(E13=\"LP-1\",IF('Limestone Plant (LP-1)'!$C$9>0,'Limestone Plant (LP-1)'!$C$9,IF('Limestone Plant (LP-1)'!$C$10>0,'Limestone Plant (LP-1)'!$C$10*365,\"\")),IF(E13=\"LP-2\",IF('Limestone Plant (LP-1)'!$C$9>0,'Limestone Plant (LP-1)'!$C$9,IF('Limestone Plant (LP-2)'!$C$10>0,'Limestone Plant (LP-2)'!$C$10*365,\"\")),IF(E13=\"LP-3\",IF('Limestone Plant (LP-1)'!$C$9>0,'Limestone Plant (LP-1)'!$C$9,IF('Limestone Plant (LP-3)'!$C$10>0,'Limestone Plant (LP-3)'!$C$10*365,\"\")),IF(E13=\"LP-4\",IF('Limestone Plant (LP-1)'!$C$9>0,'Limestone Plant (LP-1)'!$C$9,IF('Limestone Plant (LP-4)'!$C$10>0,'Limestone Plant (LP-4)'!$C$10*365,\"\")),IF(E13=\"LP-5\",IF('Limestone Plant (LP-1)'!$C$9>0,'Limestone Plant (LP-1)'!$C$9,IF('Limestone Plant (LP-5)'!$C$10>0,'Limestone Plant (LP-5)'!$C$10*365,\"\")),IF(E13=\"LP-6\",IF('Limestone Plant (LP-1)'!$C$9>0,'Limestone Plant (LP-1)'!$C$9,IF('Limestone Plant (LP-6)'!$C$10>0,'Limestone Plant (LP-6)'!$C$10*365,\"\")),IF(E13=\"LP-7\",IF('Limestone Plant (LP-1)'!$C$9>0,'Limestone Plant (LP-1)'!$C$9,IF('Limestone Plant (LP-7)'!$C$10>0,'Limestone Plant (LP-7)'!$C$10*365,\"\")),IF(E13=\"LP-8\",IF('Limestone Plant (LP-1)'!$C$9>0,'Limestone Plant (LP-1)'!$C$9,IF('Limestone Plant (LP-8)'!$C$10>0,'Limestone Plant (LP-8)'!$C$10*365,\"\")),IF(E13=\"LP-9\",IF('Limestone Plant (LP-1)'!$C$9>0,'Limestone Plant (LP-1)'!$C$9,IF('Limestone Plant (LP-9)'!$C$10>0,'Limestone Plant (LP-9)'!$C$10*365,\"\")),IF(E13=\"LP-10\",IF('Limestone Plant (LP-1)'!$C$9>0,'Limestone Plant (LP-1)'!$C$9,IF('Limestone Plant (LP-10)'!$C$10>0,'Limestone Plant (LP-10)'!$C$10*365,\"\")))))))))))))","v":""},null,null,"","","","",null,"","","","","","","","","","","",{"$f":"IF(AND('Limestone Plant (LP-5)'!$C$10=\"\",'Limestone Plant (LP-5)'!$C$9=\"\"),SUMIFS($X$9:$X$38,$E$9:$E$38,\"LP-5\",$AE$9:$AE$38,\"x\"),MAX(IF($E$9:$E$38=\"LP-5\",IF($AE$9:$AE$38=\"x\",$X$9:$X$38))))","v":0},{"$f":"IF(AND('Limestone Plant (LP-5)'!$C$10=\"\",'Limestone Plant (LP-5)'!$C$9=\"\"),SUMIFS($X$9:$X$38,$E$9:$E$38,\"LP-5\",AE9:AE38,\"\"),MAX(IF($E$9:$E$38=\"LP-5\",IF($AE$9:$AE$38=\"\",$X$9:$X$38))))","v":0},{"$f":"IF(AND('Limestone Plant (LP-5)'!$C$10=\"\",'Limestone Plant (LP-5)'!$C$9=\"\"),SUMIFS($AC$9:$AC$38,$E$9:$E$38,\"LP-5\",$AE$9:$AE$38,\"x\"),MAX(IF($E$9:$E$38=\"LP-5\",IF($AE$9:$AE$38=\"x\",$AC$9:$AC$38))))","v":0},{"$f":"IF(AND('Limestone Plant (LP-5)'!$C$10=\"\",'Limestone Plant (LP-5)'!$C$9=\"\"),SUMIFS($AC$9:$AC$38,$E$9:$E$38,\"LP-5\",$AE$9:$AE$38,\"\"),MAX(IF($E$9:$E$38=\"LP-5\",IF($AE$9:$AE$38=\"\",$AC$9:$AC$38))))","v":0},null,"LP-5",{"$f":"IF(AND('Limestone Plant (LP-5)'!$C$10=\"\",'Limestone Plant (LP-5)'!$C$9=\"\"),SUMIF($E$9:$E$38,\"LP-5\",$X$9:$X$38),MAX(IF($E$9:$E$38=\"LP-5\",$X$9:$X$38)))","v":0},{"$f":"SUMIF($E$9:$E$38,\"LP-5\",$Y$9:$Y$38)","v":0},{"$f":"IF(AND('Limestone Plant (LP-5)'!$C$10=\"\",'Limestone Plant (LP-5)'!$C$9=\"\"),SUMIF($E$9:$E$38,\"LP-5\",$AC$9:$AC$38),MAX(IF($E$9:$E$38=\"LP-5\",$AC$9:$AC$38)))","v":0},{"$f":"SUMIF($E$9:$E442,\"LP-5\",$AD$9:$AD$38)","v":0}]
[null,null,null,null,null,null,null,null,null,"","",null,{"$f":"IF(E14=\"\",\"\",IF(E14=\"LP-1\",IF('Limestone Plant (LP-1)'!$C$9>0,'Limestone Plant (LP-1)'!$C$9,IF('Limestone Plant (LP-1)'!$C$10>0,'Limestone Plant (LP-1)'!$C$10*365,\"\")),IF(E14=\"LP-2\",IF('Limestone Plant (LP-1)'!$C$9>0,'Limestone Plant (LP-1)'!$C$9,IF('Limestone Plant (LP-2)'!$C$10>0,'Limestone Plant (LP-2)'!$C$10*365,\"\")),IF(E14=\"LP-3\",IF('Limestone Plant (LP-1)'!$C$9>0,'Limestone Plant (LP-1)'!$C$9,IF('Limestone Plant (LP-3)'!$C$10>0,'Limestone Plant (LP-3)'!$C$10*365,\"\")),IF(E14=\"LP-4\",IF('Limestone Plant (LP-1)'!$C$9>0,'Limestone Plant (LP-1)'!$C$9,IF('Limestone Plant (LP-4)'!$C$10>0,'Limestone Plant (LP-4)'!$C$10*365,\"\")),IF(E14=\"LP-5\",IF('Limestone Plant (LP-1)'!$C$9>0,'Limestone Plant (LP-1)'!$C$9,IF('Limestone Plant (LP-5)'!$C$10>0,'Limestone Plant (LP-5)'!$C$10*365,\"\")),IF(E14=\"LP-6\",IF('Limestone Plant (LP-1)'!$C$9>0,'Limestone Plant (LP-1)'!$C$9,IF('Limestone Plant (LP-6)'!$C$10>0,'Limestone Plant (LP-6)'!$C$10*365,\"\")),IF(E14=\"LP-7\",IF('Limestone Plant (LP-1)'!$C$9>0,'Limestone Plant (LP-1)'!$C$9,IF('Limestone Plant (LP-7)'!$C$10>0,'Limestone Plant (LP-7)'!$C$10*365,\"\")),IF(E14=\"LP-8\",IF('Limestone Plant (LP-1)'!$C$9>0,'Limestone Plant (LP-1)'!$C$9,IF('Limestone Plant (LP-8)'!$C$10>0,'Limestone Plant (LP-8)'!$C$10*365,\"\")),IF(E14=\"LP-9\",IF('Limestone Plant (LP-1)'!$C$9>0,'Limestone Plant (LP-1)'!$C$9,IF('Limestone Plant (LP-9)'!$C$10>0,'Limestone Plant (LP-9)'!$C$10*365,\"\")),IF(E14=\"LP-10\",IF('Limestone Plant (LP-1)'!$C$9>0,'Limestone Plant (LP-1)'!$C$9,IF('Limestone Plant (LP-10)'!$C$10>0,'Limestone Plant (LP-10)'!$C$10*365,\"\")))))))))))))","v":""},null,null,"","","","",null,"","","","","","","","","","","",{"$f":"IF(AND('Limestone Plant (LP-6)'!$C$10=\"\",'Limestone Plant (LP-6)'!$C$9=\"\"),SUMIFS($X$9:$X$38,$E$9:$E$38,\"LP-6\",$AE$9:$AE$38,\"x\"),MAX(IF($E$9:$E$38=\"LP-6\",IF($AE$9:$AE$38=\"x\",$X$9:$X$38))))","v":0},{"$f":"IF(AND('Limestone Plant (LP-6)'!$C$10=\"\",'Limestone Plant (LP-6)'!$C$9=\"\"),SUMIFS($X$9:$X$38,$E$9:$E$38,\"LP-6\",AE9:AE38,\"\"),MAX(IF($E$9:$E$38=\"LP-6\",IF($AE$9:$AE$38=\"\",$X$9:$X$38))))","v":0},{"$f":"IF(AND('Limestone Plant (LP-6)'!$C$10=\"\",'Limestone Plant (LP-6)'!$C$9=\"\"),SUMIFS($AC$9:$AC$38,$E$9:$E$38,\"LP-6\",$AE$9:$AE$38,\"x\"),MAX(IF($E$9:$E$38=\"LP-6\",IF($AE$9:$AE$38=\"x\",$AC$9:$AC$38))))","v":0},{"$f":"IF(AND('Limestone Plant (LP-6)'!$C$10=\"\",'Limestone Plant (LP-6)'!$C$9=\"\"),SUMIFS($AC$9:$AC$38,$E$9:$E$38,\"LP-6\",$AE$9:$AE$38,\"\"),MAX(IF($E$9:$E$38=\"LP-6\",IF($AE$9:$AE$38=\"\",$AC$9:$AC$38))))","v":0},null,"LP-6",{"$f":"IF(AND('Limestone Plant (LP-6)'!$C$10=\"\",'Limestone Plant (LP-6)'!$C$9=\"\"),SUMIF($E$9:$E$38,\"LP-6\",$X$9:$X$38),MAX(IF($E$9:$E$38=\"LP-6\",$X$9:$X$38)))","v":0},{"$f":"SUMIF($E$9:$E$38,\"LP-6\",$Y$9:$Y$38)","v":0},{"$f":"IF(AND('Limestone Plant (LP-6)'!$C$10=\"\",'Limestone Plant (LP-6)'!$C$9=\"\"),SUMIF($E$9:$E$38,\"LP-6\",$AC$9:$AC$38),MAX(IF($E$9:$E$38=\"LP-6\",$AC$9:$AC$38)))","v":0},{"$f":"SUMIF($E$9:$E443,\"LP-6\",$AD$9:$AD$38)","v":0}]
[{"$f":"IF('Facility Information'!$C$21>0,\"LP-1\",\"\")","v":""},null,null,null,null,null,null,null,null,"","",null,{"$f":"IF(E15=\"\",\"\",IF(E15=\"LP-1\",IF('Limestone Plant (LP-1)'!$C$9>0,'Limestone Plant (LP-1)'!$C$9,IF('Limestone Plant (LP-1)'!$C$10>0,'Limestone Plant (LP-1)'!$C$10*365,\"\")),IF(E15=\"LP-2\",IF('Limestone Plant (LP-1)'!$C$9>0,'Limestone Plant (LP-1)'!$C$9,IF('Limestone Plant (LP-2)'!$C$10>0,'Limestone Plant (LP-2)'!$C$10*365,\"\")),IF(E15=\"LP-3\",IF('Limestone Plant (LP-1)'!$C$9>0,'Limestone Plant (LP-1)'!$C$9,IF('Limestone Plant (LP-3)'!$C$10>0,'Limestone Plant (LP-3)'!$C$10*365,\"\")),IF(E15=\"LP-4\",IF('Limestone Plant (LP-1)'!$C$9>0,'Limestone Plant (LP-1)'!$C$9,IF('Limestone Plant (LP-4)'!$C$10>0,'Limestone Plant (LP-4)'!$C$10*365,\"\")),IF(E15=\"LP-5\",IF('Limestone Plant (LP-1)'!$C$9>0,'Limestone Plant (LP-1)'!$C$9,IF('Limestone Plant (LP-5)'!$C$10>0,'Limestone Plant (LP-5)'!$C$10*365,\"\")),IF(E15=\"LP-6\",IF('Limestone Plant (LP-1)'!$C$9>0,'Limestone Plant (LP-1)'!$C$9,IF('Limestone Plant (LP-6)'!$C$10>0,'Limestone Plant (LP-6)'!$C$10*365,\"\")),IF(E15=\"LP-7\",IF('Limestone Plant (LP-1)'!$C$9>0,'Limestone Plant (LP-1)'!$C$9,IF('Limestone Plant (LP-7)'!$C$10>0,'Limestone Plant (LP-7)'!$C$10*365,\"\")),IF(E15=\"LP-8\",IF('Limestone Plant (LP-1)'!$C$9>0,'Limestone Plant (LP-1)'!$C$9,IF('Limestone Plant (LP-8)'!$C$10>0,'Limestone Plant (LP-8)'!$C$10*365,\"\")),IF(E15=\"LP-9\",IF('Limestone Plant (LP-1)'!$C$9>0,'Limestone Plant (LP-1)'!$C$9,IF('Limestone Plant (LP-9)'!$C$10>0,'Limestone Plant (LP-9)'!$C$10*365,\"\")),IF(E15=\"LP-10\",IF('Limestone Plant (LP-1)'!$C$9>0,'Limestone Plant (LP-1)'!$C$9,IF('Limestone Plant (LP-10)'!$C$10>0,'Limestone Plant (LP-10)'!$C$10*365,\"\")))))))))))))","v":""},null,null,"","","","",null,"","","","","","","","","","","",{"$f":"IF(AND('Limestone Plant (LP-7)'!$C$10=\"\",'Limestone Plant (LP-7)'!$C$9=\"\"),SUMIFS($X$9:$X$38,$E$9:$E$38,\"LP-7\",$AE$9:$AE$38,\"x\"),MAX(IF($E$9:$E$38=\"LP-7\",IF($AE$9:$AE$38=\"x\",$X$9:$X$38))))","v":0},{"$f":"IF(AND('Limestone Plant (LP-7)'!$C$10=\"\",'Limestone Plant (LP-7)'!$C$9=\"\"),SUMIFS($X$9:$X$38,$E$9:$E$38,\"LP-7\",AE9:AE38,\"\"),MAX(IF($E$9:$E$38=\"LP-7\",IF($AE$9:$AE$38=\"\",$X$9:$X$38))))","v":0},{"$f":"IF(AND('Limestone Plant (LP-7)'!$C$10=\"\",'Limestone Plant (LP-7)'!$C$9=\"\"),SUMIFS($AC$9:$AC$38,$E$9:$E$38,\"LP-7\",$AE$9:$AE$38,\"x\"),MAX(IF($E$9:$E$38=\"LP-7\",IF($AE$9:$AE$38=\"x\",$AC$9:$AC$38))))","v":0},{"$f":"IF(AND('Limestone Plant (LP-7)'!$C$10=\"\",'Limestone Plant (LP-7)'!$C$9=\"\"),SUMIFS($AC$9:$AC$38,$E$9:$E$38,\"LP-7\",$AE$9:$AE$38,\"\"),MAX(IF($E$9:$E$38=\"LP-7\",IF($AE$9:$AE$38=\"\",$AC$9:$AC$38))))","v":0},null,"LP-7",{"$f":"IF(AND('Limestone Plant (LP-7)'!$C$10=\"\",'Limestone Plant (LP-7)'!$C$9=\"\"),SUMIF($E$9:$E$38,\"LP-7\",$X$9:$X$38),MAX(IF($E$9:$E$38=\"LP-7\",$X$9:$X$38)))","v":0},{"$f":"SUMIF($E$9:$E$38,\"LP-7\",$Y$9:$Y$38)","v":0},{"$f":"IF(AND('Limestone Plant (LP-7)'!$C$10=\"\",'Limestone Plant (LP-7)'!$C$9=\"\"),SUMIF($E$9:$E$38,\"LP-7\",$AC$9:$AC$38),MAX(IF($E$9:$E$38=\"LP-7\",$AC$9:$AC$38)))","v":0},{"$f":"SUMIF($E$9:$E444,\"LP-7\",$AD$9:$AD$38)","v":0}]
[{"$f":"IF('Facility Information'!$C$21>1,\"LP-2\",\"\")","v":""},null,null,null,null,null,null,null,null,"","",null,{"$f":"IF(E16=\"\",\"\",IF(E16=\"LP-1\",IF('Limestone Plant (LP-1)'!$C$9>0,'Limestone Plant (LP-1)'!$C$9,IF('Limestone Plant (LP-1)'!$C$10>0,'Limestone Plant (LP-1)'!$C$10*365,\"\")),IF(E16=\"LP-2\",IF('Limestone Plant (LP-1)'!$C$9>0,'Limestone Plant (LP-1)'!$C$9,IF('Limestone Plant (LP-2)'!$C$10>0,'Limestone Plant (LP-2)'!$C$10*365,\"\")),IF(E16=\"LP-3\",IF('Limestone Plant (LP-1)'!$C$9>0,'Limestone Plant (LP-1)'!$C$9,IF('Limestone Plant (LP-3)'!$C$10>0,'Limestone Plant (LP-3)'!$C$10*365,\"\")),IF(E16=\"LP-4\",IF('Limestone Plant (LP-1)'!$C$9>0,'Limestone Plant (LP-1)'!$C$9,IF('Limestone Plant (LP-4)'!$C$10>0,'Limestone Plant (LP-4)'!$C$10*365,\"\")),IF(E16=\"LP-5\",IF('Limestone Plant (LP-1)'!$C$9>0,'Limestone Plant (LP-1)'!$C$9,IF('Limestone Plant (LP-5)'!$C$10>0,'Limestone Plant (LP-5)'!$C$10*365,\"\")),IF(E16=\"LP-6\",IF('Limestone Plant (LP-1)'!$C$9>0,'Limestone Plant (LP-1)'!$C$9,IF('Limestone Plant (LP-6)'!$C$10>0,'Limestone Plant (LP-6)'!$C$10*365,\"\")),IF(E16=\"LP-7\",IF('Limestone Plant (LP-1)'!$C$9>0,'Limestone Plant (LP-1)'!$C$9,IF('Limestone Plant (LP-7)'!$C$10>0,'Limestone Plant (LP-7)'!$C$10*365,\"\")),IF(E16=\"LP-8\",IF('Limestone Plant (LP-1)'!$C$9>0,'Limestone Plant (LP-1)'!$C$9,IF('Limestone Plant (LP-8)'!$C$10>0,'Limestone Plant (LP-8)'!$C$10*365,\"\")),IF(E16=\"LP-9\",IF('Limestone Plant (LP-1)'!$C$9>0,'Limestone Plant (LP-1)'!$C$9,IF('Limestone Plant (LP-9)'!$C$10>0,'Limestone Plant (LP-9)'!$C$10*365,\"\")),IF(E16=\"LP-10\",IF('Limestone Plant (LP-1)'!$C$9>0,'Limestone Plant (LP-1)'!$C$9,IF('Limestone Plant (LP-10)'!$C$10>0,'Limestone Plant (LP-10)'!$C$10*365,\"\")))))))))))))","v":""},null,null,"","","","",null,"","","","","","","","","","","",{"$f":"IF(AND('Limestone Plant (LP-8)'!$C$10=\"\",'Limestone Plant (LP-8)'!$C$9=\"\"),SUMIFS($X$9:$X$38,$E$9:$E$38,\"LP-8\",$AE$9:$AE$38,\"x\"),MAX(IF($E$9:$E$38=\"LP-8\",IF($AE$9:$AE$38=\"x\",$X$9:$X$38))))","v":0},{"$f":"IF(AND('Limestone Plant (LP-8)'!$C$10=\"\",'Limestone Plant (LP-8)'!$C$9=\"\"),SUMIFS($X$9:$X$38,$E$9:$E$38,\"LP-8\",AE9:AE38,\"\"),MAX(IF($E$9:$E$38=\"LP-8\",IF($AE$9:$AE$38=\"\",$X$9:$X$38))))","v":0},{"$f":"IF(AND('Limestone Plant (LP-8)'!$C$10=\"\",'Limestone Plant (LP-8)'!$C$9=\"\"),SUMIFS($AC$9:$AC$38,$E$9:$E$38,\"LP-8\",$AE$9:$AE$38,\"x\"),MAX(IF($E$9:$E$38=\"LP-8\",IF($AE$9:$AE$38=\"x\",$AC$9:$AC$38))))","v":0},{"$f":"IF(AND('Limestone Plant (LP-8)'!$C$10=\"\",'Limestone Plant (LP-8)'!$C$9=\"\"),SUMIFS($AC$9:$AC$38,$E$9:$E$38,\"LP-8\",$AE$9:$AE$38,\"\"),MAX(IF($E$9:$E$38=\"LP-8\",IF($AE$9:$AE$38=\"\",$AC$9:$AC$38))))","v":0},null,"LP-8",{"$f":"IF(AND('Limestone Plant (LP-8)'!$C$10=\"\",'Limestone Plant (LP-8)'!$C$9=\"\"),SUMIF($E$9:$E$38,\"LP-8\",$X$9:$X$38),MAX(IF($E$9:$E$38=\"LP-8\",$X$9:$X$38)))","v":0},{"$f":"SUMIF($E$9:$E$38,\"LP-8\",$Y$9:$Y$38)","v":0},{"$f":"IF(AND('Limestone Plant (LP-8)'!$C$10=\"\",'Limestone Plant (LP-8)'!$C$9=\"\"),SUMIF($E$9:$E$38,\"LP-8\",$AC$9:$AC$38),MAX(IF($E$9:$E$38=\"LP-8\",$AC$9:$AC$38)))","v":0},{"$f":"SUMIF($E$9:$E445,\"LP-8\",$AD$9:$AD$38)","v":0}]
[{"$f":"IF('Facility Information'!$C$21>2,\"LP-3\",\"\")","v":""},null,null,null,null,null,null,null,null,"","",null,{"$f":"IF(E17=\"\",\"\",IF(E17=\"LP-1\",IF('Limestone Plant (LP-1)'!$C$9>0,'Limestone Plant (LP-1)'!$C$9,IF('Limestone Plant (LP-1)'!$C$10>0,'Limestone Plant (LP-1)'!$C$10*365,\"\")),IF(E17=\"LP-2\",IF('Limestone Plant (LP-1)'!$C$9>0,'Limestone Plant (LP-1)'!$C$9,IF('Limestone Plant (LP-2)'!$C$10>0,'Limestone Plant (LP-2)'!$C$10*365,\"\")),IF(E17=\"LP-3\",IF('Limestone Plant (LP-1)'!$C$9>0,'Limestone Plant (LP-1)'!$C$9,IF('Limestone Plant (LP-3)'!$C$10>0,'Limestone Plant (LP-3)'!$C$10*365,\"\")),IF(E17=\"LP-4\",IF('Limestone Plant (LP-1)'!$C$9>0,'Limestone Plant (LP-1)'!$C$9,IF('Limestone Plant (LP-4)'!$C$10>0,'Limestone Plant (LP-4)'!$C$10*365,\"\")),IF(E17=\"LP-5\",IF('Limestone Plant (LP-1)'!$C$9>0,'Limestone Plant (LP-1)'!$C$9,IF('Limestone Plant (LP-5)'!$C$10>0,'Limestone Plant (LP-5)'!$C$10*365,\"\")),IF(E17=\"LP-6\",IF('Limestone Plant (LP-1)'!$C$9>0,'Limestone Plant (LP-1)'!$C$9,IF('Limestone Plant (LP-6)'!$C$10>0,'Limestone Plant (LP-6)'!$C$10*365,\"\")),IF(E17=\"LP-7\",IF('Limestone Plant (LP-1)'!$C$9>0,'Limestone Plant (LP-1)'!$C$9,IF('Limestone Plant (LP-7)'!$C$10>0,'Limestone Plant (LP-7)'!$C$10*365,\"\")),IF(E17=\"LP-8\",IF('Limestone Plant (LP-1)'!$C$9>0,'Limestone Plant (LP-1)'!$C$9,IF('Limestone Plant (LP-8)'!$C$10>0,'Limestone Plant (LP-8)'!$C$10*365,\"\")),IF(E17=\"LP-9\",IF('Limestone Plant (LP-1)'!$C$9>0,'Limestone Plant (LP-1)'!$C$9,IF('Limestone Plant (LP-9)'!$C$10>0,'Limestone Plant (LP-9)'!$C$10*365,\"\")),IF(E17=\"LP-10\",IF('Limestone Plant (LP-1)'!$C$9>0,'Limestone Plant (LP-1)'!$C$9,IF('Limestone Plant (LP-10)'!$C$10>0,'Limestone Plant (LP-10)'!$C$10*365,\"\")))))))))))))","v":""},null,null,"","","","",null,"","","","","","","","","","","",{"$f":"IF(AND('Limestone Plant (LP-9)'!$C$10=\"\",'Limestone Plant (LP-9)'!$C$9=\"\"),SUMIFS($X$9:$X$38,$E$9:$E$38,\"LP-9\",$AE$9:$AE$38,\"x\"),MAX(IF($E$9:$E$38=\"LP-9\",IF($AE$9:$AE$38=\"x\",$X$9:$X$38))))","v":0},{"$f":"IF(AND('Limestone Plant (LP-9)'!$C$10=\"\",'Limestone Plant (LP-9)'!$C$9=\"\"),SUMIFS($X$9:$X$38,$E$9:$E$38,\"LP-9\",AE9:AE38,\"\"),MAX(IF($E$9:$E$38=\"LP-9\",IF($AE$9:$AE$38=\"\",$X$9:$X$38))))","v":0},{"$f":"IF(AND('Limestone Plant (LP-9)'!$C$10=\"\",'Limestone Plant (LP-9)'!$C$9=\"\"),SUMIFS($AC$9:$AC$38,$E$9:$E$38,\"LP-9\",$AE$9:$AE$38,\"x\"),MAX(IF($E$9:$E$38=\"LP-9\",IF($AE$9:$AE$38=\"x\",$AC$9:$AC$38))))","v":0},{"$f":"IF(AND('Limestone Plant (LP-9)'!$C$10=\"\",'Limestone Plant (LP-9)'!$C$9=\"\"),SUMIFS($AC$9:$AC$38,$E$9:$E$38,\"LP-9\",$AE$9:$AE$38,\"\"),MAX(IF($E$9:$E$38=\"LP-9\",IF($AE$9:$AE$38=\"\",$AC$9:$AC$38))))","v":0},null,"LP-9",{"$f":"IF(AND('Limestone Plant (LP-9)'!$C$10=\"\",'Limestone Plant (LP-9)'!$C$9=\"\"),SUMIF($E$9:$E$38,\"LP-9\",$X$9:$X$38),MAX(IF($E$9:$E$38=\"LP-9\",$X$9:$X$38)))","v":0},{"$f":"SUMIF($E$9:$E$38,\"LP-9\",$Y$9:$Y$38)","v":0},{"$f":"IF(AND('Limestone Plant (LP-9)'!$C$10=\"\",'Limestone Plant (LP-9)'!$C$9=\"\"),SUMIF($E$9:$E$38,\"LP-9\",$AC$9:$AC$38),MAX(IF($E$9:$E$38=\"LP-9\",$AC$9:$AC$38)))","v":0},{"$f":"SUMIF($E$9:$E446,\"LP-9\",$AD$9:$AD$38)","v":0}]
[{"$f":"IF('Facility Information'!$C$21>3,\"LP-4\",\"\")","v":""},null,null,null,null,null,null,null,null,"","",null,{"$f":"IF(E18=\"\",\"\",IF(E18=\"LP-1\",IF('Limestone Plant (LP-1)'!$C$9>0,'Limestone Plant (LP-1)'!$C$9,IF('Limestone Plant (LP-1)'!$C$10>0,'Limestone Plant (LP-1)'!$C$10*365,\"\")),IF(E18=\"LP-2\",IF('Limestone Plant (LP-1)'!$C$9>0,'Limestone Plant (LP-1)'!$C$9,IF('Limestone Plant (LP-2)'!$C$10>0,'Limestone Plant (LP-2)'!$C$10*365,\"\")),IF(E18=\"LP-3\",IF('Limestone Plant (LP-1)'!$C$9>0,'Limestone Plant (LP-1)'!$C$9,IF('Limestone Plant (LP-3)'!$C$10>0,'Limestone Plant (LP-3)'!$C$10*365,\"\")),IF(E18=\"LP-4\",IF('Limestone Plant (LP-1)'!$C$9>0,'Limestone Plant (LP-1)'!$C$9,IF('Limestone Plant (LP-4)'!$C$10>0,'Limestone Plant (LP-4)'!$C$10*365,\"\")),IF(E18=\"LP-5\",IF('Limestone Plant (LP-1)'!$C$9>0,'Limestone Plant (LP-1)'!$C$9,IF('Limestone Plant (LP-5)'!$C$10>0,'Limestone Plant (LP-5)'!$C$10*365,\"\")),IF(E18=\"LP-6\",IF('Limestone Plant (LP-1)'!$C$9>0,'Limestone Plant (LP-1)'!$C$9,IF('Limestone Plant (LP-6)'!$C$10>0,'Limestone Plant (LP-6)'!$C$10*365,\"\")),IF(E18=\"LP-7\",IF('Limestone Plant (LP-1)'!$C$9>0,'Limestone Plant (LP-1)'!$C$9,IF('Limestone Plant (LP-7)'!$C$10>0,'Limestone Plant (LP-7)'!$C$10*365,\"\")),IF(E18=\"LP-8\",IF('Limestone Plant (LP-1)'!$C$9>0,'Limestone Plant (LP-1)'!$C$9,IF('Limestone Plant (LP-8)'!$C$10>0,'Limestone Plant (LP-8)'!$C$10*365,\"\")),IF(E18=\"LP-9\",IF('Limestone Plant (LP-1)'!$C$9>0,'Limestone Plant (LP-1)'!$C$9,IF('Limestone Plant (LP-9)'!$C$10>0,'Limestone Plant (LP-9)'!$C$10*365,\"\")),IF(E18=\"LP-10\",IF('Limestone Plant (LP-1)'!$C$9>0,'Limestone Plant (LP-1)'!$C$9,IF('Limestone Plant (LP-10)'!$C$10>0,'Limestone Plant (LP-10)'!$C$10*365,\"\")))))))))))))","v":""},null,null,"","","","",null,"","","","","","","","","","","",{"$f":"IF(AND('Limestone Plant (LP-10)'!$C$10=\"\",'Limestone Plant (LP-10)'!$C$9=\"\"),SUMIFS($X$9:$X$38,$E$9:$E$38,\"LP-10\",$AE$9:$AE$38,\"x\"),MAX(IF($E$9:$E$38=\"LP-10\",IF($AE$9:$AE$38=\"x\",$X$9:$X$38))))","v":0},{"$f":"IF(AND('Limestone Plant (LP-10)'!$C$10=\"\",'Limestone Plant (LP-10)'!$C$9=\"\"),SUMIFS($X$9:$X$38,$E$9:$E$38,\"LP-10\",AE9:AE38,\"\"),MAX(IF($E$9:$E$38=\"LP-10\",IF($AE$9:$AE$38=\"\",$X$9:$X$38))))","v":0},{"$f":"IF(AND('Limestone Plant (LP-10)'!$C$10=\"\",'Limestone Plant (LP-10)'!$C$9=\"\"),SUMIFS($AC$9:$AC$38,$E$9:$E$38,\"LP-10\",$AE$9:$AE$38,\"x\"),MAX(IF($E$9:$E$38=\"LP-10\",IF($AE$9:$AE$38=\"x\",$AC$9:$AC$38))))","v":0},{"$f":"IF(AND('Limestone Plant (LP-10)'!$C$10=\"\",'Limestone Plant (LP-10)'!$C$9=\"\"),SUMIFS($AC$9:$AC$38,$E$9:$E$38,\"LP-10\",$AE$9:$AE$38,\"\"),MAX(IF($E$9:$E$38=\"LP-10\",IF($AE$9:$AE$38=\"\",$AC$9:$AC$38))))","v":0},null,"LP-10",{"$f":"IF(AND('Limestone Plant (LP-10)'!$C$10=\"\",'Limestone Plant (LP-10)'!$C$9=\"\"),SUMIF($E$9:$E$38,\"LP-10\",$X$9:$X$38),MAX(IF($E$9:$E$38=\"LP-10\",$X$9:$X$38)))","v":0},{"$f":"SUMIF($E$9:$E$38,\"LP-10\",$Y$9:$Y$38)","v":0},{"$f":"IF(AND('Limestone Plant (LP-10)'!$C$10=\"\",'Limestone Plant (LP-10)'!$C$9=\"\"),SUMIF($E$9:$E$38,\"LP-10\",$AC$9:$AC$38),MAX(IF($E$9:$E$38=\"LP-10\",$AC$9:$AC$38)))","v":0},{"$f":"SUMIF($E$9:$E447,\"LP-10\",$AD$9:$AD$38)","v":0}]
[{"$f":"IF('Facility Information'!$C$21>4,\"LP-5\",\"\")","v":""},null,null,null,null,null,null,null,null,{"$f":"IF(G19=\"\",\"\",(G19*(I19/100)+H19*(1-(I19/100))))","v":""},{"$f":"IF(G19=\"\",\"\",H19-G19)","v":""},null,{"$f":"IF(E19=\"\",\"\",IF(E19=\"LP-1\",IF('Limestone Plant (LP-1)'!$C$9>0,'Limestone Plant (LP-1)'!$C$9,IF('Limestone Plant (LP-1)'!$C$10>0,'Limestone Plant (LP-1)'!$C$10*365,\"\")),IF(E19=\"LP-2\",IF('Limestone Plant (LP-1)'!$C$9>0,'Limestone Plant (LP-1)'!$C$9,IF('Limestone Plant (LP-2)'!$C$10>0,'Limestone Plant (LP-2)'!$C$10*365,\"\")),IF(E19=\"LP-3\",IF('Limestone Plant (LP-1)'!$C$9>0,'Limestone Plant (LP-1)'!$C$9,IF('Limestone Plant (LP-3)'!$C$10>0,'Limestone Plant (LP-3)'!$C$10*365,\"\")),IF(E19=\"LP-4\",IF('Limestone Plant (LP-1)'!$C$9>0,'Limestone Plant (LP-1)'!$C$9,IF('Limestone Plant (LP-4)'!$C$10>0,'Limestone Plant (LP-4)'!$C$10*365,\"\")),IF(E19=\"LP-5\",IF('Limestone Plant (LP-1)'!$C$9>0,'Limestone Plant (LP-1)'!$C$9,IF('Limestone Plant (LP-5)'!$C$10>0,'Limestone Plant (LP-5)'!$C$10*365,\"\")),IF(E19=\"LP-6\",IF('Limestone Plant (LP-1)'!$C$9>0,'Limestone Plant (LP-1)'!$C$9,IF('Limestone Plant (LP-6)'!$C$10>0,'Limestone Plant (LP-6)'!$C$10*365,\"\")),IF(E19=\"LP-7\",IF('Limestone Plant (LP-1)'!$C$9>0,'Limestone Plant (LP-1)'!$C$9,IF('Limestone Plant (LP-7)'!$C$10>0,'Limestone Plant (LP-7)'!$C$10*365,\"\")),IF(E19=\"LP-8\",IF('Limestone Plant (LP-1)'!$C$9>0,'Limestone Plant (LP-1)'!$C$9,IF('Limestone Plant (LP-8)'!$C$10>0,'Limestone Plant (LP-8)'!$C$10*365,\"\")),IF(E19=\"LP-9\",IF('Limestone Plant (LP-1)'!$C$9>0,'Limestone Plant (LP-1)'!$C$9,IF('Limestone Plant (LP-9)'!$C$10>0,'Limestone Plant (LP-9)'!$C$10*365,\"\")),IF(E19=\"LP-10\",IF('Limestone Plant (LP-1)'!$C$9>0,'Limestone Plant (LP-1)'!$C$9,IF('Limestone Plant (LP-10)'!$C$10>0,'Limestone Plant (LP-10)'!$C$10*365,\"\")))))))))))))","v":""},null,null,"",{"$f":"IF(O19=\"\",\"\",O19/K19)","v":""},"","",null,"","","","","","","","","","",""]
[{"$f":"IF('Facility Information'!$C$21>5,\"LP-6\",\"\")","v":""},null,null,null,null,null,null,null,null,"","",null,{"$f":"IF(E20=\"\",\"\",IF(E20=\"LP-1\",IF('Limestone Plant (LP-1)'!$C$9>0,'Limestone Plant (LP-1)'!$C$9,IF('Limestone Plant (LP-1)'!$C$10>0,'Limestone Plant (LP-1)'!$C$10*365,\"\")),IF(E20=\"LP-2\",IF('Limestone Plant (LP-1)'!$C$9>0,'Limestone Plant (LP-1)'!$C$9,IF('Limestone Plant (LP-2)'!$C$10>0,'Limestone Plant (LP-2)'!$C$10*365,\"\")),IF(E20=\"LP-3\",IF('Limestone Plant (LP-1)'!$C$9>0,'Limestone Plant (LP-1)'!$C$9,IF('Limestone Plant (LP-3)'!$C$10>0,'Limestone Plant (LP-3)'!$C$10*365,\"\")),IF(E20=\"LP-4\",IF('Limestone Plant (LP-1)'!$C$9>0,'Limestone Plant (LP-1)'!$C$9,IF('Limestone Plant (LP-4)'!$C$10>0,'Limestone Plant (LP-4)'!$C$10*365,\"\")),IF(E20=\"LP-5\",IF('Limestone Plant (LP-1)'!$C$9>0,'Limestone Plant (LP-1)'!$C$9,IF('Limestone Plant (LP-5)'!$C$10>0,'Limestone Plant (LP-5)'!$C$10*365,\"\")),IF(E20=\"LP-6\",IF('Limestone Plant (LP-1)'!$C$9>0,'Limestone Plant (LP-1)'!$C$9,IF('Limestone Plant (LP-6)'!$C$10>0,'Limestone Plant (LP-6)'!$C$10*365,\"\")),IF(E20=\"LP-7\",IF('Limestone Plant (LP-1)'!$C$9>0,'Limestone Plant (LP-1)'!$C$9,IF('Limestone Plant (LP-7)'!$C$10>0,'Limestone Plant (LP-7)'!$C$10*365,\"\")),IF(E20=\"LP-8\",IF('Limestone Plant (LP-1)'!$C$9>0,'Limestone Plant (LP-1)'!$C$9,IF('Limestone Plant (LP-8)'!$C$10>0,'Limestone Plant (LP-8)'!$C$10*365,\"\")),IF(E20=\"LP-9\",IF('Limestone Plant (LP-1)'!$C$9>0,'Limestone Plant (LP-1)'!$C$9,IF('Limestone Plant (LP-9)'!$C$10>0,'Limestone Plant (LP-9)'!$C$10*365,\"\")),IF(E20=\"LP-10\",IF('Limestone Plant (LP-1)'!$C$9>0,'Limestone Plant (LP-1)'!$C$9,IF('Limestone Plant (LP-10)'!$C$10>0,'Limestone Plant (LP-10)'!$C$10*365,\"\")))))))))))))","v":""},null,null,"","","","",null,"","","","","","","","","","","","LP-1",{"$f":"IF('Limestone Plant (LP-1)'!$C$9>0,'Limestone Plant (LP-1)'!$C$9,IF('Limestone Plant (LP-1)'!$C$10>0,'Limestone Plant (LP-1)'!$C$10*365,\"\"))","v":""}]
[{"$f":"IF('Facility Information'!$C$21>6,\"LP-7\",\"\")","v":""},null,null,null,null,null,null,null,null,"","",null,{"$f":"IF(E21=\"\",\"\",IF(E21=\"LP-1\",IF('Limestone Plant (LP-1)'!$C$9>0,'Limestone Plant (LP-1)'!$C$9,IF('Limestone Plant (LP-1)'!$C$10>0,'Limestone Plant (LP-1)'!$C$10*365,\"\")),IF(E21=\"LP-2\",IF('Limestone Plant (LP-1)'!$C$9>0,'Limestone Plant (LP-1)'!$C$9,IF('Limestone Plant (LP-2)'!$C$10>0,'Limestone Plant (LP-2)'!$C$10*365,\"\")),IF(E21=\"LP-3\",IF('Limestone Plant (LP-1)'!$C$9>0,'Limestone Plant (LP-1)'!$C$9,IF('Limestone Plant (LP-3)'!$C$10>0,'Limestone Plant (LP-3)'!$C$10*365,\"\")),IF(E21=\"LP-4\",IF('Limestone Plant (LP-1)'!$C$9>0,'Limestone Plant (LP-1)'!$C$9,IF('Limestone Plant (LP-4)'!$C$10>0,'Limestone Plant (LP-4)'!$C$10*365,\"\")),IF(E21=\"LP-5\",IF('Limestone Plant (LP-1)'!$C$9>0,'Limestone Plant (LP-1)'!$C$9,IF('Limestone Plant (LP-5)'!$C$10>0,'Limestone Plant (LP-5)'!$C$10*365,\"\")),IF(E21=\"LP-6\",IF('Limestone Plant (LP-1)'!$C$9>0,'Limestone Plant (LP-1)'!$C$9,IF('Limestone Plant (LP-6)'!$C$10>0,'Limestone Plant (LP-6)'!$C$10*365,\"\")),IF(E21=\"LP-7\",IF('Limestone Plant (LP-1)'!$C$9>0,'Limestone Plant (LP-1)'!$C$9,IF('Limestone Plant (LP-7)'!$C$10>0,'Limestone Plant (LP-7)'!$C$10*365,\"\")),IF(E21=\"LP-8\",IF('Limestone Plant (LP-1)'!$C$9>0,'Limestone Plant (LP-1)'!$C$9,IF('Limestone Plant (LP-8)'!$C$10>0,'Limestone Plant (LP-8)'!$C$10*365,\"\")),IF(E21=\"LP-9\",IF('Limestone Plant (LP-1)'!$C$9>0,'Limestone Plant (LP-1)'!$C$9,IF('Limestone Plant (LP-9)'!$C$10>0,'Limestone Plant (LP-9)'!$C$10*365,\"\")),IF(E21=\"LP-10\",IF('Limestone Plant (LP-1)'!$C$9>0,'Limestone Plant (LP-1)'!$C$9,IF('Limestone Plant (LP-10)'!$C$10>0,'Limestone Plant (LP-10)'!$C$10*365,\"\")))))))))))))","v":""},null,null,"","","","",null,"","","","","","","","","","","","LP-2",{"$f":"IF('Limestone Plant (LP-2)'!$C$9>0,'Limestone Plant (LP-2)'!$C$9,IF('Limestone Plant (LP-2)'!$C$10>0,'Limestone Plant (LP-2)'!$C$10*365,\"\"))","v":""}]
[{"$f":"IF('Facility Information'!$C$21>7,\"LP-8\",\"\")","v":""},null,null,null,null,null,null,null,null,"","",null,{"$f":"IF(E22=\"\",\"\",IF(E22=\"LP-1\",IF('Limestone Plant (LP-1)'!$C$9>0,'Limestone Plant (LP-1)'!$C$9,IF('Limestone Plant (LP-1)'!$C$10>0,'Limestone Plant (LP-1)'!$C$10*365,\"\")),IF(E22=\"LP-2\",IF('Limestone Plant (LP-1)'!$C$9>0,'Limestone Plant (LP-1)'!$C$9,IF('Limestone Plant (LP-2)'!$C$10>0,'Limestone Plant (LP-2)'!$C$10*365,\"\")),IF(E22=\"LP-3\",IF('Limestone Plant (LP-1)'!$C$9>0,'Limestone Plant (LP-1)'!$C$9,IF('Limestone Plant (LP-3)'!$C$10>0,'Limestone Plant (LP-3)'!$C$10*365,\"\")),IF(E22=\"LP-4\",IF('Limestone Plant (LP-1)'!$C$9>0,'Limestone Plant (LP-1)'!$C$9,IF('Limestone Plant (LP-4)'!$C$10>0,'Limestone Plant (LP-4)'!$C$10*365,\"\")),IF(E22=\"LP-5\",IF('Limestone Plant (LP-1)'!$C$9>0,'Limestone Plant (LP-1)'!$C$9,IF('Limestone Plant (LP-5)'!$C$10>0,'Limestone Plant (LP-5)'!$C$10*365,\"\")),IF(E22=\"LP-6\",IF('Limestone Plant (LP-1)'!$C$9>0,'Limestone Plant (LP-1)'!$C$9,IF('Limestone Plant (LP-6)'!$C$10>0,'Limestone Plant (LP-6)'!$C$10*365,\"\")),IF(E22=\"LP-7\",IF('Limestone Plant (LP-1)'!$C$9>0,'Limestone Plant (LP-1)'!$C$9,IF('Limestone Plant (LP-7)'!$C$10>0,'Limestone Plant (LP-7)'!$C$10*365,\"\")),IF(E22=\"LP-8\",IF('Limestone Plant (LP-1)'!$C$9>0,'Limestone Plant (LP-1)'!$C$9,IF('Limestone Plant (LP-8)'!$C$10>0,'Limestone Plant (LP-8)'!$C$10*365,\"\")),IF(E22=\"LP-9\",IF('Limestone Plant (LP-1)'!$C$9>0,'Limestone Plant (LP-1)'!$C$9,IF('Limestone Plant (LP-9)'!$C$10>0,'Limestone Plant (LP-9)'!$C$10*365,\"\")),IF(E22=\"LP-10\",IF('Limestone Plant (LP-1)'!$C$9>0,'Limestone Plant (LP-1)'!$C$9,IF('Limestone Plant (LP-10)'!$C$10>0,'Limestone Plant (LP-10)'!$C$10*365,\"\")))))))))))))","v":""},null,null,"","","","",null,"","","","","","","","","","","","LP-3",{"$f":"IF('Limestone Plant (LP-3)'!$C$9>0,'Limestone Plant (LP-3)'!$C$9,IF('Limestone Plant (LP-3)'!$C$10>0,'Limestone Plant (LP-3)'!$C$10*365,\"\"))","v":""}]
[{"$f":"IF('Facility Information'!$C$21>8,\"LP-9\",\"\")","v":""},null,null,null,null,null,null,null,null,"","",null,{"$f":"IF(E23=\"\",\"\",IF(E23=\"LP-1\",IF('Limestone Plant (LP-1)'!$C$9>0,'Limestone Plant (LP-1)'!$C$9,IF('Limestone Plant (LP-1)'!$C$10>0,'Limestone Plant (LP-1)'!$C$10*365,\"\")),IF(E23=\"LP-2\",IF('Limestone Plant (LP-1)'!$C$9>0,'Limestone Plant (LP-1)'!$C$9,IF('Limestone Plant (LP-2)'!$C$10>0,'Limestone Plant (LP-2)'!$C$10*365,\"\")),IF(E23=\"LP-3\",IF('Limestone Plant (LP-1)'!$C$9>0,'Limestone Plant (LP-1)'!$C$9,IF('Limestone Plant (LP-3)'!$C$10>0,'Limestone Plant (LP-3)'!$C$10*365,\"\")),IF(E23=\"LP-4\",IF('Limestone Plant (LP-1)'!$C$9>0,'Limestone Plant (LP-1)'!$C$9,IF('Limestone Plant (LP-4)'!$C$10>0,'Limestone Plant (LP-4)'!$C$10*365,\"\")),IF(E23=\"LP-5\",IF('Limestone Plant (LP-1)'!$C$9>0,'Limestone Plant (LP-1)'!$C$9,IF('Limestone Plant (LP-5)'!$C$10>0,'Limestone Plant (LP-5)'!$C$10*365,\"\")),IF(E23=\"LP-6\",IF('Limestone Plant (LP-1)'!$C$9>0,'Limestone Plant (LP-1)'!$C$9,IF('Limestone Plant (LP-6)'!$C$10>0,'Limestone Plant (LP-6)'!$C$10*365,\"\")),IF(E23=\"LP-7\",IF('Limestone Plant (LP-1)'!$C$9>0,'Limestone Plant (LP-1)'!$C$9,IF('Limestone Plant (LP-7)'!$C$10>0,'Limestone Plant (LP-7)'!$C$10*365,\"\")),IF(E23=\"LP-8\",IF('Limestone Plant (LP-1)'!$C$9>0,'Limestone Plant (LP-1)'!$C$9,IF('Limestone Plant (LP-8)'!$C$10>0,'Limestone Plant (LP-8)'!$C$10*365,\"\")),IF(E23=\"LP-9\",IF('Limestone Plant (LP-1)'!$C$9>0,'Limestone Plant (LP-1)'!$C$9,IF('Limestone Plant (LP-9)'!$C$10>0,'Limestone Plant (LP-9)'!$C$10*365,\"\")),IF(E23=\"LP-10\",IF('Limestone Plant (LP-1)'!$C$9>0,'Limestone Plant (LP-1)'!$C$9,IF('Limestone Plant (LP-10)'!$C$10>0,'Limestone Plant (LP-10)'!$C$10*365,\"\")))))))))))))","v":""},null,null,"","","","",null,"","","","","","","","","","","","LP-4",{"$f":"IF('Limestone Plant (LP-4)'!$C$9>0,'Limestone Plant (LP-4)'!$C$9,IF('Limestone Plant (LP-4)'!$C$10>0,'Limestone Plant (LP-4)'!$C$10*365,\"\"))","v":""}]
[{"$f":"IF('Facility Information'!$C$21>9,\"LP-10\",\"\")","v":""},null,null,null,null,null,null,null,null,"","",null,{"$f":"IF(E24=\"\",\"\",IF(E24=\"LP-1\",IF('Limestone Plant (LP-1)'!$C$9>0,'Limestone Plant (LP-1)'!$C$9,IF('Limestone Plant (LP-1)'!$C$10>0,'Limestone Plant (LP-1)'!$C$10*365,\"\")),IF(E24=\"LP-2\",IF('Limestone Plant (LP-1)'!$C$9>0,'Limestone Plant (LP-1)'!$C$9,IF('Limestone Plant (LP-2)'!$C$10>0,'Limestone Plant (LP-2)'!$C$10*365,\"\")),IF(E24=\"LP-3\",IF('Limestone Plant (LP-1)'!$C$9>0,'Limestone Plant (LP-1)'!$C$9,IF('Limestone Plant (LP-3)'!$C$10>0,'Limestone Plant (LP-3)'!$C$10*365,\"\")),IF(E24=\"LP-4\",IF('Limestone Plant (LP-1)'!$C$9>0,'Limestone Plant (LP-1)'!$C$9,IF('Limestone Plant (LP-4)'!$C$10>0,'Limestone Plant (LP-4)'!$C$10*365,\"\")),IF(E24=\"LP-5\",IF('Limestone Plant (LP-1)'!$C$9>0,'Limestone Plant (LP-1)'!$C$9,IF('Limestone Plant (LP-5)'!$C$10>0,'Limestone Plant (LP-5)'!$C$10*365,\"\")),IF(E24=\"LP-6\",IF('Limestone Plant (LP-1)'!$C$9>0,'Limestone Plant (LP-1)'!$C$9,IF('Limestone Plant (LP-6)'!$C$10>0,'Limestone Plant (LP-6)'!$C$10*365,\"\")),IF(E24=\"LP-7\",IF('Limestone Plant (LP-1)'!$C$9>0,'Limestone Plant (LP-1)'!$C$9,IF('Limestone Plant (LP-7)'!$C$10>0,'Limestone Plant (LP-7)'!$C$10*365,\"\")),IF(E24=\"LP-8\",IF('Limestone Plant (LP-1)'!$C$9>0,'Limestone Plant (LP-1)'!$C$9,IF('Limestone Plant (LP-8)'!$C$10>0,'Limestone Plant (LP-8)'!$C$10*365,\"\")),IF(E24=\"LP-9\",IF('Limestone Plant (LP-1)'!$C$9>0,'Limestone Plant (LP-1)'!$C$9,IF('Limestone Plant (LP-9)'!$C$10>0,'Limestone Plant (LP-9)'!$C$10*365,\"\")),IF(E24=\"LP-10\",IF('Limestone Plant (LP-1)'!$C$9>0,'Limestone Plant (LP-1)'!$C$9,IF('Limestone Plant (LP-10)'!$C$10>0,'Limestone Plant (LP-10)'!$C$10*365,\"\")))))))))))))","v":""},null,null,"","","","",null,"","","","","","","","","","","","LP-5",{"$f":"IF('Limestone Plant (LP-5)'!$C$9>0,'Limestone Plant (LP-5)'!$C$9,IF('Limestone Plant (LP-5)'!$C$10>0,'Limestone Plant (LP-5)'!$C$10*365,\"\"))","v":""}]
[null,null,null,null,null,null,null,null,null,"","",null,{"$f":"IF(E25=\"\",\"\",IF(E25=\"LP-1\",IF('Limestone Plant (LP-1)'!$C$9>0,'Limestone Plant (LP-1)'!$C$9,IF('Limestone Plant (LP-1)'!$C$10>0,'Limestone Plant (LP-1)'!$C$10*365,\"\")),IF(E25=\"LP-2\",IF('Limestone Plant (LP-1)'!$C$9>0,'Limestone Plant (LP-1)'!$C$9,IF('Limestone Plant (LP-2)'!$C$10>0,'Limestone Plant (LP-2)'!$C$10*365,\"\")),IF(E25=\"LP-3\",IF('Limestone Plant (LP-1)'!$C$9>0,'Limestone Plant (LP-1)'!$C$9,IF('Limestone Plant (LP-3)'!$C$10>0,'Limestone Plant (LP-3)'!$C$10*365,\"\")),IF(E25=\"LP-4\",IF('Limestone Plant (LP-1)'!$C$9>0,'Limestone Plant (LP-1)'!$C$9,IF('Limestone Plant (LP-4)'!$C$10>0,'Limestone Plant (LP-4)'!$C$10*365,\"\")),IF(E25=\"LP-5\",IF('Limestone Plant (LP-1)'!$C$9>0,'Limestone Plant (LP-1)'!$C$9,IF('Limestone Plant (LP-5)'!$C$10>0,'Limestone Plant (LP-5)'!$C$10*365,\"\")),IF(E25=\"LP-6\",IF('Limestone Plant (LP-1)'!$C$9>0,'Limestone Plant (LP-1)'!$C$9,IF('Limestone Plant (LP-6)'!$C$10>0,'Limestone Plant (LP-6)'!$C$10*365,\"\")),IF(E25=\"LP-7\",IF('Limestone Plant (LP-1)'!$C$9>0,'Limestone Plant (LP-1)'!$C$9,IF('Limestone Plant (LP-7)'!$C$10>0,'Limestone Plant (LP-7)'!$C$10*365,\"\")),IF(E25=\"LP-8\",IF('Limestone Plant (LP-1)'!$C$9>0,'Limestone Plant (LP-1)'!$C$9,IF('Limestone Plant (LP-8)'!$C$10>0,'Limestone Plant (LP-8)'!$C$10*365,\"\")),IF(E25=\"LP-9\",IF('Limestone Plant (LP-1)'!$C$9>0,'Limestone Plant (LP-1)'!$C$9,IF('Limestone Plant (LP-9)'!$C$10>0,'Limestone Plant (LP-9)'!$C$10*365,\"\")),IF(E25=\"LP-10\",IF('Limestone Plant (LP-1)'!$C$9>0,'Limestone Plant (LP-1)'!$C$9,IF('Limestone Plant (LP-10)'!$C$10>0,'Limestone Plant (LP-10)'!$C$10*365,\"\")))))))))))))","v":""},null,null,"","","","",null,"","","","","","","","","","","","LP-6",{"$f":"IF('Limestone Plant (LP-6)'!$C$9>0,'Limestone Plant (LP-6)'!$C$9,IF('Limestone Plant (LP-6)'!$C$10>0,'Limestone Plant (LP-6)'!$C$10*365,\"\"))","v":""}]
[null,null,null,null,null,null,null,null,null,"","",null,{"$f":"IF(E26=\"\",\"\",IF(E26=\"LP-1\",IF('Limestone Plant (LP-1)'!$C$9>0,'Limestone Plant (LP-1)'!$C$9,IF('Limestone Plant (LP-1)'!$C$10>0,'Limestone Plant (LP-1)'!$C$10*365,\"\")),IF(E26=\"LP-2\",IF('Limestone Plant (LP-1)'!$C$9>0,'Limestone Plant (LP-1)'!$C$9,IF('Limestone Plant (LP-2)'!$C$10>0,'Limestone Plant (LP-2)'!$C$10*365,\"\")),IF(E26=\"LP-3\",IF('Limestone Plant (LP-1)'!$C$9>0,'Limestone Plant (LP-1)'!$C$9,IF('Limestone Plant (LP-3)'!$C$10>0,'Limestone Plant (LP-3)'!$C$10*365,\"\")),IF(E26=\"LP-4\",IF('Limestone Plant (LP-1)'!$C$9>0,'Limestone Plant (LP-1)'!$C$9,IF('Limestone Plant (LP-4)'!$C$10>0,'Limestone Plant (LP-4)'!$C$10*365,\"\")),IF(E26=\"LP-5\",IF('Limestone Plant (LP-1)'!$C$9>0,'Limestone Plant (LP-1)'!$C$9,IF('Limestone Plant (LP-5)'!$C$10>0,'Limestone Plant (LP-5)'!$C$10*365,\"\")),IF(E26=\"LP-6\",IF('Limestone Plant (LP-1)'!$C$9>0,'Limestone Plant (LP-1)'!$C$9,IF('Limestone Plant (LP-6)'!$C$10>0,'Limestone Plant (LP-6)'!$C$10*365,\"\")),IF(E26=\"LP-7\",IF('Limestone Plant (LP-1)'!$C$9>0,'Limestone Plant (LP-1)'!$C$9,IF('Limestone Plant (LP-7)'!$C$10>0,'Limestone Plant (LP-7)'!$C$10*365,\"\")),IF(E26=\"LP-8\",IF('Limestone Plant (LP-1)'!$C$9>0,'Limestone Plant (LP-1)'!$C$9,IF('Limestone Plant (LP-8)'!$C$10>0,'Limestone Plant (LP-8)'!$C$10*365,\"\")),IF(E26=\"LP-9\",IF('Limestone Plant (LP-1)'!$C$9>0,'Limestone Plant (LP-1)'!$C$9,IF('Limestone Plant (LP-9)'!$C$10>0,'Limestone Plant (LP-9)'!$C$10*365,\"\")),IF(E26=\"LP-10\",IF('Limestone Plant (LP-1)'!$C$9>0,'Limestone Plant (LP-1)'!$C$9,IF('Limestone Plant (LP-10)'!$C$10>0,'Limestone Plant (LP-10)'!$C$10*365,\"\")))))))))))))","v":""},null,null,"","","","",null,"","","","","","","","","","","","LP-7",{"$f":"IF('Limestone Plant (LP-7)'!$C$9>0,'Limestone Plant (LP-7)'!$C$9,IF('Limestone Plant (LP-7)'!$C$10>0,'Limestone Plant (LP-7)'!$C$10*365,\"\"))","v":""}]
[null,null,null,null,null,null,null,null,null,"","",null,{"$f":"IF(E27=\"\",\"\",IF(E27=\"LP-1\",IF('Limestone Plant (LP-1)'!$C$9>0,'Limestone Plant (LP-1)'!$C$9,IF('Limestone Plant (LP-1)'!$C$10>0,'Limestone Plant (LP-1)'!$C$10*365,\"\")),IF(E27=\"LP-2\",IF('Limestone Plant (LP-1)'!$C$9>0,'Limestone Plant (LP-1)'!$C$9,IF('Limestone Plant (LP-2)'!$C$10>0,'Limestone Plant (LP-2)'!$C$10*365,\"\")),IF(E27=\"LP-3\",IF('Limestone Plant (LP-1)'!$C$9>0,'Limestone Plant (LP-1)'!$C$9,IF('Limestone Plant (LP-3)'!$C$10>0,'Limestone Plant (LP-3)'!$C$10*365,\"\")),IF(E27=\"LP-4\",IF('Limestone Plant (LP-1)'!$C$9>0,'Limestone Plant (LP-1)'!$C$9,IF('Limestone Plant (LP-4)'!$C$10>0,'Limestone Plant (LP-4)'!$C$10*365,\"\")),IF(E27=\"LP-5\",IF('Limestone Plant (LP-1)'!$C$9>0,'Limestone Plant (LP-1)'!$C$9,IF('Limestone Plant (LP-5)'!$C$10>0,'Limestone Plant (LP-5)'!$C$10*365,\"\")),IF(E27=\"LP-6\",IF('Limestone Plant (LP-1)'!$C$9>0,'Limestone Plant (LP-1)'!$C$9,IF('Limestone Plant (LP-6)'!$C$10>0,'Limestone Plant (LP-6)'!$C$10*365,\"\")),IF(E27=\"LP-7\",IF('Limestone Plant (LP-1)'!$C$9>0,'Limestone Plant (LP-1)'!$C$9,IF('Limestone Plant (LP-7)'!$C$10>0,'Limestone Plant (LP-7)'!$C$10*365,\"\")),IF(E27=\"LP-8\",IF('Limestone Plant (LP-1)'!$C$9>0,'Limestone Plant (LP-1)'!$C$9,IF('Limestone Plant (LP-8)'!$C$10>0,'Limestone Plant (LP-8)'!$C$10*365,\"\")),IF(E27=\"LP-9\",IF('Limestone Plant (LP-1)'!$C$9>0,'Limestone Plant (LP-1)'!$C$9,IF('Limestone Plant (LP-9)'!$C$10>0,'Limestone Plant (LP-9)'!$C$10*365,\"\")),IF(E27=\"LP-10\",IF('Limestone Plant (LP-1)'!$C$9>0,'Limestone Plant (LP-1)'!$C$9,IF('Limestone Plant (LP-10)'!$C$10>0,'Limestone Plant (LP-10)'!$C$10*365,\"\")))))))))))))","v":""},null,null,"","","","",null,"","","","","","","","","","","","LP-8",{"$f":"IF('Limestone Plant (LP-8)'!$C$9>0,'Limestone Plant (LP-8)'!$C$9,IF('Limestone Plant (LP-8)'!$C$10>0,'Limestone Plant (LP-8)'!$C$10*365,\"\"))","v":""}]
[null,null,null,null,null,null,null,null,null,"","",null,{"$f":"IF(E28=\"\",\"\",IF(E28=\"LP-1\",IF('Limestone Plant (LP-1)'!$C$9>0,'Limestone Plant (LP-1)'!$C$9,IF('Limestone Plant (LP-1)'!$C$10>0,'Limestone Plant (LP-1)'!$C$10*365,\"\")),IF(E28=\"LP-2\",IF('Limestone Plant (LP-1)'!$C$9>0,'Limestone Plant (LP-1)'!$C$9,IF('Limestone Plant (LP-2)'!$C$10>0,'Limestone Plant (LP-2)'!$C$10*365,\"\")),IF(E28=\"LP-3\",IF('Limestone Plant (LP-1)'!$C$9>0,'Limestone Plant (LP-1)'!$C$9,IF('Limestone Plant (LP-3)'!$C$10>0,'Limestone Plant (LP-3)'!$C$10*365,\"\")),IF(E28=\"LP-4\",IF('Limestone Plant (LP-1)'!$C$9>0,'Limestone Plant (LP-1)'!$C$9,IF('Limestone Plant (LP-4)'!$C$10>0,'Limestone Plant (LP-4)'!$C$10*365,\"\")),IF(E28=\"LP-5\",IF('Limestone Plant (LP-1)'!$C$9>0,'Limestone Plant (LP-1)'!$C$9,IF('Limestone Plant (LP-5)'!$C$10>0,'Limestone Plant (LP-5)'!$C$10*365,\"\")),IF(E28=\"LP-6\",IF('Limestone Plant (LP-1)'!$C$9>0,'Limestone Plant (LP-1)'!$C$9,IF('Limestone Plant (LP-6)'!$C$10>0,'Limestone Plant (LP-6)'!$C$10*365,\"\")),IF(E28=\"LP-7\",IF('Limestone Plant (LP-1)'!$C$9>0,'Limestone Plant (LP-1)'!$C$9,IF('Limestone Plant (LP-7)'!$C$10>0,'Limestone Plant (LP-7)'!$C$10*365,\"\")),IF(E28=\"LP-8\",IF('Limestone Plant (LP-1)'!$C$9>0,'Limestone Plant (LP-1)'!$C$9,IF('Limestone Plant (LP-8)'!$C$10>0,'Limestone Plant (LP-8)'!$C$10*365,\"\")),IF(E28=\"LP-9\",IF('Limestone Plant (LP-1)'!$C$9>0,'Limestone Plant (LP-1)'!$C$9,IF('Limestone Plant (LP-9)'!$C$10>0,'Limestone Plant (LP-9)'!$C$10*365,\"\")),IF(E28=\"LP-10\",IF('Limestone Plant (LP-1)'!$C$9>0,'Limestone Plant (LP-1)'!$C$9,IF('Limestone Plant (LP-10)'!$C$10>0,'Limestone Plant (LP-10)'!$C$10*365,\"\")))))))))))))","v":""},null,null,"","","","",null,"","","","","","","","","","","","LP-9",{"$f":"IF('Limestone Plant (LP-9)'!$C$9>0,'Limestone Plant (LP-9)'!$C$9,IF('Limestone Plant (LP-9)'!$C$10>0,'Limestone Plant (LP-9)'!$C$10*365,\"\"))","v":""}]
[null,null,null,null,null,null,null,null,null,"","",null,{"$f":"IF(E29=\"\",\"\",IF(E29=\"LP-1\",IF('Limestone Plant (LP-1)'!$C$9>0,'Limestone Plant (LP-1)'!$C$9,IF('Limestone Plant (LP-1)'!$C$10>0,'Limestone Plant (LP-1)'!$C$10*365,\"\")),IF(E29=\"LP-2\",IF('Limestone Plant (LP-1)'!$C$9>0,'Limestone Plant (LP-1)'!$C$9,IF('Limestone Plant (LP-2)'!$C$10>0,'Limestone Plant (LP-2)'!$C$10*365,\"\")),IF(E29=\"LP-3\",IF('Limestone Plant (LP-1)'!$C$9>0,'Limestone Plant (LP-1)'!$C$9,IF('Limestone Plant (LP-3)'!$C$10>0,'Limestone Plant (LP-3)'!$C$10*365,\"\")),IF(E29=\"LP-4\",IF('Limestone Plant (LP-1)'!$C$9>0,'Limestone Plant (LP-1)'!$C$9,IF('Limestone Plant (LP-4)'!$C$10>0,'Limestone Plant (LP-4)'!$C$10*365,\"\")),IF(E29=\"LP-5\",IF('Limestone Plant (LP-1)'!$C$9>0,'Limestone Plant (LP-1)'!$C$9,IF('Limestone Plant (LP-5)'!$C$10>0,'Limestone Plant (LP-5)'!$C$10*365,\"\")),IF(E29=\"LP-6\",IF('Limestone Plant (LP-1)'!$C$9>0,'Limestone Plant (LP-1)'!$C$9,IF('Limestone Plant (LP-6)'!$C$10>0,'Limestone Plant (LP-6)'!$C$10*365,\"\")),IF(E29=\"LP-7\",IF('Limestone Plant (LP-1)'!$C$9>0,'Limestone Plant (LP-1)'!$C$9,IF('Limestone Plant (LP-7)'!$C$10>0,'Limestone Plant (LP-7)'!$C$10*365,\"\")),IF(E29=\"LP-8\",IF('Limestone Plant (LP-1)'!$C$9>0,'Limestone Plant (LP-1)'!$C$9,IF('Limestone Plant (LP-8)'!$C$10>0,'Limestone Plant (LP-8)'!$C$10*365,\"\")),IF(E29=\"LP-9\",IF('Limestone Plant (LP-1)'!$C$9>0,'Limestone Plant (LP-1)'!$C$9,IF('Limestone Plant (LP-9)'!$C$10>0,'Limestone Plant (LP-9)'!$C$10*365,\"\")),IF(E29=\"LP-10\",IF('Limestone Plant (LP-1)'!$C$9>0,'Limestone Plant (LP-1)'!$C$9,IF('Limestone Plant (LP-10)'!$C$10>0,'Limestone Plant (LP-10)'!$C$10*365,\"\")))))))))))))","v":""},null,null,"","","","",null,"","","","","","","","","","","","LP-10",{"$f":"IF('Limestone Plant (LP-10)'!$C$9>0,'Limestone Plant (LP-10)'!$C$9,IF('Limestone Plant (LP-10)'!$C$10>0,'Limestone Plant (LP-10)'!$C$10*365,\"\"))","v":""}]
[null,null,null,null,null,null,null,null,null,"","",null,{"$f":"IF(E30=\"\",\"\",IF(E30=\"LP-1\",IF('Limestone Plant (LP-1)'!$C$9>0,'Limestone Plant (LP-1)'!$C$9,IF('Limestone Plant (LP-1)'!$C$10>0,'Limestone Plant (LP-1)'!$C$10*365,\"\")),IF(E30=\"LP-2\",IF('Limestone Plant (LP-1)'!$C$9>0,'Limestone Plant (LP-1)'!$C$9,IF('Limestone Plant (LP-2)'!$C$10>0,'Limestone Plant (LP-2)'!$C$10*365,\"\")),IF(E30=\"LP-3\",IF('Limestone Plant (LP-1)'!$C$9>0,'Limestone Plant (LP-1)'!$C$9,IF('Limestone Plant (LP-3)'!$C$10>0,'Limestone Plant (LP-3)'!$C$10*365,\"\")),IF(E30=\"LP-4\",IF('Limestone Plant (LP-1)'!$C$9>0,'Limestone Plant (LP-1)'!$C$9,IF('Limestone Plant (LP-4)'!$C$10>0,'Limestone Plant (LP-4)'!$C$10*365,\"\")),IF(E30=\"LP-5\",IF('Limestone Plant (LP-1)'!$C$9>0,'Limestone Plant (LP-1)'!$C$9,IF('Limestone Plant (LP-5)'!$C$10>0,'Limestone Plant (LP-5)'!$C$10*365,\"\")),IF(E30=\"LP-6\",IF('Limestone Plant (LP-1)'!$C$9>0,'Limestone Plant (LP-1)'!$C$9,IF('Limestone Plant (LP-6)'!$C$10>0,'Limestone Plant (LP-6)'!$C$10*365,\"\")),IF(E30=\"LP-7\",IF('Limestone Plant (LP-1)'!$C$9>0,'Limestone Plant (LP-1)'!$C$9,IF('Limestone Plant (LP-7)'!$C$10>0,'Limestone Plant (LP-7)'!$C$10*365,\"\")),IF(E30=\"LP-8\",IF('Limestone Plant (LP-1)'!$C$9>0,'Limestone Plant (LP-1)'!$C$9,IF('Limestone Plant (LP-8)'!$C$10>0,'Limestone Plant (LP-8)'!$C$10*365,\"\")),IF(E30=\"LP-9\",IF('Limestone Plant (LP-1)'!$C$9>0,'Limestone Plant (LP-1)'!$C$9,IF('Limestone Plant (LP-9)'!$C$10>0,'Limestone Plant (LP-9)'!$C$10*365,\"\")),IF(E30=\"LP-10\",IF('Limestone Plant (LP-1)'!$C$9>0,'Limestone Plant (LP-1)'!$C$9,IF('Limestone Plant (LP-10)'!$C$10>0,'Limestone Plant (LP-10)'!$C$10*365,\"\")))))))))))))","v":""},null,null,"","","","",null,"","","","","","","","","","",""]
[null,null,null,null,null,null,null,null,null,"","",null,{"$f":"IF(E31=\"\",\"\",IF(E31=\"LP-1\",IF('Limestone Plant (LP-1)'!$C$9>0,'Limestone Plant (LP-1)'!$C$9,IF('Limestone Plant (LP-1)'!$C$10>0,'Limestone Plant (LP-1)'!$C$10*365,\"\")),IF(E31=\"LP-2\",IF('Limestone Plant (LP-1)'!$C$9>0,'Limestone Plant (LP-1)'!$C$9,IF('Limestone Plant (LP-2)'!$C$10>0,'Limestone Plant (LP-2)'!$C$10*365,\"\")),IF(E31=\"LP-3\",IF('Limestone Plant (LP-1)'!$C$9>0,'Limestone Plant (LP-1)'!$C$9,IF('Limestone Plant (LP-3)'!$C$10>0,'Limestone Plant (LP-3)'!$C$10*365,\"\")),IF(E31=\"LP-4\",IF('Limestone Plant (LP-1)'!$C$9>0,'Limestone Plant (LP-1)'!$C$9,IF('Limestone Plant (LP-4)'!$C$10>0,'Limestone Plant (LP-4)'!$C$10*365,\"\")),IF(E31=\"LP-5\",IF('Limestone Plant (LP-1)'!$C$9>0,'Limestone Plant (LP-1)'!$C$9,IF('Limestone Plant (LP-5)'!$C$10>0,'Limestone Plant (LP-5)'!$C$10*365,\"\")),IF(E31=\"LP-6\",IF('Limestone Plant (LP-1)'!$C$9>0,'Limestone Plant (LP-1)'!$C$9,IF('Limestone Plant (LP-6)'!$C$10>0,'Limestone Plant (LP-6)'!$C$10*365,\"\")),IF(E31=\"LP-7\",IF('Limestone Plant (LP-1)'!$C$9>0,'Limestone Plant (LP-1)'!$C$9,IF('Limestone Plant (LP-7)'!$C$10>0,'Limestone Plant (LP-7)'!$C$10*365,\"\")),IF(E31=\"LP-8\",IF('Limestone Plant (LP-1)'!$C$9>0,'Limestone Plant (LP-1)'!$C$9,IF('Limestone Plant (LP-8)'!$C$10>0,'Limestone Plant (LP-8)'!$C$10*365,\"\")),IF(E31=\"LP-9\",IF('Limestone Plant (LP-1)'!$C$9>0,'Limestone Plant (LP-1)'!$C$9,IF('Limestone Plant (LP-9)'!$C$10>0,'Limestone Plant (LP-9)'!$C$10*365,\"\")),IF(E31=\"LP-10\",IF('Limestone Plant (LP-1)'!$C$9>0,'Limestone Plant (LP-1)'!$C$9,IF('Limestone Plant (LP-10)'!$C$10>0,'Limestone Plant (LP-10)'!$C$10*365,\"\")))))))))))))","v":""},null,null,"","","","",null,"","","","","","","","","","",""]
[null,null,null,null,null,null,null,null,null,"","",null,{"$f":"IF(E32=\"\",\"\",IF(E32=\"LP-1\",IF('Limestone Plant (LP-1)'!$C$9>0,'Limestone Plant (LP-1)'!$C$9,IF('Limestone Plant (LP-1)'!$C$10>0,'Limestone Plant (LP-1)'!$C$10*365,\"\")),IF(E32=\"LP-2\",IF('Limestone Plant (LP-1)'!$C$9>0,'Limestone Plant (LP-1)'!$C$9,IF('Limestone Plant (LP-2)'!$C$10>0,'Limestone Plant (LP-2)'!$C$10*365,\"\")),IF(E32=\"LP-3\",IF('Limestone Plant (LP-1)'!$C$9>0,'Limestone Plant (LP-1)'!$C$9,IF('Limestone Plant (LP-3)'!$C$10>0,'Limestone Plant (LP-3)'!$C$10*365,\"\")),IF(E32=\"LP-4\",IF('Limestone Plant (LP-1)'!$C$9>0,'Limestone Plant (LP-1)'!$C$9,IF('Limestone Plant (LP-4)'!$C$10>0,'Limestone Plant (LP-4)'!$C$10*365,\"\")),IF(E32=\"LP-5\",IF('Limestone Plant (LP-1)'!$C$9>0,'Limestone Plant (LP-1)'!$C$9,IF('Limestone Plant (LP-5)'!$C$10>0,'Limestone Plant (LP-5)'!$C$10*365,\"\")),IF(E32=\"LP-6\",IF('Limestone Plant (LP-1)'!$C$9>0,'Limestone Plant (LP-1)'!$C$9,IF('Limestone Plant (LP-6)'!$C$10>0,'Limestone Plant (LP-6)'!$C$10*365,\"\")),IF(E32=\"LP-7\",IF('Limestone Plant (LP-1)'!$C$9>0,'Limestone Plant (LP-1)'!$C$9,IF('Limestone Plant (LP-7)'!$C$10>0,'Limestone Plant (LP-7)'!$C$10*365,\"\")),IF(E32=\"LP-8\",IF('Limestone Plant (LP-1)'!$C$9>0,'Limestone Plant (LP-1)'!$C$9,IF('Limestone Plant (LP-8)'!$C$10>0,'Limestone Plant (LP-8)'!$C$10*365,\"\")),IF(E32=\"LP-9\",IF('Limestone Plant (LP-1)'!$C$9>0,'Limestone Plant (LP-1)'!$C$9,IF('Limestone Plant (LP-9)'!$C$10>0,'Limestone Plant (LP-9)'!$C$10*365,\"\")),IF(E32=\"LP-10\",IF('Limestone Plant (LP-1)'!$C$9>0,'Limestone Plant (LP-1)'!$C$9,IF('Limestone Plant (LP-10)'!$C$10>0,'Limestone Plant (LP-10)'!$C$10*365,\"\")))))))))))))","v":""},null,null,"","","","",null,"","","","","","","","","","",""]
[null,null,null,null,null,null,null,null,null,"","",null,{"$f":"IF(E33=\"\",\"\",IF(E33=\"LP-1\",IF('Limestone Plant (LP-1)'!$C$9>0,'Limestone Plant (LP-1)'!$C$9,IF('Limestone Plant (LP-1)'!$C$10>0,'Limestone Plant (LP-1)'!$C$10*365,\"\")),IF(E33=\"LP-2\",IF('Limestone Plant (LP-1)'!$C$9>0,'Limestone Plant (LP-1)'!$C$9,IF('Limestone Plant (LP-2)'!$C$10>0,'Limestone Plant (LP-2)'!$C$10*365,\"\")),IF(E33=\"LP-3\",IF('Limestone Plant (LP-1)'!$C$9>0,'Limestone Plant (LP-1)'!$C$9,IF('Limestone Plant (LP-3)'!$C$10>0,'Limestone Plant (LP-3)'!$C$10*365,\"\")),IF(E33=\"LP-4\",IF('Limestone Plant (LP-1)'!$C$9>0,'Limestone Plant (LP-1)'!$C$9,IF('Limestone Plant (LP-4)'!$C$10>0,'Limestone Plant (LP-4)'!$C$10*365,\"\")),IF(E33=\"LP-5\",IF('Limestone Plant (LP-1)'!$C$9>0,'Limestone Plant (LP-1)'!$C$9,IF('Limestone Plant (LP-5)'!$C$10>0,'Limestone Plant (LP-5)'!$C$10*365,\"\")),IF(E33=\"LP-6\",IF('Limestone Plant (LP-1)'!$C$9>0,'Limestone Plant (LP-1)'!$C$9,IF('Limestone Plant (LP-6)'!$C$10>0,'Limestone Plant (LP-6)'!$C$10*365,\"\")),IF(E33=\"LP-7\",IF('Limestone Plant (LP-1)'!$C$9>0,'Limestone Plant (LP-1)'!$C$9,IF('Limestone Plant (LP-7)'!$C$10>0,'Limestone Plant (LP-7)'!$C$10*365,\"\")),IF(E33=\"LP-8\",IF('Limestone Plant (LP-1)'!$C$9>0,'Limestone Plant (LP-1)'!$C$9,IF('Limestone Plant (LP-8)'!$C$10>0,'Limestone Plant (LP-8)'!$C$10*365,\"\")),IF(E33=\"LP-9\",IF('Limestone Plant (LP-1)'!$C$9>0,'Limestone Plant (LP-1)'!$C$9,IF('Limestone Plant (LP-9)'!$C$10>0,'Limestone Plant (LP-9)'!$C$10*365,\"\")),IF(E33=\"LP-10\",IF('Limestone Plant (LP-1)'!$C$9>0,'Limestone Plant (LP-1)'!$C$9,IF('Limestone Plant (LP-10)'!$C$10>0,'Limestone Plant (LP-10)'!$C$10*365,\"\")))))))))))))","v":""},null,null,"","","","",null,"","","","","","","","","","",""]
[null,null,null,null,null,null,null,null,null,"","",null,{"$f":"IF(E34=\"\",\"\",IF(E34=\"LP-1\",IF('Limestone Plant (LP-1)'!$C$9>0,'Limestone Plant (LP-1)'!$C$9,IF('Limestone Plant (LP-1)'!$C$10>0,'Limestone Plant (LP-1)'!$C$10*365,\"\")),IF(E34=\"LP-2\",IF('Limestone Plant (LP-1)'!$C$9>0,'Limestone Plant (LP-1)'!$C$9,IF('Limestone Plant (LP-2)'!$C$10>0,'Limestone Plant (LP-2)'!$C$10*365,\"\")),IF(E34=\"LP-3\",IF('Limestone Plant (LP-1)'!$C$9>0,'Limestone Plant (LP-1)'!$C$9,IF('Limestone Plant (LP-3)'!$C$10>0,'Limestone Plant (LP-3)'!$C$10*365,\"\")),IF(E34=\"LP-4\",IF('Limestone Plant (LP-1)'!$C$9>0,'Limestone Plant (LP-1)'!$C$9,IF('Limestone Plant (LP-4)'!$C$10>0,'Limestone Plant (LP-4)'!$C$10*365,\"\")),IF(E34=\"LP-5\",IF('Limestone Plant (LP-1)'!$C$9>0,'Limestone Plant (LP-1)'!$C$9,IF('Limestone Plant (LP-5)'!$C$10>0,'Limestone Plant (LP-5)'!$C$10*365,\"\")),IF(E34=\"LP-6\",IF('Limestone Plant (LP-1)'!$C$9>0,'Limestone Plant (LP-1)'!$C$9,IF('Limestone Plant (LP-6)'!$C$10>0,'Limestone Plant (LP-6)'!$C$10*365,\"\")),IF(E34=\"LP-7\",IF('Limestone Plant (LP-1)'!$C$9>0,'Limestone Plant (LP-1)'!$C$9,IF('Limestone Plant (LP-7)'!$C$10>0,'Limestone Plant (LP-7)'!$C$10*365,\"\")),IF(E34=\"LP-8\",IF('Limestone Plant (LP-1)'!$C$9>0,'Limestone Plant (LP-1)'!$C$9,IF('Limestone Plant (LP-8)'!$C$10>0,'Limestone Plant (LP-8)'!$C$10*365,\"\")),IF(E34=\"LP-9\",IF('Limestone Plant (LP-1)'!$C$9>0,'Limestone Plant (LP-1)'!$C$9,IF('Limestone Plant (LP-9)'!$C$10>0,'Limestone Plant (LP-9)'!$C$10*365,\"\")),IF(E34=\"LP-10\",IF('Limestone Plant (LP-1)'!$C$9>0,'Limestone Plant (LP-1)'!$C$9,IF('Limestone Plant (LP-10)'!$C$10>0,'Limestone Plant (LP-10)'!$C$10*365,\"\")))))))))))))","v":""},null,null,"","","","",null,"","","","","","","","","","",""]
[null,null,null,null,null,null,null,null,null,"","",null,{"$f":"IF(E35=\"\",\"\",IF(E35=\"LP-1\",IF('Limestone Plant (LP-1)'!$C$9>0,'Limestone Plant (LP-1)'!$C$9,IF('Limestone Plant (LP-1)'!$C$10>0,'Limestone Plant (LP-1)'!$C$10*365,\"\")),IF(E35=\"LP-2\",IF('Limestone Plant (LP-1)'!$C$9>0,'Limestone Plant (LP-1)'!$C$9,IF('Limestone Plant (LP-2)'!$C$10>0,'Limestone Plant (LP-2)'!$C$10*365,\"\")),IF(E35=\"LP-3\",IF('Limestone Plant (LP-1)'!$C$9>0,'Limestone Plant (LP-1)'!$C$9,IF('Limestone Plant (LP-3)'!$C$10>0,'Limestone Plant (LP-3)'!$C$10*365,\"\")),IF(E35=\"LP-4\",IF('Limestone Plant (LP-1)'!$C$9>0,'Limestone Plant (LP-1)'!$C$9,IF('Limestone Plant (LP-4)'!$C$10>0,'Limestone Plant (LP-4)'!$C$10*365,\"\")),IF(E35=\"LP-5\",IF('Limestone Plant (LP-1)'!$C$9>0,'Limestone Plant (LP-1)'!$C$9,IF('Limestone Plant (LP-5)'!$C$10>0,'Limestone Plant (LP-5)'!$C$10*365,\"\")),IF(E35=\"LP-6\",IF('Limestone Plant (LP-1)'!$C$9>0,'Limestone Plant (LP-1)'!$C$9,IF('Limestone Plant (LP-6)'!$C$10>0,'Limestone Plant (LP-6)'!$C$10*365,\"\")),IF(E35=\"LP-7\",IF('Limestone Plant (LP-1)'!$C$9>0,'Limestone Plant (LP-1)'!$C$9,IF('Limestone Plant (LP-7)'!$C$10>0,'Limestone Plant (LP-7)'!$C$10*365,\"\")),IF(E35=\"LP-8\",IF('Limestone Plant (LP-1)'!$C$9>0,'Limestone Plant (LP-1)'!$C$9,IF('Limestone Plant (LP-8)'!$C$10>0,'Limestone Plant (LP-8)'!$C$10*365,\"\")),IF(E35=\"LP-9\",IF('Limestone Plant (LP-1)'!$C$9>0,'Limestone Plant (LP-1)'!$C$9,IF('Limestone Plant (LP-9)'!$C$10>0,'Limestone Plant (LP-9)'!$C$10*365,\"\")),IF(E35=\"LP-10\",IF('Limestone Plant (LP-1)'!$C$9>0,'Limestone Plant (LP-1)'!$C$9,IF('Limestone Plant (LP-10)'!$C$10>0,'Limestone Plant (LP-10)'!$C$10*365,\"\")))))))))))))","v":""},null,null,"","","","",null,"","","","","","","","","","",""]
[null,null,null,null,null,null,null,null,null,"","",null,{"$f":"IF(E36=\"\",\"\",IF(E36=\"LP-1\",IF('Limestone Plant (LP-1)'!$C$9>0,'Limestone Plant (LP-1)'!$C$9,IF('Limestone Plant (LP-1)'!$C$10>0,'Limestone Plant (LP-1)'!$C$10*365,\"\")),IF(E36=\"LP-2\",IF('Limestone Plant (LP-1)'!$C$9>0,'Limestone Plant (LP-1)'!$C$9,IF('Limestone Plant (LP-2)'!$C$10>0,'Limestone Plant (LP-2)'!$C$10*365,\"\")),IF(E36=\"LP-3\",IF('Limestone Plant (LP-1)'!$C$9>0,'Limestone Plant (LP-1)'!$C$9,IF('Limestone Plant (LP-3)'!$C$10>0,'Limestone Plant (LP-3)'!$C$10*365,\"\")),IF(E36=\"LP-4\",IF('Limestone Plant (LP-1)'!$C$9>0,'Limestone Plant (LP-1)'!$C$9,IF('Limestone Plant (LP-4)'!$C$10>0,'Limestone Plant (LP-4)'!$C$10*365,\"\")),IF(E36=\"LP-5\",IF('Limestone Plant (LP-1)'!$C$9>0,'Limestone Plant (LP-1)'!$C$9,IF('Limestone Plant (LP-5)'!$C$10>0,'Limestone Plant (LP-5)'!$C$10*365,\"\")),IF(E36=\"LP-6\",IF('Limestone Plant (LP-1)'!$C$9>0,'Limestone Plant (LP-1)'!$C$9,IF('Limestone Plant (LP-6)'!$C$10>0,'Limestone Plant (LP-6)'!$C$10*365,\"\")),IF(E36=\"LP-7\",IF('Limestone Plant (LP-1)'!$C$9>0,'Limestone Plant (LP-1)'!$C$9,IF('Limestone Plant (LP-7)'!$C$10>0,'Limestone Plant (LP-7)'!$C$10*365,\"\")),IF(E36=\"LP-8\",IF('Limestone Plant (LP-1)'!$C$9>0,'Limestone Plant (LP-1)'!$C$9,IF('Limestone Plant (LP-8)'!$C$10>0,'Limestone Plant (LP-8)'!$C$10*365,\"\")),IF(E36=\"LP-9\",IF('Limestone Plant (LP-1)'!$C$9>0,'Limestone Plant (LP-1)'!$C$9,IF('Limestone Plant (LP-9)'!$C$10>0,'Limestone Plant (LP-9)'!$C$10*365,\"\")),IF(E36=\"LP-10\",IF('Limestone Plant (LP-1)'!$C$9>0,'Limestone Plant (LP-1)'!$C$9,IF('Limestone Plant (LP-10)'!$C$10>0,'Limestone Plant (LP-10)'!$C$10*365,\"\")))))))))))))","v":""},null,null,"","","","",null,"","","","","","","","","","",""]
[null,null,null,null,null,null,null,null,null,"","",null,{"$f":"IF(E37=\"\",\"\",IF(E37=\"LP-1\",IF('Limestone Plant (LP-1)'!$C$9>0,'Limestone Plant (LP-1)'!$C$9,IF('Limestone Plant (LP-1)'!$C$10>0,'Limestone Plant (LP-1)'!$C$10*365,\"\")),IF(E37=\"LP-2\",IF('Limestone Plant (LP-1)'!$C$9>0,'Limestone Plant (LP-1)'!$C$9,IF('Limestone Plant (LP-2)'!$C$10>0,'Limestone Plant (LP-2)'!$C$10*365,\"\")),IF(E37=\"LP-3\",IF('Limestone Plant (LP-1)'!$C$9>0,'Limestone Plant (LP-1)'!$C$9,IF('Limestone Plant (LP-3)'!$C$10>0,'Limestone Plant (LP-3)'!$C$10*365,\"\")),IF(E37=\"LP-4\",IF('Limestone Plant (LP-1)'!$C$9>0,'Limestone Plant (LP-1)'!$C$9,IF('Limestone Plant (LP-4)'!$C$10>0,'Limestone Plant (LP-4)'!$C$10*365,\"\")),IF(E37=\"LP-5\",IF('Limestone Plant (LP-1)'!$C$9>0,'Limestone Plant (LP-1)'!$C$9,IF('Limestone Plant (LP-5)'!$C$10>0,'Limestone Plant (LP-5)'!$C$10*365,\"\")),IF(E37=\"LP-6\",IF('Limestone Plant (LP-1)'!$C$9>0,'Limestone Plant (LP-1)'!$C$9,IF('Limestone Plant (LP-6)'!$C$10>0,'Limestone Plant (LP-6)'!$C$10*365,\"\")),IF(E37=\"LP-7\",IF('Limestone Plant (LP-1)'!$C$9>0,'Limestone Plant (LP-1)'!$C$9,IF('Limestone Plant (LP-7)'!$C$10>0,'Limestone Plant (LP-7)'!$C$10*365,\"\")),IF(E37=\"LP-8\",IF('Limestone Plant (LP-1)'!$C$9>0,'Limestone Plant (LP-1)'!$C$9,IF('Limestone Plant (LP-8)'!$C$10>0,'Limestone Plant (LP-8)'!$C$10*365,\"\")),IF(E37=\"LP-9\",IF('Limestone Plant (LP-1)'!$C$9>0,'Limestone Plant (LP-1)'!$C$9,IF('Limestone Plant (LP-9)'!$C$10>0,'Limestone Plant (LP-9)'!$C$10*365,\"\")),IF(E37=\"LP-10\",IF('Limestone Plant (LP-1)'!$C$9>0,'Limestone Plant (LP-1)'!$C$9,IF('Limestone Plant (LP-10)'!$C$10>0,'Limestone Plant (LP-10)'!$C$10*365,\"\")))))))))))))","v":""},null,null,"","","","",null,"","","","","","","","","","",""]
[null,null,null,null,null,null,null,null,null,"","",null,{"$f":"IF(E38=\"\",\"\",IF(E38=\"LP-1\",IF('Limestone Plant (LP-1)'!$C$9>0,'Limestone Plant (LP-1)'!$C$9,IF('Limestone Plant (LP-1)'!$C$10>0,'Limestone Plant (LP-1)'!$C$10*365,\"\")),IF(E38=\"LP-2\",IF('Limestone Plant (LP-1)'!$C$9>0,'Limestone Plant (LP-1)'!$C$9,IF('Limestone Plant (LP-2)'!$C$10>0,'Limestone Plant (LP-2)'!$C$10*365,\"\")),IF(E38=\"LP-3\",IF('Limestone Plant (LP-1)'!$C$9>0,'Limestone Plant (LP-1)'!$C$9,IF('Limestone Plant (LP-3)'!$C$10>0,'Limestone Plant (LP-3)'!$C$10*365,\"\")),IF(E38=\"LP-4\",IF('Limestone Plant (LP-1)'!$C$9>0,'Limestone Plant (LP-1)'!$C$9,IF('Limestone Plant (LP-4)'!$C$10>0,'Limestone Plant (LP-4)'!$C$10*365,\"\")),IF(E38=\"LP-5\",IF('Limestone Plant (LP-1)'!$C$9>0,'Limestone Plant (LP-1)'!$C$9,IF('Limestone Plant (LP-5)'!$C$10>0,'Limestone Plant (LP-5)'!$C$10*365,\"\")),IF(E38=\"LP-6\",IF('Limestone Plant (LP-1)'!$C$9>0,'Limestone Plant (LP-1)'!$C$9,IF('Limestone Plant (LP-6)'!$C$10>0,'Limestone Plant (LP-6)'!$C$10*365,\"\")),IF(E38=\"LP-7\",IF('Limestone Plant (LP-1)'!$C$9>0,'Limestone Plant (LP-1)'!$C$9,IF('Limestone Plant (LP-7)'!$C$10>0,'Limestone Plant (LP-7)'!$C$10*365,\"\")),IF(E38=\"LP-8\",IF('Limestone Plant (LP-1)'!$C$9>0,'Limestone Plant (LP-1)'!$C$9,IF('Limestone Plant (LP-8)'!$C$10>0,'Limestone Plant (LP-8)'!$C$10*365,\"\")),IF(E38=\"LP-9\",IF('Limestone Plant (LP-1)'!$C$9>0,'Limestone Plant (LP-1)'!$C$9,IF('Limestone Plant (LP-9)'!$C$10>0,'Limestone Plant (LP-9)'!$C$10*365,\"\")),IF(E38=\"LP-10\",IF('Limestone Plant (LP-1)'!$C$9>0,'Limestone Plant (LP-1)'!$C$9,IF('Limestone Plant (LP-10)'!$C$10>0,'Limestone Plant (LP-10)'!$C$10*365,\"\")))))))))))))","v":""},null,null,"","","","",null,"","","","","","","","","","",""]
[null,null,null,null,null,null,null,null,null,null,null,{"$f":"(SUM(IF(AE9=\"x\",L9,0),IF(AE10=\"x\",L10,0),IF(AE11=\"x\",L11,0),IF(AE12=\"x\",L12,0),IF(AE13=\"x\",L13,0),IF(AE14=\"x\",L14,0),IF(AE15=\"x\",L15,0),IF(AE16=\"x\",L16,0),IF(AE17=\"x\",L17,0),IF(AE18=\"x\",L18,0),IF(AE19=\"x\",L19,0),IF(AE20=\"x\",L20,0),IF(AE21=\"x\",L21,0),IF(AE22=\"x\",L22,0),IF(AE23=\"x\",L23,0),IF(AE24=\"x\",L24,0),IF(AE25=\"x\",L25,0),IF(AE26=\"x\",L26,0),IF(AE27=\"x\",L27,0),IF(AE28=\"x\",L28,0),IF(AE29=\"x\",L29,0),IF(AE30=\"x\",L30,0),IF(AE31=\"x\",L31,0),IF(AE32=\"x\",L32,0),IF(AE33=\"x\",L33,0),IF(AE34=\"x\",L34,0),IF(AE35=\"x\",L35,0),IF(AE36=\"x\",L36,0),IF(AE37=\"x\",L37,0),IF(AE38=\"x\",L38,0)))","v":0},null,null,null,{"$f":"(SUM(IF(AE9=\"x\",P9,0),IF(AE10=\"x\",P10,0),IF(AE11=\"x\",P11,0),IF(AE12=\"x\",P12,0),IF(AE13=\"x\",P13,0),IF(AE14=\"x\",P14,0),IF(AE15=\"x\",P15,0),IF(AE16=\"x\",P16,0),IF(AE17=\"x\",P17,0),IF(AE18=\"x\",P18,0),IF(AE19=\"x\",P19,0),IF(AE20=\"x\",P20,0),IF(AE21=\"x\",P21,0),IF(AE22=\"x\",P22,0),IF(AE23=\"x\",P23,0),IF(AE24=\"x\",P24,0),IF(AE25=\"x\",P25,0),IF(AE26=\"x\",P26,0),IF(AE27=\"x\",P27,0),IF(AE28=\"x\",P28,0),IF(AE29=\"x\",P29,0),IF(AE30=\"x\",P30,0),IF(AE31=\"x\",P31,0),IF(AE32=\"x\",P32,0),IF(AE33=\"x\",P33,0),IF(AE34=\"x\",P34,0),IF(AE35=\"x\",P35,0),IF(AE36=\"x\",P36,0),IF(AE37=\"x\",P37,0),IF(AE38=\"x\",P38,0)))","v":0},null,null,null,"Unpaved",{"$f":"(MAX(IF(AE9=\"x\",U9,0),IF(AE10=\"x\",U10,0),IF(AE11=\"x\",U11,0),IF(AE12=\"x\",U12,0),IF(AE13=\"x\",U13,0),IF(AE14=\"x\",U14,0),IF(AE15=\"x\",U15,0),IF(AE16=\"x\",U16,0),IF(AE17=\"x\",U17,0),IF(AE18=\"x\",U18,0),IF(AE29=\"x\",U29,0),IF(AE30=\"x\",U30,0),IF(AE31=\"x\",U31,0),IF(AE32=\"x\",U32,0),IF(AE33=\"x\",U33,0),IF(AE34=\"x\",U34,0),IF(AE35=\"x\",U35,0),IF(AE36=\"x\",U36,0),IF(AE37=\"x\",U37,0),IF(AE38=\"x\",U38,0)))","v":0},{"$f":"(SUM(IF(AE9=\"x\",V9,0),IF(AE10=\"x\",V10,0),IF(AE11=\"x\",V11,0),IF(AE12=\"x\",V12,0),IF(AE13=\"x\",V13,0),IF(AE14=\"x\",V14,0),IF(AE15=\"x\",V15,0),IF(AE16=\"x\",V16,0),IF(AE17=\"x\",V17,0),IF(AE18=\"x\",V18,0),IF(AE29=\"x\",V29,0),IF(AE30=\"x\",V30,0),IF(AE31=\"x\",V31,0),IF(AE32=\"x\",V32,0),IF(AE33=\"x\",V33,0),IF(AE34=\"x\",V34,0),IF(AE35=\"x\",V35,0),IF(AE36=\"x\",V36,0),IF(AE37=\"x\",V37,0),IF(AE38=\"x\",V38,0)))","v":0},{"$f":"SUM(W9:W38)","v":0},{"$f":"IF(B39=\"\",\"\",IF(W39=\"\",V39*8760/2000,W39*8760/2000))","v":""},null,{"$f":"(MAX(IF(AE9=\"x\",Z9,0),IF(AE10=\"x\",Z10,0),IF(AE11=\"x\",Z11,0),IF(AE12=\"x\",Z12,0),IF(AE13=\"x\",Z13,0),IF(AE14=\"x\",Z14,0),IF(AE15=\"x\",Z15,0),IF(AE16=\"x\",Z16,0),IF(AE17=\"x\",Z17,0),IF(AE18=\"x\",Z18,0),IF(AE29=\"x\",Z29,0),IF(AE30=\"x\",Z30,0),IF(AE31=\"x\",Z31,0),IF(AE32=\"x\",Z32,0),IF(AE33=\"x\",Z33,0),IF(AE34=\"x\",Z34,0),IF(AE35=\"x\",Z35,0),IF(AE36=\"x\",Z36,0),IF(AE37=\"x\",Z37,0),IF(AE38=\"x\",Z38,0)))","v":0},{"$f":"(SUM(IF(AE9=\"x\",AA9,0),IF(AE10=\"x\",AA10,0),IF(AE11=\"x\",AA11,0),IF(AE12=\"x\",AA12,0),IF(AE13=\"x\",AA13,0),IF(AE14=\"x\",AA14,0),IF(AE15=\"x\",AA15,0),IF(AE16=\"x\",AA16,0),IF(AE17=\"x\",AA17,0),IF(AE18=\"x\",AA18,0),IF(AE29=\"x\",AA29,0),IF(AE30=\"x\",AA30,0),IF(AE31=\"x\",AA31,0),IF(AE32=\"x\",AA32,0),IF(AE33=\"x\",AA33,0),IF(AE34=\"x\",AA34,0),IF(AE35=\"x\",AA35,0),IF(AE36=\"x\",AA36,0),IF(AE37=\"x\",AA37,0),IF(AE38=\"x\",AA38,0)))","v":0},{"$f":"SUM(AB9:AB38)","v":0},"",null,{"$f":"IF(B40=\"unpaved haul road\",\"x\",\"\")","v":""}]
[null,null,null,null,null,null,null,null,null,null,null,{"$f":"(SUM(IF(AE9=\"x\",0,L9),IF(AE10=\"x\",0,L10),IF(AE11=\"x\",0,L11),IF(AE12=\"x\",0,L12),IF(AE13=\"x\",0,L13),IF(AE14=\"x\",0,L14),IF(AE15=\"x\",0,L15),IF(AE16=\"x\",0,L16),IF(AE17=\"x\",0,L17),IF(AE18=\"x\",0,L18),IF(AE19=\"x\",0,L19),IF(AE20=\"x\",0,L20),IF(AE21=\"x\",0,L21),IF(AE22=\"x\",0,L22),IF(AE23=\"x\",0,L23),IF(AE24=\"x\",0,L24),IF(AE25=\"x\",0,L25),IF(AE26=\"x\",0,L26),IF(AE27=\"x\",0,L27),IF(AE28=\"x\",0,L28),IF(AE29=\"x\",0,L29),IF(AE30=\"x\",0,L30),IF(AE31=\"x\",0,L31),IF(AE32=\"x\",0,L32),IF(AE33=\"x\",0,L33),IF(AE34=\"x\",0,L34),IF(AE35=\"x\",0,L35),IF(AE36=\"x\",0,L36),IF(AE37=\"x\",0,L37),IF(AE38=\"x\",0,L38)))","v":0},null,null,null,{"$f":"(SUM(IF(AE9=\"x\",0,P9),IF(AE10=\"x\",0,P10),IF(AE11=\"x\",0,P11),IF(AE12=\"x\",0,P12),IF(AE13=\"x\",0,P13),IF(AE14=\"x\",0,P14),IF(AE15=\"x\",0,P15),IF(AE16=\"x\",0,P16),IF(AE17=\"x\",0,P17),IF(AE18=\"x\",0,P18),IF(AE19=\"x\",0,P19),IF(AE20=\"x\",0,P20),IF(AE21=\"x\",0,P21),IF(AE22=\"x\",0,P22),IF(AE23=\"x\",0,P23),IF(AE24=\"x\",0,P24),IF(AE25=\"x\",0,P25),IF(AE26=\"x\",0,P26),IF(AE27=\"x\",0,P27),IF(AE28=\"x\",0,P28),IF(AE29=\"x\",0,P29),IF(AE30=\"x\",0,P30),IF(AE31=\"x\",0,P31),IF(AE32=\"x\",0,P32),IF(AE33=\"x\",0,P33),IF(AE34=\"x\",0,P34),IF(AE35=\"x\",0,P35),IF(AE36=\"x\",0,P36),IF(AE37=\"x\",0,P37),IF(AE38=\"x\",0,P38)))","v":0},null,null,null,"Paved",{"$f":"(SUM(IF(AE9=\"x\",0,U9),IF(AE10=\"x\",0,U10),IF(AE11=\"x\",0,U11),IF(AE12=\"x\",0,U12),IF(AE13=\"x\",0,U13),IF(AE14=\"x\",0,U14),IF(AE15=\"x\",0,U15),IF(AE16=\"x\",0,U16),IF(AE17=\"x\",0,U17),IF(AE18=\"x\",0,U18),IF(AE29=\"x\",0,U29),IF(AE30=\"x\",0,U30),IF(AE31=\"x\",0,U31),IF(AE32=\"x\",0,U32),IF(AE33=\"x\",0,U33),IF(AE34=\"x\",0,U34),IF(AE35=\"x\",0,U35),IF(AE36=\"x\",0,U36),IF(AE37=\"x\",0,U37),IF(AE38=\"x\",0,U38)))","v":0},{"$f":"(SUM(IF(AE9=\"x\",0,V9),IF(AE10=\"x\",0,V10),IF(AE11=\"x\",0,V11),IF(AE12=\"x\",0,V12),IF(AE13=\"x\",0,V13),IF(AE14=\"x\",0,V14),IF(AE15=\"x\",0,V15),IF(AE16=\"x\",0,V16),IF(AE17=\"x\",0,V17),IF(AE18=\"x\",0,V18),IF(AE29=\"x\",0,V29),IF(AE30=\"x\",0,V30),IF(AE31=\"x\",0,V31),IF(AE32=\"x\",0,V32),IF(AE33=\"x\",0,V33),IF(AE34=\"x\",0,V34),IF(AE35=\"x\",0,V35),IF(AE36=\"x\",0,V36),IF(AE37=\"x\",0,V37),IF(AE38=\"x\",0,V38)))","v":0},null,null,null,{"$f":"(SUM(IF(AE9=\"x\",0,Z9),IF(AE10=\"x\",0,Z10),IF(AE11=\"x\",0,Z11),IF(AE12=\"x\",0,Z12),IF(AE13=\"x\",0,Z13),IF(AE14=\"x\",0,Z14),IF(AE15=\"x\",0,Z15),IF(AE16=\"x\",0,Z16),IF(AE17=\"x\",0,Z17),IF(AE18=\"x\",0,Z18),IF(AE29=\"x\",0,Z29),IF(AE30=\"x\",0,Z30),IF(AE31=\"x\",0,Z31),IF(AE32=\"x\",0,Z32),IF(AE33=\"x\",0,Z33),IF(AE34=\"x\",0,Z34),IF(AE35=\"x\",0,Z35),IF(AE36=\"x\",0,Z36),IF(AE37=\"x\",0,Z37),IF(AE38=\"x\",0,Z38)))","v":0},{"$f":"(SUM(IF(AE9=\"x\",0,AA9),IF(AE10=\"x\",0,AA10),IF(AE11=\"x\",0,AA11),IF(AE12=\"x\",0,AA12),IF(AE13=\"x\",0,AA13),IF(AE14=\"x\",0,AA14),IF(AE15=\"x\",0,AA15),IF(AE16=\"x\",0,AA16),IF(AE17=\"x\",0,AA17),IF(AE18=\"x\",0,AA18),IF(AE29=\"x\",0,AA29),IF(AE30=\"x\",0,AA30),IF(AE31=\"x\",0,AA31),IF(AE32=\"x\",0,AA32),IF(AE33=\"x\",0,AA33),IF(AE34=\"x\",0,AA34),IF(AE35=\"x\",0,AA35),IF(AE36=\"x\",0,AA36),IF(AE37=\"x\",0,AA37),IF(AE38=\"x\",0,AA38)))","v":0},null,null,null,{"$f":"IF(B41=\"unpaved haul road\",\"x\",\"\")","v":""}]
[]
[null,null,null,"Total potential PM2.5 emissions (tons/yr) from all unpaved haul roads used by the facility:",null,null,null,null,null,null,null,{"$f":"(SUM(IF(AE10=\"x\",X10,0),IF(AE11=\"x\",X11,0),IF(AE12=\"x\",X12,0),IF(AE13=\"x\",X13,0),IF(AE14=\"x\",X14,0),IF(AE15=\"x\",X15,0),IF(AE16=\"x\",X16,0),IF(AE17=\"x\",X17,0),IF(AE18=\"x\",X18,0),IF(AE19=\"x\",X19,0),IF(AE20=\"x\",X20,0),IF(AE21=\"x\",X21,0),IF(AE22=\"x\",X22,0),IF(AE23=\"x\",X23,0),IF(AE24=\"x\",X24,0),IF(AE25=\"x\",X25,0),IF(AE26=\"x\",X26,0),IF(AE27=\"x\",X27,0),IF(AE28=\"x\",X28,0),IF(AE29=\"x\",X29,0),IF(AE30=\"x\",X30,0),IF(AE31=\"x\",X31,0),IF(AE32=\"x\",X32,0),IF(AE33=\"x\",X33,0),IF(AE34=\"x\",X34,0),IF(AE35=\"x\",X35,0),IF(AE36=\"x\",X36,0),IF(AE37=\"x\",X37,0),IF(AE38=\"x\",X38,0),IF(AE9=\"x\",X9,0)))","v":0}]
[null,null,null,"Total potential PM2.5 emissions (tons/yr) from all paved haul roads used by the facility:",null,null,null,null,null,null,null,{"$f":"(SUM(IF(AE10=\"x\",0,X10),IF(AE11=\"x\",0,X11),IF(AE12=\"x\",0,X12),IF(AE13=\"x\",0,X13),IF(AE14=\"x\",0,X14),IF(AE15=\"x\",0,X15),IF(AE16=\"x\",0,X16),IF(AE17=\"x\",0,X17),IF(AE18=\"x\",0,X18),IF(AE19=\"x\",0,X19),IF(AE20=\"x\",0,X20),IF(AE21=\"x\",0,X21),IF(AE22=\"x\",0,X22),IF(AE23=\"x\",0,X23),IF(AE24=\"x\",0,X24),IF(AE25=\"x\",0,X25),IF(AE26=\"x\",0,X26),IF(AE27=\"x\",0,X27),IF(AE28=\"x\",0,X28),IF(AE29=\"x\",0,X29),IF(AE30=\"x\",0,X30),IF(AE31=\"x\",0,X31),IF(AE32=\"x\",0,X32),IF(AE33=\"x\",0,X33),IF(AE34=\"x\",0,X34),IF(AE35=\"x\",0,X35),IF(AE36=\"x\",0,X36),IF(AE37=\"x\",0,X37),IF(AE38=\"x\",0,X38),IF(AE9=\"x\",0,X9)))","v":0}]
[null,null,null,"Total potential PM10 emissions (tons/yr) from all unpaved haul roads used by the facility:",null,null,null,null,null,null,null,{"$f":"(SUM(IF(AE10=\"x\",AC10,0),IF(AE11=\"x\",AC11,0),IF(AE12=\"x\",AC12,0),IF(AE13=\"x\",AC13,0),IF(AE14=\"x\",AC14,0),IF(AE15=\"x\",AC15,0),IF(AE16=\"x\",AC16,0),IF(AE17=\"x\",AC17,0),IF(AE18=\"x\",AC18,0),IF(AE19=\"x\",AC19,0),IF(AE20=\"x\",AC20,0),IF(AE21=\"x\",AC21,0),IF(AE22=\"x\",AC22,0),IF(AE23=\"x\",AC23,0),IF(AE24=\"x\",AC24,0),IF(AE25=\"x\",AC25,0),IF(AE26=\"x\",AC26,0),IF(AE27=\"x\",AC27,0),IF(AE28=\"x\",AC28,0),IF(AE29=\"x\",AC29,0),IF(AE30=\"x\",AC30,0),IF(AE31=\"x\",AC31,0),IF(AE32=\"x\",AC32,0),IF(AE33=\"x\",AC33,0),IF(AE34=\"x\",AC34,0),IF(AE35=\"x\",AC35,0),IF(AE36=\"x\",AC36,0),IF(AE37=\"x\",AC37,0),IF(AE38=\"x\",AC38,0),IF(AE9=\"x\",AC9,0)))","v":0}]
[null,null,null,"Total potential PM10 emissions (tons/yr) from all paved haul roads used by the facility:",null,null,null,null,null,null,null,{"$f":"(SUM(IF(AE10=\"x\",0,AC10),IF(AE11=\"x\",0,AC11),IF(AE12=\"x\",0,AC12),IF(AE13=\"x\",0,AC13),IF(AE14=\"x\",0,AC14),IF(AE15=\"x\",0,AC15),IF(AE16=\"x\",0,AC16),IF(AE17=\"x\",0,AC17),IF(AE18=\"x\",0,AC18),IF(AE19=\"x\",0,AC19),IF(AE20=\"x\",0,AC20),IF(AE21=\"x\",0,AC21),IF(AE22=\"x\",0,AC22),IF(AE23=\"x\",0,AC23),IF(AE24=\"x\",0,AC24),IF(AE25=\"x\",0,AC25),IF(AE26=\"x\",0,AC26),IF(AE27=\"x\",0,AC27),IF(AE28=\"x\",0,AC28),IF(AE29=\"x\",0,AC29),IF(AE30=\"x\",0,AC30),IF(AE31=\"x\",0,AC31),IF(AE32=\"x\",0,AC32),IF(AE33=\"x\",0,AC33),IF(AE34=\"x\",0,AC34),IF(AE35=\"x\",0,AC35),IF(AE36=\"x\",0,AC36),IF(AE37=\"x\",0,AC37),IF(AE38=\"x\",0,AC38),IF(AE9=\"x\",0,AC9)))","v":0}]
[]
[null,null,null,"Total actual PM2.5 emissions (tons/yr) from all unpaved haul roads used by the facility:",null,null,null,null,null,null,null,{"$f":"(SUM(IF(AE10=\"x\",Y10,0),IF(AE11=\"x\",Y11,0),IF(AE12=\"x\",Y12,0),IF(AE13=\"x\",Y13,0),IF(AE14=\"x\",Y14,0),IF(AE15=\"x\",Y15,0),IF(AE16=\"x\",Y16,0),IF(AE17=\"x\",Y17,0),IF(AE18=\"x\",Y18,0),IF(AE19=\"x\",Y19,0),IF(AE20=\"x\",Y20,0),IF(AE21=\"x\",Y21,0),IF(AE22=\"x\",Y22,0),IF(AE23=\"x\",Y23,0),IF(AE24=\"x\",Y24,0),IF(AE25=\"x\",Y25,0),IF(AE26=\"x\",Y26,0),IF(AE27=\"x\",Y27,0),IF(AE28=\"x\",Y28,0),IF(AE29=\"x\",Y29,0),IF(AE30=\"x\",Y30,0),IF(AE31=\"x\",Y31,0),IF(AE32=\"x\",Y32,0),IF(AE33=\"x\",Y33,0),IF(AE34=\"x\",Y34,0),IF(AE35=\"x\",Y35,0),IF(AE36=\"x\",Y36,0),IF(AE37=\"x\",Y37,0),IF(AE38=\"x\",Y38,0),IF(AE9=\"x\",Y9,0)))","v":0}]
[null,null,null,"Total actual PM2.5 emissions (tons/yr) from all paved haul roads used by the facility:",null,null,null,null,null,null,null,{"$f":"(SUM(IF(AE10=\"x\",0,Y10),IF(AE11=\"x\",0,Y11),IF(AE12=\"x\",0,Y12),IF(AE13=\"x\",0,Y13),IF(AE14=\"x\",0,Y14),IF(AE15=\"x\",0,Y15),IF(AE16=\"x\",0,Y16),IF(AE17=\"x\",0,Y17),IF(AE18=\"x\",0,Y18),IF(AE19=\"x\",0,Y19),IF(AE20=\"x\",0,Y20),IF(AE21=\"x\",0,Y21),IF(AE22=\"x\",0,Y22),IF(AE23=\"x\",0,Y23),IF(AE24=\"x\",0,Y24),IF(AE25=\"x\",0,Y25),IF(AE26=\"x\",0,Y26),IF(AE27=\"x\",0,Y27),IF(AE28=\"x\",0,Y28),IF(AE29=\"x\",0,Y29),IF(AE30=\"x\",0,Y30),IF(AE31=\"x\",0,Y31),IF(AE32=\"x\",0,Y32),IF(AE33=\"x\",0,Y33),IF(AE34=\"x\",0,Y34),IF(AE35=\"x\",0,Y35),IF(AE36=\"x\",0,Y36),IF(AE37=\"x\",0,Y37),IF(AE38=\"x\",0,Y38),IF(AE9=\"x\",0,Y9)))","v":0}]
[null,null,null,"Total actual PM10 emissions (tons/yr) from all unpaved haul roads used by the facility:",null,null,null,null,null,null,null,{"$f":"(SUM(IF(AE10=\"x\",AD10,0),IF(AE11=\"x\",AD11,0),IF(AE12=\"x\",AD12,0),IF(AE13=\"x\",AD13,0),IF(AE14=\"x\",AD14,0),IF(AE15=\"x\",AD15,0),IF(AE16=\"x\",AD16,0),IF(AE17=\"x\",AD17,0),IF(AE18=\"x\",AD18,0),IF(AE19=\"x\",AD19,0),IF(AE20=\"x\",AD20,0),IF(AE21=\"x\",AD21,0),IF(AE22=\"x\",AD22,0),IF(AE23=\"x\",AD23,0),IF(AE24=\"x\",AD24,0),IF(AE25=\"x\",AD25,0),IF(AE26=\"x\",AD26,0),IF(AE27=\"x\",AD27,0),IF(AE28=\"x\",AD28,0),IF(AE29=\"x\",AD29,0),IF(AE30=\"x\",AD30,0),IF(AE31=\"x\",AD31,0),IF(AE32=\"x\",AD32,0),IF(AE33=\"x\",AD33,0),IF(AE34=\"x\",AD34,0),IF(AE35=\"x\",AD35,0),IF(AE36=\"x\",AD36,0),IF(AE37=\"x\",AD37,0),IF(AE38=\"x\",AD38,0),IF(AE9=\"x\",AD9,0)))","v":0}]
[null,null,null,"Total actual PM10 emissions (tons/yr) from all paved haul roads used by the facility:",null,null,null,null,null,null,null,{"$f":"(SUM(IF(AE10=\"x\",0,AD10),IF(AE11=\"x\",0,AD11),IF(AE12=\"x\",0,AD12),IF(AE13=\"x\",0,AD13),IF(AE14=\"x\",0,AD14),IF(AE15=\"x\",0,AD15),IF(AE16=\"x\",0,AD16),IF(AE17=\"x\",0,AD17),IF(AE18=\"x\",0,AD18),IF(AE19=\"x\",0,AD19),IF(AE20=\"x\",0,AD20),IF(AE21=\"x\",0,AD21),IF(AE22=\"x\",0,AD22),IF(AE23=\"x\",0,AD23),IF(AE24=\"x\",0,AD24),IF(AE25=\"x\",0,AD25),IF(AE26=\"x\",0,AD26),IF(AE27=\"x\",0,AD27),IF(AE28=\"x\",0,AD28),IF(AE29=\"x\",0,AD29),IF(AE30=\"x\",0,AD30),IF(AE31=\"x\",0,AD31),IF(AE32=\"x\",0,AD32),IF(AE33=\"x\",0,AD33),IF(AE34=\"x\",0,AD34),IF(AE35=\"x\",0,AD35),IF(AE36=\"x\",0,AD36),IF(AE37=\"x\",0,AD37),IF(AE38=\"x\",0,AD38),IF(AE9=\"x\",0,AD9)))","v":0}]

{"sheet":"Permitted Diesel Engines","index":12,"n_rows":77,"n_cols":55,"rows_kept":77,"cut":false,"hidden":false,"merged":[[5,18,6,18],[0,2,0,5],[5,6,6,6],[5,3,6,3],[5,5,6,5],[5,4,6,4],[1,2,1,6],[5,2,6,2],[5,7,6,7],[3,28,6,28],[3,29,6,29],[3,30,6,30],[3,31,6,31],[5,11,6,11],[5,8,6,8],[5,9,6,9],[5,10,6,10],[3,23,6,23],[5,16,6,16],[5,19,6,19],[5,17,6,17],[5,14,6,14],[5,12,6,12],[5,15,6,15],[3,32,6,32],[3,38,6,38],[3,39,6,39],[3,40,6,40],[3,35,6,35],[3,36,6,36],[3,37,6,37],[3,54,6,54],[3,48,6,48],[3,49,6,49],[3,50,6,50],[3,51,6,51],[3,52,6,52],[3,53,6,53],[49,13,49,15],[50,13,50,15],[5,13,6,13],[3,46,6,46],[3,47,6,47],[3,41,6,41],[3,42,6,42],[3,43,6,43],[3,44,6,44],[3,45,6,45],[3,24,6,24],[3,25,6,25],[3,26,6,26],[3,27,6,27],[3,33,6,33],[3,34,6,34]]}
[null,null,"PERMITTED DIESEL ENGINES"]
[null,null,"Please fill in the yellow boxes as applicable for your facility. "]
[]
[null,null,null,null,null,"Actual Sulfur Content of Fuel:",null,"%",null,null,null,null,null,null,null,null,null,null,null,null,null,null,null,"PM2.5 Emission Factor (lb/MMBtu)","Potential Emissions (lb/hr)","Potential Emissions (tons/yr)","Actual Emissions (tons/yr)","PM10 Emission Factor (lb/MMBtu)","Potential Emissions (lb/hr)","Potential Emissions (tons/yr)","Actual Emissions (tons/yr)","SO2 Emission Factor (lb/MMBtu)","Potential Emissions (lb/hr)","Potential Emissions (tons/yr)","Actual Emissions (tons/yr)","NOx Emission Factor (lb/MMBtu)","Potential Emissions (lb/hr)","Potential Emissions (tons/yr)","Actual Emissions (tons/yr)","VOC Emission Factor (lb/MMBtu)","Potential Emissions (lb/hr)","Potential Emissions (tons/yr)","Actual Emissions (tons/yr)","CO Emission Factor (lb/MMBtu)","Potential Emissions (lb/hr)","Potential Emissions (tons/yr)","Actual Emissions (tons/yr)","Formaldehyde Emission Factor (lb/MMBtu)","Potential Emissions (lb/hr)","Potential Emissions (tons/yr)","Actual Emissions (tons/yr)","Benzene Emission Factor (lb/MMBtu)","Potential Emissions (lb/hr)","Potential Emissions (tons/yr)","Actual Emissions (tons/yr)"]
[]
[null,null,"Limestone Plant #","Emission Point #","Emission Unit #","Emission Unit Description     (>600 bhp / ≤ 600 bhp)","Permit Number","Hours/Yr Plant Wide Limit","Gal/Yr Plant Wide Limit","Sulfur Content Limit (%)","Sulfur Content","Stack Height (ft)","Stack Diameter (inches)","Stack Type","Exhaust Flowrate (acfm)","Exhaust Temp (Degree F)","Max Hourly Rate (gal/hr)","Max Hourly Rate (MMBtu/hr)",{"$f":"'Facility Information'!A52&\" Annual Throughput (gallons/yr)\"","v":" Annual Throughput (gallons/yr)"},"Annual Throughput (MMBtu/yr)","Diesel Generator> 600 bhp"]
[null,null,null,null,null,null,null,null,null,null,null,null,null,null,null,null,null,null,null,null,"Diesel Generator ≤ 600 bhp","<= 600 bhp",">600 bhp"]
[">600 bhp",{"$f":"IF(F8=\"Diesel Generator> 600 bhp\",\"yes\",\"no\")","v":"no"},null,null,null,null,null,null,null,null,{"$f":"IF(B8=\"no\",1,IF(J8=\"\",0.5,J8))","v":1},null,null,null,null,null,null,{"$f":"IF(Q8=\"\",\"\",Q8*0.14)","v":""},null,{"$f":"IF(S8=\"\",\"\",S8*0.14)","v":""},null,{"$f":"IF(B8=\"no\",H8*Q8*0.14,\"\")","v":0},{"$f":"IF(B8=\"yes\",H8*Q8*0.14,\"\")","v":""},{"$f":"IF(F8=\"\",\"\",IF(B8=\"no\",'Emission Factors'!$D$43,'Emission Factors'!$D$44))","v":""},{"$f":"IF(F8=\"\",\"\",X8*R8)","v":""},{"$f":"IF(F8=\"\",\"\",IF(I8>0,I8*0.14*X8/2000,IF(H8>0,X8*R8*H8/2000,Y8*8760/2000)))","v":""},{"$f":"IF(F8=\"\",\"\",T8*X8/2000)","v":""},{"$f":"IF(F8=\"\",\"\",IF(B8=\"no\",'Emission Factors'!$F$43,'Emission Factors'!$F$44))","v":""},{"$f":"IF(F8=\"\",\"\",AB8*R8)","v":""},{"$f":"IF(F8=\"\",\"\",IF(I8>0,I8*0.14*AB8/2000,IF(H8>0,AB8*R8*H8/2000,AC8*8760/2000)))","v":""},{"$f":"IF(F8=\"\",\"\",T8*AB8/2000)","v":""},{"$f":"IF(F8=\"\",\"\",IF(B8=\"no\",'Emission Factors'!$H$43,'Emission Factors'!$H$44))","v":""},{"$f":"IF(F8=\"\",\"\",IF(C8=\"LP-1\",IF('Limestone Plant (LP-1)'!$F$12>0,'Limestone Plant (LP-1)'!$F$12,AF8*R8*K8),IF(C8=\"LP-2\",IF('Limestone Plant (LP-2)'!$F$12>0,'Limestone Plant (LP-2)'!$F$12,AF8*R8*K8),IF(C8=\"LP-3\",IF('Limestone Plant (LP-3)'!$F$12>0,'Limestone Plant (LP-3)'!$F$12,AF8*R8*K8),IF(C8=\"LP-4\",IF('Limestone Plant (LP-4)'!$F$12>0,'Limestone Plant (LP-4)'!$F$12,AF8*R8*K8),IF(C8=\"LP-5\",IF('Limestone Plant (LP-5)'!$F$12>0,'Limestone Plant (LP-5)'!$F$12,AF8*R8*K8),IF(C8=\"LP-6\",IF('Limestone Plant (LP-6)'!$F$12>0,'Limestone Plant (LP-6)'!$F$12,AF8*R8*K8),IF(C8=\"LP-7\",IF('Limestone Plant (LP-7)'!$F$12>0,'Limestone Plant (LP-7)'!$F$12,AF8*R8*K8),IF(C8=\"LP-8\",IF('Limestone Plant (LP-8)'!$F$12>0,'Limestone Plant (LP-8)'!$F$12,AF8*R8*K8),IF(C8=\"LP-9\",IF('Limestone Plant (LP-9)'!$F$12>0,'Limestone Plant (LP-9)'!$F$12,AF8*R8*K8),IF(C8=\"LP-10\",IF('Limestone Plant (LP-10)'!$F$12>0,'Limestone Plant (LP-10)'!$F$12,AF8*R8*K8))))))))))))","v":""},{"$f":"IF(F8=\"\",\"\",IF(AF8=1.01,IF(I8>0,I8*0.14*AF8*K8/2000,IF(H8>0,AF8*K8*R8*H8/2000,AG8*8760/2000)),IF(I8>0,I8*0.14*AF8/2000,IF(H8>0,AF8*R8*H8/2000,AG8*8760/2000))))","v":""},{"$f":"IF(F8=\"\",\"\",IF(AF8=1.01,IF($G$4=\"\",T8*AF8*K8/2000,T8*AF8*$G$4/2000),AF8*T8/2000))","v":""},{"$f":"IF(F8=\"\",\"\",IF(B8=\"no\",'Emission Factors'!$J$43,'Emission Factors'!$J$44))","v":""},{"$f":"IF(F8=\"\",\"\",IF(C8=\"LP-1\",IF('Limestone Plant (LP-1)'!$F$13>0,'Limestone Plant (LP-1)'!$F$13,AJ8*R8),IF(C8=\"LP-2\",IF('Limestone Plant (LP-2)'!$F$13>0,'Limestone Plant (LP-2)'!$F$13,AJ8*R8),IF(C8=\"LP-3\",IF('Limestone Plant (LP-3)'!$F$13>0,'Limestone Plant (LP-3)'!$F$13,AJ8*R8),IF(C8=\"LP-4\",IF('Limestone Plant (LP-4)'!$F$13>0,'Limestone Plant (LP-4)'!$F$13,AJ8*R8),IF(C8=\"LP-5\",IF('Limestone Plant (LP-5)'!$F$13>0,'Limestone Plant (LP-5)'!$F$13,AJ8*R8),IF(C8=\"LP-6\",IF('Limestone Plant (LP-6)'!$F$13>0,'Limestone Plant (LP-6)'!$F$13,AJ8*R8),IF(C8=\"LP-7\",IF('Limestone Plant (LP-7)'!$F$13>0,'Limestone Plant (LP-7)'!$F$13,AJ8*R8),IF(C8=\"LP-8\",IF('Limestone Plant (LP-8)'!$F$13>0,'Limestone Plant (LP-8)'!$F$13,AJ8*R8),IF(C8=\"LP-9\",IF('Limestone Plant (LP-9)'!$F$13>0,'Limestone Plant (LP-9)'!$F$13,AJ8*R8),IF(C8=\"LP-10\",IF('Limestone Plant (LP-10)'!$F$13>0,'Limestone Plant (LP-10)'!$F$13,AJ8*R8))))))))))))","v":""},{"$f":"IF(F8=\"\",\"\",IF(I8>0,I8*0.14*AJ8/2000,IF(H8>0,AJ8*R8*H8/2000,AK8*8760/2000)))","v":""},{"$f":"IF(F8=\"\",\"\",T8*AJ8/2000)","v":""},{"$f":"IF(F8=\"\",\"\",IF(B8=\"no\",'Emission Factors'!$L$43,'Emission Factors'!$L$44))","v":""},{"$f":"IF(F8=\"\",\"\",IF(C8=\"LP-1\",IF('Limestone Plant (LP-1)'!$F$14>0,'Limestone Plant (LP-1)'!$F$14,AN8*R8),IF(C8=\"LP-2\",IF('Limestone Plant (LP-2)'!$F$14>0,'Limestone Plant (LP-2)'!$F$14,AN8*R8),IF(C8=\"LP-3\",IF('Limestone Plant (LP-3)'!$F$14>0,'Limestone Plant (LP-3)'!$F$14,AN8*R8),IF(C8=\"LP-4\",IF('Limestone Plant (LP-4)'!$F$14>0,'Limestone Plant (LP-4)'!$F$14,AN8*R8),IF(C8=\"LP-5\",IF('Limestone Plant (LP-5)'!$F$14>0,'Limestone Plant (LP-5)'!$F$14,AN8*R8),IF(C8=\"LP-6\",IF('Limestone Plant (LP-6)'!$F$14>0,'Limestone Plant (LP-6)'!$F$14,AN8*R8),IF(C8=\"LP-7\",IF('Limestone Plant (LP-7)'!$F$14>0,'Limestone Plant (LP-7)'!$F$14,AN8*R8),IF(C8=\"LP-8\",IF('Limestone Plant (LP-8)'!$F$14>0,'Limestone Plant (LP-8)'!$F$14,AN8*R8),IF(C8=\"LP-9\",IF('Limestone Plant (LP-9)'!$F$14>0,'Limestone Plant (LP-9)'!$F$14,AN8*R8),IF(C8=\"LP-10\",IF('Limestone Plant (LP-10)'!$F$14>0,'Limestone Plant (LP-10)'!$F$14,AN8*R8))))))))))))","v":""},{"$f":"IF(F8=\"\",\"\",IF(I8>0,I8*0.14*AN8/2000,IF(H8>0,AN8*R8*H8/2000,AO8*8760/2000)))","v":""},{"$f":"IF(F8=\"\",\"\",T8*AN8/2000)","v":""},{"$f":"IF(F8=\"\",\"\",IF(B8=\"no\",'Emission Factors'!$N$43,'Emission Factors'!$N$44))","v":""},{"$f":"IF(F8=\"\",\"\",IF(C8=\"LP-1\",IF('Limestone Plant (LP-1)'!$F$15>0,'Limestone Plant (LP-1)'!$F$15,AR8*R8),IF(C8=\"LP-2\",IF('Limestone Plant (LP-2)'!$F$15>0,'Limestone Plant (LP-2)'!$F$15,AR8*R8),IF(C8=\"LP-3\",IF('Limestone Plant (LP-3)'!$F$15>0,'Limestone Plant (LP-3)'!$F$15,AR8*R8),IF(C8=\"LP-4\",IF('Limestone Plant (LP-4)'!$F$15>0,'Limestone Plant (LP-4)'!$F$15,AR8*R8),IF(C8=\"LP-5\",IF('Limestone Plant (LP-5)'!$F$15>0,'Limestone Plant (LP-5)'!$F$15,AR8*R8),IF(C8=\"LP-6\",IF('Limestone Plant (LP-6)'!$F$15>0,'Limestone Plant (LP-6)'!$F$15,AR8*R8),IF(C8=\"LP-7\",IF('Limestone Plant (LP-7)'!$F$15>0,'Limestone Plant (LP-7)'!$F$15,AR8*R8),IF(C8=\"LP-8\",IF('Limestone Plant (LP-8)'!$F$15>0,'Limestone Plant (LP-8)'!$F$15,AR8*R8),IF(C8=\"LP-9\",IF('Limestone Plant (LP-9)'!$F$15>0,'Limestone Plant (LP-9)'!$F$15,AR8*R8),IF(C8=\"LP-10\",IF('Limestone Plant (LP-10)'!$F$15>0,'Limestone Plant (LP-10)'!$F$15,AR8*R8))))))))))))","v":""},{"$f":"IF(F8=\"\",\"\",IF(I8>0,I8*0.14*AR8/2000,IF(H8>0,AR8*R8*H8/2000,AS8*8760/2000)))","v":""},{"$f":"IF(F8=\"\",\"\",T8*AR8/2000)","v":""},{"$f":"IF(F8=\"\",\"\",IF(B8=\"no\",'Emission Factors'!$P$43,'Emission Factors'!$P$44))","v":""},{"$f":"IF(F8=\"\",\"\",AV8*R8)","v":""},{"$f":"IF(F8=\"\",\"\",IF(I8>0,I8*0.14*AV8/2000,IF(H8>0,AV8*R8*H8/2000,AW8*8760/2000)))","v":""},{"$f":"IF(F8=\"\",\"\",T8*AV8/2000)","v":""},{"$f":"IF(F8=\"\",\"\",IF(B8=\"no\",'Emission Factors'!$R$43,'Emission Factors'!$R$44))","v":""},{"$f":"IF(F8=\"\",\"\",AZ8*R8)","v":""},{"$f":"IF(F8=\"\",\"\",IF(I8>0,I8*0.14*AZ8/2000,IF(H8>0,AZ8*R8*H8/2000,BA8*8760/2000)))","v":""},{"$f":"IF(F8=\"\",\"\",T8*AZ8/2000)","v":""}]
[null,"no",null,null,null,null,null,null,null,null,{"$f":"IF(B9=\"no\",1,IF(J9=\"\",0.5,J9))","v":1},null,null,null,null,null,null,"",null,"",null,0,"",{"$f":"IF(F9=\"\",\"\",IF(B9=\"no\",'Emission Factors'!$D$43,'Emission Factors'!$D$44))","v":""},{"$f":"IF(F9=\"\",\"\",X9*R9)","v":""},{"$f":"IF(F9=\"\",\"\",IF(I9>0,I9*0.14*X9/2000,IF(H9>0,X9*R9*H9/2000,Y9*8760/2000)))","v":""},{"$f":"IF(F9=\"\",\"\",T9*X9/2000)","v":""},{"$f":"IF(F9=\"\",\"\",IF(B9=\"no\",'Emission Factors'!$F$43,'Emission Factors'!$F$44))","v":""},{"$f":"IF(F9=\"\",\"\",AB9*R9)","v":""},{"$f":"IF(F9=\"\",\"\",IF(I9>0,I9*0.14*AB9/2000,IF(H9>0,AB9*R9*H9/2000,AC9*8760/2000)))","v":""},{"$f":"IF(F9=\"\",\"\",T9*AB9/2000)","v":""},{"$f":"IF(F9=\"\",\"\",IF(B9=\"no\",'Emission Factors'!$H$43,'Emission Factors'!$H$44))","v":""},{"$f":"IF(F9=\"\",\"\",IF(C9=\"LP-1\",IF('Limestone Plant (LP-1)'!$F$12>0,'Limestone Plant (LP-1)'!$F$12,AF9*R9*K9),IF(C9=\"LP-2\",IF('Limestone Plant (LP-2)'!$F$12>0,'Limestone Plant (LP-2)'!$F$12,AF9*R9*K9),IF(C9=\"LP-3\",IF('Limestone Plant (LP-3)'!$F$12>0,'Limestone Plant (LP-3)'!$F$12,AF9*R9*K9),IF(C9=\"LP-4\",IF('Limestone Plant (LP-4)'!$F$12>0,'Limestone Plant (LP-4)'!$F$12,AF9*R9*K9),IF(C9=\"LP-5\",IF('Limestone Plant (LP-5)'!$F$12>0,'Limestone Plant (LP-5)'!$F$12,AF9*R9*K9),IF(C9=\"LP-6\",IF('Limestone Plant (LP-6)'!$F$12>0,'Limestone Plant (LP-6)'!$F$12,AF9*R9*K9),IF(C9=\"LP-7\",IF('Limestone Plant (LP-7)'!$F$12>0,'Limestone Plant (LP-7)'!$F$12,AF9*R9*K9),IF(C9=\"LP-8\",IF('Limestone Plant (LP-8)'!$F$12>0,'Limestone Plant (LP-8)'!$F$12,AF9*R9*K9),IF(C9=\"LP-9\",IF('Limestone Plant (LP-9)'!$F$12>0,'Limestone Plant (LP-9)'!$F$12,AF9*R9*K9),IF(C9=\"LP-10\",IF('Limestone Plant (LP-10)'!$F$12>0,'Limestone Plant (LP-10)'!$F$12,AF9*R9*K9))))))))))))","v":""},{"$f":"IF(F9=\"\",\"\",IF(AF9=1.01,IF(I9>0,I9*0.14*AF9*K9/2000,IF(H9>0,AF9*K9*R9*H9/2000,AG9*8760/2000)),IF(I9>0,I9*0.14*AF9/2000,IF(H9>0,AF9*R9*H9/2000,AG9*8760/2000))))","v":""},{"$f":"IF(F9=\"\",\"\",IF(AF9=1.01,IF($G$4=\"\",T9*AF9*K9/2000,T9*AF9*$G$4/2000),AF9*T9/2000))","v":""},{"$f":"IF(F9=\"\",\"\",IF(B9=\"no\",'Emission Factors'!$J$43,'Emission Factors'!$J$44))","v":""},{"$f":"IF(F9=\"\",\"\",IF(C9=\"LP-1\",IF('Limestone Plant (LP-1)'!$F$13>0,'Limestone Plant (LP-1)'!$F$13,AJ9*R9),IF(C9=\"LP-2\",IF('Limestone Plant (LP-2)'!$F$13>0,'Limestone Plant (LP-2)'!$F$13,AJ9*R9),IF(C9=\"LP-3\",IF('Limestone Plant (LP-3)'!$F$13>0,'Limestone Plant (LP-3)'!$F$13,AJ9*R9),IF(C9=\"LP-4\",IF('Limestone Plant (LP-4)'!$F$13>0,'Limestone Plant (LP-4)'!$F$13,AJ9*R9),IF(C9=\"LP-5\",IF('Limestone Plant (LP-5)'!$F$13>0,'Limestone Plant (LP-5)'!$F$13,AJ9*R9),IF(C9=\"LP-6\",IF('Limestone Plant (LP-6)'!$F$13>0,'Limestone Plant (LP-6)'!$F$13,AJ9*R9),IF(C9=\"LP-7\",IF('Limestone Plant (LP-7)'!$F$13>0,'Limestone Plant (LP-7)'!$F$13,AJ9*R9),IF(C9=\"LP-8\",IF('Limestone Plant (LP-8)'!$F$13>0,'Limestone Plant (LP-8)'!$F$13,AJ9*R9),IF(C9=\"LP-9\",IF('Limestone Plant (LP-9)'!$F$13>0,'Limestone Plant (LP-9)'!$F$13,AJ9*R9),IF(C9=\"LP-10\",IF('Limestone Plant (LP-10)'!$F$13>0,'Limestone Plant (LP-10)'!$F$13,AJ9*R9))))))))))))","v":""},{"$f":"IF(F9=\"\",\"\",IF(I9>0,I9*0.14*AJ9/2000,IF(H9>0,AJ9*R9*H9/2000,AK9*8760/2000)))","v":""},{"$f":"IF(F9=\"\",\"\",T9*AJ9/2000)","v":""},{"$f":"IF(F9=\"\",\"\",IF(B9=\"no\",'Emission Factors'!$L$43,'Emission Factors'!$L$44))","v":""},{"$f":"IF(F9=\"\",\"\",IF(C9=\"LP-1\",IF('Limestone Plant (LP-1)'!$F$14>0,'Limestone Plant (LP-1)'!$F$14,AN9*R9),IF(C9=\"LP-2\",IF('Limestone Plant (LP-2)'!$F$14>0,'Limestone Plant (LP-2)'!$F$14,AN9*R9),IF(C9=\"LP-3\",IF('Limestone Plant (LP-3)'!$F$14>0,'Limestone Plant (LP-3)'!$F$14,AN9*R9),IF(C9=\"LP-4\",IF('Limestone Plant (LP-4)'!$F$14>0,'Limestone Plant (LP-4)'!$F$14,AN9*R9),IF(C9=\"LP-5\",IF('Limestone Plant (LP-5)'!$F$14>0,'Limestone Plant (LP-5)'!$F$14,AN9*R9),IF(C9=\"LP-6\",IF('Limestone Plant (LP-6)'!$F$14>0,'Limestone Plant (LP-6)'!$F$14,AN9*R9),IF(C9=\"LP-7\",IF('Limestone Plant (LP-7)'!$F$14>0,'Limestone Plant (LP-7)'!$F$14,AN9*R9),IF(C9=\"LP-8\",IF('Limestone Plant (LP-8)'!$F$14>0,'Limestone Plant (LP-8)'!$F$14,AN9*R9),IF(C9=\"LP-9\",IF('Limestone Plant (LP-9)'!$F$14>0,'Limestone Plant (LP-9)'!$F$14,AN9*R9),IF(C9=\"LP-10\",IF('Limestone Plant (LP-10)'!$F$14>0,'Limestone Plant (LP-10)'!$F$14,AN9*R9))))))))))))","v":""},{"$f":"IF(F9=\"\",\"\",IF(I9>0,I9*0.14*AN9/2000,IF(H9>0,AN9*R9*H9/2000,AO9*8760/2000)))","v":""},{"$f":"IF(F9=\"\",\"\",T9*AN9/2000)","v":""},{"$f":"IF(F9=\"\",\"\",IF(B9=\"no\",'Emission Factors'!$N$43,'Emission Factors'!$N$44))","v":""},{"$f":"IF(F9=\"\",\"\",IF(C9=\"LP-1\",IF('Limestone Plant (LP-1)'!$F$15>0,'Limestone Plant (LP-1)'!$F$15,AR9*R9),IF(C9=\"LP-2\",IF('Limestone Plant (LP-2)'!$F$15>0,'Limestone Plant (LP-2)'!$F$15,AR9*R9),IF(C9=\"LP-3\",IF('Limestone Plant (LP-3)'!$F$15>0,'Limestone Plant (LP-3)'!$F$15,AR9*R9),IF(C9=\"LP-4\",IF('Limestone Plant (LP-4)'!$F$15>0,'Limestone Plant (LP-4)'!$F$15,AR9*R9),IF(C9=\"LP-5\",IF('Limestone Plant (LP-5)'!$F$15>0,'Limestone Plant (LP-5)'!$F$15,AR9*R9),IF(C9=\"LP-6\",IF('Limestone Plant (LP-6)'!$F$15>0,'Limestone Plant (LP-6)'!$F$15,AR9*R9),IF(C9=\"LP-7\",IF('Limestone Plant (LP-7)'!$F$15>0,'Limestone Plant (LP-7)'!$F$15,AR9*R9),IF(C9=\"LP-8\",IF('Limestone Plant (LP-8)'!$F$15>0,'Limestone Plant (LP-8)'!$F$15,AR9*R9),IF(C9=\"LP-9\",IF('Limestone Plant (LP-9)'!$F$15>0,'Limestone Plant (LP-9)'!$F$15,AR9*R9),IF(C9=\"LP-10\",IF('Limestone Plant (LP-10)'!$F$15>0,'Limestone Plant (LP-10)'!$F$15,AR9*R9))))))))))))","v":""},{"$f":"IF(F9=\"\",\"\",IF(I9>0,I9*0.14*AR9/2000,IF(H9>0,AR9*R9*H9/2000,AS9*8760/2000)))","v":""},{"$f":"IF(F9=\"\",\"\",T9*AR9/2000)","v":""},{"$f":"IF(F9=\"\",\"\",IF(B9=\"no\",'Emission Factors'!$P$43,'Emission Factors'!$P$44))","v":""},{"$f":"IF(F9=\"\",\"\",AV9*R9)","v":""},{"$f":"IF(F9=\"\",\"\",IF(I9>0,I9*0.14*AV9/2000,IF(H9>0,AV9*R9*H9/2000,AW9*8760/2000)))","v":""},{"$f":"IF(F9=\"\",\"\",T9*AV9/2000)","v":""},{"$f":"IF(F9=\"\",\"\",IF(B9=\"no\",'Emission Factors'!$R$43,'Emission Factors'!$R$44))","v":""},{"$f":"IF(F9=\"\",\"\",AZ9*R9)","v":""},{"$f":"IF(F9=\"\",\"\",IF(I9>0,I9*0.14*AZ9/2000,IF(H9>0,AZ9*R9*H9/2000,BA9*8760/2000)))","v":""},{"$f":"IF(F9=\"\",\"\",T9*AZ9/2000)","v":""}]
[{"$f":"IF('Facility Information'!$C$21>0,\"LP-1\",\"\")","v":""},"no",null,null,null,null,null,null,null,null,1,null,null,null,null,null,null,"",null,"",null,0,"",{"$f":"IF(F10=\"\",\"\",IF(B10=\"no\",'Emission Factors'!$D$43,'Emission Factors'!$D$44))","v":""},"","","",{"$f":"IF(F10=\"\",\"\",IF(B10=\"no\",'Emission Factors'!$F$43,'Emission Factors'!$F$44))","v":""},"","","",{"$f":"IF(F10=\"\",\"\",IF(B10=\"no\",'Emission Factors'!$H$43,'Emission Factors'!$H$44))","v":""},{"$f":"IF(F10=\"\",\"\",IF(C10=\"LP-1\",IF('Limestone Plant (LP-1)'!$F$12>0,'Limestone Plant (LP-1)'!$F$12,AF10*R10*K10),IF(C10=\"LP-2\",IF('Limestone Plant (LP-2)'!$F$12>0,'Limestone Plant (LP-2)'!$F$12,AF10*R10*K10),IF(C10=\"LP-3\",IF('Limestone Plant (LP-3)'!$F$12>0,'Limestone Plant (LP-3)'!$F$12,AF10*R10*K10),IF(C10=\"LP-4\",IF('Limestone Plant (LP-4)'!$F$12>0,'Limestone Plant (LP-4)'!$F$12,AF10*R10*K10),IF(C10=\"LP-5\",IF('Limestone Plant (LP-5)'!$F$12>0,'Limestone Plant (LP-5)'!$F$12,AF10*R10*K10),IF(C10=\"LP-6\",IF('Limestone Plant (LP-6)'!$F$12>0,'Limestone Plant (LP-6)'!$F$12,AF10*R10*K10),IF(C10=\"LP-7\",IF('Limestone Plant (LP-7)'!$F$12>0,'Limestone Plant (LP-7)'!$F$12,AF10*R10*K10),IF(C10=\"LP-8\",IF('Limestone Plant (LP-8)'!$F$12>0,'Limestone Plant (LP-8)'!$F$12,AF10*R10*K10),IF(C10=\"LP-9\",IF('Limestone Plant (LP-9)'!$F$12>0,'Limestone Plant (LP-9)'!$F$12,AF10*R10*K10),IF(C10=\"LP-10\",IF('Limestone Plant (LP-10)'!$F$12>0,'Limestone Plant (LP-10)'!$F$12,AF10*R10*K10))))))))))))","v":""},"","",{"$f":"IF(F10=\"\",\"\",IF(B10=\"no\",'Emission Factors'!$J$43,'Emission Factors'!$J$44))","v":""},{"$f":"IF(F10=\"\",\"\",IF(C10=\"LP-1\",IF('Limestone Plant (LP-1)'!$F$13>0,'Limestone Plant (LP-1)'!$F$13,AJ10*R10),IF(C10=\"LP-2\",IF('Limestone Plant (LP-2)'!$F$13>0,'Limestone Plant (LP-2)'!$F$13,AJ10*R10),IF(C10=\"LP-3\",IF('Limestone Plant (LP-3)'!$F$13>0,'Limestone Plant (LP-3)'!$F$13,AJ10*R10),IF(C10=\"LP-4\",IF('Limestone Plant (LP-4)'!$F$13>0,'Limestone Plant (LP-4)'!$F$13,AJ10*R10),IF(C10=\"LP-5\",IF('Limestone Plant (LP-5)'!$F$13>0,'Limestone Plant (LP-5)'!$F$13,AJ10*R10),IF(C10=\"LP-6\",IF('Limestone Plant (LP-6)'!$F$13>0,'Limestone Plant (LP-6)'!$F$13,AJ10*R10),IF(C10=\"LP-7\",IF('Limestone Plant (LP-7)'!$F$13>0,'Limestone Plant (LP-7)'!$F$13,AJ10*R10),IF(C10=\"LP-8\",IF('Limestone Plant (LP-8)'!$F$13>0,'Limestone Plant (LP-8)'!$F$13,AJ10*R10),IF(C10=\"LP-9\",IF('Limestone Plant (LP-9)'!$F$13>0,'Limestone Plant (LP-9)'!$F$13,AJ10*R10),IF(C10=\"LP-10\",IF('Limestone Plant (LP-10)'!$F$13>0,'Limestone Plant (LP-10)'!$F$13,AJ10*R10))))))))))))","v":""},"","",{"$f":"IF(F10=\"\",\"\",IF(B10=\"no\",'Emission Factors'!$L$43,'Emission Factors'!$L$44))","v":""},{"$f":"IF(F10=\"\",\"\",IF(C10=\"LP-1\",IF('Limestone Plant (LP-1)'!$F$14>0,'Limestone Plant (LP-1)'!$F$14,AN10*R10),IF(C10=\"LP-2\",IF('Limestone Plant (LP-2)'!$F$14>0,'Limestone Plant (LP-2)'!$F$14,AN10*R10),IF(C10=\"LP-3\",IF('Limestone Plant (LP-3)'!$F$14>0,'Limestone Plant (LP-3)'!$F$14,AN10*R10),IF(C10=\"LP-4\",IF('Limestone Plant (LP-4)'!$F$14>0,'Limestone Plant (LP-4)'!$F$14,AN10*R10),IF(C10=\"LP-5\",IF('Limestone Plant (LP-5)'!$F$14>0,'Limestone Plant (LP-5)'!$F$14,AN10*R10),IF(C10=\"LP-6\",IF('Limestone Plant (LP-6)'!$F$14>0,'Limestone Plant (LP-6)'!$F$14,AN10*R10),IF(C10=\"LP-7\",IF('Limestone Plant (LP-7)'!$F$14>0,'Limestone Plant (LP-7)'!$F$14,AN10*R10),IF(C10=\"LP-8\",IF('Limestone Plant (LP-8)'!$F$14>0,'Limestone Plant (LP-8)'!$F$14,AN10*R10),IF(C10=\"LP-9\",IF('Limestone Plant (LP-9)'!$F$14>0,'Limestone Plant (LP-9)'!$F$14,AN10*R10),IF(C10=\"LP-10\",IF('Limestone Plant (LP-10)'!$F$14>0,'Limestone Plant (LP-10)'!$F$14,AN10*R10))))))))))))","v":""},"","",{"$f":"IF(F10=\"\",\"\",IF(B10=\"no\",'Emission Factors'!$N$43,'Emission Factors'!$N$44))","v":""},{"$f":"IF(F10=\"\",\"\",IF(C10=\"LP-1\",IF('Limestone Plant (LP-1)'!$F$15>0,'Limestone Plant (LP-1)'!$F$15,AR10*R10),IF(C10=\"LP-2\",IF('Limestone Plant (LP-2)'!$F$15>0,'Limestone Plant (LP-2)'!$F$15,AR10*R10),IF(C10=\"LP-3\",IF('Limestone Plant (LP-3)'!$F$15>0,'Limestone Plant (LP-3)'!$F$15,AR10*R10),IF(C10=\"LP-4\",IF('Limestone Plant (LP-4)'!$F$15>0,'Limestone Plant (LP-4)'!$F$15,AR10*R10),IF(C10=\"LP-5\",IF('Limestone Plant (LP-5)'!$F$15>0,'Limestone Plant (LP-5)'!$F$15,AR10*R10),IF(C10=\"LP-6\",IF('Limestone Plant (LP-6)'!$F$15>0,'Limestone Plant (LP-6)'!$F$15,AR10*R10),IF(C10=\"LP-7\",IF('Limestone Plant (LP-7)'!$F$15>0,'Limestone Plant (LP-7)'!$F$15,AR10*R10),IF(C10=\"LP-8\",IF('Limestone Plant (LP-8)'!$F$15>0,'Limestone Plant (LP-8)'!$F$15,AR10*R10),IF(C10=\"LP-9\",IF('Limestone Plant (LP-9)'!$F$15>0,'Limestone Plant (LP-9)'!$F$15,AR10*R10),IF(C10=\"LP-10\",IF('Limestone Plant (LP-10)'!$F$15>0,'Limestone Plant (LP-10)'!$F$15,AR10*R10))))))))))))","v":""},"","",{"$f":"IF(F10=\"\",\"\",IF(B10=\"no\",'Emission Factors'!$P$43,'Emission Factors'!$P$44))","v":""},"","","",{"$f":"IF(F10=\"\",\"\",IF(B10=\"no\",'Emission Factors'!$R$43,'Emission Factors'!$R$44))","v":""},"","",""]
[{"$f":"IF('Facility Information'!$C$21>1,\"LP-2\",\"\")","v":""},"no",null,null,null,null,null,null,null,null,1,null,null,null,null,null,null,"",null,"",null,0,"",{"$f":"IF(F11=\"\",\"\",IF(B11=\"no\",'Emission Factors'!$D$43,'Emission Factors'!$D$44))","v":""},"","","",{"$f":"IF(F11=\"\",\"\",IF(B11=\"no\",'Emission Factors'!$F$43,'Emission Factors'!$F$44))","v":""},"","","",{"$f":"IF(F11=\"\",\"\",IF(B11=\"no\",'Emission Factors'!$H$43,'Emission Factors'!$H$44))","v":""},{"$f":"IF(F11=\"\",\"\",IF(C11=\"LP-1\",IF('Limestone Plant (LP-1)'!$F$12>0,'Limestone Plant (LP-1)'!$F$12,AF11*R11*K11),IF(C11=\"LP-2\",IF('Limestone Plant (LP-2)'!$F$12>0,'Limestone Plant (LP-2)'!$F$12,AF11*R11*K11),IF(C11=\"LP-3\",IF('Limestone Plant (LP-3)'!$F$12>0,'Limestone Plant (LP-3)'!$F$12,AF11*R11*K11),IF(C11=\"LP-4\",IF('Limestone Plant (LP-4)'!$F$12>0,'Limestone Plant (LP-4)'!$F$12,AF11*R11*K11),IF(C11=\"LP-5\",IF('Limestone Plant (LP-5)'!$F$12>0,'Limestone Plant (LP-5)'!$F$12,AF11*R11*K11),IF(C11=\"LP-6\",IF('Limestone Plant (LP-6)'!$F$12>0,'Limestone Plant (LP-6)'!$F$12,AF11*R11*K11),IF(C11=\"LP-7\",IF('Limestone Plant (LP-7)'!$F$12>0,'Limestone Plant (LP-7)'!$F$12,AF11*R11*K11),IF(C11=\"LP-8\",IF('Limestone Plant (LP-8)'!$F$12>0,'Limestone Plant (LP-8)'!$F$12,AF11*R11*K11),IF(C11=\"LP-9\",IF('Limestone Plant (LP-9)'!$F$12>0,'Limestone Plant (LP-9)'!$F$12,AF11*R11*K11),IF(C11=\"LP-10\",IF('Limestone Plant (LP-10)'!$F$12>0,'Limestone Plant (LP-10)'!$F$12,AF11*R11*K11))))))))))))","v":""},"","",{"$f":"IF(F11=\"\",\"\",IF(B11=\"no\",'Emission Factors'!$J$43,'Emission Factors'!$J$44))","v":""},{"$f":"IF(F11=\"\",\"\",IF(C11=\"LP-1\",IF('Limestone Plant (LP-1)'!$F$13>0,'Limestone Plant (LP-1)'!$F$13,AJ11*R11),IF(C11=\"LP-2\",IF('Limestone Plant (LP-2)'!$F$13>0,'Limestone Plant (LP-2)'!$F$13,AJ11*R11),IF(C11=\"LP-3\",IF('Limestone Plant (LP-3)'!$F$13>0,'Limestone Plant (LP-3)'!$F$13,AJ11*R11),IF(C11=\"LP-4\",IF('Limestone Plant (LP-4)'!$F$13>0,'Limestone Plant (LP-4)'!$F$13,AJ11*R11),IF(C11=\"LP-5\",IF('Limestone Plant (LP-5)'!$F$13>0,'Limestone Plant (LP-5)'!$F$13,AJ11*R11),IF(C11=\"LP-6\",IF('Limestone Plant (LP-6)'!$F$13>0,'Limestone Plant (LP-6)'!$F$13,AJ11*R11),IF(C11=\"LP-7\",IF('Limestone Plant (LP-7)'!$F$13>0,'Limestone Plant (LP-7)'!$F$13,AJ11*R11),IF(C11=\"LP-8\",IF('Limestone Plant (LP-8)'!$F$13>0,'Limestone Plant (LP-8)'!$F$13,AJ11*R11),IF(C11=\"LP-9\",IF('Limestone Plant (LP-9)'!$F$13>0,'Limestone Plant (LP-9)'!$F$13,AJ11*R11),IF(C11=\"LP-10\",IF('Limestone Plant (LP-10)'!$F$13>0,'Limestone Plant (LP-10)'!$F$13,AJ11*R11))))))))))))","v":""},"","",{"$f":"IF(F11=\"\",\"\",IF(B11=\"no\",'Emission Factors'!$L$43,'Emission Factors'!$L$44))","v":""},{"$f":"IF(F11=\"\",\"\",IF(C11=\"LP-1\",IF('Limestone Plant (LP-1)'!$F$14>0,'Limestone Plant (LP-1)'!$F$14,AN11*R11),IF(C11=\"LP-2\",IF('Limestone Plant (LP-2)'!$F$14>0,'Limestone Plant (LP-2)'!$F$14,AN11*R11),IF(C11=\"LP-3\",IF('Limestone Plant (LP-3)'!$F$14>0,'Limestone Plant (LP-3)'!$F$14,AN11*R11),IF(C11=\"LP-4\",IF('Limestone Plant (LP-4)'!$F$14>0,'Limestone Plant (LP-4)'!$F$14,AN11*R11),IF(C11=\"LP-5\",IF('Limestone Plant (LP-5)'!$F$14>0,'Limestone Plant (LP-5)'!$F$14,AN11*R11),IF(C11=\"LP-6\",IF('Limestone Plant (LP-6)'!$F$14>0,'Limestone Plant (LP-6)'!$F$14,AN11*R11),IF(C11=\"LP-7\",IF('Limestone Plant (LP-7)'!$F$14>0,'Limestone Plant (LP-7)'!$F$14,AN11*R11),IF(C11=\"LP-8\",IF('Limestone Plant (LP-8)'!$F$14>0,'Limestone Plant (LP-8)'!$F$14,AN11*R11),IF(C11=\"LP-9\",IF('Limestone Plant (LP-9)'!$F$14>0,'Limestone Plant (LP-9)'!$F$14,AN11*R11),IF(C11=\"LP-10\",IF('Limestone Plant (LP-10)'!$F$14>0,'Limestone Plant (LP-10)'!$F$14,AN11*R11))))))))))))","v":""},"","",{"$f":"IF(F11=\"\",\"\",IF(B11=\"no\",'Emission Factors'!$N$43,'Emission Factors'!$N$44))","v":""},{"$f":"IF(F11=\"\",\"\",IF(C11=\"LP-1\",IF('Limestone Plant (LP-1)'!$F$15>0,'Limestone Plant (LP-1)'!$F$15,AR11*R11),IF(C11=\"LP-2\",IF('Limestone Plant (LP-2)'!$F$15>0,'Limestone Plant (LP-2)'!$F$15,AR11*R11),IF(C11=\"LP-3\",IF('Limestone Plant (LP-3)'!$F$15>0,'Limestone Plant (LP-3)'!$F$15,AR11*R11),IF(C11=\"LP-4\",IF('Limestone Plant (LP-4)'!$F$15>0,'Limestone Plant (LP-4)'!$F$15,AR11*R11),IF(C11=\"LP-5\",IF('Limestone Plant (LP-5)'!$F$15>0,'Limestone Plant (LP-5)'!$F$15,AR11*R11),IF(C11=\"LP-6\",IF('Limestone Plant (LP-6)'!$F$15>0,'Limestone Plant (LP-6)'!$F$15,AR11*R11),IF(C11=\"LP-7\",IF('Limestone Plant (LP-7)'!$F$15>0,'Limestone Plant (LP-7)'!$F$15,AR11*R11),IF(C11=\"LP-8\",IF('Limestone Plant (LP-8)'!$F$15>0,'Limestone Plant (LP-8)'!$F$15,AR11*R11),IF(C11=\"LP-9\",IF('Limestone Plant (LP-9)'!$F$15>0,'Limestone Plant (LP-9)'!$F$15,AR11*R11),IF(C11=\"LP-10\",IF('Limestone Plant (LP-10)'!$F$15>0,'Limestone Plant (LP-10)'!$F$15,AR11*R11))))))))))))","v":""},"","",{"$f":"IF(F11=\"\",\"\",IF(B11=\"no\",'Emission Factors'!$P$43,'Emission Factors'!$P$44))","v":""},"","","",{"$f":"IF(F11=\"\",\"\",IF(B11=\"no\",'Emission Factors'!$R$43,'Emission Factors'!$R$44))","v":""},"","",""]
[{"$f":"IF('Facility Information'!$C$21>2,\"LP-3\",\"\")","v":""},"no",null,null,null,null,null,null,null,null,1,null,null,null,null,null,null,"",null,"",null,0,"",{"$f":"IF(F12=\"\",\"\",IF(B12=\"no\",'Emission Factors'!$D$43,'Emission Factors'!$D$44))","v":""},"","","",{"$f":"IF(F12=\"\",\"\",IF(B12=\"no\",'Emission Factors'!$F$43,'Emission Factors'!$F$44))","v":""},"","","",{"$f":"IF(F12=\"\",\"\",IF(B12=\"no\",'Emission Factors'!$H$43,'Emission Factors'!$H$44))","v":""},{"$f":"IF(F12=\"\",\"\",IF(C12=\"LP-1\",IF('Limestone Plant (LP-1)'!$F$12>0,'Limestone Plant (LP-1)'!$F$12,AF12*R12*K12),IF(C12=\"LP-2\",IF('Limestone Plant (LP-2)'!$F$12>0,'Limestone Plant (LP-2)'!$F$12,AF12*R12*K12),IF(C12=\"LP-3\",IF('Limestone Plant (LP-3)'!$F$12>0,'Limestone Plant (LP-3)'!$F$12,AF12*R12*K12),IF(C12=\"LP-4\",IF('Limestone Plant (LP-4)'!$F$12>0,'Limestone Plant (LP-4)'!$F$12,AF12*R12*K12),IF(C12=\"LP-5\",IF('Limestone Plant (LP-5)'!$F$12>0,'Limestone Plant (LP-5)'!$F$12,AF12*R12*K12),IF(C12=\"LP-6\",IF('Limestone Plant (LP-6)'!$F$12>0,'Limestone Plant (LP-6)'!$F$12,AF12*R12*K12),IF(C12=\"LP-7\",IF('Limestone Plant (LP-7)'!$F$12>0,'Limestone Plant (LP-7)'!$F$12,AF12*R12*K12),IF(C12=\"LP-8\",IF('Limestone Plant (LP-8)'!$F$12>0,'Limestone Plant (LP-8)'!$F$12,AF12*R12*K12),IF(C12=\"LP-9\",IF('Limestone Plant (LP-9)'!$F$12>0,'Limestone Plant (LP-9)'!$F$12,AF12*R12*K12),IF(C12=\"LP-10\",IF('Limestone Plant (LP-10)'!$F$12>0,'Limestone Plant (LP-10)'!$F$12,AF12*R12*K12))))))))))))","v":""},"","",{"$f":"IF(F12=\"\",\"\",IF(B12=\"no\",'Emission Factors'!$J$43,'Emission Factors'!$J$44))","v":""},{"$f":"IF(F12=\"\",\"\",IF(C12=\"LP-1\",IF('Limestone Plant (LP-1)'!$F$13>0,'Limestone Plant (LP-1)'!$F$13,AJ12*R12),IF(C12=\"LP-2\",IF('Limestone Plant (LP-2)'!$F$13>0,'Limestone Plant (LP-2)'!$F$13,AJ12*R12),IF(C12=\"LP-3\",IF('Limestone Plant (LP-3)'!$F$13>0,'Limestone Plant (LP-3)'!$F$13,AJ12*R12),IF(C12=\"LP-4\",IF('Limestone Plant (LP-4)'!$F$13>0,'Limestone Plant (LP-4)'!$F$13,AJ12*R12),IF(C12=\"LP-5\",IF('Limestone Plant (LP-5)'!$F$13>0,'Limestone Plant (LP-5)'!$F$13,AJ12*R12),IF(C12=\"LP-6\",IF('Limestone Plant (LP-6)'!$F$13>0,'Limestone Plant (LP-6)'!$F$13,AJ12*R12),IF(C12=\"LP-7\",IF('Limestone Plant (LP-7)'!$F$13>0,'Limestone Plant (LP-7)'!$F$13,AJ12*R12),IF(C12=\"LP-8\",IF('Limestone Plant (LP-8)'!$F$13>0,'Limestone Plant (LP-8)'!$F$13,AJ12*R12),IF(C12=\"LP-9\",IF('Limestone Plant (LP-9)'!$F$13>0,'Limestone Plant (LP-9)'!$F$13,AJ12*R12),IF(C12=\"LP-10\",IF('Limestone Plant (LP-10)'!$F$13>0,'Limestone Plant (LP-10)'!$F$13,AJ12*R12))))))))))))","v":""},"","",{"$f":"IF(F12=\"\",\"\",IF(B12=\"no\",'Emission Factors'!$L$43,'Emission Factors'!$L$44))","v":""},{"$f":"IF(F12=\"\",\"\",IF(C12=\"LP-1\",IF('Limestone Plant (LP-1)'!$F$14>0,'Limestone Plant (LP-1)'!$F$14,AN12*R12),IF(C12=\"LP-2\",IF('Limestone Plant (LP-2)'!$F$14>0,'Limestone Plant (LP-2)'!$F$14,AN12*R12),IF(C12=\"LP-3\",IF('Limestone Plant (LP-3)'!$F$14>0,'Limestone Plant (LP-3)'!$F$14,AN12*R12),IF(C12=\"LP-4\",IF('Limestone Plant (LP-4)'!$F$14>0,'Limestone Plant (LP-4)'!$F$14,AN12*R12),IF(C12=\"LP-5\",IF('Limestone Plant (LP-5)'!$F$14>0,'Limestone Plant (LP-5)'!$F$14,AN12*R12),IF(C12=\"LP-6\",IF('Limestone Plant (LP-6)'!$F$14>0,'Limestone Plant (LP-6)'!$F$14,AN12*R12),IF(C12=\"LP-7\",IF('Limestone Plant (LP-7)'!$F$14>0,'Limestone Plant (LP-7)'!$F$14,AN12*R12),IF(C12=\"LP-8\",IF('Limestone Plant (LP-8)'!$F$14>0,'Limestone Plant (LP-8)'!$F$14,AN12*R12),IF(C12=\"LP-9\",IF('Limestone Plant (LP-9)'!$F$14>0,'Limestone Plant (LP-9)'!$F$14,AN12*R12),IF(C12=\"LP-10\",IF('Limestone Plant (LP-10)'!$F$14>0,'Limestone Plant (LP-10)'!$F$14,AN12*R12))))))))))))","v":""},"","",{"$f":"IF(F12=\"\",\"\",IF(B12=\"no\",'Emission Factors'!$N$43,'Emission Factors'!$N$44))","v":""},{"$f":"IF(F12=\"\",\"\",IF(C12=\"LP-1\",IF('Limestone Plant (LP-1)'!$F$15>0,'Limestone Plant (LP-1)'!$F$15,AR12*R12),IF(C12=\"LP-2\",IF('Limestone Plant (LP-2)'!$F$15>0,'Limestone Plant (LP-2)'!$F$15,AR12*R12),IF(C12=\"LP-3\",IF('Limestone Plant (LP-3)'!$F$15>0,'Limestone Plant (LP-3)'!$F$15,AR12*R12),IF(C12=\"LP-4\",IF('Limestone Plant (LP-4)'!$F$15>0,'Limestone Plant (LP-4)'!$F$15,AR12*R12),IF(C12=\"LP-5\",IF('Limestone Plant (LP-5)'!$F$15>0,'Limestone Plant (LP-5)'!$F$15,AR12*R12),IF(C12=\"LP-6\",IF('Limestone Plant (LP-6)'!$F$15>0,'Limestone Plant (LP-6)'!$F$15,AR12*R12),IF(C12=\"LP-7\",IF('Limestone Plant (LP-7)'!$F$15>0,'Limestone Plant (LP-7)'!$F$15,AR12*R12),IF(C12=\"LP-8\",IF('Limestone Plant (LP-8)'!$F$15>0,'Limestone Plant (LP-8)'!$F$15,AR12*R12),IF(C12=\"LP-9\",IF('Limestone Plant (LP-9)'!$F$15>0,'Limestone Plant (LP-9)'!$F$15,AR12*R12),IF(C12=\"LP-10\",IF('Limestone Plant (LP-10)'!$F$15>0,'Limestone Plant (LP-10)'!$F$15,AR12*R12))))))))))))","v":""},"","",{"$f":"IF(F12=\"\",\"\",IF(B12=\"no\",'Emission Factors'!$P$43,'Emission Factors'!$P$44))","v":""},"","","",{"$f":"IF(F12=\"\",\"\",IF(B12=\"no\",'Emission Factors'!$R$43,'Emission Factors'!$R$44))","v":""},"","",""]
[{"$f":"IF('Facility Information'!$C$21>3,\"LP-4\",\"\")","v":""},"no",null,null,null,null,null,null,null,null,1,null,null,null,null,null,null,"",null,"",null,0,"",{"$f":"IF(F13=\"\",\"\",IF(B13=\"no\",'Emission Factors'!$D$43,'Emission Factors'!$D$44))","v":""},"","","",{"$f":"IF(F13=\"\",\"\",IF(B13=\"no\",'Emission Factors'!$F$43,'Emission Factors'!$F$44))","v":""},"","","",{"$f":"IF(F13=\"\",\"\",IF(B13=\"no\",'Emission Factors'!$H$43,'Emission Factors'!$H$44))","v":""},{"$f":"IF(F13=\"\",\"\",IF(C13=\"LP-1\",IF('Limestone Plant (LP-1)'!$F$12>0,'Limestone Plant (LP-1)'!$F$12,AF13*R13*K13),IF(C13=\"LP-2\",IF('Limestone Plant (LP-2)'!$F$12>0,'Limestone Plant (LP-2)'!$F$12,AF13*R13*K13),IF(C13=\"LP-3\",IF('Limestone Plant (LP-3)'!$F$12>0,'Limestone Plant (LP-3)'!$F$12,AF13*R13*K13),IF(C13=\"LP-4\",IF('Limestone Plant (LP-4)'!$F$12>0,'Limestone Plant (LP-4)'!$F$12,AF13*R13*K13),IF(C13=\"LP-5\",IF('Limestone Plant (LP-5)'!$F$12>0,'Limestone Plant (LP-5)'!$F$12,AF13*R13*K13),IF(C13=\"LP-6\",IF('Limestone Plant (LP-6)'!$F$12>0,'Limestone Plant (LP-6)'!$F$12,AF13*R13*K13),IF(C13=\"LP-7\",IF('Limestone Plant (LP-7)'!$F$12>0,'Limestone Plant (LP-7)'!$F$12,AF13*R13*K13),IF(C13=\"LP-8\",IF('Limestone Plant (LP-8)'!$F$12>0,'Limestone Plant (LP-8)'!$F$12,AF13*R13*K13),IF(C13=\"LP-9\",IF('Limestone Plant (LP-9)'!$F$12>0,'Limestone Plant (LP-9)'!$F$12,AF13*R13*K13),IF(C13=\"LP-10\",IF('Limestone Plant (LP-10)'!$F$12>0,'Limestone Plant (LP-10)'!$F$12,AF13*R13*K13))))))))))))","v":""},"","",{"$f":"IF(F13=\"\",\"\",IF(B13=\"no\",'Emission Factors'!$J$43,'Emission Factors'!$J$44))","v":""},{"$f":"IF(F13=\"\",\"\",IF(C13=\"LP-1\",IF('Limestone Plant (LP-1)'!$F$13>0,'Limestone Plant (LP-1)'!$F$13,AJ13*R13),IF(C13=\"LP-2\",IF('Limestone Plant (LP-2)'!$F$13>0,'Limestone Plant (LP-2)'!$F$13,AJ13*R13),IF(C13=\"LP-3\",IF('Limestone Plant (LP-3)'!$F$13>0,'Limestone Plant (LP-3)'!$F$13,AJ13*R13),IF(C13=\"LP-4\",IF('Limestone Plant (LP-4)'!$F$13>0,'Limestone Plant (LP-4)'!$F$13,AJ13*R13),IF(C13=\"LP-5\",IF('Limestone Plant (LP-5)'!$F$13>0,'Limestone Plant (LP-5)'!$F$13,AJ13*R13),IF(C13=\"LP-6\",IF('Limestone Plant (LP-6)'!$F$13>0,'Limestone Plant (LP-6)'!$F$13,AJ13*R13),IF(C13=\"LP-7\",IF('Limestone Plant (LP-7)'!$F$13>0,'Limestone Plant (LP-7)'!$F$13,AJ13*R13),IF(C13=\"LP-8\",IF('Limestone Plant (LP-8)'!$F$13>0,'Limestone Plant (LP-8)'!$F$13,AJ13*R13),IF(C13=\"LP-9\",IF('Limestone Plant (LP-9)'!$F$13>0,'Limestone Plant (LP-9)'!$F$13,AJ13*R13),IF(C13=\"LP-10\",IF('Limestone Plant (LP-10)'!$F$13>0,'Limestone Plant (LP-10)'!$F$13,AJ13*R13))))))))))))","v":""},"","",{"$f":"IF(F13=\"\",\"\",IF(B13=\"no\",'Emission Factors'!$L$43,'Emission Factors'!$L$44))","v":""},{"$f":"IF(F13=\"\",\"\",IF(C13=\"LP-1\",IF('Limestone Plant (LP-1)'!$F$14>0,'Limestone Plant (LP-1)'!$F$14,AN13*R13),IF(C13=\"LP-2\",IF('Limestone Plant (LP-2)'!$F$14>0,'Limestone Plant (LP-2)'!$F$14,AN13*R13),IF(C13=\"LP-3\",IF('Limestone Plant (LP-3)'!$F$14>0,'Limestone Plant (LP-3)'!$F$14,AN13*R13),IF(C13=\"LP-4\",IF('Limestone Plant (LP-4)'!$F$14>0,'Limestone Plant (LP-4)'!$F$14,AN13*R13),IF(C13=\"LP-5\",IF('Limestone Plant (LP-5)'!$F$14>0,'Limestone Plant (LP-5)'!$F$14,AN13*R13),IF(C13=\"LP-6\",IF('Limestone Plant (LP-6)'!$F$14>0,'Limestone Plant (LP-6)'!$F$14,AN13*R13),IF(C13=\"LP-7\",IF('Limestone Plant (LP-7)'!$F$14>0,'Limestone Plant (LP-7)'!$F$14,AN13*R13),IF(C13=\"LP-8\",IF('Limestone Plant (LP-8)'!$F$14>0,'Limestone Plant (LP-8)'!$F$14,AN13*R13),IF(C13=\"LP-9\",IF('Limestone Plant (LP-9)'!$F$14>0,'Limestone Plant (LP-9)'!$F$14,AN13*R13),IF(C13=\"LP-10\",IF('Limestone Plant (LP-10)'!$F$14>0,'Limestone Plant (LP-10)'!$F$14,AN13*R13))))))))))))","v":""},"","",{"$f":"IF(F13=\"\",\"\",IF(B13=\"no\",'Emission Factors'!$N$43,'Emission Factors'!$N$44))","v":""},{"$f":"IF(F13=\"\",\"\",IF(C13=\"LP-1\",IF('Limestone Plant (LP-1)'!$F$15>0,'Limestone Plant (LP-1)'!$F$15,AR13*R13),IF(C13=\"LP-2\",IF('Limestone Plant (LP-2)'!$F$15>0,'Limestone Plant (LP-2)'!$F$15,AR13*R13),IF(C13=\"LP-3\",IF('Limestone Plant (LP-3)'!$F$15>0,'Limestone Plant (LP-3)'!$F$15,AR13*R13),IF(C13=\"LP-4\",IF('Limestone Plant (LP-4)'!$F$15>0,'Limestone Plant (LP-4)'!$F$15,AR13*R13),IF(C13=\"LP-5\",IF('Limestone Plant (LP-5)'!$F$15>0,'Limestone Plant (LP-5)'!$F$15,AR13*R13),IF(C13=\"LP-6\",IF('Limestone Plant (LP-6)'!$F$15>0,'Limestone Plant (LP-6)'!$F$15,AR13*R13),IF(C13=\"LP-7\",IF('Limestone Plant (LP-7)'!$F$15>0,'Limestone Plant (LP-7)'!$F$15,AR13*R13),IF(C13=\"LP-8\",IF('Limestone Plant (LP-8)'!$F$15>0,'Limestone Plant (LP-8)'!$F$15,AR13*R13),IF(C13=\"LP-9\",IF('Limestone Plant (LP-9)'!$F$15>0,'Limestone Plant (LP-9)'!$F$15,AR13*R13),IF(C13=\"LP-10\",IF('Limestone Plant (LP-10)'!$F$15>0,'Limestone Plant (LP-10)'!$F$15,AR13*R13))))))))))))","v":""},"","",{"$f":"IF(F13=\"\",\"\",IF(B13=\"no\",'Emission Factors'!$P$43,'Emission Factors'!$P$44))","v":""},"","","",{"$f":"IF(F13=\"\",\"\",IF(B13=\"no\",'Emission Factors'!$R$43,'Emission Factors'!$R$44))","v":""},"","",""]
[{"$f":"IF('Facility Information'!$C$21>4,\"LP-5\",\"\")","v":""},{"$f":"IF(F14=\"Diesel Generator> 600 bhp\",\"yes\",\"no\")","v":"no"},null,null,null,null,null,null,null,null,1,null,null,null,null,null,null,{"$f":"IF(Q14=\"\",\"\",Q14*0.14)","v":""},null,{"$f":"IF(S14=\"\",\"\",S14*0.14)","v":""},null,0,"",{"$f":"IF(F14=\"\",\"\",IF(B14=\"no\",'Emission Factors'!$D$43,'Emission Factors'!$D$44))","v":""},"","","",{"$f":"IF(F14=\"\",\"\",IF(B14=\"no\",'Emission Factors'!$F$43,'Emission Factors'!$F$44))","v":""},"","","",{"$f":"IF(F14=\"\",\"\",IF(B14=\"no\",'Emission Factors'!$H$43,'Emission Factors'!$H$44))","v":""},{"$f":"IF(F14=\"\",\"\",IF(C14=\"LP-1\",IF('Limestone Plant (LP-1)'!$F$12>0,'Limestone Plant (LP-1)'!$F$12,AF14*R14*K14),IF(C14=\"LP-2\",IF('Limestone Plant (LP-2)'!$F$12>0,'Limestone Plant (LP-2)'!$F$12,AF14*R14*K14),IF(C14=\"LP-3\",IF('Limestone Plant (LP-3)'!$F$12>0,'Limestone Plant (LP-3)'!$F$12,AF14*R14*K14),IF(C14=\"LP-4\",IF('Limestone Plant (LP-4)'!$F$12>0,'Limestone Plant (LP-4)'!$F$12,AF14*R14*K14),IF(C14=\"LP-5\",IF('Limestone Plant (LP-5)'!$F$12>0,'Limestone Plant (LP-5)'!$F$12,AF14*R14*K14),IF(C14=\"LP-6\",IF('Limestone Plant (LP-6)'!$F$12>0,'Limestone Plant (LP-6)'!$F$12,AF14*R14*K14),IF(C14=\"LP-7\",IF('Limestone Plant (LP-7)'!$F$12>0,'Limestone Plant (LP-7)'!$F$12,AF14*R14*K14),IF(C14=\"LP-8\",IF('Limestone Plant (LP-8)'!$F$12>0,'Limestone Plant (LP-8)'!$F$12,AF14*R14*K14),IF(C14=\"LP-9\",IF('Limestone Plant (LP-9)'!$F$12>0,'Limestone Plant (LP-9)'!$F$12,AF14*R14*K14),IF(C14=\"LP-10\",IF('Limestone Plant (LP-10)'!$F$12>0,'Limestone Plant (LP-10)'!$F$12,AF14*R14*K14))))))))))))","v":""},"","",{"$f":"IF(F14=\"\",\"\",IF(B14=\"no\",'Emission Factors'!$J$43,'Emission Factors'!$J$44))","v":""},{"$f":"IF(F14=\"\",\"\",IF(C14=\"LP-1\",IF('Limestone Plant (LP-1)'!$F$13>0,'Limestone Plant (LP-1)'!$F$13,AJ14*R14),IF(C14=\"LP-2\",IF('Limestone Plant (LP-2)'!$F$13>0,'Limestone Plant (LP-2)'!$F$13,AJ14*R14),IF(C14=\"LP-3\",IF('Limestone Plant (LP-3)'!$F$13>0,'Limestone Plant (LP-3)'!$F$13,AJ14*R14),IF(C14=\"LP-4\",IF('Limestone Plant (LP-4)'!$F$13>0,'Limestone Plant (LP-4)'!$F$13,AJ14*R14),IF(C14=\"LP-5\",IF('Limestone Plant (LP-5)'!$F$13>0,'Limestone Plant (LP-5)'!$F$13,AJ14*R14),IF(C14=\"LP-6\",IF('Limestone Plant (LP-6)'!$F$13>0,'Limestone Plant (LP-6)'!$F$13,AJ14*R14),IF(C14=\"LP-7\",IF('Limestone Plant (LP-7)'!$F$13>0,'Limestone Plant (LP-7)'!$F$13,AJ14*R14),IF(C14=\"LP-8\",IF('Limestone Plant (LP-8)'!$F$13>0,'Limestone Plant (LP-8)'!$F$13,AJ14*R14),IF(C14=\"LP-9\",IF('Limestone Plant (LP-9)'!$F$13>0,'Limestone Plant (LP-9)'!$F$13,AJ14*R14),IF(C14=\"LP-10\",IF('Limestone Plant (LP-10)'!$F$13>0,'Limestone Plant (LP-10)'!$F$13,AJ14*R14))))))))))))","v":""},"","",{"$f":"IF(F14=\"\",\"\",IF(B14=\"no\",'Emission Factors'!$L$43,'Emission Factors'!$L$44))","v":""},{"$f":"IF(F14=\"\",\"\",IF(C14=\"LP-1\",IF('Limestone Plant (LP-1)'!$F$14>0,'Limestone Plant (LP-1)'!$F$14,AN14*R14),IF(C14=\"LP-2\",IF('Limestone Plant (LP-2)'!$F$14>0,'Limestone Plant (LP-2)'!$F$14,AN14*R14),IF(C14=\"LP-3\",IF('Limestone Plant (LP-3)'!$F$14>0,'Limestone Plant (LP-3)'!$F$14,AN14*R14),IF(C14=\"LP-4\",IF('Limestone Plant (LP-4)'!$F$14>0,'Limestone Plant (LP-4)'!$F$14,AN14*R14),IF(C14=\"LP-5\",IF('Limestone Plant (LP-5)'!$F$14>0,'Limestone Plant (LP-5)'!$F$14,AN14*R14),IF(C14=\"LP-6\",IF('Limestone Plant (LP-6)'!$F$14>0,'Limestone Plant (LP-6)'!$F$14,AN14*R14),IF(C14=\"LP-7\",IF('Limestone Plant (LP-7)'!$F$14>0,'Limestone Plant (LP-7)'!$F$14,AN14*R14),IF(C14=\"LP-8\",IF('Limestone Plant (LP-8)'!$F$14>0,'Limestone Plant (LP-8)'!$F$14,AN14*R14),IF(C14=\"LP-9\",IF('Limestone Plant (LP-9)'!$F$14>0,'Limestone Plant (LP-9)'!$F$14,AN14*R14),IF(C14=\"LP-10\",IF('Limestone Plant (LP-10)'!$F$14>0,'Limestone Plant (LP-10)'!$F$14,AN14*R14))))))))))))","v":""},"","",{"$f":"IF(F14=\"\",\"\",IF(B14=\"no\",'Emission Factors'!$N$43,'Emission Factors'!$N$44))","v":""},{"$f":"IF(F14=\"\",\"\",IF(C14=\"LP-1\",IF('Limestone Plant (LP-1)'!$F$15>0,'Limestone Plant (LP-1)'!$F$15,AR14*R14),IF(C14=\"LP-2\",IF('Limestone Plant (LP-2)'!$F$15>0,'Limestone Plant (LP-2)'!$F$15,AR14*R14),IF(C14=\"LP-3\",IF('Limestone Plant (LP-3)'!$F$15>0,'Limestone Plant (LP-3)'!$F$15,AR14*R14),IF(C14=\"LP-4\",IF('Limestone Plant (LP-4)'!$F$15>0,'Limestone Plant (LP-4)'!$F$15,AR14*R14),IF(C14=\"LP-5\",IF('Limestone Plant (LP-5)'!$F$15>0,'Limestone Plant (LP-5)'!$F$15,AR14*R14),IF(C14=\"LP-6\",IF('Limestone Plant (LP-6)'!$F$15>0,'Limestone Plant (LP-6)'!$F$15,AR14*R14),IF(C14=\"LP-7\",IF('Limestone Plant (LP-7)'!$F$15>0,'Limestone Plant (LP-7)'!$F$15,AR14*R14),IF(C14=\"LP-8\",IF('Limestone Plant (LP-8)'!$F$15>0,'Limestone Plant (LP-8)'!$F$15,AR14*R14),IF(C14=\"LP-9\",IF('Limestone Plant (LP-9)'!$F$15>0,'Limestone Plant (LP-9)'!$F$15,AR14*R14),IF(C14=\"LP-10\",IF('Limestone Plant (LP-10)'!$F$15>0,'Limestone Plant (LP-10)'!$F$15,AR14*R14))))))))))))","v":""},"","",{"$f":"IF(F14=\"\",\"\",IF(B14=\"no\",'Emission Factors'!$P$43,'Emission Factors'!$P$44))","v":""},"","","",{"$f":"IF(F14=\"\",\"\",IF(B14=\"no\",'Emission Factors'!$R$43,'Emission Factors'!$R$44))","v":""},"","",""]
[{"$f":"IF('Facility Information'!$C$21>5,\"LP-6\",\"\")","v":""},"no",null,null,null,null,null,null,null,null,1,null,null,null,null,null,null,"",null,"",null,0,"",{"$f":"IF(F15=\"\",\"\",IF(B15=\"no\",'Emission Factors'!$D$43,'Emission Factors'!$D$44))","v":""},"","","",{"$f":"IF(F15=\"\",\"\",IF(B15=\"no\",'Emission Factors'!$F$43,'Emission Factors'!$F$44))","v":""},"","","",{"$f":"IF(F15=\"\",\"\",IF(B15=\"no\",'Emission Factors'!$H$43,'Emission Factors'!$H$44))","v":""},{"$f":"IF(F15=\"\",\"\",IF(C15=\"LP-1\",IF('Limestone Plant (LP-1)'!$F$12>0,'Limestone Plant (LP-1)'!$F$12,AF15*R15*K15),IF(C15=\"LP-2\",IF('Limestone Plant (LP-2)'!$F$12>0,'Limestone Plant (LP-2)'!$F$12,AF15*R15*K15),IF(C15=\"LP-3\",IF('Limestone Plant (LP-3)'!$F$12>0,'Limestone Plant (LP-3)'!$F$12,AF15*R15*K15),IF(C15=\"LP-4\",IF('Limestone Plant (LP-4)'!$F$12>0,'Limestone Plant (LP-4)'!$F$12,AF15*R15*K15),IF(C15=\"LP-5\",IF('Limestone Plant (LP-5)'!$F$12>0,'Limestone Plant (LP-5)'!$F$12,AF15*R15*K15),IF(C15=\"LP-6\",IF('Limestone Plant (LP-6)'!$F$12>0,'Limestone Plant (LP-6)'!$F$12,AF15*R15*K15),IF(C15=\"LP-7\",IF('Limestone Plant (LP-7)'!$F$12>0,'Limestone Plant (LP-7)'!$F$12,AF15*R15*K15),IF(C15=\"LP-8\",IF('Limestone Plant (LP-8)'!$F$12>0,'Limestone Plant (LP-8)'!$F$12,AF15*R15*K15),IF(C15=\"LP-9\",IF('Limestone Plant (LP-9)'!$F$12>0,'Limestone Plant (LP-9)'!$F$12,AF15*R15*K15),IF(C15=\"LP-10\",IF('Limestone Plant (LP-10)'!$F$12>0,'Limestone Plant (LP-10)'!$F$12,AF15*R15*K15))))))))))))","v":""},"","",{"$f":"IF(F15=\"\",\"\",IF(B15=\"no\",'Emission Factors'!$J$43,'Emission Factors'!$J$44))","v":""},{"$f":"IF(F15=\"\",\"\",IF(C15=\"LP-1\",IF('Limestone Plant (LP-1)'!$F$13>0,'Limestone Plant (LP-1)'!$F$13,AJ15*R15),IF(C15=\"LP-2\",IF('Limestone Plant (LP-2)'!$F$13>0,'Limestone Plant (LP-2)'!$F$13,AJ15*R15),IF(C15=\"LP-3\",IF('Limestone Plant (LP-3)'!$F$13>0,'Limestone Plant (LP-3)'!$F$13,AJ15*R15),IF(C15=\"LP-4\",IF('Limestone Plant (LP-4)'!$F$13>0,'Limestone Plant (LP-4)'!$F$13,AJ15*R15),IF(C15=\"LP-5\",IF('Limestone Plant (LP-5)'!$F$13>0,'Limestone Plant (LP-5)'!$F$13,AJ15*R15),IF(C15=\"LP-6\",IF('Limestone Plant (LP-6)'!$F$13>0,'Limestone Plant (LP-6)'!$F$13,AJ15*R15),IF(C15=\"LP-7\",IF('Limestone Plant (LP-7)'!$F$13>0,'Limestone Plant (LP-7)'!$F$13,AJ15*R15),IF(C15=\"LP-8\",IF('Limestone Plant (LP-8)'!$F$13>0,'Limestone Plant (LP-8)'!$F$13,AJ15*R15),IF(C15=\"LP-9\",IF('Limestone Plant (LP-9)'!$F$13>0,'Limestone Plant (LP-9)'!$F$13,AJ15*R15),IF(C15=\"LP-10\",IF('Limestone Plant (LP-10)'!$F$13>0,'Limestone Plant (LP-10)'!$F$13,AJ15*R15))))))))))))","v":""},"","",{"$f":"IF(F15=\"\",\"\",IF(B15=\"no\",'Emission Factors'!$L$43,'Emission Factors'!$L$44))","v":""},{"$f":"IF(F15=\"\",\"\",IF(C15=\"LP-1\",IF('Limestone Plant (LP-1)'!$F$14>0,'Limestone Plant (LP-1)'!$F$14,AN15*R15),IF(C15=\"LP-2\",IF('Limestone Plant (LP-2)'!$F$14>0,'Limestone Plant (LP-2)'!$F$14,AN15*R15),IF(C15=\"LP-3\",IF('Limestone Plant (LP-3)'!$F$14>0,'Limestone Plant (LP-3)'!$F$14,AN15*R15),IF(C15=\"LP-4\",IF('Limestone Plant (LP-4)'!$F$14>0,'Limestone Plant (LP-4)'!$F$14,AN15*R15),IF(C15=\"LP-5\",IF('Limestone Plant (LP-5)'!$F$14>0,'Limestone Plant (LP-5)'!$F$14,AN15*R15),IF(C15=\"LP-6\",IF('Limestone Plant (LP-6)'!$F$14>0,'Limestone Plant (LP-6)'!$F$14,AN15*R15),IF(C15=\"LP-7\",IF('Limestone Plant (LP-7)'!$F$14>0,'Limestone Plant (LP-7)'!$F$14,AN15*R15),IF(C15=\"LP-8\",IF('Limestone Plant (LP-8)'!$F$14>0,'Limestone Plant (LP-8)'!$F$14,AN15*R15),IF(C15=\"LP-9\",IF('Limestone Plant (LP-9)'!$F$14>0,'Limestone Plant (LP-9)'!$F$14,AN15*R15),IF(C15=\"LP-10\",IF('Limestone Plant (LP-10)'!$F$14>0,'Limestone Plant (LP-10)'!$F$14,AN15*R15))))))))))))","v":""},"","",{"$f":"IF(F15=\"\",\"\",IF(B15=\"no\",'Emission Factors'!$N$43,'Emission Factors'!$N$44))","v":""},{"$f":"IF(F15=\"\",\"\",IF(C15=\"LP-1\",IF('Limestone Plant (LP-1)'!$F$15>0,'Limestone Plant (LP-1)'!$F$15,AR15*R15),IF(C15=\"LP-2\",IF('Limestone Plant (LP-2)'!$F$15>0,'Limestone Plant (LP-2)'!$F$15,AR15*R15),IF(C15=\"LP-3\",IF('Limestone Plant (LP-3)'!$F$15>0,'Limestone Plant (LP-3)'!$F$15,AR15*R15),IF(C15=\"LP-4\",IF('Limestone Plant (LP-4)'!$F$15>0,'Limestone Plant (LP-4)'!$F$15,AR15*R15),IF(C15=\"LP-5\",IF('Limestone Plant (LP-5)'!$F$15>0,'Limestone Plant (LP-5)'!$F$15,AR15*R15),IF(C15=\"LP-6\",IF('Limestone Plant (LP-6)'!$F$15>0,'Limestone Plant (LP-6)'!$F$15,AR15*R15),IF(C15=\"LP-7\",IF('Limestone Plant (LP-7)'!$F$15>0,'Limestone Plant (LP-7)'!$F$15,AR15*R15),IF(C15=\"LP-8\",IF('Limestone Plant (LP-8)'!$F$15>0,'Limestone Plant (LP-8)'!$F$15,AR15*R15),IF(C15=\"LP-9\",IF('Limestone Plant (LP-9)'!$F$15>0,'Limestone Plant (LP-9)'!$F$15,AR15*R15),IF(C15=\"LP-10\",IF('Limestone Plant (LP-10)'!$F$15>0,'Limestone Plant (LP-10)'!$F$15,AR15*R15))))))))))))","v":""},"","",{"$f":"IF(F15=\"\",\"\",IF(B15=\"no\",'Emission Factors'!$P$43,'Emission Factors'!$P$44))","v":""},"","","",{"$f":"IF(F15=\"\",\"\",IF(B15=\"no\",'Emission Factors'!$R$43,'Emission Factors'!$R$44))","v":""},"","",""]
[{"$f":"IF('Facility Information'!$C$21>6,\"LP-7\",\"\")","v":""},"no",null,null,null,null,null,null,null,null,1,null,null,null,null,null,null,"",null,"",null,0,"",{"$f":"IF(F16=\"\",\"\",IF(B16=\"no\",'Emission Factors'!$D$43,'Emission Factors'!$D$44))","v":""},"","","",{"$f":"IF(F16=\"\",\"\",IF(B16=\"no\",'Emission Factors'!$F$43,'Emission Factors'!$F$44))","v":""},"","","",{"$f":"IF(F16=\"\",\"\",IF(B16=\"no\",'Emission Factors'!$H$43,'Emission Factors'!$H$44))","v":""},{"$f":"IF(F16=\"\",\"\",IF(C16=\"LP-1\",IF('Limestone Plant (LP-1)'!$F$12>0,'Limestone Plant (LP-1)'!$F$12,AF16*R16*K16),IF(C16=\"LP-2\",IF('Limestone Plant (LP-2)'!$F$12>0,'Limestone Plant (LP-2)'!$F$12,AF16*R16*K16),IF(C16=\"LP-3\",IF('Limestone Plant (LP-3)'!$F$12>0,'Limestone Plant (LP-3)'!$F$12,AF16*R16*K16),IF(C16=\"LP-4\",IF('Limestone Plant (LP-4)'!$F$12>0,'Limestone Plant (LP-4)'!$F$12,AF16*R16*K16),IF(C16=\"LP-5\",IF('Limestone Plant (LP-5)'!$F$12>0,'Limestone Plant (LP-5)'!$F$12,AF16*R16*K16),IF(C16=\"LP-6\",IF('Limestone Plant (LP-6)'!$F$12>0,'Limestone Plant (LP-6)'!$F$12,AF16*R16*K16),IF(C16=\"LP-7\",IF('Limestone Plant (LP-7)'!$F$12>0,'Limestone Plant (LP-7)'!$F$12,AF16*R16*K16),IF(C16=\"LP-8\",IF('Limestone Plant (LP-8)'!$F$12>0,'Limestone Plant (LP-8)'!$F$12,AF16*R16*K16),IF(C16=\"LP-9\",IF('Limestone Plant (LP-9)'!$F$12>0,'Limestone Plant (LP-9)'!$F$12,AF16*R16*K16),IF(C16=\"LP-10\",IF('Limestone Plant (LP-10)'!$F$12>0,'Limestone Plant (LP-10)'!$F$12,AF16*R16*K16))))))))))))","v":""},"","",{"$f":"IF(F16=\"\",\"\",IF(B16=\"no\",'Emission Factors'!$J$43,'Emission Factors'!$J$44))","v":""},{"$f":"IF(F16=\"\",\"\",IF(C16=\"LP-1\",IF('Limestone Plant (LP-1)'!$F$13>0,'Limestone Plant (LP-1)'!$F$13,AJ16*R16),IF(C16=\"LP-2\",IF('Limestone Plant (LP-2)'!$F$13>0,'Limestone Plant (LP-2)'!$F$13,AJ16*R16),IF(C16=\"LP-3\",IF('Limestone Plant (LP-3)'!$F$13>0,'Limestone Plant (LP-3)'!$F$13,AJ16*R16),IF(C16=\"LP-4\",IF('Limestone Plant (LP-4)'!$F$13>0,'Limestone Plant (LP-4)'!$F$13,AJ16*R16),IF(C16=\"LP-5\",IF('Limestone Plant (LP-5)'!$F$13>0,'Limestone Plant (LP-5)'!$F$13,AJ16*R16),IF(C16=\"LP-6\",IF('Limestone Plant (LP-6)'!$F$13>0,'Limestone Plant (LP-6)'!$F$13,AJ16*R16),IF(C16=\"LP-7\",IF('Limestone Plant (LP-7)'!$F$13>0,'Limestone Plant (LP-7)'!$F$13,AJ16*R16),IF(C16=\"LP-8\",IF('Limestone Plant (LP-8)'!$F$13>0,'Limestone Plant (LP-8)'!$F$13,AJ16*R16),IF(C16=\"LP-9\",IF('Limestone Plant (LP-9)'!$F$13>0,'Limestone Plant (LP-9)'!$F$13,AJ16*R16),IF(C16=\"LP-10\",IF('Limestone Plant (LP-10)'!$F$13>0,'Limestone Plant (LP-10)'!$F$13,AJ16*R16))))))))))))","v":""},"","",{"$f":"IF(F16=\"\",\"\",IF(B16=\"no\",'Emission Factors'!$L$43,'Emission Factors'!$L$44))","v":""},{"$f":"IF(F16=\"\",\"\",IF(C16=\"LP-1\",IF('Limestone Plant (LP-1)'!$F$14>0,'Limestone Plant (LP-1)'!$F$14,AN16*R16),IF(C16=\"LP-2\",IF('Limestone Plant (LP-2)'!$F$14>0,'Limestone Plant (LP-2)'!$F$14,AN16*R16),IF(C16=\"LP-3\",IF('Limestone Plant (LP-3)'!$F$14>0,'Limestone Plant (LP-3)'!$F$14,AN16*R16),IF(C16=\"LP-4\",IF('Limestone Plant (LP-4)'!$F$14>0,'Limestone Plant (LP-4)'!$F$14,AN16*R16),IF(C16=\"LP-5\",IF('Limestone Plant (LP-5)'!$F$14>0,'Limestone Plant (LP-5)'!$F$14,AN16*R16),IF(C16=\"LP-6\",IF('Limestone Plant (LP-6)'!$F$14>0,'Limestone Plant (LP-6)'!$F$14,AN16*R16),IF(C16=\"LP-7\",IF('Limestone Plant (LP-7)'!$F$14>0,'Limestone Plant (LP-7)'!$F$14,AN16*R16),IF(C16=\"LP-8\",IF('Limestone Plant (LP-8)'!$F$14>0,'Limestone Plant (LP-8)'!$F$14,AN16*R16),IF(C16=\"LP-9\",IF('Limestone Plant (LP-9)'!$F$14>0,'Limestone Plant (LP-9)'!$F$14,AN16*R16),IF(C16=\"LP-10\",IF('Limestone Plant (LP-10)'!$F$14>0,'Limestone Plant (LP-10)'!$F$14,AN16*R16))))))))))))","v":""},"","",{"$f":"IF(F16=\"\",\"\",IF(B16=\"no\",'Emission Factors'!$N$43,'Emission Factors'!$N$44))","v":""},{"$f":"IF(F16=\"\",\"\",IF(C16=\"LP-1\",IF('Limestone Plant (LP-1)'!$F$15>0,'Limestone Plant (LP-1)'!$F$15,AR16*R16),IF(C16=\"LP-2\",IF('Limestone Plant (LP-2)'!$F$15>0,'Limestone Plant (LP-2)'!$F$15,AR16*R16),IF(C16=\"LP-3\",IF('Limestone Plant (LP-3)'!$F$15>0,'Limestone Plant (LP-3)'!$F$15,AR16*R16),IF(C16=\"LP-4\",IF('Limestone Plant (LP-4)'!$F$15>0,'Limestone Plant (LP-4)'!$F$15,AR16*R16),IF(C16=\"LP-5\",IF('Limestone Plant (LP-5)'!$F$15>0,'Limestone Plant (LP-5)'!$F$15,AR16*R16),IF(C16=\"LP-6\",IF('Limestone Plant (LP-6)'!$F$15>0,'Limestone Plant (LP-6)'!$F$15,AR16*R16),IF(C16=\"LP-7\",IF('Limestone Plant (LP-7)'!$F$15>0,'Limestone Plant (LP-7)'!$F$15,AR16*R16),IF(C16=\"LP-8\",IF('Limestone Plant (LP-8)'!$F$15>0,'Limestone Plant (LP-8)'!$F$15,AR16*R16),IF(C16=\"LP-9\",IF('Limestone Plant (LP-9)'!$F$15>0,'Limestone Plant (LP-9)'!$F$15,AR16*R16),IF(C16=\"LP-10\",IF('Limestone Plant (LP-10)'!$F$15>0,'Limestone Plant (LP-10)'!$F$15,AR16*R16))))))))))))","v":""},"","",{"$f":"IF(F16=\"\",\"\",IF(B16=\"no\",'Emission Factors'!$P$43,'Emission Factors'!$P$44))","v":""},"","","",{"$f":"IF(F16=\"\",\"\",IF(B16=\"no\",'Emission Factors'!$R$43,'Emission Factors'!$R$44))","v":""},"","",""]
[{"$f":"IF('Facility Information'!$C$21>7,\"LP-8\",\"\")","v":""},"no",null,null,null,null,null,null,null,null,1,null,null,null,null,null,null,"",null,"",null,0,"",{"$f":"IF(F17=\"\",\"\",IF(B17=\"no\",'Emission Factors'!$D$43,'Emission Factors'!$D$44))","v":""},"","","",{"$f":"IF(F17=\"\",\"\",IF(B17=\"no\",'Emission Factors'!$F$43,'Emission Factors'!$F$44))","v":""},"","","",{"$f":"IF(F17=\"\",\"\",IF(B17=\"no\",'Emission Factors'!$H$43,'Emission Factors'!$H$44))","v":""},{"$f":"IF(F17=\"\",\"\",IF(C17=\"LP-1\",IF('Limestone Plant (LP-1)'!$F$12>0,'Limestone Plant (LP-1)'!$F$12,AF17*R17*K17),IF(C17=\"LP-2\",IF('Limestone Plant (LP-2)'!$F$12>0,'Limestone Plant (LP-2)'!$F$12,AF17*R17*K17),IF(C17=\"LP-3\",IF('Limestone Plant (LP-3)'!$F$12>0,'Limestone Plant (LP-3)'!$F$12,AF17*R17*K17),IF(C17=\"LP-4\",IF('Limestone Plant (LP-4)'!$F$12>0,'Limestone Plant (LP-4)'!$F$12,AF17*R17*K17),IF(C17=\"LP-5\",IF('Limestone Plant (LP-5)'!$F$12>0,'Limestone Plant (LP-5)'!$F$12,AF17*R17*K17),IF(C17=\"LP-6\",IF('Limestone Plant (LP-6)'!$F$12>0,'Limestone Plant (LP-6)'!$F$12,AF17*R17*K17),IF(C17=\"LP-7\",IF('Limestone Plant (LP-7)'!$F$12>0,'Limestone Plant (LP-7)'!$F$12,AF17*R17*K17),IF(C17=\"LP-8\",IF('Limestone Plant (LP-8)'!$F$12>0,'Limestone Plant (LP-8)'!$F$12,AF17*R17*K17),IF(C17=\"LP-9\",IF('Limestone Plant (LP-9)'!$F$12>0,'Limestone Plant (LP-9)'!$F$12,AF17*R17*K17),IF(C17=\"LP-10\",IF('Limestone Plant (LP-10)'!$F$12>0,'Limestone Plant (LP-10)'!$F$12,AF17*R17*K17))))))))))))","v":""},"","",{"$f":"IF(F17=\"\",\"\",IF(B17=\"no\",'Emission Factors'!$J$43,'Emission Factors'!$J$44))","v":""},{"$f":"IF(F17=\"\",\"\",IF(C17=\"LP-1\",IF('Limestone Plant (LP-1)'!$F$13>0,'Limestone Plant (LP-1)'!$F$13,AJ17*R17),IF(C17=\"LP-2\",IF('Limestone Plant (LP-2)'!$F$13>0,'Limestone Plant (LP-2)'!$F$13,AJ17*R17),IF(C17=\"LP-3\",IF('Limestone Plant (LP-3)'!$F$13>0,'Limestone Plant (LP-3)'!$F$13,AJ17*R17),IF(C17=\"LP-4\",IF('Limestone Plant (LP-4)'!$F$13>0,'Limestone Plant (LP-4)'!$F$13,AJ17*R17),IF(C17=\"LP-5\",IF('Limestone Plant (LP-5)'!$F$13>0,'Limestone Plant (LP-5)'!$F$13,AJ17*R17),IF(C17=\"LP-6\",IF('Limestone Plant (LP-6)'!$F$13>0,'Limestone Plant (LP-6)'!$F$13,AJ17*R17),IF(C17=\"LP-7\",IF('Limestone Plant (LP-7)'!$F$13>0,'Limestone Plant (LP-7)'!$F$13,AJ17*R17),IF(C17=\"LP-8\",IF('Limestone Plant (LP-8)'!$F$13>0,'Limestone Plant (LP-8)'!$F$13,AJ17*R17),IF(C17=\"LP-9\",IF('Limestone Plant (LP-9)'!$F$13>0,'Limestone Plant (LP-9)'!$F$13,AJ17*R17),IF(C17=\"LP-10\",IF('Limestone Plant (LP-10)'!$F$13>0,'Limestone Plant (LP-10)'!$F$13,AJ17*R17))))))))))))","v":""},"","",{"$f":"IF(F17=\"\",\"\",IF(B17=\"no\",'Emission Factors'!$L$43,'Emission Factors'!$L$44))","v":""},{"$f":"IF(F17=\"\",\"\",IF(C17=\"LP-1\",IF('Limestone Plant (LP-1)'!$F$14>0,'Limestone Plant (LP-1)'!$F$14,AN17*R17),IF(C17=\"LP-2\",IF('Limestone Plant (LP-2)'!$F$14>0,'Limestone Plant (LP-2)'!$F$14,AN17*R17),IF(C17=\"LP-3\",IF('Limestone Plant (LP-3)'!$F$14>0,'Limestone Plant (LP-3)'!$F$14,AN17*R17),IF(C17=\"LP-4\",IF('Limestone Plant (LP-4)'!$F$14>0,'Limestone Plant (LP-4)'!$F$14,AN17*R17),IF(C17=\"LP-5\",IF('Limestone Plant (LP-5)'!$F$14>0,'Limestone Plant (LP-5)'!$F$14,AN17*R17),IF(C17=\"LP-6\",IF('Limestone Plant (LP-6)'!$F$14>0,'Limestone Plant (LP-6)'!$F$14,AN17*R17),IF(C17=\"LP-7\",IF('Limestone Plant (LP-7)'!$F$14>0,'Limestone Plant (LP-7)'!$F$14,AN17*R17),IF(C17=\"LP-8\",IF('Limestone Plant (LP-8)'!$F$14>0,'Limestone Plant (LP-8)'!$F$14,AN17*R17),IF(C17=\"LP-9\",IF('Limestone Plant (LP-9)'!$F$14>0,'Limestone Plant (LP-9)'!$F$14,AN17*R17),IF(C17=\"LP-10\",IF('Limestone Plant (LP-10)'!$F$14>0,'Limestone Plant (LP-10)'!$F$14,AN17*R17))))))))))))","v":""},"","",{"$f":"IF(F17=\"\",\"\",IF(B17=\"no\",'Emission Factors'!$N$43,'Emission Factors'!$N$44))","v":""},{"$f":"IF(F17=\"\",\"\",IF(C17=\"LP-1\",IF('Limestone Plant (LP-1)'!$F$15>0,'Limestone Plant (LP-1)'!$F$15,AR17*R17),IF(C17=\"LP-2\",IF('Limestone Plant (LP-2)'!$F$15>0,'Limestone Plant (LP-2)'!$F$15,AR17*R17),IF(C17=\"LP-3\",IF('Limestone Plant (LP-3)'!$F$15>0,'Limestone Plant (LP-3)'!$F$15,AR17*R17),IF(C17=\"LP-4\",IF('Limestone Plant (LP-4)'!$F$15>0,'Limestone Plant (LP-4)'!$F$15,AR17*R17),IF(C17=\"LP-5\",IF('Limestone Plant (LP-5)'!$F$15>0,'Limestone Plant (LP-5)'!$F$15,AR17*R17),IF(C17=\"LP-6\",IF('Limestone Plant (LP-6)'!$F$15>0,'Limestone Plant (LP-6)'!$F$15,AR17*R17),IF(C17=\"LP-7\",IF('Limestone Plant (LP-7)'!$F$15>0,'Limestone Plant (LP-7)'!$F$15,AR17*R17),IF(C17=\"LP-8\",IF('Limestone Plant (LP-8)'!$F$15>0,'Limestone Plant (LP-8)'!$F$15,AR17*R17),IF(C17=\"LP-9\",IF('Limestone Plant (LP-9)'!$F$15>0,'Limestone Plant (LP-9)'!$F$15,AR17*R17),IF(C17=\"LP-10\",IF('Limestone Plant (LP-10)'!$F$15>0,'Limestone Plant (LP-10)'!$F$15,AR17*R17))))))))))))","v":""},"","",{"$f":"IF(F17=\"\",\"\",IF(B17=\"no\",'Emission Factors'!$P$43,'Emission Factors'!$P$44))","v":""},"","","",{"$f":"IF(F17=\"\",\"\",IF(B17=\"no\",'Emission Factors'!$R$43,'Emission Factors'!$R$44))","v":""},"","",""]
[{"$f":"IF('Facility Information'!$C$21>8,\"LP-9\",\"\")","v":""},"no",null,null,null,null,null,null,null,null,1,null,null,null,null,null,null,"",null,"",null,0,"",{"$f":"IF(F18=\"\",\"\",IF(B18=\"no\",'Emission Factors'!$D$43,'Emission Factors'!$D$44))","v":""},"","","",{"$f":"IF(F18=\"\",\"\",IF(B18=\"no\",'Emission Factors'!$F$43,'Emission Factors'!$F$44))","v":""},"","","",{"$f":"IF(F18=\"\",\"\",IF(B18=\"no\",'Emission Factors'!$H$43,'Emission Factors'!$H$44))","v":""},{"$f":"IF(F18=\"\",\"\",IF(C18=\"LP-1\",IF('Limestone Plant (LP-1)'!$F$12>0,'Limestone Plant (LP-1)'!$F$12,AF18*R18*K18),IF(C18=\"LP-2\",IF('Limestone Plant (LP-2)'!$F$12>0,'Limestone Plant (LP-2)'!$F$12,AF18*R18*K18),IF(C18=\"LP-3\",IF('Limestone Plant (LP-3)'!$F$12>0,'Limestone Plant (LP-3)'!$F$12,AF18*R18*K18),IF(C18=\"LP-4\",IF('Limestone Plant (LP-4)'!$F$12>0,'Limestone Plant (LP-4)'!$F$12,AF18*R18*K18),IF(C18=\"LP-5\",IF('Limestone Plant (LP-5)'!$F$12>0,'Limestone Plant (LP-5)'!$F$12,AF18*R18*K18),IF(C18=\"LP-6\",IF('Limestone Plant (LP-6)'!$F$12>0,'Limestone Plant (LP-6)'!$F$12,AF18*R18*K18),IF(C18=\"LP-7\",IF('Limestone Plant (LP-7)'!$F$12>0,'Limestone Plant (LP-7)'!$F$12,AF18*R18*K18),IF(C18=\"LP-8\",IF('Limestone Plant (LP-8)'!$F$12>0,'Limestone Plant (LP-8)'!$F$12,AF18*R18*K18),IF(C18=\"LP-9\",IF('Limestone Plant (LP-9)'!$F$12>0,'Limestone Plant (LP-9)'!$F$12,AF18*R18*K18),IF(C18=\"LP-10\",IF('Limestone Plant (LP-10)'!$F$12>0,'Limestone Plant (LP-10)'!$F$12,AF18*R18*K18))))))))))))","v":""},"","",{"$f":"IF(F18=\"\",\"\",IF(B18=\"no\",'Emission Factors'!$J$43,'Emission Factors'!$J$44))","v":""},{"$f":"IF(F18=\"\",\"\",IF(C18=\"LP-1\",IF('Limestone Plant (LP-1)'!$F$13>0,'Limestone Plant (LP-1)'!$F$13,AJ18*R18),IF(C18=\"LP-2\",IF('Limestone Plant (LP-2)'!$F$13>0,'Limestone Plant (LP-2)'!$F$13,AJ18*R18),IF(C18=\"LP-3\",IF('Limestone Plant (LP-3)'!$F$13>0,'Limestone Plant (LP-3)'!$F$13,AJ18*R18),IF(C18=\"LP-4\",IF('Limestone Plant (LP-4)'!$F$13>0,'Limestone Plant (LP-4)'!$F$13,AJ18*R18),IF(C18=\"LP-5\",IF('Limestone Plant (LP-5)'!$F$13>0,'Limestone Plant (LP-5)'!$F$13,AJ18*R18),IF(C18=\"LP-6\",IF('Limestone Plant (LP-6)'!$F$13>0,'Limestone Plant (LP-6)'!$F$13,AJ18*R18),IF(C18=\"LP-7\",IF('Limestone Plant (LP-7)'!$F$13>0,'Limestone Plant (LP-7)'!$F$13,AJ18*R18),IF(C18=\"LP-8\",IF('Limestone Plant (LP-8)'!$F$13>0,'Limestone Plant (LP-8)'!$F$13,AJ18*R18),IF(C18=\"LP-9\",IF('Limestone Plant (LP-9)'!$F$13>0,'Limestone Plant (LP-9)'!$F$13,AJ18*R18),IF(C18=\"LP-10\",IF('Limestone Plant (LP-10)'!$F$13>0,'Limestone Plant (LP-10)'!$F$13,AJ18*R18))))))))))))","v":""},"","",{"$f":"IF(F18=\"\",\"\",IF(B18=\"no\",'Emission Factors'!$L$43,'Emission Factors'!$L$44))","v":""},{"$f":"IF(F18=\"\",\"\",IF(C18=\"LP-1\",IF('Limestone Plant (LP-1)'!$F$14>0,'Limestone Plant (LP-1)'!$F$14,AN18*R18),IF(C18=\"LP-2\",IF('Limestone Plant (LP-2)'!$F$14>0,'Limestone Plant (LP-2)'!$F$14,AN18*R18),IF(C18=\"LP-3\",IF('Limestone Plant (LP-3)'!$F$14>0,'Limestone Plant (LP-3)'!$F$14,AN18*R18),IF(C18=\"LP-4\",IF('Limestone Plant (LP-4)'!$F$14>0,'Limestone Plant (LP-4)'!$F$14,AN18*R18),IF(C18=\"LP-5\",IF('Limestone Plant (LP-5)'!$F$14>0,'Limestone Plant (LP-5)'!$F$14,AN18*R18),IF(C18=\"LP-6\",IF('Limestone Plant (LP-6)'!$F$14>0,'Limestone Plant (LP-6)'!$F$14,AN18*R18),IF(C18=\"LP-7\",IF('Limestone Plant (LP-7)'!$F$14>0,'Limestone Plant (LP-7)'!$F$14,AN18*R18),IF(C18=\"LP-8\",IF('Limestone Plant (LP-8)'!$F$14>0,'Limestone Plant (LP-8)'!$F$14,AN18*R18),IF(C18=\"LP-9\",IF('Limestone Plant (LP-9)'!$F$14>0,'Limestone Plant (LP-9)'!$F$14,AN18*R18),IF(C18=\"LP-10\",IF('Limestone Plant (LP-10)'!$F$14>0,'Limestone Plant (LP-10)'!$F$14,AN18*R18))))))))))))","v":""},"","",{"$f":"IF(F18=\"\",\"\",IF(B18=\"no\",'Emission Factors'!$N$43,'Emission Factors'!$N$44))","v":""},{"$f":"IF(F18=\"\",\"\",IF(C18=\"LP-1\",IF('Limestone Plant (LP-1)'!$F$15>0,'Limestone Plant (LP-1)'!$F$15,AR18*R18),IF(C18=\"LP-2\",IF('Limestone Plant (LP-2)'!$F$15>0,'Limestone Plant (LP-2)'!$F$15,AR18*R18),IF(C18=\"LP-3\",IF('Limestone Plant (LP-3)'!$F$15>0,'Limestone Plant (LP-3)'!$F$15,AR18*R18),IF(C18=\"LP-4\",IF('Limestone Plant (LP-4)'!$F$15>0,'Limestone Plant (LP-4)'!$F$15,AR18*R18),IF(C18=\"LP-5\",IF('Limestone Plant (LP-5)'!$F$15>0,'Limestone Plant (LP-5)'!$F$15,AR18*R18),IF(C18=\"LP-6\",IF('Limestone Plant (LP-6)'!$F$15>0,'Limestone Plant (LP-6)'!$F$15,AR18*R18),IF(C18=\"LP-7\",IF('Limestone Plant (LP-7)'!$F$15>0,'Limestone Plant (LP-7)'!$F$15,AR18*R18),IF(C18=\"LP-8\",IF('Limestone Plant (LP-8)'!$F$15>0,'Limestone Plant (LP-8)'!$F$15,AR18*R18),IF(C18=\"LP-9\",IF('Limestone Plant (LP-9)'!$F$15>0,'Limestone Plant (LP-9)'!$F$15,AR18*R18),IF(C18=\"LP-10\",IF('Limestone Plant (LP-10)'!$F$15>0,'Limestone Plant (LP-10)'!$F$15,AR18*R18))))))))))))","v":""},"","",{"$f":"IF(F18=\"\",\"\",IF(B18=\"no\",'Emission Factors'!$P$43,'Emission Factors'!$P$44))","v":""},"","","",{"$f":"IF(F18=\"\",\"\",IF(B18=\"no\",'Emission Factors'!$R$43,'Emission Factors'!$R$44))","v":""},"","",""]
[{"$f":"IF('Facility Information'!$C$21>9,\"LP-10\",\"\")","v":""},"no",null,null,null,null,null,null,null,null,1,null,null,null,null,null,null,"",null,"",null,0,"",{"$f":"IF(F19=\"\",\"\",IF(B19=\"no\",'Emission Factors'!$D$43,'Emission Factors'!$D$44))","v":""},"","","",{"$f":"IF(F19=\"\",\"\",IF(B19=\"no\",'Emission Factors'!$F$43,'Emission Factors'!$F$44))","v":""},"","","",{"$f":"IF(F19=\"\",\"\",IF(B19=\"no\",'Emission Factors'!$H$43,'Emission Factors'!$H$44))","v":""},{"$f":"IF(F19=\"\",\"\",IF(C19=\"LP-1\",IF('Limestone Plant (LP-1)'!$F$12>0,'Limestone Plant (LP-1)'!$F$12,AF19*R19*K19),IF(C19=\"LP-2\",IF('Limestone Plant (LP-2)'!$F$12>0,'Limestone Plant (LP-2)'!$F$12,AF19*R19*K19),IF(C19=\"LP-3\",IF('Limestone Plant (LP-3)'!$F$12>0,'Limestone Plant (LP-3)'!$F$12,AF19*R19*K19),IF(C19=\"LP-4\",IF('Limestone Plant (LP-4)'!$F$12>0,'Limestone Plant (LP-4)'!$F$12,AF19*R19*K19),IF(C19=\"LP-5\",IF('Limestone Plant (LP-5)'!$F$12>0,'Limestone Plant (LP-5)'!$F$12,AF19*R19*K19),IF(C19=\"LP-6\",IF('Limestone Plant (LP-6)'!$F$12>0,'Limestone Plant (LP-6)'!$F$12,AF19*R19*K19),IF(C19=\"LP-7\",IF('Limestone Plant (LP-7)'!$F$12>0,'Limestone Plant (LP-7)'!$F$12,AF19*R19*K19),IF(C19=\"LP-8\",IF('Limestone Plant (LP-8)'!$F$12>0,'Limestone Plant (LP-8)'!$F$12,AF19*R19*K19),IF(C19=\"LP-9\",IF('Limestone Plant (LP-9)'!$F$12>0,'Limestone Plant (LP-9)'!$F$12,AF19*R19*K19),IF(C19=\"LP-10\",IF('Limestone Plant (LP-10)'!$F$12>0,'Limestone Plant (LP-10)'!$F$12,AF19*R19*K19))))))))))))","v":""},"","",{"$f":"IF(F19=\"\",\"\",IF(B19=\"no\",'Emission Factors'!$J$43,'Emission Factors'!$J$44))","v":""},{"$f":"IF(F19=\"\",\"\",IF(C19=\"LP-1\",IF('Limestone Plant (LP-1)'!$F$13>0,'Limestone Plant (LP-1)'!$F$13,AJ19*R19),IF(C19=\"LP-2\",IF('Limestone Plant (LP-2)'!$F$13>0,'Limestone Plant (LP-2)'!$F$13,AJ19*R19),IF(C19=\"LP-3\",IF('Limestone Plant (LP-3)'!$F$13>0,'Limestone Plant (LP-3)'!$F$13,AJ19*R19),IF(C19=\"LP-4\",IF('Limestone Plant (LP-4)'!$F$13>0,'Limestone Plant (LP-4)'!$F$13,AJ19*R19),IF(C19=\"LP-5\",IF('Limestone Plant (LP-5)'!$F$13>0,'Limestone Plant (LP-5)'!$F$13,AJ19*R19),IF(C19=\"LP-6\",IF('Limestone Plant (LP-6)'!$F$13>0,'Limestone Plant (LP-6)'!$F$13,AJ19*R19),IF(C19=\"LP-7\",IF('Limestone Plant (LP-7)'!$F$13>0,'Limestone Plant (LP-7)'!$F$13,AJ19*R19),IF(C19=\"LP-8\",IF('Limestone Plant (LP-8)'!$F$13>0,'Limestone Plant (LP-8)'!$F$13,AJ19*R19),IF(C19=\"LP-9\",IF('Limestone Plant (LP-9)'!$F$13>0,'Limestone Plant (LP-9)'!$F$13,AJ19*R19),IF(C19=\"LP-10\",IF('Limestone Plant (LP-10)'!$F$13>0,'Limestone Plant (LP-10)'!$F$13,AJ19*R19))))))))))))","v":""},"","",{"$f":"IF(F19=\"\",\"\",IF(B19=\"no\",'Emission Factors'!$L$43,'Emission Factors'!$L$44))","v":""},{"$f":"IF(F19=\"\",\"\",IF(C19=\"LP-1\",IF('Limestone Plant (LP-1)'!$F$14>0,'Limestone Plant (LP-1)'!$F$14,AN19*R19),IF(C19=\"LP-2\",IF('Limestone Plant (LP-2)'!$F$14>0,'Limestone Plant (LP-2)'!$F$14,AN19*R19),IF(C19=\"LP-3\",IF('Limestone Plant (LP-3)'!$F$14>0,'Limestone Plant (LP-3)'!$F$14,AN19*R19),IF(C19=\"LP-4\",IF('Limestone Plant (LP-4)'!$F$14>0,'Limestone Plant (LP-4)'!$F$14,AN19*R19),IF(C19=\"LP-5\",IF('Limestone Plant (LP-5)'!$F$14>0,'Limestone Plant (LP-5)'!$F$14,AN19*R19),IF(C19=\"LP-6\",IF('Limestone Plant (LP-6)'!$F$14>0,'Limestone Plant (LP-6)'!$F$14,AN19*R19),IF(C19=\"LP-7\",IF('Limestone Plant (LP-7)'!$F$14>0,'Limestone Plant (LP-7)'!$F$14,AN19*R19),IF(C19=\"LP-8\",IF('Limestone Plant (LP-8)'!$F$14>0,'Limestone Plant (LP-8)'!$F$14,AN19*R19),IF(C19=\"LP-9\",IF('Limestone Plant (LP-9)'!$F$14>0,'Limestone Plant (LP-9)'!$F$14,AN19*R19),IF(C19=\"LP-10\",IF('Limestone Plant (LP-10)'!$F$14>0,'Limestone Plant (LP-10)'!$F$14,AN19*R19))))))))))))","v":""},"","",{"$f":"IF(F19=\"\",\"\",IF(B19=\"no\",'Emission Factors'!$N$43,'Emission Factors'!$N$44))","v":""},{"$f":"IF(F19=\"\",\"\",IF(C19=\"LP-1\",IF('Limestone Plant (LP-1)'!$F$15>0,'Limestone Plant (LP-1)'!$F$15,AR19*R19),IF(C19=\"LP-2\",IF('Limestone Plant (LP-2)'!$F$15>0,'Limestone Plant (LP-2)'!$F$15,AR19*R19),IF(C19=\"LP-3\",IF('Limestone Plant (LP-3)'!$F$15>0,'Limestone Plant (LP-3)'!$F$15,AR19*R19),IF(C19=\"LP-4\",IF('Limestone Plant (LP-4)'!$F$15>0,'Limestone Plant (LP-4)'!$F$15,AR19*R19),IF(C19=\"LP-5\",IF('Limestone Plant (LP-5)'!$F$15>0,'Limestone Plant (LP-5)'!$F$15,AR19*R19),IF(C19=\"LP-6\",IF('Limestone Plant (LP-6)'!$F$15>0,'Limestone Plant (LP-6)'!$F$15,AR19*R19),IF(C19=\"LP-7\",IF('Limestone Plant (LP-7)'!$F$15>0,'Limestone Plant (LP-7)'!$F$15,AR19*R19),IF(C19=\"LP-8\",IF('Limestone Plant (LP-8)'!$F$15>0,'Limestone Plant (LP-8)'!$F$15,AR19*R19),IF(C19=\"LP-9\",IF('Limestone Plant (LP-9)'!$F$15>0,'Limestone Plant (LP-9)'!$F$15,AR19*R19),IF(C19=\"LP-10\",IF('Limestone Plant (LP-10)'!$F$15>0,'Limestone Plant (LP-10)'!$F$15,AR19*R19))))))))))))","v":""},"","",{"$f":"IF(F19=\"\",\"\",IF(B19=\"no\",'Emission Factors'!$P$43,'Emission Factors'!$P$44))","v":""},"","","",{"$f":"IF(F19=\"\",\"\",IF(B19=\"no\",'Emission Factors'!$R$43,'Emission Factors'!$R$44))","v":""},"","",""]
[null,"no",null,null,null,null,null,null,null,null,1,null,null,null,null,null,null,"",null,"",null,0,"",{"$f":"IF(F20=\"\",\"\",IF(B20=\"no\",'Emission Factors'!$D$43,'Emission Factors'!$D$44))","v":""},"","","",{"$f":"IF(F20=\"\",\"\",IF(B20=\"no\",'Emission Factors'!$F$43,'Emission Factors'!$F$44))","v":""},"","","",{"$f":"IF(F20=\"\",\"\",IF(B20=\"no\",'Emission Factors'!$H$43,'Emission Factors'!$H$44))","v":""},{"$f":"IF(F20=\"\",\"\",IF(C20=\"LP-1\",IF('Limestone Plant (LP-1)'!$F$12>0,'Limestone Plant (LP-1)'!$F$12,AF20*R20*K20),IF(C20=\"LP-2\",IF('Limestone Plant (LP-2)'!$F$12>0,'Limestone Plant (LP-2)'!$F$12,AF20*R20*K20),IF(C20=\"LP-3\",IF('Limestone Plant (LP-3)'!$F$12>0,'Limestone Plant (LP-3)'!$F$12,AF20*R20*K20),IF(C20=\"LP-4\",IF('Limestone Plant (LP-4)'!$F$12>0,'Limestone Plant (LP-4)'!$F$12,AF20*R20*K20),IF(C20=\"LP-5\",IF('Limestone Plant (LP-5)'!$F$12>0,'Limestone Plant (LP-5)'!$F$12,AF20*R20*K20),IF(C20=\"LP-6\",IF('Limestone Plant (LP-6)'!$F$12>0,'Limestone Plant (LP-6)'!$F$12,AF20*R20*K20),IF(C20=\"LP-7\",IF('Limestone Plant (LP-7)'!$F$12>0,'Limestone Plant (LP-7)'!$F$12,AF20*R20*K20),IF(C20=\"LP-8\",IF('Limestone Plant (LP-8)'!$F$12>0,'Limestone Plant (LP-8)'!$F$12,AF20*R20*K20),IF(C20=\"LP-9\",IF('Limestone Plant (LP-9)'!$F$12>0,'Limestone Plant (LP-9)'!$F$12,AF20*R20*K20),IF(C20=\"LP-10\",IF('Limestone Plant (LP-10)'!$F$12>0,'Limestone Plant (LP-10)'!$F$12,AF20*R20*K20))))))))))))","v":""},"","",{"$f":"IF(F20=\"\",\"\",IF(B20=\"no\",'Emission Factors'!$J$43,'Emission Factors'!$J$44))","v":""},{"$f":"IF(F20=\"\",\"\",IF(C20=\"LP-1\",IF('Limestone Plant (LP-1)'!$F$13>0,'Limestone Plant (LP-1)'!$F$13,AJ20*R20),IF(C20=\"LP-2\",IF('Limestone Plant (LP-2)'!$F$13>0,'Limestone Plant (LP-2)'!$F$13,AJ20*R20),IF(C20=\"LP-3\",IF('Limestone Plant (LP-3)'!$F$13>0,'Limestone Plant (LP-3)'!$F$13,AJ20*R20),IF(C20=\"LP-4\",IF('Limestone Plant (LP-4)'!$F$13>0,'Limestone Plant (LP-4)'!$F$13,AJ20*R20),IF(C20=\"LP-5\",IF('Limestone Plant (LP-5)'!$F$13>0,'Limestone Plant (LP-5)'!$F$13,AJ20*R20),IF(C20=\"LP-6\",IF('Limestone Plant (LP-6)'!$F$13>0,'Limestone Plant (LP-6)'!$F$13,AJ20*R20),IF(C20=\"LP-7\",IF('Limestone Plant (LP-7)'!$F$13>0,'Limestone Plant (LP-7)'!$F$13,AJ20*R20),IF(C20=\"LP-8\",IF('Limestone Plant (LP-8)'!$F$13>0,'Limestone Plant (LP-8)'!$F$13,AJ20*R20),IF(C20=\"LP-9\",IF('Limestone Plant (LP-9)'!$F$13>0,'Limestone Plant (LP-9)'!$F$13,AJ20*R20),IF(C20=\"LP-10\",IF('Limestone Plant (LP-10)'!$F$13>0,'Limestone Plant (LP-10)'!$F$13,AJ20*R20))))))))))))","v":""},"","",{"$f":"IF(F20=\"\",\"\",IF(B20=\"no\",'Emission Factors'!$L$43,'Emission Factors'!$L$44))","v":""},{"$f":"IF(F20=\"\",\"\",IF(C20=\"LP-1\",IF('Limestone Plant (LP-1)'!$F$14>0,'Limestone Plant (LP-1)'!$F$14,AN20*R20),IF(C20=\"LP-2\",IF('Limestone Plant (LP-2)'!$F$14>0,'Limestone Plant (LP-2)'!$F$14,AN20*R20),IF(C20=\"LP-3\",IF('Limestone Plant (LP-3)'!$F$14>0,'Limestone Plant (LP-3)'!$F$14,AN20*R20),IF(C20=\"LP-4\",IF('Limestone Plant (LP-4)'!$F$14>0,'Limestone Plant (LP-4)'!$F$14,AN20*R20),IF(C20=\"LP-5\",IF('Limestone Plant (LP-5)'!$F$14>0,'Limestone Plant (LP-5)'!$F$14,AN20*R20),IF(C20=\"LP-6\",IF('Limestone Plant (LP-6)'!$F$14>0,'Limestone Plant (LP-6)'!$F$14,AN20*R20),IF(C20=\"LP-7\",IF('Limestone Plant (LP-7)'!$F$14>0,'Limestone Plant (LP-7)'!$F$14,AN20*R20),IF(C20=\"LP-8\",IF('Limestone Plant (LP-8)'!$F$14>0,'Limestone Plant (LP-8)'!$F$14,AN20*R20),IF(C20=\"LP-9\",IF('Limestone Plant (LP-9)'!$F$14>0,'Limestone Plant (LP-9)'!$F$14,AN20*R20),IF(C20=\"LP-10\",IF('Limestone Plant (LP-10)'!$F$14>0,'Limestone Plant (LP-10)'!$F$14,AN20*R20))))))))))))","v":""},"","",{"$f":"IF(F20=\"\",\"\",IF(B20=\"no\",'Emission Factors'!$N$43,'Emission Factors'!$N$44))","v":""},{"$f":"IF(F20=\"\",\"\",IF(C20=\"LP-1\",IF('Limestone Plant (LP-1)'!$F$15>0,'Limestone Plant (LP-1)'!$F$15,AR20*R20),IF(C20=\"LP-2\",IF('Limestone Plant (LP-2)'!$F$15>0,'Limestone Plant (LP-2)'!$F$15,AR20*R20),IF(C20=\"LP-3\",IF('Limestone Plant (LP-3)'!$F$15>0,'Limestone Plant (LP-3)'!$F$15,AR20*R20),IF(C20=\"LP-4\",IF('Limestone Plant (LP-4)'!$F$15>0,'Limestone Plant (LP-4)'!$F$15,AR20*R20),IF(C20=\"LP-5\",IF('Limestone Plant (LP-5)'!$F$15>0,'Limestone Plant (LP-5)'!$F$15,AR20*R20),IF(C20=\"LP-6\",IF('Limestone Plant (LP-6)'!$F$15>0,'Limestone Plant (LP-6)'!$F$15,AR20*R20),IF(C20=\"LP-7\",IF('Limestone Plant (LP-7)'!$F$15>0,'Limestone Plant (LP-7)'!$F$15,AR20*R20),IF(C20=\"LP-8\",IF('Limestone Plant (LP-8)'!$F$15>0,'Limestone Plant (LP-8)'!$F$15,AR20*R20),IF(C20=\"LP-9\",IF('Limestone Plant (LP-9)'!$F$15>0,'Limestone Plant (LP-9)'!$F$15,AR20*R20),IF(C20=\"LP-10\",IF('Limestone Plant (LP-10)'!$F$15>0,'Limestone Plant (LP-10)'!$F$15,AR20*R20))))))))))))","v":""},"","",{"$f":"IF(F20=\"\",\"\",IF(B20=\"no\",'Emission Factors'!$P$43,'Emission Factors'!$P$44))","v":""},"","","",{"$f":"IF(F20=\"\",\"\",IF(B20=\"no\",'Emission Factors'!$R$43,'Emission Factors'!$R$44))","v":""},"","",""]
[null,"no",null,null,null,null,null,null,null,null,1,null,null,null,null,null,null,"",null,"",null,0,"",{"$f":"IF(F21=\"\",\"\",IF(B21=\"no\",'Emission Factors'!$D$43,'Emission Factors'!$D$44))","v":""},"","","",{"$f":"IF(F21=\"\",\"\",IF(B21=\"no\",'Emission Factors'!$F$43,'Emission Factors'!$F$44))","v":""},"","","",{"$f":"IF(F21=\"\",\"\",IF(B21=\"no\",'Emission Factors'!$H$43,'Emission Factors'!$H$44))","v":""},{"$f":"IF(F21=\"\",\"\",IF(C21=\"LP-1\",IF('Limestone Plant (LP-1)'!$F$12>0,'Limestone Plant (LP-1)'!$F$12,AF21*R21*K21),IF(C21=\"LP-2\",IF('Limestone Plant (LP-2)'!$F$12>0,'Limestone Plant (LP-2)'!$F$12,AF21*R21*K21),IF(C21=\"LP-3\",IF('Limestone Plant (LP-3)'!$F$12>0,'Limestone Plant (LP-3)'!$F$12,AF21*R21*K21),IF(C21=\"LP-4\",IF('Limestone Plant (LP-4)'!$F$12>0,'Limestone Plant (LP-4)'!$F$12,AF21*R21*K21),IF(C21=\"LP-5\",IF('Limestone Plant (LP-5)'!$F$12>0,'Limestone Plant (LP-5)'!$F$12,AF21*R21*K21),IF(C21=\"LP-6\",IF('Limestone Plant (LP-6)'!$F$12>0,'Limestone Plant (LP-6)'!$F$12,AF21*R21*K21),IF(C21=\"LP-7\",IF('Limestone Plant (LP-7)'!$F$12>0,'Limestone Plant (LP-7)'!$F$12,AF21*R21*K21),IF(C21=\"LP-8\",IF('Limestone Plant (LP-8)'!$F$12>0,'Limestone Plant (LP-8)'!$F$12,AF21*R21*K21),IF(C21=\"LP-9\",IF('Limestone Plant (LP-9)'!$F$12>0,'Limestone Plant (LP-9)'!$F$12,AF21*R21*K21),IF(C21=\"LP-10\",IF('Limestone Plant (LP-10)'!$F$12>0,'Limestone Plant (LP-10)'!$F$12,AF21*R21*K21))))))))))))","v":""},"","",{"$f":"IF(F21=\"\",\"\",IF(B21=\"no\",'Emission Factors'!$J$43,'Emission Factors'!$J$44))","v":""},{"$f":"IF(F21=\"\",\"\",IF(C21=\"LP-1\",IF('Limestone Plant (LP-1)'!$F$13>0,'Limestone Plant (LP-1)'!$F$13,AJ21*R21),IF(C21=\"LP-2\",IF('Limestone Plant (LP-2)'!$F$13>0,'Limestone Plant (LP-2)'!$F$13,AJ21*R21),IF(C21=\"LP-3\",IF('Limestone Plant (LP-3)'!$F$13>0,'Limestone Plant (LP-3)'!$F$13,AJ21*R21),IF(C21=\"LP-4\",IF('Limestone Plant (LP-4)'!$F$13>0,'Limestone Plant (LP-4)'!$F$13,AJ21*R21),IF(C21=\"LP-5\",IF('Limestone Plant (LP-5)'!$F$13>0,'Limestone Plant (LP-5)'!$F$13,AJ21*R21),IF(C21=\"LP-6\",IF('Limestone Plant (LP-6)'!$F$13>0,'Limestone Plant (LP-6)'!$F$13,AJ21*R21),IF(C21=\"LP-7\",IF('Limestone Plant (LP-7)'!$F$13>0,'Limestone Plant (LP-7)'!$F$13,AJ21*R21),IF(C21=\"LP-8\",IF('Limestone Plant (LP-8)'!$F$13>0,'Limestone Plant (LP-8)'!$F$13,AJ21*R21),IF(C21=\"LP-9\",IF('Limestone Plant (LP-9)'!$F$13>0,'Limestone Plant (LP-9)'!$F$13,AJ21*R21),IF(C21=\"LP-10\",IF('Limestone Plant (LP-10)'!$F$13>0,'Limestone Plant (LP-10)'!$F$13,AJ21*R21))))))))))))","v":""},"","",{"$f":"IF(F21=\"\",\"\",IF(B21=\"no\",'Emission Factors'!$L$43,'Emission Factors'!$L$44))","v":""},{"$f":"IF(F21=\"\",\"\",IF(C21=\"LP-1\",IF('Limestone Plant (LP-1)'!$F$14>0,'Limestone Plant (LP-1)'!$F$14,AN21*R21),IF(C21=\"LP-2\",IF('Limestone Plant (LP-2)'!$F$14>0,'Limestone Plant (LP-2)'!$F$14,AN21*R21),IF(C21=\"LP-3\",IF('Limestone Plant (LP-3)'!$F$14>0,'Limestone Plant (LP-3)'!$F$14,AN21*R21),IF(C21=\"LP-4\",IF('Limestone Plant (LP-4)'!$F$14>0,'Limestone Plant (LP-4)'!$F$14,AN21*R21),IF(C21=\"LP-5\",IF('Limestone Plant (LP-5)'!$F$14>0,'Limestone Plant (LP-5)'!$F$14,AN21*R21),IF(C21=\"LP-6\",IF('Limestone Plant (LP-6)'!$F$14>0,'Limestone Plant (LP-6)'!$F$14,AN21*R21),IF(C21=\"LP-7\",IF('Limestone Plant (LP-7)'!$F$14>0,'Limestone Plant (LP-7)'!$F$14,AN21*R21),IF(C21=\"LP-8\",IF('Limestone Plant (LP-8)'!$F$14>0,'Limestone Plant (LP-8)'!$F$14,AN21*R21),IF(C21=\"LP-9\",IF('Limestone Plant (LP-9)'!$F$14>0,'Limestone Plant (LP-9)'!$F$14,AN21*R21),IF(C21=\"LP-10\",IF('Limestone Plant (LP-10)'!$F$14>0,'Limestone Plant (LP-10)'!$F$14,AN21*R21))))))))))))","v":""},"","",{"$f":"IF(F21=\"\",\"\",IF(B21=\"no\",'Emission Factors'!$N$43,'Emission Factors'!$N$44))","v":""},{"$f":"IF(F21=\"\",\"\",IF(C21=\"LP-1\",IF('Limestone Plant (LP-1)'!$F$15>0,'Limestone Plant (LP-1)'!$F$15,AR21*R21),IF(C21=\"LP-2\",IF('Limestone Plant (LP-2)'!$F$15>0,'Limestone Plant (LP-2)'!$F$15,AR21*R21),IF(C21=\"LP-3\",IF('Limestone Plant (LP-3)'!$F$15>0,'Limestone Plant (LP-3)'!$F$15,AR21*R21),IF(C21=\"LP-4\",IF('Limestone Plant (LP-4)'!$F$15>0,'Limestone Plant (LP-4)'!$F$15,AR21*R21),IF(C21=\"LP-5\",IF('Limestone Plant (LP-5)'!$F$15>0,'Limestone Plant (LP-5)'!$F$15,AR21*R21),IF(C21=\"LP-6\",IF('Limestone Plant (LP-6)'!$F$15>0,'Limestone Plant (LP-6)'!$F$15,AR21*R21),IF(C21=\"LP-7\",IF('Limestone Plant (LP-7)'!$F$15>0,'Limestone Plant (LP-7)'!$F$15,AR21*R21),IF(C21=\"LP-8\",IF('Limestone Plant (LP-8)'!$F$15>0,'Limestone Plant (LP-8)'!$F$15,AR21*R21),IF(C21=\"LP-9\",IF('Limestone Plant (LP-9)'!$F$15>0,'Limestone Plant (LP-9)'!$F$15,AR21*R21),IF(C21=\"LP-10\",IF('Limestone Plant (LP-10)'!$F$15>0,'Limestone Plant (LP-10)'!$F$15,AR21*R21))))))))))))","v":""},"","",{"$f":"IF(F21=\"\",\"\",IF(B21=\"no\",'Emission Factors'!$P$43,'Emission Factors'!$P$44))","v":""},"","","",{"$f":"IF(F21=\"\",\"\",IF(B21=\"no\",'Emission Factors'!$R$43,'Emission Factors'!$R$44))","v":""},"","",""]
[null,"no",null,null,null,null,null,null,null,null,1,null,null,null,null,null,null,"",null,"",null,0,"",{"$f":"IF(F22=\"\",\"\",IF(B22=\"no\",'Emission Factors'!$D$43,'Emission Factors'!$D$44))","v":""},"","","",{"$f":"IF(F22=\"\",\"\",IF(B22=\"no\",'Emission Factors'!$F$43,'Emission Factors'!$F$44))","v":""},"","","",{"$f":"IF(F22=\"\",\"\",IF(B22=\"no\",'Emission Factors'!$H$43,'Emission Factors'!$H$44))","v":""},{"$f":"IF(F22=\"\",\"\",IF(C22=\"LP-1\",IF('Limestone Plant (LP-1)'!$F$12>0,'Limestone Plant (LP-1)'!$F$12,AF22*R22*K22),IF(C22=\"LP-2\",IF('Limestone Plant (LP-2)'!$F$12>0,'Limestone Plant (LP-2)'!$F$12,AF22*R22*K22),IF(C22=\"LP-3\",IF('Limestone Plant (LP-3)'!$F$12>0,'Limestone Plant (LP-3)'!$F$12,AF22*R22*K22),IF(C22=\"LP-4\",IF('Limestone Plant (LP-4)'!$F$12>0,'Limestone Plant (LP-4)'!$F$12,AF22*R22*K22),IF(C22=\"LP-5\",IF('Limestone Plant (LP-5)'!$F$12>0,'Limestone Plant (LP-5)'!$F$12,AF22*R22*K22),IF(C22=\"LP-6\",IF('Limestone Plant (LP-6)'!$F$12>0,'Limestone Plant (LP-6)'!$F$12,AF22*R22*K22),IF(C22=\"LP-7\",IF('Limestone Plant (LP-7)'!$F$12>0,'Limestone Plant (LP-7)'!$F$12,AF22*R22*K22),IF(C22=\"LP-8\",IF('Limestone Plant (LP-8)'!$F$12>0,'Limestone Plant (LP-8)'!$F$12,AF22*R22*K22),IF(C22=\"LP-9\",IF('Limestone Plant (LP-9)'!$F$12>0,'Limestone Plant (LP-9)'!$F$12,AF22*R22*K22),IF(C22=\"LP-10\",IF('Limestone Plant (LP-10)'!$F$12>0,'Limestone Plant (LP-10)'!$F$12,AF22*R22*K22))))))))))))","v":""},"","",{"$f":"IF(F22=\"\",\"\",IF(B22=\"no\",'Emission Factors'!$J$43,'Emission Factors'!$J$44))","v":""},{"$f":"IF(F22=\"\",\"\",IF(C22=\"LP-1\",IF('Limestone Plant (LP-1)'!$F$13>0,'Limestone Plant (LP-1)'!$F$13,AJ22*R22),IF(C22=\"LP-2\",IF('Limestone Plant (LP-2)'!$F$13>0,'Limestone Plant (LP-2)'!$F$13,AJ22*R22),IF(C22=\"LP-3\",IF('Limestone Plant (LP-3)'!$F$13>0,'Limestone Plant (LP-3)'!$F$13,AJ22*R22),IF(C22=\"LP-4\",IF('Limestone Plant (LP-4)'!$F$13>0,'Limestone Plant (LP-4)'!$F$13,AJ22*R22),IF(C22=\"LP-5\",IF('Limestone Plant (LP-5)'!$F$13>0,'Limestone Plant (LP-5)'!$F$13,AJ22*R22),IF(C22=\"LP-6\",IF('Limestone Plant (LP-6)'!$F$13>0,'Limestone Plant (LP-6)'!$F$13,AJ22*R22),IF(C22=\"LP-7\",IF('Limestone Plant (LP-7)'!$F$13>0,'Limestone Plant (LP-7)'!$F$13,AJ22*R22),IF(C22=\"LP-8\",IF('Limestone Plant (LP-8)'!$F$13>0,'Limestone Plant (LP-8)'!$F$13,AJ22*R22),IF(C22=\"LP-9\",IF('Limestone Plant (LP-9)'!$F$13>0,'Limestone Plant (LP-9)'!$F$13,AJ22*R22),IF(C22=\"LP-10\",IF('Limestone Plant (LP-10)'!$F$13>0,'Limestone Plant (LP-10)'!$F$13,AJ22*R22))))))))))))","v":""},"","",{"$f":"IF(F22=\"\",\"\",IF(B22=\"no\",'Emission Factors'!$L$43,'Emission Factors'!$L$44))","v":""},{"$f":"IF(F22=\"\",\"\",IF(C22=\"LP-1\",IF('Limestone Plant (LP-1)'!$F$14>0,'Limestone Plant (LP-1)'!$F$14,AN22*R22),IF(C22=\"LP-2\",IF('Limestone Plant (LP-2)'!$F$14>0,'Limestone Plant (LP-2)'!$F$14,AN22*R22),IF(C22=\"LP-3\",IF('Limestone Plant (LP-3)'!$F$14>0,'Limestone Plant (LP-3)'!$F$14,AN22*R22),IF(C22=\"LP-4\",IF('Limestone Plant (LP-4)'!$F$14>0,'Limestone Plant (LP-4)'!$F$14,AN22*R22),IF(C22=\"LP-5\",IF('Limestone Plant (LP-5)'!$F$14>0,'Limestone Plant (LP-5)'!$F$14,AN22*R22),IF(C22=\"LP-6\",IF('Limestone Plant (LP-6)'!$F$14>0,'Limestone Plant (LP-6)'!$F$14,AN22*R22),IF(C22=\"LP-7\",IF('Limestone Plant (LP-7)'!$F$14>0,'Limestone Plant (LP-7)'!$F$14,AN22*R22),IF(C22=\"LP-8\",IF('Limestone Plant (LP-8)'!$F$14>0,'Limestone Plant (LP-8)'!$F$14,AN22*R22),IF(C22=\"LP-9\",IF('Limestone Plant (LP-9)'!$F$14>0,'Limestone Plant (LP-9)'!$F$14,AN22*R22),IF(C22=\"LP-10\",IF('Limestone Plant (LP-10)'!$F$14>0,'Limestone Plant (LP-10)'!$F$14,AN22*R22))))))))))))","v":""},"","",{"$f":"IF(F22=\"\",\"\",IF(B22=\"no\",'Emission Factors'!$N$43,'Emission Factors'!$N$44))","v":""},{"$f":"IF(F22=\"\",\"\",IF(C22=\"LP-1\",IF('Limestone Plant (LP-1)'!$F$15>0,'Limestone Plant (LP-1)'!$F$15,AR22*R22),IF(C22=\"LP-2\",IF('Limestone Plant (LP-2)'!$F$15>0,'Limestone Plant (LP-2)'!$F$15,AR22*R22),IF(C22=\"LP-3\",IF('Limestone Plant (LP-3)'!$F$15>0,'Limestone Plant (LP-3)'!$F$15,AR22*R22),IF(C22=\"LP-4\",IF('Limestone Plant (LP-4)'!$F$15>0,'Limestone Plant (LP-4)'!$F$15,AR22*R22),IF(C22=\"LP-5\",IF('Limestone Plant (LP-5)'!$F$15>0,'Limestone Plant (LP-5)'!$F$15,AR22*R22),IF(C22=\"LP-6\",IF('Limestone Plant (LP-6)'!$F$15>0,'Limestone Plant (LP-6)'!$F$15,AR22*R22),IF(C22=\"LP-7\",IF('Limestone Plant (LP-7)'!$F$15>0,'Limestone Plant (LP-7)'!$F$15,AR22*R22),IF(C22=\"LP-8\",IF('Limestone Plant (LP-8)'!$F$15>0,'Limestone Plant (LP-8)'!$F$15,AR22*R22),IF(C22=\"LP-9\",IF('Limestone Plant (LP-9)'!$F$15>0,'Limestone Plant (LP-9)'!$F$15,AR22*R22),IF(C22=\"LP-10\",IF('Limestone Plant (LP-10)'!$F$15>0,'Limestone Plant (LP-10)'!$F$15,AR22*R22))))))))))))","v":""},"","",{"$f":"IF(F22=\"\",\"\",IF(B22=\"no\",'Emission Factors'!$P$43,'Emission Factors'!$P$44))","v":""},"","","",{"$f":"IF(F22=\"\",\"\",IF(B22=\"no\",'Emission Factors'!$R$43,'Emission Factors'!$R$44))","v":""},"","",""]
[null,"no",null,null,null,null,null,null,null,null,1,null,null,null,null,null,null,"",null,"",null,0,"",{"$f":"IF(F23=\"\",\"\",IF(B23=\"no\",'Emission Factors'!$D$43,'Emission Factors'!$D$44))","v":""},"","","",{"$f":"IF(F23=\"\",\"\",IF(B23=\"no\",'Emission Factors'!$F$43,'Emission Factors'!$F$44))","v":""},"","","",{"$f":"IF(F23=\"\",\"\",IF(B23=\"no\",'Emission Factors'!$H$43,'Emission Factors'!$H$44))","v":""},{"$f":"IF(F23=\"\",\"\",IF(C23=\"LP-1\",IF('Limestone Plant (LP-1)'!$F$12>0,'Limestone Plant (LP-1)'!$F$12,AF23*R23*K23),IF(C23=\"LP-2\",IF('Limestone Plant (LP-2)'!$F$12>0,'Limestone Plant (LP-2)'!$F$12,AF23*R23*K23),IF(C23=\"LP-3\",IF('Limestone Plant (LP-3)'!$F$12>0,'Limestone Plant (LP-3)'!$F$12,AF23*R23*K23),IF(C23=\"LP-4\",IF('Limestone Plant (LP-4)'!$F$12>0,'Limestone Plant (LP-4)'!$F$12,AF23*R23*K23),IF(C23=\"LP-5\",IF('Limestone Plant (LP-5)'!$F$12>0,'Limestone Plant (LP-5)'!$F$12,AF23*R23*K23),IF(C23=\"LP-6\",IF('Limestone Plant (LP-6)'!$F$12>0,'Limestone Plant (LP-6)'!$F$12,AF23*R23*K23),IF(C23=\"LP-7\",IF('Limestone Plant (LP-7)'!$F$12>0,'Limestone Plant (LP-7)'!$F$12,AF23*R23*K23),IF(C23=\"LP-8\",IF('Limestone Plant (LP-8)'!$F$12>0,'Limestone Plant (LP-8)'!$F$12,AF23*R23*K23),IF(C23=\"LP-9\",IF('Limestone Plant (LP-9)'!$F$12>0,'Limestone Plant (LP-9)'!$F$12,AF23*R23*K23),IF(C23=\"LP-10\",IF('Limestone Plant (LP-10)'!$F$12>0,'Limestone Plant (LP-10)'!$F$12,AF23*R23*K23))))))))))))","v":""},"","",{"$f":"IF(F23=\"\",\"\",IF(B23=\"no\",'Emission Factors'!$J$43,'Emission Factors'!$J$44))","v":""},{"$f":"IF(F23=\"\",\"\",IF(C23=\"LP-1\",IF('Limestone Plant (LP-1)'!$F$13>0,'Limestone Plant (LP-1)'!$F$13,AJ23*R23),IF(C23=\"LP-2\",IF('Limestone Plant (LP-2)'!$F$13>0,'Limestone Plant (LP-2)'!$F$13,AJ23*R23),IF(C23=\"LP-3\",IF('Limestone Plant (LP-3)'!$F$13>0,'Limestone Plant (LP-3)'!$F$13,AJ23*R23),IF(C23=\"LP-4\",IF('Limestone Plant (LP-4)'!$F$13>0,'Limestone Plant (LP-4)'!$F$13,AJ23*R23),IF(C23=\"LP-5\",IF('Limestone Plant (LP-5)'!$F$13>0,'Limestone Plant (LP-5)'!$F$13,AJ23*R23),IF(C23=\"LP-6\",IF('Limestone Plant (LP-6)'!$F$13>0,'Limestone Plant (LP-6)'!$F$13,AJ23*R23),IF(C23=\"LP-7\",IF('Limestone Plant (LP-7)'!$F$13>0,'Limestone Plant (LP-7)'!$F$13,AJ23*R23),IF(C23=\"LP-8\",IF('Limestone Plant (LP-8)'!$F$13>0,'Limestone Plant (LP-8)'!$F$13,AJ23*R23),IF(C23=\"LP-9\",IF('Limestone Plant (LP-9)'!$F$13>0,'Limestone Plant (LP-9)'!$F$13,AJ23*R23),IF(C23=\"LP-10\",IF('Limestone Plant (LP-10)'!$F$13>0,'Limestone Plant (LP-10)'!$F$13,AJ23*R23))))))))))))","v":""},"","",{"$f":"IF(F23=\"\",\"\",IF(B23=\"no\",'Emission Factors'!$L$43,'Emission Factors'!$L$44))","v":""},{"$f":"IF(F23=\"\",\"\",IF(C23=\"LP-1\",IF('Limestone Plant (LP-1)'!$F$14>0,'Limestone Plant (LP-1)'!$F$14,AN23*R23),IF(C23=\"LP-2\",IF('Limestone Plant (LP-2)'!$F$14>0,'Limestone Plant (LP-2)'!$F$14,AN23*R23),IF(C23=\"LP-3\",IF('Limestone Plant (LP-3)'!$F$14>0,'Limestone Plant (LP-3)'!$F$14,AN23*R23),IF(C23=\"LP-4\",IF('Limestone Plant (LP-4)'!$F$14>0,'Limestone Plant (LP-4)'!$F$14,AN23*R23),IF(C23=\"LP-5\",IF('Limestone Plant (LP-5)'!$F$14>0,'Limestone Plant (LP-5)'!$F$14,AN23*R23),IF(C23=\"LP-6\",IF('Limestone Plant (LP-6)'!$F$14>0,'Limestone Plant (LP-6)'!$F$14,AN23*R23),IF(C23=\"LP-7\",IF('Limestone Plant (LP-7)'!$F$14>0,'Limestone Plant (LP-7)'!$F$14,AN23*R23),IF(C23=\"LP-8\",IF('Limestone Plant (LP-8)'!$F$14>0,'Limestone Plant (LP-8)'!$F$14,AN23*R23),IF(C23=\"LP-9\",IF('Limestone Plant (LP-9)'!$F$14>0,'Limestone Plant (LP-9)'!$F$14,AN23*R23),IF(C23=\"LP-10\",IF('Limestone Plant (LP-10)'!$F$14>0,'Limestone Plant (LP-10)'!$F$14,AN23*R23))))))))))))","v":""},"","",{"$f":"IF(F23=\"\",\"\",IF(B23=\"no\",'Emission Factors'!$N$43,'Emission Factors'!$N$44))","v":""},{"$f":"IF(F23=\"\",\"\",IF(C23=\"LP-1\",IF('Limestone Plant (LP-1)'!$F$15>0,'Limestone Plant (LP-1)'!$F$15,AR23*R23),IF(C23=\"LP-2\",IF('Limestone Plant (LP-2)'!$F$15>0,'Limestone Plant (LP-2)'!$F$15,AR23*R23),IF(C23=\"LP-3\",IF('Limestone Plant (LP-3)'!$F$15>0,'Limestone Plant (LP-3)'!$F$15,AR23*R23),IF(C23=\"LP-4\",IF('Limestone Plant (LP-4)'!$F$15>0,'Limestone Plant (LP-4)'!$F$15,AR23*R23),IF(C23=\"LP-5\",IF('Limestone Plant (LP-5)'!$F$15>0,'Limestone Plant (LP-5)'!$F$15,AR23*R23),IF(C23=\"LP-6\",IF('Limestone Plant (LP-6)'!$F$15>0,'Limestone Plant (LP-6)'!$F$15,AR23*R23),IF(C23=\"LP-7\",IF('Limestone Plant (LP-7)'!$F$15>0,'Limestone Plant (LP-7)'!$F$15,AR23*R23),IF(C23=\"LP-8\",IF('Limestone Plant (LP-8)'!$F$15>0,'Limestone Plant (LP-8)'!$F$15,AR23*R23),IF(C23=\"LP-9\",IF('Limestone Plant (LP-9)'!$F$15>0,'Limestone Plant (LP-9)'!$F$15,AR23*R23),IF(C23=\"LP-10\",IF('Limestone Plant (LP-10)'!$F$15>0,'Limestone Plant (LP-10)'!$F$15,AR23*R23))))))))))))","v":""},"","",{"$f":"IF(F23=\"\",\"\",IF(B23=\"no\",'Emission Factors'!$P$43,'Emission Factors'!$P$44))","v":""},"","","",{"$f":"IF(F23=\"\",\"\",IF(B23=\"no\",'Emission Factors'!$R$43,'Emission Factors'!$R$44))","v":""},"","",""]
[null,{"$f":"IF(F24=\"Diesel Generator> 600 bhp\",\"yes\",\"no\")","v":"no"},null,null,null,null,null,null,null,null,1,null,null,null,null,null,null,{"$f":"IF(Q24=\"\",\"\",Q24*0.14)","v":""},null,{"$f":"IF(S24=\"\",\"\",S24*0.14)","v":""},null,0,"",{"$f":"IF(F24=\"\",\"\",IF(B24=\"no\",'Emission Factors'!$D$43,'Emission Factors'!$D$44))","v":""},"","","",{"$f":"IF(F24=\"\",\"\",IF(B24=\"no\",'Emission Factors'!$F$43,'Emission Factors'!$F$44))","v":""},"","","",{"$f":"IF(F24=\"\",\"\",IF(B24=\"no\",'Emission Factors'!$H$43,'Emission Factors'!$H$44))","v":""},{"$f":"IF(F24=\"\",\"\",IF(C24=\"LP-1\",IF('Limestone Plant (LP-1)'!$F$12>0,'Limestone Plant (LP-1)'!$F$12,AF24*R24*K24),IF(C24=\"LP-2\",IF('Limestone Plant (LP-2)'!$F$12>0,'Limestone Plant (LP-2)'!$F$12,AF24*R24*K24),IF(C24=\"LP-3\",IF('Limestone Plant (LP-3)'!$F$12>0,'Limestone Plant (LP-3)'!$F$12,AF24*R24*K24),IF(C24=\"LP-4\",IF('Limestone Plant (LP-4)'!$F$12>0,'Limestone Plant (LP-4)'!$F$12,AF24*R24*K24),IF(C24=\"LP-5\",IF('Limestone Plant (LP-5)'!$F$12>0,'Limestone Plant (LP-5)'!$F$12,AF24*R24*K24),IF(C24=\"LP-6\",IF('Limestone Plant (LP-6)'!$F$12>0,'Limestone Plant (LP-6)'!$F$12,AF24*R24*K24),IF(C24=\"LP-7\",IF('Limestone Plant (LP-7)'!$F$12>0,'Limestone Plant (LP-7)'!$F$12,AF24*R24*K24),IF(C24=\"LP-8\",IF('Limestone Plant (LP-8)'!$F$12>0,'Limestone Plant (LP-8)'!$F$12,AF24*R24*K24),IF(C24=\"LP-9\",IF('Limestone Plant (LP-9)'!$F$12>0,'Limestone Plant (LP-9)'!$F$12,AF24*R24*K24),IF(C24=\"LP-10\",IF('Limestone Plant (LP-10)'!$F$12>0,'Limestone Plant (LP-10)'!$F$12,AF24*R24*K24))))))))))))","v":""},"","",{"$f":"IF(F24=\"\",\"\",IF(B24=\"no\",'Emission Factors'!$J$43,'Emission Factors'!$J$44))","v":""},{"$f":"IF(F24=\"\",\"\",IF(C24=\"LP-1\",IF('Limestone Plant (LP-1)'!$F$13>0,'Limestone Plant (LP-1)'!$F$13,AJ24*R24),IF(C24=\"LP-2\",IF('Limestone Plant (LP-2)'!$F$13>0,'Limestone Plant (LP-2)'!$F$13,AJ24*R24),IF(C24=\"LP-3\",IF('Limestone Plant (LP-3)'!$F$13>0,'Limestone Plant (LP-3)'!$F$13,AJ24*R24),IF(C24=\"LP-4\",IF('Limestone Plant (LP-4)'!$F$13>0,'Limestone Plant (LP-4)'!$F$13,AJ24*R24),IF(C24=\"LP-5\",IF('Limestone Plant (LP-5)'!$F$13>0,'Limestone Plant (LP-5)'!$F$13,AJ24*R24),IF(C24=\"LP-6\",IF('Limestone Plant (LP-6)'!$F$13>0,'Limestone Plant (LP-6)'!$F$13,AJ24*R24),IF(C24=\"LP-7\",IF('Limestone Plant (LP-7)'!$F$13>0,'Limestone Plant (LP-7)'!$F$13,AJ24*R24),IF(C24=\"LP-8\",IF('Limestone Plant (LP-8)'!$F$13>0,'Limestone Plant (LP-8)'!$F$13,AJ24*R24),IF(C24=\"LP-9\",IF('Limestone Plant (LP-9)'!$F$13>0,'Limestone Plant (LP-9)'!$F$13,AJ24*R24),IF(C24=\"LP-10\",IF('Limestone Plant (LP-10)'!$F$13>0,'Limestone Plant (LP-10)'!$F$13,AJ24*R24))))))))))))","v":""},"","",{"$f":"IF(F24=\"\",\"\",IF(B24=\"no\",'Emission Factors'!$L$43,'Emission Factors'!$L$44))","v":""},{"$f":"IF(F24=\"\",\"\",IF(C24=\"LP-1\",IF('Limestone Plant (LP-1)'!$F$14>0,'Limestone Plant (LP-1)'!$F$14,AN24*R24),IF(C24=\"LP-2\",IF('Limestone Plant (LP-2)'!$F$14>0,'Limestone Plant (LP-2)'!$F$14,AN24*R24),IF(C24=\"LP-3\",IF('Limestone Plant (LP-3)'!$F$14>0,'Limestone Plant (LP-3)'!$F$14,AN24*R24),IF(C24=\"LP-4\",IF('Limestone Plant (LP-4)'!$F$14>0,'Limestone Plant (LP-4)'!$F$14,AN24*R24),IF(C24=\"LP-5\",IF('Limestone Plant (LP-5)'!$F$14>0,'Limestone Plant (LP-5)'!$F$14,AN24*R24),IF(C24=\"LP-6\",IF('Limestone Plant (LP-6)'!$F$14>0,'Limestone Plant (LP-6)'!$F$14,AN24*R24),IF(C24=\"LP-7\",IF('Limestone Plant (LP-7)'!$F$14>0,'Limestone Plant (LP-7)'!$F$14,AN24*R24),IF(C24=\"LP-8\",IF('Limestone Plant (LP-8)'!$F$14>0,'Limestone Plant (LP-8)'!$F$14,AN24*R24),IF(C24=\"LP-9\",IF('Limestone Plant (LP-9)'!$F$14>0,'Limestone Plant (LP-9)'!$F$14,AN24*R24),IF(C24=\"LP-10\",IF('Limestone Plant (LP-10)'!$F$14>0,'Limestone Plant (LP-10)'!$F$14,AN24*R24))))))))))))","v":""},"","",{"$f":"IF(F24=\"\",\"\",IF(B24=\"no\",'Emission Factors'!$N$43,'Emission Factors'!$N$44))","v":""},{"$f":"IF(F24=\"\",\"\",IF(C24=\"LP-1\",IF('Limestone Plant (LP-1)'!$F$15>0,'Limestone Plant (LP-1)'!$F$15,AR24*R24),IF(C24=\"LP-2\",IF('Limestone Plant (LP-2)'!$F$15>0,'Limestone Plant (LP-2)'!$F$15,AR24*R24),IF(C24=\"LP-3\",IF('Limestone Plant (LP-3)'!$F$15>0,'Limestone Plant (LP-3)'!$F$15,AR24*R24),IF(C24=\"LP-4\",IF('Limestone Plant (LP-4)'!$F$15>0,'Limestone Plant (LP-4)'!$F$15,AR24*R24),IF(C24=\"LP-5\",IF('Limestone Plant (LP-5)'!$F$15>0,'Limestone Plant (LP-5)'!$F$15,AR24*R24),IF(C24=\"LP-6\",IF('Limestone Plant (LP-6)'!$F$15>0,'Limestone Plant (LP-6)'!$F$15,AR24*R24),IF(C24=\"LP-7\",IF('Limestone Plant (LP-7)'!$F$15>0,'Limestone Plant (LP-7)'!$F$15,AR24*R24),IF(C24=\"LP-8\",IF('Limestone Plant (LP-8)'!$F$15>0,'Limestone Plant (LP-8)'!$F$15,AR24*R24),IF(C24=\"LP-9\",IF('Limestone Plant (LP-9)'!$F$15>0,'Limestone Plant (LP-9)'!$F$15,AR24*R24),IF(C24=\"LP-10\",IF('Limestone Plant (LP-10)'!$F$15>0,'Limestone Plant (LP-10)'!$F$15,AR24*R24))))))))))))","v":""},"","",{"$f":"IF(F24=\"\",\"\",IF(B24=\"no\",'Emission Factors'!$P$43,'Emission Factors'!$P$44))","v":""},"","","",{"$f":"IF(F24=\"\",\"\",IF(B24=\"no\",'Emission Factors'!$R$43,'Emission Factors'!$R$44))","v":""},"","",""]
[null,{"$f":"IF(F25=\"Diesel Generator> 600 bhp\",\"yes\",\"no\")","v":"no"},null,null,null,null,null,null,null,null,1,null,null,null,null,null,null,{"$f":"IF(Q25=\"\",\"\",Q25*0.14)","v":""},null,{"$f":"IF(S25=\"\",\"\",S25*0.14)","v":""},null,0,"",{"$f":"IF(F25=\"\",\"\",IF(B25=\"no\",'Emission Factors'!$D$43,'Emission Factors'!$D$44))","v":""},"","","",{"$f":"IF(F25=\"\",\"\",IF(B25=\"no\",'Emission Factors'!$F$43,'Emission Factors'!$F$44))","v":""},"","","",{"$f":"IF(F25=\"\",\"\",IF(B25=\"no\",'Emission Factors'!$H$43,'Emission Factors'!$H$44))","v":""},{"$f":"IF(F25=\"\",\"\",IF(C25=\"LP-1\",IF('Limestone Plant (LP-1)'!$F$12>0,'Limestone Plant (LP-1)'!$F$12,AF25*R25*K25),IF(C25=\"LP-2\",IF('Limestone Plant (LP-2)'!$F$12>0,'Limestone Plant (LP-2)'!$F$12,AF25*R25*K25),IF(C25=\"LP-3\",IF('Limestone Plant (LP-3)'!$F$12>0,'Limestone Plant (LP-3)'!$F$12,AF25*R25*K25),IF(C25=\"LP-4\",IF('Limestone Plant (LP-4)'!$F$12>0,'Limestone Plant (LP-4)'!$F$12,AF25*R25*K25),IF(C25=\"LP-5\",IF('Limestone Plant (LP-5)'!$F$12>0,'Limestone Plant (LP-5)'!$F$12,AF25*R25*K25),IF(C25=\"LP-6\",IF('Limestone Plant (LP-6)'!$F$12>0,'Limestone Plant (LP-6)'!$F$12,AF25*R25*K25),IF(C25=\"LP-7\",IF('Limestone Plant (LP-7)'!$F$12>0,'Limestone Plant (LP-7)'!$F$12,AF25*R25*K25),IF(C25=\"LP-8\",IF('Limestone Plant (LP-8)'!$F$12>0,'Limestone Plant (LP-8)'!$F$12,AF25*R25*K25),IF(C25=\"LP-9\",IF('Limestone Plant (LP-9)'!$F$12>0,'Limestone Plant (LP-9)'!$F$12,AF25*R25*K25),IF(C25=\"LP-10\",IF('Limestone Plant (LP-10)'!$F$12>0,'Limestone Plant (LP-10)'!$F$12,AF25*R25*K25))))))))))))","v":""},"","",{"$f":"IF(F25=\"\",\"\",IF(B25=\"no\",'Emission Factors'!$J$43,'Emission Factors'!$J$44))","v":""},{"$f":"IF(F25=\"\",\"\",IF(C25=\"LP-1\",IF('Limestone Plant (LP-1)'!$F$13>0,'Limestone Plant (LP-1)'!$F$13,AJ25*R25),IF(C25=\"LP-2\",IF('Limestone Plant (LP-2)'!$F$13>0,'Limestone Plant (LP-2)'!$F$13,AJ25*R25),IF(C25=\"LP-3\",IF('Limestone Plant (LP-3)'!$F$13>0,'Limestone Plant (LP-3)'!$F$13,AJ25*R25),IF(C25=\"LP-4\",IF('Limestone Plant (LP-4)'!$F$13>0,'Limestone Plant (LP-4)'!$F$13,AJ25*R25),IF(C25=\"LP-5\",IF('Limestone Plant (LP-5)'!$F$13>0,'Limestone Plant (LP-5)'!$F$13,AJ25*R25),IF(C25=\"LP-6\",IF('Limestone Plant (LP-6)'!$F$13>0,'Limestone Plant (LP-6)'!$F$13,AJ25*R25),IF(C25=\"LP-7\",IF('Limestone Plant (LP-7)'!$F$13>0,'Limestone Plant (LP-7)'!$F$13,AJ25*R25),IF(C25=\"LP-8\",IF('Limestone Plant (LP-8)'!$F$13>0,'Limestone Plant (LP-8)'!$F$13,AJ25*R25),IF(C25=\"LP-9\",IF('Limestone Plant (LP-9)'!$F$13>0,'Limestone Plant (LP-9)'!$F$13,AJ25*R25),IF(C25=\"LP-10\",IF('Limestone Plant (LP-10)'!$F$13>0,'Limestone Plant (LP-10)'!$F$13,AJ25*R25))))))))))))","v":""},"","",{"$f":"IF(F25=\"\",\"\",IF(B25=\"no\",'Emission Factors'!$L$43,'Emission Factors'!$L$44))","v":""},{"$f":"IF(F25=\"\",\"\",IF(C25=\"LP-1\",IF('Limestone Plant (LP-1)'!$F$14>0,'Limestone Plant (LP-1)'!$F$14,AN25*R25),IF(C25=\"LP-2\",IF('Limestone Plant (LP-2)'!$F$14>0,'Limestone Plant (LP-2)'!$F$14,AN25*R25),IF(C25=\"LP-3\",IF('Limestone Plant (LP-3)'!$F$14>0,'Limestone Plant (LP-3)'!$F$14,AN25*R25),IF(C25=\"LP-4\",IF('Limestone Plant (LP-4)'!$F$14>0,'Limestone Plant (LP-4)'!$F$14,AN25*R25),IF(C25=\"LP-5\",IF('Limestone Plant (LP-5)'!$F$14>0,'Limestone Plant (LP-5)'!$F$14,AN25*R25),IF(C25=\"LP-6\",IF('Limestone Plant (LP-6)'!$F$14>0,'Limestone Plant (LP-6)'!$F$14,AN25*R25),IF(C25=\"LP-7\",IF('Limestone Plant (LP-7)'!$F$14>0,'Limestone Plant (LP-7)'!$F$14,AN25*R25),IF(C25=\"LP-8\",IF('Limestone Plant (LP-8)'!$F$14>0,'Limestone Plant (LP-8)'!$F$14,AN25*R25),IF(C25=\"LP-9\",IF('Limestone Plant (LP-9)'!$F$14>0,'Limestone Plant (LP-9)'!$F$14,AN25*R25),IF(C25=\"LP-10\",IF('Limestone Plant (LP-10)'!$F$14>0,'Limestone Plant (LP-10)'!$F$14,AN25*R25))))))))))))","v":""},"","",{"$f":"IF(F25=\"\",\"\",IF(B25=\"no\",'Emission Factors'!$N$43,'Emission Factors'!$N$44))","v":""},{"$f":"IF(F25=\"\",\"\",IF(C25=\"LP-1\",IF('Limestone Plant (LP-1)'!$F$15>0,'Limestone Plant (LP-1)'!$F$15,AR25*R25),IF(C25=\"LP-2\",IF('Limestone Plant (LP-2)'!$F$15>0,'Limestone Plant (LP-2)'!$F$15,AR25*R25),IF(C25=\"LP-3\",IF('Limestone Plant (LP-3)'!$F$15>0,'Limestone Plant (LP-3)'!$F$15,AR25*R25),IF(C25=\"LP-4\",IF('Limestone Plant (LP-4)'!$F$15>0,'Limestone Plant (LP-4)'!$F$15,AR25*R25),IF(C25=\"LP-5\",IF('Limestone Plant (LP-5)'!$F$15>0,'Limestone Plant (LP-5)'!$F$15,AR25*R25),IF(C25=\"LP-6\",IF('Limestone Plant (LP-6)'!$F$15>0,'Limestone Plant (LP-6)'!$F$15,AR25*R25),IF(C25=\"LP-7\",IF('Limestone Plant (LP-7)'!$F$15>0,'Limestone Plant (LP-7)'!$F$15,AR25*R25),IF(C25=\"LP-8\",IF('Limestone Plant (LP-8)'!$F$15>0,'Limestone Plant (LP-8)'!$F$15,AR25*R25),IF(C25=\"LP-9\",IF('Limestone Plant (LP-9)'!$F$15>0,'Limestone Plant (LP-9)'!$F$15,AR25*R25),IF(C25=\"LP-10\",IF('Limestone Plant (LP-10)'!$F$15>0,'Limestone Plant (LP-10)'!$F$15,AR25*R25))))))))))))","v":""},"","",{"$f":"IF(F25=\"\",\"\",IF(B25=\"no\",'Emission Factors'!$P$43,'Emission Factors'!$P$44))","v":""},"","","",{"$f":"IF(F25=\"\",\"\",IF(B25=\"no\",'Emission Factors'!$R$43,'Emission Factors'!$R$44))","v":""},"","",""]
[null,{"$f":"IF(F26=\"Diesel Generator> 600 bhp\",\"yes\",\"no\")","v":"no"},null,null,null,null,null,null,null,null,1,null,null,null,null,null,null,{"$f":"IF(Q26=\"\",\"\",Q26*0.14)","v":""},null,{"$f":"IF(S26=\"\",\"\",S26*0.14)","v":""},null,0,"",{"$f":"IF(F26=\"\",\"\",IF(B26=\"no\",'Emission Factors'!$D$43,'Emission Factors'!$D$44))","v":""},"","","",{"$f":"IF(F26=\"\",\"\",IF(B26=\"no\",'Emission Factors'!$F$43,'Emission Factors'!$F$44))","v":""},"","","",{"$f":"IF(F26=\"\",\"\",IF(B26=\"no\",'Emission Factors'!$H$43,'Emission Factors'!$H$44))","v":""},{"$f":"IF(F26=\"\",\"\",IF(C26=\"LP-1\",IF('Limestone Plant (LP-1)'!$F$12>0,'Limestone Plant (LP-1)'!$F$12,AF26*R26*K26),IF(C26=\"LP-2\",IF('Limestone Plant (LP-2)'!$F$12>0,'Limestone Plant (LP-2)'!$F$12,AF26*R26*K26),IF(C26=\"LP-3\",IF('Limestone Plant (LP-3)'!$F$12>0,'Limestone Plant (LP-3)'!$F$12,AF26*R26*K26),IF(C26=\"LP-4\",IF('Limestone Plant (LP-4)'!$F$12>0,'Limestone Plant (LP-4)'!$F$12,AF26*R26*K26),IF(C26=\"LP-5\",IF('Limestone Plant (LP-5)'!$F$12>0,'Limestone Plant (LP-5)'!$F$12,AF26*R26*K26),IF(C26=\"LP-6\",IF('Limestone Plant (LP-6)'!$F$12>0,'Limestone Plant (LP-6)'!$F$12,AF26*R26*K26),IF(C26=\"LP-7\",IF('Limestone Plant (LP-7)'!$F$12>0,'Limestone Plant (LP-7)'!$F$12,AF26*R26*K26),IF(C26=\"LP-8\",IF('Limestone Plant (LP-8)'!$F$12>0,'Limestone Plant (LP-8)'!$F$12,AF26*R26*K26),IF(C26=\"LP-9\",IF('Limestone Plant (LP-9)'!$F$12>0,'Limestone Plant (LP-9)'!$F$12,AF26*R26*K26),IF(C26=\"LP-10\",IF('Limestone Plant (LP-10)'!$F$12>0,'Limestone Plant (LP-10)'!$F$12,AF26*R26*K26))))))))))))","v":""},"","",{"$f":"IF(F26=\"\",\"\",IF(B26=\"no\",'Emission Factors'!$J$43,'Emission Factors'!$J$44))","v":""},{"$f":"IF(F26=\"\",\"\",IF(C26=\"LP-1\",IF('Limestone Plant (LP-1)'!$F$13>0,'Limestone Plant (LP-1)'!$F$13,AJ26*R26),IF(C26=\"LP-2\",IF('Limestone Plant (LP-2)'!$F$13>0,'Limestone Plant (LP-2)'!$F$13,AJ26*R26),IF(C26=\"LP-3\",IF('Limestone Plant (LP-3)'!$F$13>0,'Limestone Plant (LP-3)'!$F$13,AJ26*R26),IF(C26=\"LP-4\",IF('Limestone Plant (LP-4)'!$F$13>0,'Limestone Plant (LP-4)'!$F$13,AJ26*R26),IF(C26=\"LP-5\",IF('Limestone Plant (LP-5)'!$F$13>0,'Limestone Plant (LP-5)'!$F$13,AJ26*R26),IF(C26=\"LP-6\",IF('Limestone Plant (LP-6)'!$F$13>0,'Limestone Plant (LP-6)'!$F$13,AJ26*R26),IF(C26=\"LP-7\",IF('Limestone Plant (LP-7)'!$F$13>0,'Limestone Plant (LP-7)'!$F$13,AJ26*R26),IF(C26=\"LP-8\",IF('Limestone Plant (LP-8)'!$F$13>0,'Limestone Plant (LP-8)'!$F$13,AJ26*R26),IF(C26=\"LP-9\",IF('Limestone Plant (LP-9)'!$F$13>0,'Limestone Plant (LP-9)'!$F$13,AJ26*R26),IF(C26=\"LP-10\",IF('Limestone Plant (LP-10)'!$F$13>0,'Limestone Plant (LP-10)'!$F$13,AJ26*R26))))))))))))","v":""},"","",{"$f":"IF(F26=\"\",\"\",IF(B26=\"no\",'Emission Factors'!$L$43,'Emission Factors'!$L$44))","v":""},{"$f":"IF(F26=\"\",\"\",IF(C26=\"LP-1\",IF('Limestone Plant (LP-1)'!$F$14>0,'Limestone Plant (LP-1)'!$F$14,AN26*R26),IF(C26=\"LP-2\",IF('Limestone Plant (LP-2)'!$F$14>0,'Limestone Plant (LP-2)'!$F$14,AN26*R26),IF(C26=\"LP-3\",IF('Limestone Plant (LP-3)'!$F$14>0,'Limestone Plant (LP-3)'!$F$14,AN26*R26),IF(C26=\"LP-4\",IF('Limestone Plant (LP-4)'!$F$14>0,'Limestone Plant (LP-4)'!$F$14,AN26*R26),IF(C26=\"LP-5\",IF('Limestone Plant (LP-5)'!$F$14>0,'Limestone Plant (LP-5)'!$F$14,AN26*R26),IF(C26=\"LP-6\",IF('Limestone Plant (LP-6)'!$F$14>0,'Limestone Plant (LP-6)'!$F$14,AN26*R26),IF(C26=\"LP-7\",IF('Limestone Plant (LP-7)'!$F$14>0,'Limestone Plant (LP-7)'!$F$14,AN26*R26),IF(C26=\"LP-8\",IF('Limestone Plant (LP-8)'!$F$14>0,'Limestone Plant (LP-8)'!$F$14,AN26*R26),IF(C26=\"LP-9\",IF('Limestone Plant (LP-9)'!$F$14>0,'Limestone Plant (LP-9)'!$F$14,AN26*R26),IF(C26=\"LP-10\",IF('Limestone Plant (LP-10)'!$F$14>0,'Limestone Plant (LP-10)'!$F$14,AN26*R26))))))))))))","v":""},"","",{"$f":"IF(F26=\"\",\"\",IF(B26=\"no\",'Emission Factors'!$N$43,'Emission Factors'!$N$44))","v":""},{"$f":"IF(F26=\"\",\"\",IF(C26=\"LP-1\",IF('Limestone Plant (LP-1)'!$F$15>0,'Limestone Plant (LP-1)'!$F$15,AR26*R26),IF(C26=\"LP-2\",IF('Limestone Plant (LP-2)'!$F$15>0,'Limestone Plant (LP-2)'!$F$15,AR26*R26),IF(C26=\"LP-3\",IF('Limestone Plant (LP-3)'!$F$15>0,'Limestone Plant (LP-3)'!$F$15,AR26*R26),IF(C26=\"LP-4\",IF('Limestone Plant (LP-4)'!$F$15>0,'Limestone Plant (LP-4)'!$F$15,AR26*R26),IF(C26=\"LP-5\",IF('Limestone Plant (LP-5)'!$F$15>0,'Limestone Plant (LP-5)'!$F$15,AR26*R26),IF(C26=\"LP-6\",IF('Limestone Plant (LP-6)'!$F$15>0,'Limestone Plant (LP-6)'!$F$15,AR26*R26),IF(C26=\"LP-7\",IF('Limestone Plant (LP-7)'!$F$15>0,'Limestone Plant (LP-7)'!$F$15,AR26*R26),IF(C26=\"LP-8\",IF('Limestone Plant (LP-8)'!$F$15>0,'Limestone Plant (LP-8)'!$F$15,AR26*R26),IF(C26=\"LP-9\",IF('Limestone Plant (LP-9)'!$F$15>0,'Limestone Plant (LP-9)'!$F$15,AR26*R26),IF(C26=\"LP-10\",IF('Limestone Plant (LP-10)'!$F$15>0,'Limestone Plant (LP-10)'!$F$15,AR26*R26))))))))))))","v":""},"","",{"$f":"IF(F26=\"\",\"\",IF(B26=\"no\",'Emission Factors'!$P$43,'Emission Factors'!$P$44))","v":""},"","","",{"$f":"IF(F26=\"\",\"\",IF(B26=\"no\",'Emission Factors'!$R$43,'Emission Factors'!$R$44))","v":""},"","",""]
[null,{"$f":"IF(F27=\"Diesel Generator> 600 bhp\",\"yes\",\"no\")","v":"no"},null,null,null,null,null,null,null,null,1,null,null,null,null,null,null,{"$f":"IF(Q27=\"\",\"\",Q27*0.14)","v":""},null,{"$f":"IF(S27=\"\",\"\",S27*0.14)","v":""},null,0,"",{"$f":"IF(F27=\"\",\"\",IF(B27=\"no\",'Emission Factors'!$D$43,'Emission Factors'!$D$44))","v":""},"","","",{"$f":"IF(F27=\"\",\"\",IF(B27=\"no\",'Emission Factors'!$F$43,'Emission Factors'!$F$44))","v":""},"","","",{"$f":"IF(F27=\"\",\"\",IF(B27=\"no\",'Emission Factors'!$H$43,'Emission Factors'!$H$44))","v":""},{"$f":"IF(F27=\"\",\"\",IF(C27=\"LP-1\",IF('Limestone Plant (LP-1)'!$F$12>0,'Limestone Plant (LP-1)'!$F$12,AF27*R27*K27),IF(C27=\"LP-2\",IF('Limestone Plant (LP-2)'!$F$12>0,'Limestone Plant (LP-2)'!$F$12,AF27*R27*K27),IF(C27=\"LP-3\",IF('Limestone Plant (LP-3)'!$F$12>0,'Limestone Plant (LP-3)'!$F$12,AF27*R27*K27),IF(C27=\"LP-4\",IF('Limestone Plant (LP-4)'!$F$12>0,'Limestone Plant (LP-4)'!$F$12,AF27*R27*K27),IF(C27=\"LP-5\",IF('Limestone Plant (LP-5)'!$F$12>0,'Limestone Plant (LP-5)'!$F$12,AF27*R27*K27),IF(C27=\"LP-6\",IF('Limestone Plant (LP-6)'!$F$12>0,'Limestone Plant (LP-6)'!$F$12,AF27*R27*K27),IF(C27=\"LP-7\",IF('Limestone Plant (LP-7)'!$F$12>0,'Limestone Plant (LP-7)'!$F$12,AF27*R27*K27),IF(C27=\"LP-8\",IF('Limestone Plant (LP-8)'!$F$12>0,'Limestone Plant (LP-8)'!$F$12,AF27*R27*K27),IF(C27=\"LP-9\",IF('Limestone Plant (LP-9)'!$F$12>0,'Limestone Plant (LP-9)'!$F$12,AF27*R27*K27),IF(C27=\"LP-10\",IF('Limestone Plant (LP-10)'!$F$12>0,'Limestone Plant (LP-10)'!$F$12,AF27*R27*K27))))))))))))","v":""},"","",{"$f":"IF(F27=\"\",\"\",IF(B27=\"no\",'Emission Factors'!$J$43,'Emission Factors'!$J$44))","v":""},{"$f":"IF(F27=\"\",\"\",IF(C27=\"LP-1\",IF('Limestone Plant (LP-1)'!$F$13>0,'Limestone Plant (LP-1)'!$F$13,AJ27*R27),IF(C27=\"LP-2\",IF('Limestone Plant (LP-2)'!$F$13>0,'Limestone Plant (LP-2)'!$F$13,AJ27*R27),IF(C27=\"LP-3\",IF('Limestone Plant (LP-3)'!$F$13>0,'Limestone Plant (LP-3)'!$F$13,AJ27*R27),IF(C27=\"LP-4\",IF('Limestone Plant (LP-4)'!$F$13>0,'Limestone Plant (LP-4)'!$F$13,AJ27*R27),IF(C27=\"LP-5\",IF('Limestone Plant (LP-5)'!$F$13>0,'Limestone Plant (LP-5)'!$F$13,AJ27*R27),IF(C27=\"LP-6\",IF('Limestone Plant (LP-6)'!$F$13>0,'Limestone Plant (LP-6)'!$F$13,AJ27*R27),IF(C27=\"LP-7\",IF('Limestone Plant (LP-7)'!$F$13>0,'Limestone Plant (LP-7)'!$F$13,AJ27*R27),IF(C27=\"LP-8\",IF('Limestone Plant (LP-8)'!$F$13>0,'Limestone Plant (LP-8)'!$F$13,AJ27*R27),IF(C27=\"LP-9\",IF('Limestone Plant (LP-9)'!$F$13>0,'Limestone Plant (LP-9)'!$F$13,AJ27*R27),IF(C27=\"LP-10\",IF('Limestone Plant (LP-10)'!$F$13>0,'Limestone Plant (LP-10)'!$F$13,AJ27*R27))))))))))))","v":""},"","",{"$f":"IF(F27=\"\",\"\",IF(B27=\"no\",'Emission Factors'!$L$43,'Emission Factors'!$L$44))","v":""},{"$f":"IF(F27=\"\",\"\",IF(C27=\"LP-1\",IF('Limestone Plant (LP-1)'!$F$14>0,'Limestone Plant (LP-1)'!$F$14,AN27*R27),IF(C27=\"LP-2\",IF('Limestone Plant (LP-2)'!$F$14>0,'Limestone Plant (LP-2)'!$F$14,AN27*R27),IF(C27=\"LP-3\",IF('Limestone Plant (LP-3)'!$F$14>0,'Limestone Plant (LP-3)'!$F$14,AN27*R27),IF(C27=\"LP-4\",IF('Limestone Plant (LP-4)'!$F$14>0,'Limestone Plant (LP-4)'!$F$14,AN27*R27),IF(C27=\"LP-5\",IF('Limestone Plant (LP-5)'!$F$14>0,'Limestone Plant (LP-5)'!$F$14,AN27*R27),IF(C27=\"LP-6\",IF('Limestone Plant (LP-6)'!$F$14>0,'Limestone Plant (LP-6)'!$F$14,AN27*R27),IF(C27=\"LP-7\",IF('Limestone Plant (LP-7)'!$F$14>0,'Limestone Plant (LP-7)'!$F$14,AN27*R27),IF(C27=\"LP-8\",IF('Limestone Plant (LP-8)'!$F$14>0,'Limestone Plant (LP-8)'!$F$14,AN27*R27),IF(C27=\"LP-9\",IF('Limestone Plant (LP-9)'!$F$14>0,'Limestone Plant (LP-9)'!$F$14,AN27*R27),IF(C27=\"LP-10\",IF('Limestone Plant (LP-10)'!$F$14>0,'Limestone Plant (LP-10)'!$F$14,AN27*R27))))))))))))","v":""},"","",{"$f":"IF(F27=\"\",\"\",IF(B27=\"no\",'Emission Factors'!$N$43,'Emission Factors'!$N$44))","v":""},{"$f":"IF(F27=\"\",\"\",IF(C27=\"LP-1\",IF('Limestone Plant (LP-1)'!$F$15>0,'Limestone Plant (LP-1)'!$F$15,AR27*R27),IF(C27=\"LP-2\",IF('Limestone Plant (LP-2)'!$F$15>0,'Limestone Plant (LP-2)'!$F$15,AR27*R27),IF(C27=\"LP-3\",IF('Limestone Plant (LP-3)'!$F$15>0,'Limestone Plant (LP-3)'!$F$15,AR27*R27),IF(C27=\"LP-4\",IF('Limestone Plant (LP-4)'!$F$15>0,'Limestone Plant (LP-4)'!$F$15,AR27*R27),IF(C27=\"LP-5\",IF('Limestone Plant (LP-5)'!$F$15>0,'Limestone Plant (LP-5)'!$F$15,AR27*R27),IF(C27=\"LP-6\",IF('Limestone Plant (LP-6)'!$F$15>0,'Limestone Plant (LP-6)'!$F$15,AR27*R27),IF(C27=\"LP-7\",IF('Limestone Plant (LP-7)'!$F$15>0,'Limestone Plant (LP-7)'!$F$15,AR27*R27),IF(C27=\"LP-8\",IF('Limestone Plant (LP-8)'!$F$15>0,'Limestone Plant (LP-8)'!$F$15,AR27*R27),IF(C27=\"LP-9\",IF('Limestone Plant (LP-9)'!$F$15>0,'Limestone Plant (LP-9)'!$F$15,AR27*R27),IF(C27=\"LP-10\",IF('Limestone Plant (LP-10)'!$F$15>0,'Limestone Plant (LP-10)'!$F$15,AR27*R27))))))))))))","v":""},"","",{"$f":"IF(F27=\"\",\"\",IF(B27=\"no\",'Emission Factors'!$P$43,'Emission Factors'!$P$44))","v":""},"","","",{"$f":"IF(F27=\"\",\"\",IF(B27=\"no\",'Emission Factors'!$R$43,'Emission Factors'!$R$44))","v":""},"","",""]
[null,{"$f":"IF(F28=\"Diesel Generator> 600 bhp\",\"yes\",\"no\")","v":"no"},null,null,null,null,null,null,null,null,1,null,null,null,null,null,null,{"$f":"IF(Q28=\"\",\"\",Q28*0.14)","v":""},null,{"$f":"IF(S28=\"\",\"\",S28*0.14)","v":""},null,0,"",{"$f":"IF(F28=\"\",\"\",IF(B28=\"no\",'Emission Factors'!$D$43,'Emission Factors'!$D$44))","v":""},"","","",{"$f":"IF(F28=\"\",\"\",IF(B28=\"no\",'Emission Factors'!$F$43,'Emission Factors'!$F$44))","v":""},"","","",{"$f":"IF(F28=\"\",\"\",IF(B28=\"no\",'Emission Factors'!$H$43,'Emission Factors'!$H$44))","v":""},{"$f":"IF(F28=\"\",\"\",IF(C28=\"LP-1\",IF('Limestone Plant (LP-1)'!$F$12>0,'Limestone Plant (LP-1)'!$F$12,AF28*R28*K28),IF(C28=\"LP-2\",IF('Limestone Plant (LP-2)'!$F$12>0,'Limestone Plant (LP-2)'!$F$12,AF28*R28*K28),IF(C28=\"LP-3\",IF('Limestone Plant (LP-3)'!$F$12>0,'Limestone Plant (LP-3)'!$F$12,AF28*R28*K28),IF(C28=\"LP-4\",IF('Limestone Plant (LP-4)'!$F$12>0,'Limestone Plant (LP-4)'!$F$12,AF28*R28*K28),IF(C28=\"LP-5\",IF('Limestone Plant (LP-5)'!$F$12>0,'Limestone Plant (LP-5)'!$F$12,AF28*R28*K28),IF(C28=\"LP-6\",IF('Limestone Plant (LP-6)'!$F$12>0,'Limestone Plant (LP-6)'!$F$12,AF28*R28*K28),IF(C28=\"LP-7\",IF('Limestone Plant (LP-7)'!$F$12>0,'Limestone Plant (LP-7)'!$F$12,AF28*R28*K28),IF(C28=\"LP-8\",IF('Limestone Plant (LP-8)'!$F$12>0,'Limestone Plant (LP-8)'!$F$12,AF28*R28*K28),IF(C28=\"LP-9\",IF('Limestone Plant (LP-9)'!$F$12>0,'Limestone Plant (LP-9)'!$F$12,AF28*R28*K28),IF(C28=\"LP-10\",IF('Limestone Plant (LP-10)'!$F$12>0,'Limestone Plant (LP-10)'!$F$12,AF28*R28*K28))))))))))))","v":""},"","",{"$f":"IF(F28=\"\",\"\",IF(B28=\"no\",'Emission Factors'!$J$43,'Emission Factors'!$J$44))","v":""},{"$f":"IF(F28=\"\",\"\",IF(C28=\"LP-1\",IF('Limestone Plant (LP-1)'!$F$13>0,'Limestone Plant (LP-1)'!$F$13,AJ28*R28),IF(C28=\"LP-2\",IF('Limestone Plant (LP-2)'!$F$13>0,'Limestone Plant (LP-2)'!$F$13,AJ28*R28),IF(C28=\"LP-3\",IF('Limestone Plant (LP-3)'!$F$13>0,'Limestone Plant (LP-3)'!$F$13,AJ28*R28),IF(C28=\"LP-4\",IF('Limestone Plant (LP-4)'!$F$13>0,'Limestone Plant (LP-4)'!$F$13,AJ28*R28),IF(C28=\"LP-5\",IF('Limestone Plant (LP-5)'!$F$13>0,'Limestone Plant (LP-5)'!$F$13,AJ28*R28),IF(C28=\"LP-6\",IF('Limestone Plant (LP-6)'!$F$13>0,'Limestone Plant (LP-6)'!$F$13,AJ28*R28),IF(C28=\"LP-7\",IF('Limestone Plant (LP-7)'!$F$13>0,'Limestone Plant (LP-7)'!$F$13,AJ28*R28),IF(C28=\"LP-8\",IF('Limestone Plant (LP-8)'!$F$13>0,'Limestone Plant (LP-8)'!$F$13,AJ28*R28),IF(C28=\"LP-9\",IF('Limestone Plant (LP-9)'!$F$13>0,'Limestone Plant (LP-9)'!$F$13,AJ28*R28),IF(C28=\"LP-10\",IF('Limestone Plant (LP-10)'!$F$13>0,'Limestone Plant (LP-10)'!$F$13,AJ28*R28))))))))))))","v":""},"","",{"$f":"IF(F28=\"\",\"\",IF(B28=\"no\",'Emission Factors'!$L$43,'Emission Factors'!$L$44))","v":""},{"$f":"IF(F28=\"\",\"\",IF(C28=\"LP-1\",IF('Limestone Plant (LP-1)'!$F$14>0,'Limestone Plant (LP-1)'!$F$14,AN28*R28),IF(C28=\"LP-2\",IF('Limestone Plant (LP-2)'!$F$14>0,'Limestone Plant (LP-2)'!$F$14,AN28*R28),IF(C28=\"LP-3\",IF('Limestone Plant (LP-3)'!$F$14>0,'Limestone Plant (LP-3)'!$F$14,AN28*R28),IF(C28=\"LP-4\",IF('Limestone Plant (LP-4)'!$F$14>0,'Limestone Plant (LP-4)'!$F$14,AN28*R28),IF(C28=\"LP-5\",IF('Limestone Plant (LP-5)'!$F$14>0,'Limestone Plant (LP-5)'!$F$14,AN28*R28),IF(C28=\"LP-6\",IF('Limestone Plant (LP-6)'!$F$14>0,'Limestone Plant (LP-6)'!$F$14,AN28*R28),IF(C28=\"LP-7\",IF('Limestone Plant (LP-7)'!$F$14>0,'Limestone Plant (LP-7)'!$F$14,AN28*R28),IF(C28=\"LP-8\",IF('Limestone Plant (LP-8)'!$F$14>0,'Limestone Plant (LP-8)'!$F$14,AN28*R28),IF(C28=\"LP-9\",IF('Limestone Plant (LP-9)'!$F$14>0,'Limestone Plant (LP-9)'!$F$14,AN28*R28),IF(C28=\"LP-10\",IF('Limestone Plant (LP-10)'!$F$14>0,'Limestone Plant (LP-10)'!$F$14,AN28*R28))))))))))))","v":""},"","",{"$f":"IF(F28=\"\",\"\",IF(B28=\"no\",'Emission Factors'!$N$43,'Emission Factors'!$N$44))","v":""},{"$f":"IF(F28=\"\",\"\",IF(C28=\"LP-1\",IF('Limestone Plant (LP-1)'!$F$15>0,'Limestone Plant (LP-1)'!$F$15,AR28*R28),IF(C28=\"LP-2\",IF('Limestone Plant (LP-2)'!$F$15>0,'Limestone Plant (LP-2)'!$F$15,AR28*R28),IF(C28=\"LP-3\",IF('Limestone Plant (LP-3)'!$F$15>0,'Limestone Plant (LP-3)'!$F$15,AR28*R28),IF(C28=\"LP-4\",IF('Limestone Plant (LP-4)'!$F$15>0,'Limestone Plant (LP-4)'!$F$15,AR28*R28),IF(C28=\"LP-5\",IF('Limestone Plant (LP-5)'!$F$15>0,'Limestone Plant (LP-5)'!$F$15,AR28*R28),IF(C28=\"LP-6\",IF('Limestone Plant (LP-6)'!$F$15>0,'Limestone Plant (LP-6)'!$F$15,AR28*R28),IF(C28=\"LP-7\",IF('Limestone Plant (LP-7)'!$F$15>0,'Limestone Plant (LP-7)'!$F$15,AR28*R28),IF(C28=\"LP-8\",IF('Limestone Plant (LP-8)'!$F$15>0,'Limestone Plant (LP-8)'!$F$15,AR28*R28),IF(C28=\"LP-9\",IF('Limestone Plant (LP-9)'!$F$15>0,'Limestone Plant (LP-9)'!$F$15,AR28*R28),IF(C28=\"LP-10\",IF('Limestone Plant (LP-10)'!$F$15>0,'Limestone Plant (LP-10)'!$F$15,AR28*R28))))))))))))","v":""},"",null,{"$f":"IF(F28=\"\",\"\",IF(B28=\"no\",'Emission Factors'!$P$43,'Emission Factors'!$P$44))","v":""},"","","",{"$f":"IF(F28=\"\",\"\",IF(B28=\"no\",'Emission Factors'!$R$43,'Emission Factors'!$R$44))","v":""},"","",""]
[null,{"$f":"IF(F29=\"Diesel Generator> 600 bhp\",\"yes\",\"no\")","v":"no"},null,null,null,null,null,null,null,null,1,null,null,null,null,null,null,{"$f":"IF(Q29=\"\",\"\",Q29*0.14)","v":""},null,{"$f":"IF(S29=\"\",\"\",S29*0.14)","v":""},null,{"$f":"IF(B29=\"no\",H29*Q29*0.14,\"\")","v":0},{"$f":"IF(B29=\"yes\",H29*Q29*0.14,\"\")","v":""},{"$f":"IF(F29=\"\",\"\",IF(B29=\"no\",'Emission Factors'!$D$43,'Emission Factors'!$D$44))","v":""},{"$f":"IF(F29=\"\",\"\",X29*R29)","v":""},{"$f":"IF(F29=\"\",\"\",IF(I29>0,I29*0.14*X29/2000,IF(H29>0,X29*R29*H29/2000,Y29*8760/2000)))","v":""},{"$f":"IF(F29=\"\",\"\",T29*X29/2000)","v":""},{"$f":"IF(F29=\"\",\"\",IF(B29=\"no\",'Emission Factors'!$F$43,'Emission Factors'!$F$44))","v":""},{"$f":"IF(F29=\"\",\"\",AB29*R29)","v":""},{"$f":"IF(F29=\"\",\"\",IF(I29>0,I29*0.14*AB29/2000,IF(H29>0,AB29*R29*H29/2000,AC29*8760/2000)))","v":""},{"$f":"IF(F29=\"\",\"\",T29*AB29/2000)","v":""},{"$f":"IF(F29=\"\",\"\",IF(B29=\"no\",'Emission Factors'!$H$43,'Emission Factors'!$H$44))","v":""},{"$f":"IF(F29=\"\",\"\",IF(C29=\"LP-1\",IF('Limestone Plant (LP-1)'!$F$12>0,'Limestone Plant (LP-1)'!$F$12,AF29*R29*K29),IF(C29=\"LP-2\",IF('Limestone Plant (LP-2)'!$F$12>0,'Limestone Plant (LP-2)'!$F$12,AF29*R29*K29),IF(C29=\"LP-3\",IF('Limestone Plant (LP-3)'!$F$12>0,'Limestone Plant (LP-3)'!$F$12,AF29*R29*K29),IF(C29=\"LP-4\",IF('Limestone Plant (LP-4)'!$F$12>0,'Limestone Plant (LP-4)'!$F$12,AF29*R29*K29),IF(C29=\"LP-5\",IF('Limestone Plant (LP-5)'!$F$12>0,'Limestone Plant (LP-5)'!$F$12,AF29*R29*K29),IF(C29=\"LP-6\",IF('Limestone Plant (LP-6)'!$F$12>0,'Limestone Plant (LP-6)'!$F$12,AF29*R29*K29),IF(C29=\"LP-7\",IF('Limestone Plant (LP-7)'!$F$12>0,'Limestone Plant (LP-7)'!$F$12,AF29*R29*K29),IF(C29=\"LP-8\",IF('Limestone Plant (LP-8)'!$F$12>0,'Limestone Plant (LP-8)'!$F$12,AF29*R29*K29),IF(C29=\"LP-9\",IF('Limestone Plant (LP-9)'!$F$12>0,'Limestone Plant (LP-9)'!$F$12,AF29*R29*K29),IF(C29=\"LP-10\",IF('Limestone Plant (LP-10)'!$F$12>0,'Limestone Plant (LP-10)'!$F$12,AF29*R29*K29))))))))))))","v":""},"","",{"$f":"IF(F29=\"\",\"\",IF(B29=\"no\",'Emission Factors'!$J$43,'Emission Factors'!$J$44))","v":""},{"$f":"IF(F29=\"\",\"\",IF(C29=\"LP-1\",IF('Limestone Plant (LP-1)'!$F$13>0,'Limestone Plant (LP-1)'!$F$13,AJ29*R29),IF(C29=\"LP-2\",IF('Limestone Plant (LP-2)'!$F$13>0,'Limestone Plant (LP-2)'!$F$13,AJ29*R29),IF(C29=\"LP-3\",IF('Limestone Plant (LP-3)'!$F$13>0,'Limestone Plant (LP-3)'!$F$13,AJ29*R29),IF(C29=\"LP-4\",IF('Limestone Plant (LP-4)'!$F$13>0,'Limestone Plant (LP-4)'!$F$13,AJ29*R29),IF(C29=\"LP-5\",IF('Limestone Plant (LP-5)'!$F$13>0,'Limestone Plant (LP-5)'!$F$13,AJ29*R29),IF(C29=\"LP-6\",IF('Limestone Plant (LP-6)'!$F$13>0,'Limestone Plant (LP-6)'!$F$13,AJ29*R29),IF(C29=\"LP-7\",IF('Limestone Plant (LP-7)'!$F$13>0,'Limestone Plant (LP-7)'!$F$13,AJ29*R29),IF(C29=\"LP-8\",IF('Limestone Plant (LP-8)'!$F$13>0,'Limestone Plant (LP-8)'!$F$13,AJ29*R29),IF(C29=\"LP-9\",IF('Limestone Plant (LP-9)'!$F$13>0,'Limestone Plant (LP-9)'!$F$13,AJ29*R29),IF(C29=\"LP-10\",IF('Limestone Plant (LP-10)'!$F$13>0,'Limestone Plant (LP-10)'!$F$13,AJ29*R29))))))))))))","v":""},{"$f":"IF(F29=\"\",\"\",IF(I29>0,I29*0.14*AJ29/2000,IF(H29>0,AJ29*R29*H29/2000,AK29*8760/2000)))","v":""},{"$f":"IF(F29=\"\",\"\",T29*AJ29/2000)","v":""},{"$f":"IF(F29=\"\",\"\",IF(B29=\"no\",'Emission Factors'!$L$43,'Emission Factors'!$L$44))","v":""},{"$f":"IF(F29=\"\",\"\",IF(C29=\"LP-1\",IF('Limestone Plant (LP-1)'!$F$14>0,'Limestone Plant (LP-1)'!$F$14,AN29*R29),IF(C29=\"LP-2\",IF('Limestone Plant (LP-2)'!$F$14>0,'Limestone Plant (LP-2)'!$F$14,AN29*R29),IF(C29=\"LP-3\",IF('Limestone Plant (LP-3)'!$F$14>0,'Limestone Plant (LP-3)'!$F$14,AN29*R29),IF(C29=\"LP-4\",IF('Limestone Plant (LP-4)'!$F$14>0,'Limestone Plant (LP-4)'!$F$14,AN29*R29),IF(C29=\"LP-5\",IF('Limestone Plant (LP-5)'!$F$14>0,'Limestone Plant (LP-5)'!$F$14,AN29*R29),IF(C29=\"LP-6\",IF('Limestone Plant (LP-6)'!$F$14>0,'Limestone Plant (LP-6)'!$F$14,AN29*R29),IF(C29=\"LP-7\",IF('Limestone Plant (LP-7)'!$F$14>0,'Limestone Plant (LP-7)'!$F$14,AN29*R29),IF(C29=\"LP-8\",IF('Limestone Plant (LP-8)'!$F$14>0,'Limestone Plant (LP-8)'!$F$14,AN29*R29),IF(C29=\"LP-9\",IF('Limestone Plant (LP-9)'!$F$14>0,'Limestone Plant (LP-9)'!$F$14,AN29*R29),IF(C29=\"LP-10\",IF('Limestone Plant (LP-10)'!$F$14>0,'Limestone Plant (LP-10)'!$F$14,AN29*R29))))))))))))","v":""},{"$f":"IF(F29=\"\",\"\",IF(I29>0,I29*0.14*AN29/2000,IF(H29>0,AN29*R29*H29/2000,AO29*8760/2000)))","v":""},{"$f":"IF(F29=\"\",\"\",T29*AN29/2000)","v":""},{"$f":"IF(F29=\"\",\"\",IF(B29=\"no\",'Emission Factors'!$N$43,'Emission Factors'!$N$44))","v":""},{"$f":"IF(F29=\"\",\"\",IF(C29=\"LP-1\",IF('Limestone Plant (LP-1)'!$F$15>0,'Limestone Plant (LP-1)'!$F$15,AR29*R29),IF(C29=\"LP-2\",IF('Limestone Plant (LP-2)'!$F$15>0,'Limestone Plant (LP-2)'!$F$15,AR29*R29),IF(C29=\"LP-3\",IF('Limestone Plant (LP-3)'!$F$15>0,'Limestone Plant (LP-3)'!$F$15,AR29*R29),IF(C29=\"LP-4\",IF('Limestone Plant (LP-4)'!$F$15>0,'Limestone Plant (LP-4)'!$F$15,AR29*R29),IF(C29=\"LP-5\",IF('Limestone Plant (LP-5)'!$F$15>0,'Limestone Plant (LP-5)'!$F$15,AR29*R29),IF(C29=\"LP-6\",IF('Limestone Plant (LP-6)'!$F$15>0,'Limestone Plant (LP-6)'!$F$15,AR29*R29),IF(C29=\"LP-7\",IF('Limestone Plant (LP-7)'!$F$15>0,'Limestone Plant (LP-7)'!$F$15,AR29*R29),IF(C29=\"LP-8\",IF('Limestone Plant (LP-8)'!$F$15>0,'Limestone Plant (LP-8)'!$F$15,AR29*R29),IF(C29=\"LP-9\",IF('Limestone Plant (LP-9)'!$F$15>0,'Limestone Plant (LP-9)'!$F$15,AR29*R29),IF(C29=\"LP-10\",IF('Limestone Plant (LP-10)'!$F$15>0,'Limestone Plant (LP-10)'!$F$15,AR29*R29))))))))))))","v":""},{"$f":"IF(F29=\"\",\"\",IF(I29>0,I29*0.14*AR29/2000,IF(H29>0,AR29*R29*H29/2000,AS29*8760/2000)))","v":""},{"$f":"IF(F29=\"\",\"\",T29*AR29/2000)","v":""},{"$f":"IF(F29=\"\",\"\",IF(B29=\"no\",'Emission Factors'!$P$43,'Emission Factors'!$P$44))","v":""},{"$f":"IF(F29=\"\",\"\",AV29*R29)","v":""},{"$f":"IF(F29=\"\",\"\",IF(I29>0,I29*0.14*AV29/2000,IF(H29>0,AV29*R29*H29/2000,AW29*8760/2000)))","v":""},{"$f":"IF(F29=\"\",\"\",T29*AV29/2000)","v":""},{"$f":"IF(F29=\"\",\"\",IF(B29=\"no\",'Emission Factors'!$R$43,'Emission Factors'!$R$44))","v":""},{"$f":"IF(F29=\"\",\"\",AZ29*R29)","v":""},{"$f":"IF(F29=\"\",\"\",IF(I29>0,I29*0.14*AZ29/2000,IF(H29>0,AZ29*R29*H29/2000,BA29*8760/2000)))","v":""},{"$f":"IF(F29=\"\",\"\",T29*AZ29/2000)","v":""}]
[null,"no",null,null,null,null,null,null,null,null,1,null,null,null,null,null,null,"",null,"",null,0,"",{"$f":"IF(F30=\"\",\"\",IF(B30=\"no\",'Emission Factors'!$D$43,'Emission Factors'!$D$44))","v":""},{"$f":"IF(F30=\"\",\"\",X30*R30)","v":""},{"$f":"IF(F30=\"\",\"\",IF(I30>0,I30*0.14*X30/2000,IF(H30>0,X30*R30*H30/2000,Y30*8760/2000)))","v":""},{"$f":"IF(F30=\"\",\"\",T30*X30/2000)","v":""},{"$f":"IF(F30=\"\",\"\",IF(B30=\"no\",'Emission Factors'!$F$43,'Emission Factors'!$F$44))","v":""},{"$f":"IF(F30=\"\",\"\",AB30*R30)","v":""},{"$f":"IF(F30=\"\",\"\",IF(I30>0,I30*0.14*AB30/2000,IF(H30>0,AB30*R30*H30/2000,AC30*8760/2000)))","v":""},{"$f":"IF(F30=\"\",\"\",T30*AB30/2000)","v":""},{"$f":"IF(F30=\"\",\"\",IF(B30=\"no\",'Emission Factors'!$H$43,'Emission Factors'!$H$44))","v":""},{"$f":"IF(F30=\"\",\"\",IF(C30=\"LP-1\",IF('Limestone Plant (LP-1)'!$F$12>0,'Limestone Plant (LP-1)'!$F$12,AF30*R30*K30),IF(C30=\"LP-2\",IF('Limestone Plant (LP-2)'!$F$12>0,'Limestone Plant (LP-2)'!$F$12,AF30*R30*K30),IF(C30=\"LP-3\",IF('Limestone Plant (LP-3)'!$F$12>0,'Limestone Plant (LP-3)'!$F$12,AF30*R30*K30),IF(C30=\"LP-4\",IF('Limestone Plant (LP-4)'!$F$12>0,'Limestone Plant (LP-4)'!$F$12,AF30*R30*K30),IF(C30=\"LP-5\",IF('Limestone Plant (LP-5)'!$F$12>0,'Limestone Plant (LP-5)'!$F$12,AF30*R30*K30),IF(C30=\"LP-6\",IF('Limestone Plant (LP-6)'!$F$12>0,'Limestone Plant (LP-6)'!$F$12,AF30*R30*K30),IF(C30=\"LP-7\",IF('Limestone Plant (LP-7)'!$F$12>0,'Limestone Plant (LP-7)'!$F$12,AF30*R30*K30),IF(C30=\"LP-8\",IF('Limestone Plant (LP-8)'!$F$12>0,'Limestone Plant (LP-8)'!$F$12,AF30*R30*K30),IF(C30=\"LP-9\",IF('Limestone Plant (LP-9)'!$F$12>0,'Limestone Plant (LP-9)'!$F$12,AF30*R30*K30),IF(C30=\"LP-10\",IF('Limestone Plant (LP-10)'!$F$12>0,'Limestone Plant (LP-10)'!$F$12,AF30*R30*K30))))))))))))","v":""},"","",{"$f":"IF(F30=\"\",\"\",IF(B30=\"no\",'Emission Factors'!$J$43,'Emission Factors'!$J$44))","v":""},{"$f":"IF(F30=\"\",\"\",IF(C30=\"LP-1\",IF('Limestone Plant (LP-1)'!$F$13>0,'Limestone Plant (LP-1)'!$F$13,AJ30*R30),IF(C30=\"LP-2\",IF('Limestone Plant (LP-2)'!$F$13>0,'Limestone Plant (LP-2)'!$F$13,AJ30*R30),IF(C30=\"LP-3\",IF('Limestone Plant (LP-3)'!$F$13>0,'Limestone Plant (LP-3)'!$F$13,AJ30*R30),IF(C30=\"LP-4\",IF('Limestone Plant (LP-4)'!$F$13>0,'Limestone Plant (LP-4)'!$F$13,AJ30*R30),IF(C30=\"LP-5\",IF('Limestone Plant (LP-5)'!$F$13>0,'Limestone Plant (LP-5)'!$F$13,AJ30*R30),IF(C30=\"LP-6\",IF('Limestone Plant (LP-6)'!$F$13>0,'Limestone Plant (LP-6)'!$F$13,AJ30*R30),IF(C30=\"LP-7\",IF('Limestone Plant (LP-7)'!$F$13>0,'Limestone Plant (LP-7)'!$F$13,AJ30*R30),IF(C30=\"LP-8\",IF('Limestone Plant (LP-8)'!$F$13>0,'Limestone Plant (LP-8)'!$F$13,AJ30*R30),IF(C30=\"LP-9\",IF('Limestone Plant (LP-9)'!$F$13>0,'Limestone Plant (LP-9)'!$F$13,AJ30*R30),IF(C30=\"LP-10\",IF('Limestone Plant (LP-10)'!$F$13>0,'Limestone Plant (LP-10)'!$F$13,AJ30*R30))))))))))))","v":""},{"$f":"IF(F30=\"\",\"\",IF(I30>0,I30*0.14*AJ30/2000,IF(H30>0,AJ30*R30*H30/2000,AK30*8760/2000)))","v":""},{"$f":"IF(F30=\"\",\"\",T30*AJ30/2000)","v":""},{"$f":"IF(F30=\"\",\"\",IF(B30=\"no\",'Emission Factors'!$L$43,'Emission Factors'!$L$44))","v":""},{"$f":"IF(F30=\"\",\"\",IF(C30=\"LP-1\",IF('Limestone Plant (LP-1)'!$F$14>0,'Limestone Plant (LP-1)'!$F$14,AN30*R30),IF(C30=\"LP-2\",IF('Limestone Plant (LP-2)'!$F$14>0,'Limestone Plant (LP-2)'!$F$14,AN30*R30),IF(C30=\"LP-3\",IF('Limestone Plant (LP-3)'!$F$14>0,'Limestone Plant (LP-3)'!$F$14,AN30*R30),IF(C30=\"LP-4\",IF('Limestone Plant (LP-4)'!$F$14>0,'Limestone Plant (LP-4)'!$F$14,AN30*R30),IF(C30=\"LP-5\",IF('Limestone Plant (LP-5)'!$F$14>0,'Limestone Plant (LP-5)'!$F$14,AN30*R30),IF(C30=\"LP-6\",IF('Limestone Plant (LP-6)'!$F$14>0,'Limestone Plant (LP-6)'!$F$14,AN30*R30),IF(C30=\"LP-7\",IF('Limestone Plant (LP-7)'!$F$14>0,'Limestone Plant (LP-7)'!$F$14,AN30*R30),IF(C30=\"LP-8\",IF('Limestone Plant (LP-8)'!$F$14>0,'Limestone Plant (LP-8)'!$F$14,AN30*R30),IF(C30=\"LP-9\",IF('Limestone Plant (LP-9)'!$F$14>0,'Limestone Plant (LP-9)'!$F$14,AN30*R30),IF(C30=\"LP-10\",IF('Limestone Plant (LP-10)'!$F$14>0,'Limestone Plant (LP-10)'!$F$14,AN30*R30))))))))))))","v":""},{"$f":"IF(F30=\"\",\"\",IF(I30>0,I30*0.14*AN30/2000,IF(H30>0,AN30*R30*H30/2000,AO30*8760/2000)))","v":""},{"$f":"IF(F30=\"\",\"\",T30*AN30/2000)","v":""},{"$f":"IF(F30=\"\",\"\",IF(B30=\"no\",'Emission Factors'!$N$43,'Emission Factors'!$N$44))","v":""},{"$f":"IF(F30=\"\",\"\",IF(C30=\"LP-1\",IF('Limestone Plant (LP-1)'!$F$15>0,'Limestone Plant (LP-1)'!$F$15,AR30*R30),IF(C30=\"LP-2\",IF('Limestone Plant (LP-2)'!$F$15>0,'Limestone Plant (LP-2)'!$F$15,AR30*R30),IF(C30=\"LP-3\",IF('Limestone Plant (LP-3)'!$F$15>0,'Limestone Plant (LP-3)'!$F$15,AR30*R30),IF(C30=\"LP-4\",IF('Limestone Plant (LP-4)'!$F$15>0,'Limestone Plant (LP-4)'!$F$15,AR30*R30),IF(C30=\"LP-5\",IF('Limestone Plant (LP-5)'!$F$15>0,'Limestone Plant (LP-5)'!$F$15,AR30*R30),IF(C30=\"LP-6\",IF('Limestone Plant (LP-6)'!$F$15>0,'Limestone Plant (LP-6)'!$F$15,AR30*R30),IF(C30=\"LP-7\",IF('Limestone Plant (LP-7)'!$F$15>0,'Limestone Plant (LP-7)'!$F$15,AR30*R30),IF(C30=\"LP-8\",IF('Limestone Plant (LP-8)'!$F$15>0,'Limestone Plant (LP-8)'!$F$15,AR30*R30),IF(C30=\"LP-9\",IF('Limestone Plant (LP-9)'!$F$15>0,'Limestone Plant (LP-9)'!$F$15,AR30*R30),IF(C30=\"LP-10\",IF('Limestone Plant (LP-10)'!$F$15>0,'Limestone Plant (LP-10)'!$F$15,AR30*R30))))))))))))","v":""},{"$f":"IF(F30=\"\",\"\",IF(I30>0,I30*0.14*AR30/2000,IF(H30>0,AR30*R30*H30/2000,AS30*8760/2000)))","v":""},{"$f":"IF(F30=\"\",\"\",T30*AR30/2000)","v":""},{"$f":"IF(F30=\"\",\"\",IF(B30=\"no\",'Emission Factors'!$P$43,'Emission Factors'!$P$44))","v":""},{"$f":"IF(F30=\"\",\"\",AV30*R30)","v":""},{"$f":"IF(F30=\"\",\"\",IF(I30>0,I30*0.14*AV30/2000,IF(H30>0,AV30*R30*H30/2000,AW30*8760/2000)))","v":""},{"$f":"IF(F30=\"\",\"\",T30*AV30/2000)","v":""},{"$f":"IF(F30=\"\",\"\",IF(B30=\"no\",'Emission Factors'!$R$43,'Emission Factors'!$R$44))","v":""},{"$f":"IF(F30=\"\",\"\",AZ30*R30)","v":""},{"$f":"IF(F30=\"\",\"\",IF(I30>0,I30*0.14*AZ30/2000,IF(H30>0,AZ30*R30*H30/2000,BA30*8760/2000)))","v":""},{"$f":"IF(F30=\"\",\"\",T30*AZ30/2000)","v":""}]
[{"$f":"IF('Facility Information'!$C$21>0,\"LP-1\",\"\")","v":""},"no",null,null,null,null,null,null,null,null,1,null,null,null,null,null,null,"",null,"",null,0,"",{"$f":"IF(F31=\"\",\"\",IF(B31=\"no\",'Emission Factors'!$D$43,'Emission Factors'!$D$44))","v":""},"","","",{"$f":"IF(F31=\"\",\"\",IF(B31=\"no\",'Emission Factors'!$F$43,'Emission Factors'!$F$44))","v":""},"","","",{"$f":"IF(F31=\"\",\"\",IF(B31=\"no\",'Emission Factors'!$H$43,'Emission Factors'!$H$44))","v":""},{"$f":"IF(F31=\"\",\"\",IF(C31=\"LP-1\",IF('Limestone Plant (LP-1)'!$F$12>0,'Limestone Plant (LP-1)'!$F$12,AF31*R31*K31),IF(C31=\"LP-2\",IF('Limestone Plant (LP-2)'!$F$12>0,'Limestone Plant (LP-2)'!$F$12,AF31*R31*K31),IF(C31=\"LP-3\",IF('Limestone Plant (LP-3)'!$F$12>0,'Limestone Plant (LP-3)'!$F$12,AF31*R31*K31),IF(C31=\"LP-4\",IF('Limestone Plant (LP-4)'!$F$12>0,'Limestone Plant (LP-4)'!$F$12,AF31*R31*K31),IF(C31=\"LP-5\",IF('Limestone Plant (LP-5)'!$F$12>0,'Limestone Plant (LP-5)'!$F$12,AF31*R31*K31),IF(C31=\"LP-6\",IF('Limestone Plant (LP-6)'!$F$12>0,'Limestone Plant (LP-6)'!$F$12,AF31*R31*K31),IF(C31=\"LP-7\",IF('Limestone Plant (LP-7)'!$F$12>0,'Limestone Plant (LP-7)'!$F$12,AF31*R31*K31),IF(C31=\"LP-8\",IF('Limestone Plant (LP-8)'!$F$12>0,'Limestone Plant (LP-8)'!$F$12,AF31*R31*K31),IF(C31=\"LP-9\",IF('Limestone Plant (LP-9)'!$F$12>0,'Limestone Plant (LP-9)'!$F$12,AF31*R31*K31),IF(C31=\"LP-10\",IF('Limestone Plant (LP-10)'!$F$12>0,'Limestone Plant (LP-10)'!$F$12,AF31*R31*K31))))))))))))","v":""},"","",{"$f":"IF(F31=\"\",\"\",IF(B31=\"no\",'Emission Factors'!$J$43,'Emission Factors'!$J$44))","v":""},{"$f":"IF(F31=\"\",\"\",IF(C31=\"LP-1\",IF('Limestone Plant (LP-1)'!$F$13>0,'Limestone Plant (LP-1)'!$F$13,AJ31*R31),IF(C31=\"LP-2\",IF('Limestone Plant (LP-2)'!$F$13>0,'Limestone Plant (LP-2)'!$F$13,AJ31*R31),IF(C31=\"LP-3\",IF('Limestone Plant (LP-3)'!$F$13>0,'Limestone Plant (LP-3)'!$F$13,AJ31*R31),IF(C31=\"LP-4\",IF('Limestone Plant (LP-4)'!$F$13>0,'Limestone Plant (LP-4)'!$F$13,AJ31*R31),IF(C31=\"LP-5\",IF('Limestone Plant (LP-5)'!$F$13>0,'Limestone Plant (LP-5)'!$F$13,AJ31*R31),IF(C31=\"LP-6\",IF('Limestone Plant (LP-6)'!$F$13>0,'Limestone Plant (LP-6)'!$F$13,AJ31*R31),IF(C31=\"LP-7\",IF('Limestone Plant (LP-7)'!$F$13>0,'Limestone Plant (LP-7)'!$F$13,AJ31*R31),IF(C31=\"LP-8\",IF('Limestone Plant (LP-8)'!$F$13>0,'Limestone Plant (LP-8)'!$F$13,AJ31*R31),IF(C31=\"LP-9\",IF('Limestone Plant (LP-9)'!$F$13>0,'Limestone Plant (LP-9)'!$F$13,AJ31*R31),IF(C31=\"LP-10\",IF('Limestone Plant (LP-10)'!$F$13>0,'Limestone Plant (LP-10)'!$F$13,AJ31*R31))))))))))))","v":""},"","",{"$f":"IF(F31=\"\",\"\",IF(B31=\"no\",'Emission Factors'!$L$43,'Emission Factors'!$L$44))","v":""},{"$f":"IF(F31=\"\",\"\",IF(C31=\"LP-1\",IF('Limestone Plant (LP-1)'!$F$14>0,'Limestone Plant (LP-1)'!$F$14,AN31*R31),IF(C31=\"LP-2\",IF('Limestone Plant (LP-2)'!$F$14>0,'Limestone Plant (LP-2)'!$F$14,AN31*R31),IF(C31=\"LP-3\",IF('Limestone Plant (LP-3)'!$F$14>0,'Limestone Plant (LP-3)'!$F$14,AN31*R31),IF(C31=\"LP-4\",IF('Limestone Plant (LP-4)'!$F$14>0,'Limestone Plant (LP-4)'!$F$14,AN31*R31),IF(C31=\"LP-5\",IF('Limestone Plant (LP-5)'!$F$14>0,'Limestone Plant (LP-5)'!$F$14,AN31*R31),IF(C31=\"LP-6\",IF('Limestone Plant (LP-6)'!$F$14>0,'Limestone Plant (LP-6)'!$F$14,AN31*R31),IF(C31=\"LP-7\",IF('Limestone Plant (LP-7)'!$F$14>0,'Limestone Plant (LP-7)'!$F$14,AN31*R31),IF(C31=\"LP-8\",IF('Limestone Plant (LP-8)'!$F$14>0,'Limestone Plant (LP-8)'!$F$14,AN31*R31),IF(C31=\"LP-9\",IF('Limestone Plant (LP-9)'!$F$14>0,'Limestone Plant (LP-9)'!$F$14,AN31*R31),IF(C31=\"LP-10\",IF('Limestone Plant (LP-10)'!$F$14>0,'Limestone Plant (LP-10)'!$F$14,AN31*R31))))))))))))","v":""},"","",{"$f":"IF(F31=\"\",\"\",IF(B31=\"no\",'Emission Factors'!$N$43,'Emission Factors'!$N$44))","v":""},{"$f":"IF(F31=\"\",\"\",IF(C31=\"LP-1\",IF('Limestone Plant (LP-1)'!$F$15>0,'Limestone Plant (LP-1)'!$F$15,AR31*R31),IF(C31=\"LP-2\",IF('Limestone Plant (LP-2)'!$F$15>0,'Limestone Plant (LP-2)'!$F$15,AR31*R31),IF(C31=\"LP-3\",IF('Limestone Plant (LP-3)'!$F$15>0,'Limestone Plant (LP-3)'!$F$15,AR31*R31),IF(C31=\"LP-4\",IF('Limestone Plant (LP-4)'!$F$15>0,'Limestone Plant (LP-4)'!$F$15,AR31*R31),IF(C31=\"LP-5\",IF('Limestone Plant (LP-5)'!$F$15>0,'Limestone Plant (LP-5)'!$F$15,AR31*R31),IF(C31=\"LP-6\",IF('Limestone Plant (LP-6)'!$F$15>0,'Limestone Plant (LP-6)'!$F$15,AR31*R31),IF(C31=\"LP-7\",IF('Limestone Plant (LP-7)'!$F$15>0,'Limestone Plant (LP-7)'!$F$15,AR31*R31),IF(C31=\"LP-8\",IF('Limestone Plant (LP-8)'!$F$15>0,'Limestone Plant (LP-8)'!$F$15,AR31*R31),IF(C31=\"LP-9\",IF('Limestone Plant (LP-9)'!$F$15>0,'Limestone Plant (LP-9)'!$F$15,AR31*R31),IF(C31=\"LP-10\",IF('Limestone Plant (LP-10)'!$F$15>0,'Limestone Plant (LP-10)'!$F$15,AR31*R31))))))))))))","v":""},"","",{"$f":"IF(F31=\"\",\"\",IF(B31=\"no\",'Emission Factors'!$P$43,'Emission Factors'!$P$44))","v":""},"","","",{"$f":"IF(F31=\"\",\"\",IF(B31=\"no\",'Emission Factors'!$R$43,'Emission Factors'!$R$44))","v":""},"","",""]
[{"$f":"IF('Facility Information'!$C$21>1,\"LP-2\",\"\")","v":""},"no",null,null,null,null,null,null,null,null,1,null,null,null,null,null,null,"",null,"",null,0,"",{"$f":"IF(F32=\"\",\"\",IF(B32=\"no\",'Emission Factors'!$D$43,'Emission Factors'!$D$44))","v":""},"","","",{"$f":"IF(F32=\"\",\"\",IF(B32=\"no\",'Emission Factors'!$F$43,'Emission Factors'!$F$44))","v":""},"","","",{"$f":"IF(F32=\"\",\"\",IF(B32=\"no\",'Emission Factors'!$H$43,'Emission Factors'!$H$44))","v":""},{"$f":"IF(F32=\"\",\"\",IF(C32=\"LP-1\",IF('Limestone Plant (LP-1)'!$F$12>0,'Limestone Plant (LP-1)'!$F$12,AF32*R32*K32),IF(C32=\"LP-2\",IF('Limestone Plant (LP-2)'!$F$12>0,'Limestone Plant (LP-2)'!$F$12,AF32*R32*K32),IF(C32=\"LP-3\",IF('Limestone Plant (LP-3)'!$F$12>0,'Limestone Plant (LP-3)'!$F$12,AF32*R32*K32),IF(C32=\"LP-4\",IF('Limestone Plant (LP-4)'!$F$12>0,'Limestone Plant (LP-4)'!$F$12,AF32*R32*K32),IF(C32=\"LP-5\",IF('Limestone Plant (LP-5)'!$F$12>0,'Limestone Plant (LP-5)'!$F$12,AF32*R32*K32),IF(C32=\"LP-6\",IF('Limestone Plant (LP-6)'!$F$12>0,'Limestone Plant (LP-6)'!$F$12,AF32*R32*K32),IF(C32=\"LP-7\",IF('Limestone Plant (LP-7)'!$F$12>0,'Limestone Plant (LP-7)'!$F$12,AF32*R32*K32),IF(C32=\"LP-8\",IF('Limestone Plant (LP-8)'!$F$12>0,'Limestone Plant (LP-8)'!$F$12,AF32*R32*K32),IF(C32=\"LP-9\",IF('Limestone Plant (LP-9)'!$F$12>0,'Limestone Plant (LP-9)'!$F$12,AF32*R32*K32),IF(C32=\"LP-10\",IF('Limestone Plant (LP-10)'!$F$12>0,'Limestone Plant (LP-10)'!$F$12,AF32*R32*K32))))))))))))","v":""},"","",{"$f":"IF(F32=\"\",\"\",IF(B32=\"no\",'Emission Factors'!$J$43,'Emission Factors'!$J$44))","v":""},{"$f":"IF(F32=\"\",\"\",IF(C32=\"LP-1\",IF('Limestone Plant (LP-1)'!$F$13>0,'Limestone Plant (LP-1)'!$F$13,AJ32*R32),IF(C32=\"LP-2\",IF('Limestone Plant (LP-2)'!$F$13>0,'Limestone Plant (LP-2)'!$F$13,AJ32*R32),IF(C32=\"LP-3\",IF('Limestone Plant (LP-3)'!$F$13>0,'Limestone Plant (LP-3)'!$F$13,AJ32*R32),IF(C32=\"LP-4\",IF('Limestone Plant (LP-4)'!$F$13>0,'Limestone Plant (LP-4)'!$F$13,AJ32*R32),IF(C32=\"LP-5\",IF('Limestone Plant (LP-5)'!$F$13>0,'Limestone Plant (LP-5)'!$F$13,AJ32*R32),IF(C32=\"LP-6\",IF('Limestone Plant (LP-6)'!$F$13>0,'Limestone Plant (LP-6)'!$F$13,AJ32*R32),IF(C32=\"LP-7\",IF('Limestone Plant (LP-7)'!$F$13>0,'Limestone Plant (LP-7)'!$F$13,AJ32*R32),IF(C32=\"LP-8\",IF('Limestone Plant (LP-8)'!$F$13>0,'Limestone Plant (LP-8)'!$F$13,AJ32*R32),IF(C32=\"LP-9\",IF('Limestone Plant (LP-9)'!$F$13>0,'Limestone Plant (LP-9)'!$F$13,AJ32*R32),IF(C32=\"LP-10\",IF('Limestone Plant (LP-10)'!$F$13>0,'Limestone Plant (LP-10)'!$F$13,AJ32*R32))))))))))))","v":""},"","",{"$f":"IF(F32=\"\",\"\",IF(B32=\"no\",'Emission Factors'!$L$43,'Emission Factors'!$L$44))","v":""},{"$f":"IF(F32=\"\",\"\",IF(C32=\"LP-1\",IF('Limestone Plant (LP-1)'!$F$14>0,'Limestone Plant (LP-1)'!$F$14,AN32*R32),IF(C32=\"LP-2\",IF('Limestone Plant (LP-2)'!$F$14>0,'Limestone Plant (LP-2)'!$F$14,AN32*R32),IF(C32=\"LP-3\",IF('Limestone Plant (LP-3)'!$F$14>0,'Limestone Plant (LP-3)'!$F$14,AN32*R32),IF(C32=\"LP-4\",IF('Limestone Plant (LP-4)'!$F$14>0,'Limestone Plant (LP-4)'!$F$14,AN32*R32),IF(C32=\"LP-5\",IF('Limestone Plant (LP-5)'!$F$14>0,'Limestone Plant (LP-5)'!$F$14,AN32*R32),IF(C32=\"LP-6\",IF('Limestone Plant (LP-6)'!$F$14>0,'Limestone Plant (LP-6)'!$F$14,AN32*R32),IF(C32=\"LP-7\",IF('Limestone Plant (LP-7)'!$F$14>0,'Limestone Plant (LP-7)'!$F$14,AN32*R32),IF(C32=\"LP-8\",IF('Limestone Plant (LP-8)'!$F$14>0,'Limestone Plant (LP-8)'!$F$14,AN32*R32),IF(C32=\"LP-9\",IF('Limestone Plant (LP-9)'!$F$14>0,'Limestone Plant (LP-9)'!$F$14,AN32*R32),IF(C32=\"LP-10\",IF('Limestone Plant (LP-10)'!$F$14>0,'Limestone Plant (LP-10)'!$F$14,AN32*R32))))))))))))","v":""},"","",{"$f":"IF(F32=\"\",\"\",IF(B32=\"no\",'Emission Factors'!$N$43,'Emission Factors'!$N$44))","v":""},{"$f":"IF(F32=\"\",\"\",IF(C32=\"LP-1\",IF('Limestone Plant (LP-1)'!$F$15>0,'Limestone Plant (LP-1)'!$F$15,AR32*R32),IF(C32=\"LP-2\",IF('Limestone Plant (LP-2)'!$F$15>0,'Limestone Plant (LP-2)'!$F$15,AR32*R32),IF(C32=\"LP-3\",IF('Limestone Plant (LP-3)'!$F$15>0,'Limestone Plant (LP-3)'!$F$15,AR32*R32),IF(C32=\"LP-4\",IF('Limestone Plant (LP-4)'!$F$15>0,'Limestone Plant (LP-4)'!$F$15,AR32*R32),IF(C32=\"LP-5\",IF('Limestone Plant (LP-5)'!$F$15>0,'Limestone Plant (LP-5)'!$F$15,AR32*R32),IF(C32=\"LP-6\",IF('Limestone Plant (LP-6)'!$F$15>0,'Limestone Plant (LP-6)'!$F$15,AR32*R32),IF(C32=\"LP-7\",IF('Limestone Plant (LP-7)'!$F$15>0,'Limestone Plant (LP-7)'!$F$15,AR32*R32),IF(C32=\"LP-8\",IF('Limestone Plant (LP-8)'!$F$15>0,'Limestone Plant (LP-8)'!$F$15,AR32*R32),IF(C32=\"LP-9\",IF('Limestone Plant (LP-9)'!$F$15>0,'Limestone Plant (LP-9)'!$F$15,AR32*R32),IF(C32=\"LP-10\",IF('Limestone Plant (LP-10)'!$F$15>0,'Limestone Plant (LP-10)'!$F$15,AR32*R32))))))))))))","v":""},"","",{"$f":"IF(F32=\"\",\"\",IF(B32=\"no\",'Emission Factors'!$P$43,'Emission Factors'!$P$44))","v":""},"","","",{"$f":"IF(F32=\"\",\"\",IF(B32=\"no\",'Emission Factors'!$R$43,'Emission Factors'!$R$44))","v":""},"","",""]
[{"$f":"IF('Facility Information'!$C$21>2,\"LP-3\",\"\")","v":""},"no",null,null,null,null,null,null,null,null,1,null,null,null,null,null,null,"",null,"",null,0,"",{"$f":"IF(F33=\"\",\"\",IF(B33=\"no\",'Emission Factors'!$D$43,'Emission Factors'!$D$44))","v":""},"","","",{"$f":"IF(F33=\"\",\"\",IF(B33=\"no\",'Emission Factors'!$F$43,'Emission Factors'!$F$44))","v":""},"","","",{"$f":"IF(F33=\"\",\"\",IF(B33=\"no\",'Emission Factors'!$H$43,'Emission Factors'!$H$44))","v":""},{"$f":"IF(F33=\"\",\"\",IF(C33=\"LP-1\",IF('Limestone Plant (LP-1)'!$F$12>0,'Limestone Plant (LP-1)'!$F$12,AF33*R33*K33),IF(C33=\"LP-2\",IF('Limestone Plant (LP-2)'!$F$12>0,'Limestone Plant (LP-2)'!$F$12,AF33*R33*K33),IF(C33=\"LP-3\",IF('Limestone Plant (LP-3)'!$F$12>0,'Limestone Plant (LP-3)'!$F$12,AF33*R33*K33),IF(C33=\"LP-4\",IF('Limestone Plant (LP-4)'!$F$12>0,'Limestone Plant (LP-4)'!$F$12,AF33*R33*K33),IF(C33=\"LP-5\",IF('Limestone Plant (LP-5)'!$F$12>0,'Limestone Plant (LP-5)'!$F$12,AF33*R33*K33),IF(C33=\"LP-6\",IF('Limestone Plant (LP-6)'!$F$12>0,'Limestone Plant (LP-6)'!$F$12,AF33*R33*K33),IF(C33=\"LP-7\",IF('Limestone Plant (LP-7)'!$F$12>0,'Limestone Plant (LP-7)'!$F$12,AF33*R33*K33),IF(C33=\"LP-8\",IF('Limestone Plant (LP-8)'!$F$12>0,'Limestone Plant (LP-8)'!$F$12,AF33*R33*K33),IF(C33=\"LP-9\",IF('Limestone Plant (LP-9)'!$F$12>0,'Limestone Plant (LP-9)'!$F$12,AF33*R33*K33),IF(C33=\"LP-10\",IF('Limestone Plant (LP-10)'!$F$12>0,'Limestone Plant (LP-10)'!$F$12,AF33*R33*K33))))))))))))","v":""},"","",{"$f":"IF(F33=\"\",\"\",IF(B33=\"no\",'Emission Factors'!$J$43,'Emission Factors'!$J$44))","v":""},{"$f":"IF(F33=\"\",\"\",IF(C33=\"LP-1\",IF('Limestone Plant (LP-1)'!$F$13>0,'Limestone Plant (LP-1)'!$F$13,AJ33*R33),IF(C33=\"LP-2\",IF('Limestone Plant (LP-2)'!$F$13>0,'Limestone Plant (LP-2)'!$F$13,AJ33*R33),IF(C33=\"LP-3\",IF('Limestone Plant (LP-3)'!$F$13>0,'Limestone Plant (LP-3)'!$F$13,AJ33*R33),IF(C33=\"LP-4\",IF('Limestone Plant (LP-4)'!$F$13>0,'Limestone Plant (LP-4)'!$F$13,AJ33*R33),IF(C33=\"LP-5\",IF('Limestone Plant (LP-5)'!$F$13>0,'Limestone Plant (LP-5)'!$F$13,AJ33*R33),IF(C33=\"LP-6\",IF('Limestone Plant (LP-6)'!$F$13>0,'Limestone Plant (LP-6)'!$F$13,AJ33*R33),IF(C33=\"LP-7\",IF('Limestone Plant (LP-7)'!$F$13>0,'Limestone Plant (LP-7)'!$F$13,AJ33*R33),IF(C33=\"LP-8\",IF('Limestone Plant (LP-8)'!$F$13>0,'Limestone Plant (LP-8)'!$F$13,AJ33*R33),IF(C33=\"LP-9\",IF('Limestone Plant (LP-9)'!$F$13>0,'Limestone Plant (LP-9)'!$F$13,AJ33*R33),IF(C33=\"LP-10\",IF('Limestone Plant (LP-10)'!$F$13>0,'Limestone Plant (LP-10)'!$F$13,AJ33*R33))))))))))))","v":""},"","",{"$f":"IF(F33=\"\",\"\",IF(B33=\"no\",'Emission Factors'!$L$43,'Emission Factors'!$L$44))","v":""},{"$f":"IF(F33=\"\",\"\",IF(C33=\"LP-1\",IF('Limestone Plant (LP-1)'!$F$14>0,'Limestone Plant (LP-1)'!$F$14,AN33*R33),IF(C33=\"LP-2\",IF('Limestone Plant (LP-2)'!$F$14>0,'Limestone Plant (LP-2)'!$F$14,AN33*R33),IF(C33=\"LP-3\",IF('Limestone Plant (LP-3)'!$F$14>0,'Limestone Plant (LP-3)'!$F$14,AN33*R33),IF(C33=\"LP-4\",IF('Limestone Plant (LP-4)'!$F$14>0,'Limestone Plant (LP-4)'!$F$14,AN33*R33),IF(C33=\"LP-5\",IF('Limestone Plant (LP-5)'!$F$14>0,'Limestone Plant (LP-5)'!$F$14,AN33*R33),IF(C33=\"LP-6\",IF('Limestone Plant (LP-6)'!$F$14>0,'Limestone Plant (LP-6)'!$F$14,AN33*R33),IF(C33=\"LP-7\",IF('Limestone Plant (LP-7)'!$F$14>0,'Limestone Plant (LP-7)'!$F$14,AN33*R33),IF(C33=\"LP-8\",IF('Limestone Plant (LP-8)'!$F$14>0,'Limestone Plant (LP-8)'!$F$14,AN33*R33),IF(C33=\"LP-9\",IF('Limestone Plant (LP-9)'!$F$14>0,'Limestone Plant (LP-9)'!$F$14,AN33*R33),IF(C33=\"LP-10\",IF('Limestone Plant (LP-10)'!$F$14>0,'Limestone Plant (LP-10)'!$F$14,AN33*R33))))))))))))","v":""},"","",{"$f":"IF(F33=\"\",\"\",IF(B33=\"no\",'Emission Factors'!$N$43,'Emission Factors'!$N$44))","v":""},{"$f":"IF(F33=\"\",\"\",IF(C33=\"LP-1\",IF('Limestone Plant (LP-1)'!$F$15>0,'Limestone Plant (LP-1)'!$F$15,AR33*R33),IF(C33=\"LP-2\",IF('Limestone Plant (LP-2)'!$F$15>0,'Limestone Plant (LP-2)'!$F$15,AR33*R33),IF(C33=\"LP-3\",IF('Limestone Plant (LP-3)'!$F$15>0,'Limestone Plant (LP-3)'!$F$15,AR33*R33),IF(C33=\"LP-4\",IF('Limestone Plant (LP-4)'!$F$15>0,'Limestone Plant (LP-4)'!$F$15,AR33*R33),IF(C33=\"LP-5\",IF('Limestone Plant (LP-5)'!$F$15>0,'Limestone Plant (LP-5)'!$F$15,AR33*R33),IF(C33=\"LP-6\",IF('Limestone Plant (LP-6)'!$F$15>0,'Limestone Plant (LP-6)'!$F$15,AR33*R33),IF(C33=\"LP-7\",IF('Limestone Plant (LP-7)'!$F$15>0,'Limestone Plant (LP-7)'!$F$15,AR33*R33),IF(C33=\"LP-8\",IF('Limestone Plant (LP-8)'!$F$15>0,'Limestone Plant (LP-8)'!$F$15,AR33*R33),IF(C33=\"LP-9\",IF('Limestone Plant (LP-9)'!$F$15>0,'Limestone Plant (LP-9)'!$F$15,AR33*R33),IF(C33=\"LP-10\",IF('Limestone Plant (LP-10)'!$F$15>0,'Limestone Plant (LP-10)'!$F$15,AR33*R33))))))))))))","v":""},"","",{"$f":"IF(F33=\"\",\"\",IF(B33=\"no\",'Emission Factors'!$P$43,'Emission Factors'!$P$44))","v":""},"","","",{"$f":"IF(F33=\"\",\"\",IF(B33=\"no\",'Emission Factors'!$R$43,'Emission Factors'!$R$44))","v":""},"","",""]
[{"$f":"IF('Facility Information'!$C$21>3,\"LP-4\",\"\")","v":""},"no",null,null,null,null,null,null,null,null,1,null,null,null,null,null,null,"",null,"",null,0,"",{"$f":"IF(F34=\"\",\"\",IF(B34=\"no\",'Emission Factors'!$D$43,'Emission Factors'!$D$44))","v":""},"","","",{"$f":"IF(F34=\"\",\"\",IF(B34=\"no\",'Emission Factors'!$F$43,'Emission Factors'!$F$44))","v":""},"","","",{"$f":"IF(F34=\"\",\"\",IF(B34=\"no\",'Emission Factors'!$H$43,'Emission Factors'!$H$44))","v":""},{"$f":"IF(F34=\"\",\"\",IF(C34=\"LP-1\",IF('Limestone Plant (LP-1)'!$F$12>0,'Limestone Plant (LP-1)'!$F$12,AF34*R34*K34),IF(C34=\"LP-2\",IF('Limestone Plant (LP-2)'!$F$12>0,'Limestone Plant (LP-2)'!$F$12,AF34*R34*K34),IF(C34=\"LP-3\",IF('Limestone Plant (LP-3)'!$F$12>0,'Limestone Plant (LP-3)'!$F$12,AF34*R34*K34),IF(C34=\"LP-4\",IF('Limestone Plant (LP-4)'!$F$12>0,'Limestone Plant (LP-4)'!$F$12,AF34*R34*K34),IF(C34=\"LP-5\",IF('Limestone Plant (LP-5)'!$F$12>0,'Limestone Plant (LP-5)'!$F$12,AF34*R34*K34),IF(C34=\"LP-6\",IF('Limestone Plant (LP-6)'!$F$12>0,'Limestone Plant (LP-6)'!$F$12,AF34*R34*K34),IF(C34=\"LP-7\",IF('Limestone Plant (LP-7)'!$F$12>0,'Limestone Plant (LP-7)'!$F$12,AF34*R34*K34),IF(C34=\"LP-8\",IF('Limestone Plant (LP-8)'!$F$12>0,'Limestone Plant (LP-8)'!$F$12,AF34*R34*K34),IF(C34=\"LP-9\",IF('Limestone Plant (LP-9)'!$F$12>0,'Limestone Plant (LP-9)'!$F$12,AF34*R34*K34),IF(C34=\"LP-10\",IF('Limestone Plant (LP-10)'!$F$12>0,'Limestone Plant (LP-10)'!$F$12,AF34*R34*K34))))))))))))","v":""},"","",{"$f":"IF(F34=\"\",\"\",IF(B34=\"no\",'Emission Factors'!$J$43,'Emission Factors'!$J$44))","v":""},{"$f":"IF(F34=\"\",\"\",IF(C34=\"LP-1\",IF('Limestone Plant (LP-1)'!$F$13>0,'Limestone Plant (LP-1)'!$F$13,AJ34*R34),IF(C34=\"LP-2\",IF('Limestone Plant (LP-2)'!$F$13>0,'Limestone Plant (LP-2)'!$F$13,AJ34*R34),IF(C34=\"LP-3\",IF('Limestone Plant (LP-3)'!$F$13>0,'Limestone Plant (LP-3)'!$F$13,AJ34*R34),IF(C34=\"LP-4\",IF('Limestone Plant (LP-4)'!$F$13>0,'Limestone Plant (LP-4)'!$F$13,AJ34*R34),IF(C34=\"LP-5\",IF('Limestone Plant (LP-5)'!$F$13>0,'Limestone Plant (LP-5)'!$F$13,AJ34*R34),IF(C34=\"LP-6\",IF('Limestone Plant (LP-6)'!$F$13>0,'Limestone Plant (LP-6)'!$F$13,AJ34*R34),IF(C34=\"LP-7\",IF('Limestone Plant (LP-7)'!$F$13>0,'Limestone Plant (LP-7)'!$F$13,AJ34*R34),IF(C34=\"LP-8\",IF('Limestone Plant (LP-8)'!$F$13>0,'Limestone Plant (LP-8)'!$F$13,AJ34*R34),IF(C34=\"LP-9\",IF('Limestone Plant (LP-9)'!$F$13>0,'Limestone Plant (LP-9)'!$F$13,AJ34*R34),IF(C34=\"LP-10\",IF('Limestone Plant (LP-10)'!$F$13>0,'Limestone Plant (LP-10)'!$F$13,AJ34*R34))))))))))))","v":""},"","",{"$f":"IF(F34=\"\",\"\",IF(B34=\"no\",'Emission Factors'!$L$43,'Emission Factors'!$L$44))","v":""},{"$f":"IF(F34=\"\",\"\",IF(C34=\"LP-1\",IF('Limestone Plant (LP-1)'!$F$14>0,'Limestone Plant (LP-1)'!$F$14,AN34*R34),IF(C34=\"LP-2\",IF('Limestone Plant (LP-2)'!$F$14>0,'Limestone Plant (LP-2)'!$F$14,AN34*R34),IF(C34=\"LP-3\",IF('Limestone Plant (LP-3)'!$F$14>0,'Limestone Plant (LP-3)'!$F$14,AN34*R34),IF(C34=\"LP-4\",IF('Limestone Plant (LP-4)'!$F$14>0,'Limestone Plant (LP-4)'!$F$14,AN34*R34),IF(C34=\"LP-5\",IF('Limestone Plant (LP-5)'!$F$14>0,'Limestone Plant (LP-5)'!$F$14,AN34*R34),IF(C34=\"LP-6\",IF('Limestone Plant (LP-6)'!$F$14>0,'Limestone Plant (LP-6)'!$F$14,AN34*R34),IF(C34=\"LP-7\",IF('Limestone Plant (LP-7)'!$F$14>0,'Limestone Plant (LP-7)'!$F$14,AN34*R34),IF(C34=\"LP-8\",IF('Limestone Plant (LP-8)'!$F$14>0,'Limestone Plant (LP-8)'!$F$14,AN34*R34),IF(C34=\"LP-9\",IF('Limestone Plant (LP-9)'!$F$14>0,'Limestone Plant (LP-9)'!$F$14,AN34*R34),IF(C34=\"LP-10\",IF('Limestone Plant (LP-10)'!$F$14>0,'Limestone Plant (LP-10)'!$F$14,AN34*R34))))))))))))","v":""},"","",{"$f":"IF(F34=\"\",\"\",IF(B34=\"no\",'Emission Factors'!$N$43,'Emission Factors'!$N$44))","v":""},{"$f":"IF(F34=\"\",\"\",IF(C34=\"LP-1\",IF('Limestone Plant (LP-1)'!$F$15>0,'Limestone Plant (LP-1)'!$F$15,AR34*R34),IF(C34=\"LP-2\",IF('Limestone Plant (LP-2)'!$F$15>0,'Limestone Plant (LP-2)'!$F$15,AR34*R34),IF(C34=\"LP-3\",IF('Limestone Plant (LP-3)'!$F$15>0,'Limestone Plant (LP-3)'!$F$15,AR34*R34),IF(C34=\"LP-4\",IF('Limestone Plant (LP-4)'!$F$15>0,'Limestone Plant (LP-4)'!$F$15,AR34*R34),IF(C34=\"LP-5\",IF('Limestone Plant (LP-5)'!$F$15>0,'Limestone Plant (LP-5)'!$F$15,AR34*R34),IF(C34=\"LP-6\",IF('Limestone Plant (LP-6)'!$F$15>0,'Limestone Plant (LP-6)'!$F$15,AR34*R34),IF(C34=\"LP-7\",IF('Limestone Plant (LP-7)'!$F$15>0,'Limestone Plant (LP-7)'!$F$15,AR34*R34),IF(C34=\"LP-8\",IF('Limestone Plant (LP-8)'!$F$15>0,'Limestone Plant (LP-8)'!$F$15,AR34*R34),IF(C34=\"LP-9\",IF('Limestone Plant (LP-9)'!$F$15>0,'Limestone Plant (LP-9)'!$F$15,AR34*R34),IF(C34=\"LP-10\",IF('Limestone Plant (LP-10)'!$F$15>0,'Limestone Plant (LP-10)'!$F$15,AR34*R34))))))))))))","v":""},"","",{"$f":"IF(F34=\"\",\"\",IF(B34=\"no\",'Emission Factors'!$P$43,'Emission Factors'!$P$44))","v":""},"","","",{"$f":"IF(F34=\"\",\"\",IF(B34=\"no\",'Emission Factors'!$R$43,'Emission Factors'!$R$44))","v":""},"","",""]
[{"$f":"IF('Facility Information'!$C$21>4,\"LP-5\",\"\")","v":""},"no",null,null,null,null,null,null,null,null,1,null,null,null,null,null,null,"",null,"",null,0,"",{"$f":"IF(F35=\"\",\"\",IF(B35=\"no\",'Emission Factors'!$D$43,'Emission Factors'!$D$44))","v":""},"","","",{"$f":"IF(F35=\"\",\"\",IF(B35=\"no\",'Emission Factors'!$F$43,'Emission Factors'!$F$44))","v":""},"","","",{"$f":"IF(F35=\"\",\"\",IF(B35=\"no\",'Emission Factors'!$H$43,'Emission Factors'!$H$44))","v":""},{"$f":"IF(F35=\"\",\"\",IF(C35=\"LP-1\",IF('Limestone Plant (LP-1)'!$F$12>0,'Limestone Plant (LP-1)'!$F$12,AF35*R35*K35),IF(C35=\"LP-2\",IF('Limestone Plant (LP-2)'!$F$12>0,'Limestone Plant (LP-2)'!$F$12,AF35*R35*K35),IF(C35=\"LP-3\",IF('Limestone Plant (LP-3)'!$F$12>0,'Limestone Plant (LP-3)'!$F$12,AF35*R35*K35),IF(C35=\"LP-4\",IF('Limestone Plant (LP-4)'!$F$12>0,'Limestone Plant (LP-4)'!$F$12,AF35*R35*K35),IF(C35=\"LP-5\",IF('Limestone Plant (LP-5)'!$F$12>0,'Limestone Plant (LP-5)'!$F$12,AF35*R35*K35),IF(C35=\"LP-6\",IF('Limestone Plant (LP-6)'!$F$12>0,'Limestone Plant (LP-6)'!$F$12,AF35*R35*K35),IF(C35=\"LP-7\",IF('Limestone Plant (LP-7)'!$F$12>0,'Limestone Plant (LP-7)'!$F$12,AF35*R35*K35),IF(C35=\"LP-8\",IF('Limestone Plant (LP-8)'!$F$12>0,'Limestone Plant (LP-8)'!$F$12,AF35*R35*K35),IF(C35=\"LP-9\",IF('Limestone Plant (LP-9)'!$F$12>0,'Limestone Plant (LP-9)'!$F$12,AF35*R35*K35),IF(C35=\"LP-10\",IF('Limestone Plant (LP-10)'!$F$12>0,'Limestone Plant (LP-10)'!$F$12,AF35*R35*K35))))))))))))","v":""},"","",{"$f":"IF(F35=\"\",\"\",IF(B35=\"no\",'Emission Factors'!$J$43,'Emission Factors'!$J$44))","v":""},{"$f":"IF(F35=\"\",\"\",IF(C35=\"LP-1\",IF('Limestone Plant (LP-1)'!$F$13>0,'Limestone Plant (LP-1)'!$F$13,AJ35*R35),IF(C35=\"LP-2\",IF('Limestone Plant (LP-2)'!$F$13>0,'Limestone Plant (LP-2)'!$F$13,AJ35*R35),IF(C35=\"LP-3\",IF('Limestone Plant (LP-3)'!$F$13>0,'Limestone Plant (LP-3)'!$F$13,AJ35*R35),IF(C35=\"LP-4\",IF('Limestone Plant (LP-4)'!$F$13>0,'Limestone Plant (LP-4)'!$F$13,AJ35*R35),IF(C35=\"LP-5\",IF('Limestone Plant (LP-5)'!$F$13>0,'Limestone Plant (LP-5)'!$F$13,AJ35*R35),IF(C35=\"LP-6\",IF('Limestone Plant (LP-6)'!$F$13>0,'Limestone Plant (LP-6)'!$F$13,AJ35*R35),IF(C35=\"LP-7\",IF('Limestone Plant (LP-7)'!$F$13>0,'Limestone Plant (LP-7)'!$F$13,AJ35*R35),IF(C35=\"LP-8\",IF('Limestone Plant (LP-8)'!$F$13>0,'Limestone Plant (LP-8)'!$F$13,AJ35*R35),IF(C35=\"LP-9\",IF('Limestone Plant (LP-9)'!$F$13>0,'Limestone Plant (LP-9)'!$F$13,AJ35*R35),IF(C35=\"LP-10\",IF('Limestone Plant (LP-10)'!$F$13>0,'Limestone Plant (LP-10)'!$F$13,AJ35*R35))))))))))))","v":""},"","",{"$f":"IF(F35=\"\",\"\",IF(B35=\"no\",'Emission Factors'!$L$43,'Emission Factors'!$L$44))","v":""},{"$f":"IF(F35=\"\",\"\",IF(C35=\"LP-1\",IF('Limestone Plant (LP-1)'!$F$14>0,'Limestone Plant (LP-1)'!$F$14,AN35*R35),IF(C35=\"LP-2\",IF('Limestone Plant (LP-2)'!$F$14>0,'Limestone Plant (LP-2)'!$F$14,AN35*R35),IF(C35=\"LP-3\",IF('Limestone Plant (LP-3)'!$F$14>0,'Limestone Plant (LP-3)'!$F$14,AN35*R35),IF(C35=\"LP-4\",IF('Limestone Plant (LP-4)'!$F$14>0,'Limestone Plant (LP-4)'!$F$14,AN35*R35),IF(C35=\"LP-5\",IF('Limestone Plant (LP-5)'!$F$14>0,'Limestone Plant (LP-5)'!$F$14,AN35*R35),IF(C35=\"LP-6\",IF('Limestone Plant (LP-6)'!$F$14>0,'Limestone Plant (LP-6)'!$F$14,AN35*R35),IF(C35=\"LP-7\",IF('Limestone Plant (LP-7)'!$F$14>0,'Limestone Plant (LP-7)'!$F$14,AN35*R35),IF(C35=\"LP-8\",IF('Limestone Plant (LP-8)'!$F$14>0,'Limestone Plant (LP-8)'!$F$14,AN35*R35),IF(C35=\"LP-9\",IF('Limestone Plant (LP-9)'!$F$14>0,'Limestone Plant (LP-9)'!$F$14,AN35*R35),IF(C35=\"LP-10\",IF('Limestone Plant (LP-10)'!$F$14>0,'Limestone Plant (LP-10)'!$F$14,AN35*R35))))))))))))","v":""},"","",{"$f":"IF(F35=\"\",\"\",IF(B35=\"no\",'Emission Factors'!$N$43,'Emission Factors'!$N$44))","v":""},{"$f":"IF(F35=\"\",\"\",IF(C35=\"LP-1\",IF('Limestone Plant (LP-1)'!$F$15>0,'Limestone Plant (LP-1)'!$F$15,AR35*R35),IF(C35=\"LP-2\",IF('Limestone Plant (LP-2)'!$F$15>0,'Limestone Plant (LP-2)'!$F$15,AR35*R35),IF(C35=\"LP-3\",IF('Limestone Plant (LP-3)'!$F$15>0,'Limestone Plant (LP-3)'!$F$15,AR35*R35),IF(C35=\"LP-4\",IF('Limestone Plant (LP-4)'!$F$15>0,'Limestone Plant (LP-4)'!$F$15,AR35*R35),IF(C35=\"LP-5\",IF('Limestone Plant (LP-5)'!$F$15>0,'Limestone Plant (LP-5)'!$F$15,AR35*R35),IF(C35=\"LP-6\",IF('Limestone Plant (LP-6)'!$F$15>0,'Limestone Plant (LP-6)'!$F$15,AR35*R35),IF(C35=\"LP-7\",IF('Limestone Plant (LP-7)'!$F$15>0,'Limestone Plant (LP-7)'!$F$15,AR35*R35),IF(C35=\"LP-8\",IF('Limestone Plant (LP-8)'!$F$15>0,'Limestone Plant (LP-8)'!$F$15,AR35*R35),IF(C35=\"LP-9\",IF('Limestone Plant (LP-9)'!$F$15>0,'Limestone Plant (LP-9)'!$F$15,AR35*R35),IF(C35=\"LP-10\",IF('Limestone Plant (LP-10)'!$F$15>0,'Limestone Plant (LP-10)'!$F$15,AR35*R35))))))))))))","v":""},"","",{"$f":"IF(F35=\"\",\"\",IF(B35=\"no\",'Emission Factors'!$P$43,'Emission Factors'!$P$44))","v":""},"","","",{"$f":"IF(F35=\"\",\"\",IF(B35=\"no\",'Emission Factors'!$R$43,'Emission Factors'!$R$44))","v":""},"","",""]
[{"$f":"IF('Facility Information'!$C$21>5,\"LP-6\",\"\")","v":""},"no",null,null,null,null,null,null,null,null,1,null,null,null,null,null,null,"",null,"",null,0,"",{"$f":"IF(F36=\"\",\"\",IF(B36=\"no\",'Emission Factors'!$D$43,'Emission Factors'!$D$44))","v":""},"","","",{"$f":"IF(F36=\"\",\"\",IF(B36=\"no\",'Emission Factors'!$F$43,'Emission Factors'!$F$44))","v":""},"","","",{"$f":"IF(F36=\"\",\"\",IF(B36=\"no\",'Emission Factors'!$H$43,'Emission Factors'!$H$44))","v":""},{"$f":"IF(F36=\"\",\"\",IF(C36=\"LP-1\",IF('Limestone Plant (LP-1)'!$F$12>0,'Limestone Plant (LP-1)'!$F$12,AF36*R36*K36),IF(C36=\"LP-2\",IF('Limestone Plant (LP-2)'!$F$12>0,'Limestone Plant (LP-2)'!$F$12,AF36*R36*K36),IF(C36=\"LP-3\",IF('Limestone Plant (LP-3)'!$F$12>0,'Limestone Plant (LP-3)'!$F$12,AF36*R36*K36),IF(C36=\"LP-4\",IF('Limestone Plant (LP-4)'!$F$12>0,'Limestone Plant (LP-4)'!$F$12,AF36*R36*K36),IF(C36=\"LP-5\",IF('Limestone Plant (LP-5)'!$F$12>0,'Limestone Plant (LP-5)'!$F$12,AF36*R36*K36),IF(C36=\"LP-6\",IF('Limestone Plant (LP-6)'!$F$12>0,'Limestone Plant (LP-6)'!$F$12,AF36*R36*K36),IF(C36=\"LP-7\",IF('Limestone Plant (LP-7)'!$F$12>0,'Limestone Plant (LP-7)'!$F$12,AF36*R36*K36),IF(C36=\"LP-8\",IF('Limestone Plant (LP-8)'!$F$12>0,'Limestone Plant (LP-8)'!$F$12,AF36*R36*K36),IF(C36=\"LP-9\",IF('Limestone Plant (LP-9)'!$F$12>0,'Limestone Plant (LP-9)'!$F$12,AF36*R36*K36),IF(C36=\"LP-10\",IF('Limestone Plant (LP-10)'!$F$12>0,'Limestone Plant (LP-10)'!$F$12,AF36*R36*K36))))))))))))","v":""},"","",{"$f":"IF(F36=\"\",\"\",IF(B36=\"no\",'Emission Factors'!$J$43,'Emission Factors'!$J$44))","v":""},{"$f":"IF(F36=\"\",\"\",IF(C36=\"LP-1\",IF('Limestone Plant (LP-1)'!$F$13>0,'Limestone Plant (LP-1)'!$F$13,AJ36*R36),IF(C36=\"LP-2\",IF('Limestone Plant (LP-2)'!$F$13>0,'Limestone Plant (LP-2)'!$F$13,AJ36*R36),IF(C36=\"LP-3\",IF('Limestone Plant (LP-3)'!$F$13>0,'Limestone Plant (LP-3)'!$F$13,AJ36*R36),IF(C36=\"LP-4\",IF('Limestone Plant (LP-4)'!$F$13>0,'Limestone Plant (LP-4)'!$F$13,AJ36*R36),IF(C36=\"LP-5\",IF('Limestone Plant (LP-5)'!$F$13>0,'Limestone Plant (LP-5)'!$F$13,AJ36*R36),IF(C36=\"LP-6\",IF('Limestone Plant (LP-6)'!$F$13>0,'Limestone Plant (LP-6)'!$F$13,AJ36*R36),IF(C36=\"LP-7\",IF('Limestone Plant (LP-7)'!$F$13>0,'Limestone Plant (LP-7)'!$F$13,AJ36*R36),IF(C36=\"LP-8\",IF('Limestone Plant (LP-8)'!$F$13>0,'Limestone Plant (LP-8)'!$F$13,AJ36*R36),IF(C36=\"LP-9\",IF('Limestone Plant (LP-9)'!$F$13>0,'Limestone Plant (LP-9)'!$F$13,AJ36*R36),IF(C36=\"LP-10\",IF('Limestone Plant (LP-10)'!$F$13>0,'Limestone Plant (LP-10)'!$F$13,AJ36*R36))))))))))))","v":""},"","",{"$f":"IF(F36=\"\",\"\",IF(B36=\"no\",'Emission Factors'!$L$43,'Emission Factors'!$L$44))","v":""},{"$f":"IF(F36=\"\",\"\",IF(C36=\"LP-1\",IF('Limestone Plant (LP-1)'!$F$14>0,'Limestone Plant (LP-1)'!$F$14,AN36*R36),IF(C36=\"LP-2\",IF('Limestone Plant (LP-2)'!$F$14>0,'Limestone Plant (LP-2)'!$F$14,AN36*R36),IF(C36=\"LP-3\",IF('Limestone Plant (LP-3)'!$F$14>0,'Limestone Plant (LP-3)'!$F$14,AN36*R36),IF(C36=\"LP-4\",IF('Limestone Plant (LP-4)'!$F$14>0,'Limestone Plant (LP-4)'!$F$14,AN36*R36),IF(C36=\"LP-5\",IF('Limestone Plant (LP-5)'!$F$14>0,'Limestone Plant (LP-5)'!$F$14,AN36*R36),IF(C36=\"LP-6\",IF('Limestone Plant (LP-6)'!$F$14>0,'Limestone Plant (LP-6)'!$F$14,AN36*R36),IF(C36=\"LP-7\",IF('Limestone Plant (LP-7)'!$F$14>0,'Limestone Plant (LP-7)'!$F$14,AN36*R36),IF(C36=\"LP-8\",IF('Limestone Plant (LP-8)'!$F$14>0,'Limestone Plant (LP-8)'!$F$14,AN36*R36),IF(C36=\"LP-9\",IF('Limestone Plant (LP-9)'!$F$14>0,'Limestone Plant (LP-9)'!$F$14,AN36*R36),IF(C36=\"LP-10\",IF('Limestone Plant (LP-10)'!$F$14>0,'Limestone Plant (LP-10)'!$F$14,AN36*R36))))))))))))","v":""},"","",{"$f":"IF(F36=\"\",\"\",IF(B36=\"no\",'Emission Factors'!$N$43,'Emission Factors'!$N$44))","v":""},{"$f":"IF(F36=\"\",\"\",IF(C36=\"LP-1\",IF('Limestone Plant (LP-1)'!$F$15>0,'Limestone Plant (LP-1)'!$F$15,AR36*R36),IF(C36=\"LP-2\",IF('Limestone Plant (LP-2)'!$F$15>0,'Limestone Plant (LP-2)'!$F$15,AR36*R36),IF(C36=\"LP-3\",IF('Limestone Plant (LP-3)'!$F$15>0,'Limestone Plant (LP-3)'!$F$15,AR36*R36),IF(C36=\"LP-4\",IF('Limestone Plant (LP-4)'!$F$15>0,'Limestone Plant (LP-4)'!$F$15,AR36*R36),IF(C36=\"LP-5\",IF('Limestone Plant (LP-5)'!$F$15>0,'Limestone Plant (LP-5)'!$F$15,AR36*R36),IF(C36=\"LP-6\",IF('Limestone Plant (LP-6)'!$F$15>0,'Limestone Plant (LP-6)'!$F$15,AR36*R36),IF(C36=\"LP-7\",IF('Limestone Plant (LP-7)'!$F$15>0,'Limestone Plant (LP-7)'!$F$15,AR36*R36),IF(C36=\"LP-8\",IF('Limestone Plant (LP-8)'!$F$15>0,'Limestone Plant (LP-8)'!$F$15,AR36*R36),IF(C36=\"LP-9\",IF('Limestone Plant (LP-9)'!$F$15>0,'Limestone Plant (LP-9)'!$F$15,AR36*R36),IF(C36=\"LP-10\",IF('Limestone Plant (LP-10)'!$F$15>0,'Limestone Plant (LP-10)'!$F$15,AR36*R36))))))))))))","v":""},"","",{"$f":"IF(F36=\"\",\"\",IF(B36=\"no\",'Emission Factors'!$P$43,'Emission Factors'!$P$44))","v":""},"","","",{"$f":"IF(F36=\"\",\"\",IF(B36=\"no\",'Emission Factors'!$R$43,'Emission Factors'!$R$44))","v":""},"","",""]
[{"$f":"IF('Facility Information'!$C$21>6,\"LP-7\",\"\")","v":""},"no",null,null,null,null,null,null,null,null,1,null,null,null,null,null,null,"",null,"",null,0,"",{"$f":"IF(F37=\"\",\"\",IF(B37=\"no\",'Emission Factors'!$D$43,'Emission Factors'!$D$44))","v":""},"","","",{"$f":"IF(F37=\"\",\"\",IF(B37=\"no\",'Emission Factors'!$F$43,'Emission Factors'!$F$44))","v":""},"","","",{"$f":"IF(F37=\"\",\"\",IF(B37=\"no\",'Emission Factors'!$H$43,'Emission Factors'!$H$44))","v":""},{"$f":"IF(F37=\"\",\"\",IF(C37=\"LP-1\",IF('Limestone Plant (LP-1)'!$F$12>0,'Limestone Plant (LP-1)'!$F$12,AF37*R37*K37),IF(C37=\"LP-2\",IF('Limestone Plant (LP-2)'!$F$12>0,'Limestone Plant (LP-2)'!$F$12,AF37*R37*K37),IF(C37=\"LP-3\",IF('Limestone Plant (LP-3)'!$F$12>0,'Limestone Plant (LP-3)'!$F$12,AF37*R37*K37),IF(C37=\"LP-4\",IF('Limestone Plant (LP-4)'!$F$12>0,'Limestone Plant (LP-4)'!$F$12,AF37*R37*K37),IF(C37=\"LP-5\",IF('Limestone Plant (LP-5)'!$F$12>0,'Limestone Plant (LP-5)'!$F$12,AF37*R37*K37),IF(C37=\"LP-6\",IF('Limestone Plant (LP-6)'!$F$12>0,'Limestone Plant (LP-6)'!$F$12,AF37*R37*K37),IF(C37=\"LP-7\",IF('Limestone Plant (LP-7)'!$F$12>0,'Limestone Plant (LP-7)'!$F$12,AF37*R37*K37),IF(C37=\"LP-8\",IF('Limestone Plant (LP-8)'!$F$12>0,'Limestone Plant (LP-8)'!$F$12,AF37*R37*K37),IF(C37=\"LP-9\",IF('Limestone Plant (LP-9)'!$F$12>0,'Limestone Plant (LP-9)'!$F$12,AF37*R37*K37),IF(C37=\"LP-10\",IF('Limestone Plant (LP-10)'!$F$12>0,'Limestone Plant (LP-10)'!$F$12,AF37*R37*K37))))))))))))","v":""},"","",{"$f":"IF(F37=\"\",\"\",IF(B37=\"no\",'Emission Factors'!$J$43,'Emission Factors'!$J$44))","v":""},{"$f":"IF(F37=\"\",\"\",IF(C37=\"LP-1\",IF('Limestone Plant (LP-1)'!$F$13>0,'Limestone Plant (LP-1)'!$F$13,AJ37*R37),IF(C37=\"LP-2\",IF('Limestone Plant (LP-2)'!$F$13>0,'Limestone Plant (LP-2)'!$F$13,AJ37*R37),IF(C37=\"LP-3\",IF('Limestone Plant (LP-3)'!$F$13>0,'Limestone Plant (LP-3)'!$F$13,AJ37*R37),IF(C37=\"LP-4\",IF('Limestone Plant (LP-4)'!$F$13>0,'Limestone Plant (LP-4)'!$F$13,AJ37*R37),IF(C37=\"LP-5\",IF('Limestone Plant (LP-5)'!$F$13>0,'Limestone Plant (LP-5)'!$F$13,AJ37*R37),IF(C37=\"LP-6\",IF('Limestone Plant (LP-6)'!$F$13>0,'Limestone Plant (LP-6)'!$F$13,AJ37*R37),IF(C37=\"LP-7\",IF('Limestone Plant (LP-7)'!$F$13>0,'Limestone Plant (LP-7)'!$F$13,AJ37*R37),IF(C37=\"LP-8\",IF('Limestone Plant (LP-8)'!$F$13>0,'Limestone Plant (LP-8)'!$F$13,AJ37*R37),IF(C37=\"LP-9\",IF('Limestone Plant (LP-9)'!$F$13>0,'Limestone Plant (LP-9)'!$F$13,AJ37*R37),IF(C37=\"LP-10\",IF('Limestone Plant (LP-10)'!$F$13>0,'Limestone Plant (LP-10)'!$F$13,AJ37*R37))))))))))))","v":""},"","",{"$f":"IF(F37=\"\",\"\",IF(B37=\"no\",'Emission Factors'!$L$43,'Emission Factors'!$L$44))","v":""},{"$f":"IF(F37=\"\",\"\",IF(C37=\"LP-1\",IF('Limestone Plant (LP-1)'!$F$14>0,'Limestone Plant (LP-1)'!$F$14,AN37*R37),IF(C37=\"LP-2\",IF('Limestone Plant (LP-2)'!$F$14>0,'Limestone Plant (LP-2)'!$F$14,AN37*R37),IF(C37=\"LP-3\",IF('Limestone Plant (LP-3)'!$F$14>0,'Limestone Plant (LP-3)'!$F$14,AN37*R37),IF(C37=\"LP-4\",IF('Limestone Plant (LP-4)'!$F$14>0,'Limestone Plant (LP-4)'!$F$14,AN37*R37),IF(C37=\"LP-5\",IF('Limestone Plant (LP-5)'!$F$14>0,'Limestone Plant (LP-5)'!$F$14,AN37*R37),IF(C37=\"LP-6\",IF('Limestone Plant (LP-6)'!$F$14>0,'Limestone Plant (LP-6)'!$F$14,AN37*R37),IF(C37=\"LP-7\",IF('Limestone Plant (LP-7)'!$F$14>0,'Limestone Plant (LP-7)'!$F$14,AN37*R37),IF(C37=\"LP-8\",IF('Limestone Plant (LP-8)'!$F$14>0,'Limestone Plant (LP-8)'!$F$14,AN37*R37),IF(C37=\"LP-9\",IF('Limestone Plant (LP-9)'!$F$14>0,'Limestone Plant (LP-9)'!$F$14,AN37*R37),IF(C37=\"LP-10\",IF('Limestone Plant (LP-10)'!$F$14>0,'Limestone Plant (LP-10)'!$F$14,AN37*R37))))))))))))","v":""},"","",{"$f":"IF(F37=\"\",\"\",IF(B37=\"no\",'Emission Factors'!$N$43,'Emission Factors'!$N$44))","v":""},{"$f":"IF(F37=\"\",\"\",IF(C37=\"LP-1\",IF('Limestone Plant (LP-1)'!$F$15>0,'Limestone Plant (LP-1)'!$F$15,AR37*R37),IF(C37=\"LP-2\",IF('Limestone Plant (LP-2)'!$F$15>0,'Limestone Plant (LP-2)'!$F$15,AR37*R37),IF(C37=\"LP-3\",IF('Limestone Plant (LP-3)'!$F$15>0,'Limestone Plant (LP-3)'!$F$15,AR37*R37),IF(C37=\"LP-4\",IF('Limestone Plant (LP-4)'!$F$15>0,'Limestone Plant (LP-4)'!$F$15,AR37*R37),IF(C37=\"LP-5\",IF('Limestone Plant (LP-5)'!$F$15>0,'Limestone Plant (LP-5)'!$F$15,AR37*R37),IF(C37=\"LP-6\",IF('Limestone Plant (LP-6)'!$F$15>0,'Limestone Plant (LP-6)'!$F$15,AR37*R37),IF(C37=\"LP-7\",IF('Limestone Plant (LP-7)'!$F$15>0,'Limestone Plant (LP-7)'!$F$15,AR37*R37),IF(C37=\"LP-8\",IF('Limestone Plant (LP-8)'!$F$15>0,'Limestone Plant (LP-8)'!$F$15,AR37*R37),IF(C37=\"LP-9\",IF('Limestone Plant (LP-9)'!$F$15>0,'Limestone Plant (LP-9)'!$F$15,AR37*R37),IF(C37=\"LP-10\",IF('Limestone Plant (LP-10)'!$F$15>0,'Limestone Plant (LP-10)'!$F$15,AR37*R37))))))))))))","v":""},"","",{"$f":"IF(F37=\"\",\"\",IF(B37=\"no\",'Emission Factors'!$P$43,'Emission Factors'!$P$44))","v":""},"","","",{"$f":"IF(F37=\"\",\"\",IF(B37=\"no\",'Emission Factors'!$R$43,'Emission Factors'!$R$44))","v":""},"","",""]
[{"$f":"IF('Facility Information'!$C$21>7,\"LP-8\",\"\")","v":""},"no",null,null,null,null,null,null,null,null,1,null,null,null,null,null,null,"",null,"",null,0,"",{"$f":"IF(F38=\"\",\"\",IF(B38=\"no\",'Emission Factors'!$D$43,'Emission Factors'!$D$44))","v":""},"","","",{"$f":"IF(F38=\"\",\"\",IF(B38=\"no\",'Emission Factors'!$F$43,'Emission Factors'!$F$44))","v":""},"","","",{"$f":"IF(F38=\"\",\"\",IF(B38=\"no\",'Emission Factors'!$H$43,'Emission Factors'!$H$44))","v":""},{"$f":"IF(F38=\"\",\"\",IF(C38=\"LP-1\",IF('Limestone Plant (LP-1)'!$F$12>0,'Limestone Plant (LP-1)'!$F$12,AF38*R38*K38),IF(C38=\"LP-2\",IF('Limestone Plant (LP-2)'!$F$12>0,'Limestone Plant (LP-2)'!$F$12,AF38*R38*K38),IF(C38=\"LP-3\",IF('Limestone Plant (LP-3)'!$F$12>0,'Limestone Plant (LP-3)'!$F$12,AF38*R38*K38),IF(C38=\"LP-4\",IF('Limestone Plant (LP-4)'!$F$12>0,'Limestone Plant (LP-4)'!$F$12,AF38*R38*K38),IF(C38=\"LP-5\",IF('Limestone Plant (LP-5)'!$F$12>0,'Limestone Plant (LP-5)'!$F$12,AF38*R38*K38),IF(C38=\"LP-6\",IF('Limestone Plant (LP-6)'!$F$12>0,'Limestone Plant (LP-6)'!$F$12,AF38*R38*K38),IF(C38=\"LP-7\",IF('Limestone Plant (LP-7)'!$F$12>0,'Limestone Plant (LP-7)'!$F$12,AF38*R38*K38),IF(C38=\"LP-8\",IF('Limestone Plant (LP-8)'!$F$12>0,'Limestone Plant (LP-8)'!$F$12,AF38*R38*K38),IF(C38=\"LP-9\",IF('Limestone Plant (LP-9)'!$F$12>0,'Limestone Plant (LP-9)'!$F$12,AF38*R38*K38),IF(C38=\"LP-10\",IF('Limestone Plant (LP-10)'!$F$12>0,'Limestone Plant (LP-10)'!$F$12,AF38*R38*K38))))))))))))","v":""},"","",{"$f":"IF(F38=\"\",\"\",IF(B38=\"no\",'Emission Factors'!$J$43,'Emission Factors'!$J$44))","v":""},{"$f":"IF(F38=\"\",\"\",IF(C38=\"LP-1\",IF('Limestone Plant (LP-1)'!$F$13>0,'Limestone Plant (LP-1)'!$F$13,AJ38*R38),IF(C38=\"LP-2\",IF('Limestone Plant (LP-2)'!$F$13>0,'Limestone Plant (LP-2)'!$F$13,AJ38*R38),IF(C38=\"LP-3\",IF('Limestone Plant (LP-3)'!$F$13>0,'Limestone Plant (LP-3)'!$F$13,AJ38*R38),IF(C38=\"LP-4\",IF('Limestone Plant (LP-4)'!$F$13>0,'Limestone Plant (LP-4)'!$F$13,AJ38*R38),IF(C38=\"LP-5\",IF('Limestone Plant (LP-5)'!$F$13>0,'Limestone Plant (LP-5)'!$F$13,AJ38*R38),IF(C38=\"LP-6\",IF('Limestone Plant (LP-6)'!$F$13>0,'Limestone Plant (LP-6)'!$F$13,AJ38*R38),IF(C38=\"LP-7\",IF('Limestone Plant (LP-7)'!$F$13>0,'Limestone Plant (LP-7)'!$F$13,AJ38*R38),IF(C38=\"LP-8\",IF('Limestone Plant (LP-8)'!$F$13>0,'Limestone Plant (LP-8)'!$F$13,AJ38*R38),IF(C38=\"LP-9\",IF('Limestone Plant (LP-9)'!$F$13>0,'Limestone Plant (LP-9)'!$F$13,AJ38*R38),IF(C38=\"LP-10\",IF('Limestone Plant (LP-10)'!$F$13>0,'Limestone Plant (LP-10)'!$F$13,AJ38*R38))))))))))))","v":""},"","",{"$f":"IF(F38=\"\",\"\",IF(B38=\"no\",'Emission Factors'!$L$43,'Emission Factors'!$L$44))","v":""},{"$f":"IF(F38=\"\",\"\",IF(C38=\"LP-1\",IF('Limestone Plant (LP-1)'!$F$14>0,'Limestone Plant (LP-1)'!$F$14,AN38*R38),IF(C38=\"LP-2\",IF('Limestone Plant (LP-2)'!$F$14>0,'Limestone Plant (LP-2)'!$F$14,AN38*R38),IF(C38=\"LP-3\",IF('Limestone Plant (LP-3)'!$F$14>0,'Limestone Plant (LP-3)'!$F$14,AN38*R38),IF(C38=\"LP-4\",IF('Limestone Plant (LP-4)'!$F$14>0,'Limestone Plant (LP-4)'!$F$14,AN38*R38),IF(C38=\"LP-5\",IF('Limestone Plant (LP-5)'!$F$14>0,'Limestone Plant (LP-5)'!$F$14,AN38*R38),IF(C38=\"LP-6\",IF('Limestone Plant (LP-6)'!$F$14>0,'Limestone Plant (LP-6)'!$F$14,AN38*R38),IF(C38=\"LP-7\",IF('Limestone Plant (LP-7)'!$F$14>0,'Limestone Plant (LP-7)'!$F$14,AN38*R38),IF(C38=\"LP-8\",IF('Limestone Plant (LP-8)'!$F$14>0,'Limestone Plant (LP-8)'!$F$14,AN38*R38),IF(C38=\"LP-9\",IF('Limestone Plant (LP-9)'!$F$14>0,'Limestone Plant (LP-9)'!$F$14,AN38*R38),IF(C38=\"LP-10\",IF('Limestone Plant (LP-10)'!$F$14>0,'Limestone Plant (LP-10)'!$F$14,AN38*R38))))))))))))","v":""},"","",{"$f":"IF(F38=\"\",\"\",IF(B38=\"no\",'Emission Factors'!$N$43,'Emission Factors'!$N$44))","v":""},{"$f":"IF(F38=\"\",\"\",IF(C38=\"LP-1\",IF('Limestone Plant (LP-1)'!$F$15>0,'Limestone Plant (LP-1)'!$F$15,AR38*R38),IF(C38=\"LP-2\",IF('Limestone Plant (LP-2)'!$F$15>0,'Limestone Plant (LP-2)'!$F$15,AR38*R38),IF(C38=\"LP-3\",IF('Limestone Plant (LP-3)'!$F$15>0,'Limestone Plant (LP-3)'!$F$15,AR38*R38),IF(C38=\"LP-4\",IF('Limestone Plant (LP-4)'!$F$15>0,'Limestone Plant (LP-4)'!$F$15,AR38*R38),IF(C38=\"LP-5\",IF('Limestone Plant (LP-5)'!$F$15>0,'Limestone Plant (LP-5)'!$F$15,AR38*R38),IF(C38=\"LP-6\",IF('Limestone Plant (LP-6)'!$F$15>0,'Limestone Plant (LP-6)'!$F$15,AR38*R38),IF(C38=\"LP-7\",IF('Limestone Plant (LP-7)'!$F$15>0,'Limestone Plant (LP-7)'!$F$15,AR38*R38),IF(C38=\"LP-8\",IF('Limestone Plant (LP-8)'!$F$15>0,'Limestone Plant (LP-8)'!$F$15,AR38*R38),IF(C38=\"LP-9\",IF('Limestone Plant (LP-9)'!$F$15>0,'Limestone Plant (LP-9)'!$F$15,AR38*R38),IF(C38=\"LP-10\",IF('Limestone Plant (LP-10)'!$F$15>0,'Limestone Plant (LP-10)'!$F$15,AR38*R38))))))))))))","v":""},"","",{"$f":"IF(F38=\"\",\"\",IF(B38=\"no\",'Emission Factors'!$P$43,'Emission Factors'!$P$44))","v":""},"","","",{"$f":"IF(F38=\"\",\"\",IF(B38=\"no\",'Emission Factors'!$R$43,'Emission Factors'!$R$44))","v":""},"","",""]
[{"$f":"IF('Facility Information'!$C$21>8,\"LP-9\",\"\")","v":""},"no",null,null,null,null,null,null,null,null,1,null,null,null,null,null,null,"",null,"",null,0,"",{"$f":"IF(F39=\"\",\"\",IF(B39=\"no\",'Emission Factors'!$D$43,'Emission Factors'!$D$44))","v":""},"","","",{"$f":"IF(F39=\"\",\"\",IF(B39=\"no\",'Emission Factors'!$F$43,'Emission Factors'!$F$44))","v":""},"","","",{"$f":"IF(F39=\"\",\"\",IF(B39=\"no\",'Emission Factors'!$H$43,'Emission Factors'!$H$44))","v":""},{"$f":"IF(F39=\"\",\"\",IF(C39=\"LP-1\",IF('Limestone Plant (LP-1)'!$F$12>0,'Limestone Plant (LP-1)'!$F$12,AF39*R39*K39),IF(C39=\"LP-2\",IF('Limestone Plant (LP-2)'!$F$12>0,'Limestone Plant (LP-2)'!$F$12,AF39*R39*K39),IF(C39=\"LP-3\",IF('Limestone Plant (LP-3)'!$F$12>0,'Limestone Plant (LP-3)'!$F$12,AF39*R39*K39),IF(C39=\"LP-4\",IF('Limestone Plant (LP-4)'!$F$12>0,'Limestone Plant (LP-4)'!$F$12,AF39*R39*K39),IF(C39=\"LP-5\",IF('Limestone Plant (LP-5)'!$F$12>0,'Limestone Plant (LP-5)'!$F$12,AF39*R39*K39),IF(C39=\"LP-6\",IF('Limestone Plant (LP-6)'!$F$12>0,'Limestone Plant (LP-6)'!$F$12,AF39*R39*K39),IF(C39=\"LP-7\",IF('Limestone Plant (LP-7)'!$F$12>0,'Limestone Plant (LP-7)'!$F$12,AF39*R39*K39),IF(C39=\"LP-8\",IF('Limestone Plant (LP-8)'!$F$12>0,'Limestone Plant (LP-8)'!$F$12,AF39*R39*K39),IF(C39=\"LP-9\",IF('Limestone Plant (LP-9)'!$F$12>0,'Limestone Plant (LP-9)'!$F$12,AF39*R39*K39),IF(C39=\"LP-10\",IF('Limestone Plant (LP-10)'!$F$12>0,'Limestone Plant (LP-10)'!$F$12,AF39*R39*K39))))))))))))","v":""},"","",{"$f":"IF(F39=\"\",\"\",IF(B39=\"no\",'Emission Factors'!$J$43,'Emission Factors'!$J$44))","v":""},{"$f":"IF(F39=\"\",\"\",IF(C39=\"LP-1\",IF('Limestone Plant (LP-1)'!$F$13>0,'Limestone Plant (LP-1)'!$F$13,AJ39*R39),IF(C39=\"LP-2\",IF('Limestone Plant (LP-2)'!$F$13>0,'Limestone Plant (LP-2)'!$F$13,AJ39*R39),IF(C39=\"LP-3\",IF('Limestone Plant (LP-3)'!$F$13>0,'Limestone Plant (LP-3)'!$F$13,AJ39*R39),IF(C39=\"LP-4\",IF('Limestone Plant (LP-4)'!$F$13>0,'Limestone Plant (LP-4)'!$F$13,AJ39*R39),IF(C39=\"LP-5\",IF('Limestone Plant (LP-5)'!$F$13>0,'Limestone Plant (LP-5)'!$F$13,AJ39*R39),IF(C39=\"LP-6\",IF('Limestone Plant (LP-6)'!$F$13>0,'Limestone Plant (LP-6)'!$F$13,AJ39*R39),IF(C39=\"LP-7\",IF('Limestone Plant (LP-7)'!$F$13>0,'Limestone Plant (LP-7)'!$F$13,AJ39*R39),IF(C39=\"LP-8\",IF('Limestone Plant (LP-8)'!$F$13>0,'Limestone Plant (LP-8)'!$F$13,AJ39*R39),IF(C39=\"LP-9\",IF('Limestone Plant (LP-9)'!$F$13>0,'Limestone Plant (LP-9)'!$F$13,AJ39*R39),IF(C39=\"LP-10\",IF('Limestone Plant (LP-10)'!$F$13>0,'Limestone Plant (LP-10)'!$F$13,AJ39*R39))))))))))))","v":""},"","",{"$f":"IF(F39=\"\",\"\",IF(B39=\"no\",'Emission Factors'!$L$43,'Emission Factors'!$L$44))","v":""},{"$f":"IF(F39=\"\",\"\",IF(C39=\"LP-1\",IF('Limestone Plant (LP-1)'!$F$14>0,'Limestone Plant (LP-1)'!$F$14,AN39*R39),IF(C39=\"LP-2\",IF('Limestone Plant (LP-2)'!$F$14>0,'Limestone Plant (LP-2)'!$F$14,AN39*R39),IF(C39=\"LP-3\",IF('Limestone Plant (LP-3)'!$F$14>0,'Limestone Plant (LP-3)'!$F$14,AN39*R39),IF(C39=\"LP-4\",IF('Limestone Plant (LP-4)'!$F$14>0,'Limestone Plant (LP-4)'!$F$14,AN39*R39),IF(C39=\"LP-5\",IF('Limestone Plant (LP-5)'!$F$14>0,'Limestone Plant (LP-5)'!$F$14,AN39*R39),IF(C39=\"LP-6\",IF('Limestone Plant (LP-6)'!$F$14>0,'Limestone Plant (LP-6)'!$F$14,AN39*R39),IF(C39=\"LP-7\",IF('Limestone Plant (LP-7)'!$F$14>0,'Limestone Plant (LP-7)'!$F$14,AN39*R39),IF(C39=\"LP-8\",IF('Limestone Plant (LP-8)'!$F$14>0,'Limestone Plant (LP-8)'!$F$14,AN39*R39),IF(C39=\"LP-9\",IF('Limestone Plant (LP-9)'!$F$14>0,'Limestone Plant (LP-9)'!$F$14,AN39*R39),IF(C39=\"LP-10\",IF('Limestone Plant (LP-10)'!$F$14>0,'Limestone Plant (LP-10)'!$F$14,AN39*R39))))))))))))","v":""},"","",{"$f":"IF(F39=\"\",\"\",IF(B39=\"no\",'Emission Factors'!$N$43,'Emission Factors'!$N$44))","v":""},{"$f":"IF(F39=\"\",\"\",IF(C39=\"LP-1\",IF('Limestone Plant (LP-1)'!$F$15>0,'Limestone Plant (LP-1)'!$F$15,AR39*R39),IF(C39=\"LP-2\",IF('Limestone Plant (LP-2)'!$F$15>0,'Limestone Plant (LP-2)'!$F$15,AR39*R39),IF(C39=\"LP-3\",IF('Limestone Plant (LP-3)'!$F$15>0,'Limestone Plant (LP-3)'!$F$15,AR39*R39),IF(C39=\"LP-4\",IF('Limestone Plant (LP-4)'!$F$15>0,'Limestone Plant (LP-4)'!$F$15,AR39*R39),IF(C39=\"LP-5\",IF('Limestone Plant (LP-5)'!$F$15>0,'Limestone Plant (LP-5)'!$F$15,AR39*R39),IF(C39=\"LP-6\",IF('Limestone Plant (LP-6)'!$F$15>0,'Limestone Plant (LP-6)'!$F$15,AR39*R39),IF(C39=\"LP-7\",IF('Limestone Plant (LP-7)'!$F$15>0,'Limestone Plant (LP-7)'!$F$15,AR39*R39),IF(C39=\"LP-8\",IF('Limestone Plant (LP-8)'!$F$15>0,'Limestone Plant (LP-8)'!$F$15,AR39*R39),IF(C39=\"LP-9\",IF('Limestone Plant (LP-9)'!$F$15>0,'Limestone Plant (LP-9)'!$F$15,AR39*R39),IF(C39=\"LP-10\",IF('Limestone Plant (LP-10)'!$F$15>0,'Limestone Plant (LP-10)'!$F$15,AR39*R39))))))))))))","v":""},"","",{"$f":"IF(F39=\"\",\"\",IF(B39=\"no\",'Emission Factors'!$P$43,'Emission Factors'!$P$44))","v":""},"","","",{"$f":"IF(F39=\"\",\"\",IF(B39=\"no\",'Emission Factors'!$R$43,'Emission Factors'!$R$44))","v":""},"","",""]
[{"$f":"IF('Facility Information'!$C$21>9,\"LP-10\",\"\")","v":""},"no",null,null,null,null,null,null,null,null,1,null,null,null,null,null,null,"",null,"",null,0,"",{"$f":"IF(F40=\"\",\"\",IF(B40=\"no\",'Emission Factors'!$D$43,'Emission Factors'!$D$44))","v":""},"","","",{"$f":"IF(F40=\"\",\"\",IF(B40=\"no\",'Emission Factors'!$F$43,'Emission Factors'!$F$44))","v":""},"","","",{"$f":"IF(F40=\"\",\"\",IF(B40=\"no\",'Emission Factors'!$H$43,'Emission Factors'!$H$44))","v":""},{"$f":"IF(F40=\"\",\"\",IF(C40=\"LP-1\",IF('Limestone Plant (LP-1)'!$F$12>0,'Limestone Plant (LP-1)'!$F$12,AF40*R40*K40),IF(C40=\"LP-2\",IF('Limestone Plant (LP-2)'!$F$12>0,'Limestone Plant (LP-2)'!$F$12,AF40*R40*K40),IF(C40=\"LP-3\",IF('Limestone Plant (LP-3)'!$F$12>0,'Limestone Plant (LP-3)'!$F$12,AF40*R40*K40),IF(C40=\"LP-4\",IF('Limestone Plant (LP-4)'!$F$12>0,'Limestone Plant (LP-4)'!$F$12,AF40*R40*K40),IF(C40=\"LP-5\",IF('Limestone Plant (LP-5)'!$F$12>0,'Limestone Plant (LP-5)'!$F$12,AF40*R40*K40),IF(C40=\"LP-6\",IF('Limestone Plant (LP-6)'!$F$12>0,'Limestone Plant (LP-6)'!$F$12,AF40*R40*K40),IF(C40=\"LP-7\",IF('Limestone Plant (LP-7)'!$F$12>0,'Limestone Plant (LP-7)'!$F$12,AF40*R40*K40),IF(C40=\"LP-8\",IF('Limestone Plant (LP-8)'!$F$12>0,'Limestone Plant (LP-8)'!$F$12,AF40*R40*K40),IF(C40=\"LP-9\",IF('Limestone Plant (LP-9)'!$F$12>0,'Limestone Plant (LP-9)'!$F$12,AF40*R40*K40),IF(C40=\"LP-10\",IF('Limestone Plant (LP-10)'!$F$12>0,'Limestone Plant (LP-10)'!$F$12,AF40*R40*K40))))))))))))","v":""},"","",{"$f":"IF(F40=\"\",\"\",IF(B40=\"no\",'Emission Factors'!$J$43,'Emission Factors'!$J$44))","v":""},{"$f":"IF(F40=\"\",\"\",IF(C40=\"LP-1\",IF('Limestone Plant (LP-1)'!$F$13>0,'Limestone Plant (LP-1)'!$F$13,AJ40*R40),IF(C40=\"LP-2\",IF('Limestone Plant (LP-2)'!$F$13>0,'Limestone Plant (LP-2)'!$F$13,AJ40*R40),IF(C40=\"LP-3\",IF('Limestone Plant (LP-3)'!$F$13>0,'Limestone Plant (LP-3)'!$F$13,AJ40*R40),IF(C40=\"LP-4\",IF('Limestone Plant (LP-4)'!$F$13>0,'Limestone Plant (LP-4)'!$F$13,AJ40*R40),IF(C40=\"LP-5\",IF('Limestone Plant (LP-5)'!$F$13>0,'Limestone Plant (LP-5)'!$F$13,AJ40*R40),IF(C40=\"LP-6\",IF('Limestone Plant (LP-6)'!$F$13>0,'Limestone Plant (LP-6)'!$F$13,AJ40*R40),IF(C40=\"LP-7\",IF('Limestone Plant (LP-7)'!$F$13>0,'Limestone Plant (LP-7)'!$F$13,AJ40*R40),IF(C40=\"LP-8\",IF('Limestone Plant (LP-8)'!$F$13>0,'Limestone Plant (LP-8)'!$F$13,AJ40*R40),IF(C40=\"LP-9\",IF('Limestone Plant (LP-9)'!$F$13>0,'Limestone Plant (LP-9)'!$F$13,AJ40*R40),IF(C40=\"LP-10\",IF('Limestone Plant (LP-10)'!$F$13>0,'Limestone Plant (LP-10)'!$F$13,AJ40*R40))))))))))))","v":""},"","",{"$f":"IF(F40=\"\",\"\",IF(B40=\"no\",'Emission Factors'!$L$43,'Emission Factors'!$L$44))","v":""},{"$f":"IF(F40=\"\",\"\",IF(C40=\"LP-1\",IF('Limestone Plant (LP-1)'!$F$14>0,'Limestone Plant (LP-1)'!$F$14,AN40*R40),IF(C40=\"LP-2\",IF('Limestone Plant (LP-2)'!$F$14>0,'Limestone Plant (LP-2)'!$F$14,AN40*R40),IF(C40=\"LP-3\",IF('Limestone Plant (LP-3)'!$F$14>0,'Limestone Plant (LP-3)'!$F$14,AN40*R40),IF(C40=\"LP-4\",IF('Limestone Plant (LP-4)'!$F$14>0,'Limestone Plant (LP-4)'!$F$14,AN40*R40),IF(C40=\"LP-5\",IF('Limestone Plant (LP-5)'!$F$14>0,'Limestone Plant (LP-5)'!$F$14,AN40*R40),IF(C40=\"LP-6\",IF('Limestone Plant (LP-6)'!$F$14>0,'Limestone Plant (LP-6)'!$F$14,AN40*R40),IF(C40=\"LP-7\",IF('Limestone Plant (LP-7)'!$F$14>0,'Limestone Plant (LP-7)'!$F$14,AN40*R40),IF(C40=\"LP-8\",IF('Limestone Plant (LP-8)'!$F$14>0,'Limestone Plant (LP-8)'!$F$14,AN40*R40),IF(C40=\"LP-9\",IF('Limestone Plant (LP-9)'!$F$14>0,'Limestone Plant (LP-9)'!$F$14,AN40*R40),IF(C40=\"LP-10\",IF('Limestone Plant (LP-10)'!$F$14>0,'Limestone Plant (LP-10)'!$F$14,AN40*R40))))))))))))","v":""},"","",{"$f":"IF(F40=\"\",\"\",IF(B40=\"no\",'Emission Factors'!$N$43,'Emission Factors'!$N$44))","v":""},{"$f":"IF(F40=\"\",\"\",IF(C40=\"LP-1\",IF('Limestone Plant (LP-1)'!$F$15>0,'Limestone Plant (LP-1)'!$F$15,AR40*R40),IF(C40=\"LP-2\",IF('Limestone Plant (LP-2)'!$F$15>0,'Limestone Plant (LP-2)'!$F$15,AR40*R40),IF(C40=\"LP-3\",IF('Limestone Plant (LP-3)'!$F$15>0,'Limestone Plant (LP-3)'!$F$15,AR40*R40),IF(C40=\"LP-4\",IF('Limestone Plant (LP-4)'!$F$15>0,'Limestone Plant (LP-4)'!$F$15,AR40*R40),IF(C40=\"LP-5\",IF('Limestone Plant (LP-5)'!$F$15>0,'Limestone Plant (LP-5)'!$F$15,AR40*R40),IF(C40=\"LP-6\",IF('Limestone Plant (LP-6)'!$F$15>0,'Limestone Plant (LP-6)'!$F$15,AR40*R40),IF(C40=\"LP-7\",IF('Limestone Plant (LP-7)'!$F$15>0,'Limestone Plant (LP-7)'!$F$15,AR40*R40),IF(C40=\"LP-8\",IF('Limestone Plant (LP-8)'!$F$15>0,'Limestone Plant (LP-8)'!$F$15,AR40*R40),IF(C40=\"LP-9\",IF('Limestone Plant (LP-9)'!$F$15>0,'Limestone Plant (LP-9)'!$F$15,AR40*R40),IF(C40=\"LP-10\",IF('Limestone Plant (LP-10)'!$F$15>0,'Limestone Plant (LP-10)'!$F$15,AR40*R40))))))))))))","v":""},"","",{"$f":"IF(F40=\"\",\"\",IF(B40=\"no\",'Emission Factors'!$P$43,'Emission Factors'!$P$44))","v":""},"","","",{"$f":"IF(F40=\"\",\"\",IF(B40=\"no\",'Emission Factors'!$R$43,'Emission Factors'!$R$44))","v":""},"","",""]
[null,"no",null,null,null,null,null,null,null,null,1,null,null,null,null,null,null,"",null,"",null,0,"",{"$f":"IF(F41=\"\",\"\",IF(B41=\"no\",'Emission Factors'!$D$43,'Emission Factors'!$D$44))","v":""},"","","",{"$f":"IF(F41=\"\",\"\",IF(B41=\"no\",'Emission Factors'!$F$43,'Emission Factors'!$F$44))","v":""},"","","",{"$f":"IF(F41=\"\",\"\",IF(B41=\"no\",'Emission Factors'!$H$43,'Emission Factors'!$H$44))","v":""},{"$f":"IF(F41=\"\",\"\",IF(C41=\"LP-1\",IF('Limestone Plant (LP-1)'!$F$12>0,'Limestone Plant (LP-1)'!$F$12,AF41*R41*K41),IF(C41=\"LP-2\",IF('Limestone Plant (LP-2)'!$F$12>0,'Limestone Plant (LP-2)'!$F$12,AF41*R41*K41),IF(C41=\"LP-3\",IF('Limestone Plant (LP-3)'!$F$12>0,'Limestone Plant (LP-3)'!$F$12,AF41*R41*K41),IF(C41=\"LP-4\",IF('Limestone Plant (LP-4)'!$F$12>0,'Limestone Plant (LP-4)'!$F$12,AF41*R41*K41),IF(C41=\"LP-5\",IF('Limestone Plant (LP-5)'!$F$12>0,'Limestone Plant (LP-5)'!$F$12,AF41*R41*K41),IF(C41=\"LP-6\",IF('Limestone Plant (LP-6)'!$F$12>0,'Limestone Plant (LP-6)'!$F$12,AF41*R41*K41),IF(C41=\"LP-7\",IF('Limestone Plant (LP-7)'!$F$12>0,'Limestone Plant (LP-7)'!$F$12,AF41*R41*K41),IF(C41=\"LP-8\",IF('Limestone Plant (LP-8)'!$F$12>0,'Limestone Plant (LP-8)'!$F$12,AF41*R41*K41),IF(C41=\"LP-9\",IF('Limestone Plant (LP-9)'!$F$12>0,'Limestone Plant (LP-9)'!$F$12,AF41*R41*K41),IF(C41=\"LP-10\",IF('Limestone Plant (LP-10)'!$F$12>0,'Limestone Plant (LP-10)'!$F$12,AF41*R41*K41))))))))))))","v":""},"","",{"$f":"IF(F41=\"\",\"\",IF(B41=\"no\",'Emission Factors'!$J$43,'Emission Factors'!$J$44))","v":""},{"$f":"IF(F41=\"\",\"\",IF(C41=\"LP-1\",IF('Limestone Plant (LP-1)'!$F$13>0,'Limestone Plant (LP-1)'!$F$13,AJ41*R41),IF(C41=\"LP-2\",IF('Limestone Plant (LP-2)'!$F$13>0,'Limestone Plant (LP-2)'!$F$13,AJ41*R41),IF(C41=\"LP-3\",IF('Limestone Plant (LP-3)'!$F$13>0,'Limestone Plant (LP-3)'!$F$13,AJ41*R41),IF(C41=\"LP-4\",IF('Limestone Plant (LP-4)'!$F$13>0,'Limestone Plant (LP-4)'!$F$13,AJ41*R41),IF(C41=\"LP-5\",IF('Limestone Plant (LP-5)'!$F$13>0,'Limestone Plant (LP-5)'!$F$13,AJ41*R41),IF(C41=\"LP-6\",IF('Limestone Plant (LP-6)'!$F$13>0,'Limestone Plant (LP-6)'!$F$13,AJ41*R41),IF(C41=\"LP-7\",IF('Limestone Plant (LP-7)'!$F$13>0,'Limestone Plant (LP-7)'!$F$13,AJ41*R41),IF(C41=\"LP-8\",IF('Limestone Plant (LP-8)'!$F$13>0,'Limestone Plant (LP-8)'!$F$13,AJ41*R41),IF(C41=\"LP-9\",IF('Limestone Plant (LP-9)'!$F$13>0,'Limestone Plant (LP-9)'!$F$13,AJ41*R41),IF(C41=\"LP-10\",IF('Limestone Plant (LP-10)'!$F$13>0,'Limestone Plant (LP-10)'!$F$13,AJ41*R41))))))))))))","v":""},"","",{"$f":"IF(F41=\"\",\"\",IF(B41=\"no\",'Emission Factors'!$L$43,'Emission Factors'!$L$44))","v":""},{"$f":"IF(F41=\"\",\"\",IF(C41=\"LP-1\",IF('Limestone Plant (LP-1)'!$F$14>0,'Limestone Plant (LP-1)'!$F$14,AN41*R41),IF(C41=\"LP-2\",IF('Limestone Plant (LP-2)'!$F$14>0,'Limestone Plant (LP-2)'!$F$14,AN41*R41),IF(C41=\"LP-3\",IF('Limestone Plant (LP-3)'!$F$14>0,'Limestone Plant (LP-3)'!$F$14,AN41*R41),IF(C41=\"LP-4\",IF('Limestone Plant (LP-4)'!$F$14>0,'Limestone Plant (LP-4)'!$F$14,AN41*R41),IF(C41=\"LP-5\",IF('Limestone Plant (LP-5)'!$F$14>0,'Limestone Plant (LP-5)'!$F$14,AN41*R41),IF(C41=\"LP-6\",IF('Limestone Plant (LP-6)'!$F$14>0,'Limestone Plant (LP-6)'!$F$14,AN41*R41),IF(C41=\"LP-7\",IF('Limestone Plant (LP-7)'!$F$14>0,'Limestone Plant (LP-7)'!$F$14,AN41*R41),IF(C41=\"LP-8\",IF('Limestone Plant (LP-8)'!$F$14>0,'Limestone Plant (LP-8)'!$F$14,AN41*R41),IF(C41=\"LP-9\",IF('Limestone Plant (LP-9)'!$F$14>0,'Limestone Plant (LP-9)'!$F$14,AN41*R41),IF(C41=\"LP-10\",IF('Limestone Plant (LP-10)'!$F$14>0,'Limestone Plant (LP-10)'!$F$14,AN41*R41))))))))))))","v":""},"","",{"$f":"IF(F41=\"\",\"\",IF(B41=\"no\",'Emission Factors'!$N$43,'Emission Factors'!$N$44))","v":""},{"$f":"IF(F41=\"\",\"\",IF(C41=\"LP-1\",IF('Limestone Plant (LP-1)'!$F$15>0,'Limestone Plant (LP-1)'!$F$15,AR41*R41),IF(C41=\"LP-2\",IF('Limestone Plant (LP-2)'!$F$15>0,'Limestone Plant (LP-2)'!$F$15,AR41*R41),IF(C41=\"LP-3\",IF('Limestone Plant (LP-3)'!$F$15>0,'Limestone Plant (LP-3)'!$F$15,AR41*R41),IF(C41=\"LP-4\",IF('Limestone Plant (LP-4)'!$F$15>0,'Limestone Plant (LP-4)'!$F$15,AR41*R41),IF(C41=\"LP-5\",IF('Limestone Plant (LP-5)'!$F$15>0,'Limestone Plant (LP-5)'!$F$15,AR41*R41),IF(C41=\"LP-6\",IF('Limestone Plant (LP-6)'!$F$15>0,'Limestone Plant (LP-6)'!$F$15,AR41*R41),IF(C41=\"LP-7\",IF('Limestone Plant (LP-7)'!$F$15>0,'Limestone Plant (LP-7)'!$F$15,AR41*R41),IF(C41=\"LP-8\",IF('Limestone Plant (LP-8)'!$F$15>0,'Limestone Plant (LP-8)'!$F$15,AR41*R41),IF(C41=\"LP-9\",IF('Limestone Plant (LP-9)'!$F$15>0,'Limestone Plant (LP-9)'!$F$15,AR41*R41),IF(C41=\"LP-10\",IF('Limestone Plant (LP-10)'!$F$15>0,'Limestone Plant (LP-10)'!$F$15,AR41*R41))))))))))))","v":""},"","",{"$f":"IF(F41=\"\",\"\",IF(B41=\"no\",'Emission Factors'!$P$43,'Emission Factors'!$P$44))","v":""},"","","",{"$f":"IF(F41=\"\",\"\",IF(B41=\"no\",'Emission Factors'!$R$43,'Emission Factors'!$R$44))","v":""},"","",""]
[null,"no",null,null,null,null,null,null,null,null,1,null,null,null,null,null,null,"",null,"",null,0,"",{"$f":"IF(F42=\"\",\"\",IF(B42=\"no\",'Emission Factors'!$D$43,'Emission Factors'!$D$44))","v":""},"","","",{"$f":"IF(F42=\"\",\"\",IF(B42=\"no\",'Emission Factors'!$F$43,'Emission Factors'!$F$44))","v":""},"","","",{"$f":"IF(F42=\"\",\"\",IF(B42=\"no\",'Emission Factors'!$H$43,'Emission Factors'!$H$44))","v":""},{"$f":"IF(F42=\"\",\"\",IF(C42=\"LP-1\",IF('Limestone Plant (LP-1)'!$F$12>0,'Limestone Plant (LP-1)'!$F$12,AF42*R42*K42),IF(C42=\"LP-2\",IF('Limestone Plant (LP-2)'!$F$12>0,'Limestone Plant (LP-2)'!$F$12,AF42*R42*K42),IF(C42=\"LP-3\",IF('Limestone Plant (LP-3)'!$F$12>0,'Limestone Plant (LP-3)'!$F$12,AF42*R42*K42),IF(C42=\"LP-4\",IF('Limestone Plant (LP-4)'!$F$12>0,'Limestone Plant (LP-4)'!$F$12,AF42*R42*K42),IF(C42=\"LP-5\",IF('Limestone Plant (LP-5)'!$F$12>0,'Limestone Plant (LP-5)'!$F$12,AF42*R42*K42),IF(C42=\"LP-6\",IF('Limestone Plant (LP-6)'!$F$12>0,'Limestone Plant (LP-6)'!$F$12,AF42*R42*K42),IF(C42=\"LP-7\",IF('Limestone Plant (LP-7)'!$F$12>0,'Limestone Plant (LP-7)'!$F$12,AF42*R42*K42),IF(C42=\"LP-8\",IF('Limestone Plant (LP-8)'!$F$12>0,'Limestone Plant (LP-8)'!$F$12,AF42*R42*K42),IF(C42=\"LP-9\",IF('Limestone Plant (LP-9)'!$F$12>0,'Limestone Plant (LP-9)'!$F$12,AF42*R42*K42),IF(C42=\"LP-10\",IF('Limestone Plant (LP-10)'!$F$12>0,'Limestone Plant (LP-10)'!$F$12,AF42*R42*K42))))))))))))","v":""},"","",{"$f":"IF(F42=\"\",\"\",IF(B42=\"no\",'Emission Factors'!$J$43,'Emission Factors'!$J$44))","v":""},{"$f":"IF(F42=\"\",\"\",IF(C42=\"LP-1\",IF('Limestone Plant (LP-1)'!$F$13>0,'Limestone Plant (LP-1)'!$F$13,AJ42*R42),IF(C42=\"LP-2\",IF('Limestone Plant (LP-2)'!$F$13>0,'Limestone Plant (LP-2)'!$F$13,AJ42*R42),IF(C42=\"LP-3\",IF('Limestone Plant (LP-3)'!$F$13>0,'Limestone Plant (LP-3)'!$F$13,AJ42*R42),IF(C42=\"LP-4\",IF('Limestone Plant (LP-4)'!$F$13>0,'Limestone Plant (LP-4)'!$F$13,AJ42*R42),IF(C42=\"LP-5\",IF('Limestone Plant (LP-5)'!$F$13>0,'Limestone Plant (LP-5)'!$F$13,AJ42*R42),IF(C42=\"LP-6\",IF('Limestone Plant (LP-6)'!$F$13>0,'Limestone Plant (LP-6)'!$F$13,AJ42*R42),IF(C42=\"LP-7\",IF('Limestone Plant (LP-7)'!$F$13>0,'Limestone Plant (LP-7)'!$F$13,AJ42*R42),IF(C42=\"LP-8\",IF('Limestone Plant (LP-8)'!$F$13>0,'Limestone Plant (LP-8)'!$F$13,AJ42*R42),IF(C42=\"LP-9\",IF('Limestone Plant (LP-9)'!$F$13>0,'Limestone Plant (LP-9)'!$F$13,AJ42*R42),IF(C42=\"LP-10\",IF('Limestone Plant (LP-10)'!$F$13>0,'Limestone Plant (LP-10)'!$F$13,AJ42*R42))))))))))))","v":""},"","",{"$f":"IF(F42=\"\",\"\",IF(B42=\"no\",'Emission Factors'!$L$43,'Emission Factors'!$L$44))","v":""},{"$f":"IF(F42=\"\",\"\",IF(C42=\"LP-1\",IF('Limestone Plant (LP-1)'!$F$14>0,'Limestone Plant (LP-1)'!$F$14,AN42*R42),IF(C42=\"LP-2\",IF('Limestone Plant (LP-2)'!$F$14>0,'Limestone Plant (LP-2)'!$F$14,AN42*R42),IF(C42=\"LP-3\",IF('Limestone Plant (LP-3)'!$F$14>0,'Limestone Plant (LP-3)'!$F$14,AN42*R42),IF(C42=\"LP-4\",IF('Limestone Plant (LP-4)'!$F$14>0,'Limestone Plant (LP-4)'!$F$14,AN42*R42),IF(C42=\"LP-5\",IF('Limestone Plant (LP-5)'!$F$14>0,'Limestone Plant (LP-5)'!$F$14,AN42*R42),IF(C42=\"LP-6\",IF('Limestone Plant (LP-6)'!$F$14>0,'Limestone Plant (LP-6)'!$F$14,AN42*R42),IF(C42=\"LP-7\",IF('Limestone Plant (LP-7)'!$F$14>0,'Limestone Plant (LP-7)'!$F$14,AN42*R42),IF(C42=\"LP-8\",IF('Limestone Plant (LP-8)'!$F$14>0,'Limestone Plant (LP-8)'!$F$14,AN42*R42),IF(C42=\"LP-9\",IF('Limestone Plant (LP-9)'!$F$14>0,'Limestone Plant (LP-9)'!$F$14,AN42*R42),IF(C42=\"LP-10\",IF('Limestone Plant (LP-10)'!$F$14>0,'Limestone Plant (LP-10)'!$F$14,AN42*R42))))))))))))","v":""},"","",{"$f":"IF(F42=\"\",\"\",IF(B42=\"no\",'Emission Factors'!$N$43,'Emission Factors'!$N$44))","v":""},{"$f":"IF(F42=\"\",\"\",IF(C42=\"LP-1\",IF('Limestone Plant (LP-1)'!$F$15>0,'Limestone Plant (LP-1)'!$F$15,AR42*R42),IF(C42=\"LP-2\",IF('Limestone Plant (LP-2)'!$F$15>0,'Limestone Plant (LP-2)'!$F$15,AR42*R42),IF(C42=\"LP-3\",IF('Limestone Plant (LP-3)'!$F$15>0,'Limestone Plant (LP-3)'!$F$15,AR42*R42),IF(C42=\"LP-4\",IF('Limestone Plant (LP-4)'!$F$15>0,'Limestone Plant (LP-4)'!$F$15,AR42*R42),IF(C42=\"LP-5\",IF('Limestone Plant (LP-5)'!$F$15>0,'Limestone Plant (LP-5)'!$F$15,AR42*R42),IF(C42=\"LP-6\",IF('Limestone Plant (LP-6)'!$F$15>0,'Limestone Plant (LP-6)'!$F$15,AR42*R42),IF(C42=\"LP-7\",IF('Limestone Plant (LP-7)'!$F$15>0,'Limestone Plant (LP-7)'!$F$15,AR42*R42),IF(C42=\"LP-8\",IF('Limestone Plant (LP-8)'!$F$15>0,'Limestone Plant (LP-8)'!$F$15,AR42*R42),IF(C42=\"LP-9\",IF('Limestone Plant (LP-9)'!$F$15>0,'Limestone Plant (LP-9)'!$F$15,AR42*R42),IF(C42=\"LP-10\",IF('Limestone Plant (LP-10)'!$F$15>0,'Limestone Plant (LP-10)'!$F$15,AR42*R42))))))))))))","v":""},"","",{"$f":"IF(F42=\"\",\"\",IF(B42=\"no\",'Emission Factors'!$P$43,'Emission Factors'!$P$44))","v":""},"","","",{"$f":"IF(F42=\"\",\"\",IF(B42=\"no\",'Emission Factors'!$R$43,'Emission Factors'!$R$44))","v":""},"","",""]
[null,"no",null,null,null,null,null,null,null,null,1,null,null,null,null,null,null,"",null,"",null,0,"",{"$f":"IF(F43=\"\",\"\",IF(B43=\"no\",'Emission Factors'!$D$43,'Emission Factors'!$D$44))","v":""},"","","",{"$f":"IF(F43=\"\",\"\",IF(B43=\"no\",'Emission Factors'!$F$43,'Emission Factors'!$F$44))","v":""},"","","",{"$f":"IF(F43=\"\",\"\",IF(B43=\"no\",'Emission Factors'!$H$43,'Emission Factors'!$H$44))","v":""},{"$f":"IF(F43=\"\",\"\",IF(C43=\"LP-1\",IF('Limestone Plant (LP-1)'!$F$12>0,'Limestone Plant (LP-1)'!$F$12,AF43*R43*K43),IF(C43=\"LP-2\",IF('Limestone Plant (LP-2)'!$F$12>0,'Limestone Plant (LP-2)'!$F$12,AF43*R43*K43),IF(C43=\"LP-3\",IF('Limestone Plant (LP-3)'!$F$12>0,'Limestone Plant (LP-3)'!$F$12,AF43*R43*K43),IF(C43=\"LP-4\",IF('Limestone Plant (LP-4)'!$F$12>0,'Limestone Plant (LP-4)'!$F$12,AF43*R43*K43),IF(C43=\"LP-5\",IF('Limestone Plant (LP-5)'!$F$12>0,'Limestone Plant (LP-5)'!$F$12,AF43*R43*K43),IF(C43=\"LP-6\",IF('Limestone Plant (LP-6)'!$F$12>0,'Limestone Plant (LP-6)'!$F$12,AF43*R43*K43),IF(C43=\"LP-7\",IF('Limestone Plant (LP-7)'!$F$12>0,'Limestone Plant (LP-7)'!$F$12,AF43*R43*K43),IF(C43=\"LP-8\",IF('Limestone Plant (LP-8)'!$F$12>0,'Limestone Plant (LP-8)'!$F$12,AF43*R43*K43),IF(C43=\"LP-9\",IF('Limestone Plant (LP-9)'!$F$12>0,'Limestone Plant (LP-9)'!$F$12,AF43*R43*K43),IF(C43=\"LP-10\",IF('Limestone Plant (LP-10)'!$F$12>0,'Limestone Plant (LP-10)'!$F$12,AF43*R43*K43))))))))))))","v":""},"","",{"$f":"IF(F43=\"\",\"\",IF(B43=\"no\",'Emission Factors'!$J$43,'Emission Factors'!$J$44))","v":""},{"$f":"IF(F43=\"\",\"\",IF(C43=\"LP-1\",IF('Limestone Plant (LP-1)'!$F$13>0,'Limestone Plant (LP-1)'!$F$13,AJ43*R43),IF(C43=\"LP-2\",IF('Limestone Plant (LP-2)'!$F$13>0,'Limestone Plant (LP-2)'!$F$13,AJ43*R43),IF(C43=\"LP-3\",IF('Limestone Plant (LP-3)'!$F$13>0,'Limestone Plant (LP-3)'!$F$13,AJ43*R43),IF(C43=\"LP-4\",IF('Limestone Plant (LP-4)'!$F$13>0,'Limestone Plant (LP-4)'!$F$13,AJ43*R43),IF(C43=\"LP-5\",IF('Limestone Plant (LP-5)'!$F$13>0,'Limestone Plant (LP-5)'!$F$13,AJ43*R43),IF(C43=\"LP-6\",IF('Limestone Plant (LP-6)'!$F$13>0,'Limestone Plant (LP-6)'!$F$13,AJ43*R43),IF(C43=\"LP-7\",IF('Limestone Plant (LP-7)'!$F$13>0,'Limestone Plant (LP-7)'!$F$13,AJ43*R43),IF(C43=\"LP-8\",IF('Limestone Plant (LP-8)'!$F$13>0,'Limestone Plant (LP-8)'!$F$13,AJ43*R43),IF(C43=\"LP-9\",IF('Limestone Plant (LP-9)'!$F$13>0,'Limestone Plant (LP-9)'!$F$13,AJ43*R43),IF(C43=\"LP-10\",IF('Limestone Plant (LP-10)'!$F$13>0,'Limestone Plant (LP-10)'!$F$13,AJ43*R43))))))))))))","v":""},"","",{"$f":"IF(F43=\"\",\"\",IF(B43=\"no\",'Emission Factors'!$L$43,'Emission Factors'!$L$44))","v":""},{"$f":"IF(F43=\"\",\"\",IF(C43=\"LP-1\",IF('Limestone Plant (LP-1)'!$F$14>0,'Limestone Plant (LP-1)'!$F$14,AN43*R43),IF(C43=\"LP-2\",IF('Limestone Plant (LP-2)'!$F$14>0,'Limestone Plant (LP-2)'!$F$14,AN43*R43),IF(C43=\"LP-3\",IF('Limestone Plant (LP-3)'!$F$14>0,'Limestone Plant (LP-3)'!$F$14,AN43*R43),IF(C43=\"LP-4\",IF('Limestone Plant (LP-4)'!$F$14>0,'Limestone Plant (LP-4)'!$F$14,AN43*R43),IF(C43=\"LP-5\",IF('Limestone Plant (LP-5)'!$F$14>0,'Limestone Plant (LP-5)'!$F$14,AN43*R43),IF(C43=\"LP-6\",IF('Limestone Plant (LP-6)'!$F$14>0,'Limestone Plant (LP-6)'!$F$14,AN43*R43),IF(C43=\"LP-7\",IF('Limestone Plant (LP-7)'!$F$14>0,'Limestone Plant (LP-7)'!$F$14,AN43*R43),IF(C43=\"LP-8\",IF('Limestone Plant (LP-8)'!$F$14>0,'Limestone Plant (LP-8)'!$F$14,AN43*R43),IF(C43=\"LP-9\",IF('Limestone Plant (LP-9)'!$F$14>0,'Limestone Plant (LP-9)'!$F$14,AN43*R43),IF(C43=\"LP-10\",IF('Limestone Plant (LP-10)'!$F$14>0,'Limestone Plant (LP-10)'!$F$14,AN43*R43))))))))))))","v":""},"","",{"$f":"IF(F43=\"\",\"\",IF(B43=\"no\",'Emission Factors'!$N$43,'Emission Factors'!$N$44))","v":""},{"$f":"IF(F43=\"\",\"\",IF(C43=\"LP-1\",IF('Limestone Plant (LP-1)'!$F$15>0,'Limestone Plant (LP-1)'!$F$15,AR43*R43),IF(C43=\"LP-2\",IF('Limestone Plant (LP-2)'!$F$15>0,'Limestone Plant (LP-2)'!$F$15,AR43*R43),IF(C43=\"LP-3\",IF('Limestone Plant (LP-3)'!$F$15>0,'Limestone Plant (LP-3)'!$F$15,AR43*R43),IF(C43=\"LP-4\",IF('Limestone Plant (LP-4)'!$F$15>0,'Limestone Plant (LP-4)'!$F$15,AR43*R43),IF(C43=\"LP-5\",IF('Limestone Plant (LP-5)'!$F$15>0,'Limestone Plant (LP-5)'!$F$15,AR43*R43),IF(C43=\"LP-6\",IF('Limestone Plant (LP-6)'!$F$15>0,'Limestone Plant (LP-6)'!$F$15,AR43*R43),IF(C43=\"LP-7\",IF('Limestone Plant (LP-7)'!$F$15>0,'Limestone Plant (LP-7)'!$F$15,AR43*R43),IF(C43=\"LP-8\",IF('Limestone Plant (LP-8)'!$F$15>0,'Limestone Plant (LP-8)'!$F$15,AR43*R43),IF(C43=\"LP-9\",IF('Limestone Plant (LP-9)'!$F$15>0,'Limestone Plant (LP-9)'!$F$15,AR43*R43),IF(C43=\"LP-10\",IF('Limestone Plant (LP-10)'!$F$15>0,'Limestone Plant (LP-10)'!$F$15,AR43*R43))))))))))))","v":""},"","",{"$f":"IF(F43=\"\",\"\",IF(B43=\"no\",'Emission Factors'!$P$43,'Emission Factors'!$P$44))","v":""},"","","",{"$f":"IF(F43=\"\",\"\",IF(B43=\"no\",'Emission Factors'!$R$43,'Emission Factors'!$R$44))","v":""},"","",""]
[null,"no",null,null,null,null,null,null,null,null,1,null,null,null,null,null,null,"",null,"",null,0,"",{"$f":"IF(F44=\"\",\"\",IF(B44=\"no\",'Emission Factors'!$D$43,'Emission Factors'!$D$44))","v":""},"","","",{"$f":"IF(F44=\"\",\"\",IF(B44=\"no\",'Emission Factors'!$F$43,'Emission Factors'!$F$44))","v":""},"","","",{"$f":"IF(F44=\"\",\"\",IF(B44=\"no\",'Emission Factors'!$H$43,'Emission Factors'!$H$44))","v":""},{"$f":"IF(F44=\"\",\"\",IF(C44=\"LP-1\",IF('Limestone Plant (LP-1)'!$F$12>0,'Limestone Plant (LP-1)'!$F$12,AF44*R44*K44),IF(C44=\"LP-2\",IF('Limestone Plant (LP-2)'!$F$12>0,'Limestone Plant (LP-2)'!$F$12,AF44*R44*K44),IF(C44=\"LP-3\",IF('Limestone Plant (LP-3)'!$F$12>0,'Limestone Plant (LP-3)'!$F$12,AF44*R44*K44),IF(C44=\"LP-4\",IF('Limestone Plant (LP-4)'!$F$12>0,'Limestone Plant (LP-4)'!$F$12,AF44*R44*K44),IF(C44=\"LP-5\",IF('Limestone Plant (LP-5)'!$F$12>0,'Limestone Plant (LP-5)'!$F$12,AF44*R44*K44),IF(C44=\"LP-6\",IF('Limestone Plant (LP-6)'!$F$12>0,'Limestone Plant (LP-6)'!$F$12,AF44*R44*K44),IF(C44=\"LP-7\",IF('Limestone Plant (LP-7)'!$F$12>0,'Limestone Plant (LP-7)'!$F$12,AF44*R44*K44),IF(C44=\"LP-8\",IF('Limestone Plant (LP-8)'!$F$12>0,'Limestone Plant (LP-8)'!$F$12,AF44*R44*K44),IF(C44=\"LP-9\",IF('Limestone Plant (LP-9)'!$F$12>0,'Limestone Plant (LP-9)'!$F$12,AF44*R44*K44),IF(C44=\"LP-10\",IF('Limestone Plant (LP-10)'!$F$12>0,'Limestone Plant (LP-10)'!$F$12,AF44*R44*K44))))))))))))","v":""},"","",{"$f":"IF(F44=\"\",\"\",IF(B44=\"no\",'Emission Factors'!$J$43,'Emission Factors'!$J$44))","v":""},{"$f":"IF(F44=\"\",\"\",IF(C44=\"LP-1\",IF('Limestone Plant (LP-1)'!$F$13>0,'Limestone Plant (LP-1)'!$F$13,AJ44*R44),IF(C44=\"LP-2\",IF('Limestone Plant (LP-2)'!$F$13>0,'Limestone Plant (LP-2)'!$F$13,AJ44*R44),IF(C44=\"LP-3\",IF('Limestone Plant (LP-3)'!$F$13>0,'Limestone Plant (LP-3)'!$F$13,AJ44*R44),IF(C44=\"LP-4\",IF('Limestone Plant (LP-4)'!$F$13>0,'Limestone Plant (LP-4)'!$F$13,AJ44*R44),IF(C44=\"LP-5\",IF('Limestone Plant (LP-5)'!$F$13>0,'Limestone Plant (LP-5)'!$F$13,AJ44*R44),IF(C44=\"LP-6\",IF('Limestone Plant (LP-6)'!$F$13>0,'Limestone Plant (LP-6)'!$F$13,AJ44*R44),IF(C44=\"LP-7\",IF('Limestone Plant (LP-7)'!$F$13>0,'Limestone Plant (LP-7)'!$F$13,AJ44*R44),IF(C44=\"LP-8\",IF('Limestone Plant (LP-8)'!$F$13>0,'Limestone Plant (LP-8)'!$F$13,AJ44*R44),IF(C44=\"LP-9\",IF('Limestone Plant (LP-9)'!$F$13>0,'Limestone Plant (LP-9)'!$F$13,AJ44*R44),IF(C44=\"LP-10\",IF('Limestone Plant (LP-10)'!$F$13>0,'Limestone Plant (LP-10)'!$F$13,AJ44*R44))))))))))))","v":""},"","",{"$f":"IF(F44=\"\",\"\",IF(B44=\"no\",'Emission Factors'!$L$43,'Emission Factors'!$L$44))","v":""},{"$f":"IF(F44=\"\",\"\",IF(C44=\"LP-1\",IF('Limestone Plant (LP-1)'!$F$14>0,'Limestone Plant (LP-1)'!$F$14,AN44*R44),IF(C44=\"LP-2\",IF('Limestone Plant (LP-2)'!$F$14>0,'Limestone Plant (LP-2)'!$F$14,AN44*R44),IF(C44=\"LP-3\",IF('Limestone Plant (LP-3)'!$F$14>0,'Limestone Plant (LP-3)'!$F$14,AN44*R44),IF(C44=\"LP-4\",IF('Limestone Plant (LP-4)'!$F$14>0,'Limestone Plant (LP-4)'!$F$14,AN44*R44),IF(C44=\"LP-5\",IF('Limestone Plant (LP-5)'!$F$14>0,'Limestone Plant (LP-5)'!$F$14,AN44*R44),IF(C44=\"LP-6\",IF('Limestone Plant (LP-6)'!$F$14>0,'Limestone Plant (LP-6)'!$F$14,AN44*R44),IF(C44=\"LP-7\",IF('Limestone Plant (LP-7)'!$F$14>0,'Limestone Plant (LP-7)'!$F$14,AN44*R44),IF(C44=\"LP-8\",IF('Limestone Plant (LP-8)'!$F$14>0,'Limestone Plant (LP-8)'!$F$14,AN44*R44),IF(C44=\"LP-9\",IF('Limestone Plant (LP-9)'!$F$14>0,'Limestone Plant (LP-9)'!$F$14,AN44*R44),IF(C44=\"LP-10\",IF('Limestone Plant (LP-10)'!$F$14>0,'Limestone Plant (LP-10)'!$F$14,AN44*R44))))))))))))","v":""},"","",{"$f":"IF(F44=\"\",\"\",IF(B44=\"no\",'Emission Factors'!$N$43,'Emission Factors'!$N$44))","v":""},{"$f":"IF(F44=\"\",\"\",IF(C44=\"LP-1\",IF('Limestone Plant (LP-1)'!$F$15>0,'Limestone Plant (LP-1)'!$F$15,AR44*R44),IF(C44=\"LP-2\",IF('Limestone Plant (LP-2)'!$F$15>0,'Limestone Plant (LP-2)'!$F$15,AR44*R44),IF(C44=\"LP-3\",IF('Limestone Plant (LP-3)'!$F$15>0,'Limestone Plant (LP-3)'!$F$15,AR44*R44),IF(C44=\"LP-4\",IF('Limestone Plant (LP-4)'!$F$15>0,'Limestone Plant (LP-4)'!$F$15,AR44*R44),IF(C44=\"LP-5\",IF('Limestone Plant (LP-5)'!$F$15>0,'Limestone Plant (LP-5)'!$F$15,AR44*R44),IF(C44=\"LP-6\",IF('Limestone Plant (LP-6)'!$F$15>0,'Limestone Plant (LP-6)'!$F$15,AR44*R44),IF(C44=\"LP-7\",IF('Limestone Plant (LP-7)'!$F$15>0,'Limestone Plant (LP-7)'!$F$15,AR44*R44),IF(C44=\"LP-8\",IF('Limestone Plant (LP-8)'!$F$15>0,'Limestone Plant (LP-8)'!$F$15,AR44*R44),IF(C44=\"LP-9\",IF('Limestone Plant (LP-9)'!$F$15>0,'Limestone Plant (LP-9)'!$F$15,AR44*R44),IF(C44=\"LP-10\",IF('Limestone Plant (LP-10)'!$F$15>0,'Limestone Plant (LP-10)'!$F$15,AR44*R44))))))))))))","v":""},"","",{"$f":"IF(F44=\"\",\"\",IF(B44=\"no\",'Emission Factors'!$P$43,'Emission Factors'!$P$44))","v":""},"","","",{"$f":"IF(F44=\"\",\"\",IF(B44=\"no\",'Emission Factors'!$R$43,'Emission Factors'!$R$44))","v":""},"","",""]
[null,{"$f":"IF(F45=\"Diesel Generator> 600 bhp\",\"yes\",\"no\")","v":"no"},null,null,null,null,null,null,null,null,1,null,null,null,null,null,null,{"$f":"IF(Q45=\"\",\"\",Q45*0.14)","v":""},null,{"$f":"IF(S45=\"\",\"\",S45*0.14)","v":""},null,0,"",{"$f":"IF(F45=\"\",\"\",IF(B45=\"no\",'Emission Factors'!$D$43,'Emission Factors'!$D$44))","v":""},"","","",{"$f":"IF(F45=\"\",\"\",IF(B45=\"no\",'Emission Factors'!$F$43,'Emission Factors'!$F$44))","v":""},"","","",{"$f":"IF(F45=\"\",\"\",IF(B45=\"no\",'Emission Factors'!$H$43,'Emission Factors'!$H$44))","v":""},{"$f":"IF(F45=\"\",\"\",IF(C45=\"LP-1\",IF('Limestone Plant (LP-1)'!$F$12>0,'Limestone Plant (LP-1)'!$F$12,AF45*R45*K45),IF(C45=\"LP-2\",IF('Limestone Plant (LP-2)'!$F$12>0,'Limestone Plant (LP-2)'!$F$12,AF45*R45*K45),IF(C45=\"LP-3\",IF('Limestone Plant (LP-3)'!$F$12>0,'Limestone Plant (LP-3)'!$F$12,AF45*R45*K45),IF(C45=\"LP-4\",IF('Limestone Plant (LP-4)'!$F$12>0,'Limestone Plant (LP-4)'!$F$12,AF45*R45*K45),IF(C45=\"LP-5\",IF('Limestone Plant (LP-5)'!$F$12>0,'Limestone Plant (LP-5)'!$F$12,AF45*R45*K45),IF(C45=\"LP-6\",IF('Limestone Plant (LP-6)'!$F$12>0,'Limestone Plant (LP-6)'!$F$12,AF45*R45*K45),IF(C45=\"LP-7\",IF('Limestone Plant (LP-7)'!$F$12>0,'Limestone Plant (LP-7)'!$F$12,AF45*R45*K45),IF(C45=\"LP-8\",IF('Limestone Plant (LP-8)'!$F$12>0,'Limestone Plant (LP-8)'!$F$12,AF45*R45*K45),IF(C45=\"LP-9\",IF('Limestone Plant (LP-9)'!$F$12>0,'Limestone Plant (LP-9)'!$F$12,AF45*R45*K45),IF(C45=\"LP-10\",IF('Limestone Plant (LP-10)'!$F$12>0,'Limestone Plant (LP-10)'!$F$12,AF45*R45*K45))))))))))))","v":""},"","",{"$f":"IF(F45=\"\",\"\",IF(B45=\"no\",'Emission Factors'!$J$43,'Emission Factors'!$J$44))","v":""},{"$f":"IF(F45=\"\",\"\",IF(C45=\"LP-1\",IF('Limestone Plant (LP-1)'!$F$13>0,'Limestone Plant (LP-1)'!$F$13,AJ45*R45),IF(C45=\"LP-2\",IF('Limestone Plant (LP-2)'!$F$13>0,'Limestone Plant (LP-2)'!$F$13,AJ45*R45),IF(C45=\"LP-3\",IF('Limestone Plant (LP-3)'!$F$13>0,'Limestone Plant (LP-3)'!$F$13,AJ45*R45),IF(C45=\"LP-4\",IF('Limestone Plant (LP-4)'!$F$13>0,'Limestone Plant (LP-4)'!$F$13,AJ45*R45),IF(C45=\"LP-5\",IF('Limestone Plant (LP-5)'!$F$13>0,'Limestone Plant (LP-5)'!$F$13,AJ45*R45),IF(C45=\"LP-6\",IF('Limestone Plant (LP-6)'!$F$13>0,'Limestone Plant (LP-6)'!$F$13,AJ45*R45),IF(C45=\"LP-7\",IF('Limestone Plant (LP-7)'!$F$13>0,'Limestone Plant (LP-7)'!$F$13,AJ45*R45),IF(C45=\"LP-8\",IF('Limestone Plant (LP-8)'!$F$13>0,'Limestone Plant (LP-8)'!$F$13,AJ45*R45),IF(C45=\"LP-9\",IF('Limestone Plant (LP-9)'!$F$13>0,'Limestone Plant (LP-9)'!$F$13,AJ45*R45),IF(C45=\"LP-10\",IF('Limestone Plant (LP-10)'!$F$13>0,'Limestone Plant (LP-10)'!$F$13,AJ45*R45))))))))))))","v":""},"","",{"$f":"IF(F45=\"\",\"\",IF(B45=\"no\",'Emission Factors'!$L$43,'Emission Factors'!$L$44))","v":""},{"$f":"IF(F45=\"\",\"\",IF(C45=\"LP-1\",IF('Limestone Plant (LP-1)'!$F$14>0,'Limestone Plant (LP-1)'!$F$14,AN45*R45),IF(C45=\"LP-2\",IF('Limestone Plant (LP-2)'!$F$14>0,'Limestone Plant (LP-2)'!$F$14,AN45*R45),IF(C45=\"LP-3\",IF('Limestone Plant (LP-3)'!$F$14>0,'Limestone Plant (LP-3)'!$F$14,AN45*R45),IF(C45=\"LP-4\",IF('Limestone Plant (LP-4)'!$F$14>0,'Limestone Plant (LP-4)'!$F$14,AN45*R45),IF(C45=\"LP-5\",IF('Limestone Plant (LP-5)'!$F$14>0,'Limestone Plant (LP-5)'!$F$14,AN45*R45),IF(C45=\"LP-6\",IF('Limestone Plant (LP-6)'!$F$14>0,'Limestone Plant (LP-6)'!$F$14,AN45*R45),IF(C45=\"LP-7\",IF('Limestone Plant (LP-7)'!$F$14>0,'Limestone Plant (LP-7)'!$F$14,AN45*R45),IF(C45=\"LP-8\",IF('Limestone Plant (LP-8)'!$F$14>0,'Limestone Plant (LP-8)'!$F$14,AN45*R45),IF(C45=\"LP-9\",IF('Limestone Plant (LP-9)'!$F$14>0,'Limestone Plant (LP-9)'!$F$14,AN45*R45),IF(C45=\"LP-10\",IF('Limestone Plant (LP-10)'!$F$14>0,'Limestone Plant (LP-10)'!$F$14,AN45*R45))))))))))))","v":""},"","",{"$f":"IF(F45=\"\",\"\",IF(B45=\"no\",'Emission Factors'!$N$43,'Emission Factors'!$N$44))","v":""},{"$f":"IF(F45=\"\",\"\",IF(C45=\"LP-1\",IF('Limestone Plant (LP-1)'!$F$15>0,'Limestone Plant (LP-1)'!$F$15,AR45*R45),IF(C45=\"LP-2\",IF('Limestone Plant (LP-2)'!$F$15>0,'Limestone Plant (LP-2)'!$F$15,AR45*R45),IF(C45=\"LP-3\",IF('Limestone Plant (LP-3)'!$F$15>0,'Limestone Plant (LP-3)'!$F$15,AR45*R45),IF(C45=\"LP-4\",IF('Limestone Plant (LP-4)'!$F$15>0,'Limestone Plant (LP-4)'!$F$15,AR45*R45),IF(C45=\"LP-5\",IF('Limestone Plant (LP-5)'!$F$15>0,'Limestone Plant (LP-5)'!$F$15,AR45*R45),IF(C45=\"LP-6\",IF('Limestone Plant (LP-6)'!$F$15>0,'Limestone Plant (LP-6)'!$F$15,AR45*R45),IF(C45=\"LP-7\",IF('Limestone Plant (LP-7)'!$F$15>0,'Limestone Plant (LP-7)'!$F$15,AR45*R45),IF(C45=\"LP-8\",IF('Limestone Plant (LP-8)'!$F$15>0,'Limestone Plant (LP-8)'!$F$15,AR45*R45),IF(C45=\"LP-9\",IF('Limestone Plant (LP-9)'!$F$15>0,'Limestone Plant (LP-9)'!$F$15,AR45*R45),IF(C45=\"LP-10\",IF('Limestone Plant (LP-10)'!$F$15>0,'Limestone Plant (LP-10)'!$F$15,AR45*R45))))))))))))","v":""},"","",{"$f":"IF(F45=\"\",\"\",IF(B45=\"no\",'Emission Factors'!$P$43,'Emission Factors'!$P$44))","v":""},"","","",{"$f":"IF(F45=\"\",\"\",IF(B45=\"no\",'Emission Factors'!$R$43,'Emission Factors'!$R$44))","v":""},"","",""]
[null,{"$f":"IF(F46=\"Diesel Generator> 600 bhp\",\"yes\",\"no\")","v":"no"},null,null,null,null,null,null,null,null,1,null,null,null,null,null,null,{"$f":"IF(Q46=\"\",\"\",Q46*0.14)","v":""},null,{"$f":"IF(S46=\"\",\"\",S46*0.14)","v":""},null,0,"",{"$f":"IF(F46=\"\",\"\",IF(B46=\"no\",'Emission Factors'!$D$43,'Emission Factors'!$D$44))","v":""},"","","",{"$f":"IF(F46=\"\",\"\",IF(B46=\"no\",'Emission Factors'!$F$43,'Emission Factors'!$F$44))","v":""},"","","",{"$f":"IF(F46=\"\",\"\",IF(B46=\"no\",'Emission Factors'!$H$43,'Emission Factors'!$H$44))","v":""},{"$f":"IF(F46=\"\",\"\",IF(C46=\"LP-1\",IF('Limestone Plant (LP-1)'!$F$12>0,'Limestone Plant (LP-1)'!$F$12,AF46*R46*K46),IF(C46=\"LP-2\",IF('Limestone Plant (LP-2)'!$F$12>0,'Limestone Plant (LP-2)'!$F$12,AF46*R46*K46),IF(C46=\"LP-3\",IF('Limestone Plant (LP-3)'!$F$12>0,'Limestone Plant (LP-3)'!$F$12,AF46*R46*K46),IF(C46=\"LP-4\",IF('Limestone Plant (LP-4)'!$F$12>0,'Limestone Plant (LP-4)'!$F$12,AF46*R46*K46),IF(C46=\"LP-5\",IF('Limestone Plant (LP-5)'!$F$12>0,'Limestone Plant (LP-5)'!$F$12,AF46*R46*K46),IF(C46=\"LP-6\",IF('Limestone Plant (LP-6)'!$F$12>0,'Limestone Plant (LP-6)'!$F$12,AF46*R46*K46),IF(C46=\"LP-7\",IF('Limestone Plant (LP-7)'!$F$12>0,'Limestone Plant (LP-7)'!$F$12,AF46*R46*K46),IF(C46=\"LP-8\",IF('Limestone Plant (LP-8)'!$F$12>0,'Limestone Plant (LP-8)'!$F$12,AF46*R46*K46),IF(C46=\"LP-9\",IF('Limestone Plant (LP-9)'!$F$12>0,'Limestone Plant (LP-9)'!$F$12,AF46*R46*K46),IF(C46=\"LP-10\",IF('Limestone Plant (LP-10)'!$F$12>0,'Limestone Plant (LP-10)'!$F$12,AF46*R46*K46))))))))))))","v":""},"","",{"$f":"IF(F46=\"\",\"\",IF(B46=\"no\",'Emission Factors'!$J$43,'Emission Factors'!$J$44))","v":""},{"$f":"IF(F46=\"\",\"\",IF(C46=\"LP-1\",IF('Limestone Plant (LP-1)'!$F$13>0,'Limestone Plant (LP-1)'!$F$13,AJ46*R46),IF(C46=\"LP-2\",IF('Limestone Plant (LP-2)'!$F$13>0,'Limestone Plant (LP-2)'!$F$13,AJ46*R46),IF(C46=\"LP-3\",IF('Limestone Plant (LP-3)'!$F$13>0,'Limestone Plant (LP-3)'!$F$13,AJ46*R46),IF(C46=\"LP-4\",IF('Limestone Plant (LP-4)'!$F$13>0,'Limestone Plant (LP-4)'!$F$13,AJ46*R46),IF(C46=\"LP-5\",IF('Limestone Plant (LP-5)'!$F$13>0,'Limestone Plant (LP-5)'!$F$13,AJ46*R46),IF(C46=\"LP-6\",IF('Limestone Plant (LP-6)'!$F$13>0,'Limestone Plant (LP-6)'!$F$13,AJ46*R46),IF(C46=\"LP-7\",IF('Limestone Plant (LP-7)'!$F$13>0,'Limestone Plant (LP-7)'!$F$13,AJ46*R46),IF(C46=\"LP-8\",IF('Limestone Plant (LP-8)'!$F$13>0,'Limestone Plant (LP-8)'!$F$13,AJ46*R46),IF(C46=\"LP-9\",IF('Limestone Plant (LP-9)'!$F$13>0,'Limestone Plant (LP-9)'!$F$13,AJ46*R46),IF(C46=\"LP-10\",IF('Limestone Plant (LP-10)'!$F$13>0,'Limestone Plant (LP-10)'!$F$13,AJ46*R46))))))))))))","v":""},"","",{"$f":"IF(F46=\"\",\"\",IF(B46=\"no\",'Emission Factors'!$L$43,'Emission Factors'!$L$44))","v":""},{"$f":"IF(F46=\"\",\"\",IF(C46=\"LP-1\",IF('Limestone Plant (LP-1)'!$F$14>0,'Limestone Plant (LP-1)'!$F$14,AN46*R46),IF(C46=\"LP-2\",IF('Limestone Plant (LP-2)'!$F$14>0,'Limestone Plant (LP-2)'!$F$14,AN46*R46),IF(C46=\"LP-3\",IF('Limestone Plant (LP-3)'!$F$14>0,'Limestone Plant (LP-3)'!$F$14,AN46*R46),IF(C46=\"LP-4\",IF('Limestone Plant (LP-4)'!$F$14>0,'Limestone Plant (LP-4)'!$F$14,AN46*R46),IF(C46=\"LP-5\",IF('Limestone Plant (LP-5)'!$F$14>0,'Limestone Plant (LP-5)'!$F$14,AN46*R46),IF(C46=\"LP-6\",IF('Limestone Plant (LP-6)'!$F$14>0,'Limestone Plant (LP-6)'!$F$14,AN46*R46),IF(C46=\"LP-7\",IF('Limestone Plant (LP-7)'!$F$14>0,'Limestone Plant (LP-7)'!$F$14,AN46*R46),IF(C46=\"LP-8\",IF('Limestone Plant (LP-8)'!$F$14>0,'Limestone Plant (LP-8)'!$F$14,AN46*R46),IF(C46=\"LP-9\",IF('Limestone Plant (LP-9)'!$F$14>0,'Limestone Plant (LP-9)'!$F$14,AN46*R46),IF(C46=\"LP-10\",IF('Limestone Plant (LP-10)'!$F$14>0,'Limestone Plant (LP-10)'!$F$14,AN46*R46))))))))))))","v":""},"","",{"$f":"IF(F46=\"\",\"\",IF(B46=\"no\",'Emission Factors'!$N$43,'Emission Factors'!$N$44))","v":""},{"$f":"IF(F46=\"\",\"\",IF(C46=\"LP-1\",IF('Limestone Plant (LP-1)'!$F$15>0,'Limestone Plant (LP-1)'!$F$15,AR46*R46),IF(C46=\"LP-2\",IF('Limestone Plant (LP-2)'!$F$15>0,'Limestone Plant (LP-2)'!$F$15,AR46*R46),IF(C46=\"LP-3\",IF('Limestone Plant (LP-3)'!$F$15>0,'Limestone Plant (LP-3)'!$F$15,AR46*R46),IF(C46=\"LP-4\",IF('Limestone Plant (LP-4)'!$F$15>0,'Limestone Plant (LP-4)'!$F$15,AR46*R46),IF(C46=\"LP-5\",IF('Limestone Plant (LP-5)'!$F$15>0,'Limestone Plant (LP-5)'!$F$15,AR46*R46),IF(C46=\"LP-6\",IF('Limestone Plant (LP-6)'!$F$15>0,'Limestone Plant (LP-6)'!$F$15,AR46*R46),IF(C46=\"LP-7\",IF('Limestone Plant (LP-7)'!$F$15>0,'Limestone Plant (LP-7)'!$F$15,AR46*R46),IF(C46=\"LP-8\",IF('Limestone Plant (LP-8)'!$F$15>0,'Limestone Plant (LP-8)'!$F$15,AR46*R46),IF(C46=\"LP-9\",IF('Limestone Plant (LP-9)'!$F$15>0,'Limestone Plant (LP-9)'!$F$15,AR46*R46),IF(C46=\"LP-10\",IF('Limestone Plant (LP-10)'!$F$15>0,'Limestone Plant (LP-10)'!$F$15,AR46*R46))))))))))))","v":""},"","",{"$f":"IF(F46=\"\",\"\",IF(B46=\"no\",'Emission Factors'!$P$43,'Emission Factors'!$P$44))","v":""},"","","",{"$f":"IF(F46=\"\",\"\",IF(B46=\"no\",'Emission Factors'!$R$43,'Emission Factors'!$R$44))","v":""},"","",""]
[null,{"$f":"IF(F47=\"Diesel Generator> 600 bhp\",\"yes\",\"no\")","v":"no"},null,null,null,null,null,null,null,null,1,null,null,null,null,null,null,{"$f":"IF(Q47=\"\",\"\",Q47*0.14)","v":""},null,{"$f":"IF(S47=\"\",\"\",S47*0.14)","v":""},null,0,"",{"$f":"IF(F47=\"\",\"\",IF(B47=\"no\",'Emission Factors'!$D$43,'Emission Factors'!$D$44))","v":""},"","","",{"$f":"IF(F47=\"\",\"\",IF(B47=\"no\",'Emission Factors'!$F$43,'Emission Factors'!$F$44))","v":""},"","","",{"$f":"IF(F47=\"\",\"\",IF(B47=\"no\",'Emission Factors'!$H$43,'Emission Factors'!$H$44))","v":""},{"$f":"IF(F47=\"\",\"\",IF(C47=\"LP-1\",IF('Limestone Plant (LP-1)'!$F$12>0,'Limestone Plant (LP-1)'!$F$12,AF47*R47*K47),IF(C47=\"LP-2\",IF('Limestone Plant (LP-2)'!$F$12>0,'Limestone Plant (LP-2)'!$F$12,AF47*R47*K47),IF(C47=\"LP-3\",IF('Limestone Plant (LP-3)'!$F$12>0,'Limestone Plant (LP-3)'!$F$12,AF47*R47*K47),IF(C47=\"LP-4\",IF('Limestone Plant (LP-4)'!$F$12>0,'Limestone Plant (LP-4)'!$F$12,AF47*R47*K47),IF(C47=\"LP-5\",IF('Limestone Plant (LP-5)'!$F$12>0,'Limestone Plant (LP-5)'!$F$12,AF47*R47*K47),IF(C47=\"LP-6\",IF('Limestone Plant (LP-6)'!$F$12>0,'Limestone Plant (LP-6)'!$F$12,AF47*R47*K47),IF(C47=\"LP-7\",IF('Limestone Plant (LP-7)'!$F$12>0,'Limestone Plant (LP-7)'!$F$12,AF47*R47*K47),IF(C47=\"LP-8\",IF('Limestone Plant (LP-8)'!$F$12>0,'Limestone Plant (LP-8)'!$F$12,AF47*R47*K47),IF(C47=\"LP-9\",IF('Limestone Plant (LP-9)'!$F$12>0,'Limestone Plant (LP-9)'!$F$12,AF47*R47*K47),IF(C47=\"LP-10\",IF('Limestone Plant (LP-10)'!$F$12>0,'Limestone Plant (LP-10)'!$F$12,AF47*R47*K47))))))))))))","v":""},"","",{"$f":"IF(F47=\"\",\"\",IF(B47=\"no\",'Emission Factors'!$J$43,'Emission Factors'!$J$44))","v":""},{"$f":"IF(F47=\"\",\"\",IF(C47=\"LP-1\",IF('Limestone Plant (LP-1)'!$F$13>0,'Limestone Plant (LP-1)'!$F$13,AJ47*R47),IF(C47=\"LP-2\",IF('Limestone Plant (LP-2)'!$F$13>0,'Limestone Plant (LP-2)'!$F$13,AJ47*R47),IF(C47=\"LP-3\",IF('Limestone Plant (LP-3)'!$F$13>0,'Limestone Plant (LP-3)'!$F$13,AJ47*R47),IF(C47=\"LP-4\",IF('Limestone Plant (LP-4)'!$F$13>0,'Limestone Plant (LP-4)'!$F$13,AJ47*R47),IF(C47=\"LP-5\",IF('Limestone Plant (LP-5)'!$F$13>0,'Limestone Plant (LP-5)'!$F$13,AJ47*R47),IF(C47=\"LP-6\",IF('Limestone Plant (LP-6)'!$F$13>0,'Limestone Plant (LP-6)'!$F$13,AJ47*R47),IF(C47=\"LP-7\",IF('Limestone Plant (LP-7)'!$F$13>0,'Limestone Plant (LP-7)'!$F$13,AJ47*R47),IF(C47=\"LP-8\",IF('Limestone Plant (LP-8)'!$F$13>0,'Limestone Plant (LP-8)'!$F$13,AJ47*R47),IF(C47=\"LP-9\",IF('Limestone Plant (LP-9)'!$F$13>0,'Limestone Plant (LP-9)'!$F$13,AJ47*R47),IF(C47=\"LP-10\",IF('Limestone Plant (LP-10)'!$F$13>0,'Limestone Plant (LP-10)'!$F$13,AJ47*R47))))))))))))","v":""},"","",{"$f":"IF(F47=\"\",\"\",IF(B47=\"no\",'Emission Factors'!$L$43,'Emission Factors'!$L$44))","v":""},{"$f":"IF(F47=\"\",\"\",IF(C47=\"LP-1\",IF('Limestone Plant (LP-1)'!$F$14>0,'Limestone Plant (LP-1)'!$F$14,AN47*R47),IF(C47=\"LP-2\",IF('Limestone Plant (LP-2)'!$F$14>0,'Limestone Plant (LP-2)'!$F$14,AN47*R47),IF(C47=\"LP-3\",IF('Limestone Plant (LP-3)'!$F$14>0,'Limestone Plant (LP-3)'!$F$14,AN47*R47),IF(C47=\"LP-4\",IF('Limestone Plant (LP-4)'!$F$14>0,'Limestone Plant (LP-4)'!$F$14,AN47*R47),IF(C47=\"LP-5\",IF('Limestone Plant (LP-5)'!$F$14>0,'Limestone Plant (LP-5)'!$F$14,AN47*R47),IF(C47=\"LP-6\",IF('Limestone Plant (LP-6)'!$F$14>0,'Limestone Plant (LP-6)'!$F$14,AN47*R47),IF(C47=\"LP-7\",IF('Limestone Plant (LP-7)'!$F$14>0,'Limestone Plant (LP-7)'!$F$14,AN47*R47),IF(C47=\"LP-8\",IF('Limestone Plant (LP-8)'!$F$14>0,'Limestone Plant (LP-8)'!$F$14,AN47*R47),IF(C47=\"LP-9\",IF('Limestone Plant (LP-9)'!$F$14>0,'Limestone Plant (LP-9)'!$F$14,AN47*R47),IF(C47=\"LP-10\",IF('Limestone Plant (LP-10)'!$F$14>0,'Limestone Plant (LP-10)'!$F$14,AN47*R47))))))))))))","v":""},"","",{"$f":"IF(F47=\"\",\"\",IF(B47=\"no\",'Emission Factors'!$N$43,'Emission Factors'!$N$44))","v":""},{"$f":"IF(F47=\"\",\"\",IF(C47=\"LP-1\",IF('Limestone Plant (LP-1)'!$F$15>0,'Limestone Plant (LP-1)'!$F$15,AR47*R47),IF(C47=\"LP-2\",IF('Limestone Plant (LP-2)'!$F$15>0,'Limestone Plant (LP-2)'!$F$15,AR47*R47),IF(C47=\"LP-3\",IF('Limestone Plant (LP-3)'!$F$15>0,'Limestone Plant (LP-3)'!$F$15,AR47*R47),IF(C47=\"LP-4\",IF('Limestone Plant (LP-4)'!$F$15>0,'Limestone Plant (LP-4)'!$F$15,AR47*R47),IF(C47=\"LP-5\",IF('Limestone Plant (LP-5)'!$F$15>0,'Limestone Plant (LP-5)'!$F$15,AR47*R47),IF(C47=\"LP-6\",IF('Limestone Plant (LP-6)'!$F$15>0,'Limestone Plant (LP-6)'!$F$15,AR47*R47),IF(C47=\"LP-7\",IF('Limestone Plant (LP-7)'!$F$15>0,'Limestone Plant (LP-7)'!$F$15,AR47*R47),IF(C47=\"LP-8\",IF('Limestone Plant (LP-8)'!$F$15>0,'Limestone Plant (LP-8)'!$F$15,AR47*R47),IF(C47=\"LP-9\",IF('Limestone Plant (LP-9)'!$F$15>0,'Limestone Plant (LP-9)'!$F$15,AR47*R47),IF(C47=\"LP-10\",IF('Limestone Plant (LP-10)'!$F$15>0,'Limestone Plant (LP-10)'!$F$15,AR47*R47))))))))))))","v":""},"","",{"$f":"IF(F47=\"\",\"\",IF(B47=\"no\",'Emission Factors'!$P$43,'Emission Factors'!$P$44))","v":""},"","","",{"$f":"IF(F47=\"\",\"\",IF(B47=\"no\",'Emission Factors'!$R$43,'Emission Factors'!$R$44))","v":""},"","",""]
[null,{"$f":"IF(F48=\"Diesel Generator> 600 bhp\",\"yes\",\"no\")","v":"no"},null,null,null,null,null,null,null,null,1,null,null,null,null,null,null,{"$f":"IF(Q48=\"\",\"\",Q48*0.14)","v":""},null,{"$f":"IF(S48=\"\",\"\",S48*0.14)","v":""},null,0,"",{"$f":"IF(F48=\"\",\"\",IF(B48=\"no\",'Emission Factors'!$D$43,'Emission Factors'!$D$44))","v":""},"","","",{"$f":"IF(F48=\"\",\"\",IF(B48=\"no\",'Emission Factors'!$F$43,'Emission Factors'!$F$44))","v":""},"","","",{"$f":"IF(F48=\"\",\"\",IF(B48=\"no\",'Emission Factors'!$H$43,'Emission Factors'!$H$44))","v":""},{"$f":"IF(F48=\"\",\"\",IF(C48=\"LP-1\",IF('Limestone Plant (LP-1)'!$F$12>0,'Limestone Plant (LP-1)'!$F$12,AF48*R48*K48),IF(C48=\"LP-2\",IF('Limestone Plant (LP-2)'!$F$12>0,'Limestone Plant (LP-2)'!$F$12,AF48*R48*K48),IF(C48=\"LP-3\",IF('Limestone Plant (LP-3)'!$F$12>0,'Limestone Plant (LP-3)'!$F$12,AF48*R48*K48),IF(C48=\"LP-4\",IF('Limestone Plant (LP-4)'!$F$12>0,'Limestone Plant (LP-4)'!$F$12,AF48*R48*K48),IF(C48=\"LP-5\",IF('Limestone Plant (LP-5)'!$F$12>0,'Limestone Plant (LP-5)'!$F$12,AF48*R48*K48),IF(C48=\"LP-6\",IF('Limestone Plant (LP-6)'!$F$12>0,'Limestone Plant (LP-6)'!$F$12,AF48*R48*K48),IF(C48=\"LP-7\",IF('Limestone Plant (LP-7)'!$F$12>0,'Limestone Plant (LP-7)'!$F$12,AF48*R48*K48),IF(C48=\"LP-8\",IF('Limestone Plant (LP-8)'!$F$12>0,'Limestone Plant (LP-8)'!$F$12,AF48*R48*K48),IF(C48=\"LP-9\",IF('Limestone Plant (LP-9)'!$F$12>0,'Limestone Plant (LP-9)'!$F$12,AF48*R48*K48),IF(C48=\"LP-10\",IF('Limestone Plant (LP-10)'!$F$12>0,'Limestone Plant (LP-10)'!$F$12,AF48*R48*K48))))))))))))","v":""},"","",{"$f":"IF(F48=\"\",\"\",IF(B48=\"no\",'Emission Factors'!$J$43,'Emission Factors'!$J$44))","v":""},{"$f":"IF(F48=\"\",\"\",IF(C48=\"LP-1\",IF('Limestone Plant (LP-1)'!$F$13>0,'Limestone Plant (LP-1)'!$F$13,AJ48*R48),IF(C48=\"LP-2\",IF('Limestone Plant (LP-2)'!$F$13>0,'Limestone Plant (LP-2)'!$F$13,AJ48*R48),IF(C48=\"LP-3\",IF('Limestone Plant (LP-3)'!$F$13>0,'Limestone Plant (LP-3)'!$F$13,AJ48*R48),IF(C48=\"LP-4\",IF('Limestone Plant (LP-4)'!$F$13>0,'Limestone Plant (LP-4)'!$F$13,AJ48*R48),IF(C48=\"LP-5\",IF('Limestone Plant (LP-5)'!$F$13>0,'Limestone Plant (LP-5)'!$F$13,AJ48*R48),IF(C48=\"LP-6\",IF('Limestone Plant (LP-6)'!$F$13>0,'Limestone Plant (LP-6)'!$F$13,AJ48*R48),IF(C48=\"LP-7\",IF('Limestone Plant (LP-7)'!$F$13>0,'Limestone Plant (LP-7)'!$F$13,AJ48*R48),IF(C48=\"LP-8\",IF('Limestone Plant (LP-8)'!$F$13>0,'Limestone Plant (LP-8)'!$F$13,AJ48*R48),IF(C48=\"LP-9\",IF('Limestone Plant (LP-9)'!$F$13>0,'Limestone Plant (LP-9)'!$F$13,AJ48*R48),IF(C48=\"LP-10\",IF('Limestone Plant (LP-10)'!$F$13>0,'Limestone Plant (LP-10)'!$F$13,AJ48*R48))))))))))))","v":""},"","",{"$f":"IF(F48=\"\",\"\",IF(B48=\"no\",'Emission Factors'!$L$43,'Emission Factors'!$L$44))","v":""},{"$f":"IF(F48=\"\",\"\",IF(C48=\"LP-1\",IF('Limestone Plant (LP-1)'!$F$14>0,'Limestone Plant (LP-1)'!$F$14,AN48*R48),IF(C48=\"LP-2\",IF('Limestone Plant (LP-2)'!$F$14>0,'Limestone Plant (LP-2)'!$F$14,AN48*R48),IF(C48=\"LP-3\",IF('Limestone Plant (LP-3)'!$F$14>0,'Limestone Plant (LP-3)'!$F$14,AN48*R48),IF(C48=\"LP-4\",IF('Limestone Plant (LP-4)'!$F$14>0,'Limestone Plant (LP-4)'!$F$14,AN48*R48),IF(C48=\"LP-5\",IF('Limestone Plant (LP-5)'!$F$14>0,'Limestone Plant (LP-5)'!$F$14,AN48*R48),IF(C48=\"LP-6\",IF('Limestone Plant (LP-6)'!$F$14>0,'Limestone Plant (LP-6)'!$F$14,AN48*R48),IF(C48=\"LP-7\",IF('Limestone Plant (LP-7)'!$F$14>0,'Limestone Plant (LP-7)'!$F$14,AN48*R48),IF(C48=\"LP-8\",IF('Limestone Plant (LP-8)'!$F$14>0,'Limestone Plant (LP-8)'!$F$14,AN48*R48),IF(C48=\"LP-9\",IF('Limestone Plant (LP-9)'!$F$14>0,'Limestone Plant (LP-9)'!$F$14,AN48*R48),IF(C48=\"LP-10\",IF('Limestone Plant (LP-10)'!$F$14>0,'Limestone Plant (LP-10)'!$F$14,AN48*R48))))))))))))","v":""},"","",{"$f":"IF(F48=\"\",\"\",IF(B48=\"no\",'Emission Factors'!$N$43,'Emission Factors'!$N$44))","v":""},{"$f":"IF(F48=\"\",\"\",IF(C48=\"LP-1\",IF('Limestone Plant (LP-1)'!$F$15>0,'Limestone Plant (LP-1)'!$F$15,AR48*R48),IF(C48=\"LP-2\",IF('Limestone Plant (LP-2)'!$F$15>0,'Limestone Plant (LP-2)'!$F$15,AR48*R48),IF(C48=\"LP-3\",IF('Limestone Plant (LP-3)'!$F$15>0,'Limestone Plant (LP-3)'!$F$15,AR48*R48),IF(C48=\"LP-4\",IF('Limestone Plant (LP-4)'!$F$15>0,'Limestone Plant (LP-4)'!$F$15,AR48*R48),IF(C48=\"LP-5\",IF('Limestone Plant (LP-5)'!$F$15>0,'Limestone Plant (LP-5)'!$F$15,AR48*R48),IF(C48=\"LP-6\",IF('Limestone Plant (LP-6)'!$F$15>0,'Limestone Plant (LP-6)'!$F$15,AR48*R48),IF(C48=\"LP-7\",IF('Limestone Plant (LP-7)'!$F$15>0,'Limestone Plant (LP-7)'!$F$15,AR48*R48),IF(C48=\"LP-8\",IF('Limestone Plant (LP-8)'!$F$15>0,'Limestone Plant (LP-8)'!$F$15,AR48*R48),IF(C48=\"LP-9\",IF('Limestone Plant (LP-9)'!$F$15>0,'Limestone Plant (LP-9)'!$F$15,AR48*R48),IF(C48=\"LP-10\",IF('Limestone Plant (LP-10)'!$F$15>0,'Limestone Plant (LP-10)'!$F$15,AR48*R48))))))))))))","v":""},"","",{"$f":"IF(F48=\"\",\"\",IF(B48=\"no\",'Emission Factors'!$P$43,'Emission Factors'!$P$44))","v":""},"","","",{"$f":"IF(F48=\"\",\"\",IF(B48=\"no\",'Emission Factors'!$R$43,'Emission Factors'!$R$44))","v":""},"","",""]
[null,{"$f":"IF(F49=\"Diesel Generator> 600 bhp\",\"yes\",\"no\")","v":"no"},null,null,null,null,null,null,null,null,1,null,null,null,null,null,null,{"$f":"IF(Q49=\"\",\"\",Q49*0.14)","v":""},null,{"$f":"IF(S49=\"\",\"\",S49*0.14)","v":""},null,0,"",{"$f":"IF(F49=\"\",\"\",IF(B49=\"no\",'Emission Factors'!$D$43,'Emission Factors'!$D$44))","v":""},"","","",{"$f":"IF(F49=\"\",\"\",IF(B49=\"no\",'Emission Factors'!$F$43,'Emission Factors'!$F$44))","v":""},"","","",{"$f":"IF(F49=\"\",\"\",IF(B49=\"no\",'Emission Factors'!$H$43,'Emission Factors'!$H$44))","v":""},{"$f":"IF(F49=\"\",\"\",IF(C49=\"LP-1\",IF('Limestone Plant (LP-1)'!$F$12>0,'Limestone Plant (LP-1)'!$F$12,AF49*R49*K49),IF(C49=\"LP-2\",IF('Limestone Plant (LP-2)'!$F$12>0,'Limestone Plant (LP-2)'!$F$12,AF49*R49*K49),IF(C49=\"LP-3\",IF('Limestone Plant (LP-3)'!$F$12>0,'Limestone Plant (LP-3)'!$F$12,AF49*R49*K49),IF(C49=\"LP-4\",IF('Limestone Plant (LP-4)'!$F$12>0,'Limestone Plant (LP-4)'!$F$12,AF49*R49*K49),IF(C49=\"LP-5\",IF('Limestone Plant (LP-5)'!$F$12>0,'Limestone Plant (LP-5)'!$F$12,AF49*R49*K49),IF(C49=\"LP-6\",IF('Limestone Plant (LP-6)'!$F$12>0,'Limestone Plant (LP-6)'!$F$12,AF49*R49*K49),IF(C49=\"LP-7\",IF('Limestone Plant (LP-7)'!$F$12>0,'Limestone Plant (LP-7)'!$F$12,AF49*R49*K49),IF(C49=\"LP-8\",IF('Limestone Plant (LP-8)'!$F$12>0,'Limestone Plant (LP-8)'!$F$12,AF49*R49*K49),IF(C49=\"LP-9\",IF('Limestone Plant (LP-9)'!$F$12>0,'Limestone Plant (LP-9)'!$F$12,AF49*R49*K49),IF(C49=\"LP-10\",IF('Limestone Plant (LP-10)'!$F$12>0,'Limestone Plant (LP-10)'!$F$12,AF49*R49*K49))))))))))))","v":""},"","",{"$f":"IF(F49=\"\",\"\",IF(B49=\"no\",'Emission Factors'!$J$43,'Emission Factors'!$J$44))","v":""},{"$f":"IF(F49=\"\",\"\",IF(C49=\"LP-1\",IF('Limestone Plant (LP-1)'!$F$13>0,'Limestone Plant (LP-1)'!$F$13,AJ49*R49),IF(C49=\"LP-2\",IF('Limestone Plant (LP-2)'!$F$13>0,'Limestone Plant (LP-2)'!$F$13,AJ49*R49),IF(C49=\"LP-3\",IF('Limestone Plant (LP-3)'!$F$13>0,'Limestone Plant (LP-3)'!$F$13,AJ49*R49),IF(C49=\"LP-4\",IF('Limestone Plant (LP-4)'!$F$13>0,'Limestone Plant (LP-4)'!$F$13,AJ49*R49),IF(C49=\"LP-5\",IF('Limestone Plant (LP-5)'!$F$13>0,'Limestone Plant (LP-5)'!$F$13,AJ49*R49),IF(C49=\"LP-6\",IF('Limestone Plant (LP-6)'!$F$13>0,'Limestone Plant (LP-6)'!$F$13,AJ49*R49),IF(C49=\"LP-7\",IF('Limestone Plant (LP-7)'!$F$13>0,'Limestone Plant (LP-7)'!$F$13,AJ49*R49),IF(C49=\"LP-8\",IF('Limestone Plant (LP-8)'!$F$13>0,'Limestone Plant (LP-8)'!$F$13,AJ49*R49),IF(C49=\"LP-9\",IF('Limestone Plant (LP-9)'!$F$13>0,'Limestone Plant (LP-9)'!$F$13,AJ49*R49),IF(C49=\"LP-10\",IF('Limestone Plant (LP-10)'!$F$13>0,'Limestone Plant (LP-10)'!$F$13,AJ49*R49))))))))))))","v":""},"","",{"$f":"IF(F49=\"\",\"\",IF(B49=\"no\",'Emission Factors'!$L$43,'Emission Factors'!$L$44))","v":""},{"$f":"IF(F49=\"\",\"\",IF(C49=\"LP-1\",IF('Limestone Plant (LP-1)'!$F$14>0,'Limestone Plant (LP-1)'!$F$14,AN49*R49),IF(C49=\"LP-2\",IF('Limestone Plant (LP-2)'!$F$14>0,'Limestone Plant (LP-2)'!$F$14,AN49*R49),IF(C49=\"LP-3\",IF('Limestone Plant (LP-3)'!$F$14>0,'Limestone Plant (LP-3)'!$F$14,AN49*R49),IF(C49=\"LP-4\",IF('Limestone Plant (LP-4)'!$F$14>0,'Limestone Plant (LP-4)'!$F$14,AN49*R49),IF(C49=\"LP-5\",IF('Limestone Plant (LP-5)'!$F$14>0,'Limestone Plant (LP-5)'!$F$14,AN49*R49),IF(C49=\"LP-6\",IF('Limestone Plant (LP-6)'!$F$14>0,'Limestone Plant (LP-6)'!$F$14,AN49*R49),IF(C49=\"LP-7\",IF('Limestone Plant (LP-7)'!$F$14>0,'Limestone Plant (LP-7)'!$F$14,AN49*R49),IF(C49=\"LP-8\",IF('Limestone Plant (LP-8)'!$F$14>0,'Limestone Plant (LP-8)'!$F$14,AN49*R49),IF(C49=\"LP-9\",IF('Limestone Plant (LP-9)'!$F$14>0,'Limestone Plant (LP-9)'!$F$14,AN49*R49),IF(C49=\"LP-10\",IF('Limestone Plant (LP-10)'!$F$14>0,'Limestone Plant (LP-10)'!$F$14,AN49*R49))))))))))))","v":""},"","",{"$f":"IF(F49=\"\",\"\",IF(B49=\"no\",'Emission Factors'!$N$43,'Emission Factors'!$N$44))","v":""},{"$f":"IF(F49=\"\",\"\",IF(C49=\"LP-1\",IF('Limestone Plant (LP-1)'!$F$15>0,'Limestone Plant (LP-1)'!$F$15,AR49*R49),IF(C49=\"LP-2\",IF('Limestone Plant (LP-2)'!$F$15>0,'Limestone Plant (LP-2)'!$F$15,AR49*R49),IF(C49=\"LP-3\",IF('Limestone Plant (LP-3)'!$F$15>0,'Limestone Plant (LP-3)'!$F$15,AR49*R49),IF(C49=\"LP-4\",IF('Limestone Plant (LP-4)'!$F$15>0,'Limestone Plant (LP-4)'!$F$15,AR49*R49),IF(C49=\"LP-5\",IF('Limestone Plant (LP-5)'!$F$15>0,'Limestone Plant (LP-5)'!$F$15,AR49*R49),IF(C49=\"LP-6\",IF('Limestone Plant (LP-6)'!$F$15>0,'Limestone Plant (LP-6)'!$F$15,AR49*R49),IF(C49=\"LP-7\",IF('Limestone Plant (LP-7)'!$F$15>0,'Limestone Plant (LP-7)'!$F$15,AR49*R49),IF(C49=\"LP-8\",IF('Limestone Plant (LP-8)'!$F$15>0,'Limestone Plant (LP-8)'!$F$15,AR49*R49),IF(C49=\"LP-9\",IF('Limestone Plant (LP-9)'!$F$15>0,'Limestone Plant (LP-9)'!$F$15,AR49*R49),IF(C49=\"LP-10\",IF('Limestone Plant (LP-10)'!$F$15>0,'Limestone Plant (LP-10)'!$F$15,AR49*R49))))))))))))","v":""},"",null,{"$f":"IF(F49=\"\",\"\",IF(B49=\"no\",'Emission Factors'!$P$43,'Emission Factors'!$P$44))","v":""},"","","",{"$f":"IF(F49=\"\",\"\",IF(B49=\"no\",'Emission Factors'!$R$43,'Emission Factors'!$R$44))","v":""},"","",""]
[null,null,null,null,null,null,null,null,null,null,null,null,null,"Total Combined for all Generators ≤ 600 BHP:",null,null,{"$f":"SUM(IF($B$8=\"no\",Q8),IF($B$9=\"no\",Q9),IF($B$10=\"no\",Q10),IF($B$11=\"no\",Q11),IF($B$12=\"no\",Q12),IF($B$13=\"no\",Q13),IF($B$14=\"no\",Q14),IF($B$15=\"no\",Q15),IF($B$16=\"no\",Q16),IF($B$17=\"no\",Q17),IF($B$18=\"no\",Q18),IF($B$19=\"no\",Q19),IF($B$20=\"no\",Q20),IF($B$21=\"no\",Q21),IF($B$22=\"no\",Q22),IF($B$23=\"no\",Q23),IF($B$24=\"no\",Q24),IF($B$25=\"no\",Q25),IF($B$26=\"no\",Q26),IF($B$27=\"no\",Q27),IF($B$28=\"no\",Q28),IF($B$29=\"no\",Q29),IF($B$30=\"no\",Q30),IF($B$31=\"no\",Q31),IF($B$32=\"no\",Q32),IF($B$33=\"no\",Q33),IF($B$34=\"no\",Q34),IF($B$35=\"no\",Q35),IF($B$36=\"no\",Q36),IF($B$37=\"no\",Q37),IF($B$38=\"no\",Q38),IF($B$39=\"no\",Q39),IF($B$40=\"no\",Q40),IF($B$41=\"no\",Q41),IF($B$42=\"no\",Q42),IF($B$43=\"no\",Q43),IF($B$44=\"no\",Q44),IF($B$45=\"no\",Q45),IF($B$46=\"no\",Q46),IF($B$47=\"no\",Q47),IF($B$48=\"no\",Q48),IF($B$49=\"no\",Q49))","v":0},{"$f":"SUM(IF($B$8=\"no\",R8),IF($B$9=\"no\",R9),IF($B$10=\"no\",R10),IF($B$11=\"no\",R11),IF($B$12=\"no\",R12),IF($B$13=\"no\",R13),IF($B$14=\"no\",R14),IF($B$15=\"no\",R15),IF($B$16=\"no\",R16),IF($B$17=\"no\",R17),IF($B$18=\"no\",R18),IF($B$19=\"no\",R19),IF($B$20=\"no\",R20),IF($B$21=\"no\",R21),IF($B$22=\"no\",R22),IF($B$23=\"no\",R23),IF($B$24=\"no\",R24),IF($B$25=\"no\",R25),IF($B$26=\"no\",R26),IF($B$27=\"no\",R27),IF($B$28=\"no\",R28),IF($B$29=\"no\",R29),IF($B$30=\"no\",R30),IF($B$31=\"no\",R31),IF($B$32=\"no\",R32),IF($B$33=\"no\",R33),IF($B$34=\"no\",R34),IF($B$35=\"no\",R35),IF($B$36=\"no\",R36),IF($B$37=\"no\",R37),IF($B$38=\"no\",R38),IF($B$39=\"no\",R39),IF($B$40=\"no\",R40),IF($B$41=\"no\",R41),IF($B$42=\"no\",R42),IF($B$43=\"no\",R43),IF($B$44=\"no\",R44),IF($B$45=\"no\",R45),IF($B$46=\"no\",R46),IF($B$47=\"no\",R47),IF($B$48=\"no\",R48),IF($B$49=\"no\",R49))","v":0},{"$f":"SUM(IF($B$8=\"no\",S8),IF($B$9=\"no\",S9),IF($B$10=\"no\",S10),IF($B$11=\"no\",S11),IF($B$12=\"no\",S12),IF($B$13=\"no\",S13),IF($B$14=\"no\",S14),IF($B$15=\"no\",S15),IF($B$16=\"no\",S16),IF($B$17=\"no\",S17),IF($B$18=\"no\",S18),IF($B$19=\"no\",S19),IF($B$20=\"no\",S20),IF($B$21=\"no\",S21),IF($B$22=\"no\",S22),IF($B$23=\"no\",S23),IF($B$24=\"no\",S24),IF($B$25=\"no\",S25),IF($B$26=\"no\",S26),IF($B$27=\"no\",S27),IF($B$28=\"no\",S28),IF($B$29=\"no\",S29),IF($B$30=\"no\",S30),IF($B$31=\"no\",S31),IF($B$32=\"no\",S32),IF($B$33=\"no\",S33),IF($B$34=\"no\",S34),IF($B$35=\"no\",S35),IF($B$36=\"no\",S36),IF($B$37=\"no\",S37),IF($B$38=\"no\",S38),IF($B$39=\"no\",S39),IF($B$40=\"no\",S40),IF($B$41=\"no\",S41),IF($B$42=\"no\",S42),IF($B$43=\"no\",S43),IF($B$44=\"no\",S44),IF($B$45=\"no\",S45),IF($B$46=\"no\",S46),IF($B$47=\"no\",S47),IF($B$48=\"no\",S48),IF($B$49=\"no\",S49))","v":0},{"$f":"SUM(IF($B$8=\"no\",T8),IF($B$9=\"no\",T9),IF($B$10=\"no\",T10),IF($B$11=\"no\",T11),IF($B$12=\"no\",T12),IF($B$13=\"no\",T13),IF($B$14=\"no\",T14),IF($B$15=\"no\",T15),IF($B$16=\"no\",T16),IF($B$17=\"no\",T17),IF($B$18=\"no\",T18),IF($B$19=\"no\",T19),IF($B$20=\"no\",T20),IF($B$21=\"no\",T21),IF($B$22=\"no\",T22),IF($B$23=\"no\",T23),IF($B$24=\"no\",T24),IF($B$25=\"no\",T25),IF($B$26=\"no\",T26),IF($B$27=\"no\",T27),IF($B$28=\"no\",T28),IF($B$29=\"no\",T29),IF($B$30=\"no\",T30),IF($B$31=\"no\",T31),IF($B$32=\"no\",T32),IF($B$33=\"no\",T33),IF($B$34=\"no\",T34),IF($B$35=\"no\",T35),IF($B$36=\"no\",T36),IF($B$37=\"no\",T37),IF($B$38=\"no\",T38),IF($B$39=\"no\",T39),IF($B$40=\"no\",T40),IF($B$41=\"no\",T41),IF($B$42=\"no\",T42),IF($B$43=\"no\",T43),IF($B$44=\"no\",T44),IF($B$45=\"no\",T45),IF($B$46=\"no\",T46),IF($B$47=\"no\",T47),IF($B$48=\"no\",T48),IF($B$49=\"no\",T49))","v":0}]
["LP-1",{"$f":"MAX(IF($C$8:$C$49=\"LP-1\",$I$8:$I$49))","v":0},null,null,null,null,null,null,null,null,null,null,null,"Total Combined for all Generators > 600 BHP:",null,null,{"$f":"SUM(IF($B$8=\"YES\",Q8),IF($B$9=\"YES\",Q9),IF($B$10=\"YES\",Q10),IF($B$11=\"YES\",Q11),IF($B$12=\"YES\",Q12),IF($B$13=\"YES\",Q13),IF($B$14=\"YES\",Q14),IF($B$15=\"YES\",Q15),IF($B$16=\"YES\",Q16),IF($B$17=\"YES\",Q17),IF($B$18=\"YES\",Q18),IF($B$19=\"YES\",Q19),IF($B$20=\"YES\",Q20),IF($B$21=\"YES\",Q21),IF($B$22=\"YES\",Q22),IF($B$23=\"YES\",Q23),IF($B$24=\"YES\",Q24),IF($B$25=\"YES\",Q25),IF($B$26=\"YES\",Q26),IF($B$27=\"YES\",Q27),IF($B$28=\"YES\",Q28),IF($B$29=\"YES\",Q29),IF($B$30=\"YES\",Q30),IF($B$31=\"YES\",Q31),IF($B$32=\"YES\",Q32),IF($B$33=\"YES\",Q33),IF($B$34=\"YES\",Q34),IF($B$35=\"YES\",Q35),IF($B$36=\"YES\",Q36),IF($B$37=\"YES\",Q37),IF($B$38=\"YES\",Q38),IF($B$39=\"YES\",Q39),IF($B$40=\"YES\",Q40),IF($B$41=\"YES\",Q41),IF($B$42=\"YES\",Q42),IF($B$43=\"YES\",Q43),IF($B$44=\"YES\",Q44),IF($B$45=\"YES\",Q45),IF($B$46=\"YES\",Q46),IF($B$47=\"YES\",Q47),IF($B$48=\"YES\",Q48),IF($B$49=\"YES\",Q49))","v":0},{"$f":"SUM(IF($B$8=\"YES\",R8),IF($B$9=\"YES\",R9),IF($B$10=\"YES\",R10),IF($B$11=\"YES\",R11),IF($B$12=\"YES\",R12),IF($B$13=\"YES\",R13),IF($B$14=\"YES\",R14),IF($B$15=\"YES\",R15),IF($B$16=\"YES\",R16),IF($B$17=\"YES\",R17),IF($B$18=\"YES\",R18),IF($B$19=\"YES\",R19),IF($B$20=\"YES\",R20),IF($B$21=\"YES\",R21),IF($B$22=\"YES\",R22),IF($B$23=\"YES\",R23),IF($B$24=\"YES\",R24),IF($B$25=\"YES\",R25),IF($B$26=\"YES\",R26),IF($B$27=\"YES\",R27),IF($B$28=\"YES\",R28),IF($B$29=\"YES\",R29),IF($B$30=\"YES\",R30),IF($B$31=\"YES\",R31),IF($B$32=\"YES\",R32),IF($B$33=\"YES\",R33),IF($B$34=\"YES\",R34),IF($B$35=\"YES\",R35),IF($B$36=\"YES\",R36),IF($B$37=\"YES\",R37),IF($B$38=\"YES\",R38),IF($B$39=\"YES\",R39),IF($B$40=\"YES\",R40),IF($B$41=\"YES\",R41),IF($B$42=\"YES\",R42),IF($B$43=\"YES\",R43),IF($B$44=\"YES\",R44),IF($B$45=\"YES\",R45),IF($B$46=\"YES\",R46),IF($B$47=\"YES\",R47),IF($B$48=\"YES\",R48),IF($B$49=\"YES\",R49))","v":0},{"$f":"SUM(IF($B$8=\"YES\",S8),IF($B$9=\"YES\",S9),IF($B$10=\"YES\",S10),IF($B$11=\"YES\",S11),IF($B$12=\"YES\",S12),IF($B$13=\"YES\",S13),IF($B$14=\"YES\",S14),IF($B$15=\"YES\",S15),IF($B$16=\"YES\",S16),IF($B$17=\"YES\",S17),IF($B$18=\"YES\",S18),IF($B$19=\"YES\",S19),IF($B$20=\"YES\",S20),IF($B$21=\"YES\",S21),IF($B$22=\"YES\",S22),IF($B$23=\"YES\",S23),IF($B$24=\"YES\",S24),IF($B$25=\"YES\",S25),IF($B$26=\"YES\",S26),IF($B$27=\"YES\",S27),IF($B$28=\"YES\",S28),IF($B$29=\"YES\",S29),IF($B$30=\"YES\",S30),IF($B$31=\"YES\",S31),IF($B$32=\"YES\",S32),IF($B$33=\"YES\",S33),IF($B$34=\"YES\",S34),IF($B$35=\"YES\",S35),IF($B$36=\"YES\",S36),IF($B$37=\"YES\",S37),IF($B$38=\"YES\",S38),IF($B$39=\"YES\",S39),IF($B$40=\"YES\",S40),IF($B$41=\"YES\",S41),IF($B$42=\"YES\",S42),IF($B$43=\"YES\",S43),IF($B$44=\"YES\",S44),IF($B$45=\"YES\",S45),IF($B$46=\"YES\",S46),IF($B$47=\"YES\",S47),IF($B$48=\"YES\",S48),IF($B$49=\"YES\",S49))","v":0},{"$f":"SUM(IF($B$8=\"YES\",T8),IF($B$9=\"YES\",T9),IF($B$10=\"YES\",T10),IF($B$11=\"YES\",T11),IF($B$12=\"YES\",T12),IF($B$13=\"YES\",T13),IF($B$14=\"YES\",T14),IF($B$15=\"YES\",T15),IF($B$16=\"YES\",T16),IF($B$17=\"YES\",T17),IF($B$18=\"YES\",T18),IF($B$19=\"YES\",T19),IF($B$20=\"YES\",T20),IF($B$21=\"YES\",T21),IF($B$22=\"YES\",T22),IF($B$23=\"YES\",T23),IF($B$24=\"YES\",T24),IF($B$25=\"YES\",T25),IF($B$26=\"YES\",T26),IF($B$27=\"YES\",T27),IF($B$28=\"YES\",T28),IF($B$29=\"YES\",T29),IF($B$30=\"YES\",T30),IF($B$31=\"YES\",T31),IF($B$32=\"YES\",T32),IF($B$33=\"YES\",T33),IF($B$34=\"YES\",T34),IF($B$35=\"YES\",T35),IF($B$36=\"YES\",T36),IF($B$37=\"YES\",T37),IF($B$38=\"YES\",T38),IF($B$39=\"YES\",T39),IF($B$40=\"YES\",T40),IF($B$41=\"YES\",T41),IF($B$42=\"YES\",T42),IF($B$43=\"YES\",T43),IF($B$44=\"YES\",T44),IF($B$45=\"YES\",T45),IF($B$46=\"YES\",T46),IF($B$47=\"YES\",T47),IF($B$48=\"YES\",T48),IF($B$49=\"YES\",T49))","v":0}]
["LP-2",{"$f":"MAX(IF($C$8:$C$49=\"LP-2\",$I$8:$I$49))","v":0},null,null,null,null,null,null,null,null,null,null,null,null,null,null,null,null,null,null,null,null,null,null,null,"PM2.5","PM2.5","PM10","PM10","SO2","SO2","NOx","NOx","VOC","VOC","CO","CO","Formaldehyde","Formaldehyde","Benzene","Benzene"]
["LP-3",{"$f":"MAX(IF($C$8:$C$49=\"LP-3\",$I$8:$I$49))","v":0},null,null,null,null,null,null,null,null,null,null,null,null,null,null,null,null,null,null,null,null,null,null,null,"Potential tpy","Actual tpy","Actual tpy","Potential tpy","Potential tpy","Actual tpy","Actual tpy","Potential tpy","Potential tpy","Actual tpy","Actual tpy","Potential tpy","Potential tpy","Actual tpy","Actual tpy","Potential tpy"]
["LP-4",{"$f":"MAX(IF($C$8:$C$49=\"LP-4\",$I$8:$I$49))","v":0},null,null,null,null,null,null,null,null,null,null,null,null,null,null,null,null,null,null,null,null,null,"LP-1",null,{"$f":"IF(B51=\"\",SUMIF($C$8:$C$49,\"LP-1\",$Z$8:$Z$49),MAX(IF(C8:C49=\"LP-1\",Z8:Z49)))","v":0},{"$f":"SUMIF($C$8:$C$49,\"LP-1\",$AA$8:$AA$49)","v":0},{"$f":"SUMIF($C$8:$C$49,\"LP-1\",$AE$8:$AE$49)","v":0},{"$f":"IF(B51=\"\",SUMIF($C$8:$C$49,\"LP-1\",$AD$8:$AD$49),MAX(IF($C$8:$C$49=\"LP-1\",$AD$8:$AD$49)))","v":0},{"$f":"IF(B51=\"\",SUMIF($C$8:$C$49,\"LP-1\",$AH$8:$AH$49),MAX(IF($C$8:$C$49=\"LP-1\",$AH$8:$AH$49)))","v":0},{"$f":"SUMIF($C$8:$C$49,\"LP-1\",$AI$8:$AI$49)","v":0},{"$f":"SUMIF($C$8:$C$49,\"LP-1\",$AM$8:$AM$49)","v":0},{"$f":"IF(B51=\"\",SUMIF($C$8:$C$49,\"LP-1\",$AL$8:$AL$49),MAX(IF($C$8:$C$49=\"LP-1\",$AL$8:$AL$49)))","v":0},{"$f":"IF(B51=\"\",SUMIF($C$8:$C$49,\"LP-1\",$AP$8:$AP$49),MAX(IF($C$8:$C$49=\"LP-1\",$AP$8:$AP$49)))","v":0},{"$f":"SUMIF($C$8:$C$49,\"LP-1\",$AQ$8:$AQ$49)","v":0},{"$f":"SUMIF($C$8:$C$49,\"LP-1\",$AU$8:$AU$49)","v":0},{"$f":"IF(B51=\"\",SUMIF($C$8:$C$49,\"LP-1\",$AT$8:$AT$49),MAX(IF($C$8:$C$49=\"LP-1\",$AT$8:$AT$49)))","v":0},{"$f":"IF(B51=\"\",SUMIF($C$8:$C$49,\"LP-1\",$AX$8:$AX$49),MAX(IF($C$8:$C$49=\"LP-1\",$AX$8:$AX$49)))","v":0},{"$f":"SUMIF($C$8:$C$49,\"LP-1\",$AY$8:$AY$49)","v":0},{"$f":"SUMIF($C$8:$C$49,\"LP-1\",$BC$8:$BC$49)","v":0},{"$f":"IF(B51=\"\",SUMIF($C$8:$C$49,\"LP-1\",$BB$8:$BB$49),MAX(IF($C$8:$C$49=\"LP-1\",$BB$8:$BB$49)))","v":0}]
["LP-5",{"$f":"MAX(IF($C$8:$C$49=\"LP-5\",$I$8:$I$49))","v":0},null,null,null,null,null,null,null,null,null,null,null,null,null,null,null,null,null,null,null,null,null,"LP-2",null,{"$f":"IF(B52=\"\",SUMIF($C$8:$C$49,\"LP-2\",$Z$8:$Z$49),MAX(IF($C$8:$C$49=\"LP-2\",$Z$8:$Z$49)))","v":0},{"$f":"SUMIF($C$8:$C$49,\"LP-2\",$AA$8:$AA$49)","v":0},{"$f":"SUMIF($C$8:$C$49,\"LP-2\",$AE$8:$AE$49)","v":0},{"$f":"IF(B52=\"\",SUMIF($C$8:$C$49,\"LP-2\",$AD$8:$AD$49),MAX(IF($C$8:$C$49=\"LP-2\",$AD$8:$AD$49)))","v":0},{"$f":"IF(B52=\"\",SUMIF($C$8:$C$49,\"LP-2\",$AH$8:$AH$49),MAX(IF($C$8:$C$49=\"LP-2\",$AH$8:$AH$49)))","v":0},{"$f":"SUMIF($C$8:$C$49,\"LP-2\",$AI$8:$AI$49)","v":0},{"$f":"SUMIF($C$8:$C$49,\"LP-2\",$AM$8:$AM$49)","v":0},{"$f":"IF(B52=\"\",SUMIF($C$8:$C$49,\"LP-2\",$AL$8:$AL$49),MAX(IF($C$8:$C$49=\"LP-2\",$AL$8:$AL$49)))","v":0},{"$f":"IF(B52=\"\",SUMIF($C$8:$C$49,\"LP-2\",$AP$8:$AP$49),MAX(IF($C$8:$C$49=\"LP-2\",$AP$8:$AP$49)))","v":0},{"$f":"SUMIF($C$8:$C$49,\"LP-2\",$AQ$8:$AQ$49)","v":0},{"$f":"SUMIF($C$8:$C$49,\"LP-2\",$AU$8:$AU$49)","v":0},{"$f":"IF(B52=\"\",SUMIF($C$8:$C$49,\"LP-2\",$AT$8:$AT$49),MAX(IF($C$8:$C$49=\"LP-2\",$AT$8:$AT$49)))","v":0},{"$f":"IF(B52=\"\",SUMIF($C$8:$C$49,\"LP-2\",$AX$8:$AX$49),MAX(IF($C$8:$C$49=\"LP-2\",$AX$8:$AX$49)))","v":0},{"$f":"SUMIF($C$8:$C$49,\"LP-2\",$AY$8:$AY$49)","v":0},{"$f":"SUMIF($C$8:$C$49,\"LP-2\",$BC$8:$BC$49)","v":0},{"$f":"IF(B52=\"\",SUMIF($C$8:$C$49,\"LP-2\",$BB$8:$BB$49),MAX(IF($C$8:$C$49=\"LP-2\",$BB$8:$BB$49)))","v":0}]
["LP-6",{"$f":"MAX(IF($C$8:$C$49=\"LP-6\",$I$8:$I$49))","v":0},null,null,null,null,null,null,null,null,null,null,null,null,null,null,null,null,null,null,null,null,null,"LP-3",null,{"$f":"IF(B53=\"\",SUMIF($C$8:$C$49,\"LP-3\",$Z$8:$Z$49),MAX(IF($C$8:$C$49=\"LP-3\",$Z$8:$Z$49)))","v":0},{"$f":"SUMIF($C$8:$C$49,\"LP-3\",$AA$8:$AA$49)","v":0},{"$f":"SUMIF($C$8:$C$49,\"LP-3\",$AE$8:$AE$49)","v":0},{"$f":"IF(B53=\"\",SUMIF($C$8:$C$49,\"LP-3\",$AD$8:$AD$49),MAX(IF($C$8:$C$49=\"LP-3\",$AD$8:$AD$49)))","v":0},{"$f":"IF(B53=\"\",SUMIF($C$8:$C$49,\"LP-3\",$AH$8:$AH$49),MAX(IF($C$8:$C$49=\"LP-3\",$AH$8:$AH$49)))","v":0},{"$f":"SUMIF($C$8:$C$49,\"LP-3\",$AI$8:$AI$49)","v":0},{"$f":"SUMIF($C$8:$C$49,\"LP-3\",$AM$8:$AM$49)","v":0},{"$f":"IF(B53=\"\",SUMIF($C$8:$C$49,\"LP-3\",$AL$8:$AL$49),MAX(IF($C$8:$C$49=\"LP-3\",$AL$8:$AL$49)))","v":0},{"$f":"IF(B53=\"\",SUMIF($C$8:$C$49,\"LP-3\",$AP$8:$AP$49),MAX(IF($C$8:$C$49=\"LP-3\",$AP$8:$AP$49)))","v":0},{"$f":"SUMIF($C$8:$C$49,\"LP-3\",$AQ$8:$AQ$49)","v":0},{"$f":"SUMIF($C$8:$C$49,\"LP-3\",$AU$8:$AU$49)","v":0},{"$f":"IF(B53=\"\",SUMIF($C$8:$C$49,\"LP-3\",$AT$8:$AT$49),MAX(IF($C$8:$C$49=\"LP-3\",$AT$8:$AT$49)))","v":0},{"$f":"IF(B53=\"\",SUMIF($C$8:$C$49,\"LP-3\",$AX$8:$AX$49),MAX(IF($C$8:$C$49=\"LP-3\",$AX$8:$AX$49)))","v":0},{"$f":"SUMIF($C$8:$C$49,\"LP-3\",$AY$8:$AY$49)","v":0},{"$f":"SUMIF($C$8:$C$49,\"LP-3\",$BC$8:$BC$49)","v":0},{"$f":"IF(B53=\"\",SUMIF($C$8:$C$49,\"LP-3\",$BB$8:$BB$49),MAX(IF($C$8:$C$49=\"LP-3\",$BB$8:$BB$49)))","v":0}]
["LP-7",{"$f":"MAX(IF($C$8:$C$49=\"LP-7\",$I$8:$I$49))","v":0},null,null,null,null,null,null,null,null,null,null,null,null,null,null,null,null,null,null,null,null,null,"LP-4",null,{"$f":"IF(B54=\"\",SUMIF($C$8:$C$49,\"LP-4\",$Z$8:$Z$49),MAX(IF($C$8:$C$49=\"LP-4\",$Z$8:$Z$49)))","v":0},{"$f":"SUMIF($C$8:$C$49,\"LP-4\",$AA$8:$AA$49)","v":0},{"$f":"SUMIF($C$8:$C$49,\"LP-4\",$AE$8:$AE$49)","v":0},{"$f":"IF(B54=\"\",SUMIF($C$8:$C$49,\"LP-4\",$AD$8:$AD$49),MAX(IF($C$8:$C$49=\"LP-4\",$AD$8:$AD$49)))","v":0},{"$f":"IF(B54=\"\",SUMIF($C$8:$C$49,\"LP-4\",$AH$8:$AH$49),MAX(IF($C$8:$C$49=\"LP-4\",$AH$8:$AH$49)))","v":0},{"$f":"SUMIF($C$8:$C$49,\"LP-4\",$AI$8:$AI$49)","v":0},{"$f":"SUMIF($C$8:$C$49,\"LP-4\",$AM$8:$AM$49)","v":0},{"$f":"IF(B54=\"\",SUMIF($C$8:$C$49,\"LP-4\",$AL$8:$AL$49),MAX(IF($C$8:$C$49=\"LP-4\",$AL$8:$AL$49)))","v":0},{"$f":"IF(B54=\"\",SUMIF($C$8:$C$49,\"LP-4\",$AP$8:$AP$49),MAX(IF($C$8:$C$49=\"LP-4\",$AP$8:$AP$49)))","v":0},{"$f":"SUMIF($C$8:$C$49,\"LP-4\",$AQ$8:$AQ$49)","v":0},{"$f":"SUMIF($C$8:$C$49,\"LP-4\",$AU$8:$AU$49)","v":0},{"$f":"IF(B54=\"\",SUMIF($C$8:$C$49,\"LP-4\",$AT$8:$AT$49),MAX(IF($C$8:$C$49=\"LP-4\",$AT$8:$AT$49)))","v":0},{"$f":"IF(B54=\"\",SUMIF($C$8:$C$49,\"LP-4\",$AX$8:$AX$49),MAX(IF($C$8:$C$49=\"LP-4\",$AX$8:$AX$49)))","v":0},{"$f":"SUMIF($C$8:$C$49,\"LP-4\",$AY$8:$AY$49)","v":0},{"$f":"SUMIF($C$8:$C$49,\"LP-4\",$BC$8:$BC$49)","v":0},{"$f":"IF(B54=\"\",SUMIF($C$8:$C$49,\"LP-4\",$BB$8:$BB$49),MAX(IF($C$8:$C$49=\"LP-4\",$BB$8:$BB$49)))","v":0}]
["LP-8",{"$f":"MAX(IF($C$8:$C$49=\"LP-8\",$I$8:$I$49))","v":0},null,null,null,null,null,null,null,null,null,null,null,null,null,null,null,null,null,null,null,null,null,"LP-5",null,{"$f":"IF(B55=\"\",SUMIF($C$8:$C$49,\"LP-5\",$Z$8:$Z$49),MAX(IF($C$8:$C$49=\"LP-5\",$Z$8:$Z$49)))","v":0},{"$f":"SUMIF($C$8:$C$49,\"LP-5\",$AA$8:$AA$49)","v":0},{"$f":"SUMIF($C$8:$C$49,\"LP-5\",$AE$8:$AE$49)","v":0},{"$f":"IF(B55=\"\",SUMIF($C$8:$C$49,\"LP-5\",$AD$8:$AD$49),MAX(IF($C$8:$C$49=\"LP-5\",$AD$8:$AD$49)))","v":0},{"$f":"IF(B55=\"\",SUMIF($C$8:$C$49,\"LP-5\",$AH$8:$AH$49),MAX(IF($C$8:$C$49=\"LP-5\",$AH$8:$AH$49)))","v":0},{"$f":"SUMIF($C$8:$C$49,\"LP-5\",$AI$8:$AI$49)","v":0},{"$f":"SUMIF($C$8:$C$49,\"LP-5\",$AM$8:$AM$49)","v":0},{"$f":"IF(B55=\"\",SUMIF($C$8:$C$49,\"LP-5\",$AL$8:$AL$49),MAX(IF($C$8:$C$49=\"LP-5\",$AL$8:$AL$49)))","v":0},{"$f":"IF(B55=\"\",SUMIF($C$8:$C$49,\"LP-5\",$AP$8:$AP$49),MAX(IF($C$8:$C$49=\"LP-5\",$AP$8:$AP$49)))","v":0},{"$f":"SUMIF($C$8:$C$49,\"LP-5\",$AQ$8:$AQ$49)","v":0},{"$f":"SUMIF($C$8:$C$49,\"LP-5\",$AU$8:$AU$49)","v":0},{"$f":"IF(B55=\"\",SUMIF($C$8:$C$49,\"LP-5\",$AT$8:$AT$49),MAX(IF($C$8:$C$49=\"LP-5\",$AT$8:$AT$49)))","v":0},{"$f":"IF(B55=\"\",SUMIF($C$8:$C$49,\"LP-5\",$AX$8:$AX$49),MAX(IF($C$8:$C$49=\"LP-5\",$AX$8:$AX$49)))","v":0},{"$f":"SUMIF($C$8:$C$49,\"LP-5\",$AY$8:$AY$49)","v":0},{"$f":"SUMIF($C$8:$C$49,\"LP-5\",$BC$8:$BC$49)","v":0},{"$f":"IF(B55=\"\",SUMIF($C$8:$C$49,\"LP-5\",$BB$8:$BB$49),MAX(IF($C$8:$C$49=\"LP-5\",$BB$8:$BB$49)))","v":0}]
["LP-9",{"$f":"MAX(IF($C$8:$C$49=\"LP-9\",$I$8:$I$49))","v":0},null,null,null,null,null,null,null,null,null,null,null,null,null,null,null,null,null,null,null,null,null,"LP-6",null,{"$f":"IF(B56=\"\",SUMIF($C$8:$C$49,\"LP-6\",$Z$8:$Z$49),MAX(IF($C$8:$C$49=\"LP-6\",$Z$8:$Z$49)))","v":0},{"$f":"SUMIF($C$8:$C$49,\"LP-6\",$AA$8:$AA$49)","v":0},{"$f":"SUMIF($C$8:$C$49,\"LP-6\",$AE$8:$AE$49)","v":0},{"$f":"IF(B56=\"\",SUMIF($C$8:$C$49,\"LP-6\",$AD$8:$AD$49),MAX(IF($C$8:$C$49=\"LP-6\",$AD$8:$AD$49)))","v":0},{"$f":"IF(B56=\"\",SUMIF($C$8:$C$49,\"LP-6\",$AH$8:$AH$49),MAX(IF($C$8:$C$49=\"LP-6\",$AH$8:$AH$49)))","v":0},{"$f":"SUMIF($C$8:$C$49,\"LP-6\",$AI$8:$AI$49)","v":0},{"$f":"SUMIF($C$8:$C$49,\"LP-6\",$AM$8:$AM$49)","v":0},{"$f":"IF(B56=\"\",SUMIF($C$8:$C$49,\"LP-6\",$AL$8:$AL$49),MAX(IF($C$8:$C$49=\"LP-6\",$AL$8:$AL$49)))","v":0},{"$f":"IF(B56=\"\",SUMIF($C$8:$C$49,\"LP-6\",$AP$8:$AP$49),MAX(IF($C$8:$C$49=\"LP-6\",$AP$8:$AP$49)))","v":0},{"$f":"SUMIF($C$8:$C$49,\"LP-6\",$AQ$8:$AQ$49)","v":0},{"$f":"SUMIF($C$8:$C$49,\"LP-6\",$AU$8:$AU$49)","v":0},{"$f":"IF(B56=\"\",SUMIF($C$8:$C$49,\"LP-6\",$AT$8:$AT$49),MAX(IF($C$8:$C$49=\"LP-6\",$AT$8:$AT$49)))","v":0},{"$f":"IF(B56=\"\",SUMIF($C$8:$C$49,\"LP-6\",$AX$8:$AX$49),MAX(IF($C$8:$C$49=\"LP-6\",$AX$8:$AX$49)))","v":0},{"$f":"SUMIF($C$8:$C$49,\"LP-6\",$AY$8:$AY$49)","v":0},{"$f":"SUMIF($C$8:$C$49,\"LP-6\",$BC$8:$BC$49)","v":0},{"$f":"IF(B56=\"\",SUMIF($C$8:$C$49,\"LP-6\",$BB$8:$BB$49),MAX(IF($C$8:$C$49=\"LP-6\",$BB$8:$BB$49)))","v":0}]
["LP-10",{"$f":"MAX(IF($C$8:$C$49=\"LP-10\",$I$8:$I$49))","v":0},null,null,null,null,null,null,null,null,null,null,null,null,null,null,null,null,null,null,null,null,null,"LP-7",null,{"$f":"IF(B57=\"\",SUMIF($C$8:$C$49,\"LP-7\",$Z$8:$Z$49),MAX(IF($C$8:$C$49=\"LP-7\",$Z$8:$Z$49)))","v":0},{"$f":"SUMIF($C$8:$C$49,\"LP-7\",$AA$8:$AA$49)","v":0},{"$f":"SUMIF($C$8:$C$49,\"LP-7\",$AE$8:$AE$49)","v":0},{"$f":"IF(B57=\"\",SUMIF($C$8:$C$49,\"LP-7\",$AD$8:$AD$49),MAX(IF($C$8:$C$49=\"LP-7\",$AD$8:$AD$49)))","v":0},{"$f":"IF(B57=\"\",SUMIF($C$8:$C$49,\"LP-7\",$AH$8:$AH$49),MAX(IF($C$8:$C$49=\"LP-7\",$AH$8:$AH$49)))","v":0},{"$f":"SUMIF($C$8:$C$49,\"LP-7\",$AI$8:$AI$49)","v":0},{"$f":"SUMIF($C$8:$C$49,\"LP-7\",$AM$8:$AM$49)","v":0},{"$f":"IF(B57=\"\",SUMIF($C$8:$C$49,\"LP-7\",$AL$8:$AL$49),MAX(IF($C$8:$C$49=\"LP-7\",$AL$8:$AL$49)))","v":0},{"$f":"IF(B57=\"\",SUMIF($C$8:$C$49,\"LP-7\",$AP$8:$AP$49),MAX(IF($C$8:$C$49=\"LP-7\",$AP$8:$AP$49)))","v":0},{"$f":"SUMIF($C$8:$C$49,\"LP-7\",$AQ$8:$AQ$49)","v":0},{"$f":"SUMIF($C$8:$C$49,\"LP-7\",$AU$8:$AU$49)","v":0},{"$f":"IF(B57=\"\",SUMIF($C$8:$C$49,\"LP-7\",$AT$8:$AT$49),MAX(IF($C$8:$C$49=\"LP-7\",$AT$8:$AT$49)))","v":0},{"$f":"IF(B57=\"\",SUMIF($C$8:$C$49,\"LP-7\",$AX$8:$AX$49),MAX(IF($C$8:$C$49=\"LP-7\",$AX$8:$AX$49)))","v":0},{"$f":"SUMIF($C$8:$C$49,\"LP-7\",$AY$8:$AY$49)","v":0},{"$f":"SUMIF($C$8:$C$49,\"LP-7\",$BC$8:$BC$49)","v":0},{"$f":"IF(B57=\"\",SUMIF($C$8:$C$49,\"LP-7\",$BB$8:$BB$49),MAX(IF($C$8:$C$49=\"LP-7\",$BB$8:$BB$49)))","v":0}]
[null,null,null,null,null,null,null,null,null,null,null,null,null,null,null,null,null,null,null,null,null,null,null,"LP-8",null,{"$f":"IF(B58=\"\",SUMIF($C$8:$C$49,\"LP-8\",$Z$8:$Z$49),MAX(IF($C$8:$C$49=\"LP-8\",$Z$8:$Z$49)))","v":0},{"$f":"SUMIF($C$8:$C$49,\"LP-8\",$AA$8:$AA$49)","v":0},{"$f":"SUMIF($C$8:$C$49,\"LP-8\",$AE$8:$AE$49)","v":0},{"$f":"IF(B58=\"\",SUMIF($C$8:$C$49,\"LP-8\",$AD$8:$AD$49),MAX(IF($C$8:$C$49=\"LP-8\",$AD$8:$AD$49)))","v":0},{"$f":"IF(B58=\"\",SUMIF($C$8:$C$49,\"LP-8\",$AH$8:$AH$49),MAX(IF($C$8:$C$49=\"LP-8\",$AH$8:$AH$49)))","v":0},{"$f":"SUMIF($C$8:$C$49,\"LP-8\",$AI$8:$AI$49)","v":0},{"$f":"SUMIF($C$8:$C$49,\"LP-8\",$AM$8:$AM$49)","v":0},{"$f":"IF(B58=\"\",SUMIF($C$8:$C$49,\"LP-8\",$AL$8:$AL$49),MAX(IF($C$8:$C$49=\"LP-8\",$AL$8:$AL$49)))","v":0},{"$f":"IF(B58=\"\",SUMIF($C$8:$C$49,\"LP-8\",$AP$8:$AP$49),MAX(IF($C$8:$C$49=\"LP-8\",$AP$8:$AP$49)))","v":0},{"$f":"SUMIF($C$8:$C$49,\"LP-8\",$AQ$8:$AQ$49)","v":0},{"$f":"SUMIF($C$8:$C$49,\"LP-8\",$AU$8:$AU$49)","v":0},{"$f":"IF(B58=\"\",SUMIF($C$8:$C$49,\"LP-8\",$AT$8:$AT$49),MAX(IF($C$8:$C$49=\"LP-8\",$AT$8:$AT$49)))","v":0},{"$f":"IF(B58=\"\",SUMIF($C$8:$C$49,\"LP-8\",$AX$8:$AX$49),MAX(IF($C$8:$C$49=\"LP-8\",$AX$8:$AX$49)))","v":0},{"$f":"SUMIF($C$8:$C$49,\"LP-8\",$AY$8:$AY$49)","v":0},{"$f":"SUMIF($C$8:$C$49,\"LP-8\",$BC$8:$BC$49)","v":0},{"$f":"IF(B58=\"\",SUMIF($C$8:$C$49,\"LP-8\",$BB$8:$BB$49),MAX(IF($C$8:$C$49=\"LP-8\",$BB$8:$BB$49)))","v":0}]
["Vertical w/o obstruction",null,null,null,null,null,null,null,null,null,null,null,null,null,null,null,null,null,null,null,null,null,null,"LP-9",null,{"$f":"IF(B59=\"\",SUMIF($C$8:$C$49,\"LP-9\",$Z$8:$Z$49),MAX(IF($C$8:$C$49=\"LP-9\",$Z$8:$Z$49)))","v":0},{"$f":"SUMIF($C$8:$C$49,\"LP-9\",$AA$8:$AA$49)","v":0},{"$f":"SUMIF($C$8:$C$49,\"LP-9\",$AE$8:$AE$49)","v":0},{"$f":"IF(B59=\"\",SUMIF($C$8:$C$49,\"LP-9\",$AD$8:$AD$49),MAX(IF($C$8:$C$49=\"LP-9\",$AD$8:$AD$49)))","v":0},{"$f":"IF(B59=\"\",SUMIF($C$8:$C$49,\"LP-9\",$AH$8:$AH$49),MAX(IF($C$8:$C$49=\"LP-9\",$AH$8:$AH$49)))","v":0},{"$f":"SUMIF($C$8:$C$49,\"LP-9\",$AI$8:$AI$49)","v":0},{"$f":"SUMIF($C$8:$C$49,\"LP-9\",$AM$8:$AM$49)","v":0},{"$f":"IF(B59=\"\",SUMIF($C$8:$C$49,\"LP-9\",$AL$8:$AL$49),MAX(IF($C$8:$C$49=\"LP-9\",$AL$8:$AL$49)))","v":0},{"$f":"IF(B59=\"\",SUMIF($C$8:$C$49,\"LP-9\",$AP$8:$AP$49),MAX(IF($C$8:$C$49=\"LP-9\",$AP$8:$AP$49)))","v":0},{"$f":"SUMIF($C$8:$C$49,\"LP-9\",$AQ$8:$AQ$49)","v":0},{"$f":"SUMIF($C$8:$C$49,\"LP-9\",$AU$8:$AU$49)","v":0},{"$f":"IF(B59=\"\",SUMIF($C$8:$C$49,\"LP-9\",$AT$8:$AT$49),MAX(IF($C$8:$C$49=\"LP-9\",$AT$8:$AT$49)))","v":0},{"$f":"IF(B59=\"\",SUMIF($C$8:$C$49,\"LP-9\",$AX$8:$AX$49),MAX(IF($C$8:$C$49=\"LP-9\",$AX$8:$AX$49)))","v":0},{"$f":"SUMIF($C$8:$C$49,\"LP-9\",$AY$8:$AY$49)","v":0},{"$f":"SUMIF($C$8:$C$49,\"LP-9\",$BC$8:$BC$49)","v":0},{"$f":"IF(B59=\"\",SUMIF($C$8:$C$49,\"LP-9\",$BB$8:$BB$49),MAX(IF($C$8:$C$49=\"LP-9\",$BB$8:$BB$49)))","v":0}]
["Vertical w/ obstruction",null,null,null,null,null,null,null,null,null,null,null,null,null,null,null,null,null,null,null,null,null,null,"LP-10",null,{"$f":"IF(B60=\"\",SUMIF($C$8:$C$49,\"LP-10\",$Z$8:$Z$49),MAX(IF($C$8:$C$49=\"LP-10\",$Z$8:$Z$49)))","v":0},{"$f":"SUMIF($C$8:$C$49,\"LP-10\",$AA$8:$AA$49)","v":0},{"$f":"SUMIF($C$8:$C$49,\"LP-10\",$AE$8:$AE$49)","v":0},{"$f":"IF(B60=\"\",SUMIF($C$8:$C$49,\"LP-10\",$AD$8:$AD$49),MAX(IF($C$8:$C$49=\"LP-10\",$AD$8:$AD$49)))","v":0},{"$f":"IF(B60=\"\",SUMIF($C$8:$C$49,\"LP-10\",$AH$8:$AH$49),MAX(IF($C$8:$C$49=\"LP-10\",$AH$8:$AH$49)))","v":0},{"$f":"SUMIF($C$8:$C$49,\"LP-10\",$AI$8:$AI$49)","v":0},{"$f":"SUMIF($C$8:$C$49,\"LP-10\",$AM$8:$AM$49)","v":0},{"$f":"IF(B60=\"\",SUMIF($C$8:$C$49,\"LP-10\",$AL$8:$AL$49),MAX(IF($C$8:$C$49=\"LP-10\",$AL$8:$AL$49)))","v":0},{"$f":"IF(B60=\"\",SUMIF($C$8:$C$49,\"LP-10\",$AP$8:$AP$49),MAX(IF($C$8:$C$49=\"LP-10\",$AP$8:$AP$49)))","v":0},{"$f":"SUMIF($C$8:$C$49,\"LP-10\",$AQ$8:$AQ$49)","v":0},{"$f":"SUMIF($C$8:$C$49,\"LP-10\",$AU$8:$AU$49)","v":0},{"$f":"IF(B60=\"\",SUMIF($C$8:$C$49,\"LP-10\",$AT$8:$AT$49),MAX(IF($C$8:$C$49=\"LP-10\",$AT$8:$AT$49)))","v":0},{"$f":"IF(B60=\"\",SUMIF($C$8:$C$49,\"LP-10\",$AX$8:$AX$49),MAX(IF($C$8:$C$49=\"LP-10\",$AX$8:$AX$49)))","v":0},{"$f":"SUMIF($C$8:$C$49,\"LP-10\",$AY$8:$AY$49)","v":0},{"$f":"SUMIF($C$8:$C$49,\"LP-10\",$BC$8:$BC$49)","v":0},{"$f":"IF(B60=\"\",SUMIF($C$8:$C$49,\"LP-10\",$BB$8:$BB$49),MAX(IF($C$8:$C$49=\"LP-10\",$BB$8:$BB$49)))","v":0}]
["Downward"]
["Horizontal",null,null,null,null,null,null,null,null,null,null,null,null,null,null,null,null,null,null,null,null,null,null,null,null,"≤ 600 BHP","> 600 BHP","≤ 600 BHP","> 600 BHP","≤ 600 BHP","> 600 BHP","≤ 600 BHP","> 600 BHP","≤ 600 BHP","> 600 BHP","≤ 600 BHP","> 600 BHP","≤ 600 BHP","> 600 BHP","≤ 600 BHP","> 600 BHP"]
[null,null,null,null,null,null,null,null,null,null,null,null,null,null,null,null,null,null,null,null,null,null,null,null,"LP-1",{"$f":"IF(B51=\"\",SUMIFS($Z$8:$Z$49,$C$8:C49,\"LP-1\",$B$8:$B$49,\"no\"),MAX(IF($C$8:$C$49=\"LP-1\",IF($B$8:$B$49=\"no\",$Z$8:$Z$49))))","v":0},{"$f":"IF(B51=\"\",SUMIFS($Z$8:$Z$49,$C$8:D49,\"LP-1\",$B$8:$B$49,\"yes\"),MAX(IF($C$8:$C$49=\"LP-1\",IF($B$8:$B$49=\"yes\",$Z$8:$Z$49))))","v":0},{"$f":"IF($B$51=\"\",SUMIFS($AD$8:$AD$49,$C$8:E49,\"LP-1\",$B$8:$B$49,\"no\"),MAX(IF($C$8:$C$49=\"LP-1\",IF($B$8:$B$49=\"no\",$AD$8:$AD$49))))","v":0},{"$f":"IF($B$51=\"\",SUMIFS($AD$8:$AD$49,$C$8:E49,\"LP-1\",$B$8:$B$49,\"yes\"),MAX(IF($C$8:$C$49=\"LP-1\",IF($B$8:$B$49=\"yes\",$AD$8:$AD$49))))","v":0},{"$f":"IF($B$51=\"\",SUMIFS($AH$8:$AH$49,$C$8:E49,\"LP-1\",$B$8:$B$49,\"no\"),MAX(IF($C$8:$C$49=\"LP-1\",IF($B$8:$B$49=\"no\",$AH$8:$AH$49))))","v":0},{"$f":"IF($B$51=\"\",SUMIFS($AH$8:$AH$49,$C$8:G49,\"LP-1\",$B$8:$B$49,\"yes\"),MAX(IF($C$8:$C$49=\"LP-1\",IF($B$8:$B$49=\"yes\",$AH$8:$AH$49))))","v":0},{"$f":"IF($B$51=\"\",SUMIFS($AL$8:$AL$49,$C$8:E49,\"LP-1\",$B$8:$B$49,\"no\"),MAX(IF($C$8:$C$49=\"LP-1\",IF($B$8:$B$49=\"no\",$AL$8:$AL$49))))","v":0},{"$f":"IF($B$51=\"\",SUMIFS($AL$8:$AL$49,$C$8:I49,\"LP-1\",$B$8:$B$49,\"yes\"),MAX(IF($C$8:$C$49=\"LP-1\",IF($B$8:$B$49=\"yes\",$AL$8:$AL$49))))","v":0},{"$f":"IF($B$51=\"\",SUMIFS($AP$8:$AP$49,$C$8:E49,\"LP-1\",$B$8:$B$49,\"no\"),MAX(IF($C$8:$C$49=\"LP-1\",IF($B$8:$B$49=\"no\",$AP$8:$AP$49))))","v":0},{"$f":"IF($B$51=\"\",SUMIFS($AP$8:$AP$49,$C$8:K49,\"LP-1\",$B$8:$B$49,\"yes\"),MAX(IF($C$8:$C$49=\"LP-1\",IF($B$8:$B$49=\"yes\",$AP$8:$AP$49))))","v":0},{"$f":"IF($B$51=\"\",SUMIFS($AT$8:$AT$49,$C$8:E49,\"LP-1\",$B$8:$B$49,\"no\"),MAX(IF($C$8:$C$49=\"LP-1\",IF($B$8:$B$49=\"no\",$AT$8:$AT$49))))","v":0},{"$f":"IF($B$51=\"\",SUMIFS($AT$8:$AT$49,$C$8:M49,\"LP-1\",$B$8:$B$49,\"yes\"),MAX(IF($C$8:$C$49=\"LP-1\",IF($B$8:$B$49=\"yes\",$AT$8:$AT$49))))","v":0},{"$f":"IF($B$51=\"\",SUMIFS($AX$8:$AX$49,$C$8:E49,\"LP-1\",$B$8:$B$49,\"no\"),MAX(IF($C$8:$C$49=\"LP-1\",IF($B$8:$B$49=\"no\",$AX$8:$AX$49))))","v":0},{"$f":"IF($B$51=\"\",SUMIFS($AX$8:$AX$49,$C$8:O49,\"LP-1\",$B$8:$B$49,\"yes\"),MAX(IF($C$8:$C$49=\"LP-1\",IF($B$8:$B$49=\"yes\",$AX$8:$AX$49))))","v":0},{"$f":"IF($B$51=\"\",SUMIFS($BB$8:$BB$49,$C$8:E49,\"LP-1\",$B$8:$B$49,\"no\"),MAX(IF($C$8:$C$49=\"LP-1\",IF($B$8:$B$49=\"no\",$BB$8:$BB$49))))","v":0},{"$f":"IF($B$51=\"\",SUMIFS($BB$8:$BB$49,$C$8:Q49,\"LP-1\",$B$8:$B$49,\"yes\"),MAX(IF($C$8:$C$49=\"LP-1\",IF($B$8:$B$49=\"yes\",$BB$8:$BB$49))))","v":0}]
[null,null,null,null,null,null,null,null,null,null,null,null,null,null,null,null,null,null,null,null,null,null,null,null,"LP-2",{"$f":"IF(B52=\"\",SUMIFS($Z$8:$Z$49,$C$8:C50,\"LP-2\",$B$8:$B$49,\"no\"),MAX(IF($C$8:$C$49=\"LP-2\",IF($B$8:$B$49=\"no\",$Z$8:$Z$49))))","v":0},{"$f":"IF(B52=\"\",SUMIFS($Z$8:$Z$49,$C$8:D50,\"LP-2\",$B$8:$B$49,\"yes\"),MAX(IF($C$8:$C$49=\"LP-2\",IF($B$8:$B$49=\"yes\",$Z$8:$Z$49))))","v":0},{"$f":"IF($B$51=\"\",SUMIFS($AD$8:$AD$49,$C$8:E50,\"LP-2\",$B$8:$B$49,\"no\"),MAX(IF($C$8:$C$49=\"LP-2\",IF($B$8:$B$49=\"no\",$AD$8:$AD$49))))","v":0},{"$f":"IF($B$51=\"\",SUMIFS($AD$8:$AD$49,$C$8:E50,\"LP-2\",$B$8:$B$49,\"yes\"),MAX(IF($C$8:$C$49=\"LP-2\",IF($B$8:$B$49=\"yes\",$AD$8:$AD$49))))","v":0},{"$f":"IF($B$51=\"\",SUMIFS($AH$8:$AH$49,$C$8:E50,\"LP-2\",$B$8:$B$49,\"no\"),MAX(IF($C$8:$C$49=\"LP-2\",IF($B$8:$B$49=\"no\",$AH$8:$AH$49))))","v":0},{"$f":"IF($B$51=\"\",SUMIFS($AH$8:$AH$49,$C$8:G50,\"LP-2\",$B$8:$B$49,\"yes\"),MAX(IF($C$8:$C$49=\"LP-2\",IF($B$8:$B$49=\"yes\",$AH$8:$AH$49))))","v":0},{"$f":"IF($B$51=\"\",SUMIFS($AL$8:$AL$49,$C$8:E50,\"LP-2\",$B$8:$B$49,\"no\"),MAX(IF($C$8:$C$49=\"LP-2\",IF($B$8:$B$49=\"no\",$AL$8:$AL$49))))","v":0},{"$f":"IF($B$51=\"\",SUMIFS($AL$8:$AL$49,$C$8:I50,\"LP-2\",$B$8:$B$49,\"yes\"),MAX(IF($C$8:$C$49=\"LP-2\",IF($B$8:$B$49=\"yes\",$AL$8:$AL$49))))","v":0},{"$f":"IF($B$51=\"\",SUMIFS($AP$8:$AP$49,$C$8:E50,\"LP-2\",$B$8:$B$49,\"no\"),MAX(IF($C$8:$C$49=\"LP-2\",IF($B$8:$B$49=\"no\",$AP$8:$AP$49))))","v":0},{"$f":"IF($B$51=\"\",SUMIFS($AP$8:$AP$49,$C$8:K50,\"LP-2\",$B$8:$B$49,\"yes\"),MAX(IF($C$8:$C$49=\"LP-2\",IF($B$8:$B$49=\"yes\",$AP$8:$AP$49))))","v":0},{"$f":"IF($B$51=\"\",SUMIFS($AT$8:$AT$49,$C$8:E50,\"LP-2\",$B$8:$B$49,\"no\"),MAX(IF($C$8:$C$49=\"LP-2\",IF($B$8:$B$49=\"no\",$AT$8:$AT$49))))","v":0},{"$f":"IF($B$51=\"\",SUMIFS($AT$8:$AT$49,$C$8:M50,\"LP-2\",$B$8:$B$49,\"yes\"),MAX(IF($C$8:$C$49=\"LP-2\",IF($B$8:$B$49=\"yes\",$AT$8:$AT$49))))","v":0},{"$f":"IF($B$51=\"\",SUMIFS($AX$8:$AX$49,$C$8:E50,\"LP-2\",$B$8:$B$49,\"no\"),MAX(IF($C$8:$C$49=\"LP-2\",IF($B$8:$B$49=\"no\",$AX$8:$AX$49))))","v":0},{"$f":"IF($B$51=\"\",SUMIFS($AX$8:$AX$49,$C$8:O50,\"LP-2\",$B$8:$B$49,\"yes\"),MAX(IF($C$8:$C$49=\"LP-2\",IF($B$8:$B$49=\"yes\",$AX$8:$AX$49))))","v":0},{"$f":"IF($B$51=\"\",SUMIFS($BB$8:$BB$49,$C$8:E50,\"LP-2\",$B$8:$B$49,\"no\"),MAX(IF($C$8:$C$49=\"LP-2\",IF($B$8:$B$49=\"no\",$BB$8:$BB$49))))","v":0},{"$f":"IF($B$51=\"\",SUMIFS($BB$8:$BB$49,$C$8:Q50,\"LP-2\",$B$8:$B$49,\"yes\"),MAX(IF($C$8:$C$49=\"LP-2\",IF($B$8:$B$49=\"yes\",$BB$8:$BB$49))))","v":0}]
[null,null,null,null,null,null,null,null,null,null,null,null,null,null,null,null,null,null,null,null,null,null,null,null,"LP-3",{"$f":"IF(B53=\"\",SUMIFS($Z$8:$Z$49,$C$8:C51,\"LP-3\",$B$8:$B$49,\"no\"),MAX(IF($C$8:$C$49=\"LP-3\",IF($B$8:$B$49=\"no\",$Z$8:$Z$49))))","v":0},{"$f":"IF(B53=\"\",SUMIFS($Z$8:$Z$49,$C$8:D51,\"LP-3\",$B$8:$B$49,\"yes\"),MAX(IF($C$8:$C$49=\"LP-3\",IF($B$8:$B$49=\"yes\",$Z$8:$Z$49))))","v":0},{"$f":"IF($B$51=\"\",SUMIFS($AD$8:$AD$49,$C$8:E51,\"LP-3\",$B$8:$B$49,\"no\"),MAX(IF($C$8:$C$49=\"LP-3\",IF($B$8:$B$49=\"no\",$AD$8:$AD$49))))","v":0},{"$f":"IF($B$51=\"\",SUMIFS($AD$8:$AD$49,$C$8:E51,\"LP-3\",$B$8:$B$49,\"yes\"),MAX(IF($C$8:$C$49=\"LP-3\",IF($B$8:$B$49=\"yes\",$AD$8:$AD$49))))","v":0},{"$f":"IF($B$51=\"\",SUMIFS($AH$8:$AH$49,$C$8:E51,\"LP-3\",$B$8:$B$49,\"no\"),MAX(IF($C$8:$C$49=\"LP-3\",IF($B$8:$B$49=\"no\",$AH$8:$AH$49))))","v":0},{"$f":"IF($B$51=\"\",SUMIFS($AH$8:$AH$49,$C$8:G51,\"LP-3\",$B$8:$B$49,\"yes\"),MAX(IF($C$8:$C$49=\"LP-3\",IF($B$8:$B$49=\"yes\",$AH$8:$AH$49))))","v":0},{"$f":"IF($B$51=\"\",SUMIFS($AL$8:$AL$49,$C$8:E51,\"LP-3\",$B$8:$B$49,\"no\"),MAX(IF($C$8:$C$49=\"LP-3\",IF($B$8:$B$49=\"no\",$AL$8:$AL$49))))","v":0},{"$f":"IF($B$51=\"\",SUMIFS($AL$8:$AL$49,$C$8:I51,\"LP-3\",$B$8:$B$49,\"yes\"),MAX(IF($C$8:$C$49=\"LP-3\",IF($B$8:$B$49=\"yes\",$AL$8:$AL$49))))","v":0},{"$f":"IF($B$51=\"\",SUMIFS($AP$8:$AP$49,$C$8:E51,\"LP-3\",$B$8:$B$49,\"no\"),MAX(IF($C$8:$C$49=\"LP-3\",IF($B$8:$B$49=\"no\",$AP$8:$AP$49))))","v":0},{"$f":"IF($B$51=\"\",SUMIFS($AP$8:$AP$49,$C$8:K51,\"LP-3\",$B$8:$B$49,\"yes\"),MAX(IF($C$8:$C$49=\"LP-3\",IF($B$8:$B$49=\"yes\",$AP$8:$AP$49))))","v":0},{"$f":"IF($B$51=\"\",SUMIFS($AT$8:$AT$49,$C$8:E51,\"LP-3\",$B$8:$B$49,\"no\"),MAX(IF($C$8:$C$49=\"LP-3\",IF($B$8:$B$49=\"no\",$AT$8:$AT$49))))","v":0},{"$f":"IF($B$51=\"\",SUMIFS($AT$8:$AT$49,$C$8:M51,\"LP-3\",$B$8:$B$49,\"yes\"),MAX(IF($C$8:$C$49=\"LP-3\",IF($B$8:$B$49=\"yes\",$AT$8:$AT$49))))","v":0},{"$f":"IF($B$51=\"\",SUMIFS($AX$8:$AX$49,$C$8:E51,\"LP-3\",$B$8:$B$49,\"no\"),MAX(IF($C$8:$C$49=\"LP-3\",IF($B$8:$B$49=\"no\",$AX$8:$AX$49))))","v":0},{"$f":"IF($B$51=\"\",SUMIFS($AX$8:$AX$49,$C$8:O51,\"LP-3\",$B$8:$B$49,\"yes\"),MAX(IF($C$8:$C$49=\"LP-3\",IF($B$8:$B$49=\"yes\",$AX$8:$AX$49))))","v":0},{"$f":"IF($B$51=\"\",SUMIFS($BB$8:$BB$49,$C$8:E51,\"LP-3\",$B$8:$B$49,\"no\"),MAX(IF($C$8:$C$49=\"LP-3\",IF($B$8:$B$49=\"no\",$BB$8:$BB$49))))","v":0},{"$f":"IF($B$51=\"\",SUMIFS($BB$8:$BB$49,$C$8:Q51,\"LP-3\",$B$8:$B$49,\"yes\"),MAX(IF($C$8:$C$49=\"LP-3\",IF($B$8:$B$49=\"yes\",$BB$8:$BB$49))))","v":0}]
[null,null,null,null,null,null,null,null,null,null,null,null,null,null,null,null,null,null,null,null,null,null,null,null,"LP-4",{"$f":"IF(B54=\"\",SUMIFS($Z$8:$Z$49,$C$8:C52,\"LP-4\",$B$8:$B$49,\"no\"),MAX(IF($C$8:$C$49=\"LP-4\",IF($B$8:$B$49=\"no\",$Z$8:$Z$49))))","v":0},{"$f":"IF(B54=\"\",SUMIFS($Z$8:$Z$49,$C$8:D52,\"LP-4\",$B$8:$B$49,\"yes\"),MAX(IF($C$8:$C$49=\"LP-4\",IF($B$8:$B$49=\"yes\",$Z$8:$Z$49))))","v":0},{"$f":"IF($B$51=\"\",SUMIFS($AD$8:$AD$49,$C$8:E52,\"LP-4\",$B$8:$B$49,\"no\"),MAX(IF($C$8:$C$49=\"LP-4\",IF($B$8:$B$49=\"no\",$AD$8:$AD$49))))","v":0},{"$f":"IF($B$51=\"\",SUMIFS($AD$8:$AD$49,$C$8:E52,\"LP-4\",$B$8:$B$49,\"yes\"),MAX(IF($C$8:$C$49=\"LP-4\",IF($B$8:$B$49=\"yes\",$AD$8:$AD$49))))","v":0},{"$f":"IF($B$51=\"\",SUMIFS($AH$8:$AH$49,$C$8:E52,\"LP-4\",$B$8:$B$49,\"no\"),MAX(IF($C$8:$C$49=\"LP-4\",IF($B$8:$B$49=\"no\",$AH$8:$AH$49))))","v":0},{"$f":"IF($B$51=\"\",SUMIFS($AH$8:$AH$49,$C$8:G52,\"LP-4\",$B$8:$B$49,\"yes\"),MAX(IF($C$8:$C$49=\"LP-4\",IF($B$8:$B$49=\"yes\",$AH$8:$AH$49))))","v":0},{"$f":"IF($B$51=\"\",SUMIFS($AL$8:$AL$49,$C$8:E52,\"LP-4\",$B$8:$B$49,\"no\"),MAX(IF($C$8:$C$49=\"LP-4\",IF($B$8:$B$49=\"no\",$AL$8:$AL$49))))","v":0},{"$f":"IF($B$51=\"\",SUMIFS($AL$8:$AL$49,$C$8:I52,\"LP-4\",$B$8:$B$49,\"yes\"),MAX(IF($C$8:$C$49=\"LP-4\",IF($B$8:$B$49=\"yes\",$AL$8:$AL$49))))","v":0},{"$f":"IF($B$51=\"\",SUMIFS($AP$8:$AP$49,$C$8:E52,\"LP-4\",$B$8:$B$49,\"no\"),MAX(IF($C$8:$C$49=\"LP-4\",IF($B$8:$B$49=\"no\",$AP$8:$AP$49))))","v":0},{"$f":"IF($B$51=\"\",SUMIFS($AP$8:$AP$49,$C$8:K52,\"LP-4\",$B$8:$B$49,\"yes\"),MAX(IF($C$8:$C$49=\"LP-4\",IF($B$8:$B$49=\"yes\",$AP$8:$AP$49))))","v":0},{"$f":"IF($B$51=\"\",SUMIFS($AT$8:$AT$49,$C$8:E52,\"LP-4\",$B$8:$B$49,\"no\"),MAX(IF($C$8:$C$49=\"LP-4\",IF($B$8:$B$49=\"no\",$AT$8:$AT$49))))","v":0},{"$f":"IF($B$51=\"\",SUMIFS($AT$8:$AT$49,$C$8:M52,\"LP-4\",$B$8:$B$49,\"yes\"),MAX(IF($C$8:$C$49=\"LP-4\",IF($B$8:$B$49=\"yes\",$AT$8:$AT$49))))","v":0},{"$f":"IF($B$51=\"\",SUMIFS($AX$8:$AX$49,$C$8:E52,\"LP-4\",$B$8:$B$49,\"no\"),MAX(IF($C$8:$C$49=\"LP-4\",IF($B$8:$B$49=\"no\",$AX$8:$AX$49))))","v":0},{"$f":"IF($B$51=\"\",SUMIFS($AX$8:$AX$49,$C$8:O52,\"LP-4\",$B$8:$B$49,\"yes\"),MAX(IF($C$8:$C$49=\"LP-4\",IF($B$8:$B$49=\"yes\",$AX$8:$AX$49))))","v":0},{"$f":"IF($B$51=\"\",SUMIFS($BB$8:$BB$49,$C$8:E52,\"LP-4\",$B$8:$B$49,\"no\"),MAX(IF($C$8:$C$49=\"LP-4\",IF($B$8:$B$49=\"no\",$BB$8:$BB$49))))","v":0},{"$f":"IF($B$51=\"\",SUMIFS($BB$8:$BB$49,$C$8:Q52,\"LP-4\",$B$8:$B$49,\"yes\"),MAX(IF($C$8:$C$49=\"LP-4\",IF($B$8:$B$49=\"yes\",$BB$8:$BB$49))))","v":0}]
[null,null,null,null,null,null,null,null,null,null,null,null,null,null,null,null,null,null,null,null,null,null,null,null,"LP-5",{"$f":"IF(B55=\"\",SUMIFS($Z$8:$Z$49,$C$8:C53,\"LP-5\",$B$8:$B$49,\"no\"),MAX(IF($C$8:$C$49=\"LP-5\",IF($B$8:$B$49=\"no\",$Z$8:$Z$49))))","v":0},{"$f":"IF(B55=\"\",SUMIFS($Z$8:$Z$49,$C$8:D53,\"LP-5\",$B$8:$B$49,\"yes\"),MAX(IF($C$8:$C$49=\"LP-5\",IF($B$8:$B$49=\"yes\",$Z$8:$Z$49))))","v":0},{"$f":"IF($B$51=\"\",SUMIFS($AD$8:$AD$49,$C$8:E53,\"LP-5\",$B$8:$B$49,\"no\"),MAX(IF($C$8:$C$49=\"LP-5\",IF($B$8:$B$49=\"no\",$AD$8:$AD$49))))","v":0},{"$f":"IF($B$51=\"\",SUMIFS($AD$8:$AD$49,$C$8:E53,\"LP-5\",$B$8:$B$49,\"yes\"),MAX(IF($C$8:$C$49=\"LP-5\",IF($B$8:$B$49=\"yes\",$AD$8:$AD$49))))","v":0},{"$f":"IF($B$51=\"\",SUMIFS($AH$8:$AH$49,$C$8:E53,\"LP-5\",$B$8:$B$49,\"no\"),MAX(IF($C$8:$C$49=\"LP-5\",IF($B$8:$B$49=\"no\",$AH$8:$AH$49))))","v":0},{"$f":"IF($B$51=\"\",SUMIFS($AH$8:$AH$49,$C$8:G53,\"LP-5\",$B$8:$B$49,\"yes\"),MAX(IF($C$8:$C$49=\"LP-5\",IF($B$8:$B$49=\"yes\",$AH$8:$AH$49))))","v":0},{"$f":"IF($B$51=\"\",SUMIFS($AL$8:$AL$49,$C$8:E53,\"LP-5\",$B$8:$B$49,\"no\"),MAX(IF($C$8:$C$49=\"LP-5\",IF($B$8:$B$49=\"no\",$AL$8:$AL$49))))","v":0},{"$f":"IF($B$51=\"\",SUMIFS($AL$8:$AL$49,$C$8:I53,\"LP-5\",$B$8:$B$49,\"yes\"),MAX(IF($C$8:$C$49=\"LP-5\",IF($B$8:$B$49=\"yes\",$AL$8:$AL$49))))","v":0},{"$f":"IF($B$51=\"\",SUMIFS($AP$8:$AP$49,$C$8:E53,\"LP-5\",$B$8:$B$49,\"no\"),MAX(IF($C$8:$C$49=\"LP-5\",IF($B$8:$B$49=\"no\",$AP$8:$AP$49))))","v":0},{"$f":"IF($B$51=\"\",SUMIFS($AP$8:$AP$49,$C$8:K53,\"LP-5\",$B$8:$B$49,\"yes\"),MAX(IF($C$8:$C$49=\"LP-5\",IF($B$8:$B$49=\"yes\",$AP$8:$AP$49))))","v":0},{"$f":"IF($B$51=\"\",SUMIFS($AT$8:$AT$49,$C$8:E53,\"LP-5\",$B$8:$B$49,\"no\"),MAX(IF($C$8:$C$49=\"LP-5\",IF($B$8:$B$49=\"no\",$AT$8:$AT$49))))","v":0},{"$f":"IF($B$51=\"\",SUMIFS($AT$8:$AT$49,$C$8:M53,\"LP-5\",$B$8:$B$49,\"yes\"),MAX(IF($C$8:$C$49=\"LP-5\",IF($B$8:$B$49=\"yes\",$AT$8:$AT$49))))","v":0},{"$f":"IF($B$51=\"\",SUMIFS($AX$8:$AX$49,$C$8:E53,\"LP-5\",$B$8:$B$49,\"no\"),MAX(IF($C$8:$C$49=\"LP-5\",IF($B$8:$B$49=\"no\",$AX$8:$AX$49))))","v":0},{"$f":"IF($B$51=\"\",SUMIFS($AX$8:$AX$49,$C$8:O53,\"LP-5\",$B$8:$B$49,\"yes\"),MAX(IF($C$8:$C$49=\"LP-5\",IF($B$8:$B$49=\"yes\",$AX$8:$AX$49))))","v":0},{"$f":"IF($B$51=\"\",SUMIFS($BB$8:$BB$49,$C$8:E53,\"LP-5\",$B$8:$B$49,\"no\"),MAX(IF($C$8:$C$49=\"LP-5\",IF($B$8:$B$49=\"no\",$BB$8:$BB$49))))","v":0},{"$f":"IF($B$51=\"\",SUMIFS($BB$8:$BB$49,$C$8:Q53,\"LP-5\",$B$8:$B$49,\"yes\"),MAX(IF($C$8:$C$49=\"LP-5\",IF($B$8:$B$49=\"yes\",$BB$8:$BB$49))))","v":0}]
[null,null,null,null,null,null,null,null,null,null,null,null,null,null,null,null,null,null,null,null,null,null,null,null,"LP-6",{"$f":"IF(B56=\"\",SUMIFS($Z$8:$Z$49,$C$8:C54,\"LP-6\",$B$8:$B$49,\"no\"),MAX(IF($C$8:$C$49=\"LP-6\",IF($B$8:$B$49=\"no\",$Z$8:$Z$49))))","v":0},{"$f":"IF(B56=\"\",SUMIFS($Z$8:$Z$49,$C$8:D54,\"LP-6\",$B$8:$B$49,\"yes\"),MAX(IF($C$8:$C$49=\"LP-6\",IF($B$8:$B$49=\"yes\",$Z$8:$Z$49))))","v":0},{"$f":"IF($B$51=\"\",SUMIFS($AD$8:$AD$49,$C$8:E54,\"LP-6\",$B$8:$B$49,\"no\"),MAX(IF($C$8:$C$49=\"LP-6\",IF($B$8:$B$49=\"no\",$AD$8:$AD$49))))","v":0},{"$f":"IF($B$51=\"\",SUMIFS($AD$8:$AD$49,$C$8:E54,\"LP-6\",$B$8:$B$49,\"yes\"),MAX(IF($C$8:$C$49=\"LP-6\",IF($B$8:$B$49=\"yes\",$AD$8:$AD$49))))","v":0},{"$f":"IF($B$51=\"\",SUMIFS($AH$8:$AH$49,$C$8:E54,\"LP-6\",$B$8:$B$49,\"no\"),MAX(IF($C$8:$C$49=\"LP-6\",IF($B$8:$B$49=\"no\",$AH$8:$AH$49))))","v":0},{"$f":"IF($B$51=\"\",SUMIFS($AH$8:$AH$49,$C$8:G54,\"LP-6\",$B$8:$B$49,\"yes\"),MAX(IF($C$8:$C$49=\"LP-6\",IF($B$8:$B$49=\"yes\",$AH$8:$AH$49))))","v":0},{"$f":"IF($B$51=\"\",SUMIFS($AL$8:$AL$49,$C$8:E54,\"LP-6\",$B$8:$B$49,\"no\"),MAX(IF($C$8:$C$49=\"LP-6\",IF($B$8:$B$49=\"no\",$AL$8:$AL$49))))","v":0},{"$f":"IF($B$51=\"\",SUMIFS($AL$8:$AL$49,$C$8:I54,\"LP-6\",$B$8:$B$49,\"yes\"),MAX(IF($C$8:$C$49=\"LP-6\",IF($B$8:$B$49=\"yes\",$AL$8:$AL$49))))","v":0},{"$f":"IF($B$51=\"\",SUMIFS($AP$8:$AP$49,$C$8:E54,\"LP-6\",$B$8:$B$49,\"no\"),MAX(IF($C$8:$C$49=\"LP-6\",IF($B$8:$B$49=\"no\",$AP$8:$AP$49))))","v":0},{"$f":"IF($B$51=\"\",SUMIFS($AP$8:$AP$49,$C$8:K54,\"LP-6\",$B$8:$B$49,\"yes\"),MAX(IF($C$8:$C$49=\"LP-6\",IF($B$8:$B$49=\"yes\",$AP$8:$AP$49))))","v":0},{"$f":"IF($B$51=\"\",SUMIFS($AT$8:$AT$49,$C$8:E54,\"LP-6\",$B$8:$B$49,\"no\"),MAX(IF($C$8:$C$49=\"LP-6\",IF($B$8:$B$49=\"no\",$AT$8:$AT$49))))","v":0},{"$f":"IF($B$51=\"\",SUMIFS($AT$8:$AT$49,$C$8:M54,\"LP-6\",$B$8:$B$49,\"yes\"),MAX(IF($C$8:$C$49=\"LP-6\",IF($B$8:$B$49=\"yes\",$AT$8:$AT$49))))","v":0},{"$f":"IF($B$51=\"\",SUMIFS($AX$8:$AX$49,$C$8:E54,\"LP-6\",$B$8:$B$49,\"no\"),MAX(IF($C$8:$C$49=\"LP-6\",IF($B$8:$B$49=\"no\",$AX$8:$AX$49))))","v":0},{"$f":"IF($B$51=\"\",SUMIFS($AX$8:$AX$49,$C$8:O54,\"LP-6\",$B$8:$B$49,\"yes\"),MAX(IF($C$8:$C$49=\"LP-6\",IF($B$8:$B$49=\"yes\",$AX$8:$AX$49))))","v":0},{"$f":"IF($B$51=\"\",SUMIFS($BB$8:$BB$49,$C$8:E54,\"LP-6\",$B$8:$B$49,\"no\"),MAX(IF($C$8:$C$49=\"LP-6\",IF($B$8:$B$49=\"no\",$BB$8:$BB$49))))","v":0},{"$f":"IF($B$51=\"\",SUMIFS($BB$8:$BB$49,$C$8:Q54,\"LP-6\",$B$8:$B$49,\"yes\"),MAX(IF($C$8:$C$49=\"LP-6\",IF($B$8:$B$49=\"yes\",$BB$8:$BB$49))))","v":0}]
[null,null,null,null,null,null,null,null,null,null,null,null,null,null,null,null,null,null,null,null,null,null,null,null,"LP-7",{"$f":"IF(B57=\"\",SUMIFS($Z$8:$Z$49,$C$8:C55,\"LP-7\",$B$8:$B$49,\"no\"),MAX(IF($C$8:$C$49=\"LP-7\",IF($B$8:$B$49=\"no\",$Z$8:$Z$49))))","v":0},{"$f":"IF(B57=\"\",SUMIFS($Z$8:$Z$49,$C$8:D55,\"LP-7\",$B$8:$B$49,\"yes\"),MAX(IF($C$8:$C$49=\"LP-7\",IF($B$8:$B$49=\"yes\",$Z$8:$Z$49))))","v":0},{"$f":"IF($B$51=\"\",SUMIFS($AD$8:$AD$49,$C$8:E55,\"LP-7\",$B$8:$B$49,\"no\"),MAX(IF($C$8:$C$49=\"LP-7\",IF($B$8:$B$49=\"no\",$AD$8:$AD$49))))","v":0},{"$f":"IF($B$51=\"\",SUMIFS($AD$8:$AD$49,$C$8:E55,\"LP-7\",$B$8:$B$49,\"yes\"),MAX(IF($C$8:$C$49=\"LP-7\",IF($B$8:$B$49=\"yes\",$AD$8:$AD$49))))","v":0},{"$f":"IF($B$51=\"\",SUMIFS($AH$8:$AH$49,$C$8:E55,\"LP-7\",$B$8:$B$49,\"no\"),MAX(IF($C$8:$C$49=\"LP-7\",IF($B$8:$B$49=\"no\",$AH$8:$AH$49))))","v":0},{"$f":"IF($B$51=\"\",SUMIFS($AH$8:$AH$49,$C$8:G55,\"LP-7\",$B$8:$B$49,\"yes\"),MAX(IF($C$8:$C$49=\"LP-7\",IF($B$8:$B$49=\"yes\",$AH$8:$AH$49))))","v":0},{"$f":"IF($B$51=\"\",SUMIFS($AL$8:$AL$49,$C$8:E55,\"LP-7\",$B$8:$B$49,\"no\"),MAX(IF($C$8:$C$49=\"LP-7\",IF($B$8:$B$49=\"no\",$AL$8:$AL$49))))","v":0},{"$f":"IF($B$51=\"\",SUMIFS($AL$8:$AL$49,$C$8:I55,\"LP-7\",$B$8:$B$49,\"yes\"),MAX(IF($C$8:$C$49=\"LP-7\",IF($B$8:$B$49=\"yes\",$AL$8:$AL$49))))","v":0},{"$f":"IF($B$51=\"\",SUMIFS($AP$8:$AP$49,$C$8:E55,\"LP-7\",$B$8:$B$49,\"no\"),MAX(IF($C$8:$C$49=\"LP-7\",IF($B$8:$B$49=\"no\",$AP$8:$AP$49))))","v":0},{"$f":"IF($B$51=\"\",SUMIFS($AP$8:$AP$49,$C$8:K55,\"LP-7\",$B$8:$B$49,\"yes\"),MAX(IF($C$8:$C$49=\"LP-7\",IF($B$8:$B$49=\"yes\",$AP$8:$AP$49))))","v":0},{"$f":"IF($B$51=\"\",SUMIFS($AT$8:$AT$49,$C$8:E55,\"LP-7\",$B$8:$B$49,\"no\"),MAX(IF($C$8:$C$49=\"LP-7\",IF($B$8:$B$49=\"no\",$AT$8:$AT$49))))","v":0},{"$f":"IF($B$51=\"\",SUMIFS($AT$8:$AT$49,$C$8:M55,\"LP-7\",$B$8:$B$49,\"yes\"),MAX(IF($C$8:$C$49=\"LP-7\",IF($B$8:$B$49=\"yes\",$AT$8:$AT$49))))","v":0},{"$f":"IF($B$51=\"\",SUMIFS($AX$8:$AX$49,$C$8:E55,\"LP-7\",$B$8:$B$49,\"no\"),MAX(IF($C$8:$C$49=\"LP-7\",IF($B$8:$B$49=\"no\",$AX$8:$AX$49))))","v":0},{"$f":"IF($B$51=\"\",SUMIFS($AX$8:$AX$49,$C$8:O55,\"LP-7\",$B$8:$B$49,\"yes\"),MAX(IF($C$8:$C$49=\"LP-7\",IF($B$8:$B$49=\"yes\",$AX$8:$AX$49))))","v":0},{"$f":"IF($B$51=\"\",SUMIFS($BB$8:$BB$49,$C$8:E55,\"LP-7\",$B$8:$B$49,\"no\"),MAX(IF($C$8:$C$49=\"LP-7\",IF($B$8:$B$49=\"no\",$BB$8:$BB$49))))","v":0},{"$f":"IF($B$51=\"\",SUMIFS($BB$8:$BB$49,$C$8:Q55,\"LP-7\",$B$8:$B$49,\"yes\"),MAX(IF($C$8:$C$49=\"LP-7\",IF($B$8:$B$49=\"yes\",$BB$8:$BB$49))))","v":0}]
[null,null,null,null,null,null,null,null,null,null,null,null,null,null,null,null,null,null,null,null,null,null,null,null,"LP-8",{"$f":"IF(B58=\"\",SUMIFS($Z$8:$Z$49,$C$8:C56,\"LP-8\",$B$8:$B$49,\"no\"),MAX(IF($C$8:$C$49=\"LP-8\",IF($B$8:$B$49=\"no\",$Z$8:$Z$49))))","v":0},{"$f":"IF(B58=\"\",SUMIFS($Z$8:$Z$49,$C$8:D56,\"LP-8\",$B$8:$B$49,\"yes\"),MAX(IF($C$8:$C$49=\"LP-8\",IF($B$8:$B$49=\"yes\",$Z$8:$Z$49))))","v":0},{"$f":"IF($B$51=\"\",SUMIFS($AD$8:$AD$49,$C$8:E56,\"LP-8\",$B$8:$B$49,\"no\"),MAX(IF($C$8:$C$49=\"LP-8\",IF($B$8:$B$49=\"no\",$AD$8:$AD$49))))","v":0},{"$f":"IF($B$51=\"\",SUMIFS($AD$8:$AD$49,$C$8:E56,\"LP-8\",$B$8:$B$49,\"yes\"),MAX(IF($C$8:$C$49=\"LP-8\",IF($B$8:$B$49=\"yes\",$AD$8:$AD$49))))","v":0},{"$f":"IF($B$51=\"\",SUMIFS($AH$8:$AH$49,$C$8:E56,\"LP-8\",$B$8:$B$49,\"no\"),MAX(IF($C$8:$C$49=\"LP-8\",IF($B$8:$B$49=\"no\",$AH$8:$AH$49))))","v":0},{"$f":"IF($B$51=\"\",SUMIFS($AH$8:$AH$49,$C$8:G56,\"LP-8\",$B$8:$B$49,\"yes\"),MAX(IF($C$8:$C$49=\"LP-8\",IF($B$8:$B$49=\"yes\",$AH$8:$AH$49))))","v":0},{"$f":"IF($B$51=\"\",SUMIFS($AL$8:$AL$49,$C$8:E56,\"LP-8\",$B$8:$B$49,\"no\"),MAX(IF($C$8:$C$49=\"LP-8\",IF($B$8:$B$49=\"no\",$AL$8:$AL$49))))","v":0},{"$f":"IF($B$51=\"\",SUMIFS($AL$8:$AL$49,$C$8:I56,\"LP-8\",$B$8:$B$49,\"yes\"),MAX(IF($C$8:$C$49=\"LP-8\",IF($B$8:$B$49=\"yes\",$AL$8:$AL$49))))","v":0},{"$f":"IF($B$51=\"\",SUMIFS($AP$8:$AP$49,$C$8:E56,\"LP-8\",$B$8:$B$49,\"no\"),MAX(IF($C$8:$C$49=\"LP-8\",IF($B$8:$B$49=\"no\",$AP$8:$AP$49))))","v":0},{"$f":"IF($B$51=\"\",SUMIFS($AP$8:$AP$49,$C$8:K56,\"LP-8\",$B$8:$B$49,\"yes\"),MAX(IF($C$8:$C$49=\"LP-8\",IF($B$8:$B$49=\"yes\",$AP$8:$AP$49))))","v":0},{"$f":"IF($B$51=\"\",SUMIFS($AT$8:$AT$49,$C$8:E56,\"LP-8\",$B$8:$B$49,\"no\"),MAX(IF($C$8:$C$49=\"LP-8\",IF($B$8:$B$49=\"no\",$AT$8:$AT$49))))","v":0},{"$f":"IF($B$51=\"\",SUMIFS($AT$8:$AT$49,$C$8:M56,\"LP-8\",$B$8:$B$49,\"yes\"),MAX(IF($C$8:$C$49=\"LP-8\",IF($B$8:$B$49=\"yes\",$AT$8:$AT$49))))","v":0},{"$f":"IF($B$51=\"\",SUMIFS($AX$8:$AX$49,$C$8:E56,\"LP-8\",$B$8:$B$49,\"no\"),MAX(IF($C$8:$C$49=\"LP-8\",IF($B$8:$B$49=\"no\",$AX$8:$AX$49))))","v":0},{"$f":"IF($B$51=\"\",SUMIFS($AX$8:$AX$49,$C$8:O56,\"LP-8\",$B$8:$B$49,\"yes\"),MAX(IF($C$8:$C$49=\"LP-8\",IF($B$8:$B$49=\"yes\",$AX$8:$AX$49))))","v":0},{"$f":"IF($B$51=\"\",SUMIFS($BB$8:$BB$49,$C$8:E56,\"LP-8\",$B$8:$B$49,\"no\"),MAX(IF($C$8:$C$49=\"LP-8\",IF($B$8:$B$49=\"no\",$BB$8:$BB$49))))","v":0},{"$f":"IF($B$51=\"\",SUMIFS($BB$8:$BB$49,$C$8:Q56,\"LP-8\",$B$8:$B$49,\"yes\"),MAX(IF($C$8:$C$49=\"LP-8\",IF($B$8:$B$49=\"yes\",$BB$8:$BB$49))))","v":0}]
[null,null,null,null,null,null,null,null,null,null,null,null,null,null,null,null,null,null,null,null,null,null,null,null,"LP-9",{"$f":"IF(B59=\"\",SUMIFS($Z$8:$Z$49,$C$8:C57,\"LP-9\",$B$8:$B$49,\"no\"),MAX(IF($C$8:$C$49=\"LP-9\",IF($B$8:$B$49=\"no\",$Z$8:$Z$49))))","v":0},{"$f":"IF(B59=\"\",SUMIFS($Z$8:$Z$49,$C$8:D57,\"LP-9\",$B$8:$B$49,\"yes\"),MAX(IF($C$8:$C$49=\"LP-9\",IF($B$8:$B$49=\"yes\",$Z$8:$Z$49))))","v":0},{"$f":"IF($B$51=\"\",SUMIFS($AD$8:$AD$49,$C$8:E57,\"LP-9\",$B$8:$B$49,\"no\"),MAX(IF($C$8:$C$49=\"LP-9\",IF($B$8:$B$49=\"no\",$AD$8:$AD$49))))","v":0},{"$f":"IF($B$51=\"\",SUMIFS($AD$8:$AD$49,$C$8:E57,\"LP-9\",$B$8:$B$49,\"yes\"),MAX(IF($C$8:$C$49=\"LP-9\",IF($B$8:$B$49=\"yes\",$AD$8:$AD$49))))","v":0},{"$f":"IF($B$51=\"\",SUMIFS($AH$8:$AH$49,$C$8:E57,\"LP-9\",$B$8:$B$49,\"no\"),MAX(IF($C$8:$C$49=\"LP-9\",IF($B$8:$B$49=\"no\",$AH$8:$AH$49))))","v":0},{"$f":"IF($B$51=\"\",SUMIFS($AH$8:$AH$49,$C$8:G57,\"LP-9\",$B$8:$B$49,\"yes\"),MAX(IF($C$8:$C$49=\"LP-9\",IF($B$8:$B$49=\"yes\",$AH$8:$AH$49))))","v":0},{"$f":"IF($B$51=\"\",SUMIFS($AL$8:$AL$49,$C$8:E57,\"LP-9\",$B$8:$B$49,\"no\"),MAX(IF($C$8:$C$49=\"LP-9\",IF($B$8:$B$49=\"no\",$AL$8:$AL$49))))","v":0},{"$f":"IF($B$51=\"\",SUMIFS($AL$8:$AL$49,$C$8:I57,\"LP-9\",$B$8:$B$49,\"yes\"),MAX(IF($C$8:$C$49=\"LP-9\",IF($B$8:$B$49=\"yes\",$AL$8:$AL$49))))","v":0},{"$f":"IF($B$51=\"\",SUMIFS($AP$8:$AP$49,$C$8:E57,\"LP-9\",$B$8:$B$49,\"no\"),MAX(IF($C$8:$C$49=\"LP-9\",IF($B$8:$B$49=\"no\",$AP$8:$AP$49))))","v":0},{"$f":"IF($B$51=\"\",SUMIFS($AP$8:$AP$49,$C$8:K57,\"LP-9\",$B$8:$B$49,\"yes\"),MAX(IF($C$8:$C$49=\"LP-9\",IF($B$8:$B$49=\"yes\",$AP$8:$AP$49))))","v":0},{"$f":"IF($B$51=\"\",SUMIFS($AT$8:$AT$49,$C$8:E57,\"LP-9\",$B$8:$B$49,\"no\"),MAX(IF($C$8:$C$49=\"LP-9\",IF($B$8:$B$49=\"no\",$AT$8:$AT$49))))","v":0},{"$f":"IF($B$51=\"\",SUMIFS($AT$8:$AT$49,$C$8:M57,\"LP-9\",$B$8:$B$49,\"yes\"),MAX(IF($C$8:$C$49=\"LP-9\",IF($B$8:$B$49=\"yes\",$AT$8:$AT$49))))","v":0},{"$f":"IF($B$51=\"\",SUMIFS($AX$8:$AX$49,$C$8:E57,\"LP-9\",$B$8:$B$49,\"no\"),MAX(IF($C$8:$C$49=\"LP-9\",IF($B$8:$B$49=\"no\",$AX$8:$AX$49))))","v":0},{"$f":"IF($B$51=\"\",SUMIFS($AX$8:$AX$49,$C$8:O57,\"LP-9\",$B$8:$B$49,\"yes\"),MAX(IF($C$8:$C$49=\"LP-9\",IF($B$8:$B$49=\"yes\",$AX$8:$AX$49))))","v":0},{"$f":"IF($B$51=\"\",SUMIFS($BB$8:$BB$49,$C$8:E57,\"LP-9\",$B$8:$B$49,\"no\"),MAX(IF($C$8:$C$49=\"LP-9\",IF($B$8:$B$49=\"no\",$BB$8:$BB$49))))","v":0},{"$f":"IF($B$51=\"\",SUMIFS($BB$8:$BB$49,$C$8:Q57,\"LP-9\",$B$8:$B$49,\"yes\"),MAX(IF($C$8:$C$49=\"LP-9\",IF($B$8:$B$49=\"yes\",$BB$8:$BB$49))))","v":0}]
[null,null,null,null,null,null,null,null,null,null,null,null,null,null,null,null,null,null,null,null,null,null,null,null,"LP-10",{"$f":"IF(B60=\"\",SUMIFS($Z$8:$Z$49,$C$8:C58,\"LP-10\",$B$8:$B$49,\"no\"),MAX(IF($C$8:$C$49=\"LP-10\",IF($B$8:$B$49=\"no\",$Z$8:$Z$49))))","v":0},{"$f":"IF(B60=\"\",SUMIFS($Z$8:$Z$49,$C$8:D58,\"LP-10\",$B$8:$B$49,\"yes\"),MAX(IF($C$8:$C$49=\"LP-10\",IF($B$8:$B$49=\"yes\",$Z$8:$Z$49))))","v":0},{"$f":"IF($B$51=\"\",SUMIFS($AD$8:$AD$49,$C$8:E58,\"LP-10\",$B$8:$B$49,\"no\"),MAX(IF($C$8:$C$49=\"LP-10\",IF($B$8:$B$49=\"no\",$AD$8:$AD$49))))","v":0},{"$f":"IF($B$51=\"\",SUMIFS($AD$8:$AD$49,$C$8:E58,\"LP-10\",$B$8:$B$49,\"yes\"),MAX(IF($C$8:$C$49=\"LP-10\",IF($B$8:$B$49=\"yes\",$AD$8:$AD$49))))","v":0},{"$f":"IF($B$51=\"\",SUMIFS($AH$8:$AH$49,$C$8:E58,\"LP-10\",$B$8:$B$49,\"no\"),MAX(IF($C$8:$C$49=\"LP-10\",IF($B$8:$B$49=\"no\",$AH$8:$AH$49))))","v":0},{"$f":"IF($B$51=\"\",SUMIFS($AH$8:$AH$49,$C$8:G58,\"LP-10\",$B$8:$B$49,\"yes\"),MAX(IF($C$8:$C$49=\"LP-10\",IF($B$8:$B$49=\"yes\",$AH$8:$AH$49))))","v":0},{"$f":"IF($B$51=\"\",SUMIFS($AL$8:$AL$49,$C$8:E58,\"LP-10\",$B$8:$B$49,\"no\"),MAX(IF($C$8:$C$49=\"LP-10\",IF($B$8:$B$49=\"no\",$AL$8:$AL$49))))","v":0},{"$f":"IF($B$51=\"\",SUMIFS($AL$8:$AL$49,$C$8:I58,\"LP-10\",$B$8:$B$49,\"yes\"),MAX(IF($C$8:$C$49=\"LP-10\",IF($B$8:$B$49=\"yes\",$AL$8:$AL$49))))","v":0},{"$f":"IF($B$51=\"\",SUMIFS($AP$8:$AP$49,$C$8:E58,\"LP-10\",$B$8:$B$49,\"no\"),MAX(IF($C$8:$C$49=\"LP-10\",IF($B$8:$B$49=\"no\",$AP$8:$AP$49))))","v":0},{"$f":"IF($B$51=\"\",SUMIFS($AP$8:$AP$49,$C$8:K58,\"LP-10\",$B$8:$B$49,\"yes\"),MAX(IF($C$8:$C$49=\"LP-10\",IF($B$8:$B$49=\"yes\",$AP$8:$AP$49))))","v":0},{"$f":"IF($B$51=\"\",SUMIFS($AT$8:$AT$49,$C$8:E58,\"LP-10\",$B$8:$B$49,\"no\"),MAX(IF($C$8:$C$49=\"LP-10\",IF($B$8:$B$49=\"no\",$AT$8:$AT$49))))","v":0},{"$f":"IF($B$51=\"\",SUMIFS($AT$8:$AT$49,$C$8:M58,\"LP-10\",$B$8:$B$49,\"yes\"),MAX(IF($C$8:$C$49=\"LP-10\",IF($B$8:$B$49=\"yes\",$AT$8:$AT$49))))","v":0},{"$f":"IF($B$51=\"\",SUMIFS($AX$8:$AX$49,$C$8:E58,\"LP-10\",$B$8:$B$49,\"no\"),MAX(IF($C$8:$C$49=\"LP-10\",IF($B$8:$B$49=\"no\",$AX$8:$AX$49))))","v":0},{"$f":"IF($B$51=\"\",SUMIFS($AX$8:$AX$49,$C$8:O58,\"LP-10\",$B$8:$B$49,\"yes\"),MAX(IF($C$8:$C$49=\"LP-10\",IF($B$8:$B$49=\"yes\",$AX$8:$AX$49))))","v":0},{"$f":"IF($B$51=\"\",SUMIFS($BB$8:$BB$49,$C$8:E58,\"LP-10\",$B$8:$B$49,\"no\"),MAX(IF($C$8:$C$49=\"LP-10\",IF($B$8:$B$49=\"no\",$BB$8:$BB$49))))","v":0},{"$f":"IF($B$51=\"\",SUMIFS($BB$8:$BB$49,$C$8:Q58,\"LP-10\",$B$8:$B$49,\"yes\"),MAX(IF($C$8:$C$49=\"LP-10\",IF($B$8:$B$49=\"yes\",$BB$8:$BB$49))))","v":0}]
[]
[null,null,null,null,null,null,null,null,null,null,null,null,null,null,null,null,null,null,null,null,null,null,null,null,null,{"$f":"SUM(IF($B$51>0,IF(Z66>AA66,Z66,0),SUM(Z66,AA66)),IF($B$52>0,IF(Z67>AA67,Z67,0),SUM(Z67,AA67)),IF($B$53>0,IF(Z68>AA68,Z68,0),SUM(Z68,AA68)),IF($B$54>0,IF(Z69>AA69,Z69,0),SUM(Z69,AA69)),IF($B$54>0,IF(Z70>AA70,Z70,0),SUM(Z70,AA70)),IF($B$55>0,IF(Z71>AA71,Z71,0),SUM(Z71,AA71)),IF($B$56>0,IF(Z72>AA72,Z72,0),SUM(Z72,AA72)),IF($B$57>0,IF(Z73>AA73,Z73,0),SUM(Z73,AA73)),IF($B$58>0,IF(Z74>AA74,Z74,0),SUM(Z74,AA74)),IF($B$59>0,IF(Z75>AA75,Z75,0),SUM(Z75,AA75)))","v":0},{"$f":"SUM(IF($B$51>0,IF(Z66<AA66,AA66,0),SUM(Z66,AA66)),IF($B$52>0,IF(Z67<AA67,AA67,0),SUM(Z67,AA67)),IF($B$53>0,IF(Z68<AA68,AA68,0),SUM(Z68,AA68)),IF($B$54>0,IF(Z69<AA69,AA69,0),SUM(Z69,AA69)),IF($B$54>0,IF(Z70<AA70,AA70,0),SUM(Z70,AA70)),IF($B$55>0,IF(Z71<AA71,AA71,0),SUM(Z71,AA71)),IF($B$56>0,IF(Z72<AA72,AA72,0),SUM(Z72,AA72)),IF($B$57>0,IF(Z73<AA73,AA73,0),SUM(Z73,AA73)),IF($B$58>0,IF(Z74<AA74,AA74,0),SUM(Z74,AA74)),IF($B$59>0,IF(Z75<AA75,AA75,0),SUM(Z75,AA75)))","v":0},{"$f":"SUM(IF($B$51>0,IF(AB66>AC66,AB66,0),SUM(AB66,AC66)),IF($B$52>0,IF(AB67>AC67,AB67,0),SUM(AB67,AC67)),IF($B$53>0,IF(AB68>AC68,AB68,0),SUM(AB68,AC68)),IF($B$54>0,IF(AB69>AC69,AB69,0),SUM(AB69,AC69)),IF($B$54>0,IF(AB70>AC70,AB70,0),SUM(AB70,AC70)),IF($B$55>0,IF(AB71>AC71,AB71,0),SUM(AB71,AC71)),IF($B$56>0,IF(AB72>AC72,AB72,0),SUM(AB72,AC72)),IF($B$57>0,IF(AB73>AC73,AB73,0),SUM(AB73,AC73)),IF($B$58>0,IF(AB74>AC74,AB74,0),SUM(AB74,AC74)),IF($B$59>0,IF(AB75>AC75,AB75,0),SUM(AB75,AC75)))","v":0},{"$f":"SUM(IF($B$51>0,IF(AB66<AC66,AC66,0),SUM(AB66,AC66)),IF($B$52>0,IF(AB67<AC67,AC67,0),SUM(AB67,AC67)),IF($B$53>0,IF(AB68<AC68,AC68,0),SUM(AB68,AC68)),IF($B$54>0,IF(AB69<AC69,AC69,0),SUM(AB69,AC69)),IF($B$54>0,IF(AB70<AC70,AC70,0),SUM(AB70,AC70)),IF($B$55>0,IF(AB71<AC71,AC71,0),SUM(AB71,AC71)),IF($B$56>0,IF(AB72<AC72,AC72,0),SUM(AB72,AC72)),IF($B$57>0,IF(AB73<AC73,AC73,0),SUM(AB73,AC73)),IF($B$58>0,IF(AB74<AC74,AC74,0),SUM(AB74,AC74)),IF($B$59>0,IF(AB75<AC75,AC75,0),SUM(AB75,AC75)))","v":0},{"$f":"SUM(IF($B$51>0,IF(AD66>AE66,AD66,0),SUM(AD66,AE66)),IF($B$52>0,IF(AD67>AE67,AD67,0),SUM(AD67,AE67)),IF($B$53>0,IF(AD68>AE68,AD68,0),SUM(AD68,AE68)),IF($B$54>0,IF(AD69>AE69,AD69,0),SUM(AD69,AE69)),IF($B$54>0,IF(AD70>AE70,AD70,0),SUM(AD70,AE70)),IF($B$55>0,IF(AD71>AE71,AD71,0),SUM(AD71,AE71)),IF($B$56>0,IF(AD72>AE72,AD72,0),SUM(AD72,AE72)),IF($B$57>0,IF(AD73>AE73,AD73,0),SUM(AD73,AE73)),IF($B$58>0,IF(AD74>AE74,AD74,0),SUM(AD74,AE74)),IF($B$59>0,IF(AD75>AE75,AD75,0),SUM(AD75,AE75)))","v":0},{"$f":"SUM(IF($B$51>0,IF(AD66<AE66,AE66,0),SUM(AD66,AE66)),IF($B$52>0,IF(AD67<AE67,AE67,0),SUM(AD67,AE67)),IF($B$53>0,IF(AD68<AE68,AE68,0),SUM(AD68,AE68)),IF($B$54>0,IF(AD69<AE69,AE69,0),SUM(AD69,AE69)),IF($B$54>0,IF(AD70<AE70,AE70,0),SUM(AD70,AE70)),IF($B$55>0,IF(AD71<AE71,AE71,0),SUM(AD71,AE71)),IF($B$56>0,IF(AD72<AE72,AE72,0),SUM(AD72,AE72)),IF($B$57>0,IF(AD73<AE73,AE73,0),SUM(AD73,AE73)),IF($B$58>0,IF(AD74<AE74,AE74,0),SUM(AD74,AE74)),IF($B$59>0,IF(AD75<AE75,AE75,0),SUM(AD75,AE75)))","v":0},0,{"$f":"SUM(IF($B$51>0,IF(AF66<AG66,AG66,0),SUM(AF66,AG66)),IF($B$52>0,IF(AF67<AG67,AG67,0),SUM(AF67,AG67)),IF($B$53>0,IF(AF68<AG68,AG68,0),SUM(AF68,AG68)),IF($B$54>0,IF(AF69<AG69,AG69,0),SUM(AF69,AG69)),IF($B$54>0,IF(AF70<AG70,AG70,0),SUM(AF70,AG70)),IF($B$55>0,IF(AF71<AG71,AG71,0),SUM(AF71,AG71)),IF($B$56>0,IF(AF72<AG72,AG72,0),SUM(AF72,AG72)),IF($B$57>0,IF(AF73<AG73,AG73,0),SUM(AF73,AG73)),IF($B$58>0,IF(AF74<AG74,AG74,0),SUM(AF74,AG74)),IF($B$59>0,IF(AF75<AG75,AG75,0),SUM(AF75,AG75)))","v":0},0,{"$f":"SUM(IF($B$51>0,IF(AH66<AI66,AI66,0),SUM(AH66,AI66)),IF($B$52>0,IF(AH67<AI67,AI67,0),SUM(AH67,AI67)),IF($B$53>0,IF(AH68<AI68,AI68,0),SUM(AH68,AI68)),IF($B$54>0,IF(AH69<AI69,AI69,0),SUM(AH69,AI69)),IF($B$54>0,IF(AH70<AI70,AI70,0),SUM(AH70,AI70)),IF($B$55>0,IF(AH71<AI71,AI71,0),SUM(AH71,AI71)),IF($B$56>0,IF(AH72<AI72,AI72,0),SUM(AH72,AI72)),IF($B$57>0,IF(AH73<AI73,AI73,0),SUM(AH73,AI73)),IF($B$58>0,IF(AH74<AI74,AI74,0),SUM(AH74,AI74)),IF($B$59>0,IF(AH75<AI75,AI75,0),SUM(AH75,AI75)))","v":0},0,{"$f":"SUM(IF($B$51>0,IF(AJ66<AK66,AK66,0),SUM(AJ66,AK66)),IF($B$52>0,IF(AJ67<AK67,AK67,0),SUM(AJ67,AK67)),IF($B$53>0,IF(AJ68<AK68,AK68,0),SUM(AJ68,AK68)),IF($B$54>0,IF(AJ69<AK69,AK69,0),SUM(AJ69,AK69)),IF($B$54>0,IF(AJ70<AK70,AK70,0),SUM(AJ70,AK70)),IF($B$55>0,IF(AJ71<AK71,AK71,0),SUM(AJ71,AK71)),IF($B$56>0,IF(AJ72<AK72,AK72,0),SUM(AJ72,AK72)),IF($B$57>0,IF(AJ73<AK73,AK73,0),SUM(AJ73,AK73)),IF($B$58>0,IF(AJ74<AK74,AK74,0),SUM(AJ74,AK74)),IF($B$59>0,IF(AJ75<AK75,AK75,0),SUM(AJ75,AK75)))","v":0},0,{"$f":"SUM(IF($B$51>0,IF(AL66<AM66,AM66,0),SUM(AL66,AM66)),IF($B$52>0,IF(AL67<AM67,AM67,0),SUM(AL67,AM67)),IF($B$53>0,IF(AL68<AM68,AM68,0),SUM(AL68,AM68)),IF($B$54>0,IF(AL69<AM69,AM69,0),SUM(AL69,AM69)),IF($B$54>0,IF(AL70<AM70,AM70,0),SUM(AL70,AM70)),IF($B$55>0,IF(AL71<AM71,AM71,0),SUM(AL71,AM71)),IF($B$56>0,IF(AL72<AM72,AM72,0),SUM(AL72,AM72)),IF($B$57>0,IF(AL73<AM73,AM73,0),SUM(AL73,AM73)),IF($B$58>0,IF(AL74<AM74,AM74,0),SUM(AL74,AM74)),IF($B$59>0,IF(AL75<AM75,AM75,0),SUM(AL75,AM75)))","v":0},0,{"$f":"SUM(IF($B$51>0,IF(AN66<AO66,AO66,0),SUM(AN66,AO66)),IF($B$52>0,IF(AN67<AO67,AO67,0),SUM(AN67,AO67)),IF($B$53>0,IF(AN68<AO68,AO68,0),SUM(AN68,AO68)),IF($B$54>0,IF(AN69<AO69,AO69,0),SUM(AN69,AO69)),IF($B$54>0,IF(AN70<AO70,AO70,0),SUM(AN70,AO70)),IF($B$55>0,IF(AN71<AO71,AO71,0),SUM(AN71,AO71)),IF($B$56>0,IF(AN72<AO72,AO72,0),SUM(AN72,AO72)),IF($B$57>0,IF(AN73<AO73,AO73,0),SUM(AN73,AO73)),IF($B$58>0,IF(AN74<AO74,AO74,0),SUM(AN74,AO74)),IF($B$59>0,IF(AN75<AO75,AO75,0),SUM(AN75,AO75)))","v":0}]

{"sheet":"Emission Calculations","index":13,"n_rows":65,"n_cols":13,"rows_kept":65,"cut":false,"hidden":false,"merged":[[0,0,0,3],[38,8,40,8],[20,10,22,10],[38,10,40,10],[39,9,40,9],[21,3,22,3],[21,7,22,7],[39,7,40,7],[20,8,22,8],[21,6,22,6],[3,4,4,4],[21,0,22,0],[21,1,22,1],[21,2,22,2],[3,7,4,7],[3,5,4,5],[38,11,40,11],[38,12,40,12],[2,10,4,10],[3,9,4,9],[2,11,4,11],[2,12,4,12],[20,11,22,11],[21,9,22,9],[20,12,22,12],[57,0,57,1],[61,0,61,1],[49,0,49,1],[2,8,4,8],[3,6,4,6],[39,6,40,6],[44,3,44,4],[2,0,2,1],[20,0,20,1],[41,0,41,1],[39,4,40,4],[39,0,40,0],[39,1,40,1],[39,2,40,2],[3,1,4,1],[21,4,22,4],[39,5,40,5],[45,0,45,1],[39,3,40,3],[3,3,4,3],[53,0,53,1],[21,5,22,5],[3,0,4,0],[3,2,4,2]]}
["FACILITY-WIDE EMISSION CALCULATIONS"]
["**As of 2016 Potential Emission are no longer required to be reported in the Minor Source Emission Inventory**"]
["PM2. 5",null,null,null,null,null,null,null,"Potential Hourly Uncontrolled Emissions(lb/hr)",null,"Potential Hourly Controlled Emissions (lb/hr)","Potential Annual Emissions (tons/yr)","Actual Emissions (tons/yr)"]
["EP","Description of Process","SCC #","Max Design Rate","Units of Measure","Emission Factor","Units of Measure","Source of      Emission Factor",null,"Control Efficiency"]
[]
[{"$f":"IF(SUM('Limestone Plant (LP-1)'!N20,'Limestone Plant (LP-2)'!N20,'Limestone Plant (LP-3)'!N20,'Limestone Plant (LP-4)'!N20,'Limestone Plant (LP-5)'!N20,'Limestone Plant (LP-6)'!N20,'Limestone Plant (LP-7)'!N20,'Limestone Plant (LP-8)'!N20,'Limestone Plant (LP-9)'!N20,'Limestone Plant (LP-10)'!N20)>0,\"ALL\",\"\")","v":""},{"$f":"IF(SUM('Limestone Plant (LP-1)'!N20,'Limestone Plant (LP-2)'!N20,'Limestone Plant (LP-3)'!N20,'Limestone Plant (LP-4)'!N20,'Limestone Plant (LP-5)'!N20,'Limestone Plant (LP-6)'!N20,'Limestone Plant (LP-7)'!N20,'Limestone Plant (LP-8)'!N20,'Limestone Plant (LP-9)'!N20,'Limestone Plant (LP-10)'!N20)>0,\"Primary Crusher\",\"\")","v":""},{"$f":"IF(SUM('Limestone Plant (LP-1)'!N20,'Limestone Plant (LP-2)'!N20,'Limestone Plant (LP-3)'!N20,'Limestone Plant (LP-4)'!N20,'Limestone Plant (LP-5)'!N20,'Limestone Plant (LP-6)'!N20,'Limestone Plant (LP-7)'!N20,'Limestone Plant (LP-8)'!N20,'Limestone Plant (LP-9)'!N20,'Limestone Plant (LP-10)'!N20)>0,\"30502001\",\"\")","v":""},{"$f":"IF(SUM('Limestone Plant (LP-1)'!N20,'Limestone Plant (LP-2)'!N20,'Limestone Plant (LP-3)'!N20,'Limestone Plant (LP-4)'!N20,'Limestone Plant (LP-5)'!N20,'Limestone Plant (LP-6)'!N20,'Limestone Plant (LP-7)'!N20,'Limestone Plant (LP-8)'!N20,'Limestone Plant (LP-9)'!N20,'Limestone Plant (LP-10)'!N20)>0,SUM('Limestone Plant (LP-1)'!N20,'Limestone Plant (LP-2)'!N20,'Limestone Plant (LP-3)'!N20,'Limestone Plant (LP-4)'!N20,'Limestone Plant (LP-5)'!N20,'Limestone Plant (LP-6)'!N20,'Limestone Plant (LP-7)'!N20,'Limestone Plant (LP-8)'!N20,'Limestone Plant (LP-9)'!N20,'Limestone Plant (LP-10)'!N20),\"\")","v":""},{"$f":"IF(B6=\"\",\"\",\"tons/hr\")","v":""},{"$f":"IF(B6=\"\",\"\",MAX('Limestone Plant (LP-1)'!O20,'Limestone Plant (LP-2)'!O20,'Limestone Plant (LP-3)'!O20,'Limestone Plant (LP-4)'!O20,'Limestone Plant (LP-5)'!O20,'Limestone Plant (LP-6)'!O20,'Limestone Plant (LP-7)'!O20,'Limestone Plant (LP-8)'!O20,'Limestone Plant (LP-9)'!O20,'Limestone Plant (LP-10)'!O20))","v":""},{"$f":"IF(B6=\"\",\"\",\"lb/ton\")","v":""},{"$f":"IF(F6=\"\",\"\",\"AP-42 Table 11.19.2-2\")","v":""},{"$f":"IF(SUM('Limestone Plant (LP-1)'!P20,'Limestone Plant (LP-2)'!P20,'Limestone Plant (LP-3)'!P20,'Limestone Plant (LP-4)'!P20,'Limestone Plant (LP-5)'!P20,'Limestone Plant (LP-6)'!P20,'Limestone Plant (LP-7)'!P20,'Limestone Plant (LP-8)'!P20,'Limestone Plant (LP-9)'!P20,'Limestone Plant (LP-10)'!P20)>0,SUM('Limestone Plant (LP-1)'!P20,'Limestone Plant (LP-2)'!P20,'Limestone Plant (LP-3)'!P20,'Limestone Plant (LP-4)'!P20,'Limestone Plant (LP-5)'!P20,'Limestone Plant (LP-6)'!P20,'Limestone Plant (LP-7)'!P20,'Limestone Plant (LP-8)'!P20,'Limestone Plant (LP-9)'!P20,'Limestone Plant (LP-10)'!P20),\"\")","v":""},null,{"$f":"IF(D6=\"\",\"\",IF(SUM('Limestone Plant (LP-1)'!Q20,'Limestone Plant (LP-2)'!Q20,'Limestone Plant (LP-3)'!Q20,'Limestone Plant (LP-4)'!Q20,'Limestone Plant (LP-5)'!Q20,'Limestone Plant (LP-6)'!Q20,'Limestone Plant (LP-7)'!Q20,'Limestone Plant (LP-8)'!Q20,'Limestone Plant (LP-9)'!Q20,'Limestone Plant (LP-10)'!Q20)>0,SUM('Limestone Plant (LP-1)'!Q20,'Limestone Plant (LP-2)'!Q20,'Limestone Plant (LP-3)'!Q20,'Limestone Plant (LP-4)'!Q20,'Limestone Plant (LP-5)'!Q20,'Limestone Plant (LP-6)'!Q20,'Limestone Plant (LP-7)'!Q20,'Limestone Plant (LP-8)'!Q20,'Limestone Plant (LP-9)'!Q20,'Limestone Plant (LP-10)'!Q20),\"\"))","v":""},{"$f":"IF(B6=\"\",\"\",SUM('Limestone Plant (LP-1)'!R20,'Limestone Plant (LP-2)'!R20,'Limestone Plant (LP-3)'!R20,'Limestone Plant (LP-4)'!R20,'Limestone Plant (LP-5)'!R20,'Limestone Plant (LP-6)'!R20,'Limestone Plant (LP-7)'!R20,'Limestone Plant (LP-8)'!R20,'Limestone Plant (LP-9)'!R20,'Limestone Plant (LP-10)'!R20))","v":""},{"$f":"IF(B6=\"\",\"\",SUM('Limestone Plant (LP-1)'!S20,'Limestone Plant (LP-2)'!S20,'Limestone Plant (LP-3)'!S20,'Limestone Plant (LP-4)'!S20,'Limestone Plant (LP-5)'!S20,'Limestone Plant (LP-6)'!S20,'Limestone Plant (LP-7)'!S20,'Limestone Plant (LP-8)'!S20,'Limestone Plant (LP-9)'!S20,'Limestone Plant (LP-10)'!S20))","v":""}]
[{"$f":"IF(SUM('Limestone Plant (LP-1)'!N21,'Limestone Plant (LP-2)'!N21,'Limestone Plant (LP-3)'!N21,'Limestone Plant (LP-4)'!N21,'Limestone Plant (LP-5)'!N21,'Limestone Plant (LP-6)'!N21,'Limestone Plant (LP-7)'!N21,'Limestone Plant (LP-8)'!N21,'Limestone Plant (LP-9)'!N21,'Limestone Plant (LP-10)'!N21)>0,\"ALL\",\"\")","v":""},{"$f":"IF(SUM('Limestone Plant (LP-1)'!N21,'Limestone Plant (LP-2)'!N21,'Limestone Plant (LP-3)'!N21,'Limestone Plant (LP-4)'!N21,'Limestone Plant (LP-5)'!N21,'Limestone Plant (LP-6)'!N21,'Limestone Plant (LP-7)'!N21,'Limestone Plant (LP-8)'!N21,'Limestone Plant (LP-9)'!N21,'Limestone Plant (LP-10)'!N21)>0,\"Screening\",\"\")","v":""},{"$f":"IF(SUM('Limestone Plant (LP-1)'!N21,'Limestone Plant (LP-2)'!N21,'Limestone Plant (LP-3)'!N21,'Limestone Plant (LP-4)'!N21,'Limestone Plant (LP-5)'!N21,'Limestone Plant (LP-6)'!N21,'Limestone Plant (LP-7)'!N21,'Limestone Plant (LP-8)'!N21,'Limestone Plant (LP-9)'!N21,'Limestone Plant (LP-10)'!N21)>0,\"30502004\",\"\")","v":""},{"$f":"IF(SUM('Limestone Plant (LP-1)'!N21,'Limestone Plant (LP-2)'!N21,'Limestone Plant (LP-3)'!N21,'Limestone Plant (LP-4)'!N21,'Limestone Plant (LP-5)'!N21,'Limestone Plant (LP-6)'!N21,'Limestone Plant (LP-7)'!N21,'Limestone Plant (LP-8)'!N21,'Limestone Plant (LP-9)'!N21,'Limestone Plant (LP-10)'!N21)>0,SUM('Limestone Plant (LP-1)'!N21,'Limestone Plant (LP-2)'!N21,'Limestone Plant (LP-3)'!N21,'Limestone Plant (LP-4)'!N21,'Limestone Plant (LP-5)'!N21,'Limestone Plant (LP-6)'!N21,'Limestone Plant (LP-7)'!N21,'Limestone Plant (LP-8)'!N21,'Limestone Plant (LP-9)'!N21,'Limestone Plant (LP-10)'!N21),\"\")","v":""},{"$f":"IF(B7=\"\",\"\",\"tons/hr\")","v":""},{"$f":"IF(B7=\"\",\"\",MAX('Limestone Plant (LP-1)'!O21,'Limestone Plant (LP-2)'!O21,'Limestone Plant (LP-3)'!O21,'Limestone Plant (LP-4)'!O21,'Limestone Plant (LP-5)'!O21,'Limestone Plant (LP-6)'!O21,'Limestone Plant (LP-7)'!O21,'Limestone Plant (LP-8)'!O21,'Limestone Plant (LP-9)'!O21,'Limestone Plant (LP-10)'!O21))","v":""},{"$f":"IF(B7=\"\",\"\",\"lb/ton\")","v":""},{"$f":"IF(F7=\"\",\"\",\"AP-42 Table 11.19.2-2\")","v":""},{"$f":"IF(SUM('Limestone Plant (LP-1)'!P21,'Limestone Plant (LP-2)'!P21,'Limestone Plant (LP-3)'!P21,'Limestone Plant (LP-4)'!P21,'Limestone Plant (LP-5)'!P21,'Limestone Plant (LP-6)'!P21,'Limestone Plant (LP-7)'!P21,'Limestone Plant (LP-8)'!P21,'Limestone Plant (LP-9)'!P21,'Limestone Plant (LP-10)'!P21)>0,SUM('Limestone Plant (LP-1)'!P21,'Limestone Plant (LP-2)'!P21,'Limestone Plant (LP-3)'!P21,'Limestone Plant (LP-4)'!P21,'Limestone Plant (LP-5)'!P21,'Limestone Plant (LP-6)'!P21,'Limestone Plant (LP-7)'!P21,'Limestone Plant (LP-8)'!P21,'Limestone Plant (LP-9)'!P21,'Limestone Plant (LP-10)'!P21),\"\")","v":""},null,{"$f":"IF(D7=\"\",\"\",IF(SUM('Limestone Plant (LP-1)'!Q21,'Limestone Plant (LP-2)'!Q21,'Limestone Plant (LP-3)'!Q21,'Limestone Plant (LP-4)'!Q21,'Limestone Plant (LP-5)'!Q21,'Limestone Plant (LP-6)'!Q21,'Limestone Plant (LP-7)'!Q21,'Limestone Plant (LP-8)'!Q21,'Limestone Plant (LP-9)'!Q21,'Limestone Plant (LP-10)'!Q21)>0,SUM('Limestone Plant (LP-1)'!Q21,'Limestone Plant (LP-2)'!Q21,'Limestone Plant (LP-3)'!Q21,'Limestone Plant (LP-4)'!Q21,'Limestone Plant (LP-5)'!Q21,'Limestone Plant (LP-6)'!Q21,'Limestone Plant (LP-7)'!Q21,'Limestone Plant (LP-8)'!Q21,'Limestone Plant (LP-9)'!Q21,'Limestone Plant (LP-10)'!Q21),\"\"))","v":""},{"$f":"IF(B7=\"\",\"\",SUM('Limestone Plant (LP-1)'!R21,'Limestone Plant (LP-2)'!R21,'Limestone Plant (LP-3)'!R21,'Limestone Plant (LP-4)'!R21,'Limestone Plant (LP-5)'!R21,'Limestone Plant (LP-6)'!R21,'Limestone Plant (LP-7)'!R21,'Limestone Plant (LP-8)'!R21,'Limestone Plant (LP-9)'!R21,'Limestone Plant (LP-10)'!R21))","v":""},{"$f":"IF(B7=\"\",\"\",SUM('Limestone Plant (LP-1)'!S21,'Limestone Plant (LP-2)'!S21,'Limestone Plant (LP-3)'!S21,'Limestone Plant (LP-4)'!S21,'Limestone Plant (LP-5)'!S21,'Limestone Plant (LP-6)'!S21,'Limestone Plant (LP-7)'!S21,'Limestone Plant (LP-8)'!S21,'Limestone Plant (LP-9)'!S21,'Limestone Plant (LP-10)'!S21))","v":""}]
[{"$f":"IF(SUM('Limestone Plant (LP-1)'!N22,'Limestone Plant (LP-2)'!N22,'Limestone Plant (LP-3)'!N22,'Limestone Plant (LP-4)'!N22,'Limestone Plant (LP-5)'!N22,'Limestone Plant (LP-6)'!N22,'Limestone Plant (LP-7)'!N22,'Limestone Plant (LP-8)'!N22,'Limestone Plant (LP-9)'!N22,'Limestone Plant (LP-10)'!N22)>0,\"ALL\",\"\")","v":""},{"$f":"IF(SUM('Limestone Plant (LP-1)'!N22,'Limestone Plant (LP-2)'!N22,'Limestone Plant (LP-3)'!N22,'Limestone Plant (LP-4)'!N22,'Limestone Plant (LP-5)'!N22,'Limestone Plant (LP-6)'!N22,'Limestone Plant (LP-7)'!N22,'Limestone Plant (LP-8)'!N22,'Limestone Plant (LP-9)'!N22,'Limestone Plant (LP-10)'!N22)>0,\"Secondary Crusher\",\"\")","v":""},{"$f":"IF(SUM('Limestone Plant (LP-1)'!N22,'Limestone Plant (LP-2)'!N22,'Limestone Plant (LP-3)'!N22,'Limestone Plant (LP-4)'!N22,'Limestone Plant (LP-5)'!N22,'Limestone Plant (LP-6)'!N22,'Limestone Plant (LP-7)'!N22,'Limestone Plant (LP-8)'!N22,'Limestone Plant (LP-9)'!N22,'Limestone Plant (LP-10)'!N22)>0,\"30502002\",\"\")","v":""},{"$f":"IF(SUM('Limestone Plant (LP-1)'!N22,'Limestone Plant (LP-2)'!N22,'Limestone Plant (LP-3)'!N22,'Limestone Plant (LP-4)'!N22,'Limestone Plant (LP-5)'!N22,'Limestone Plant (LP-6)'!N22,'Limestone Plant (LP-7)'!N22,'Limestone Plant (LP-8)'!N22,'Limestone Plant (LP-9)'!N22,'Limestone Plant (LP-10)'!N22)>0,SUM('Limestone Plant (LP-1)'!N22,'Limestone Plant (LP-2)'!N22,'Limestone Plant (LP-3)'!N22,'Limestone Plant (LP-4)'!N22,'Limestone Plant (LP-5)'!N22,'Limestone Plant (LP-6)'!N22,'Limestone Plant (LP-7)'!N22,'Limestone Plant (LP-8)'!N22,'Limestone Plant (LP-9)'!N22,'Limestone Plant (LP-10)'!N22),\"\")","v":""},"",{"$f":"IF(B8=\"\",\"\",MAX('Limestone Plant (LP-1)'!O22,'Limestone Plant (LP-2)'!O22,'Limestone Plant (LP-3)'!O22,'Limestone Plant (LP-4)'!O22,'Limestone Plant (LP-5)'!O22,'Limestone Plant (LP-6)'!O22,'Limestone Plant (LP-7)'!O22,'Limestone Plant (LP-8)'!O22,'Limestone Plant (LP-9)'!O22,'Limestone Plant (LP-10)'!O22))","v":""},"","",{"$f":"IF(SUM('Limestone Plant (LP-1)'!P22,'Limestone Plant (LP-2)'!P22,'Limestone Plant (LP-3)'!P22,'Limestone Plant (LP-4)'!P22,'Limestone Plant (LP-5)'!P22,'Limestone Plant (LP-6)'!P22,'Limestone Plant (LP-7)'!P22,'Limestone Plant (LP-8)'!P22,'Limestone Plant (LP-9)'!P22,'Limestone Plant (LP-10)'!P22)>0,SUM('Limestone Plant (LP-1)'!P22,'Limestone Plant (LP-2)'!P22,'Limestone Plant (LP-3)'!P22,'Limestone Plant (LP-4)'!P22,'Limestone Plant (LP-5)'!P22,'Limestone Plant (LP-6)'!P22,'Limestone Plant (LP-7)'!P22,'Limestone Plant (LP-8)'!P22,'Limestone Plant (LP-9)'!P22,'Limestone Plant (LP-10)'!P22),\"\")","v":""},null,{"$f":"IF(D8=\"\",\"\",IF(SUM('Limestone Plant (LP-1)'!Q22,'Limestone Plant (LP-2)'!Q22,'Limestone Plant (LP-3)'!Q22,'Limestone Plant (LP-4)'!Q22,'Limestone Plant (LP-5)'!Q22,'Limestone Plant (LP-6)'!Q22,'Limestone Plant (LP-7)'!Q22,'Limestone Plant (LP-8)'!Q22,'Limestone Plant (LP-9)'!Q22,'Limestone Plant (LP-10)'!Q22)>0,SUM('Limestone Plant (LP-1)'!Q22,'Limestone Plant (LP-2)'!Q22,'Limestone Plant (LP-3)'!Q22,'Limestone Plant (LP-4)'!Q22,'Limestone Plant (LP-5)'!Q22,'Limestone Plant (LP-6)'!Q22,'Limestone Plant (LP-7)'!Q22,'Limestone Plant (LP-8)'!Q22,'Limestone Plant (LP-9)'!Q22,'Limestone Plant (LP-10)'!Q22),\"\"))","v":""},{"$f":"IF(B8=\"\",\"\",SUM('Limestone Plant (LP-1)'!R22,'Limestone Plant (LP-2)'!R22,'Limestone Plant (LP-3)'!R22,'Limestone Plant (LP-4)'!R22,'Limestone Plant (LP-5)'!R22,'Limestone Plant (LP-6)'!R22,'Limestone Plant (LP-7)'!R22,'Limestone Plant (LP-8)'!R22,'Limestone Plant (LP-9)'!R22,'Limestone Plant (LP-10)'!R22))","v":""},{"$f":"IF(B8=\"\",\"\",SUM('Limestone Plant (LP-1)'!S22,'Limestone Plant (LP-2)'!S22,'Limestone Plant (LP-3)'!S22,'Limestone Plant (LP-4)'!S22,'Limestone Plant (LP-5)'!S22,'Limestone Plant (LP-6)'!S22,'Limestone Plant (LP-7)'!S22,'Limestone Plant (LP-8)'!S22,'Limestone Plant (LP-9)'!S22,'Limestone Plant (LP-10)'!S22))","v":""}]
[{"$f":"IF(SUM('Limestone Plant (LP-1)'!N23,'Limestone Plant (LP-2)'!N23,'Limestone Plant (LP-3)'!N23,'Limestone Plant (LP-4)'!N23,'Limestone Plant (LP-5)'!N23,'Limestone Plant (LP-6)'!N23,'Limestone Plant (LP-7)'!N23,'Limestone Plant (LP-8)'!N23,'Limestone Plant (LP-9)'!N23,'Limestone Plant (LP-10)'!N23)>0,\"ALL\",\"\")","v":""},{"$f":"IF(SUM('Limestone Plant (LP-1)'!N23,'Limestone Plant (LP-2)'!N23,'Limestone Plant (LP-3)'!N23,'Limestone Plant (LP-4)'!N23,'Limestone Plant (LP-5)'!N23,'Limestone Plant (LP-6)'!N23,'Limestone Plant (LP-7)'!N23,'Limestone Plant (LP-8)'!N23,'Limestone Plant (LP-9)'!N23,'Limestone Plant (LP-10)'!N23)>0,\"Tertiary Crusher\",\"\")","v":""},{"$f":"IF(SUM('Limestone Plant (LP-1)'!N23,'Limestone Plant (LP-2)'!N23,'Limestone Plant (LP-3)'!N23,'Limestone Plant (LP-4)'!N23,'Limestone Plant (LP-5)'!N23,'Limestone Plant (LP-6)'!N23,'Limestone Plant (LP-7)'!N23,'Limestone Plant (LP-8)'!N23,'Limestone Plant (LP-9)'!N23,'Limestone Plant (LP-10)'!N23)>0,\"30502003\",\"\")","v":""},{"$f":"IF(SUM('Limestone Plant (LP-1)'!N23,'Limestone Plant (LP-2)'!N23,'Limestone Plant (LP-3)'!N23,'Limestone Plant (LP-4)'!N23,'Limestone Plant (LP-5)'!N23,'Limestone Plant (LP-6)'!N23,'Limestone Plant (LP-7)'!N23,'Limestone Plant (LP-8)'!N23,'Limestone Plant (LP-9)'!N23,'Limestone Plant (LP-10)'!N23)>0,SUM('Limestone Plant (LP-1)'!N23,'Limestone Plant (LP-2)'!N23,'Limestone Plant (LP-3)'!N23,'Limestone Plant (LP-4)'!N23,'Limestone Plant (LP-5)'!N23,'Limestone Plant (LP-6)'!N23,'Limestone Plant (LP-7)'!N23,'Limestone Plant (LP-8)'!N23,'Limestone Plant (LP-9)'!N23,'Limestone Plant (LP-10)'!N23),\"\")","v":""},"",{"$f":"IF(B9=\"\",\"\",MAX('Limestone Plant (LP-1)'!O23,'Limestone Plant (LP-2)'!O23,'Limestone Plant (LP-3)'!O23,'Limestone Plant (LP-4)'!O23,'Limestone Plant (LP-5)'!O23,'Limestone Plant (LP-6)'!O23,'Limestone Plant (LP-7)'!O23,'Limestone Plant (LP-8)'!O23,'Limestone Plant (LP-9)'!O23,'Limestone Plant (LP-10)'!O23))","v":""},"","",{"$f":"IF(SUM('Limestone Plant (LP-1)'!P23,'Limestone Plant (LP-2)'!P23,'Limestone Plant (LP-3)'!P23,'Limestone Plant (LP-4)'!P23,'Limestone Plant (LP-5)'!P23,'Limestone Plant (LP-6)'!P23,'Limestone Plant (LP-7)'!P23,'Limestone Plant (LP-8)'!P23,'Limestone Plant (LP-9)'!P23,'Limestone Plant (LP-10)'!P23)>0,SUM('Limestone Plant (LP-1)'!P23,'Limestone Plant (LP-2)'!P23,'Limestone Plant (LP-3)'!P23,'Limestone Plant (LP-4)'!P23,'Limestone Plant (LP-5)'!P23,'Limestone Plant (LP-6)'!P23,'Limestone Plant (LP-7)'!P23,'Limestone Plant (LP-8)'!P23,'Limestone Plant (LP-9)'!P23,'Limestone Plant (LP-10)'!P23),\"\")","v":""},null,{"$f":"IF(D9=\"\",\"\",IF(SUM('Limestone Plant (LP-1)'!Q23,'Limestone Plant (LP-2)'!Q23,'Limestone Plant (LP-3)'!Q23,'Limestone Plant (LP-4)'!Q23,'Limestone Plant (LP-5)'!Q23,'Limestone Plant (LP-6)'!Q23,'Limestone Plant (LP-7)'!Q23,'Limestone Plant (LP-8)'!Q23,'Limestone Plant (LP-9)'!Q23,'Limestone Plant (LP-10)'!Q23)>0,SUM('Limestone Plant (LP-1)'!Q23,'Limestone Plant (LP-2)'!Q23,'Limestone Plant (LP-3)'!Q23,'Limestone Plant (LP-4)'!Q23,'Limestone Plant (LP-5)'!Q23,'Limestone Plant (LP-6)'!Q23,'Limestone Plant (LP-7)'!Q23,'Limestone Plant (LP-8)'!Q23,'Limestone Plant (LP-9)'!Q23,'Limestone Plant (LP-10)'!Q23),\"\"))","v":""},{"$f":"IF(B9=\"\",\"\",SUM('Limestone Plant (LP-1)'!R23,'Limestone Plant (LP-2)'!R23,'Limestone Plant (LP-3)'!R23,'Limestone Plant (LP-4)'!R23,'Limestone Plant (LP-5)'!R23,'Limestone Plant (LP-6)'!R23,'Limestone Plant (LP-7)'!R23,'Limestone Plant (LP-8)'!R23,'Limestone Plant (LP-9)'!R23,'Limestone Plant (LP-10)'!R23))","v":""},{"$f":"IF(B9=\"\",\"\",SUM('Limestone Plant (LP-1)'!S23,'Limestone Plant (LP-2)'!S23,'Limestone Plant (LP-3)'!S23,'Limestone Plant (LP-4)'!S23,'Limestone Plant (LP-5)'!S23,'Limestone Plant (LP-6)'!S23,'Limestone Plant (LP-7)'!S23,'Limestone Plant (LP-8)'!S23,'Limestone Plant (LP-9)'!S23,'Limestone Plant (LP-10)'!S23))","v":""}]
[{"$f":"IF(SUM('Limestone Plant (LP-1)'!N24,'Limestone Plant (LP-2)'!N24,'Limestone Plant (LP-3)'!N24,'Limestone Plant (LP-4)'!N24,'Limestone Plant (LP-5)'!N24,'Limestone Plant (LP-6)'!N24,'Limestone Plant (LP-7)'!N24,'Limestone Plant (LP-8)'!N24,'Limestone Plant (LP-9)'!N24,'Limestone Plant (LP-10)'!N24)>0,\"ALL\",\"\")","v":""},{"$f":"IF(SUM('Limestone Plant (LP-1)'!N24,'Limestone Plant (LP-2)'!N24,'Limestone Plant (LP-3)'!N24,'Limestone Plant (LP-4)'!N24,'Limestone Plant (LP-5)'!N24,'Limestone Plant (LP-6)'!N24,'Limestone Plant (LP-7)'!N24,'Limestone Plant (LP-8)'!N24,'Limestone Plant (LP-9)'!N24,'Limestone Plant (LP-10)'!N24)>0,\"Fines Crusher\",\"\")","v":""},{"$f":"IF(SUM('Limestone Plant (LP-1)'!N24,'Limestone Plant (LP-2)'!N24,'Limestone Plant (LP-3)'!N24,'Limestone Plant (LP-4)'!N24,'Limestone Plant (LP-5)'!N24,'Limestone Plant (LP-6)'!N24,'Limestone Plant (LP-7)'!N24,'Limestone Plant (LP-8)'!N24,'Limestone Plant (LP-9)'!N24,'Limestone Plant (LP-10)'!N24)>0,\"30502005\",\"\")","v":""},{"$f":"IF(SUM('Limestone Plant (LP-1)'!N24,'Limestone Plant (LP-2)'!N24,'Limestone Plant (LP-3)'!N24,'Limestone Plant (LP-4)'!N24,'Limestone Plant (LP-5)'!N24,'Limestone Plant (LP-6)'!N24,'Limestone Plant (LP-7)'!N24,'Limestone Plant (LP-8)'!N24,'Limestone Plant (LP-9)'!N24,'Limestone Plant (LP-10)'!N24)>0,SUM('Limestone Plant (LP-1)'!N24,'Limestone Plant (LP-2)'!N24,'Limestone Plant (LP-3)'!N24,'Limestone Plant (LP-4)'!N24,'Limestone Plant (LP-5)'!N24,'Limestone Plant (LP-6)'!N24,'Limestone Plant (LP-7)'!N24,'Limestone Plant (LP-8)'!N24,'Limestone Plant (LP-9)'!N24,'Limestone Plant (LP-10)'!N24),\"\")","v":""},"",{"$f":"IF(B10=\"\",\"\",MAX('Limestone Plant (LP-1)'!O24,'Limestone Plant (LP-2)'!O24,'Limestone Plant (LP-3)'!O24,'Limestone Plant (LP-4)'!O24,'Limestone Plant (LP-5)'!O24,'Limestone Plant (LP-6)'!O24,'Limestone Plant (LP-7)'!O24,'Limestone Plant (LP-8)'!O24,'Limestone Plant (LP-9)'!O24,'Limestone Plant (LP-10)'!O24))","v":""},"","",{"$f":"IF(SUM('Limestone Plant (LP-1)'!P24,'Limestone Plant (LP-2)'!P24,'Limestone Plant (LP-3)'!P24,'Limestone Plant (LP-4)'!P24,'Limestone Plant (LP-5)'!P24,'Limestone Plant (LP-6)'!P24,'Limestone Plant (LP-7)'!P24,'Limestone Plant (LP-8)'!P24,'Limestone Plant (LP-9)'!P24,'Limestone Plant (LP-10)'!P24)>0,SUM('Limestone Plant (LP-1)'!P24,'Limestone Plant (LP-2)'!P24,'Limestone Plant (LP-3)'!P24,'Limestone Plant (LP-4)'!P24,'Limestone Plant (LP-5)'!P24,'Limestone Plant (LP-6)'!P24,'Limestone Plant (LP-7)'!P24,'Limestone Plant (LP-8)'!P24,'Limestone Plant (LP-9)'!P24,'Limestone Plant (LP-10)'!P24),\"\")","v":""},null,{"$f":"IF(D10=\"\",\"\",IF(SUM('Limestone Plant (LP-1)'!Q24,'Limestone Plant (LP-2)'!Q24,'Limestone Plant (LP-3)'!Q24,'Limestone Plant (LP-4)'!Q24,'Limestone Plant (LP-5)'!Q24,'Limestone Plant (LP-6)'!Q24,'Limestone Plant (LP-7)'!Q24,'Limestone Plant (LP-8)'!Q24,'Limestone Plant (LP-9)'!Q24,'Limestone Plant (LP-10)'!Q24)>0,SUM('Limestone Plant (LP-1)'!Q24,'Limestone Plant (LP-2)'!Q24,'Limestone Plant (LP-3)'!Q24,'Limestone Plant (LP-4)'!Q24,'Limestone Plant (LP-5)'!Q24,'Limestone Plant (LP-6)'!Q24,'Limestone Plant (LP-7)'!Q24,'Limestone Plant (LP-8)'!Q24,'Limestone Plant (LP-9)'!Q24,'Limestone Plant (LP-10)'!Q24),\"\"))","v":""},{"$f":"IF(B10=\"\",\"\",SUM('Limestone Plant (LP-1)'!R24,'Limestone Plant (LP-2)'!R24,'Limestone Plant (LP-3)'!R24,'Limestone Plant (LP-4)'!R24,'Limestone Plant (LP-5)'!R24,'Limestone Plant (LP-6)'!R24,'Limestone Plant (LP-7)'!R24,'Limestone Plant (LP-8)'!R24,'Limestone Plant (LP-9)'!R24,'Limestone Plant (LP-10)'!R24))","v":""},{"$f":"IF(B10=\"\",\"\",SUM('Limestone Plant (LP-1)'!S24,'Limestone Plant (LP-2)'!S24,'Limestone Plant (LP-3)'!S24,'Limestone Plant (LP-4)'!S24,'Limestone Plant (LP-5)'!S24,'Limestone Plant (LP-6)'!S24,'Limestone Plant (LP-7)'!S24,'Limestone Plant (LP-8)'!S24,'Limestone Plant (LP-9)'!S24,'Limestone Plant (LP-10)'!S24))","v":""}]
[{"$f":"IF(SUM('Limestone Plant (LP-1)'!N25,'Limestone Plant (LP-2)'!N25,'Limestone Plant (LP-3)'!N25,'Limestone Plant (LP-4)'!N25,'Limestone Plant (LP-5)'!N25,'Limestone Plant (LP-6)'!N25,'Limestone Plant (LP-7)'!N25,'Limestone Plant (LP-8)'!N25,'Limestone Plant (LP-9)'!N25,'Limestone Plant (LP-10)'!N25)>0,\"ALL\",\"\")","v":""},{"$f":"IF(SUM('Limestone Plant (LP-1)'!N25,'Limestone Plant (LP-2)'!N25,'Limestone Plant (LP-3)'!N25,'Limestone Plant (LP-4)'!N25,'Limestone Plant (LP-5)'!N25,'Limestone Plant (LP-6)'!N25,'Limestone Plant (LP-7)'!N25,'Limestone Plant (LP-8)'!N25,'Limestone Plant (LP-9)'!N25,'Limestone Plant (LP-10)'!N25)>0,\"Fines Screening\",\"\")","v":""},{"$f":"IF(SUM('Limestone Plant (LP-1)'!N25,'Limestone Plant (LP-2)'!N25,'Limestone Plant (LP-3)'!N25,'Limestone Plant (LP-4)'!N25,'Limestone Plant (LP-5)'!N25,'Limestone Plant (LP-6)'!N25,'Limestone Plant (LP-7)'!N25,'Limestone Plant (LP-8)'!N25,'Limestone Plant (LP-9)'!N25,'Limestone Plant (LP-10)'!N25)>0,\"30502021\",\"\")","v":""},{"$f":"IF(SUM('Limestone Plant (LP-1)'!N25,'Limestone Plant (LP-2)'!N25,'Limestone Plant (LP-3)'!N25,'Limestone Plant (LP-4)'!N25,'Limestone Plant (LP-5)'!N25,'Limestone Plant (LP-6)'!N25,'Limestone Plant (LP-7)'!N25,'Limestone Plant (LP-8)'!N25,'Limestone Plant (LP-9)'!N25,'Limestone Plant (LP-10)'!N25)>0,SUM('Limestone Plant (LP-1)'!N25,'Limestone Plant (LP-2)'!N25,'Limestone Plant (LP-3)'!N25,'Limestone Plant (LP-4)'!N25,'Limestone Plant (LP-5)'!N25,'Limestone Plant (LP-6)'!N25,'Limestone Plant (LP-7)'!N25,'Limestone Plant (LP-8)'!N25,'Limestone Plant (LP-9)'!N25,'Limestone Plant (LP-10)'!N25),\"\")","v":""},"",{"$f":"IF(B11=\"\",\"\",MAX('Limestone Plant (LP-1)'!O25,'Limestone Plant (LP-2)'!O25,'Limestone Plant (LP-3)'!O25,'Limestone Plant (LP-4)'!O25,'Limestone Plant (LP-5)'!O25,'Limestone Plant (LP-6)'!O25,'Limestone Plant (LP-7)'!O25,'Limestone Plant (LP-8)'!O25,'Limestone Plant (LP-9)'!O25,'Limestone Plant (LP-10)'!O25))","v":""},"","",{"$f":"IF(SUM('Limestone Plant (LP-1)'!P25,'Limestone Plant (LP-2)'!P25,'Limestone Plant (LP-3)'!P25,'Limestone Plant (LP-4)'!P25,'Limestone Plant (LP-5)'!P25,'Limestone Plant (LP-6)'!P25,'Limestone Plant (LP-7)'!P25,'Limestone Plant (LP-8)'!P25,'Limestone Plant (LP-9)'!P25,'Limestone Plant (LP-10)'!P25)>0,SUM('Limestone Plant (LP-1)'!P25,'Limestone Plant (LP-2)'!P25,'Limestone Plant (LP-3)'!P25,'Limestone Plant (LP-4)'!P25,'Limestone Plant (LP-5)'!P25,'Limestone Plant (LP-6)'!P25,'Limestone Plant (LP-7)'!P25,'Limestone Plant (LP-8)'!P25,'Limestone Plant (LP-9)'!P25,'Limestone Plant (LP-10)'!P25),\"\")","v":""},null,{"$f":"IF(D11=\"\",\"\",IF(SUM('Limestone Plant (LP-1)'!Q25,'Limestone Plant (LP-2)'!Q25,'Limestone Plant (LP-3)'!Q25,'Limestone Plant (LP-4)'!Q25,'Limestone Plant (LP-5)'!Q25,'Limestone Plant (LP-6)'!Q25,'Limestone Plant (LP-7)'!Q25,'Limestone Plant (LP-8)'!Q25,'Limestone Plant (LP-9)'!Q25,'Limestone Plant (LP-10)'!Q25)>0,SUM('Limestone Plant (LP-1)'!Q25,'Limestone Plant (LP-2)'!Q25,'Limestone Plant (LP-3)'!Q25,'Limestone Plant (LP-4)'!Q25,'Limestone Plant (LP-5)'!Q25,'Limestone Plant (LP-6)'!Q25,'Limestone Plant (LP-7)'!Q25,'Limestone Plant (LP-8)'!Q25,'Limestone Plant (LP-9)'!Q25,'Limestone Plant (LP-10)'!Q25),\"\"))","v":""},{"$f":"IF(B11=\"\",\"\",SUM('Limestone Plant (LP-1)'!R25,'Limestone Plant (LP-2)'!R25,'Limestone Plant (LP-3)'!R25,'Limestone Plant (LP-4)'!R25,'Limestone Plant (LP-5)'!R25,'Limestone Plant (LP-6)'!R25,'Limestone Plant (LP-7)'!R25,'Limestone Plant (LP-8)'!R25,'Limestone Plant (LP-9)'!R25,'Limestone Plant (LP-10)'!R25))","v":""},{"$f":"IF(B11=\"\",\"\",SUM('Limestone Plant (LP-1)'!S25,'Limestone Plant (LP-2)'!S25,'Limestone Plant (LP-3)'!S25,'Limestone Plant (LP-4)'!S25,'Limestone Plant (LP-5)'!S25,'Limestone Plant (LP-6)'!S25,'Limestone Plant (LP-7)'!S25,'Limestone Plant (LP-8)'!S25,'Limestone Plant (LP-9)'!S25,'Limestone Plant (LP-10)'!S25))","v":""}]
[{"$f":"IF(SUM('Limestone Plant (LP-1)'!N26,'Limestone Plant (LP-2)'!N26,'Limestone Plant (LP-3)'!N26,'Limestone Plant (LP-4)'!N26,'Limestone Plant (LP-5)'!N26,'Limestone Plant (LP-6)'!N26,'Limestone Plant (LP-7)'!N26,'Limestone Plant (LP-8)'!N26,'Limestone Plant (LP-9)'!N26,'Limestone Plant (LP-10)'!N26)>0,\"ALL\",\"\")","v":""},{"$f":"IF(SUM('Limestone Plant (LP-1)'!N26,'Limestone Plant (LP-2)'!N26,'Limestone Plant (LP-3)'!N26,'Limestone Plant (LP-4)'!N26,'Limestone Plant (LP-5)'!N26,'Limestone Plant (LP-6)'!N26,'Limestone Plant (LP-7)'!N26,'Limestone Plant (LP-8)'!N26,'Limestone Plant (LP-9)'!N26,'Limestone Plant (LP-10)'!N26)>0,\"Wet Drilling: Unfragmented Stone\",\"\")","v":""},{"$f":"IF(SUM('Limestone Plant (LP-1)'!N26,'Limestone Plant (LP-2)'!N26,'Limestone Plant (LP-3)'!N26,'Limestone Plant (LP-4)'!N26,'Limestone Plant (LP-5)'!N26,'Limestone Plant (LP-6)'!N26,'Limestone Plant (LP-7)'!N26,'Limestone Plant (LP-8)'!N26,'Limestone Plant (LP-9)'!N26,'Limestone Plant (LP-10)'!N26)>0,\"30502010\",\"\")","v":""},{"$f":"IF(SUM('Limestone Plant (LP-1)'!N26,'Limestone Plant (LP-2)'!N26,'Limestone Plant (LP-3)'!N26,'Limestone Plant (LP-4)'!N26,'Limestone Plant (LP-5)'!N26,'Limestone Plant (LP-6)'!N26,'Limestone Plant (LP-7)'!N26,'Limestone Plant (LP-8)'!N26,'Limestone Plant (LP-9)'!N26,'Limestone Plant (LP-10)'!N26)>0,SUM('Limestone Plant (LP-1)'!N26,'Limestone Plant (LP-2)'!N26,'Limestone Plant (LP-3)'!N26,'Limestone Plant (LP-4)'!N26,'Limestone Plant (LP-5)'!N26,'Limestone Plant (LP-6)'!N26,'Limestone Plant (LP-7)'!N26,'Limestone Plant (LP-8)'!N26,'Limestone Plant (LP-9)'!N26,'Limestone Plant (LP-10)'!N26),\"\")","v":""},"",{"$f":"IF(B12=\"\",\"\",MAX('Limestone Plant (LP-1)'!O26,'Limestone Plant (LP-2)'!O26,'Limestone Plant (LP-3)'!O26,'Limestone Plant (LP-4)'!O26,'Limestone Plant (LP-5)'!O26,'Limestone Plant (LP-6)'!O26,'Limestone Plant (LP-7)'!O26,'Limestone Plant (LP-8)'!O26,'Limestone Plant (LP-9)'!O26,'Limestone Plant (LP-10)'!O26))","v":""},"","",{"$f":"IF(SUM('Limestone Plant (LP-1)'!P26,'Limestone Plant (LP-2)'!P26,'Limestone Plant (LP-3)'!P26,'Limestone Plant (LP-4)'!P26,'Limestone Plant (LP-5)'!P26,'Limestone Plant (LP-6)'!P26,'Limestone Plant (LP-7)'!P26,'Limestone Plant (LP-8)'!P26,'Limestone Plant (LP-9)'!P26,'Limestone Plant (LP-10)'!P26)>0,SUM('Limestone Plant (LP-1)'!P26,'Limestone Plant (LP-2)'!P26,'Limestone Plant (LP-3)'!P26,'Limestone Plant (LP-4)'!P26,'Limestone Plant (LP-5)'!P26,'Limestone Plant (LP-6)'!P26,'Limestone Plant (LP-7)'!P26,'Limestone Plant (LP-8)'!P26,'Limestone Plant (LP-9)'!P26,'Limestone Plant (LP-10)'!P26),\"\")","v":""},null,{"$f":"IF(D12=\"\",\"\",IF(SUM('Limestone Plant (LP-1)'!Q26,'Limestone Plant (LP-2)'!Q26,'Limestone Plant (LP-3)'!Q26,'Limestone Plant (LP-4)'!Q26,'Limestone Plant (LP-5)'!Q26,'Limestone Plant (LP-6)'!Q26,'Limestone Plant (LP-7)'!Q26,'Limestone Plant (LP-8)'!Q26,'Limestone Plant (LP-9)'!Q26,'Limestone Plant (LP-10)'!Q26)>0,SUM('Limestone Plant (LP-1)'!Q26,'Limestone Plant (LP-2)'!Q26,'Limestone Plant (LP-3)'!Q26,'Limestone Plant (LP-4)'!Q26,'Limestone Plant (LP-5)'!Q26,'Limestone Plant (LP-6)'!Q26,'Limestone Plant (LP-7)'!Q26,'Limestone Plant (LP-8)'!Q26,'Limestone Plant (LP-9)'!Q26,'Limestone Plant (LP-10)'!Q26),\"\"))","v":""},{"$f":"IF(B12=\"\",\"\",SUM('Limestone Plant (LP-1)'!R26,'Limestone Plant (LP-2)'!R26,'Limestone Plant (LP-3)'!R26,'Limestone Plant (LP-4)'!R26,'Limestone Plant (LP-5)'!R26,'Limestone Plant (LP-6)'!R26,'Limestone Plant (LP-7)'!R26,'Limestone Plant (LP-8)'!R26,'Limestone Plant (LP-9)'!R26,'Limestone Plant (LP-10)'!R26))","v":""},{"$f":"IF(B12=\"\",\"\",SUM('Limestone Plant (LP-1)'!S26,'Limestone Plant (LP-2)'!S26,'Limestone Plant (LP-3)'!S26,'Limestone Plant (LP-4)'!S26,'Limestone Plant (LP-5)'!S26,'Limestone Plant (LP-6)'!S26,'Limestone Plant (LP-7)'!S26,'Limestone Plant (LP-8)'!S26,'Limestone Plant (LP-9)'!S26,'Limestone Plant (LP-10)'!S26))","v":""}]
[{"$f":"IF(SUM('Limestone Plant (LP-1)'!N27,'Limestone Plant (LP-2)'!N27,'Limestone Plant (LP-3)'!N27,'Limestone Plant (LP-4)'!N27,'Limestone Plant (LP-5)'!N27,'Limestone Plant (LP-6)'!N27,'Limestone Plant (LP-7)'!N27,'Limestone Plant (LP-8)'!N27,'Limestone Plant (LP-9)'!N27,'Limestone Plant (LP-10)'!N27)>0,\"ALL\",\"\")","v":""},{"$f":"IF(SUM('Limestone Plant (LP-1)'!N27,'Limestone Plant (LP-2)'!N27,'Limestone Plant (LP-3)'!N27,'Limestone Plant (LP-4)'!N27,'Limestone Plant (LP-5)'!N27,'Limestone Plant (LP-6)'!N27,'Limestone Plant (LP-7)'!N27,'Limestone Plant (LP-8)'!N27,'Limestone Plant (LP-9)'!N27,'Limestone Plant (LP-10)'!N27)>0,\"Conveyor Transfer Points\",\"\")","v":""},{"$f":"IF(SUM('Limestone Plant (LP-1)'!N27,'Limestone Plant (LP-2)'!N27,'Limestone Plant (LP-3)'!N27,'Limestone Plant (LP-4)'!N27,'Limestone Plant (LP-5)'!N27,'Limestone Plant (LP-6)'!N27,'Limestone Plant (LP-7)'!N27,'Limestone Plant (LP-8)'!N27,'Limestone Plant (LP-9)'!N27,'Limestone Plant (LP-10)'!N27)>0,\"30502006\",\"\")","v":""},{"$f":"IF(SUM('Limestone Plant (LP-1)'!N27,'Limestone Plant (LP-2)'!N27,'Limestone Plant (LP-3)'!N27,'Limestone Plant (LP-4)'!N27,'Limestone Plant (LP-5)'!N27,'Limestone Plant (LP-6)'!N27,'Limestone Plant (LP-7)'!N27,'Limestone Plant (LP-8)'!N27,'Limestone Plant (LP-9)'!N27,'Limestone Plant (LP-10)'!N27)>0,SUM('Limestone Plant (LP-1)'!N27,'Limestone Plant (LP-2)'!N27,'Limestone Plant (LP-3)'!N27,'Limestone Plant (LP-4)'!N27,'Limestone Plant (LP-5)'!N27,'Limestone Plant (LP-6)'!N27,'Limestone Plant (LP-7)'!N27,'Limestone Plant (LP-8)'!N27,'Limestone Plant (LP-9)'!N27,'Limestone Plant (LP-10)'!N27),\"\")","v":""},"",{"$f":"IF(B13=\"\",\"\",MAX('Limestone Plant (LP-1)'!O27,'Limestone Plant (LP-2)'!O27,'Limestone Plant (LP-3)'!O27,'Limestone Plant (LP-4)'!O27,'Limestone Plant (LP-5)'!O27,'Limestone Plant (LP-6)'!O27,'Limestone Plant (LP-7)'!O27,'Limestone Plant (LP-8)'!O27,'Limestone Plant (LP-9)'!O27,'Limestone Plant (LP-10)'!O27))","v":""},"","",{"$f":"IF(SUM('Limestone Plant (LP-1)'!P27,'Limestone Plant (LP-2)'!P27,'Limestone Plant (LP-3)'!P27,'Limestone Plant (LP-4)'!P27,'Limestone Plant (LP-5)'!P27,'Limestone Plant (LP-6)'!P27,'Limestone Plant (LP-7)'!P27,'Limestone Plant (LP-8)'!P27,'Limestone Plant (LP-9)'!P27,'Limestone Plant (LP-10)'!P27)>0,SUM('Limestone Plant (LP-1)'!P27,'Limestone Plant (LP-2)'!P27,'Limestone Plant (LP-3)'!P27,'Limestone Plant (LP-4)'!P27,'Limestone Plant (LP-5)'!P27,'Limestone Plant (LP-6)'!P27,'Limestone Plant (LP-7)'!P27,'Limestone Plant (LP-8)'!P27,'Limestone Plant (LP-9)'!P27,'Limestone Plant (LP-10)'!P27),\"\")","v":""},null,{"$f":"IF(D13=\"\",\"\",IF(SUM('Limestone Plant (LP-1)'!Q27,'Limestone Plant (LP-2)'!Q27,'Limestone Plant (LP-3)'!Q27,'Limestone Plant (LP-4)'!Q27,'Limestone Plant (LP-5)'!Q27,'Limestone Plant (LP-6)'!Q27,'Limestone Plant (LP-7)'!Q27,'Limestone Plant (LP-8)'!Q27,'Limestone Plant (LP-9)'!Q27,'Limestone Plant (LP-10)'!Q27)>0,SUM('Limestone Plant (LP-1)'!Q27,'Limestone Plant (LP-2)'!Q27,'Limestone Plant (LP-3)'!Q27,'Limestone Plant (LP-4)'!Q27,'Limestone Plant (LP-5)'!Q27,'Limestone Plant (LP-6)'!Q27,'Limestone Plant (LP-7)'!Q27,'Limestone Plant (LP-8)'!Q27,'Limestone Plant (LP-9)'!Q27,'Limestone Plant (LP-10)'!Q27),\"\"))","v":""},{"$f":"IF(B13=\"\",\"\",SUM('Limestone Plant (LP-1)'!R27,'Limestone Plant (LP-2)'!R27,'Limestone Plant (LP-3)'!R27,'Limestone Plant (LP-4)'!R27,'Limestone Plant (LP-5)'!R27,'Limestone Plant (LP-6)'!R27,'Limestone Plant (LP-7)'!R27,'Limestone Plant (LP-8)'!R27,'Limestone Plant (LP-9)'!R27,'Limestone Plant (LP-10)'!R27))","v":""},{"$f":"IF(B13=\"\",\"\",SUM('Limestone Plant (LP-1)'!S27,'Limestone Plant (LP-2)'!S27,'Limestone Plant (LP-3)'!S27,'Limestone Plant (LP-4)'!S27,'Limestone Plant (LP-5)'!S27,'Limestone Plant (LP-6)'!S27,'Limestone Plant (LP-7)'!S27,'Limestone Plant (LP-8)'!S27,'Limestone Plant (LP-9)'!S27,'Limestone Plant (LP-10)'!S27))","v":""}]
[{"$f":"IF(SUM('Limestone Plant (LP-1)'!N40,'Limestone Plant (LP-2)'!N40,'Limestone Plant (LP-3)'!N40,'Limestone Plant (LP-4)'!N40,'Limestone Plant (LP-5)'!N40,'Limestone Plant (LP-6)'!N40,'Limestone Plant (LP-7)'!N40,'Limestone Plant (LP-8)'!N40,'Limestone Plant (LP-9)'!N40,'Limestone Plant (LP-10)'!N40)>0,\"ALL\",\"\")","v":""},{"$f":"IF(SUM('Limestone Plant (LP-1)'!N40,'Limestone Plant (LP-2)'!N40,'Limestone Plant (LP-3)'!N40,'Limestone Plant (LP-4)'!N40,'Limestone Plant (LP-5)'!N40,'Limestone Plant (LP-6)'!N40,'Limestone Plant (LP-7)'!N40,'Limestone Plant (LP-8)'!N40,'Limestone Plant (LP-9)'!N40,'Limestone Plant (LP-10)'!N40)>0,\"Storage PIles\",\"\")","v":""},{"$f":"IF(B14=\"\",\"\",\"30502007\")","v":""},{"$f":"IF(B14=\"\",\"\",SUM('Limestone Plant (LP-1)'!N40,'Limestone Plant (LP-2)'!N40,'Limestone Plant (LP-3)'!N40,'Limestone Plant (LP-4)'!N40,'Limestone Plant (LP-5)'!N40,'Limestone Plant (LP-6)'!N40,'Limestone Plant (LP-7)'!N40,'Limestone Plant (LP-8)'!N40,'Limestone Plant (LP-9)'!N40,'Limestone Plant (LP-10)'!N40))","v":""},{"$f":"IF(B14=\"\",\"\",\"acre/day\")","v":""},{"$f":"IF(B14=\"\",\"\",3.64)","v":""},{"$f":"IF(B14=\"\",\"\",\"lb/acre-day\")","v":""},{"$f":"IF(B14=\"\",\"\",\"WebFIRE\")","v":""},{"$f":"IF(B14=\"\",\"\",SUM('Limestone Plant (LP-1)'!P40,'Limestone Plant (LP-2)'!P40,'Limestone Plant (LP-3)'!P40,'Limestone Plant (LP-4)'!P40,'Limestone Plant (LP-5)'!P40,'Limestone Plant (LP-6)'!P40,'Limestone Plant (LP-7)'!P40,'Limestone Plant (LP-8)'!P40,'Limestone Plant (LP-9)'!P40,'Limestone Plant (LP-10)'!P40))","v":""},null,null,{"$f":"IF(D14=\"\",\"\",SUM('Limestone Plant (LP-1)'!R40,'Limestone Plant (LP-2)'!R40,'Limestone Plant (LP-3)'!R40,'Limestone Plant (LP-4)'!R40,'Limestone Plant (LP-5)'!R40,'Limestone Plant (LP-6)'!R40,'Limestone Plant (LP-7)'!R40,'Limestone Plant (LP-8)'!R40,'Limestone Plant (LP-9)'!R40,'Limestone Plant (LP-10)'!R40))","v":""},{"$f":"IF(E14=\"\",\"\",SUM('Limestone Plant (LP-1)'!S40,'Limestone Plant (LP-2)'!S40,'Limestone Plant (LP-3)'!S40,'Limestone Plant (LP-4)'!S40,'Limestone Plant (LP-5)'!S40,'Limestone Plant (LP-6)'!S40,'Limestone Plant (LP-7)'!S40,'Limestone Plant (LP-8)'!S40,'Limestone Plant (LP-9)'!S40,'Limestone Plant (LP-10)'!S40))","v":""}]
[{"$f":"IF(SUM('Haul Roads'!AF9:AF18)=0,\"\",\"ALL\")","v":""},{"$f":"IF(SUM('Haul Roads'!AF9:AF18)=0,\"\",\"Unpaved Haul Roads\")","v":""},{"$f":"IF(SUM('Haul Roads'!AF9:AF18)=0,\"\",\"30202054\")","v":""},{"$f":"IF(F15=\"\",\"\",'Haul Roads'!P39*'Haul Roads'!L39/8760)","v":""},{"$f":"IF(B15=\"\",\"\",\"vmt/hr\")","v":""},{"$f":"IF(B15=\"\",\"\",'Haul Roads'!U39)","v":""},{"$f":"IF(F15=\"\",\"\",\"lb/vmt\")","v":""},{"$f":"IF(F15=\"\",\"\",\"AP-42 Ch 13.2.2\")","v":""},{"$f":"IF(F15=\"\",\"\",D15*F15)","v":""},{"$f":"IF(SUM('Haul Roads'!W9:W38)>0,40,\"\")","v":""},{"$f":"IF(SUM('Haul Roads'!W9:W38)>0,(SUM('Haul Roads'!W9:W38)),\"\")","v":""},{"$f":"IF(AND((SUM('Haul Roads'!$M$9:$M$38)>0),'Haul Roads'!L42>0),SUM('Haul Roads'!$AL$9:$AL$18),IF(B15=\"\",\"\",'Haul Roads'!L42))","v":""},{"$f":"IF(AND((SUM('Haul Roads'!$M$9:$M$38)>0),'Haul Roads'!L47>0),SUM('Haul Roads'!$AM$9:$AM$18),IF(B15=\"\",\"\",'Haul Roads'!L47))","v":""}]
[{"$f":"IF(SUM('Haul Roads'!AG9:AG18)=0,\"\",\"ALL\")","v":""},{"$f":"IF(SUM('Haul Roads'!AG9:AG18)=0,\"\",\"Paved Haul Roads\")","v":""},{"$f":"IF(SUM('Haul Roads'!AG9:AG18)=0,\"\",\"30202054\")","v":""},{"$f":"IF(F16=\"\",\"\",'Haul Roads'!P40*'Haul Roads'!L40/8760)","v":""},{"$f":"IF(B16=\"\",\"\",\"vmt/hr\")","v":""},{"$f":"IF(B16=\"\",\"\",'Haul Roads'!U40)","v":""},{"$f":"IF(F16=\"\",\"\",\"lb/vmt\")","v":""},{"$f":"IF(F16=\"\",\"\",\"AP-42 Ch 13.2.1\")","v":""},{"$f":"IF(F16=\"\",\"\",D16*F16)","v":""},null,null,{"$f":"IF(B16=\"\",\"\",IF(AND((SUM('Haul Roads'!$M$9:$M$38)>0),'Haul Roads'!L43>0,'Haul Roads'!L42>0),\"\",IF(AND((SUM('Haul Roads'!$M$9:$M$38)>0),'Haul Roads'!L43>0),SUM('Haul Roads'!$AL$9:$AL$18),'Haul Roads'!L43)))","v":""},{"$f":"IF(B16=\"\",\"\",IF(AND((SUM('Haul Roads'!$M$9:$M$38)>0),'Haul Roads'!L48>0,'Haul Roads'!L47>0),\"\",IF(AND((SUM('Haul Roads'!$M$9:$M$38)>0),'Haul Roads'!L48>0),SUM('Haul Roads'!$AM$9:$AM$18),'Haul Roads'!L48)))","v":""}]
[{"$f":"IF('Permitted Diesel Engines'!R50=0,\"\",\"ALL\")","v":""},{"$f":"IF('Permitted Diesel Engines'!R50=0,\"\",\"Diesel Generator ≤ 600 bhp\")","v":""},{"$f":"IF('Permitted Diesel Engines'!R50=0,\"\",LOOKUP(B17,'Emission Factors'!A43:A44,'Emission Factors'!B43:B44))","v":""},{"$f":"IF('Permitted Diesel Engines'!R50=0,\"\",'Permitted Diesel Engines'!R50)","v":""},{"$f":"IF(B17=\"\",\"\",\"MMBtu/hr\")","v":""},{"$f":"IF(B17=\"\",\"\",LOOKUP(B17,'Emission Factors'!$A$43:$A$44,'Emission Factors'!$D$43:$D$44))","v":""},{"$f":"IF(B17=\"\",\"\",LOOKUP(B17,'Emission Factors'!$A$43:$A$44,'Emission Factors'!$C$43:$C$44))","v":""},{"$f":"IF(B17=\"\",\"\",LOOKUP(B17,'Emission Factors'!$A$43:$A$44,'Emission Factors'!$E$43:$E$44))","v":""},{"$f":"IF(B17=\"\",\"\",'Emission Calculations'!D17*'Emission Calculations'!F17)","v":""},null,null,{"$f":"IF(F17=\"\",\"\",'Permitted Diesel Engines'!Z77)","v":""},{"$f":"IF(B17=\"\",\"\",'Permitted Diesel Engines'!$T$50*F17/2000)","v":""}]
[{"$f":"IF('Permitted Diesel Engines'!R51=0,\"\",\"ALL\")","v":""},{"$f":"IF('Permitted Diesel Engines'!R51=0,\"\",\"Diesel Generator> 600 bhp\")","v":""},{"$f":"IF('Permitted Diesel Engines'!R51=0,\"\",LOOKUP(B18,'Emission Factors'!$A$43:$A$44,'Emission Factors'!$B$43:$B$44))","v":""},{"$f":"IF('Permitted Diesel Engines'!R51=0,\"\",'Permitted Diesel Engines'!R51)","v":""},{"$f":"IF(B18=\"\",\"\",\"MMBtu/hr\")","v":""},{"$f":"IF(B18=\"\",\"\",LOOKUP(B18,'Emission Factors'!$A$43:$A$44,'Emission Factors'!$D$43:$D$44))","v":""},{"$f":"IF(B18=\"\",\"\",LOOKUP(B18,'Emission Factors'!$A$43:$A$44,'Emission Factors'!$C$43:$C$44))","v":""},{"$f":"IF(B18=\"\",\"\",LOOKUP(B18,'Emission Factors'!$A$43:$A$44,'Emission Factors'!$E$43:$E$44))","v":""},{"$f":"IF(B18=\"\",\"\",'Emission Calculations'!D18*'Emission Calculations'!F18)","v":""},null,null,{"$f":"IF(F18=\"\",\"\",'Permitted Diesel Engines'!AA77)","v":""},{"$f":"IF(B18=\"\",\"\",'Permitted Diesel Engines'!$T$51*F18/2000)","v":""}]
[null,null,null,null,null,null,null,null,null,"FACILITY TOTALS:",null,{"$f":"SUM(L6:L18)","v":0},{"$f":"SUM(M6:M18)","v":0}]
[]
["PM10",null,null,null,null,null,null,null,"Potential Hourly Uncontrolled Emissions(lb/hr)",null,"Potential Hourly Controlled Emissions (lb/hr)","Potential Annual Emissions (tons/yr)","Actual Emissions (tons/yr)"]
["EP","Description of Process","SCC #","Max Design Rate","Units of Measure","Emission Factor","Units of Measure","Source of      Emission Factor",null,"Control Efficiency"]
[]
[{"$f":"IF(SUM('Limestone Plant (LP-1)'!N20,'Limestone Plant (LP-2)'!N20,'Limestone Plant (LP-3)'!N20,'Limestone Plant (LP-4)'!N20,'Limestone Plant (LP-5)'!N20,'Limestone Plant (LP-6)'!N20,'Limestone Plant (LP-7)'!N20,'Limestone Plant (LP-8)'!N20,'Limestone Plant (LP-9)'!N20,'Limestone Plant (LP-10)'!N20)>0,\"ALL\",\"\")","v":""},{"$f":"IF(SUM('Limestone Plant (LP-1)'!N29,'Limestone Plant (LP-2)'!N29,'Limestone Plant (LP-3)'!N29,'Limestone Plant (LP-4)'!N29,'Limestone Plant (LP-5)'!N29,'Limestone Plant (LP-6)'!N29,'Limestone Plant (LP-7)'!N29,'Limestone Plant (LP-8)'!N29,'Limestone Plant (LP-9)'!N29,'Limestone Plant (LP-10)'!N29)>0,\"Primary Crusher\",\"\")","v":""},{"$f":"IF(SUM('Limestone Plant (LP-1)'!N20,'Limestone Plant (LP-2)'!N20,'Limestone Plant (LP-3)'!N20,'Limestone Plant (LP-4)'!N20,'Limestone Plant (LP-5)'!N20,'Limestone Plant (LP-6)'!N20,'Limestone Plant (LP-7)'!N20,'Limestone Plant (LP-8)'!N20,'Limestone Plant (LP-9)'!N20,'Limestone Plant (LP-10)'!N20)>0,\"30502001\",\"\")","v":""},{"$f":"IF(SUM('Limestone Plant (LP-1)'!N29,'Limestone Plant (LP-2)'!N29,'Limestone Plant (LP-3)'!N29,'Limestone Plant (LP-4)'!N29,'Limestone Plant (LP-5)'!N29,'Limestone Plant (LP-6)'!N29,'Limestone Plant (LP-7)'!N29,'Limestone Plant (LP-8)'!N29,'Limestone Plant (LP-9)'!N29,'Limestone Plant (LP-10)'!N29)>0,SUM('Limestone Plant (LP-1)'!N29,'Limestone Plant (LP-2)'!N29,'Limestone Plant (LP-3)'!N29,'Limestone Plant (LP-4)'!N29,'Limestone Plant (LP-5)'!N29,'Limestone Plant (LP-6)'!N29,'Limestone Plant (LP-7)'!N29,'Limestone Plant (LP-8)'!N29,'Limestone Plant (LP-9)'!N29,'Limestone Plant (LP-10)'!N29),\"\")","v":""},{"$f":"IF(B24=\"\",\"\",\"tons/hr\")","v":""},{"$f":"IF(B24=\"\",\"\",MAX('Limestone Plant (LP-1)'!O29,'Limestone Plant (LP-2)'!O29,'Limestone Plant (LP-3)'!O29,'Limestone Plant (LP-4)'!O29,'Limestone Plant (LP-5)'!O29,'Limestone Plant (LP-6)'!O29,'Limestone Plant (LP-7)'!O29,'Limestone Plant (LP-8)'!O29,'Limestone Plant (LP-9)'!O29,'Limestone Plant (LP-10)'!O29))","v":""},{"$f":"IF(B24=\"\",\"\",\"lb/ton\")","v":""},{"$f":"IF(F24=\"\",\"\",\"AP-42 Table 11.19.2-2\")","v":""},{"$f":"IF(SUM('Limestone Plant (LP-1)'!P29,'Limestone Plant (LP-2)'!P29,'Limestone Plant (LP-3)'!P29,'Limestone Plant (LP-4)'!P29,'Limestone Plant (LP-5)'!P29,'Limestone Plant (LP-6)'!P29,'Limestone Plant (LP-7)'!P29,'Limestone Plant (LP-8)'!P29,'Limestone Plant (LP-9)'!P29,'Limestone Plant (LP-10)'!P29)>0,SUM('Limestone Plant (LP-1)'!P29,'Limestone Plant (LP-2)'!P29,'Limestone Plant (LP-3)'!P29,'Limestone Plant (LP-4)'!P29,'Limestone Plant (LP-5)'!P29,'Limestone Plant (LP-6)'!P29,'Limestone Plant (LP-7)'!P29,'Limestone Plant (LP-8)'!P29,'Limestone Plant (LP-9)'!P29,'Limestone Plant (LP-10)'!P29),\"\")","v":""},null,{"$f":"IF(D24=\"\",\"\",IF(SUM('Limestone Plant (LP-1)'!Q29,'Limestone Plant (LP-2)'!Q29,'Limestone Plant (LP-3)'!Q29,'Limestone Plant (LP-4)'!Q29,'Limestone Plant (LP-5)'!Q29,'Limestone Plant (LP-6)'!Q29,'Limestone Plant (LP-7)'!Q29,'Limestone Plant (LP-8)'!Q29,'Limestone Plant (LP-9)'!Q29,'Limestone Plant (LP-10)'!Q29)>0,SUM('Limestone Plant (LP-1)'!Q29,'Limestone Plant (LP-2)'!Q29,'Limestone Plant (LP-3)'!Q29,'Limestone Plant (LP-4)'!Q29,'Limestone Plant (LP-5)'!Q29,'Limestone Plant (LP-6)'!Q29,'Limestone Plant (LP-7)'!Q29,'Limestone Plant (LP-8)'!Q29,'Limestone Plant (LP-9)'!Q29,'Limestone Plant (LP-10)'!Q29),\"\"))","v":""},{"$f":"IF(B24=\"\",\"\",SUM('Limestone Plant (LP-1)'!R29,'Limestone Plant (LP-2)'!R29,'Limestone Plant (LP-3)'!R29,'Limestone Plant (LP-4)'!R29,'Limestone Plant (LP-5)'!R29,'Limestone Plant (LP-6)'!R29,'Limestone Plant (LP-7)'!R29,'Limestone Plant (LP-8)'!R29,'Limestone Plant (LP-9)'!R29,'Limestone Plant (LP-10)'!R29))","v":""},{"$f":"IF(B6=\"\",\"\",SUM('Limestone Plant (LP-1)'!S29,'Limestone Plant (LP-2)'!S29,'Limestone Plant (LP-3)'!S29,'Limestone Plant (LP-4)'!S29,'Limestone Plant (LP-5)'!S29,'Limestone Plant (LP-6)'!S29,'Limestone Plant (LP-7)'!S29,'Limestone Plant (LP-8)'!S29,'Limestone Plant (LP-9)'!S29,'Limestone Plant (LP-10)'!S29))","v":""}]
[{"$f":"IF(SUM('Limestone Plant (LP-1)'!N21,'Limestone Plant (LP-2)'!N21,'Limestone Plant (LP-3)'!N21,'Limestone Plant (LP-4)'!N21,'Limestone Plant (LP-5)'!N21,'Limestone Plant (LP-6)'!N21,'Limestone Plant (LP-7)'!N21,'Limestone Plant (LP-8)'!N21,'Limestone Plant (LP-9)'!N21,'Limestone Plant (LP-10)'!N21)>0,\"ALL\",\"\")","v":""},{"$f":"IF(SUM('Limestone Plant (LP-1)'!N30,'Limestone Plant (LP-2)'!N30,'Limestone Plant (LP-3)'!N30,'Limestone Plant (LP-4)'!N30,'Limestone Plant (LP-5)'!N30,'Limestone Plant (LP-6)'!N30,'Limestone Plant (LP-7)'!N30,'Limestone Plant (LP-8)'!N30,'Limestone Plant (LP-9)'!N30,'Limestone Plant (LP-10)'!N30)>0,\"Screening\",\"\")","v":""},{"$f":"IF(SUM('Limestone Plant (LP-1)'!N21,'Limestone Plant (LP-2)'!N21,'Limestone Plant (LP-3)'!N21,'Limestone Plant (LP-4)'!N21,'Limestone Plant (LP-5)'!N21,'Limestone Plant (LP-6)'!N21,'Limestone Plant (LP-7)'!N21,'Limestone Plant (LP-8)'!N21,'Limestone Plant (LP-9)'!N21,'Limestone Plant (LP-10)'!N21)>0,\"30502004\",\"\")","v":""},{"$f":"IF(SUM('Limestone Plant (LP-1)'!N30,'Limestone Plant (LP-2)'!N30,'Limestone Plant (LP-3)'!N30,'Limestone Plant (LP-4)'!N30,'Limestone Plant (LP-5)'!N30,'Limestone Plant (LP-6)'!N30,'Limestone Plant (LP-7)'!N30,'Limestone Plant (LP-8)'!N30,'Limestone Plant (LP-9)'!N30,'Limestone Plant (LP-10)'!N30)>0,SUM('Limestone Plant (LP-1)'!N30,'Limestone Plant (LP-2)'!N30,'Limestone Plant (LP-3)'!N30,'Limestone Plant (LP-4)'!N30,'Limestone Plant (LP-5)'!N30,'Limestone Plant (LP-6)'!N30,'Limestone Plant (LP-7)'!N30,'Limestone Plant (LP-8)'!N30,'Limestone Plant (LP-9)'!N30,'Limestone Plant (LP-10)'!N30),\"\")","v":""},{"$f":"IF(B25=\"\",\"\",\"tons/hr\")","v":""},{"$f":"IF(B25=\"\",\"\",MAX('Limestone Plant (LP-1)'!O30,'Limestone Plant (LP-2)'!O30,'Limestone Plant (LP-3)'!O30,'Limestone Plant (LP-4)'!O30,'Limestone Plant (LP-5)'!O30,'Limestone Plant (LP-6)'!O30,'Limestone Plant (LP-7)'!O30,'Limestone Plant (LP-8)'!O30,'Limestone Plant (LP-9)'!O30,'Limestone Plant (LP-10)'!O30))","v":""},{"$f":"IF(B25=\"\",\"\",\"lb/ton\")","v":""},{"$f":"IF(F25=\"\",\"\",\"AP-42 Table 11.19.2-2\")","v":""},{"$f":"IF(SUM('Limestone Plant (LP-1)'!P30,'Limestone Plant (LP-2)'!P30,'Limestone Plant (LP-3)'!P30,'Limestone Plant (LP-4)'!P30,'Limestone Plant (LP-5)'!P30,'Limestone Plant (LP-6)'!P30,'Limestone Plant (LP-7)'!P30,'Limestone Plant (LP-8)'!P30,'Limestone Plant (LP-9)'!P30,'Limestone Plant (LP-10)'!P30)>0,SUM('Limestone Plant (LP-1)'!P30,'Limestone Plant (LP-2)'!P30,'Limestone Plant (LP-3)'!P30,'Limestone Plant (LP-4)'!P30,'Limestone Plant (LP-5)'!P30,'Limestone Plant (LP-6)'!P30,'Limestone Plant (LP-7)'!P30,'Limestone Plant (LP-8)'!P30,'Limestone Plant (LP-9)'!P30,'Limestone Plant (LP-10)'!P30),\"\")","v":""},null,{"$f":"IF(D25=\"\",\"\",IF(SUM('Limestone Plant (LP-1)'!Q30,'Limestone Plant (LP-2)'!Q30,'Limestone Plant (LP-3)'!Q30,'Limestone Plant (LP-4)'!Q30,'Limestone Plant (LP-5)'!Q30,'Limestone Plant (LP-6)'!Q30,'Limestone Plant (LP-7)'!Q30,'Limestone Plant (LP-8)'!Q30,'Limestone Plant (LP-9)'!Q30,'Limestone Plant (LP-10)'!Q30)>0,SUM('Limestone Plant (LP-1)'!Q30,'Limestone Plant (LP-2)'!Q30,'Limestone Plant (LP-3)'!Q30,'Limestone Plant (LP-4)'!Q30,'Limestone Plant (LP-5)'!Q30,'Limestone Plant (LP-6)'!Q30,'Limestone Plant (LP-7)'!Q30,'Limestone Plant (LP-8)'!Q30,'Limestone Plant (LP-9)'!Q30,'Limestone Plant (LP-10)'!Q30),\"\"))","v":""},{"$f":"IF(B25=\"\",\"\",SUM('Limestone Plant (LP-1)'!R30,'Limestone Plant (LP-2)'!R30,'Limestone Plant (LP-3)'!R30,'Limestone Plant (LP-4)'!R30,'Limestone Plant (LP-5)'!R30,'Limestone Plant (LP-6)'!R30,'Limestone Plant (LP-7)'!R30,'Limestone Plant (LP-8)'!R30,'Limestone Plant (LP-9)'!R30,'Limestone Plant (LP-10)'!R30))","v":""},{"$f":"IF(B7=\"\",\"\",SUM('Limestone Plant (LP-1)'!S30,'Limestone Plant (LP-2)'!S30,'Limestone Plant (LP-3)'!S30,'Limestone Plant (LP-4)'!S30,'Limestone Plant (LP-5)'!S30,'Limestone Plant (LP-6)'!S30,'Limestone Plant (LP-7)'!S30,'Limestone Plant (LP-8)'!S30,'Limestone Plant (LP-9)'!S30,'Limestone Plant (LP-10)'!S30))","v":""}]
[{"$f":"IF(SUM('Limestone Plant (LP-1)'!N22,'Limestone Plant (LP-2)'!N22,'Limestone Plant (LP-3)'!N22,'Limestone Plant (LP-4)'!N22,'Limestone Plant (LP-5)'!N22,'Limestone Plant (LP-6)'!N22,'Limestone Plant (LP-7)'!N22,'Limestone Plant (LP-8)'!N22,'Limestone Plant (LP-9)'!N22,'Limestone Plant (LP-10)'!N22)>0,\"ALL\",\"\")","v":""},{"$f":"IF(SUM('Limestone Plant (LP-1)'!N31,'Limestone Plant (LP-2)'!N31,'Limestone Plant (LP-3)'!N31,'Limestone Plant (LP-4)'!N31,'Limestone Plant (LP-5)'!N31,'Limestone Plant (LP-6)'!N31,'Limestone Plant (LP-7)'!N31,'Limestone Plant (LP-8)'!N31,'Limestone Plant (LP-9)'!N31,'Limestone Plant (LP-10)'!N31)>0,\"Secondary Crusher\",\"\")","v":""},{"$f":"IF(SUM('Limestone Plant (LP-1)'!N22,'Limestone Plant (LP-2)'!N22,'Limestone Plant (LP-3)'!N22,'Limestone Plant (LP-4)'!N22,'Limestone Plant (LP-5)'!N22,'Limestone Plant (LP-6)'!N22,'Limestone Plant (LP-7)'!N22,'Limestone Plant (LP-8)'!N22,'Limestone Plant (LP-9)'!N22,'Limestone Plant (LP-10)'!N22)>0,\"30502002\",\"\")","v":""},{"$f":"IF(SUM('Limestone Plant (LP-1)'!N31,'Limestone Plant (LP-2)'!N31,'Limestone Plant (LP-3)'!N31,'Limestone Plant (LP-4)'!N31,'Limestone Plant (LP-5)'!N31,'Limestone Plant (LP-6)'!N31,'Limestone Plant (LP-7)'!N31,'Limestone Plant (LP-8)'!N31,'Limestone Plant (LP-9)'!N31,'Limestone Plant (LP-10)'!N31)>0,SUM('Limestone Plant (LP-1)'!N31,'Limestone Plant (LP-2)'!N31,'Limestone Plant (LP-3)'!N31,'Limestone Plant (LP-4)'!N31,'Limestone Plant (LP-5)'!N31,'Limestone Plant (LP-6)'!N31,'Limestone Plant (LP-7)'!N31,'Limestone Plant (LP-8)'!N31,'Limestone Plant (LP-9)'!N31,'Limestone Plant (LP-10)'!N31),\"\")","v":""},"",{"$f":"IF(B26=\"\",\"\",MAX('Limestone Plant (LP-1)'!O31,'Limestone Plant (LP-2)'!O31,'Limestone Plant (LP-3)'!O31,'Limestone Plant (LP-4)'!O31,'Limestone Plant (LP-5)'!O31,'Limestone Plant (LP-6)'!O31,'Limestone Plant (LP-7)'!O31,'Limestone Plant (LP-8)'!O31,'Limestone Plant (LP-9)'!O31,'Limestone Plant (LP-10)'!O31))","v":""},"","",{"$f":"IF(SUM('Limestone Plant (LP-1)'!P31,'Limestone Plant (LP-2)'!P31,'Limestone Plant (LP-3)'!P31,'Limestone Plant (LP-4)'!P31,'Limestone Plant (LP-5)'!P31,'Limestone Plant (LP-6)'!P31,'Limestone Plant (LP-7)'!P31,'Limestone Plant (LP-8)'!P31,'Limestone Plant (LP-9)'!P31,'Limestone Plant (LP-10)'!P31)>0,SUM('Limestone Plant (LP-1)'!P31,'Limestone Plant (LP-2)'!P31,'Limestone Plant (LP-3)'!P31,'Limestone Plant (LP-4)'!P31,'Limestone Plant (LP-5)'!P31,'Limestone Plant (LP-6)'!P31,'Limestone Plant (LP-7)'!P31,'Limestone Plant (LP-8)'!P31,'Limestone Plant (LP-9)'!P31,'Limestone Plant (LP-10)'!P31),\"\")","v":""},null,{"$f":"IF(D26=\"\",\"\",IF(SUM('Limestone Plant (LP-1)'!Q31,'Limestone Plant (LP-2)'!Q31,'Limestone Plant (LP-3)'!Q31,'Limestone Plant (LP-4)'!Q31,'Limestone Plant (LP-5)'!Q31,'Limestone Plant (LP-6)'!Q31,'Limestone Plant (LP-7)'!Q31,'Limestone Plant (LP-8)'!Q31,'Limestone Plant (LP-9)'!Q31,'Limestone Plant (LP-10)'!Q31)>0,SUM('Limestone Plant (LP-1)'!Q31,'Limestone Plant (LP-2)'!Q31,'Limestone Plant (LP-3)'!Q31,'Limestone Plant (LP-4)'!Q31,'Limestone Plant (LP-5)'!Q31,'Limestone Plant (LP-6)'!Q31,'Limestone Plant (LP-7)'!Q31,'Limestone Plant (LP-8)'!Q31,'Limestone Plant (LP-9)'!Q31,'Limestone Plant (LP-10)'!Q31),\"\"))","v":""},{"$f":"IF(B26=\"\",\"\",SUM('Limestone Plant (LP-1)'!R31,'Limestone Plant (LP-2)'!R31,'Limestone Plant (LP-3)'!R31,'Limestone Plant (LP-4)'!R31,'Limestone Plant (LP-5)'!R31,'Limestone Plant (LP-6)'!R31,'Limestone Plant (LP-7)'!R31,'Limestone Plant (LP-8)'!R31,'Limestone Plant (LP-9)'!R31,'Limestone Plant (LP-10)'!R31))","v":""},{"$f":"IF(B8=\"\",\"\",SUM('Limestone Plant (LP-1)'!S31,'Limestone Plant (LP-2)'!S31,'Limestone Plant (LP-3)'!S31,'Limestone Plant (LP-4)'!S31,'Limestone Plant (LP-5)'!S31,'Limestone Plant (LP-6)'!S31,'Limestone Plant (LP-7)'!S31,'Limestone Plant (LP-8)'!S31,'Limestone Plant (LP-9)'!S31,'Limestone Plant (LP-10)'!S31))","v":""}]
[{"$f":"IF(SUM('Limestone Plant (LP-1)'!N23,'Limestone Plant (LP-2)'!N23,'Limestone Plant (LP-3)'!N23,'Limestone Plant (LP-4)'!N23,'Limestone Plant (LP-5)'!N23,'Limestone Plant (LP-6)'!N23,'Limestone Plant (LP-7)'!N23,'Limestone Plant (LP-8)'!N23,'Limestone Plant (LP-9)'!N23,'Limestone Plant (LP-10)'!N23)>0,\"ALL\",\"\")","v":""},{"$f":"IF(SUM('Limestone Plant (LP-1)'!N32,'Limestone Plant (LP-2)'!N32,'Limestone Plant (LP-3)'!N32,'Limestone Plant (LP-4)'!N32,'Limestone Plant (LP-5)'!N32,'Limestone Plant (LP-6)'!N32,'Limestone Plant (LP-7)'!N32,'Limestone Plant (LP-8)'!N32,'Limestone Plant (LP-9)'!N32,'Limestone Plant (LP-10)'!N32)>0,\"Tertiary Crusher\",\"\")","v":""},{"$f":"IF(SUM('Limestone Plant (LP-1)'!N23,'Limestone Plant (LP-2)'!N23,'Limestone Plant (LP-3)'!N23,'Limestone Plant (LP-4)'!N23,'Limestone Plant (LP-5)'!N23,'Limestone Plant (LP-6)'!N23,'Limestone Plant (LP-7)'!N23,'Limestone Plant (LP-8)'!N23,'Limestone Plant (LP-9)'!N23,'Limestone Plant (LP-10)'!N23)>0,\"30502003\",\"\")","v":""},{"$f":"IF(SUM('Limestone Plant (LP-1)'!N32,'Limestone Plant (LP-2)'!N32,'Limestone Plant (LP-3)'!N32,'Limestone Plant (LP-4)'!N32,'Limestone Plant (LP-5)'!N32,'Limestone Plant (LP-6)'!N32,'Limestone Plant (LP-7)'!N32,'Limestone Plant (LP-8)'!N32,'Limestone Plant (LP-9)'!N32,'Limestone Plant (LP-10)'!N32)>0,SUM('Limestone Plant (LP-1)'!N32,'Limestone Plant (LP-2)'!N32,'Limestone Plant (LP-3)'!N32,'Limestone Plant (LP-4)'!N32,'Limestone Plant (LP-5)'!N32,'Limestone Plant (LP-6)'!N32,'Limestone Plant (LP-7)'!N32,'Limestone Plant (LP-8)'!N32,'Limestone Plant (LP-9)'!N32,'Limestone Plant (LP-10)'!N32),\"\")","v":""},"",{"$f":"IF(B27=\"\",\"\",MAX('Limestone Plant (LP-1)'!O32,'Limestone Plant (LP-2)'!O32,'Limestone Plant (LP-3)'!O32,'Limestone Plant (LP-4)'!O32,'Limestone Plant (LP-5)'!O32,'Limestone Plant (LP-6)'!O32,'Limestone Plant (LP-7)'!O32,'Limestone Plant (LP-8)'!O32,'Limestone Plant (LP-9)'!O32,'Limestone Plant (LP-10)'!O32))","v":""},"","",{"$f":"IF(SUM('Limestone Plant (LP-1)'!P32,'Limestone Plant (LP-2)'!P32,'Limestone Plant (LP-3)'!P32,'Limestone Plant (LP-4)'!P32,'Limestone Plant (LP-5)'!P32,'Limestone Plant (LP-6)'!P32,'Limestone Plant (LP-7)'!P32,'Limestone Plant (LP-8)'!P32,'Limestone Plant (LP-9)'!P32,'Limestone Plant (LP-10)'!P32)>0,SUM('Limestone Plant (LP-1)'!P32,'Limestone Plant (LP-2)'!P32,'Limestone Plant (LP-3)'!P32,'Limestone Plant (LP-4)'!P32,'Limestone Plant (LP-5)'!P32,'Limestone Plant (LP-6)'!P32,'Limestone Plant (LP-7)'!P32,'Limestone Plant (LP-8)'!P32,'Limestone Plant (LP-9)'!P32,'Limestone Plant (LP-10)'!P32),\"\")","v":""},null,{"$f":"IF(D27=\"\",\"\",IF(SUM('Limestone Plant (LP-1)'!Q32,'Limestone Plant (LP-2)'!Q32,'Limestone Plant (LP-3)'!Q32,'Limestone Plant (LP-4)'!Q32,'Limestone Plant (LP-5)'!Q32,'Limestone Plant (LP-6)'!Q32,'Limestone Plant (LP-7)'!Q32,'Limestone Plant (LP-8)'!Q32,'Limestone Plant (LP-9)'!Q32,'Limestone Plant (LP-10)'!Q32)>0,SUM('Limestone Plant (LP-1)'!Q32,'Limestone Plant (LP-2)'!Q32,'Limestone Plant (LP-3)'!Q32,'Limestone Plant (LP-4)'!Q32,'Limestone Plant (LP-5)'!Q32,'Limestone Plant (LP-6)'!Q32,'Limestone Plant (LP-7)'!Q32,'Limestone Plant (LP-8)'!Q32,'Limestone Plant (LP-9)'!Q32,'Limestone Plant (LP-10)'!Q32),\"\"))","v":""},{"$f":"IF(B27=\"\",\"\",SUM('Limestone Plant (LP-1)'!R32,'Limestone Plant (LP-2)'!R32,'Limestone Plant (LP-3)'!R32,'Limestone Plant (LP-4)'!R32,'Limestone Plant (LP-5)'!R32,'Limestone Plant (LP-6)'!R32,'Limestone Plant (LP-7)'!R32,'Limestone Plant (LP-8)'!R32,'Limestone Plant (LP-9)'!R32,'Limestone Plant (LP-10)'!R32))","v":""},{"$f":"IF(B9=\"\",\"\",SUM('Limestone Plant (LP-1)'!S32,'Limestone Plant (LP-2)'!S32,'Limestone Plant (LP-3)'!S32,'Limestone Plant (LP-4)'!S32,'Limestone Plant (LP-5)'!S32,'Limestone Plant (LP-6)'!S32,'Limestone Plant (LP-7)'!S32,'Limestone Plant (LP-8)'!S32,'Limestone Plant (LP-9)'!S32,'Limestone Plant (LP-10)'!S32))","v":""}]
[{"$f":"IF(SUM('Limestone Plant (LP-1)'!N24,'Limestone Plant (LP-2)'!N24,'Limestone Plant (LP-3)'!N24,'Limestone Plant (LP-4)'!N24,'Limestone Plant (LP-5)'!N24,'Limestone Plant (LP-6)'!N24,'Limestone Plant (LP-7)'!N24,'Limestone Plant (LP-8)'!N24,'Limestone Plant (LP-9)'!N24,'Limestone Plant (LP-10)'!N24)>0,\"ALL\",\"\")","v":""},{"$f":"IF(SUM('Limestone Plant (LP-1)'!N33,'Limestone Plant (LP-2)'!N33,'Limestone Plant (LP-3)'!N33,'Limestone Plant (LP-4)'!N33,'Limestone Plant (LP-5)'!N33,'Limestone Plant (LP-6)'!N33,'Limestone Plant (LP-7)'!N33,'Limestone Plant (LP-8)'!N33,'Limestone Plant (LP-9)'!N33,'Limestone Plant (LP-10)'!N33)>0,\"Fines Crusher\",\"\")","v":""},{"$f":"IF(SUM('Limestone Plant (LP-1)'!N24,'Limestone Plant (LP-2)'!N24,'Limestone Plant (LP-3)'!N24,'Limestone Plant (LP-4)'!N24,'Limestone Plant (LP-5)'!N24,'Limestone Plant (LP-6)'!N24,'Limestone Plant (LP-7)'!N24,'Limestone Plant (LP-8)'!N24,'Limestone Plant (LP-9)'!N24,'Limestone Plant (LP-10)'!N24)>0,\"30502005\",\"\")","v":""},{"$f":"IF(SUM('Limestone Plant (LP-1)'!N33,'Limestone Plant (LP-2)'!N33,'Limestone Plant (LP-3)'!N33,'Limestone Plant (LP-4)'!N33,'Limestone Plant (LP-5)'!N33,'Limestone Plant (LP-6)'!N33,'Limestone Plant (LP-7)'!N33,'Limestone Plant (LP-8)'!N33,'Limestone Plant (LP-9)'!N33,'Limestone Plant (LP-10)'!N33)>0,SUM('Limestone Plant (LP-1)'!N33,'Limestone Plant (LP-2)'!N33,'Limestone Plant (LP-3)'!N33,'Limestone Plant (LP-4)'!N33,'Limestone Plant (LP-5)'!N33,'Limestone Plant (LP-6)'!N33,'Limestone Plant (LP-7)'!N33,'Limestone Plant (LP-8)'!N33,'Limestone Plant (LP-9)'!N33,'Limestone Plant (LP-10)'!N33),\"\")","v":""},"",{"$f":"IF(B28=\"\",\"\",MAX('Limestone Plant (LP-1)'!O33,'Limestone Plant (LP-2)'!O33,'Limestone Plant (LP-3)'!O33,'Limestone Plant (LP-4)'!O33,'Limestone Plant (LP-5)'!O33,'Limestone Plant (LP-6)'!O33,'Limestone Plant (LP-7)'!O33,'Limestone Plant (LP-8)'!O33,'Limestone Plant (LP-9)'!O33,'Limestone Plant (LP-10)'!O33))","v":""},"","",{"$f":"IF(SUM('Limestone Plant (LP-1)'!P33,'Limestone Plant (LP-2)'!P33,'Limestone Plant (LP-3)'!P33,'Limestone Plant (LP-4)'!P33,'Limestone Plant (LP-5)'!P33,'Limestone Plant (LP-6)'!P33,'Limestone Plant (LP-7)'!P33,'Limestone Plant (LP-8)'!P33,'Limestone Plant (LP-9)'!P33,'Limestone Plant (LP-10)'!P33)>0,SUM('Limestone Plant (LP-1)'!P33,'Limestone Plant (LP-2)'!P33,'Limestone Plant (LP-3)'!P33,'Limestone Plant (LP-4)'!P33,'Limestone Plant (LP-5)'!P33,'Limestone Plant (LP-6)'!P33,'Limestone Plant (LP-7)'!P33,'Limestone Plant (LP-8)'!P33,'Limestone Plant (LP-9)'!P33,'Limestone Plant (LP-10)'!P33),\"\")","v":""},null,{"$f":"IF(D28=\"\",\"\",IF(SUM('Limestone Plant (LP-1)'!Q33,'Limestone Plant (LP-2)'!Q33,'Limestone Plant (LP-3)'!Q33,'Limestone Plant (LP-4)'!Q33,'Limestone Plant (LP-5)'!Q33,'Limestone Plant (LP-6)'!Q33,'Limestone Plant (LP-7)'!Q33,'Limestone Plant (LP-8)'!Q33,'Limestone Plant (LP-9)'!Q33,'Limestone Plant (LP-10)'!Q33)>0,SUM('Limestone Plant (LP-1)'!Q33,'Limestone Plant (LP-2)'!Q33,'Limestone Plant (LP-3)'!Q33,'Limestone Plant (LP-4)'!Q33,'Limestone Plant (LP-5)'!Q33,'Limestone Plant (LP-6)'!Q33,'Limestone Plant (LP-7)'!Q33,'Limestone Plant (LP-8)'!Q33,'Limestone Plant (LP-9)'!Q33,'Limestone Plant (LP-10)'!Q33),\"\"))","v":""},{"$f":"IF(B28=\"\",\"\",SUM('Limestone Plant (LP-1)'!R33,'Limestone Plant (LP-2)'!R33,'Limestone Plant (LP-3)'!R33,'Limestone Plant (LP-4)'!R33,'Limestone Plant (LP-5)'!R33,'Limestone Plant (LP-6)'!R33,'Limestone Plant (LP-7)'!R33,'Limestone Plant (LP-8)'!R33,'Limestone Plant (LP-9)'!R33,'Limestone Plant (LP-10)'!R33))","v":""},{"$f":"IF(B10=\"\",\"\",SUM('Limestone Plant (LP-1)'!S33,'Limestone Plant (LP-2)'!S33,'Limestone Plant (LP-3)'!S33,'Limestone Plant (LP-4)'!S33,'Limestone Plant (LP-5)'!S33,'Limestone Plant (LP-6)'!S33,'Limestone Plant (LP-7)'!S33,'Limestone Plant (LP-8)'!S33,'Limestone Plant (LP-9)'!S33,'Limestone Plant (LP-10)'!S33))","v":""}]
[{"$f":"IF(SUM('Limestone Plant (LP-1)'!N25,'Limestone Plant (LP-2)'!N25,'Limestone Plant (LP-3)'!N25,'Limestone Plant (LP-4)'!N25,'Limestone Plant (LP-5)'!N25,'Limestone Plant (LP-6)'!N25,'Limestone Plant (LP-7)'!N25,'Limestone Plant (LP-8)'!N25,'Limestone Plant (LP-9)'!N25,'Limestone Plant (LP-10)'!N25)>0,\"ALL\",\"\")","v":""},{"$f":"IF(SUM('Limestone Plant (LP-1)'!N34,'Limestone Plant (LP-2)'!N34,'Limestone Plant (LP-3)'!N34,'Limestone Plant (LP-4)'!N34,'Limestone Plant (LP-5)'!N34,'Limestone Plant (LP-6)'!N34,'Limestone Plant (LP-7)'!N34,'Limestone Plant (LP-8)'!N34,'Limestone Plant (LP-9)'!N34,'Limestone Plant (LP-10)'!N34)>0,\"Fines Screening\",\"\")","v":""},{"$f":"IF(SUM('Limestone Plant (LP-1)'!N25,'Limestone Plant (LP-2)'!N25,'Limestone Plant (LP-3)'!N25,'Limestone Plant (LP-4)'!N25,'Limestone Plant (LP-5)'!N25,'Limestone Plant (LP-6)'!N25,'Limestone Plant (LP-7)'!N25,'Limestone Plant (LP-8)'!N25,'Limestone Plant (LP-9)'!N25,'Limestone Plant (LP-10)'!N25)>0,\"30502021\",\"\")","v":""},{"$f":"IF(SUM('Limestone Plant (LP-1)'!N34,'Limestone Plant (LP-2)'!N34,'Limestone Plant (LP-3)'!N34,'Limestone Plant (LP-4)'!N34,'Limestone Plant (LP-5)'!N34,'Limestone Plant (LP-6)'!N34,'Limestone Plant (LP-7)'!N34,'Limestone Plant (LP-8)'!N34,'Limestone Plant (LP-9)'!N34,'Limestone Plant (LP-10)'!N34)>0,SUM('Limestone Plant (LP-1)'!N34,'Limestone Plant (LP-2)'!N34,'Limestone Plant (LP-3)'!N34,'Limestone Plant (LP-4)'!N34,'Limestone Plant (LP-5)'!N34,'Limestone Plant (LP-6)'!N34,'Limestone Plant (LP-7)'!N34,'Limestone Plant (LP-8)'!N34,'Limestone Plant (LP-9)'!N34,'Limestone Plant (LP-10)'!N34),\"\")","v":""},"",{"$f":"IF(B29=\"\",\"\",MAX('Limestone Plant (LP-1)'!O34,'Limestone Plant (LP-2)'!O34,'Limestone Plant (LP-3)'!O34,'Limestone Plant (LP-4)'!O34,'Limestone Plant (LP-5)'!O34,'Limestone Plant (LP-6)'!O34,'Limestone Plant (LP-7)'!O34,'Limestone Plant (LP-8)'!O34,'Limestone Plant (LP-9)'!O34,'Limestone Plant (LP-10)'!O34))","v":""},"","",{"$f":"IF(SUM('Limestone Plant (LP-1)'!P34,'Limestone Plant (LP-2)'!P34,'Limestone Plant (LP-3)'!P34,'Limestone Plant (LP-4)'!P34,'Limestone Plant (LP-5)'!P34,'Limestone Plant (LP-6)'!P34,'Limestone Plant (LP-7)'!P34,'Limestone Plant (LP-8)'!P34,'Limestone Plant (LP-9)'!P34,'Limestone Plant (LP-10)'!P34)>0,SUM('Limestone Plant (LP-1)'!P34,'Limestone Plant (LP-2)'!P34,'Limestone Plant (LP-3)'!P34,'Limestone Plant (LP-4)'!P34,'Limestone Plant (LP-5)'!P34,'Limestone Plant (LP-6)'!P34,'Limestone Plant (LP-7)'!P34,'Limestone Plant (LP-8)'!P34,'Limestone Plant (LP-9)'!P34,'Limestone Plant (LP-10)'!P34),\"\")","v":""},null,{"$f":"IF(D29=\"\",\"\",IF(SUM('Limestone Plant (LP-1)'!Q34,'Limestone Plant (LP-2)'!Q34,'Limestone Plant (LP-3)'!Q34,'Limestone Plant (LP-4)'!Q34,'Limestone Plant (LP-5)'!Q34,'Limestone Plant (LP-6)'!Q34,'Limestone Plant (LP-7)'!Q34,'Limestone Plant (LP-8)'!Q34,'Limestone Plant (LP-9)'!Q34,'Limestone Plant (LP-10)'!Q34)>0,SUM('Limestone Plant (LP-1)'!Q34,'Limestone Plant (LP-2)'!Q34,'Limestone Plant (LP-3)'!Q34,'Limestone Plant (LP-4)'!Q34,'Limestone Plant (LP-5)'!Q34,'Limestone Plant (LP-6)'!Q34,'Limestone Plant (LP-7)'!Q34,'Limestone Plant (LP-8)'!Q34,'Limestone Plant (LP-9)'!Q34,'Limestone Plant (LP-10)'!Q34),\"\"))","v":""},{"$f":"IF(B29=\"\",\"\",SUM('Limestone Plant (LP-1)'!R34,'Limestone Plant (LP-2)'!R34,'Limestone Plant (LP-3)'!R34,'Limestone Plant (LP-4)'!R34,'Limestone Plant (LP-5)'!R34,'Limestone Plant (LP-6)'!R34,'Limestone Plant (LP-7)'!R34,'Limestone Plant (LP-8)'!R34,'Limestone Plant (LP-9)'!R34,'Limestone Plant (LP-10)'!R34))","v":""},{"$f":"IF(B11=\"\",\"\",SUM('Limestone Plant (LP-1)'!S34,'Limestone Plant (LP-2)'!S34,'Limestone Plant (LP-3)'!S34,'Limestone Plant (LP-4)'!S34,'Limestone Plant (LP-5)'!S34,'Limestone Plant (LP-6)'!S34,'Limestone Plant (LP-7)'!S34,'Limestone Plant (LP-8)'!S34,'Limestone Plant (LP-9)'!S34,'Limestone Plant (LP-10)'!S34))","v":""}]
[{"$f":"IF(SUM('Limestone Plant (LP-1)'!N26,'Limestone Plant (LP-2)'!N26,'Limestone Plant (LP-3)'!N26,'Limestone Plant (LP-4)'!N26,'Limestone Plant (LP-5)'!N26,'Limestone Plant (LP-6)'!N26,'Limestone Plant (LP-7)'!N26,'Limestone Plant (LP-8)'!N26,'Limestone Plant (LP-9)'!N26,'Limestone Plant (LP-10)'!N26)>0,\"ALL\",\"\")","v":""},{"$f":"IF(SUM('Limestone Plant (LP-1)'!N35,'Limestone Plant (LP-2)'!N35,'Limestone Plant (LP-3)'!N35,'Limestone Plant (LP-4)'!N35,'Limestone Plant (LP-5)'!N35,'Limestone Plant (LP-6)'!N35,'Limestone Plant (LP-7)'!N35,'Limestone Plant (LP-8)'!N35,'Limestone Plant (LP-9)'!N35,'Limestone Plant (LP-10)'!N35)>0,\"Wet Drilling: Unfragmented Stone\",\"\")","v":""},{"$f":"IF(SUM('Limestone Plant (LP-1)'!N26,'Limestone Plant (LP-2)'!N26,'Limestone Plant (LP-3)'!N26,'Limestone Plant (LP-4)'!N26,'Limestone Plant (LP-5)'!N26,'Limestone Plant (LP-6)'!N26,'Limestone Plant (LP-7)'!N26,'Limestone Plant (LP-8)'!N26,'Limestone Plant (LP-9)'!N26,'Limestone Plant (LP-10)'!N26)>0,\"30502010\",\"\")","v":""},{"$f":"IF(SUM('Limestone Plant (LP-1)'!N35,'Limestone Plant (LP-2)'!N35,'Limestone Plant (LP-3)'!N35,'Limestone Plant (LP-4)'!N35,'Limestone Plant (LP-5)'!N35,'Limestone Plant (LP-6)'!N35,'Limestone Plant (LP-7)'!N35,'Limestone Plant (LP-8)'!N35,'Limestone Plant (LP-9)'!N35,'Limestone Plant (LP-10)'!N35)>0,SUM('Limestone Plant (LP-1)'!N35,'Limestone Plant (LP-2)'!N35,'Limestone Plant (LP-3)'!N35,'Limestone Plant (LP-4)'!N35,'Limestone Plant (LP-5)'!N35,'Limestone Plant (LP-6)'!N35,'Limestone Plant (LP-7)'!N35,'Limestone Plant (LP-8)'!N35,'Limestone Plant (LP-9)'!N35,'Limestone Plant (LP-10)'!N35),\"\")","v":""},"",{"$f":"IF(B30=\"\",\"\",MAX('Limestone Plant (LP-1)'!O35,'Limestone Plant (LP-2)'!O35,'Limestone Plant (LP-3)'!O35,'Limestone Plant (LP-4)'!O35,'Limestone Plant (LP-5)'!O35,'Limestone Plant (LP-6)'!O35,'Limestone Plant (LP-7)'!O35,'Limestone Plant (LP-8)'!O35,'Limestone Plant (LP-9)'!O35,'Limestone Plant (LP-10)'!O35))","v":""},"","",{"$f":"IF(SUM('Limestone Plant (LP-1)'!P35,'Limestone Plant (LP-2)'!P35,'Limestone Plant (LP-3)'!P35,'Limestone Plant (LP-4)'!P35,'Limestone Plant (LP-5)'!P35,'Limestone Plant (LP-6)'!P35,'Limestone Plant (LP-7)'!P35,'Limestone Plant (LP-8)'!P35,'Limestone Plant (LP-9)'!P35,'Limestone Plant (LP-10)'!P35)>0,SUM('Limestone Plant (LP-1)'!P35,'Limestone Plant (LP-2)'!P35,'Limestone Plant (LP-3)'!P35,'Limestone Plant (LP-4)'!P35,'Limestone Plant (LP-5)'!P35,'Limestone Plant (LP-6)'!P35,'Limestone Plant (LP-7)'!P35,'Limestone Plant (LP-8)'!P35,'Limestone Plant (LP-9)'!P35,'Limestone Plant (LP-10)'!P35),\"\")","v":""},null,{"$f":"IF(D30=\"\",\"\",IF(SUM('Limestone Plant (LP-1)'!Q35,'Limestone Plant (LP-2)'!Q35,'Limestone Plant (LP-3)'!Q35,'Limestone Plant (LP-4)'!Q35,'Limestone Plant (LP-5)'!Q35,'Limestone Plant (LP-6)'!Q35,'Limestone Plant (LP-7)'!Q35,'Limestone Plant (LP-8)'!Q35,'Limestone Plant (LP-9)'!Q35,'Limestone Plant (LP-10)'!Q35)>0,SUM('Limestone Plant (LP-1)'!Q35,'Limestone Plant (LP-2)'!Q35,'Limestone Plant (LP-3)'!Q35,'Limestone Plant (LP-4)'!Q35,'Limestone Plant (LP-5)'!Q35,'Limestone Plant (LP-6)'!Q35,'Limestone Plant (LP-7)'!Q35,'Limestone Plant (LP-8)'!Q35,'Limestone Plant (LP-9)'!Q35,'Limestone Plant (LP-10)'!Q35),\"\"))","v":""},{"$f":"IF(B30=\"\",\"\",SUM('Limestone Plant (LP-1)'!R35,'Limestone Plant (LP-2)'!R35,'Limestone Plant (LP-3)'!R35,'Limestone Plant (LP-4)'!R35,'Limestone Plant (LP-5)'!R35,'Limestone Plant (LP-6)'!R35,'Limestone Plant (LP-7)'!R35,'Limestone Plant (LP-8)'!R35,'Limestone Plant (LP-9)'!R35,'Limestone Plant (LP-10)'!R35))","v":""},{"$f":"IF(B12=\"\",\"\",SUM('Limestone Plant (LP-1)'!S35,'Limestone Plant (LP-2)'!S35,'Limestone Plant (LP-3)'!S35,'Limestone Plant (LP-4)'!S35,'Limestone Plant (LP-5)'!S35,'Limestone Plant (LP-6)'!S35,'Limestone Plant (LP-7)'!S35,'Limestone Plant (LP-8)'!S35,'Limestone Plant (LP-9)'!S35,'Limestone Plant (LP-10)'!S35))","v":""}]
[{"$f":"IF(SUM('Limestone Plant (LP-1)'!N27,'Limestone Plant (LP-2)'!N27,'Limestone Plant (LP-3)'!N27,'Limestone Plant (LP-4)'!N27,'Limestone Plant (LP-5)'!N27,'Limestone Plant (LP-6)'!N27,'Limestone Plant (LP-7)'!N27,'Limestone Plant (LP-8)'!N27,'Limestone Plant (LP-9)'!N27,'Limestone Plant (LP-10)'!N27)>0,\"ALL\",\"\")","v":""},{"$f":"IF(SUM('Limestone Plant (LP-1)'!N36,'Limestone Plant (LP-2)'!N36,'Limestone Plant (LP-3)'!N36,'Limestone Plant (LP-4)'!N36,'Limestone Plant (LP-5)'!N36,'Limestone Plant (LP-6)'!N36,'Limestone Plant (LP-7)'!N36,'Limestone Plant (LP-8)'!N36,'Limestone Plant (LP-9)'!N36,'Limestone Plant (LP-10)'!N36)>0,\"Conveyor Transfer Points\",\"\")","v":""},{"$f":"IF(SUM('Limestone Plant (LP-1)'!N27,'Limestone Plant (LP-2)'!N27,'Limestone Plant (LP-3)'!N27,'Limestone Plant (LP-4)'!N27,'Limestone Plant (LP-5)'!N27,'Limestone Plant (LP-6)'!N27,'Limestone Plant (LP-7)'!N27,'Limestone Plant (LP-8)'!N27,'Limestone Plant (LP-9)'!N27,'Limestone Plant (LP-10)'!N27)>0,\"30502006\",\"\")","v":""},{"$f":"IF(SUM('Limestone Plant (LP-1)'!N36,'Limestone Plant (LP-2)'!N36,'Limestone Plant (LP-3)'!N36,'Limestone Plant (LP-4)'!N36,'Limestone Plant (LP-5)'!N36,'Limestone Plant (LP-6)'!N36,'Limestone Plant (LP-7)'!N36,'Limestone Plant (LP-8)'!N36,'Limestone Plant (LP-9)'!N36,'Limestone Plant (LP-10)'!N36)>0,SUM('Limestone Plant (LP-1)'!N36,'Limestone Plant (LP-2)'!N36,'Limestone Plant (LP-3)'!N36,'Limestone Plant (LP-4)'!N36,'Limestone Plant (LP-5)'!N36,'Limestone Plant (LP-6)'!N36,'Limestone Plant (LP-7)'!N36,'Limestone Plant (LP-8)'!N36,'Limestone Plant (LP-9)'!N36,'Limestone Plant (LP-10)'!N36),\"\")","v":""},"",{"$f":"IF(B31=\"\",\"\",MAX('Limestone Plant (LP-1)'!O36,'Limestone Plant (LP-2)'!O36,'Limestone Plant (LP-3)'!O36,'Limestone Plant (LP-4)'!O36,'Limestone Plant (LP-5)'!O36,'Limestone Plant (LP-6)'!O36,'Limestone Plant (LP-7)'!O36,'Limestone Plant (LP-8)'!O36,'Limestone Plant (LP-9)'!O36,'Limestone Plant (LP-10)'!O36))","v":""},"","",{"$f":"IF(SUM('Limestone Plant (LP-1)'!P36,'Limestone Plant (LP-2)'!P36,'Limestone Plant (LP-3)'!P36,'Limestone Plant (LP-4)'!P36,'Limestone Plant (LP-5)'!P36,'Limestone Plant (LP-6)'!P36,'Limestone Plant (LP-7)'!P36,'Limestone Plant (LP-8)'!P36,'Limestone Plant (LP-9)'!P36,'Limestone Plant (LP-10)'!P36)>0,SUM('Limestone Plant (LP-1)'!P36,'Limestone Plant (LP-2)'!P36,'Limestone Plant (LP-3)'!P36,'Limestone Plant (LP-4)'!P36,'Limestone Plant (LP-5)'!P36,'Limestone Plant (LP-6)'!P36,'Limestone Plant (LP-7)'!P36,'Limestone Plant (LP-8)'!P36,'Limestone Plant (LP-9)'!P36,'Limestone Plant (LP-10)'!P36),\"\")","v":""},null,{"$f":"IF(D31=\"\",\"\",IF(SUM('Limestone Plant (LP-1)'!Q36,'Limestone Plant (LP-2)'!Q36,'Limestone Plant (LP-3)'!Q36,'Limestone Plant (LP-4)'!Q36,'Limestone Plant (LP-5)'!Q36,'Limestone Plant (LP-6)'!Q36,'Limestone Plant (LP-7)'!Q36,'Limestone Plant (LP-8)'!Q36,'Limestone Plant (LP-9)'!Q36,'Limestone Plant (LP-10)'!Q36)>0,SUM('Limestone Plant (LP-1)'!Q36,'Limestone Plant (LP-2)'!Q36,'Limestone Plant (LP-3)'!Q36,'Limestone Plant (LP-4)'!Q36,'Limestone Plant (LP-5)'!Q36,'Limestone Plant (LP-6)'!Q36,'Limestone Plant (LP-7)'!Q36,'Limestone Plant (LP-8)'!Q36,'Limestone Plant (LP-9)'!Q36,'Limestone Plant (LP-10)'!Q36),\"\"))","v":""},{"$f":"IF(B31=\"\",\"\",SUM('Limestone Plant (LP-1)'!R36,'Limestone Plant (LP-2)'!R36,'Limestone Plant (LP-3)'!R36,'Limestone Plant (LP-4)'!R36,'Limestone Plant (LP-5)'!R36,'Limestone Plant (LP-6)'!R36,'Limestone Plant (LP-7)'!R36,'Limestone Plant (LP-8)'!R36,'Limestone Plant (LP-9)'!R36,'Limestone Plant (LP-10)'!R36))","v":""},{"$f":"IF(B13=\"\",\"\",SUM('Limestone Plant (LP-1)'!S36,'Limestone Plant (LP-2)'!S36,'Limestone Plant (LP-3)'!S36,'Limestone Plant (LP-4)'!S36,'Limestone Plant (LP-5)'!S36,'Limestone Plant (LP-6)'!S36,'Limestone Plant (LP-7)'!S36,'Limestone Plant (LP-8)'!S36,'Limestone Plant (LP-9)'!S36,'Limestone Plant (LP-10)'!S36))","v":""}]
[{"$f":"IF(SUM('Limestone Plant (LP-1)'!N40,'Limestone Plant (LP-2)'!N40,'Limestone Plant (LP-3)'!N40,'Limestone Plant (LP-4)'!N40,'Limestone Plant (LP-5)'!N40,'Limestone Plant (LP-6)'!N40,'Limestone Plant (LP-7)'!N40,'Limestone Plant (LP-8)'!N40,'Limestone Plant (LP-9)'!N40,'Limestone Plant (LP-10)'!N40)>0,\"ALL\",\"\")","v":""},{"$f":"IF(SUM('Limestone Plant (LP-1)'!N40,'Limestone Plant (LP-2)'!N40,'Limestone Plant (LP-3)'!N40,'Limestone Plant (LP-4)'!N40,'Limestone Plant (LP-5)'!N40,'Limestone Plant (LP-6)'!N40,'Limestone Plant (LP-7)'!N40,'Limestone Plant (LP-8)'!N40,'Limestone Plant (LP-9)'!N40,'Limestone Plant (LP-10)'!N40)>0,\"Storage PIles\",\"\")","v":""},{"$f":"IF(B14=\"\",\"\",\"30502007\")","v":""},{"$f":"IF(B14=\"\",\"\",SUM('Limestone Plant (LP-1)'!N40,'Limestone Plant (LP-2)'!N40,'Limestone Plant (LP-3)'!N40,'Limestone Plant (LP-4)'!N40,'Limestone Plant (LP-5)'!N40,'Limestone Plant (LP-6)'!N40,'Limestone Plant (LP-7)'!N40,'Limestone Plant (LP-8)'!N40,'Limestone Plant (LP-9)'!N40,'Limestone Plant (LP-10)'!N40))","v":""},{"$f":"IF(B14=\"\",\"\",\"acre/day\")","v":""},{"$f":"IF('Limestone Plant (LP-1)'!N14=0,\"\",3.64)","v":""},{"$f":"IF(B14=\"\",\"\",\"lb/acre-day\")","v":""},{"$f":"IF(B14=\"\",\"\",\"WebFIRE\")","v":""},{"$f":"IF(B32=\"\",\"\",SUM('Limestone Plant (LP-1)'!P40,'Limestone Plant (LP-2)'!P40,'Limestone Plant (LP-3)'!P40,'Limestone Plant (LP-4)'!P40,'Limestone Plant (LP-5)'!P40,'Limestone Plant (LP-6)'!P40,'Limestone Plant (LP-7)'!P40,'Limestone Plant (LP-8)'!P40,'Limestone Plant (LP-9)'!P40,'Limestone Plant (LP-10)'!P40))","v":""},null,null,{"$f":"IF(D32=\"\",\"\",SUM('Limestone Plant (LP-1)'!R40,'Limestone Plant (LP-2)'!R40,'Limestone Plant (LP-3)'!R40,'Limestone Plant (LP-4)'!R40,'Limestone Plant (LP-5)'!R40,'Limestone Plant (LP-6)'!R40,'Limestone Plant (LP-7)'!R40,'Limestone Plant (LP-8)'!R40,'Limestone Plant (LP-9)'!R40,'Limestone Plant (LP-10)'!R40))","v":""},{"$f":"IF(E32=\"\",\"\",SUM('Limestone Plant (LP-1)'!S40,'Limestone Plant (LP-2)'!S40,'Limestone Plant (LP-3)'!S40,'Limestone Plant (LP-4)'!S40,'Limestone Plant (LP-5)'!S40,'Limestone Plant (LP-6)'!S40,'Limestone Plant (LP-7)'!S40,'Limestone Plant (LP-8)'!S40,'Limestone Plant (LP-9)'!S40,'Limestone Plant (LP-10)'!S40))","v":""}]
[{"$f":"IF(SUM('Haul Roads'!AH9:AH18)=0,\"\",\"ALL\")","v":""},{"$f":"IF(SUM('Haul Roads'!AH9:AH18)=0,\"\",\"Unpaved Haul Roads\")","v":""},{"$f":"IF(SUM('Haul Roads'!AH9:AH18)=0,\"\",\"30202054\")","v":""},{"$f":"IF(F33=\"\",\"\",'Haul Roads'!P39*'Haul Roads'!L39/8760)","v":""},{"$f":"IF(B15=\"\",\"\",\"vmt/hr\")","v":""},{"$f":"IF(B15=\"\",\"\",'Haul Roads'!Z39)","v":""},{"$f":"IF(F33=\"\",\"\",\"lb/vmt\")","v":""},{"$f":"IF(F33=\"\",\"\",\"AP-42 Ch 13.2.2\")","v":""},{"$f":"IF(F33=\"\",\"\",D33*F33)","v":""},{"$f":"IF(SUM('Haul Roads'!AB9:AB38)>0,40,\"\")","v":""},{"$f":"IF(SUM('Haul Roads'!AB9:AB38)>0,(SUM('Haul Roads'!AB9:AB38)),\"\")","v":""},{"$f":"IF(AND((SUM('Haul Roads'!$M$9:$M$38)>0),'Haul Roads'!L44>0),SUM('Haul Roads'!$AN$9:$AN$18),IF(B33=\"\",\"\",'Haul Roads'!L44))","v":""},{"$f":"IF(AND((SUM('Haul Roads'!$M$9:$M$38)>0),'Haul Roads'!L49>0),SUM('Haul Roads'!$AO$9:$AO$18),IF(B33=\"\",\"\",'Haul Roads'!L49))","v":""}]
[{"$f":"IF(SUM('Haul Roads'!AI9:AI18)=0,\"\",\"ALL\")","v":""},{"$f":"IF(SUM('Haul Roads'!AI9:AI18)=0,\"\",\"Paved Haul Roads\")","v":""},{"$f":"IF(SUM('Haul Roads'!AI9:AI18)=0,\"\",\"30202054\")","v":""},{"$f":"IF(F34=\"\",\"\",'Haul Roads'!P40*'Haul Roads'!L40/8760)","v":""},{"$f":"IF(B16=\"\",\"\",\"vmt/hr\")","v":""},{"$f":"IF(B16=\"\",\"\",'Haul Roads'!Z40)","v":""},{"$f":"IF(F34=\"\",\"\",\"lb/vmt\")","v":""},{"$f":"IF(F34=\"\",\"\",\"AP-42 Ch 13.2.1\")","v":""},{"$f":"IF(F34=\"\",\"\",D34*F34)","v":""},null,null,{"$f":"IF(B34=\"\",\"\",IF(AND((SUM('Haul Roads'!$M$9:$M$38)>0),'Haul Roads'!L45>0,'Haul Roads'!L44>0),\"\",IF(AND((SUM('Haul Roads'!$M$9:$M$38)>0),'Haul Roads'!L45>0),SUM('Haul Roads'!$AN$9:$AN$18),'Haul Roads'!L45)))","v":""},{"$f":"IF(B34=\"\",\"\",IF(AND((SUM('Haul Roads'!$M$9:$M$38)>0),'Haul Roads'!L50>0,'Haul Roads'!L49>0),\"\",IF(AND((SUM('Haul Roads'!$M$9:$M$38)>0),'Haul Roads'!L50>0),SUM('Haul Roads'!$AO$9:$AO$18),'Haul Roads'!L50)))","v":""}]
[{"$f":"IF('Permitted Diesel Engines'!R50=0,\"\",\"ALL\")","v":""},{"$f":"IF('Permitted Diesel Engines'!R50=0,\"\",\"Diesel Generator ≤ 600 bhp\")","v":""},{"$f":"IF('Permitted Diesel Engines'!R50=0,\"\",LOOKUP(B17,'Emission Factors'!A43:A44,'Emission Factors'!B43:B44))","v":""},{"$f":"IF('Permitted Diesel Engines'!R50=0,\"\",'Permitted Diesel Engines'!R50)","v":""},{"$f":"IF(B35=\"\",\"\",\"MMBtu/hr\")","v":""},{"$f":"IF(B35=\"\",\"\",LOOKUP(B35,'Emission Factors'!$A$43:$A$44,'Emission Factors'!$F$43:$F$44))","v":""},{"$f":"IF(B35=\"\",\"\",LOOKUP(B35,'Emission Factors'!$A$43:$A$44,'Emission Factors'!$C$43:$C$44))","v":""},{"$f":"IF(B35=\"\",\"\",LOOKUP(B35,'Emission Factors'!$A$43:$A$44,'Emission Factors'!$G$43:$G$44))","v":""},{"$f":"IF(B35=\"\",\"\",'Emission Calculations'!D35*'Emission Calculations'!F35)","v":""},null,null,{"$f":"IF(F35=\"\",\"\",'Permitted Diesel Engines'!AB77)","v":""},{"$f":"IF(B35=\"\",\"\",'Permitted Diesel Engines'!$T$50*F35/2000)","v":""}]
[{"$f":"IF('Permitted Diesel Engines'!R51=0,\"\",\"ALL\")","v":""},{"$f":"IF('Permitted Diesel Engines'!R51=0,\"\",\"Diesel Generator> 600 bhp\")","v":""},{"$f":"IF('Permitted Diesel Engines'!R51=0,\"\",LOOKUP(B18,'Emission Factors'!$A$43:$A$44,'Emission Factors'!$B$43:$B$44))","v":""},{"$f":"IF('Permitted Diesel Engines'!R51=0,\"\",'Permitted Diesel Engines'!R51)","v":""},{"$f":"IF(B36=\"\",\"\",\"MMBtu/hr\")","v":""},{"$f":"IF(B36=\"\",\"\",LOOKUP(B36,'Emission Factors'!$A$43:$A$44,'Emission Factors'!$F$43:$F$44))","v":""},{"$f":"IF(B36=\"\",\"\",LOOKUP(B36,'Emission Factors'!$A$43:$A$44,'Emission Factors'!$C$43:$C$44))","v":""},{"$f":"IF(B36=\"\",\"\",LOOKUP(B36,'Emission Factors'!$A$43:$A$44,'Emission Factors'!$G$43:$G$44))","v":""},{"$f":"IF(B36=\"\",\"\",'Emission Calculations'!D36*'Emission Calculations'!F36)","v":""},null,null,{"$f":"IF(F36=\"\",\"\",'Permitted Diesel Engines'!AC77)","v":""},{"$f":"IF(B36=\"\",\"\",'Permitted Diesel Engines'!$T$51*F36/2000)","v":""}]
[null,null,null,null,null,null,null,null,null,"FACILITY TOTALS:",null,{"$f":"SUM(L24:L36)","v":0},{"$f":"SUM(M24:M36)","v":0}]
[]
[null,null,null,null,null,null,null,null,"Potential Hourly Uncontrolled Emissions(lb/hr)",null,"Potential Hourly Controlled Emissions (lb/hr)","Potential Annual Emissions (tons/yr)","Actual Emissions (tons/yr)"]
["EP","Description of Process","SCC #","Max Design Rate","Units of Measure","Emission Factor","Units of Measure","Source of      Emission Factor",null,"Control Efficiency"]
[]
["SO2"]
[{"$f":"IF('Permitted Diesel Engines'!R50=0,\"\",\"ALL\")","v":""},{"$f":"IF('Permitted Diesel Engines'!R50=0,\"\",\"Diesel Generator ≤ 600 bhp\")","v":""},{"$f":"IF('Permitted Diesel Engines'!R50=0,\"\",LOOKUP(B43,'Emission Factors'!A43:A44,'Emission Factors'!B43:B44))","v":""},{"$f":"IF('Permitted Diesel Engines'!R50=0,\"\",'Permitted Diesel Engines'!R50)","v":""},{"$f":"IF(B43=\"\",\"\",\"MMBtu/hr\")","v":""},{"$f":"IF(B43=\"\",\"\",LOOKUP(B43,'Emission Factors'!$A$43:$A$44,'Emission Factors'!$H$43:$H$44))","v":""},{"$f":"IF(B43=\"\",\"\",LOOKUP(B43,'Emission Factors'!$A$43:$A$44,'Emission Factors'!$C$43:$C$44))","v":""},{"$f":"IF(B43=\"\",\"\",LOOKUP(B43,'Emission Factors'!$A$43:$A$44,'Emission Factors'!$I$43:$I$44))","v":""},{"$f":"IF('Permitted Diesel Engines'!R50=0,\"\",IF(F43='Emission Factors'!$H$43,D43*F43,'Emission Calculations'!D43*'Emission Calculations'!F43*$F$45))","v":""},null,{"$f":"IF(SUM('Limestone Plant (LP-1)'!F12,'Limestone Plant (LP-2)'!F12,'Limestone Plant (LP-3)'!F12,'Limestone Plant (LP-4)'!F12,'Limestone Plant (LP-5)'!F12,'Limestone Plant (LP-6)'!F12,'Limestone Plant (LP-7)'!F12,'Limestone Plant (LP-8)'!F12,'Limestone Plant (LP-9)'!F12,'Limestone Plant (LP-10)'!F12)>0,SUM('Limestone Plant (LP-1)'!F12,'Limestone Plant (LP-2)'!F12,'Limestone Plant (LP-3)'!F12,'Limestone Plant (LP-4)'!F12,'Limestone Plant (LP-5)'!F12,'Limestone Plant (LP-6)'!F12,'Limestone Plant (LP-7)'!F12,'Limestone Plant (LP-8)'!F12,'Limestone Plant (LP-9)'!F12,'Limestone Plant (LP-10)'!F12),\"\")","v":""},{"$f":"IF(SUM('Limestone Plant (LP-1)'!$G$12,'Limestone Plant (LP-2)'!$G$12,'Limestone Plant (LP-3)'!$G$12,'Limestone Plant (LP-4)'!$G$12,'Limestone Plant (LP-5)'!$G$12,'Limestone Plant (LP-6)'!$G$12,'Limestone Plant (LP-7)'!$G$12,'Limestone Plant (LP-8)'!$G$12,'Limestone Plant (LP-9)'!$G$12,'Limestone Plant (LP-10)'!$G$12)>0,SUM('Limestone Plant (LP-1)'!$G$12,'Limestone Plant (LP-2)'!$G$12,'Limestone Plant (LP-3)'!$G$12,'Limestone Plant (LP-4)'!$G$12,'Limestone Plant (LP-5)'!$G$12,'Limestone Plant (LP-6)'!$G$12,'Limestone Plant (LP-7)'!$G$12,'Limestone Plant (LP-8)'!$G$12,'Limestone Plant (LP-9)'!$G$12,'Limestone Plant (LP-10)'!$G$12>0),IF(F43=\"\",\"\",'Permitted Diesel Engines'!AD77))","v":""},{"$f":"IF(B43=\"\",\"\",'Permitted Diesel Engines'!$T50*F43/2000)","v":""}]
[{"$f":"IF('Permitted Diesel Engines'!R51=0,\"\",\"ALL\")","v":""},{"$f":"IF('Permitted Diesel Engines'!R51=0,\"\",\"Diesel Generator> 600 bhp\")","v":""},{"$f":"IF('Permitted Diesel Engines'!R51=0,\"\",LOOKUP(B44,'Emission Factors'!A44:A45,'Emission Factors'!B44:B45))","v":""},{"$f":"IF('Permitted Diesel Engines'!R51=0,\"\",'Permitted Diesel Engines'!R51)","v":""},{"$f":"IF(B44=\"\",\"\",\"MMBtu/hr\")","v":""},{"$f":"IF(B44=\"\",\"\",LOOKUP(B44,'Emission Factors'!$A$43:$A$44,'Emission Factors'!$H$43:$H$44))","v":""},{"$f":"IF(B44=\"\",\"\",LOOKUP(B44,'Emission Factors'!$A$43:$A$44,'Emission Factors'!$C$43:$C$44))","v":""},{"$f":"IF(B44=\"\",\"\",LOOKUP(B44,'Emission Factors'!$A$43:$A$44,'Emission Factors'!$I$43:$I$44))","v":""},{"$f":"IF('Permitted Diesel Engines'!R51=0,\"\",IF(F44='Emission Factors'!$H$43,D44*F44,'Emission Calculations'!D44*'Emission Calculations'!F44*$F$45))","v":""},null,{"$f":"IF(SUM('Limestone Plant (LP-1)'!F12,'Limestone Plant (LP-2)'!F12,'Limestone Plant (LP-3)'!F12,'Limestone Plant (LP-4)'!F12,'Limestone Plant (LP-5)'!F12,'Limestone Plant (LP-6)'!F12,'Limestone Plant (LP-7)'!F12,'Limestone Plant (LP-8)'!F12,'Limestone Plant (LP-9)'!F12,'Limestone Plant (LP-10)'!F12)>0,SUM('Limestone Plant (LP-1)'!F12,'Limestone Plant (LP-2)'!F12,'Limestone Plant (LP-3)'!F12,'Limestone Plant (LP-4)'!F12,'Limestone Plant (LP-5)'!F12,'Limestone Plant (LP-6)'!F12,'Limestone Plant (LP-7)'!F12,'Limestone Plant (LP-8)'!F12,'Limestone Plant (LP-9)'!F12,'Limestone Plant (LP-10)'!F12),\"\")","v":""},{"$f":"IF(F44=\"\",\"\",IF(SUM('Limestone Plant (LP-1)'!$G$12,'Limestone Plant (LP-2)'!$G$12,'Limestone Plant (LP-3)'!$G$12,'Limestone Plant (LP-4)'!$G$12,'Limestone Plant (LP-5)'!$G$12,'Limestone Plant (LP-6)'!$G$12,'Limestone Plant (LP-7)'!$G$12,'Limestone Plant (LP-8)'!$G$12,'Limestone Plant (LP-9)'!$G$12,'Limestone Plant (LP-10)'!$G$12)>0,\"\",'Permitted Diesel Engines'!AE77))","v":""},{"$f":"IF(B44=\"\",\"\",'Permitted Diesel Engines'!$T51*F44*$F$45/2000)","v":""}]
[null,null,null,"Percent Sulfur:",null,{"$f":"IF('Permitted Diesel Engines'!G4>0,'Permitted Diesel Engines'!G4,0.5)","v":0.5},null,null,null,"FACILITY TOTALS:",null,{"$f":"SUM(L43:L44)","v":0},{"$f":"SUM(M43:M44)","v":0}]
["NOx"]
[{"$f":"IF('Permitted Diesel Engines'!R50=0,\"\",\"ALL\")","v":""},{"$f":"IF('Permitted Diesel Engines'!R50=0,\"\",\"Diesel Generator ≤ 600 bhp\")","v":""},{"$f":"IF('Permitted Diesel Engines'!R50=0,\"\",LOOKUP(B47,'Emission Factors'!A43:A44,'Emission Factors'!B43:B44))","v":""},{"$f":"IF('Permitted Diesel Engines'!R50=0,\"\",'Permitted Diesel Engines'!R50)","v":""},{"$f":"IF(B47=\"\",\"\",\"MMBtu/hr\")","v":""},{"$f":"IF(B47=\"\",\"\",LOOKUP(B47,'Emission Factors'!$A$43:$A$44,'Emission Factors'!$J$43:$J$44))","v":""},{"$f":"IF(B47=\"\",\"\",LOOKUP(B47,'Emission Factors'!$A$43:$A$44,'Emission Factors'!$C$43:$C$44))","v":""},{"$f":"IF(B47=\"\",\"\",LOOKUP(B47,'Emission Factors'!$A$43:$A$44,'Emission Factors'!$K$43:$K$44))","v":""},{"$f":"IF(B47=\"\",\"\",'Emission Calculations'!D47*'Emission Calculations'!F47)","v":""},null,{"$f":"IF(SUM('Limestone Plant (LP-1)'!F13,'Limestone Plant (LP-2)'!F13,'Limestone Plant (LP-3)'!F13,'Limestone Plant (LP-4)'!F13,'Limestone Plant (LP-5)'!F13,'Limestone Plant (LP-6)'!F13,'Limestone Plant (LP-7)'!F13,'Limestone Plant (LP-8)'!F13,'Limestone Plant (LP-9)'!F13,'Limestone Plant (LP-10)'!F13)>0,SUM('Limestone Plant (LP-1)'!F13,'Limestone Plant (LP-2)'!F13,'Limestone Plant (LP-3)'!F13,'Limestone Plant (LP-4)'!F13,'Limestone Plant (LP-5)'!F13,'Limestone Plant (LP-6)'!F13,'Limestone Plant (LP-7)'!F13,'Limestone Plant (LP-8)'!F13,'Limestone Plant (LP-9)'!F13,'Limestone Plant (LP-10)'!F13),\"\")","v":""},{"$f":"IF(SUM('Limestone Plant (LP-1)'!$G$13,'Limestone Plant (LP-2)'!$G$13,'Limestone Plant (LP-3)'!$G$13,'Limestone Plant (LP-4)'!$G$13,'Limestone Plant (LP-5)'!$G$13,'Limestone Plant (LP-6)'!$G$13,'Limestone Plant (LP-7)'!$G$13,'Limestone Plant (LP-8)'!$G$13,'Limestone Plant (LP-9)'!$G$13,'Limestone Plant (LP-10)'!$G$13)>0,SUM('Limestone Plant (LP-1)'!$G$13,'Limestone Plant (LP-2)'!$G$13,'Limestone Plant (LP-3)'!$G$13,'Limestone Plant (LP-4)'!$G$13,'Limestone Plant (LP-5)'!$G$13,'Limestone Plant (LP-6)'!$G$13,'Limestone Plant (LP-7)'!$G$13,'Limestone Plant (LP-8)'!$G$13,'Limestone Plant (LP-9)'!$G$13,'Limestone Plant (LP-10)'!$G$13>0),IF(F47=\"\",\"\",'Permitted Diesel Engines'!AF77))","v":""},{"$f":"IF(B47=\"\",\"\",'Permitted Diesel Engines'!$T$50*F47/2000)","v":""}]
[{"$f":"IF('Permitted Diesel Engines'!R51=0,\"\",\"ALL\")","v":""},{"$f":"IF('Permitted Diesel Engines'!R51=0,\"\",\"Diesel Generator> 600 bhp\")","v":""},{"$f":"IF('Permitted Diesel Engines'!R51=0,\"\",LOOKUP(B48,'Emission Factors'!A44:A45,'Emission Factors'!B44:B45))","v":""},{"$f":"IF('Permitted Diesel Engines'!R51=0,\"\",'Permitted Diesel Engines'!R51)","v":""},{"$f":"IF(B48=\"\",\"\",\"MMBtu/hr\")","v":""},{"$f":"IF(B48=\"\",\"\",LOOKUP(B48,'Emission Factors'!$A$43:$A$44,'Emission Factors'!$J$43:$J$44))","v":""},{"$f":"IF(B48=\"\",\"\",LOOKUP(B48,'Emission Factors'!$A$43:$A$44,'Emission Factors'!$C$43:$C$44))","v":""},{"$f":"IF(B48=\"\",\"\",LOOKUP(B48,'Emission Factors'!$A$43:$A$44,'Emission Factors'!$K$43:$K$44))","v":""},{"$f":"IF(B48=\"\",\"\",'Emission Calculations'!D48*'Emission Calculations'!F48)","v":""},null,{"$f":"IF(SUM('Limestone Plant (LP-1)'!F13,'Limestone Plant (LP-2)'!F13,'Limestone Plant (LP-3)'!F13,'Limestone Plant (LP-4)'!F13,'Limestone Plant (LP-5)'!F13,'Limestone Plant (LP-6)'!F13,'Limestone Plant (LP-7)'!F13,'Limestone Plant (LP-8)'!F13,'Limestone Plant (LP-9)'!F13,'Limestone Plant (LP-10)'!F13)>0,SUM('Limestone Plant (LP-1)'!F13,'Limestone Plant (LP-2)'!F13,'Limestone Plant (LP-3)'!F13,'Limestone Plant (LP-4)'!F13,'Limestone Plant (LP-5)'!F13,'Limestone Plant (LP-6)'!F13,'Limestone Plant (LP-7)'!F13,'Limestone Plant (LP-8)'!F13,'Limestone Plant (LP-9)'!F13,'Limestone Plant (LP-10)'!F13),\"\")","v":""},{"$f":"IF(F48=\"\",\"\",IF(SUM('Limestone Plant (LP-1)'!$G$13,'Limestone Plant (LP-2)'!$G$13,'Limestone Plant (LP-3)'!$G$13,'Limestone Plant (LP-4)'!$G$13,'Limestone Plant (LP-5)'!$G$13,'Limestone Plant (LP-6)'!$G$13,'Limestone Plant (LP-7)'!$G$13,'Limestone Plant (LP-8)'!$G$13,'Limestone Plant (LP-9)'!$G$13,'Limestone Plant (LP-10)'!$G$13)>0,\"\",'Permitted Diesel Engines'!AG77))","v":""},{"$f":"IF(B48=\"\",\"\",'Permitted Diesel Engines'!$T$51*F48/2000)","v":""}]
[null,null,null,null,null,null,null,null,null,"FACILITY TOTALS:",null,{"$f":"SUM(L47:L48)","v":0},{"$f":"SUM(M47:M48)","v":0}]
["VOC"]
[{"$f":"IF('Permitted Diesel Engines'!R50=0,\"\",\"ALL\")","v":""},{"$f":"IF('Permitted Diesel Engines'!R50=0,\"\",\"Diesel Generator ≤ 600 bhp\")","v":""},{"$f":"IF('Permitted Diesel Engines'!R50=0,\"\",LOOKUP(B51,'Emission Factors'!A43:A44,'Emission Factors'!B43:B44))","v":""},{"$f":"IF('Permitted Diesel Engines'!R50=0,\"\",'Permitted Diesel Engines'!R50)","v":""},{"$f":"IF(B51=\"\",\"\",\"MMBtu/hr\")","v":""},{"$f":"IF(B51=\"\",\"\",LOOKUP(B51,'Emission Factors'!$A$43:$A$44,'Emission Factors'!$L$43:$L$44))","v":""},{"$f":"IF(B51=\"\",\"\",LOOKUP(B51,'Emission Factors'!$A$43:$A$44,'Emission Factors'!$C$43:$C$44))","v":""},{"$f":"IF(B51=\"\",\"\",LOOKUP(B51,'Emission Factors'!$A$43:$A$44,'Emission Factors'!$M$43:$M$44))","v":""},{"$f":"IF(B51=\"\",\"\",'Emission Calculations'!D51*'Emission Calculations'!F51)","v":""},null,{"$f":"IF(SUM('Limestone Plant (LP-1)'!F14,'Limestone Plant (LP-2)'!F14,'Limestone Plant (LP-3)'!F14,'Limestone Plant (LP-4)'!F14,'Limestone Plant (LP-5)'!F14,'Limestone Plant (LP-6)'!F14,'Limestone Plant (LP-7)'!F14,'Limestone Plant (LP-8)'!F14,'Limestone Plant (LP-9)'!F14,'Limestone Plant (LP-10)'!F14)>0,SUM('Limestone Plant (LP-1)'!F14,'Limestone Plant (LP-2)'!F14,'Limestone Plant (LP-3)'!F14,'Limestone Plant (LP-4)'!F14,'Limestone Plant (LP-5)'!F14,'Limestone Plant (LP-6)'!F14,'Limestone Plant (LP-7)'!F14,'Limestone Plant (LP-8)'!F14,'Limestone Plant (LP-9)'!F14,'Limestone Plant (LP-10)'!F14),\"\")","v":""},{"$f":"IF(SUM('Limestone Plant (LP-1)'!$G$14,'Limestone Plant (LP-2)'!$G$14,'Limestone Plant (LP-3)'!$G$14,'Limestone Plant (LP-4)'!$G$13,'Limestone Plant (LP-5)'!$G$14,'Limestone Plant (LP-6)'!$G$14,'Limestone Plant (LP-7)'!$G$14,'Limestone Plant (LP-8)'!$G$14,'Limestone Plant (LP-9)'!$G$14,'Limestone Plant (LP-10)'!$G$14)>0,SUM('Limestone Plant (LP-1)'!$G$14,'Limestone Plant (LP-2)'!$G$14,'Limestone Plant (LP-3)'!$G$14,'Limestone Plant (LP-4)'!$G$14,'Limestone Plant (LP-5)'!$G$14,'Limestone Plant (LP-6)'!$G$14,'Limestone Plant (LP-7)'!$G$14,'Limestone Plant (LP-8)'!$G$14,'Limestone Plant (LP-9)'!$G$14,'Limestone Plant (LP-10)'!$G$14>0),IF(F51=\"\",\"\",'Permitted Diesel Engines'!AH77))","v":""},{"$f":"IF(B51=\"\",\"\",'Permitted Diesel Engines'!$T$50*F51/2000)","v":""}]
[{"$f":"IF('Permitted Diesel Engines'!R51=0,\"\",\"ALL\")","v":""},{"$f":"IF('Permitted Diesel Engines'!R51=0,\"\",\"Diesel Generator> 600 bhp\")","v":""},{"$f":"IF('Permitted Diesel Engines'!R51=0,\"\",LOOKUP(B52,'Emission Factors'!A44:A45,'Emission Factors'!B44:B45))","v":""},{"$f":"IF('Permitted Diesel Engines'!R51=0,\"\",'Permitted Diesel Engines'!R51)","v":""},{"$f":"IF(B52=\"\",\"\",\"MMBtu/hr\")","v":""},{"$f":"IF(B52=\"\",\"\",LOOKUP(B52,'Emission Factors'!$A$43:$A$44,'Emission Factors'!$L$43:$L$44))","v":""},{"$f":"IF(B52=\"\",\"\",LOOKUP(B52,'Emission Factors'!$A$43:$A$44,'Emission Factors'!$C$43:$C$44))","v":""},{"$f":"IF(B52=\"\",\"\",LOOKUP(B52,'Emission Factors'!$A$43:$A$44,'Emission Factors'!$M$43:$M$44))","v":""},{"$f":"IF(B52=\"\",\"\",'Emission Calculations'!D52*'Emission Calculations'!F52)","v":""},null,{"$f":"IF(SUM('Limestone Plant (LP-1)'!F14,'Limestone Plant (LP-2)'!F14,'Limestone Plant (LP-3)'!F14,'Limestone Plant (LP-4)'!F14,'Limestone Plant (LP-5)'!F14,'Limestone Plant (LP-6)'!F14,'Limestone Plant (LP-7)'!F14,'Limestone Plant (LP-8)'!F14,'Limestone Plant (LP-9)'!F14,'Limestone Plant (LP-10)'!F14)>0,SUM('Limestone Plant (LP-1)'!F14,'Limestone Plant (LP-2)'!F14,'Limestone Plant (LP-3)'!F14,'Limestone Plant (LP-4)'!F14,'Limestone Plant (LP-5)'!F14,'Limestone Plant (LP-6)'!F14,'Limestone Plant (LP-7)'!F14,'Limestone Plant (LP-8)'!F14,'Limestone Plant (LP-9)'!F14,'Limestone Plant (LP-10)'!F14),\"\")","v":""},{"$f":"IF(F52=\"\",\"\",IF(SUM('Limestone Plant (LP-1)'!$G$14,'Limestone Plant (LP-2)'!$G$14,'Limestone Plant (LP-3)'!$G$14,'Limestone Plant (LP-4)'!$G$13,'Limestone Plant (LP-5)'!$G$14,'Limestone Plant (LP-6)'!$G$14,'Limestone Plant (LP-7)'!$G$14,'Limestone Plant (LP-8)'!$G$14,'Limestone Plant (LP-9)'!$G$14,'Limestone Plant (LP-10)'!$G$14)>0,\"\",'Permitted Diesel Engines'!AI77))","v":""},{"$f":"IF(B52=\"\",\"\",'Permitted Diesel Engines'!$T$51*F52/2000)","v":""}]
[null,null,null,null,null,null,null,null,null,"FACILITY TOTALS:",null,{"$f":"SUM(L51:L52)","v":0},{"$f":"SUM(M51:M52)","v":0}]
["CO"]
[{"$f":"IF('Permitted Diesel Engines'!R50=0,\"\",\"ALL\")","v":""},{"$f":"IF('Permitted Diesel Engines'!R50=0,\"\",\"Diesel Generator ≤ 600 bhp\")","v":""},{"$f":"IF('Permitted Diesel Engines'!R50=0,\"\",LOOKUP(B55,'Emission Factors'!A43:A44,'Emission Factors'!B43:B44))","v":""},{"$f":"IF('Permitted Diesel Engines'!R50=0,\"\",'Permitted Diesel Engines'!R50)","v":""},{"$f":"IF(B55=\"\",\"\",\"MMBtu/hr\")","v":""},{"$f":"IF(B55=\"\",\"\",LOOKUP(B55,'Emission Factors'!$A$43:$A$44,'Emission Factors'!$N$43:$N$44))","v":""},{"$f":"IF(B55=\"\",\"\",LOOKUP(B55,'Emission Factors'!$A$43:$A$44,'Emission Factors'!$C$43:$C$44))","v":""},{"$f":"IF(B55=\"\",\"\",LOOKUP(B55,'Emission Factors'!$A$43:$A$44,'Emission Factors'!$O$43:$O$44))","v":""},{"$f":"IF(B55=\"\",\"\",'Emission Calculations'!D55*'Emission Calculations'!F55)","v":""},null,{"$f":"IF(SUM('Limestone Plant (LP-1)'!F15,'Limestone Plant (LP-2)'!F15,'Limestone Plant (LP-3)'!F15,'Limestone Plant (LP-4)'!F15,'Limestone Plant (LP-5)'!F15,'Limestone Plant (LP-6)'!F15,'Limestone Plant (LP-7)'!F15,'Limestone Plant (LP-8)'!F15,'Limestone Plant (LP-9)'!F15,'Limestone Plant (LP-10)'!F15)>0,SUM('Limestone Plant (LP-1)'!F15,'Limestone Plant (LP-2)'!F15,'Limestone Plant (LP-3)'!F15,'Limestone Plant (LP-4)'!F15,'Limestone Plant (LP-5)'!F15,'Limestone Plant (LP-6)'!F15,'Limestone Plant (LP-7)'!F15,'Limestone Plant (LP-8)'!F15,'Limestone Plant (LP-9)'!F15,'Limestone Plant (LP-10)'!F15),\"\")","v":""},{"$f":"IF(SUM('Limestone Plant (LP-1)'!$G$15,'Limestone Plant (LP-2)'!$G$15,'Limestone Plant (LP-3)'!$G$15,'Limestone Plant (LP-4)'!$G$15,'Limestone Plant (LP-5)'!$G$15,'Limestone Plant (LP-6)'!$G$15,'Limestone Plant (LP-7)'!$G$15,'Limestone Plant (LP-8)'!$G$15,'Limestone Plant (LP-9)'!$G$15,'Limestone Plant (LP-10)'!$G$15)>0,SUM('Limestone Plant (LP-1)'!$G$15,'Limestone Plant (LP-2)'!$G$15,'Limestone Plant (LP-3)'!$G$15,'Limestone Plant (LP-4)'!$G$15,'Limestone Plant (LP-5)'!$G$15,'Limestone Plant (LP-6)'!$G$15,'Limestone Plant (LP-7)'!$G$15,'Limestone Plant (LP-8)'!$G$15,'Limestone Plant (LP-9)'!$G$15,'Limestone Plant (LP-10)'!$G$15>0),IF(F55=\"\",\"\",'Permitted Diesel Engines'!AJ77))","v":""},{"$f":"IF(B55=\"\",\"\",'Permitted Diesel Engines'!$T$50*F55/2000)","v":""}]
[{"$f":"IF('Permitted Diesel Engines'!R51=0,\"\",\"ALL\")","v":""},{"$f":"IF('Permitted Diesel Engines'!R51=0,\"\",\"Diesel Generator> 600 bhp\")","v":""},{"$f":"IF('Permitted Diesel Engines'!R51=0,\"\",LOOKUP(B56,'Emission Factors'!A44:A45,'Emission Factors'!B44:B45))","v":""},{"$f":"IF('Permitted Diesel Engines'!R51=0,\"\",'Permitted Diesel Engines'!R51)","v":""},{"$f":"IF(B56=\"\",\"\",\"MMBtu/hr\")","v":""},{"$f":"IF(B56=\"\",\"\",LOOKUP(B56,'Emission Factors'!$A$43:$A$44,'Emission Factors'!$N$43:$N$44))","v":""},{"$f":"IF(B56=\"\",\"\",LOOKUP(B56,'Emission Factors'!$A$43:$A$44,'Emission Factors'!$C$43:$C$44))","v":""},{"$f":"IF(B56=\"\",\"\",LOOKUP(B56,'Emission Factors'!$A$43:$A$44,'Emission Factors'!$O$43:$O$44))","v":""},{"$f":"IF(B56=\"\",\"\",'Emission Calculations'!D56*'Emission Calculations'!F56)","v":""},null,{"$f":"IF(SUM('Limestone Plant (LP-1)'!F15,'Limestone Plant (LP-2)'!F15,'Limestone Plant (LP-3)'!F15,'Limestone Plant (LP-4)'!F15,'Limestone Plant (LP-5)'!F15,'Limestone Plant (LP-6)'!F15,'Limestone Plant (LP-7)'!F15,'Limestone Plant (LP-8)'!F15,'Limestone Plant (LP-9)'!F15,'Limestone Plant (LP-10)'!F15)>0,SUM('Limestone Plant (LP-1)'!F15,'Limestone Plant (LP-2)'!F15,'Limestone Plant (LP-3)'!F15,'Limestone Plant (LP-4)'!F15,'Limestone Plant (LP-5)'!F15,'Limestone Plant (LP-6)'!F15,'Limestone Plant (LP-7)'!F15,'Limestone Plant (LP-8)'!F15,'Limestone Plant (LP-9)'!F15,'Limestone Plant (LP-10)'!F15),\"\")","v":""},{"$f":"IF(F56=\"\",\"\",IF(SUM('Limestone Plant (LP-1)'!$G$15,'Limestone Plant (LP-2)'!$G$15,'Limestone Plant (LP-3)'!$G$15,'Limestone Plant (LP-4)'!$G$15,'Limestone Plant (LP-5)'!$G$15,'Limestone Plant (LP-6)'!$G$15,'Limestone Plant (LP-7)'!$G$15,'Limestone Plant (LP-8)'!$G$15,'Limestone Plant (LP-9)'!$G$15,'Limestone Plant (LP-10)'!$G$15)>0,\"\",'Permitted Diesel Engines'!AK77))","v":""},{"$f":"IF(B56=\"\",\"\",'Permitted Diesel Engines'!$T$51*F56/2000)","v":""}]
[null,null,null,null,null,null,null,null,null,"FACILITY TOTALS:",null,{"$f":"SUM(L55:L56)","v":0},{"$f":"SUM(M55:M56)","v":0}]
["Formaldehyde"]
[{"$f":"IF('Permitted Diesel Engines'!R50=0,\"\",\"ALL\")","v":""},{"$f":"IF('Permitted Diesel Engines'!R50=0,\"\",\"Diesel Generator ≤ 600 bhp\")","v":""},{"$f":"IF('Permitted Diesel Engines'!R50=0,\"\",LOOKUP(B59,'Emission Factors'!A43:A44,'Emission Factors'!B43:B44))","v":""},{"$f":"IF('Permitted Diesel Engines'!R50=0,\"\",'Permitted Diesel Engines'!R50)","v":""},{"$f":"IF(B59=\"\",\"\",\"MMBtu/hr\")","v":""},{"$f":"IF(B59=\"\",\"\",LOOKUP(B59,'Emission Factors'!$A$43:$A$44,'Emission Factors'!$P$43:$P$44))","v":""},{"$f":"IF(B59=\"\",\"\",LOOKUP(B59,'Emission Factors'!$A$43:$A$44,'Emission Factors'!$C$43:$C$44))","v":""},{"$f":"IF(B59=\"\",\"\",LOOKUP(B59,'Emission Factors'!$A$43:$A$44,'Emission Factors'!$Q$43:$Q$44))","v":""},{"$f":"IF(B59=\"\",\"\",'Emission Calculations'!D59*'Emission Calculations'!F59)","v":""},null,null,{"$f":"IF(F59=\"\",\"\",'Permitted Diesel Engines'!AL77)","v":""},{"$f":"IF(B59=\"\",\"\",'Permitted Diesel Engines'!$T$50*F59/2000)","v":""}]
[{"$f":"IF('Permitted Diesel Engines'!R51=0,\"\",\"ALL\")","v":""},{"$f":"IF('Permitted Diesel Engines'!R51=0,\"\",\"Diesel Generator> 600 bhp\")","v":""},{"$f":"IF('Permitted Diesel Engines'!R51=0,\"\",LOOKUP(B60,'Emission Factors'!A44:A45,'Emission Factors'!B44:B45))","v":""},{"$f":"IF('Permitted Diesel Engines'!R51=0,\"\",'Permitted Diesel Engines'!R51)","v":""},{"$f":"IF(B60=\"\",\"\",\"MMBtu/hr\")","v":""},{"$f":"IF(B60=\"\",\"\",LOOKUP(B60,'Emission Factors'!$A$43:$A$44,'Emission Factors'!$P$43:$P$44))","v":""},{"$f":"IF(B60=\"\",\"\",LOOKUP(B60,'Emission Factors'!$A$43:$A$44,'Emission Factors'!$C$43:$C$44))","v":""},{"$f":"IF(B60=\"\",\"\",LOOKUP(B60,'Emission Factors'!$A$43:$A$44,'Emission Factors'!$Q$43:$Q$44))","v":""},{"$f":"IF(B60=\"\",\"\",'Emission Calculations'!D60*'Emission Calculations'!F60)","v":""},null,null,{"$f":"IF(F60=\"\",\"\",'Permitted Diesel Engines'!AM77)","v":""},{"$f":"IF(B60=\"\",\"\",'Permitted Diesel Engines'!$T$51*F60/2000)","v":""}]
[null,null,null,null,null,null,null,null,null,"FACILITY TOTALS:",null,{"$f":"SUM(L59:L60)","v":0},{"$f":"SUM(M59:M60)","v":0}]
["Benzene"]
[{"$f":"IF('Permitted Diesel Engines'!R50=0,\"\",\"ALL\")","v":""},{"$f":"IF('Permitted Diesel Engines'!R50=0,\"\",\"Diesel Generator ≤ 600 bhp\")","v":""},{"$f":"IF('Permitted Diesel Engines'!R50=0,\"\",LOOKUP(B63,'Emission Factors'!A43:A44,'Emission Factors'!B43:B44))","v":""},{"$f":"IF('Permitted Diesel Engines'!R50=0,\"\",'Permitted Diesel Engines'!R50)","v":""},{"$f":"IF(B63=\"\",\"\",\"MMBtu/hr\")","v":""},{"$f":"IF(B63=\"\",\"\",LOOKUP(B63,'Emission Factors'!$A$43:$A$44,'Emission Factors'!$R$43:$R$44))","v":""},{"$f":"IF(B63=\"\",\"\",LOOKUP(B63,'Emission Factors'!$A$43:$A$44,'Emission Factors'!$C$43:$C$44))","v":""},{"$f":"IF(B63=\"\",\"\",LOOKUP(B63,'Emission Factors'!$A$43:$A$44,'Emission Factors'!$S$43:$S$44))","v":""},{"$f":"IF(B63=\"\",\"\",'Emission Calculations'!D63*'Emission Calculations'!F63)","v":""},null,null,{"$f":"IF(F63=\"\",\"\",'Permitted Diesel Engines'!AN77)","v":""},{"$f":"IF(B63=\"\",\"\",'Permitted Diesel Engines'!$T$50*F63/2000)","v":""}]
[{"$f":"IF('Permitted Diesel Engines'!R51=0,\"\",\"ALL\")","v":""},{"$f":"IF('Permitted Diesel Engines'!R51=0,\"\",\"Diesel Generator> 600 bhp\")","v":""},{"$f":"IF('Permitted Diesel Engines'!R51=0,\"\",LOOKUP(B64,'Emission Factors'!A44:A45,'Emission Factors'!B44:B45))","v":""},{"$f":"IF('Permitted Diesel Engines'!R51=0,\"\",'Permitted Diesel Engines'!R51)","v":""},{"$f":"IF(B64=\"\",\"\",\"MMBtu/hr\")","v":""},{"$f":"IF(B64=\"\",\"\",LOOKUP(B64,'Emission Factors'!$A$43:$A$44,'Emission Factors'!$R$43:$R$44))","v":""},{"$f":"IF(B64=\"\",\"\",LOOKUP(B64,'Emission Factors'!$A$43:$A$44,'Emission Factors'!$C$43:$C$44))","v":""},{"$f":"IF(B64=\"\",\"\",LOOKUP(B64,'Emission Factors'!$A$43:$A$44,'Emission Factors'!$S$43:$S$44))","v":""},{"$f":"IF(B64=\"\",\"\",'Emission Calculations'!D64*'Emission Calculations'!F64)","v":""},null,null,{"$f":"IF(F64=\"\",\"\",'Permitted Diesel Engines'!AO77)","v":""},{"$f":"IF(B64=\"\",\"\",'Permitted Diesel Engines'!$T$51*F64/2000)","v":""}]
[null,null,null,null,null,null,null,null,null,"FACILITY TOTALS:",null,{"$f":"SUM(L63:L64)","v":0},{"$f":"SUM(M63:M64)","v":0}]

{"sheet":"Facility Wide Emissions","index":14,"n_rows":147,"n_cols":16,"rows_kept":147,"cut":false,"hidden":false,"merged":[[146,9,146,10],[129,9,129,10],[142,9,142,10],[130,9,130,10],[143,9,143,10],[131,9,131,10],[144,9,144,10],[139,9,139,10],[140,9,140,10],[141,9,141,10],[123,9,123,10],[136,9,136,10],[124,9,124,10],[137,9,137,10],[125,9,125,10],[138,9,138,10],[132,9,132,10],[145,9,145,10],[133,9,133,10],[145,2,145,3],[133,2,133,3],[146,2,146,3],[122,8,122,11],[135,8,135,11],[129,2,129,3],[142,2,142,3],[130,2,130,3],[143,2,143,3],[131,2,131,3],[144,2,144,3],[126,2,126,3],[139,2,139,3],[127,2,127,3],[140,2,140,3],[128,2,128,3],[141,2,141,3],[123,2,123,3],[136,2,136,3],[124,2,124,3],[137,2,137,3],[125,2,125,3],[138,2,138,3],[126,9,126,10],[119,9,119,10],[107,9,107,10],[120,9,120,10],[122,1,122,4],[135,1,135,4],[103,9,103,10],[116,9,116,10],[104,9,104,10],[117,9,117,10],[105,9,105,10],[118,9,118,10],[106,2,106,3],[119,2,119,3],[107,2,107,3],[120,2,120,3],[132,2,132,3],[113,9,113,10],[116,2,116,3],[104,2,104,3],[117,2,117,3],[105,2,105,3],[118,2,118,3],[127,9,127,10],[128,9,128,10],[101,9,101,10],[114,9,114,10],[102,9,102,10],[115,9,115,10],[97,9,97,10],[110,9,110,10],[98,9,98,10],[111,9,111,10],[99,9,99,10],[112,9,112,10],[106,9,106,10],[100,2,100,3],[113,2,113,3],[101,2,101,3],[114,2,114,3],[102,2,102,3],[115,2,115,3],[110,2,110,3],[111,2,111,3],[112,2,112,3],[93,9,93,10],[81,9,81,10],[94,9,94,10],[96,1,96,4],[109,1,109,4],[77,9,77,10],[90,9,90,10],[78,9,78,10],[91,9,91,10],[79,9,79,10],[92,9,92,10],[80,2,80,3],[93,2,93,3],[81,2,81,3],[94,2,94,3],[96,8,96,11],[109,8,109,11],[103,2,103,3],[97,2,97,3],[98,2,98,3],[99,2,99,3],[100,9,100,10],[87,9,87,10],[90,2,90,3],[88,9,88,10],[76,9,76,10],[89,9,89,10],[71,9,71,10],[84,9,84,10],[72,9,72,10],[85,9,85,10],[73,9,73,10],[86,9,86,10],[80,9,80,10],[91,2,91,3],[79,2,79,3],[92,2,92,3],[74,2,74,3],[87,2,87,3],[75,2,75,3],[88,2,88,3],[76,2,76,3],[89,2,89,3],[84,2,84,3],[85,2,85,3],[86,2,86,3],[68,9,68,10],[70,1,70,4],[83,1,83,4],[51,9,51,10],[64,9,64,10],[52,9,52,10],[65,9,65,10],[53,9,53,10],[66,9,66,10],[54,2,54,3],[67,2,67,3],[55,2,55,3],[68,2,68,3],[70,8,70,11],[83,8,83,11],[77,2,77,3],[71,2,71,3],[72,2,72,3],[73,2,73,3],[74,9,74,10],[62,9,62,10],[64,2,64,3],[78,2,78,3],[75,9,75,10],[63,9,63,10],[45,9,45,10],[58,9,58,10],[46,9,46,10],[59,9,59,10],[47,9,47,10],[60,9,60,10],[54,9,54,10],[67,9,67,10],[55,9,55,10],[45,2,45,3],[58,2,58,3],[46,2,46,3],[59,2,59,3],[47,2,47,3],[60,2,60,3],[48,9,48,10],[61,9,61,10],[49,9,49,10],[51,2,51,3],[52,2,52,3],[50,9,50,10],[65,2,65,3],[53,2,53,3],[66,2,66,3],[48,2,48,3],[61,2,61,3],[49,2,49,3],[62,2,62,3],[50,2,50,3],[63,2,63,3],[18,1,18,4],[44,1,44,4],[57,1,57,4],[27,9,27,10],[40,9,40,10],[28,9,28,10],[41,9,41,10],[29,9,29,10],[42,9,42,10],[24,9,24,10],[37,9,37,10],[25,9,25,10],[38,9,38,10],[26,9,26,10],[39,9,39,10],[21,9,21,10],[34,9,34,10],[22,9,22,10],[35,9,35,10],[23,9,23,10],[36,9,36,10],[18,8,18,11],[44,8,44,11],[57,8,57,11],[31,8,31,11],[19,9,19,10],[32,9,32,10],[20,9,20,10],[33,9,33,10],[27,2,27,3],[28,2,28,3],[29,2,29,3],[31,1,31,4],[32,2,32,3],[33,2,33,3],[21,2,21,3],[22,2,22,3],[23,2,23,3],[24,2,24,3],[25,2,25,3],[26,2,26,3],[20,2,20,3],[19,2,19,3],[34,2,34,3],[35,2,35,3],[36,2,36,3],[37,2,37,3],[38,2,38,3],[39,2,39,3],[40,2,40,3],[41,2,41,3],[42,2,42,3],[16,0,16,4],[4,13,4,14],[4,2,4,3],[5,13,5,14],[10,13,10,14],[14,2,14,3],[11,2,11,3],[12,2,12,3],[13,2,13,3],[9,2,9,3],[0,0,0,4],[10,2,10,3],[12,13,12,14],[8,2,8,3],[6,13,6,14],[7,13,7,14],[8,13,8,14],[14,13,14,14],[9,13,9,14],[13,13,13,14],[11,13,11,14],[6,2,6,3],[7,2,7,3],[5,2,5,3],[3,12,3,15],[3,1,3,4]]}
["FACILITY WIDE EMISSIONS SUMMARY:"]
["**As of 2016 Potential Emission are no longer required to be reported in the Minor Source Emission Inventory**"]
[]
[null,"FACILITY-WIDE ACTUAL EMISSIONS:",null,null,null,null,null,null,null,null,null,null,"FACILITY-WIDE POTENTIAL EMISSIONS:"]
[null,"Air Pollutant","ID or CAS Number",null,"Tons/Yr",null,null,null,null,null,null,null,"Air Pollutant","ID or CAS Number",null,"Tons/Yr"]
[null,"PM-2.5","PM-2.5",null,{"$f":"'Emission Calculations'!M19","v":0},null,null,null,null,null,null,null,"PM-2.5","PM-2.5",null,{"$f":"'Emission Calculations'!L19","v":0}]
[null,"PM-10","PM-10",null,{"$f":"'Emission Calculations'!M37","v":0},null,null,null,null,null,null,null,"PM-10","PM-10",null,{"$f":"'Emission Calculations'!L37","v":0}]
[null,"SO2","7446-09-5",null,{"$f":"'Emission Calculations'!M45","v":0},null,null,null,null,null,null,null,"SO2","7446-09-5",null,{"$f":"'Emission Calculations'!L45","v":0}]
[null,"NOx","NOx",null,{"$f":"'Emission Calculations'!M49","v":0},null,null,null,null,null,null,null,"NOx","NOx",null,{"$f":"'Emission Calculations'!L49","v":0}]
[null,"VOC","VOC",null,{"$f":"'Emission Calculations'!M53","v":0},null,null,null,null,null,null,null,"VOC","VOC",null,{"$f":"'Emission Calculations'!L53","v":0}]
[null,"CO","630-08-0",null,{"$f":"'Emission Calculations'!M57","v":0},null,null,null,null,null,null,null,"CO","630-08-0",null,{"$f":"'Emission Calculations'!L57","v":0}]
[null,"Ammonia",null,null,null,null,null,null,null,null,null,null,"Ammonia"]
[null,"Formaldehyde","50-00-0",null,{"$f":"'Emission Calculations'!M61","v":0},null,null,null,null,null,null,null,"Formaldehyde","50-00-0",null,{"$f":"'Emission Calculations'!L61","v":0}]
[null,"Benzene","71-43-2",null,{"$f":"'Emission Calculations'!M65","v":0},null,null,null,null,null,null,null,"Benzene","71-43-2",null,{"$f":"'Emission Calculations'!L65","v":0}]
[null,"Total HAP",null,null,{"$f":"SUM(E13:E14)","v":0},null,null,null,null,null,null,null,"Total HAP",null,null,{"$f":"SUM(P13:P14)","v":0}]
[]
["PLANT SPECIFIC EMISSIONS SUMMARIES:"]
[]
["LP-1","POTENTIAL EMISSIONS:",null,null,null,null,null,"LP-2","POTENTIAL EMISSIONS:"]
[null,"Air Pollutant","ID or CAS Number",null,"Tons/Yr",null,null,null,"Air Pollutant","ID or CAS Number",null,"Tons/Yr"]
[null,"PM-2.5","PM-2.5",null,{"$f":"IF('Limestone Plant (LP-1)'!G10>0,SUM('Limestone Plant (LP-1)'!G10,'Limestone Plant (LP-1)'!R40,'Haul Roads'!AL9,'Permitted Diesel Engines'!Z54),SUM('Limestone Plant (LP-1)'!R20:R27,'Limestone Plant (LP-1)'!R40,'Haul Roads'!AL9,'Permitted Diesel Engines'!Z54))","v":0},null,null,null,"PM-2.5","PM-2.5",null,{"$f":"IF('Limestone Plant (LP-2)'!G10>0,SUM('Limestone Plant (LP-2)'!G10,'Limestone Plant (LP-2)'!R40,'Haul Roads'!AL10,'Permitted Diesel Engines'!Z55),SUM('Limestone Plant (LP-2)'!R20:R27,'Limestone Plant (LP-2)'!R40,'Haul Roads'!AL10,'Permitted Diesel Engines'!Z55))","v":0}]
[null,"PM-10","PM-10",null,{"$f":"IF('Limestone Plant (LP-1)'!G11>0,SUM('Limestone Plant (LP-1)'!G11,'Limestone Plant (LP-1)'!R40,'Haul Roads'!AN9,'Permitted Diesel Engines'!AC54),SUM('Limestone Plant (LP-1)'!R29:R36,'Limestone Plant (LP-1)'!R40,'Haul Roads'!AN9,'Permitted Diesel Engines'!AC54))","v":0},null,null,null,"PM-10","PM-10",null,{"$f":"IF('Limestone Plant (LP-2)'!G11>0,SUM('Limestone Plant (LP-2)'!G11,'Limestone Plant (LP-2)'!R40,'Haul Roads'!AN10,'Permitted Diesel Engines'!AC55),SUM('Limestone Plant (LP-2)'!R29:R36,'Limestone Plant (LP-2)'!R40,'Haul Roads'!AN10,'Permitted Diesel Engines'!AC55))","v":0}]
[null,"SO2","7446-09-5",null,{"$f":"IF('Limestone Plant (LP-1)'!G12>0,'Limestone Plant (LP-1)'!G12,'Permitted Diesel Engines'!AD54)","v":0},{"$f":"IF(E23>100,\"Thresholds exceeded, contact DNR for assistance.\",\"\")","v":""},null,null,"SO2","7446-09-5",null,{"$f":"IF('Limestone Plant (LP-2)'!G12>0,'Limestone Plant (LP-2)'!G12,'Permitted Diesel Engines'!AD55)","v":0},{"$f":"IF(L23>100,\"Thresholds exceeded, contact DNR for assistance.\",\"\")","v":""}]
[null,"NOx","NOx",null,{"$f":"IF('Limestone Plant (LP-1)'!G13>0,'Limestone Plant (LP-1)'!G13,'Permitted Diesel Engines'!AG54)","v":0},{"$f":"IF(E24>100,\"Thresholds exceeded, contact DNR for assistance.\",\"\")","v":""},null,null,"NOx","NOx",null,{"$f":"IF('Limestone Plant (LP-2)'!G13>0,'Limestone Plant (LP-2)'!G13,'Permitted Diesel Engines'!AG55)","v":0},{"$f":"IF(L24>100,\"Thresholds exceeded, contact DNR for assistance.\",\"\")","v":""}]
[null,"VOC","VOC",null,{"$f":"IF('Limestone Plant (LP-1)'!G14>0,'Limestone Plant (LP-1)'!G14,'Permitted Diesel Engines'!AH54)","v":0},{"$f":"IF(E25>100,\"Thresholds exceeded, contact DNR for assistance.\",\"\")","v":""},null,null,"VOC","VOC",null,{"$f":"IF('Limestone Plant (LP-2)'!G14>0,'Limestone Plant (LP-2)'!G14,'Permitted Diesel Engines'!AH55)","v":0},{"$f":"IF(L25>100,\"Thresholds exceeded, contact DNR for assistance.\",\"\")","v":""}]
[null,"CO","630-08-0",null,{"$f":"IF('Limestone Plant (LP-1)'!G15>0,'Limestone Plant (LP-1)'!G15,'Permitted Diesel Engines'!AK54)","v":0},{"$f":"IF(E26>100,\"Thresholds exceeded, contact DNR for assistance.\",\"\")","v":""},null,null,"CO","630-08-0",null,{"$f":"IF('Limestone Plant (LP-2)'!G15>0,'Limestone Plant (LP-2)'!G15,'Permitted Diesel Engines'!AK55)","v":0},{"$f":"IF(L26>100,\"Thresholds exceeded, contact DNR for assistance.\",\"\")","v":""}]
[null,"Ammonia",null,null,null,{"$f":"IF(E27>100,\"Thresholds exceeded, contact DNR for assistance.\",\"\")","v":""},null,null,"Ammonia",null,null,null,{"$f":"IF(L27>100,\"Thresholds exceeded, contact DNR for assistance.\",\"\")","v":""}]
[null,"Formaldehyde","50-00-0",null,{"$f":"'Permitted Diesel Engines'!AL54","v":0},{"$f":"IF(E28>10,\"Thresholds exceeded, contact DNR for assistance.\",\"\")","v":""},null,null,"Formaldehyde","50-00-0",null,{"$f":"'Permitted Diesel Engines'!AL55","v":0},{"$f":"IF(L28>10,\"Thresholds exceeded, contact DNR for assistance.\",\"\")","v":""}]
[null,"Benzene","71-43-2",null,{"$f":"'Permitted Diesel Engines'!AO54","v":0},{"$f":"IF(E29>10,\"Thresholds exceeded, contact DNR for assistance.\",\"\")","v":""},null,null,"Benzene","71-43-2",null,{"$f":"'Permitted Diesel Engines'!AO55","v":0},{"$f":"IF(L29>10,\"Thresholds exceeded, contact DNR for assistance.\",\"\")","v":""}]
[null,"Total HAP",null,null,{"$f":"SUM(E28:E29)","v":0},{"$f":"IF(E30>25,\"Thresholds exceeded, contact DNR for assistance.\",\"\")","v":""},null,null,"Total HAP",null,null,{"$f":"SUM(L28:L29)","v":0},{"$f":"IF(L30>25,\"Thresholds exceeded, contact DNR for assistance.\",\"\")","v":""}]
[]
["LP-1","ACTUAL EMISSIONS:",null,null,null,null,null,"LP-2","ACTUAL EMISSIONS:"]
[null,"Air Pollutant","ID or CAS Number",null,"Tons/Yr",null,null,null,"Air Pollutant","ID or CAS Number",null,"Tons/Yr"]
[null,"PM-2.5","PM-2.5",null,{"$f":"SUM('Limestone Plant (LP-1)'!S20:S27,'Limestone Plant (LP-1)'!S40,'Haul Roads'!AM9,'Permitted Diesel Engines'!AA54)","v":0},null,null,null,"PM-2.5","PM-2.5",null,{"$f":"SUM('Limestone Plant (LP-2)'!S20:S27,'Limestone Plant (LP-2)'!S40,'Haul Roads'!AM10,'Permitted Diesel Engines'!AA55)","v":0}]
[null,"PM-10","PM-10",null,{"$f":"SUM('Limestone Plant (LP-1)'!S29:S36,'Limestone Plant (LP-1)'!S40,'Haul Roads'!AO9,'Permitted Diesel Engines'!AB54)","v":0},null,null,null,"PM-10","PM-10",null,{"$f":"SUM('Limestone Plant (LP-2)'!S29:S36,'Limestone Plant (LP-2)'!S40,'Haul Roads'!AO10,'Permitted Diesel Engines'!AB55)","v":0}]
[null,"SO2","7446-09-5",null,{"$f":"'Permitted Diesel Engines'!AE54","v":0},null,null,null,"SO2","7446-09-5",null,{"$f":"'Permitted Diesel Engines'!AE55","v":0}]
[null,"NOx","NOx",null,{"$f":"'Permitted Diesel Engines'!AF54","v":0},null,null,null,"NOx","NOx",null,{"$f":"'Permitted Diesel Engines'!AF55","v":0}]
[null,"VOC","VOC",null,{"$f":"'Permitted Diesel Engines'!AI54","v":0},null,null,null,"VOC","VOC",null,{"$f":"'Permitted Diesel Engines'!AI55","v":0}]
[null,"CO","630-08-0",null,{"$f":"'Permitted Diesel Engines'!AJ54","v":0},null,null,null,"CO","630-08-0",null,{"$f":"'Permitted Diesel Engines'!AJ55","v":0}]
[null,"Ammonia",null,null,null,null,null,null,"Ammonia"]
[null,"Formaldehyde","50-00-0",null,{"$f":"'Permitted Diesel Engines'!AM54","v":0},null,null,null,"Formaldehyde","50-00-0",null,{"$f":"'Permitted Diesel Engines'!AM55","v":0}]
[null,"Benzene","71-43-2",null,{"$f":"'Permitted Diesel Engines'!AN54","v":0},null,null,null,"Benzene","71-43-2",null,{"$f":"'Permitted Diesel Engines'!AN55","v":0}]
[null,"Total HAP",null,null,{"$f":"SUM(E41:E42)","v":0},null,null,null,"Total HAP",null,null,{"$f":"SUM(L41:L42)","v":0}]
[]
["LP-3","POTENTIAL EMISSIONS:",null,null,null,null,null,"LP-4","POTENTIAL EMISSIONS:"]
[null,"Air Pollutant","ID or CAS Number",null,"Tons/Yr",null,null,null,"Air Pollutant","ID or CAS Number",null,"Tons/Yr"]
[null,"PM-2.5","PM-2.5",null,{"$f":"IF('Limestone Plant (LP-3)'!G10>0,SUM('Limestone Plant (LP-3)'!G10,'Limestone Plant (LP-3)'!R40,'Haul Roads'!AL11,'Permitted Diesel Engines'!Z56),SUM('Limestone Plant (LP-3)'!R20:R27,'Limestone Plant (LP-3)'!R40,'Haul Roads'!AL11,'Permitted Diesel Engines'!Z56))","v":0},null,null,null,"PM-2.5","PM-2.5",null,{"$f":"IF('Limestone Plant (LP-4)'!G10>0,SUM('Limestone Plant (LP-4)'!G10,'Limestone Plant (LP-4)'!R40,'Haul Roads'!AL12,'Permitted Diesel Engines'!Z57),SUM('Limestone Plant (LP-4)'!R20:R27,'Limestone Plant (LP-4)'!R40,'Haul Roads'!AL12,'Permitted Diesel Engines'!Z57))","v":0}]
[null,"PM-10","PM-10",null,{"$f":"IF('Limestone Plant (LP-3)'!G11>0,SUM('Limestone Plant (LP-3)'!G11,'Limestone Plant (LP-3)'!R40,'Haul Roads'!AN11,'Permitted Diesel Engines'!AC56),SUM('Limestone Plant (LP-3)'!R29:R36,'Limestone Plant (LP-3)'!R40,'Haul Roads'!AN11,'Permitted Diesel Engines'!AC56))","v":0},null,null,null,"PM-10","PM-10",null,{"$f":"IF('Limestone Plant (LP-4)'!G11>0,SUM('Limestone Plant (LP-4)'!G11,'Limestone Plant (LP-4)'!R40,'Haul Roads'!AN12,'Permitted Diesel Engines'!AC57),SUM('Limestone Plant (LP-4)'!R29:R36,'Limestone Plant (LP-4)'!R40,'Haul Roads'!AN12,'Permitted Diesel Engines'!AC57))","v":0}]
[null,"SO2","7446-09-5",null,{"$f":"IF('Limestone Plant (LP-3)'!G12>0,'Limestone Plant (LP-3)'!G12,'Permitted Diesel Engines'!AD56)","v":0},{"$f":"IF(E49>100,\"Thresholds exceeded, contact DNR for assistance.\",\"\")","v":""},null,null,"SO2","7446-09-5",null,{"$f":"IF('Limestone Plant (LP-4)'!G12>0,'Limestone Plant (LP-4)'!G12,'Permitted Diesel Engines'!AD57)","v":0},{"$f":"IF(L49>100,\"Thresholds exceeded, contact DNR for assistance.\",\"\")","v":""}]
[null,"NOx","NOx",null,{"$f":"IF('Limestone Plant (LP-3)'!G13>0,'Limestone Plant (LP-3)'!G13,'Permitted Diesel Engines'!AG56)","v":0},{"$f":"IF(E50>100,\"Thresholds exceeded, contact DNR for assistance.\",\"\")","v":""},null,null,"NOx","NOx",null,{"$f":"IF('Limestone Plant (LP-4)'!G13>0,'Limestone Plant (LP-4)'!G13,'Permitted Diesel Engines'!AG57)","v":0},{"$f":"IF(L50>100,\"Thresholds exceeded, contact DNR for assistance.\",\"\")","v":""}]
[null,"VOC","VOC",null,{"$f":"IF('Limestone Plant (LP-3)'!G14>0,'Limestone Plant (LP-3)'!G14,'Permitted Diesel Engines'!AH56)","v":0},{"$f":"IF(E51>100,\"Thresholds exceeded, contact DNR for assistance.\",\"\")","v":""},null,null,"VOC","VOC",null,{"$f":"IF('Limestone Plant (LP-4)'!G14>0,'Limestone Plant (LP-4)'!G14,'Permitted Diesel Engines'!AH57)","v":0},{"$f":"IF(L51>100,\"Thresholds exceeded, contact DNR for assistance.\",\"\")","v":""}]
[null,"CO","630-08-0",null,{"$f":"IF('Limestone Plant (LP-3)'!G15>0,'Limestone Plant (LP-3)'!G15,'Permitted Diesel Engines'!AK56)","v":0},{"$f":"IF(E52>100,\"Thresholds exceeded, contact DNR for assistance.\",\"\")","v":""},null,null,"CO","630-08-0",null,{"$f":"IF('Limestone Plant (LP-4)'!G15>0,'Limestone Plant (LP-4)'!G15,'Permitted Diesel Engines'!AK57)","v":0},{"$f":"IF(L52>100,\"Thresholds exceeded, contact DNR for assistance.\",\"\")","v":""}]
[null,"Ammonia",null,null,null,{"$f":"IF(E53>100,\"Thresholds exceeded, contact DNR for assistance.\",\"\")","v":""},null,null,"Ammonia",null,null,null,{"$f":"IF(L53>100,\"Thresholds exceeded, contact DNR for assistance.\",\"\")","v":""}]
[null,"Formaldehyde","50-00-0",null,{"$f":"'Permitted Diesel Engines'!AL56","v":0},{"$f":"IF(E54>10,\"Thresholds exceeded, contact DNR for assistance.\",\"\")","v":""},null,null,"Formaldehyde","50-00-0",null,{"$f":"'Permitted Diesel Engines'!AL57","v":0},{"$f":"IF(L54>10,\"Thresholds exceeded, contact DNR for assistance.\",\"\")","v":""}]
[null,"Benzene","71-43-2",null,{"$f":"'Permitted Diesel Engines'!AO56","v":0},{"$f":"IF(E55>10,\"Thresholds exceeded, contact DNR for assistance.\",\"\")","v":""},null,null,"Benzene","71-43-2",null,{"$f":"'Permitted Diesel Engines'!AO57","v":0},{"$f":"IF(L55>10,\"Thresholds exceeded, contact DNR for assistance.\",\"\")","v":""}]
[null,"Total HAP",null,null,{"$f":"SUM(E54:E55)","v":0},{"$f":"IF(E56>25,\"Thresholds exceeded, contact DNR for assistance.\",\"\")","v":""},null,null,"Total HAP",null,null,{"$f":"SUM(L54:L55)","v":0},{"$f":"IF(L56>25,\"Thresholds exceeded, contact DNR for assistance.\",\"\")","v":""}]
[]
["LP-3","ACTUAL EMISSIONS:",null,null,null,null,null,"LP-4","ACTUAL EMISSIONS:"]
[null,"Air Pollutant","ID or CAS Number",null,"Tons/Yr",null,null,null,"Air Pollutant","ID or CAS Number",null,"Tons/Yr"]
[null,"PM-2.5","PM-2.5",null,{"$f":"SUM('Limestone Plant (LP-3)'!S20:S27,'Limestone Plant (LP-3)'!S40,'Haul Roads'!AM11,'Permitted Diesel Engines'!AA56)","v":0},null,null,null,"PM-2.5","PM-2.5",null,{"$f":"SUM('Limestone Plant (LP-4)'!S20:S27,'Limestone Plant (LP-4)'!S40,'Haul Roads'!AM12,'Permitted Diesel Engines'!AA57)","v":0}]
[null,"PM-10","PM-10",null,{"$f":"SUM('Limestone Plant (LP-3)'!S29:S36,'Limestone Plant (LP-3)'!S40,'Haul Roads'!AO11,'Permitted Diesel Engines'!AB56)","v":0},null,null,null,"PM-10","PM-10",null,{"$f":"SUM('Limestone Plant (LP-4)'!S29:S36,'Limestone Plant (LP-4)'!S40,'Haul Roads'!AO12,'Permitted Diesel Engines'!AB57)","v":0}]
[null,"SO2","7446-09-5",null,{"$f":"'Permitted Diesel Engines'!AE56","v":0},null,null,null,"SO2","7446-09-5",null,{"$f":"'Permitted Diesel Engines'!AE57","v":0}]
[null,"NOx","NOx",null,{"$f":"'Permitted Diesel Engines'!AF56","v":0},null,null,null,"NOx","NOx",null,{"$f":"'Permitted Diesel Engines'!AF57","v":0}]
[null,"VOC","VOC",null,{"$f":"'Permitted Diesel Engines'!AI56","v":0},null,null,null,"VOC","VOC",null,{"$f":"'Permitted Diesel Engines'!AI57","v":0}]
[null,"CO","630-08-0",null,{"$f":"'Permitted Diesel Engines'!AJ56","v":0},null,null,null,"CO","630-08-0",null,{"$f":"'Permitted Diesel Engines'!AJ57","v":0}]
[null,"Ammonia",null,null,null,null,null,null,"Ammonia"]
[null,"Formaldehyde","50-00-0",null,{"$f":"'Permitted Diesel Engines'!AM56","v":0},null,null,null,"Formaldehyde","50-00-0",null,{"$f":"'Permitted Diesel Engines'!AM57","v":0}]
[null,"Benzene","71-43-2",null,{"$f":"'Permitted Diesel Engines'!AN56","v":0},null,null,null,"Benzene","71-43-2",null,{"$f":"'Permitted Diesel Engines'!AN57","v":0}]
[null,"Total HAP",null,null,{"$f":"SUM(E67:E68)","v":0},null,null,null,"Total HAP",null,null,{"$f":"SUM(L67:L68)","v":0}]
[]
["LP-5","POTENTIAL EMISSIONS:",null,null,null,null,null,"LP-6","POTENTIAL EMISSIONS:"]
[null,"Air Pollutant","ID or CAS Number",null,"Tons/Yr",null,null,null,"Air Pollutant","ID or CAS Number",null,"Tons/Yr"]
[null,"PM-2.5","PM-2.5",null,{"$f":"IF('Limestone Plant (LP-5)'!G10>0,SUM('Limestone Plant (LP-5)'!G10,'Limestone Plant (LP-5)'!R40,'Haul Roads'!AL13,'Permitted Diesel Engines'!Z58),SUM('Limestone Plant (LP-5)'!R20:R27,'Limestone Plant (LP-5)'!R40,'Haul Roads'!AL13,'Permitted Diesel Engines'!Z58))","v":0},null,null,null,"PM-2.5","PM-2.5",null,{"$f":"IF('Limestone Plant (LP-6)'!G10>0,SUM('Limestone Plant (LP-6)'!G10,'Limestone Plant (LP-6)'!R40,'Haul Roads'!AL14,'Permitted Diesel Engines'!Z59),SUM('Limestone Plant (LP-6)'!R20:R27,'Limestone Plant (LP-6)'!R40,'Haul Roads'!AL14,'Permitted Diesel Engines'!Z59))","v":0}]
[null,"PM-10","PM-10",null,{"$f":"IF('Limestone Plant (LP-5)'!G11>0,SUM('Limestone Plant (LP-5)'!G11,'Limestone Plant (LP-5)'!R40,'Haul Roads'!AN13,'Permitted Diesel Engines'!AC58),SUM('Limestone Plant (LP-5)'!R29:R36,'Limestone Plant (LP-5)'!R40,'Haul Roads'!AN13,'Permitted Diesel Engines'!AC58))","v":0},null,null,null,"PM-10","PM-10",null,{"$f":"IF('Limestone Plant (LP-6)'!G11>0,SUM('Limestone Plant (LP-6)'!G11,'Limestone Plant (LP-6)'!R40,'Haul Roads'!AN14,'Permitted Diesel Engines'!AC59),SUM('Limestone Plant (LP-6)'!R29:R36,'Limestone Plant (LP-6)'!R40,'Haul Roads'!AN14,'Permitted Diesel Engines'!AC59))","v":0}]
[null,"SO2","7446-09-5",null,{"$f":"IF('Limestone Plant (LP-5)'!G12>0,'Limestone Plant (LP-5)'!G12,'Permitted Diesel Engines'!AD58)","v":0},{"$f":"IF(E75>100,\"Thresholds exceeded, contact DNR for assistance.\",\"\")","v":""},null,null,"SO2","7446-09-5",null,{"$f":"IF('Limestone Plant (LP-6)'!G12>0,'Limestone Plant (LP-6)'!G12,'Permitted Diesel Engines'!AD59)","v":0},{"$f":"IF(L75>100,\"Thresholds exceeded, contact DNR for assistance.\",\"\")","v":""}]
[null,"NOx","NOx",null,{"$f":"IF('Limestone Plant (LP-5)'!G13>0,'Limestone Plant (LP-5)'!G13,'Permitted Diesel Engines'!AG58)","v":0},{"$f":"IF(E76>100,\"Thresholds exceeded, contact DNR for assistance.\",\"\")","v":""},null,null,"NOx","NOx",null,{"$f":"IF('Limestone Plant (LP-6)'!G13>0,'Limestone Plant (LP-6)'!G13,'Permitted Diesel Engines'!AG59)","v":0},{"$f":"IF(L76>100,\"Thresholds exceeded, contact DNR for assistance.\",\"\")","v":""}]
[null,"VOC","VOC",null,{"$f":"IF('Limestone Plant (LP-5)'!G14>0,'Limestone Plant (LP-5)'!G14,'Permitted Diesel Engines'!AH58)","v":0},{"$f":"IF(E77>100,\"Thresholds exceeded, contact DNR for assistance.\",\"\")","v":""},null,null,"VOC","VOC",null,{"$f":"IF('Limestone Plant (LP-6)'!G14>0,'Limestone Plant (LP-6)'!G14,'Permitted Diesel Engines'!AH59)","v":0},{"$f":"IF(L77>100,\"Thresholds exceeded, contact DNR for assistance.\",\"\")","v":""}]
[null,"CO","630-08-0",null,{"$f":"IF('Limestone Plant (LP-5)'!G15>0,'Limestone Plant (LP-5)'!G15,'Permitted Diesel Engines'!AK58)","v":0},{"$f":"IF(E78>100,\"Thresholds exceeded, contact DNR for assistance.\",\"\")","v":""},null,null,"CO","630-08-0",null,{"$f":"IF('Limestone Plant (LP-6)'!G15>0,'Limestone Plant (LP-6)'!G15,'Permitted Diesel Engines'!AK59)","v":0},{"$f":"IF(L78>100,\"Thresholds exceeded, contact DNR for assistance.\",\"\")","v":""}]
[null,"Ammonia",null,null,null,{"$f":"IF(E79>100,\"Thresholds exceeded, contact DNR for assistance.\",\"\")","v":""},null,null,"Ammonia",null,null,null,{"$f":"IF(L79>100,\"Thresholds exceeded, contact DNR for assistance.\",\"\")","v":""}]
[null,"Formaldehyde","50-00-0",null,{"$f":"'Permitted Diesel Engines'!AL58","v":0},{"$f":"IF(E80>10,\"Thresholds exceeded, contact DNR for assistance.\",\"\")","v":""},null,null,"Formaldehyde","50-00-0",null,{"$f":"'Permitted Diesel Engines'!AL59","v":0},{"$f":"IF(L80>10,\"Thresholds exceeded, contact DNR for assistance.\",\"\")","v":""}]
[null,"Benzene","71-43-2",null,{"$f":"'Permitted Diesel Engines'!AO58","v":0},{"$f":"IF(E81>10,\"Thresholds exceeded, contact DNR for assistance.\",\"\")","v":""},null,null,"Benzene","71-43-2",null,{"$f":"'Permitted Diesel Engines'!AO59","v":0},{"$f":"IF(L81>10,\"Thresholds exceeded, contact DNR for assistance.\",\"\")","v":""}]
[null,"Total HAP",null,null,{"$f":"SUM(E80:E81)","v":0},{"$f":"IF(E82>25,\"Thresholds exceeded, contact DNR for assistance.\",\"\")","v":""},null,null,"Total HAP",null,null,{"$f":"SUM(L80:L81)","v":0},{"$f":"IF(L82>25,\"Thresholds exceeded, contact DNR for assistance.\",\"\")","v":""}]
[]
["LP-5","ACTUAL EMISSIONS:",null,null,null,null,null,"LP-6","ACTUAL EMISSIONS:"]
[null,"Air Pollutant","ID or CAS Number",null,"Tons/Yr",null,null,null,"Air Pollutant","ID or CAS Number",null,"Tons/Yr"]
[null,"PM-2.5","PM-2.5",null,{"$f":"SUM('Limestone Plant (LP-5)'!S20:S27,'Limestone Plant (LP-5)'!S40,'Haul Roads'!AM13,'Permitted Diesel Engines'!AA58)","v":0},null,null,null,"PM-2.5","PM-2.5",null,{"$f":"SUM('Limestone Plant (LP-6)'!S20:S27,'Limestone Plant (LP-6)'!S40,'Haul Roads'!AM14,'Permitted Diesel Engines'!AA59)","v":0}]
[null,"PM-10","PM-10",null,{"$f":"SUM('Limestone Plant (LP-5)'!S29:S36,'Limestone Plant (LP-5)'!S40,'Haul Roads'!AO13,'Permitted Diesel Engines'!AB58)","v":0},null,null,null,"PM-10","PM-10",null,{"$f":"SUM('Limestone Plant (LP-6)'!S29:S36,'Limestone Plant (LP-6)'!S40,'Haul Roads'!AO14,'Permitted Diesel Engines'!AB59)","v":0}]
[null,"SO2","7446-09-5",null,{"$f":"'Permitted Diesel Engines'!AE58","v":0},null,null,null,"SO2","7446-09-5",null,{"$f":"'Permitted Diesel Engines'!AE59","v":0}]
[null,"NOx","NOx",null,{"$f":"'Permitted Diesel Engines'!AF58","v":0},null,null,null,"NOx","NOx",null,{"$f":"'Permitted Diesel Engines'!AF59","v":0}]
[null,"VOC","VOC",null,{"$f":"'Permitted Diesel Engines'!AI58","v":0},null,null,null,"VOC","VOC",null,{"$f":"'Permitted Diesel Engines'!AI59","v":0}]
[null,"CO","630-08-0",null,{"$f":"'Permitted Diesel Engines'!AJ58","v":0},null,null,null,"CO","630-08-0",null,{"$f":"'Permitted Diesel Engines'!AJ59","v":0}]
[null,"Ammonia",null,null,null,null,null,null,"Ammonia"]
[null,"Formaldehyde","50-00-0",null,{"$f":"'Permitted Diesel Engines'!AM58","v":0},null,null,null,"Formaldehyde","50-00-0",null,{"$f":"'Permitted Diesel Engines'!AM59","v":0}]
[null,"Benzene","71-43-2",null,{"$f":"'Permitted Diesel Engines'!AN58","v":0},null,null,null,"Benzene","71-43-2",null,{"$f":"'Permitted Diesel Engines'!AN59","v":0}]
[null,"Total HAP",null,null,{"$f":"SUM(E93:E94)","v":0},null,null,null,"Total HAP",null,null,{"$f":"SUM(L93:L94)","v":0}]
[]
["LP-7","POTENTIAL EMISSIONS:",null,null,null,null,null,"LP-8","POTENTIAL EMISSIONS:"]
[null,"Air Pollutant","ID or CAS Number",null,"Tons/Yr",null,null,null,"Air Pollutant","ID or CAS Number",null,"Tons/Yr"]
[null,"PM-2.5","PM-2.5",null,{"$f":"IF('Limestone Plant (LP-7)'!G10>0,SUM('Limestone Plant (LP-7)'!G10,'Limestone Plant (LP-7)'!R40,'Haul Roads'!AL15,'Permitted Diesel Engines'!Z60),SUM('Limestone Plant (LP-7)'!R20:R27,'Limestone Plant (LP-7)'!R40,'Haul Roads'!AL15,'Permitted Diesel Engines'!Z60))","v":0},null,null,null,"PM-2.5","PM-2.5",null,{"$f":"IF('Limestone Plant (LP-8)'!G10>0,SUM('Limestone Plant (LP-8)'!G10,'Limestone Plant (LP-8)'!R40,'Haul Roads'!AL16,'Permitted Diesel Engines'!Z61),SUM('Limestone Plant (LP-8)'!R20:R27,'Limestone Plant (LP-8)'!R40,'Haul Roads'!AL16,'Permitted Diesel Engines'!Z61))","v":0}]
[null,"PM-10","PM-10",null,{"$f":"IF('Limestone Plant (LP-7)'!G11>0,SUM('Limestone Plant (LP-7)'!G11,'Limestone Plant (LP-7)'!R40,'Haul Roads'!AN15,'Permitted Diesel Engines'!AC60),SUM('Limestone Plant (LP-7)'!R29:R36,'Limestone Plant (LP-7)'!R40,'Haul Roads'!AN15,'Permitted Diesel Engines'!AC60))","v":0},null,null,null,"PM-10","PM-10",null,{"$f":"IF('Limestone Plant (LP-8)'!G11>0,SUM('Limestone Plant (LP-8)'!G11,'Limestone Plant (LP-8)'!R40,'Haul Roads'!AN16,'Permitted Diesel Engines'!AC61),SUM('Limestone Plant (LP-8)'!R29:R36,'Limestone Plant (LP-8)'!R40,'Haul Roads'!AN16,'Permitted Diesel Engines'!AC61))","v":0}]
[null,"SO2","7446-09-5",null,{"$f":"IF('Limestone Plant (LP-7)'!G12>0,'Limestone Plant (LP-7)'!G12,'Permitted Diesel Engines'!AD60)","v":0},{"$f":"IF(E101>100,\"Thresholds exceeded, contact DNR for assistance.\",\"\")","v":""},null,null,"SO2","7446-09-5",null,{"$f":"IF('Limestone Plant (LP-8)'!G12>0,'Limestone Plant (LP-8)'!G12,'Permitted Diesel Engines'!AD61)","v":0},{"$f":"IF(L101>100,\"Thresholds exceeded, contact DNR for assistance.\",\"\")","v":""}]
[null,"NOx","NOx",null,{"$f":"IF('Limestone Plant (LP-7)'!G13>0,'Limestone Plant (LP-7)'!G13,'Permitted Diesel Engines'!AG60)","v":0},{"$f":"IF(E102>100,\"Thresholds exceeded, contact DNR for assistance.\",\"\")","v":""},null,null,"NOx","NOx",null,{"$f":"IF('Limestone Plant (LP-8)'!G13>0,'Limestone Plant (LP-8)'!G13,'Permitted Diesel Engines'!AG61)","v":0},{"$f":"IF(L102>100,\"Thresholds exceeded, contact DNR for assistance.\",\"\")","v":""}]
[null,"VOC","VOC",null,{"$f":"IF('Limestone Plant (LP-7)'!G14>0,'Limestone Plant (LP-7)'!G14,'Permitted Diesel Engines'!AH60)","v":0},{"$f":"IF(E103>100,\"Thresholds exceeded, contact DNR for assistance.\",\"\")","v":""},null,null,"VOC","VOC",null,{"$f":"IF('Limestone Plant (LP-8)'!G14>0,'Limestone Plant (LP-8)'!G14,'Permitted Diesel Engines'!AH61)","v":0},{"$f":"IF(L103>100,\"Thresholds exceeded, contact DNR for assistance.\",\"\")","v":""}]
[null,"CO","630-08-0",null,{"$f":"IF('Limestone Plant (LP-7)'!G15>0,'Limestone Plant (LP-7)'!G15,'Permitted Diesel Engines'!AK60)","v":0},{"$f":"IF(E104>100,\"Thresholds exceeded, contact DNR for assistance.\",\"\")","v":""},null,null,"CO","630-08-0",null,{"$f":"IF('Limestone Plant (LP-8)'!G15>0,'Limestone Plant (LP-8)'!G15,'Permitted Diesel Engines'!AK61)","v":0},{"$f":"IF(L104>100,\"Thresholds exceeded, contact DNR for assistance.\",\"\")","v":""}]
[null,"Ammonia",null,null,null,{"$f":"IF(E105>100,\"Thresholds exceeded, contact DNR for assistance.\",\"\")","v":""},null,null,"Ammonia",null,null,null,{"$f":"IF(L105>100,\"Thresholds exceeded, contact DNR for assistance.\",\"\")","v":""}]
[null,"Formaldehyde","50-00-0",null,{"$f":"'Permitted Diesel Engines'!AL60","v":0},{"$f":"IF(E106>10,\"Thresholds exceeded, contact DNR for assistance.\",\"\")","v":""},null,null,"Formaldehyde","50-00-0",null,{"$f":"'Permitted Diesel Engines'!AL61","v":0},{"$f":"IF(L106>10,\"Thresholds exceeded, contact DNR for assistance.\",\"\")","v":""}]
[null,"Benzene","71-43-2",null,{"$f":"'Permitted Diesel Engines'!AO60","v":0},{"$f":"IF(E107>10,\"Thresholds exceeded, contact DNR for assistance.\",\"\")","v":""},null,null,"Benzene","71-43-2",null,{"$f":"'Permitted Diesel Engines'!AO61","v":0},{"$f":"IF(L107>10,\"Thresholds exceeded, contact DNR for assistance.\",\"\")","v":""}]
[null,"Total HAP",null,null,{"$f":"SUM(E106:E107)","v":0},{"$f":"IF(E108>25,\"Thresholds exceeded, contact DNR for assistance.\",\"\")","v":""},null,null,"Total HAP",null,null,{"$f":"SUM(L106:L107)","v":0},{"$f":"IF(L108>25,\"Thresholds exceeded, contact DNR for assistance.\",\"\")","v":""}]
[]
["LP-7","ACTUAL EMISSIONS:",null,null,null,null,null,"LP-8","ACTUAL EMISSIONS:"]
[null,"Air Pollutant","ID or CAS Number",null,"Tons/Yr",null,null,null,"Air Pollutant","ID or CAS Number",null,"Tons/Yr"]
[null,"PM-2.5","PM-2.5",null,{"$f":"SUM('Limestone Plant (LP-7)'!S20:S27,'Limestone Plant (LP-7)'!S40,'Haul Roads'!AM15,'Permitted Diesel Engines'!AA60)","v":0},null,null,null,"PM-2.5","PM-2.5",null,{"$f":"SUM('Limestone Plant (LP-8)'!S20:S27,'Limestone Plant (LP-8)'!S40,'Haul Roads'!AM16,'Permitted Diesel Engines'!AA61)","v":0}]
[null,"PM-10","PM-10",null,{"$f":"SUM('Limestone Plant (LP-7)'!S29:S36,'Limestone Plant (LP-7)'!S40,'Haul Roads'!AO15,'Permitted Diesel Engines'!AB60)","v":0},null,null,null,"PM-10","PM-10",null,{"$f":"SUM('Limestone Plant (LP-8)'!S29:S36,'Limestone Plant (LP-8)'!S40,'Haul Roads'!AO16,'Permitted Diesel Engines'!AB61)","v":0}]
[null,"SO2","7446-09-5",null,{"$f":"'Permitted Diesel Engines'!AE60","v":0},null,null,null,"SO2","7446-09-5",null,{"$f":"'Permitted Diesel Engines'!AE61","v":0}]
[null,"NOx","NOx",null,{"$f":"'Permitted Diesel Engines'!AF60","v":0},null,null,null,"NOx","NOx",null,{"$f":"'Permitted Diesel Engines'!AF61","v":0}]
[null,"VOC","VOC",null,{"$f":"'Permitted Diesel Engines'!AI60","v":0},null,null,null,"VOC","VOC",null,{"$f":"'Permitted Diesel Engines'!AI61","v":0}]
[null,"CO","630-08-0",null,{"$f":"'Permitted Diesel Engines'!AJ60","v":0},null,null,null,"CO","630-08-0",null,{"$f":"'Permitted Diesel Engines'!AJ61","v":0}]
[null,"Ammonia",null,null,null,null,null,null,"Ammonia"]
[null,"Formaldehyde","50-00-0",null,{"$f":"'Permitted Diesel Engines'!AM60","v":0},null,null,null,"Formaldehyde","50-00-0",null,{"$f":"'Permitted Diesel Engines'!AM61","v":0}]
[null,"Benzene","71-43-2",null,{"$f":"'Permitted Diesel Engines'!AN60","v":0},null,null,null,"Benzene","71-43-2",null,{"$f":"'Permitted Diesel Engines'!AN61","v":0}]
[null,"Total HAP",null,null,{"$f":"SUM(E119:E120)","v":0},null,null,null,"Total HAP",null,null,{"$f":"SUM(L119:L120)","v":0}]
[]
["LP-9","POTENTIAL EMISSIONS:",null,null,null,null,null,"LP-10","POTENTIAL EMISSIONS:"]
[null,"Air Pollutant","ID or CAS Number",null,"Tons/Yr",null,null,null,"Air Pollutant","ID or CAS Number",null,"Tons/Yr"]
[null,"PM-2.5","PM-2.5",null,{"$f":"IF('Limestone Plant (LP-9)'!G10>0,SUM('Limestone Plant (LP-9)'!G10,'Limestone Plant (LP-9)'!R40,'Haul Roads'!AL17,'Permitted Diesel Engines'!Z62),SUM('Limestone Plant (LP-9)'!R20:R27,'Limestone Plant (LP-9)'!R40,'Haul Roads'!AL17,'Permitted Diesel Engines'!Z62))","v":0},null,null,null,"PM-2.5","PM-2.5",null,{"$f":"IF('Limestone Plant (LP-9)'!G10>0,SUM('Limestone Plant (LP-9)'!G10,'Limestone Plant (LP-9)'!R40,'Haul Roads'!AL18,'Permitted Diesel Engines'!Z63),SUM('Limestone Plant (LP-9)'!R20:R27,'Limestone Plant (LP-9)'!R40,'Haul Roads'!AL18,'Permitted Diesel Engines'!Z63))","v":0}]
[null,"PM-10","PM-10",null,{"$f":"IF('Limestone Plant (LP-9)'!G11>0,SUM('Limestone Plant (LP-9)'!G11,'Limestone Plant (LP-9)'!R40,'Haul Roads'!AN17,'Permitted Diesel Engines'!AC62),SUM('Limestone Plant (LP-9)'!R29:R36,'Limestone Plant (LP-9)'!R40,'Haul Roads'!AN17,'Permitted Diesel Engines'!AC62))","v":0},null,null,null,"PM-10","PM-10",null,{"$f":"IF('Limestone Plant (LP-9)'!G11>0,SUM('Limestone Plant (LP-9)'!G11,'Limestone Plant (LP-9)'!R40,'Haul Roads'!AN18,'Permitted Diesel Engines'!AC63),SUM('Limestone Plant (LP-9)'!R29:R36,'Limestone Plant (LP-9)'!R40,'Haul Roads'!AN18,'Permitted Diesel Engines'!AC63))","v":0}]
[null,"SO2","7446-09-5",null,{"$f":"IF('Limestone Plant (LP-9)'!G12>0,'Limestone Plant (LP-9)'!G12,'Permitted Diesel Engines'!AD62)","v":0},{"$f":"IF(E127>100,\"Thresholds exceeded, contact DNR for assistance.\",\"\")","v":""},null,null,"SO2","7446-09-5",null,{"$f":"IF('Limestone Plant (LP-9)'!G12>0,'Limestone Plant (LP-9)'!G12,'Permitted Diesel Engines'!AD63)","v":0},{"$f":"IF(L127>100,\"Thresholds exceeded, contact DNR for assistance.\",\"\")","v":""}]
[null,"NOx","NOx",null,{"$f":"IF('Limestone Plant (LP-9)'!G13>0,'Limestone Plant (LP-9)'!G13,'Permitted Diesel Engines'!AG62)","v":0},{"$f":"IF(E128>100,\"Thresholds exceeded, contact DNR for assistance.\",\"\")","v":""},null,null,"NOx","NOx",null,{"$f":"IF('Limestone Plant (LP-9)'!G13>0,'Limestone Plant (LP-9)'!G13,'Permitted Diesel Engines'!AG63)","v":0},{"$f":"IF(L128>100,\"Thresholds exceeded, contact DNR for assistance.\",\"\")","v":""}]
[null,"VOC","VOC",null,{"$f":"IF('Limestone Plant (LP-9)'!G14>0,'Limestone Plant (LP-9)'!G14,'Permitted Diesel Engines'!AH62)","v":0},{"$f":"IF(E129>100,\"Thresholds exceeded, contact DNR for assistance.\",\"\")","v":""},null,null,"VOC","VOC",null,{"$f":"IF('Limestone Plant (LP-9)'!G14>0,'Limestone Plant (LP-9)'!G14,'Permitted Diesel Engines'!AH63)","v":0},{"$f":"IF(L129>100,\"Thresholds exceeded, contact DNR for assistance.\",\"\")","v":""}]
[null,"CO","630-08-0",null,{"$f":"IF('Limestone Plant (LP-9)'!G15>0,'Limestone Plant (LP-9)'!G15,'Permitted Diesel Engines'!AK62)","v":0},{"$f":"IF(E130>100,\"Thresholds exceeded, contact DNR for assistance.\",\"\")","v":""},null,null,"CO","630-08-0",null,{"$f":"IF('Limestone Plant (LP-9)'!G15>0,'Limestone Plant (LP-9)'!G15,'Permitted Diesel Engines'!AK63)","v":0},{"$f":"IF(L130>100,\"Thresholds exceeded, contact DNR for assistance.\",\"\")","v":""}]
[null,"Ammonia",null,null,null,{"$f":"IF(E131>100,\"Thresholds exceeded, contact DNR for assistance.\",\"\")","v":""},null,null,"Ammonia",null,null,null,{"$f":"IF(L131>100,\"Thresholds exceeded, contact DNR for assistance.\",\"\")","v":""}]
[null,"Formaldehyde","50-00-0",null,{"$f":"'Permitted Diesel Engines'!AL62","v":0},{"$f":"IF(E132>10,\"Thresholds exceeded, contact DNR for assistance.\",\"\")","v":""},null,null,"Formaldehyde","50-00-0",null,{"$f":"'Permitted Diesel Engines'!AL63","v":0},{"$f":"IF(L132>10,\"Thresholds exceeded, contact DNR for assistance.\",\"\")","v":""}]
[null,"Benzene","71-43-2",null,{"$f":"'Permitted Diesel Engines'!AO62","v":0},{"$f":"IF(E133>10,\"Thresholds exceeded, contact DNR for assistance.\",\"\")","v":""},null,null,"Benzene","71-43-2",null,{"$f":"'Permitted Diesel Engines'!AO63","v":0},{"$f":"IF(L133>10,\"Thresholds exceeded, contact DNR for assistance.\",\"\")","v":""}]
[null,"Total HAP",null,null,{"$f":"SUM(E132:E133)","v":0},{"$f":"IF(E134>25,\"Thresholds exceeded, contact DNR for assistance.\",\"\")","v":""},null,null,"Total HAP",null,null,{"$f":"SUM(L132:L133)","v":0},{"$f":"IF(L134>25,\"Thresholds exceeded, contact DNR for assistance.\",\"\")","v":""}]
[]
["LP-9","ACTUAL EMISSIONS:",null,null,null,null,null,"LP-10","ACTUAL EMISSIONS:"]
[null,"Air Pollutant","ID or CAS Number",null,"Tons/Yr",null,null,null,"Air Pollutant","ID or CAS Number",null,"Tons/Yr"]
[null,"PM-2.5","PM-2.5",null,{"$f":"SUM('Limestone Plant (LP-9)'!S20:S27,'Limestone Plant (LP-9)'!S40,'Haul Roads'!AM17,'Permitted Diesel Engines'!AA62)","v":0},null,null,null,"PM-2.5","PM-2.5",null,{"$f":"SUM('Limestone Plant (LP-10)'!S20:S27,'Limestone Plant (LP-10)'!S40,'Haul Roads'!AM18,'Permitted Diesel Engines'!AA63)","v":0}]
[null,"PM-10","PM-10",null,{"$f":"SUM('Limestone Plant (LP-9)'!S29:S36,'Limestone Plant (LP-9)'!S40,'Haul Roads'!AO17,'Permitted Diesel Engines'!AB62)","v":0},null,null,null,"PM-10","PM-10",null,{"$f":"SUM('Limestone Plant (LP-10)'!S29:S36,'Limestone Plant (LP-10)'!S40,'Haul Roads'!AO18,'Permitted Diesel Engines'!AB63)","v":0}]
[null,"SO2","7446-09-5",null,{"$f":"'Permitted Diesel Engines'!AE62","v":0},null,null,null,"SO2","7446-09-5",null,{"$f":"'Permitted Diesel Engines'!AE63","v":0}]
[null,"NOx","NOx",null,{"$f":"'Permitted Diesel Engines'!AF62","v":0},null,null,null,"NOx","NOx",null,{"$f":"'Permitted Diesel Engines'!AF63","v":0}]
[null,"VOC","VOC",null,{"$f":"'Permitted Diesel Engines'!AI62","v":0},null,null,null,"VOC","VOC",null,{"$f":"'Permitted Diesel Engines'!AI63","v":0}]
[null,"CO","630-08-0",null,{"$f":"'Permitted Diesel Engines'!AJ62","v":0},null,null,null,"CO","630-08-0",null,{"$f":"'Permitted Diesel Engines'!AJ63","v":0}]
[null,"Ammonia",null,null,null,null,null,null,"Ammonia"]
[null,"Formaldehyde","50-00-0",null,{"$f":"'Permitted Diesel Engines'!AM62","v":0},null,null,null,"Formaldehyde","50-00-0",null,{"$f":"'Permitted Diesel Engines'!AM63","v":0}]
[null,"Benzene","71-43-2",null,{"$f":"'Permitted Diesel Engines'!AN62","v":0},null,null,null,"Benzene","71-43-2",null,{"$f":"'Permitted Diesel Engines'!AN63","v":0}]
[null,"Total HAP",null,null,{"$f":"SUM(E145:E146)","v":0},null,null,null,"Total HAP"]

{"sheet":"Emission Factors","index":15,"n_rows":45,"n_cols":19,"rows_kept":45,"cut":false,"hidden":false,"merged":[]}
["EMISSION FACTORS"]
[null,"Crushing Emission Factors from AP-42 (Aug 2004) Table 11.19.2-2 & Appendix B.2"]
["Limestone Crushing"]
["Process","SCC #",null,"PM2.5 EF","Units","PM10 EF","Units"]
["Conveyor Transfer Points",30502006,null,4.4999999999999999E-4,"lb/ton",1.1000000000000001E-3,"lb/ton"]
["Fines Crushing",30502005,null,1.17E-2,"lb/ton",1.4999999999999999E-2,"lb/ton"]
["Fines Screening",30502021,null,7.1999999999999995E-2,"lb/ton",7.1999999999999995E-2,"lb/ton"]
["Primary Crusher",30502001,null,8.0999999999999996E-4,"lb/ton",2.3999999999999998E-3,"lb/ton"]
["Screening",30502004,null,3.7499999999999999E-3,"lb/ton",8.6999999999999994E-3,"lb/ton"]
["Secondary Crusher",30502002,null,8.0999999999999996E-4,"lb/ton",2.3999999999999998E-3,"lb/ton"]
["Storage Pile",30502507,null,3.64,"lbs/acre-day",3.64,"lbs/acre-day"]
["Tertiary Crusher",30502003,null,8.0999999999999996E-4,"lb/ton",2.3999999999999998E-3,"lb/ton"]
["Wet Drilling: Unfragmented Stone",30502010,null,8.0000000000000007E-5,"lb/ton",8.0000000000000007E-5,"lb/ton"]
[]
["Limestone Crushing with Wet Supression"]
["Process","SCC #",null,"PM2.5 EF","Units","PM10 EF","Units"]
["Conveyor Transfer Points",30502006,null,1.2999999999999999E-5,"lb/ton",4.6E-5,"lb/ton"]
["Fines Crushing",30502005,null,6.9999999999999994E-5,"lb/ton",1.1999999999999999E-3,"lb/ton"]
["Fines Screening",30502021,null,1.08E-3,"lb/ton",2.2000000000000001E-3,"lb/ton"]
["Primary Crusher",30502001,null,1E-4,"lb/ton",5.4000000000000001E-4,"lb/ton"]
["Screening",30502004,null,5.0000000000000002E-5,"lb/ton",7.3999999999999999E-4,"lb/ton"]
["Secondary Crusher",30502002,null,1E-4,"lb/ton",5.4000000000000001E-4,"lb/ton"]
["Storage Pile",30502507,null,3.64,"lbs/acre-day",3.64,"lbs/acre-day"]
["Tertiary Crusher",30502003,null,1E-4,"lb/ton",5.4000000000000001E-4,"lb/ton"]
["Wet Drilling: Unfragmented Stone",30502010,null,8.0000000000000007E-5,"lb/ton",8.0000000000000007E-5,"lb/ton"]
[]
["Haul Roads"]
["Unpaved Haul Road",30205054]
[null,"Emission Factor equation from AP-42, 13.2.2 (Nov 2006): EF = [(k) x [(s/12)^0.9] x [(W/3)^0.45] ]((365-p)/365)) lb/VMT"]
[null,null,null,null,null,null,"k=constant=1.5 for PM10 and 0.15 for PM2.5 (AP-42 Table 13.2.2-1)"]
[null,null,null,null,null,null,"s= silt content (AP-42 Table 13.2.2-1)"]
[null,null,null,null,null,null,"w= average vehicle weight"]
[null,null,null,null,null,null,"p = number of days per year with at least 0.01 inches of precipitation (see map - AP-42 3.2.2 Figure 1)"]
["Paved Haul Roads",30205054]
[null,"Emission Factor equation from AP-42, 13.2.1 (Jan 2011): EF = [(k) x [(s^0.91] x [W^1.02]]x((1-(p/1460)) lb/VMT"]
[null,null,null,null,null,null,"k=constant=0.0022 for PM10 and 0.00054 for PM2.5 (AP-42 Table 13.2.1-1)"]
[null,null,null,null,null,null,"sL= road surface silt loading (AP-42 Table 13.2.1-3)"]
[null,null,null,null,null,null,"w= average vehicle weight"]
[null,null,null,null,null,null,"p = number of days per year with at least 0.01 inches of precipitation (see map - AP-42 3.2.2 Figure 1)"]
[]
["Diesel Generators"]
["Process","SCC #","Units","PM2.5 EF","Source","PM10 EF","Source","SO2","Source ","Nox","Source","VOC","Source","CO","Source","Formaldehyde","Source","Benzene","Source"]
["Diesel Generator ≤ 600 bhp",20100102,"lb/MMBtu",0.31,"AP-42 Table 3.3-1",0.31,"AP-42 Table 3.3-1",0.28999999999999998,"AP-42 Table 3.3-1",4.41,"AP-42 Table 3.3-1",0.35,"AP-42 Table 3.3-1",0.95,"AP-42 Table 3.3-1",1.1800000000000001E-3,"AP-42 Table 3.3-2",9.3300000000000002E-4,"AP-42 Table 3.3-2"]
["Diesel Generator> 600 bhp",20200401,"lb/MMBtu",5.3900000000000003E-2,"WebFIRE",0.14000000000000001,"IDNR Memo",1.01,"AP-42 Table 3.4-1",3.2,"AP-42 Table 3.4-1",8.2000000000000003E-2,"AP-42 Table 3.4-1",0.85,"AP-42 Table 3.4-1",7.8899999999999993E-5,"AP-42 Table 3.4-3",7.76E-4,"AP-42 Table 3.4-3"]
[null,null,null,null,null,null,null,null,null,null,null,null,"& footnote f"]