{"text_format":"1","workbook":"xlsx","n_sheets":16,"sheets":["Facility Information","Concrete Plant (CP-1)","Concrete Plant (CP-2)","Concrete Plant (CP-3)","Concrete Plant (CP-4)","Concrete Plant (CP-5)","Concrete Plant (CP-6)","Concrete Plant (CP-7)","Concrete Plant (CP-8)","Concrete Plant (CP-9)","Concrete Plant (CP-10)","Haul Roads","Permitted Diesel Engines","Emission Calculations","Facility Wide Emissions","Emission Factors"],"not_rendered":{"charts":0,"images":0,"macros":1,"external_links":0,"defined_names":295,"comments":13,"pivot_tables":0},"unopened":[],"bounds":{"document_bytes":16777216,"sheet_cells":100000,"rows_first":2000,"rows_last":500,"rows_between":2000,"halvings":0,"cell_chars":16384,"cell_head_chars":4096},"cells_cut":0,"cells_raw":0,"read":"whole","date_system":"1900"}

{"sheet":"Facility Information","index":0,"n_rows":21,"n_cols":11,"rows_kept":21,"cut":false,"hidden":false,"merged":[[19,0,19,1],[20,0,20,1],[17,1,17,2],[0,0,0,2],[3,1,3,2],[1,0,1,1],[3,5,3,6],[3,3,3,4],[8,4,8,6],[8,1,8,2],[4,1,4,4],[6,1,6,6],[7,1,7,2],[4,8,5,12],[10,1,10,6],[13,1,13,2],[13,4,13,6],[5,1,5,6],[11,1,11,6],[9,1,9,6],[12,1,12,2]]}
["PORTABLE CONCRETE BATCHING PLANT",null,null,"Note: be sure to enable macros when prompted.",null,null,"Last Updated 1-12-16","542-0252"]
["Please fill in the yellow boxes."]
[]
["Submittal Type:",null,null,"Number of State-Wide Company Employees:"]
["Facility Number:",null,null,null,null,"Emisison Year:",null,"<---------","Enter the Year for which you are calculating emissions, usually the previous calendar year. "]
["Facility Name:"]
["Mailing Address:"]
["City:",null,null,"State:",null,"Zip Code:"]
["Facility Contact:",null,null,"Phone Number:",null,null,null,null,null,null,"Emission Inventory - Initial"]
["Email Address",null,null,null,null,null,null,null,null,null,"Emission Inventory - Supplemental Information"]
["Parent Company:"]
["Parent Company Address:"]
["City:",null,null,"State:",null,"Zip Code:",null,null,null,null,"Less Than or Equal to 100"]
["Parent Company Contact:",null,null,"Phone Number:",null,null,null,null,null,null,"Greater Than 100"]
[]
["SIC Code:",3273]
["NAICS Code:",327320]
["Activity Description:","Ready Mixed Concrete"]
[]
["Number of Plants with Permits:"]
[{"$f":"\"Number of Plants Operated in \"&'Facility Information'!G5&\":\"","v":"Number of Plants Operated in :"}]

{"sheet":"Concrete Plant (CP-1)","index":1,"n_rows":198,"n_cols":23,"rows_kept":198,"cut":false,"hidden":false,"merged":[[187,1,188,1],[187,2,188,2],[187,3,188,3],[187,4,188,4],[187,5,188,5],[169,1,170,1],[169,2,170,2],[169,3,170,3],[169,4,170,4],[169,5,170,5],[182,2,182,4],[183,2,183,4],[184,2,184,4],[151,5,152,5],[133,1,134,1],[133,2,134,2],[133,3,134,3],[133,4,134,4],[133,5,134,5],[128,2,128,4],[129,2,129,4],[130,2,130,4],[131,1,131,4],[149,1,149,4],[79,1,80,1],[79,2,80,2],[79,3,80,3],[79,4,80,4],[148,2,148,4],[147,2,147,4],[146,2,146,4],[97,1,98,1],[151,1,152,1],[151,2,152,2],[151,3,152,3],[151,4,152,4],[97,4,98,4],[115,1,116,1],[115,2,116,2],[115,3,116,3],[115,4,116,4],[166,2,166,4],[165,2,165,4],[5,2,5,3],[20,2,20,4],[21,2,21,4],[22,2,22,4],[8,3,8,4],[9,3,9,4],[10,3,10,4],[11,1,13,4],[164,2,164,4],[56,2,56,4],[57,2,57,4],[58,2,58,4],[74,2,74,4],[75,2,75,4],[76,2,76,4],[92,2,92,4],[93,2,93,4],[94,2,94,4],[110,2,110,4],[43,1,44,1],[43,2,44,2],[43,3,44,3],[90,8,91,8],[108,8,109,8],[126,8,127,8],[38,2,38,4],[39,2,39,4],[40,2,40,4],[43,5,44,5],[61,5,62,5],[79,5,80,5],[97,2,98,2],[97,3,98,3],[111,2,111,4],[112,2,112,4],[97,5,98,5],[115,5,116,5],[90,7,91,7],[41,1,41,4],[59,1,59,4],[77,1,77,4],[95,1,95,4],[113,1,113,4],[43,4,44,4],[61,1,62,1],[61,2,62,2],[180,9,181,9],[180,10,181,10],[180,11,181,11],[126,9,127,9],[126,10,127,10],[126,11,127,11],[144,7,145,7],[144,9,145,9],[144,10,145,10],[144,11,145,11],[126,7,127,7],[180,8,181,8],[162,7,163,7],[162,9,163,9],[162,10,163,10],[0,1,0,2],[2,15,3,15],[54,9,55,9],[54,10,55,10],[72,7,73,7],[72,9,73,9],[72,10,73,10],[18,8,19,8],[36,8,37,8],[54,8,55,8],[72,8,73,8],[3,1,3,2],[36,7,37,7],[54,11,55,11],[18,9,19,9],[18,10,19,10],[18,11,19,11],[18,7,19,7],[1,10,1,11],[1,1,1,4],[8,1,8,2],[54,7,55,7],[61,3,62,3],[61,4,62,4],[9,1,9,2],[10,1,10,2],[2,17,3,17],[20,17,21,17],[20,19,21,19],[2,16,3,16],[36,9,37,9],[36,10,37,10],[36,11,37,11],[25,5,26,5],[25,4,26,4],[25,3,26,3],[25,2,26,2],[25,1,26,1],[23,1,23,4],[3,18,4,20],[167,1,167,4],[185,1,185,4],[46,21,47,21],[46,20,47,20],[20,21,21,21],[20,16,21,16],[20,18,21,18],[20,20,21,20],[46,16,47,16],[46,17,47,17],[46,18,47,18],[46,19,47,19],[144,8,145,8],[162,11,163,11],[72,11,73,11],[90,9,91,9],[90,10,91,10],[90,11,91,11],[108,7,109,7],[108,9,109,9],[108,10,109,10],[108,11,109,11],[162,8,163,8],[180,7,181,7]]}
[null,"CONCRETE BATCH PLANT (CP-1)"]
[null,"Please fill in the yellow boxes as applicable for your facility. ",null,null,null,null,null,null,null,null,"Values used for calculating emissions →",null,null,null,null,"Values Used to Calculate Potential and Actual Emissions for the Listed Processes at this Plant"]
[null,null,null,null,null,null,null,null,null,null,null,null,null,null,null,"Process","Maximum Design Rate (cubic yards/hr)","Actual throughput (cubic yards/yr)"]
[null,{"$f":"\"Number of Sites this Plant operated at in \"&'Facility Information'!G5&\":\"","v":"Number of Sites this Plant operated at in :"},null,null,null,null,null,null,null,null,null,null,null,null,null,null,null,null,"** As of 2016 Potential Emissions are no longer required to be reported in the Minor Source Emissions Inventory**"]
[null,null,null,null,null,null,null,null,null,null,null,null,null,null,null,"Aggregate Delivery to Ground Storage",{"$f":"MAX((IFERROR(OFFSET($J$20,MATCH(\"Aggregate Delivery to Ground Storage\",$J$21:$J$30,0),1),0)),((IFERROR((OFFSET($J$38,MATCH(\"Aggregate Delivery to Ground Storage\",$J$39:$J$48,0),1)),0))),((IFERROR((OFFSET($J$56,MATCH(\"Aggregate Delivery to Ground Storage\",$J$57:$J$66,0),1)),0))),((IFERROR((OFFSET($J$74,MATCH(\"Aggregate Delivery to Ground Storage\",$J$75:$J$84,0),1)),0))),((IFERROR((OFFSET($J$92,MATCH(\"Aggregate Delivery to Ground Storage\",$J$93:$J$102,0),1)),0))),((IFERROR((OFFSET($J$110,MATCH(\"Aggregate Delivery to Ground Storage\",$J$111:$J$120,0),1)),0))),((IFERROR((OFFSET($J$128,MATCH(\"Aggregate Delivery to Ground Storage\",$J$129:$J$138,0),1)),0))),((IFERROR((OFFSET($J$146,MATCH(\"Aggregate Delivery to Ground Storage\",$J$147:$J$156,0),1)),0))),((IFERROR((OFFSET($J$164,MATCH(\"Aggregate Delivery to Ground Storage\",$J$165:$J$174,0),1)),0))),((IFERROR((OFFSET($J$181,MATCH(\"Aggregate Delivery to Ground Storage\",$J$183:$J$192,0),1)),0))),)","v":0},{"$f":"SUM((IFERROR(OFFSET($J$20,MATCH(\"Aggregate Delivery to Ground Storage\",$J$21:$J$30,0),2),0)),((IFERROR((OFFSET($J$38,MATCH(\"Aggregate Delivery to Ground Storage\",$J$39:$J$48,0),2)),0))),((IFERROR((OFFSET($J$56,MATCH(\"Aggregate Delivery to Ground Storage\",$J$57:$J$66,0),2)),0))),((IFERROR((OFFSET($J$74,MATCH(\"Aggregate Delivery to Ground Storage\",$J$75:$J$84,0),2)),0))),((IFERROR((OFFSET($J$92,MATCH(\"Aggregate Delivery to Ground Storage\",$J$93:$J$102,0),2)),0))),((IFERROR((OFFSET($J$110,MATCH(\"Aggregate Delivery to Ground Storage\",$J$111:$J$120,0),2)),0))),((IFERROR((OFFSET($J$128,MATCH(\"Aggregate Delivery to Ground Storage\",$J$129:$J$138,0),2)),0))),((IFERROR((OFFSET($J$146,MATCH(\"Aggregate Delivery to Ground Storage\",$J$147:$J$156,0),2)),0))),((IFERROR((OFFSET($J$164,MATCH(\"Aggregate Delivery to Ground Storage\",$J$165:$J$174,0),2)),0))),((IFERROR((OFFSET($J$181,MATCH(\"Aggregate Delivery to Ground Storage\",$J$183:$J$192,0),2)),0))))","v":0}]
[null,"Plant Specific Permit Number: ",null,null,null,null,null,null,null,null,null,null,null,null,null,"Sand Delivery to Ground Storage",{"$f":"MAX((IFERROR(OFFSET($J$20,MATCH(\"Sand Delivery to Ground Storage\",$J$21:$J$30,0),1),0)),((IFERROR((OFFSET($J$38,MATCH(\"Sand Delivery to Ground Storage\",$J$39:$J$48,0),1)),0))),((IFERROR((OFFSET($J$56,MATCH(\"Sand Delivery to Ground Storage\",$J$57:$J$66,0),1)),0))),((IFERROR((OFFSET($J$74,MATCH(\"Sand Delivery to Ground Storage\",$J$75:$J$84,0),1)),0))),((IFERROR((OFFSET($J$92,MATCH(\"Sand Delivery to Ground Storage\",$J$93:$J$102,0),1)),0))),((IFERROR((OFFSET($J$110,MATCH(\"Sand Delivery to Ground Storage\",$J$111:$J$120,0),1)),0))),((IFERROR((OFFSET($J$128,MATCH(\"Sand Delivery to Ground Storage\",$J$129:$J$138,0),1)),0))),((IFERROR((OFFSET($J$146,MATCH(\"Sand Delivery to Ground Storage\",$J$147:$J$156,0),1)),0))),((IFERROR((OFFSET($J$164,MATCH(\"Sand Delivery to Ground Storage\",$J$165:$J$174,0),1)),0))),((IFERROR((OFFSET($J$181,MATCH(\"Sand Delivery to Ground Storage\",$J$183:$J$192,0),1)),0))),)","v":0},{"$f":"SUM((IFERROR(OFFSET($J$20,MATCH(\"Sand Delivery to Ground Storage\",$J$21:$J$30,0),2),0)),((IFERROR((OFFSET($J$38,MATCH(\"Sand Delivery to Ground Storage\",$J$39:$J$48,0),2)),0))),((IFERROR((OFFSET($J$56,MATCH(\"Sand Delivery to Ground Storage\",$J$57:$J$66,0),2)),0))),((IFERROR((OFFSET($J$74,MATCH(\"Sand Delivery to Ground Storage\",$J$75:$J$84,0),2)),0))),((IFERROR((OFFSET($J$92,MATCH(\"Sand Delivery to Ground Storage\",$J$93:$J$102,0),2)),0))),((IFERROR((OFFSET($J$110,MATCH(\"Sand Delivery to Ground Storage\",$J$111:$J$120,0),2)),0))),((IFERROR((OFFSET($J$128,MATCH(\"Sand Delivery to Ground Storage\",$J$129:$J$138,0),2)),0))),((IFERROR((OFFSET($J$146,MATCH(\"Sand Delivery to Ground Storage\",$J$147:$J$156,0),2)),0))),((IFERROR((OFFSET($J$164,MATCH(\"Sand Delivery to Ground Storage\",$J$165:$J$174,0),2)),0))),((IFERROR((OFFSET($J$181,MATCH(\"Sand Delivery to Ground Storage\",$J$183:$J$192,0),2)),0))))","v":0}]
[null,null,null,null,null,null,null,null,null,null,null,null,null,null,null,"Aggregate Transfer to Conveyor",{"$f":"MAX((IFERROR(OFFSET($J$20,MATCH(\"Aggregate Transfer to Conveyor\",$J$21:$J$30,0),1),0)),((IFERROR((OFFSET($J$38,MATCH(\"Aggregate Transfer to Conveyor\",$J$39:$J$48,0),1)),0))),((IFERROR((OFFSET($J$56,MATCH(\"Aggregate Transfer to Conveyor\",$J$57:$J$66,0),1)),0))),((IFERROR((OFFSET($J$74,MATCH(\"Aggregate Transfer to Conveyor\",$J$75:$J$84,0),1)),0))),((IFERROR((OFFSET($J$92,MATCH(\"Aggregate Transfer to Conveyor\",$J$93:$J$102,0),1)),0))),((IFERROR((OFFSET($J$110,MATCH(\"Aggregate Transfer to Conveyor\",$J$111:$J$120,0),1)),0))),((IFERROR((OFFSET($J$128,MATCH(\"Aggregate Transfer to Conveyor\",$J$129:$J$138,0),1)),0))),((IFERROR((OFFSET($J$146,MATCH(\"Aggregate Transfer to Conveyor\",$J$147:$J$156,0),1)),0))),((IFERROR((OFFSET($J$164,MATCH(\"Aggregate Transfer to Conveyor\",$J$165:$J$174,0),1)),0))),((IFERROR((OFFSET($J$181,MATCH(\"Aggregate Transfer to Conveyor\",$J$183:$J$192,0),1)),0))),)","v":0},{"$f":"SUM((IFERROR(OFFSET($J$20,MATCH(\"Aggregate Transfer to Conveyor\",$J$21:$J$30,0),2),0)),((IFERROR((OFFSET($J$38,MATCH(\"Aggregate Transfer to Conveyor\",$J$39:$J$48,0),2)),0))),((IFERROR((OFFSET($J$56,MATCH(\"Aggregate Transfer to Conveyor\",$J$57:$J$66,0),2)),0))),((IFERROR((OFFSET($J$74,MATCH(\"Aggregate Transfer to Conveyor\",$J$75:$J$84,0),2)),0))),((IFERROR((OFFSET($J$92,MATCH(\"Aggregate Transfer to Conveyor\",$J$93:$J$102,0),2)),0))),((IFERROR((OFFSET($J$110,MATCH(\"Aggregate Transfer to Conveyor\",$J$111:$J$120,0),2)),0))),((IFERROR((OFFSET($J$128,MATCH(\"Aggregate Transfer to Conveyor\",$J$129:$J$138,0),2)),0))),((IFERROR((OFFSET($J$146,MATCH(\"Aggregate Transfer to Conveyor\",$J$147:$J$156,0),2)),0))),((IFERROR((OFFSET($J$164,MATCH(\"Aggregate Transfer to Conveyor\",$J$165:$J$174,0),2)),0))),((IFERROR((OFFSET($J$181,MATCH(\"Aggregate Transfer to Conveyor\",$J$183:$J$192,0),2)),0))))","v":0}]
[null,"Plant Specific Operating Limits:",null,null,null,null,null,"Plant Specific Emission Limits:",null,null,null,null,null,null,null,"Sand Transfer to Conveyor",{"$f":"MAX((IFERROR(OFFSET($J$20,MATCH(\"Sand Transfer to Conveyor\",$J$21:$J$30,0),1),0)),((IFERROR((OFFSET($J$38,MATCH(\"Sand Transfer to Conveyor\",$J$39:$J$48,0),1)),0))),((IFERROR((OFFSET($J$56,MATCH(\"Sand Transfer to Conveyor\",$J$57:$J$66,0),1)),0))),((IFERROR((OFFSET($J$74,MATCH(\"Sand Transfer to Conveyor\",$J$75:$J$84,0),1)),0))),((IFERROR((OFFSET($J$92,MATCH(\"Sand Transfer to Conveyor\",$J$93:$J$102,0),1)),0))),((IFERROR((OFFSET($J$110,MATCH(\"Sand Transfer to Conveyor\",$J$111:$J$120,0),1)),0))),((IFERROR((OFFSET($J$128,MATCH(\"Sand Transfer to Conveyor\",$J$129:$J$138,0),1)),0))),((IFERROR((OFFSET($J$146,MATCH(\"Sand Transfer to Conveyor\",$J$147:$J$156,0),1)),0))),((IFERROR((OFFSET($J$164,MATCH(\"Sand Transfer to Conveyor\",$J$165:$J$174,0),1)),0))),((IFERROR((OFFSET($J$181,MATCH(\"Sand Transfer to Conveyor\",$J$183:$J$192,0),1)),0))),)","v":0},{"$f":"SUM((IFERROR(OFFSET($J$20,MATCH(\"Sand Transfer to Conveyor\",$J$21:$J$30,0),2),0)),((IFERROR((OFFSET($J$38,MATCH(\"Sand Transfer to Conveyor\",$J$39:$J$48,0),2)),0))),((IFERROR((OFFSET($J$56,MATCH(\"Sand Transfer to Conveyor\",$J$57:$J$66,0),2)),0))),((IFERROR((OFFSET($J$74,MATCH(\"Sand Transfer to Conveyor\",$J$75:$J$84,0),2)),0))),((IFERROR((OFFSET($J$92,MATCH(\"Sand Transfer to Conveyor\",$J$93:$J$102,0),2)),0))),((IFERROR((OFFSET($J$110,MATCH(\"Sand Transfer to Conveyor\",$J$111:$J$120,0),2)),0))),((IFERROR((OFFSET($J$128,MATCH(\"Sand Transfer to Conveyor\",$J$129:$J$138,0),2)),0))),((IFERROR((OFFSET($J$146,MATCH(\"Sand Transfer to Conveyor\",$J$147:$J$156,0),2)),0))),((IFERROR((OFFSET($J$164,MATCH(\"Sand Transfer to Conveyor\",$J$165:$J$174,0),2)),0))),((IFERROR((OFFSET($J$181,MATCH(\"Sand Transfer to Conveyor\",$J$183:$J$192,0),2)),0))))","v":0}]
[null,"Throughput Limit (cubic yards/yr):",null,null,null,null,null,"Pollutant","lb/hr","tons/yr",null,null,null,null,null,"Aggregate Transfer to Elevated Storage",{"$f":"MAX((IFERROR(OFFSET($J$20,MATCH(\"Aggregate Transfer to Elevated Storage\",$J$21:$J$30,0),1),0)),((IFERROR((OFFSET($J$38,MATCH(\"Aggregate Transfer to Elevated Storage\",$J$39:$J$48,0),1)),0))),((IFERROR((OFFSET($J$56,MATCH(\"Aggregate Transfer to Elevated Storage\",$J$57:$J$66,0),1)),0))),((IFERROR((OFFSET($J$74,MATCH(\"Aggregate Transfer to Elevated Storage\",$J$75:$J$84,0),1)),0))),((IFERROR((OFFSET($J$92,MATCH(\"Aggregate Transfer to Elevated Storage\",$J$93:$J$102,0),1)),0))),((IFERROR((OFFSET($J$110,MATCH(\"Aggregate Transfer to Elevated Storage\",$J$111:$J$120,0),1)),0))),((IFERROR((OFFSET($J$128,MATCH(\"Aggregate Transfer to Elevated Storage\",$J$129:$J$138,0),1)),0))),((IFERROR((OFFSET($J$146,MATCH(\"Aggregate Transfer to Elevated Storage\",$J$147:$J$156,0),1)),0))),((IFERROR((OFFSET($J$164,MATCH(\"Aggregate Transfer to Elevated Storage\",$J$165:$J$174,0),1)),0))),((IFERROR((OFFSET($J$181,MATCH(\"Aggregate Transfer to Elevated Storage\",$J$183:$J$192,0),1)),0))),)","v":0},{"$f":"SUM((IFERROR(OFFSET($J$20,MATCH(\"Aggregate Transfer to Elevated Storage\",$J$21:$J$30,0),2),0)),((IFERROR((OFFSET($J$38,MATCH(\"Aggregate Transfer to Elevated Storage\",$J$39:$J$48,0),2)),0))),((IFERROR((OFFSET($J$56,MATCH(\"Aggregate Transfer to Elevated Storage\",$J$57:$J$66,0),2)),0))),((IFERROR((OFFSET($J$74,MATCH(\"Aggregate Transfer to Elevated Storage\",$J$75:$J$84,0),2)),0))),((IFERROR((OFFSET($J$92,MATCH(\"Aggregate Transfer to Elevated Storage\",$J$93:$J$102,0),2)),0))),((IFERROR((OFFSET($J$110,MATCH(\"Aggregate Transfer to Elevated Storage\",$J$111:$J$120,0),2)),0))),((IFERROR((OFFSET($J$128,MATCH(\"Aggregate Transfer to Elevated Storage\",$J$129:$J$138,0),2)),0))),((IFERROR((OFFSET($J$146,MATCH(\"Aggregate Transfer to Elevated Storage\",$J$147:$J$156,0),2)),0))),((IFERROR((OFFSET($J$164,MATCH(\"Aggregate Transfer to Elevated Storage\",$J$165:$J$174,0),2)),0))),((IFERROR((OFFSET($J$181,MATCH(\"Aggregate Transfer to Elevated Storage\",$J$183:$J$192,0),2)),0))))","v":0}]
[null,"Daily Throughput Limit (cubic yards/day):",null,null,null,null,null,"PM2.5",null,null,null,null,null,null,null,"Sand Transfer to Elevated Storage",{"$f":"MAX((IFERROR(OFFSET($J$20,MATCH(\"Sand Transfer to Elevated Storage\",$J$21:$J$30,0),1),0)),((IFERROR((OFFSET($J$38,MATCH(\"Sand Transfer to Elevated Storage\",$J$39:$J$48,0),1)),0))),((IFERROR((OFFSET($J$56,MATCH(\"Sand Transfer to Elevated Storage\",$J$57:$J$66,0),1)),0))),((IFERROR((OFFSET($J$74,MATCH(\"Sand Transfer to Elevated Storage\",$J$75:$J$84,0),1)),0))),((IFERROR((OFFSET($J$92,MATCH(\"Sand Transfer to Elevated Storage\",$J$93:$J$102,0),1)),0))),((IFERROR((OFFSET($J$110,MATCH(\"Sand Transfer to Elevated Storage\",$J$111:$J$120,0),1)),0))),((IFERROR((OFFSET($J$128,MATCH(\"Sand Transfer to Elevated Storage\",$J$129:$J$138,0),1)),0))),((IFERROR((OFFSET($J$146,MATCH(\"Sand Transfer to Elevated Storage\",$J$147:$J$156,0),1)),0))),((IFERROR((OFFSET($J$164,MATCH(\"Sand Transfer to Elevated Storage\",$J$165:$J$174,0),1)),0))),((IFERROR((OFFSET($J$181,MATCH(\"Sand Transfer to Elevated Storage\",$J$183:$J$192,0),1)),0))),)","v":0},{"$f":"SUM((IFERROR(OFFSET($J$20,MATCH(\"Sand Transfer to Elevated Storage\",$J$21:$J$30,0),2),0)),((IFERROR((OFFSET($J$38,MATCH(\"Sand Transfer to Elevated Storage\",$J$39:$J$48,0),2)),0))),((IFERROR((OFFSET($J$56,MATCH(\"Sand Transfer to Elevated Storage\",$J$57:$J$66,0),2)),0))),((IFERROR((OFFSET($J$74,MATCH(\"Sand Transfer to Elevated Storage\",$J$75:$J$84,0),2)),0))),((IFERROR((OFFSET($J$92,MATCH(\"Sand Transfer to Elevated Storage\",$J$93:$J$102,0),2)),0))),((IFERROR((OFFSET($J$110,MATCH(\"Sand Transfer to Elevated Storage\",$J$111:$J$120,0),2)),0))),((IFERROR((OFFSET($J$128,MATCH(\"Sand Transfer to Elevated Storage\",$J$129:$J$138,0),2)),0))),((IFERROR((OFFSET($J$146,MATCH(\"Sand Transfer to Elevated Storage\",$J$147:$J$156,0),2)),0))),((IFERROR((OFFSET($J$164,MATCH(\"Sand Transfer to Elevated Storage\",$J$165:$J$174,0),2)),0))),((IFERROR((OFFSET($J$181,MATCH(\"Sand Transfer to Elevated Storage\",$J$183:$J$192,0),2)),0))))","v":0}]
[null,"Hours of Operation Limit (hours/day):",null,null,null,null,null,"PM10",null,null,null,null,null,null,null,"Weigh Hopper Loading",{"$f":"MAX((IFERROR(OFFSET($J$20,MATCH(\"Weigh Hopper Loading\",$J$21:$J$30,0),1),0)),((IFERROR((OFFSET($J$38,MATCH(\"Weigh Hopper Loading\",$J$39:$J$48,0),1)),0))),((IFERROR((OFFSET($J$56,MATCH(\"Weigh Hopper Loading\",$J$57:$J$66,0),1)),0))),((IFERROR((OFFSET($J$74,MATCH(\"Weigh Hopper Loading\",$J$75:$J$84,0),1)),0))),((IFERROR((OFFSET($J$92,MATCH(\"Weigh Hopper Loading\",$J$93:$J$102,0),1)),0))),((IFERROR((OFFSET($J$110,MATCH(\"Weigh Hopper Loading\",$J$111:$J$120,0),1)),0))),((IFERROR((OFFSET($J$128,MATCH(\"Weigh Hopper Loading\",$J$129:$J$138,0),1)),0))),((IFERROR((OFFSET($J$146,MATCH(\"Weigh Hopper Loading\",$J$147:$J$156,0),1)),0))),((IFERROR((OFFSET($J$164,MATCH(\"Weigh Hopper Loading\",$J$165:$J$174,0),1)),0))),((IFERROR((OFFSET($J$181,MATCH(\"Weigh Hopper Loading\",$J$183:$J$192,0),1)),0))),)","v":0},{"$f":"SUM((IFERROR(OFFSET($J$20,MATCH(\"Weigh Hopper Loading\",$J$21:$J$30,0),2),0)),((IFERROR((OFFSET($J$38,MATCH(\"Weigh Hopper Loading\",$J$39:$J$48,0),2)),0))),((IFERROR((OFFSET($J$56,MATCH(\"Weigh Hopper Loading\",$J$57:$J$66,0),2)),0))),((IFERROR((OFFSET($J$74,MATCH(\"Weigh Hopper Loading\",$J$75:$J$84,0),2)),0))),((IFERROR((OFFSET($J$92,MATCH(\"Weigh Hopper Loading\",$J$93:$J$102,0),2)),0))),((IFERROR((OFFSET($J$110,MATCH(\"Weigh Hopper Loading\",$J$111:$J$120,0),2)),0))),((IFERROR((OFFSET($J$128,MATCH(\"Weigh Hopper Loading\",$J$129:$J$138,0),2)),0))),((IFERROR((OFFSET($J$146,MATCH(\"Weigh Hopper Loading\",$J$147:$J$156,0),2)),0))),((IFERROR((OFFSET($J$164,MATCH(\"Weigh Hopper Loading\",$J$165:$J$174,0),2)),0))),((IFERROR((OFFSET($J$181,MATCH(\"Weigh Hopper Loading\",$J$183:$J$192,0),2)),0))))","v":0}]
[null,"Note: if the plant has an hrs/day and a cubic yards/hr permit limit, those values should be multiplied together to calculate a cubic yards/day limit and that value should be placed in cell C10.",null,null,null,null,null,"SO2",null,null,null,null,null,null,null,"Central Mix Loading",{"$f":"MAX((IFERROR(OFFSET($J$20,MATCH(\"Central Mix Loading\",$J$21:$J$30,0),1),0)),((IFERROR((OFFSET($J$38,MATCH(\"Central Mix Loading\",$J$39:$J$48,0),1)),0))),((IFERROR((OFFSET($J$56,MATCH(\"Central Mix Loading\",$J$57:$J$66,0),1)),0))),((IFERROR((OFFSET($J$74,MATCH(\"Central Mix Loading\",$J$75:$J$84,0),1)),0))),((IFERROR((OFFSET($J$92,MATCH(\"Central Mix Loading\",$J$93:$J$102,0),1)),0))),((IFERROR((OFFSET($J$110,MATCH(\"Central Mix Loading\",$J$111:$J$120,0),1)),0))),((IFERROR((OFFSET($J$128,MATCH(\"Central Mix Loading\",$J$129:$J$138,0),1)),0))),((IFERROR((OFFSET($J$146,MATCH(\"Central Mix Loading\",$J$147:$J$156,0),1)),0))),((IFERROR((OFFSET($J$164,MATCH(\"Central Mix Loading\",$J$165:$J$174,0),1)),0))),((IFERROR((OFFSET($J$181,MATCH(\"Central Mix Loading\",$J$183:$J$192,0),1)),0))),)","v":0},{"$f":"SUM((IFERROR(OFFSET($J$20,MATCH(\"Central Mix Loading\",$J$21:$J$30,0),2),0)),((IFERROR((OFFSET($J$38,MATCH(\"Central Mix Loading\",$J$39:$J$48,0),2)),0))),((IFERROR((OFFSET($J$56,MATCH(\"Central Mix Loading\",$J$57:$J$66,0),2)),0))),((IFERROR((OFFSET($J$74,MATCH(\"Central Mix Loading\",$J$75:$J$84,0),2)),0))),((IFERROR((OFFSET($J$92,MATCH(\"Central Mix Loading\",$J$93:$J$102,0),2)),0))),((IFERROR((OFFSET($J$110,MATCH(\"Central Mix Loading\",$J$111:$J$120,0),2)),0))),((IFERROR((OFFSET($J$128,MATCH(\"Central Mix Loading\",$J$129:$J$138,0),2)),0))),((IFERROR((OFFSET($J$146,MATCH(\"Central Mix Loading\",$J$147:$J$156,0),2)),0))),((IFERROR((OFFSET($J$164,MATCH(\"Central Mix Loading\",$J$165:$J$174,0),2)),0))),((IFERROR((OFFSET($J$181,MATCH(\"Central Mix Loading\",$J$183:$J$192,0),2)),0))))","v":0}]
[null,null,null,null,null,null,null,"NOx",null,null,null,null,null,null,null,"Truck Mix Loading",{"$f":"MAX((IFERROR(OFFSET($J$20,MATCH(\"Truck Mix Loading\",$J$21:$J$30,0),1),0)),((IFERROR((OFFSET($J$38,MATCH(\"Truck Mix Loading\",$J$39:$J$48,0),1)),0))),((IFERROR((OFFSET($J$56,MATCH(\"Truck Mix Loading\",$J$57:$J$66,0),1)),0))),((IFERROR((OFFSET($J$74,MATCH(\"Truck Mix Loading\",$J$75:$J$84,0),1)),0))),((IFERROR((OFFSET($J$92,MATCH(\"Truck Mix Loading\",$J$93:$J$102,0),1)),0))),((IFERROR((OFFSET($J$110,MATCH(\"Truck Mix Loading\",$J$111:$J$120,0),1)),0))),((IFERROR((OFFSET($J$128,MATCH(\"Truck Mix Loading\",$J$129:$J$138,0),1)),0))),((IFERROR((OFFSET($J$146,MATCH(\"Truck Mix Loading\",$J$147:$J$156,0),1)),0))),((IFERROR((OFFSET($J$164,MATCH(\"Truck Mix Loading\",$J$165:$J$174,0),1)),0))),((IFERROR((OFFSET($J$181,MATCH(\"Truck Mix Loading\",$J$183:$J$192,0),1)),0))),)","v":0},{"$f":"SUM((IFERROR(OFFSET($J$20,MATCH(\"Truck Mix Loading\",$J$21:$J$30,0),2),0)),((IFERROR((OFFSET($J$38,MATCH(\"Truck Mix Loading\",$J$39:$J$48,0),2)),0))),((IFERROR((OFFSET($J$56,MATCH(\"Truck Mix Loading\",$J$57:$J$66,0),2)),0))),((IFERROR((OFFSET($J$74,MATCH(\"Truck Mix Loading\",$J$75:$J$84,0),2)),0))),((IFERROR((OFFSET($J$92,MATCH(\"Truck Mix Loading\",$J$93:$J$102,0),2)),0))),((IFERROR((OFFSET($J$110,MATCH(\"Truck Mix Loading\",$J$111:$J$120,0),2)),0))),((IFERROR((OFFSET($J$128,MATCH(\"Truck Mix Loading\",$J$129:$J$138,0),2)),0))),((IFERROR((OFFSET($J$146,MATCH(\"Truck Mix Loading\",$J$147:$J$156,0),2)),0))),((IFERROR((OFFSET($J$164,MATCH(\"Truck Mix Loading\",$J$165:$J$174,0),2)),0))),((IFERROR((OFFSET($J$181,MATCH(\"Truck Mix Loading\",$J$183:$J$192,0),2)),0))))","v":0}]
[null,null,null,null,null,null,null,"VOC",null,null,null,null,null,null,null,"Cement Delivery to Silo",{"$f":"MAX((IFERROR(OFFSET($J$20,MATCH(\"Cement Delivery to Silo\",$J$21:$J$30,0),1),0)),((IFERROR((OFFSET($J$38,MATCH(\"Cement Delivery to Silo\",$J$39:$J$48,0),1)),0))),((IFERROR((OFFSET($J$56,MATCH(\"Cement Delivery to Silo\",$J$57:$J$66,0),1)),0))),((IFERROR((OFFSET($J$74,MATCH(\"Cement Delivery to Silo\",$J$75:$J$84,0),1)),0))),((IFERROR((OFFSET($J$92,MATCH(\"Cement Delivery to Silo\",$J$93:$J$102,0),1)),0))),((IFERROR((OFFSET($J$110,MATCH(\"Cement Delivery to Silo\",$J$111:$J$120,0),1)),0))),((IFERROR((OFFSET($J$128,MATCH(\"Cement Delivery to Silo\",$J$129:$J$138,0),1)),0))),((IFERROR((OFFSET($J$146,MATCH(\"Cement Delivery to Silo\",$J$147:$J$156,0),1)),0))),((IFERROR((OFFSET($J$164,MATCH(\"Cement Delivery to Silo\",$J$165:$J$174,0),1)),0))),((IFERROR((OFFSET($J$181,MATCH(\"Cement Delivery to Silo\",$J$183:$J$192,0),1)),0))),)","v":0},{"$f":"SUM((IFERROR(OFFSET($J$20,MATCH(\"Cement Delivery to Silo\",$J$21:$J$30,0),2),0)),((IFERROR((OFFSET($J$38,MATCH(\"Cement Delivery to Silo\",$J$39:$J$48,0),2)),0))),((IFERROR((OFFSET($J$56,MATCH(\"Cement Delivery to Silo\",$J$57:$J$66,0),2)),0))),((IFERROR((OFFSET($J$74,MATCH(\"Cement Delivery to Silo\",$J$75:$J$84,0),2)),0))),((IFERROR((OFFSET($J$92,MATCH(\"Cement Delivery to Silo\",$J$93:$J$102,0),2)),0))),((IFERROR((OFFSET($J$110,MATCH(\"Cement Delivery to Silo\",$J$111:$J$120,0),2)),0))),((IFERROR((OFFSET($J$128,MATCH(\"Cement Delivery to Silo\",$J$129:$J$138,0),2)),0))),((IFERROR((OFFSET($J$146,MATCH(\"Cement Delivery to Silo\",$J$147:$J$156,0),2)),0))),((IFERROR((OFFSET($J$164,MATCH(\"Cement Delivery to Silo\",$J$165:$J$174,0),2)),0))),((IFERROR((OFFSET($J$181,MATCH(\"Cement Delivery to Silo\",$J$183:$J$192,0),2)),0))))","v":0}]
[null,null,null,null,null,null,null,"CO",null,null,null,null,null,null,null,"Cement Supplement Delivery to Silo",{"$f":"MAX((IFERROR(OFFSET($J$20,MATCH(\"Cement Supplement Delivery to Silo\",$J$21:$J$30,0),1),0)),((IFERROR((OFFSET($J$38,MATCH(\"Cement Supplement Delivery to Silo\",$J$39:$J$48,0),1)),0))),((IFERROR((OFFSET($J$56,MATCH(\"Cement Supplement Delivery to Silo\",$J$57:$J$66,0),1)),0))),((IFERROR((OFFSET($J$74,MATCH(\"Cement Supplement Delivery to Silo\",$J$75:$J$84,0),1)),0))),((IFERROR((OFFSET($J$92,MATCH(\"Cement Supplement Delivery to Silo\",$J$93:$J$102,0),1)),0))),((IFERROR((OFFSET($J$110,MATCH(\"Cement Supplement Delivery to Silo\",$J$111:$J$120,0),1)),0))),((IFERROR((OFFSET($J$128,MATCH(\"Cement Supplement Delivery to Silo\",$J$129:$J$138,0),1)),0))),((IFERROR((OFFSET($J$146,MATCH(\"Cement Supplement Delivery to Silo\",$J$147:$J$156,0),1)),0))),((IFERROR((OFFSET($J$164,MATCH(\"Cement Supplement Delivery to Silo\",$J$165:$J$174,0),1)),0))),((IFERROR((OFFSET($J$181,MATCH(\"Cement Supplement Delivery to Silo\",$J$183:$J$192,0),1)),0))),)","v":0},{"$f":"SUM((IFERROR(OFFSET($J$20,MATCH(\"Cement Supplement Delivery to Silo\",$J$21:$J$30,0),2),0)),((IFERROR((OFFSET($J$38,MATCH(\"Cement Supplement Delivery to Silo\",$J$39:$J$48,0),2)),0))),((IFERROR((OFFSET($J$56,MATCH(\"Cement Supplement Delivery to Silo\",$J$57:$J$66,0),2)),0))),((IFERROR((OFFSET($J$74,MATCH(\"Cement Supplement Delivery to Silo\",$J$75:$J$84,0),2)),0))),((IFERROR((OFFSET($J$92,MATCH(\"Cement Supplement Delivery to Silo\",$J$93:$J$102,0),2)),0))),((IFERROR((OFFSET($J$110,MATCH(\"Cement Supplement Delivery to Silo\",$J$111:$J$120,0),2)),0))),((IFERROR((OFFSET($J$128,MATCH(\"Cement Supplement Delivery to Silo\",$J$129:$J$138,0),2)),0))),((IFERROR((OFFSET($J$146,MATCH(\"Cement Supplement Delivery to Silo\",$J$147:$J$156,0),2)),0))),((IFERROR((OFFSET($J$164,MATCH(\"Cement Supplement Delivery to Silo\",$J$165:$J$174,0),2)),0))),((IFERROR((OFFSET($J$181,MATCH(\"Cement Supplement Delivery to Silo\",$J$183:$J$192,0),2)),0))))","v":0}]
[null,null,null,null,null,null,null,null,null,null,null,null,null,null,null,null,"Maximum (acres/day)","Actual (acres-day/yr)"]
[null,null,null,null,null,null,null,null,null,null,null,null,null,null,null,"Storage Pile",{"$f":"SUM(J34,J52,J70,J88,J106,J124,J142,J160,J178,J196)","v":0},{"$f":"SUM(K34*L34,K52*L52,K70*L70,K88*L88,K106*L106,K124*L124,K142*L142,K160*L160,K178*L178,K196*L196)","v":0}]
[]
[null,"Batch Plant","Site 1",null,null,null,null,"Emission Point #","Emission     Unit #","Processes","Combined Maximum Hourly Design Rate for all Like Processes (cubic yard/hr)",{"$f":"('Facility Information'!G5&\" Annual Throughput (cubic yards)\")","v":" Annual Throughput (cubic yards)"}]
[null,null,null,null,null,null,null,null,null,null,null,null,"Truck","Central",null,"Potential and Actual Emissions for the Listed Processes at this Plant"]
["YES","Site Name:",null,null,null,null,null,{"$f":"IF(J21=\"cement delivery to silo\",\"CP-1 EP-2\",IF(J21=\"cement supplement delivery to silo\",\"CP-1 EP-3\",IF(J21=\"weigh hopper loading\",\"CP-1 EP-4\",IF(J21=\"truck mix loading\",\"CP-1 EP-5\",IF(J21=\"central mix loading\",\"CP-1 EP-6\",IF(J21=\"\",\"\",\"CP-1 EP-1\"))))))","v":""},{"$f":"IF(J21=\"\",\"\",IF(J21=\"aggregate delivery to ground storage\",\"CP-1 EU-1\",IF(J21=\"sand delivery to ground storage\",\"CP-1 EU-2\",IF(J21=\"aggregate transfer to conveyor\",\"CP-1 EU-3\",IF(J21=\"sand transfer to conveyor\",\"CP-1 EU-4\",IF(J21=\"aggregate transfer to elevated storage\",\"CP-1 EU-5\",IF(J21=\"sand transfer to elevated storage\",\"CP-1 EU-6\",IF(J21=\"weigh hopper loading\",\"CP-1 EU-7\",IF(J21=\"central mix loading\",\"CP-1 EU-8\",IF(J21=\"truck mix loading\",\"CP-1 EU-9\",IF(J21=\"cement delivery to silo\",\"CP-1 EU-10\",IF(J21=\"cement supplement delivery to silo\",\"CP-1 EU-11\"))))))))))))","v":""},null,null,null,{"$f":"IF(J21=\"truck mix loading\",IF($F$24=\"yes\",L21*0.05/2000,L21/2000),\"\")","v":""},{"$f":"IF(J21=\"central mix loading\",IF($F$24=\"yes\",L21*0.05/2000,L21/2000),\"\")","v":""},null,null,"Maximum Design Rate (cubic yards/hr)","Emission Factor (lb/cubic yard)","Potential Uncontrolled Emissions (lb/hr)","Potential Controlled Emissions (lb/hr)","Potential Annual Emissions (tons/yr)","Actual Annual Emissions (tons/yr)"]
["NO","County:",null,null,null,null,null,{"$f":"IF(J22=\"cement delivery to silo\",\"CP-1 EP-2\",IF(J22=\"cement supplement delivery to silo\",\"CP-1 EP-3\",IF(J22=\"weigh hopper loading\",\"CP-1 EP-4\",IF(J22=\"truck mix loading\",\"CP-1 EP-5\",IF(J22=\"central mix loading\",\"CP-1 EP-6\",IF(J22=\"\",\"\",\"CP-1 EP-1\"))))))","v":""},{"$f":"IF(J22=\"\",\"\",IF(J22=\"aggregate delivery to ground storage\",\"CP-1 EU-1\",IF(J22=\"sand delivery to ground storage\",\"CP-1 EU-2\",IF(J22=\"aggregate transfer to conveyor\",\"CP-1 EU-3\",IF(J22=\"sand transfer to conveyor\",\"CP-1 EU-4\",IF(J22=\"aggregate transfer to elevated storage\",\"CP-1 EU-5\",IF(J22=\"sand transfer to elevated storage\",\"CP-1 EU-6\",IF(J22=\"weigh hopper loading\",\"CP-1 EU-7\",IF(J22=\"central mix loading\",\"CP-1 EU-8\",IF(J22=\"truck mix loading\",\"CP-1 EU-9\",IF(J22=\"cement delivery to silo\",\"CP-1 EU-10\",IF(J22=\"cement supplement delivery to silo\",\"CP-1 EU-11\"))))))))))))","v":""},null,null,null,{"$f":"IF(J22=\"truck mix loading\",IF($F$24=\"yes\",L22*0.05/2000,L22/2000),\"\")","v":""},{"$f":"IF(J22=\"central mix loading\",IF($F$24=\"yes\",L22*0.05/2000,L22/2000),\"\")","v":""},null,"PM2.5"]
[null,"Batching Period (Dates):",null,null,null,null,null,"","",null,null,null,"","",null,"Aggregate Delivery to Ground Storage",{"$f":"Q5","v":0},{"$f":"IF(Q23=0,0,LOOKUP(P23,'Emission Factors'!$A$5:$A$16,'Emission Factors'!$D$5:$D$16))","v":0},{"$f":"Q23*R23","v":0},{"$f":"IF(Q23=0,\"\",IF($I$10>0,$I$10,\"\"))","v":""},{"$f":"IF($J$10>0,$J$10,IF($D$9>0,$D$9*R23/2000,IF($D$10>0,$D$10*365*R23/2000,IF($D$11>0,$D$11*365*R23*Q23/2000,IF($I$10>0,0,S23*8760/2000)))))","v":0},{"$f":"(R5*R23/2000)","v":0}]
["Aggregate Delivery to Ground Storage",{"$f":"IF(OR(COUNTIF(J21:J30,\"Truck Mix Loading\")>0,(COUNTIF(J21:J30,\"Central Mix Loading\")>0)),\"Is the Central/Truck Mix Loading process controlled by a baghouse?\",\"\")","v":""},null,null,null,null,null,"","",null,null,null,"","",null,"Sand Delivery to Ground Storage",{"$f":"Q6","v":0},{"$f":"IF(Q24=0,0,LOOKUP(P24,'Emission Factors'!$A$5:$A$16,'Emission Factors'!$D$5:$D$16))","v":0},{"$f":"Q24*R24","v":0},{"$f":"IF(Q24=0,\"\",IF($I$10>0,$I$10,\"\"))","v":""},{"$f":"IF($J$10>0,\"\",IF($D$9>0,$D$9*R24/2000,IF($D$10>0,$D$10*365*R24/2000,IF($D$11>0,$D$11*365*R24*Q24/2000,IF($I$10>0,0,S24*8760/2000)))))","v":0},{"$f":"(R6*R24/2000)","v":0}]
["Sand Delivery to Ground Storage",null,null,null,null,null,null,"","",null,null,null,"","",null,"Aggregate Transfer to Conveyor",0,{"$f":"IF(Q25=0,0,LOOKUP(P25,'Emission Factors'!$A$5:$A$16,'Emission Factors'!$D$5:$D$16))","v":0},0,"",0,0]
["Aggregate Transfer to Conveyor",{"$f":"IF(AND(B28=\"\",B29=\"\",B32=\"\",B31=\"\",B30=\"\"),\"\",\"Process (complete stack information if applicable):\")","v":""},{"$f":"IF(AND(B28=\"\",B29=\"\",B32=\"\",B31=\"\",B30=\"\"),\"\",\"Stack Height (ft):\")","v":""},{"$f":"IF(AND(B28=\"\",B29=\"\",B32=\"\",B31=\"\",B30=\"\"),\"\",\"Stack Diameter (inches):\")","v":""},{"$f":"IF(AND(B28=\"\",B29=\"\",B32=\"\",B31=\"\",B30=\"\"),\"\",\"Flow Rate (acfm):\")","v":""},{"$f":"IF(AND(B28=\"\",B29=\"\",B32=\"\",B31=\"\",B30=\"\"),\"\",\"Temperature (Deg F):\")","v":""},null,"","",null,null,null,"","",null,"Sand Transfer to Conveyor",0,{"$f":"IF(Q26=0,0,LOOKUP(P26,'Emission Factors'!$A$5:$A$16,'Emission Factors'!$D$5:$D$16))","v":0},0,"",0,0]
["Sand Transfer to Conveyor",null,null,null,null,null,null,"","",null,null,null,"","",null,"Aggregate Transfer to Elevated Storage",0,{"$f":"IF(Q27=0,0,LOOKUP(P27,'Emission Factors'!$A$5:$A$16,'Emission Factors'!$D$5:$D$16))","v":0},0,"",0,0]
["Aggregate Transfer to Elevated Storage",{"$f":"IF(COUNTIF(J21:J30,\"Cement Delivery to Silo\")>0,\"EP-2 Cement Silo Stack:\",\"\")","v":""},null,null,null,null,null,"","",null,null,null,"","",null,"Sand Transfer to Elevated Storage",0,{"$f":"IF(Q28=0,0,LOOKUP(P28,'Emission Factors'!$A$5:$A$16,'Emission Factors'!$D$5:$D$16))","v":0},0,"",0,0]
["Sand Transfer to Elevated Storage",{"$f":"IF(COUNTIF(J21:J30,\"Cement Supplement Delivery to Silo\")>0,\"EP-3 Cement Supplement Silo Stack:\",\"\")","v":""},null,null,null,null,null,"","",null,null,null,"","",null,"Weigh Hopper Loading",0,{"$f":"IF(Q29=0,0,LOOKUP(P29,'Emission Factors'!$A$5:$A$16,'Emission Factors'!$D$5:$D$16))","v":0},0,"",0,0]
["Weigh Hopper Loading",{"$f":"IF(COUNTIF(J21:J30,\"Weigh Hopper Loading\")>0,\"EP-4 Weigh Hopper Loading Stack:\",\"\")","v":""},null,null,null,null,null,"","",null,null,null,"","",null,"Central Mix Loading",0,{"$f":"IF(Q30=0,0,LOOKUP(P30,'Emission Factors'!$A$5:$A$16,'Emission Factors'!$D$5:$D$16))","v":0},0,{"$f":"IF(Q30=0,\"\",IF($I$10>0,$I$10,IF(COUNTIF($F$24:$F$186,\"no\")>0,\"\",S30*(1-0.95))))","v":""},{"$f":"IF($J$10>0,\"\",IF($D$9>0,$D$9*R30*((100-$W$30)/100)/2000,IF($D$10>0,$D$10*365*R30*((100-$W$30)/100)/2000,IF($D$11>0,$D$11*365*R30*((100-$W$30)/100)*Q30/2000,IF(T30=\"\",S30*8760/2000,T30*8760/2000)))))","v":0},{"$f":"(R30*N198)","v":0},{"$f":"IF(COUNTIF($F$24:$F$186,\"no\")>0,0,95)","v":95}]
["Central Mix Loading",{"$f":"IF(COUNTIF(J21:J30,\"Truck Mix Loading\")>0,\"EP-5 Truck Mix Loading Stack:\",\"\")","v":""},null,null,null,null,null,null,null,null,null,null,null,null,null,"Truck Mix Loading",0,{"$f":"IF(Q31=0,0,LOOKUP(P31,'Emission Factors'!$A$5:$A$16,'Emission Factors'!$D$5:$D$16))","v":0},0,{"$f":"IF(Q31=0,\"\",IF($I$10>0,$I$10,IF(COUNTIF($F$24:$F$186,\"no\")>0,\"\",S31*(1-0.95))))","v":""},{"$f":"IF($J$10>0,\"\",IF($D$9>0,$D$9*R31*((100-$W$30)/100)/2000,IF($D$10>0,$D$10*365*R31*((100-$W$30)/100)/2000,IF($D$11>0,$D$11*365*R31*((100-$W$30)/100)*Q31/2000,IF(T31=\"\",S31*8760/2000,T31*8760/2000)))))","v":0},{"$f":"(R31*M198)","v":0}]
["Truck Mix Loading",{"$f":"IF(COUNTIF(J21:J30,\"Central Mix Loading\")>0,\"EP-6 Central Mix Loading Stack:\",\"\")","v":""},null,null,null,null,null,"Stock Pile Area",null,null,null,null,null,null,null,"Cement Delivery to Silo",0,{"$f":"IF(Q32=0,0,LOOKUP(P32,'Emission Factors'!$A$5:$A$16,'Emission Factors'!$D$5:$D$16))","v":0},null,{"$f":"IF(Q32=0,0,IF($I$10>0,$I$10,Q32*R32))","v":0},{"$f":"IF($J$10>0,\"\",IF($D$9>0,$D$9*R32/2000,IF($D$10>0,$D$10*365*R32/2000,IF($D$11>0,$D$11*365*R32*Q32/2000,IF($I$10>0,0,T32*8760/2000)))))","v":0},0]
["Cement Delivery to Silo",null,null,null,null,null,null,null,"Emission Unit #","Maximum Storage Area (acres)","Actual Storage Area (acres)","Actual Days in Existence (days)",null,null,null,"Cement Supplement Delivery to Silo",0,{"$f":"IF(Q33=0,0,LOOKUP(P33,'Emission Factors'!$A$5:$A$16,'Emission Factors'!$D$5:$D$16))","v":0},null,{"$f":"IF(Q33=0,0,IF($I$10>0,$I$10,Q33*R33))","v":0},{"$f":"IF($J$10>0,\"\",IF($D$9>0,$D$9*R33/2000,IF($D$10>0,$D$10*365*R33/2000,IF($D$11>0,$D$11*365*R33*Q33/2000,IF($I$10>0,0,T33*8760/2000)))))","v":0},0]
["Cement Supplement Delivery to Silo",null,null,null,null,null,null,null,null,null,null,null,null,null,null,"PM10"]
[null,null,null,null,null,null,null,null,null,null,null,null,null,null,null,"Aggregate Delivery to Ground Storage",{"$f":"Q5","v":0},{"$f":"IF(Q35=0,0,LOOKUP(P35,'Emission Factors'!$A$5:$A$16,'Emission Factors'!$H$5:$H$16))","v":0},0,{"$f":"IF(Q35=0,\"\",IF($I$11>0,$I$11,\"\"))","v":""},{"$f":"IF($J$11>0,$J$11,IF($D$9>0,$D$9*R35/2000,IF($D$10>0,$D$10*365*R35/2000,IF($D$11>0,$D$11*365*R35*Q35/2000,IF($I$11>0,0,S35*8760/2000)))))","v":0},{"$f":"(R5*R35/2000)","v":0}]
[null,null,null,null,null,null,null,null,null,null,null,null,null,null,null,"Sand Delivery to Ground Storage",{"$f":"Q6","v":0},{"$f":"IF(Q36=0,0,LOOKUP(P36,'Emission Factors'!$A$5:$A$16,'Emission Factors'!$H$5:$H$16))","v":0},0,{"$f":"IF(Q36=0,\"\",IF($I$11>0,$I$11,\"\"))","v":""},{"$f":"IF($J$11>0,\"\",IF($D$9>0,$D$9*R36/2000,IF($D$10>0,$D$10*365*R36/2000,IF($D$11>0,$D$11*365*R36*Q36/2000,IF($I$11>0,0,S36*8760/2000)))))","v":0},{"$f":"(R6*R36/2000)","v":0}]
[null,{"$f":"IF('Concrete Plant (CP-1)'!$D$4>1,\"Batch Plant\",\"\")","v":""},{"$f":"IF('Concrete Plant (CP-1)'!$D$4>1,\"Site 2\",\"\")","v":""},null,null,null,null,{"$f":"IF('Concrete Plant (CP-1)'!$D$4>1,\"Emission Point #\",\"\")","v":""},{"$f":"IF('Concrete Plant (CP-1)'!$D$4>1,\"Emission     Unit #\",\"\")","v":""},{"$f":"IF('Concrete Plant (CP-1)'!$D$4>1,\"Processes\",\"\")","v":""},{"$f":"IF('Concrete Plant (CP-1)'!$D$4>1,\"Combined Maximum Hourly Design Rate for all Like Processes (cubic yard/hr)\",\"\")","v":""},{"$f":"IF('Concrete Plant (CP-1)'!$D$4>1,('Facility Information'!G5&\" Annual Throughput (cubic yards)\"),\"\")","v":""},null,null,null,"Aggregate Transfer to Conveyor",0,{"$f":"IF(Q37=0,0,LOOKUP(P37,'Emission Factors'!$A$5:$A$16,'Emission Factors'!$H$5:$H$16))","v":0},0,"",0,0]
[null,null,null,null,null,null,null,null,null,null,null,null,"Truck","Central",null,"Sand Transfer to Conveyor",0,{"$f":"IF(Q38=0,0,LOOKUP(P38,'Emission Factors'!$A$5:$A$16,'Emission Factors'!$H$5:$H$16))","v":0},0,"",0,0]
[null,{"$f":"IF('Concrete Plant (CP-1)'!$D$4>1,\"Site Name:\",\"\")","v":""},null,null,null,null,null,{"$f":"IF(J39=\"cement delivery to silo\",\"CP-1 EP-2\",IF(J39=\"cement supplement delivery to silo\",\"CP-1 EP-3\",IF(J39=\"weigh hopper loading\",\"CP-1 EP-4\",IF(J39=\"truck mix loading\",\"CP-1 EP-5\",IF(J39=\"central mix loading\",\"CP-1 EP-6\",IF(J39=\"\",\"\",\"CP-1 EP-1\"))))))","v":""},{"$f":"IF(J39=\"\",\"\",IF(J39=\"aggregate delivery to ground storage\",\"CP-1 EU-1\",IF(J39=\"sand delivery to ground storage\",\"CP-1 EU-2\",IF(J39=\"aggregate transfer to conveyor\",\"CP-1 EU-3\",IF(J39=\"sand transfer to conveyor\",\"CP-1 EU-4\",IF(J39=\"aggregate transfer to elevated storage\",\"CP-1 EU-5\",IF(J39=\"sand transfer to elevated storage\",\"CP-1 EU-6\",IF(J39=\"weigh hopper loading\",\"CP-1 EU-7\",IF(J39=\"central mix loading\",\"CP-1 EU-8\",IF(J39=\"truck mix loading\",\"CP-1 EU-9\",IF(J39=\"cement delivery to silo\",\"CP-1 EU-10\",IF(J39=\"cement supplement delivery to silo\",\"CP-1 EU-11\"))))))))))))","v":""},null,null,null,{"$f":"IF(J39=\"truck mix loading\",IF($F$42=\"yes\",L39*0.05/2000,L39/2000),\"\")","v":""},{"$f":"IF(J39=\"central mix loading\",IF($F$42=\"yes\",L39*0.05/2000,L39/2000),\"\")","v":""},null,"Aggregate Transfer to Elevated Storage",0,{"$f":"IF(Q39=0,0,LOOKUP(P39,'Emission Factors'!$A$5:$A$16,'Emission Factors'!$H$5:$H$16))","v":0},0,"",0,0]
[null,{"$f":"IF('Concrete Plant (CP-1)'!$D$4>1,\"County:\",\"\")","v":""},null,null,null,null,null,{"$f":"IF(J40=\"cement delivery to silo\",\"CP-1 EP-2\",IF(J40=\"cement supplement delivery to silo\",\"CP-1 EP-3\",IF(J40=\"weigh hopper loading\",\"CP-1 EP-4\",IF(J40=\"truck mix loading\",\"CP-1 EP-5\",IF(J40=\"central mix loading\",\"CP-1 EP-6\",IF(J40=\"\",\"\",\"CP-1 EP-1\"))))))","v":""},{"$f":"IF(J40=\"\",\"\",IF(J40=\"aggregate delivery to ground storage\",\"CP-1 EU-1\",IF(J40=\"sand delivery to ground storage\",\"CP-1 EU-2\",IF(J40=\"aggregate transfer to conveyor\",\"CP-1 EU-3\",IF(J40=\"sand transfer to conveyor\",\"CP-1 EU-4\",IF(J40=\"aggregate transfer to elevated storage\",\"CP-1 EU-5\",IF(J40=\"sand transfer to elevated storage\",\"CP-1 EU-6\",IF(J40=\"weigh hopper loading\",\"CP-1 EU-7\",IF(J40=\"central mix loading\",\"CP-1 EU-8\",IF(J40=\"truck mix loading\",\"CP-1 EU-9\",IF(J40=\"cement delivery to silo\",\"CP-1 EU-10\",IF(J40=\"cement supplement delivery to silo\",\"CP-1 EU-11\"))))))))))))","v":""},null,null,null,{"$f":"IF(J40=\"truck mix loading\",IF($F$42=\"yes\",L40*0.05/2000,L40/2000),\"\")","v":""},{"$f":"IF(J40=\"central mix loading\",IF($F$42=\"yes\",L40*0.05/2000,L40/2000),\"\")","v":""},null,"Sand Transfer to Elevated Storage",0,{"$f":"IF(Q40=0,0,LOOKUP(P40,'Emission Factors'!$A$5:$A$16,'Emission Factors'!$H$5:$H$16))","v":0},0,"",0,0]
[null,{"$f":"IF('Concrete Plant (CP-1)'!$D$4>1,\"Batching Period (Dates):\",\"\")","v":""},null,null,null,null,null,"",{"$f":"IF(J41=\"\",\"\",IF(J41=\"aggregate delivery to ground storage\",\"CP-1 EU-1\",IF(J41=\"sand delivery to ground storage\",\"CP-1 EU-2\",IF(J41=\"aggregate transfer to conveyor\",\"CP-1 EU-3\",IF(J41=\"sand transfer to conveyor\",\"CP-1 EU-4\",IF(J41=\"aggregate transfer to elevated storage\",\"CP-1 EU-5\",IF(J41=\"sand transfer to elevated storage\",\"CP-1 EU-6\",IF(J41=\"weigh hopper loading\",\"CP-1 EU-7\",IF(J41=\"central mix loading\",\"CP-1 EU-8\",IF(J41=\"truck mix loading\",\"CP-1 EU-9\",IF(J41=\"cement delivery to silo\",\"CP-1 EU-10\",IF(J41=\"cement supplement delivery to silo\",\"CP-1 EU-11\"))))))))))))","v":""},null,null,null,"","",null,"Weigh Hopper Loading",0,{"$f":"IF(Q41=0,0,LOOKUP(P41,'Emission Factors'!$A$5:$A$16,'Emission Factors'!$H$5:$H$16))","v":0},0,"",0,0]
[null,{"$f":"IF(OR(COUNTIF(J39:J48,\"Truck Mix Loading\")>0,(COUNTIF(J39:J48,\"Central Mix Loading\")>0)),\"Is the Central/Truck Mix Loading process controlled by a baghouse?\",\"\")","v":""},null,null,null,null,null,"","",null,null,null,"","",null,"Central Mix Loading",0,{"$f":"IF(Q42=0,0,LOOKUP(P42,'Emission Factors'!$A$5:$A$16,'Emission Factors'!$H$5:$H$16))","v":0},0,{"$f":"IF(Q42=0,\"\",IF($I$11>0,$I$11,IF(COUNTIF($F$24:$F$186,\"no\")>0,\"\",S42*(1-0.95))))","v":""},{"$f":"IF($J$11>0,\"\",IF($D$9>0,$D$9*R42*((100-$W$30)/100)/2000,IF($D$10>0,$D$10*365*R42*((100-$W$30)/100)/2000,IF($D$11>0,$D$11*365*R42*((100-$W$30)/100)*Q42/2000,IF(T42=\"\",S42*8760/2000,T42*8760/2000)))))","v":0},{"$f":"(N198*R42)","v":0},{"$f":"IF(COUNTIF($F$24:$F$186,\"no\")>0,0,95)","v":95}]
[null,null,null,null,null,null,null,"","",null,null,null,"","",null,"Truck Mix Loading",0,{"$f":"IF(Q43=0,0,LOOKUP(P43,'Emission Factors'!$A$5:$A$16,'Emission Factors'!$H$5:$H$16))","v":0},0,{"$f":"IF(Q43=0,\"\",IF($I$11>0,$I$11,IF(COUNTIF($F$24:$F$186,\"no\")>0,\"\",S43*(1-0.95))))","v":""},{"$f":"IF($J$11>0,\"\",IF($D$9>0,$D$9*R43*((100-$W$30)/100)/2000,IF($D$10>0,$D$10*365*R43*((100-$W$30)/100)/2000,IF($D$11>0,$D$11*365*R43*((100-$W$30)/100)*Q43/2000,IF(T43=\"\",S43*8760/2000,T43*8760/2000)))))","v":0},{"$f":"(M198*R43)","v":0}]
[null,{"$f":"IF(AND(B46=\"\",B47=\"\",B48=\"\",B49=\"\",B50=\"\"),\"\",\"Process (complete stack information if applicable):\")","v":""},{"$f":"IF(AND(B46=\"\",B47=\"\",B48=\"\",B49=\"\",B50=\"\"),\"\",\"Stack Height (ft):\")","v":""},{"$f":"IF(AND(B46=\"\",B47=\"\",B48=\"\",B49=\"\",B50=\"\"),\"\",\"Stack Diameter (inches):\")","v":""},{"$f":"IF(AND(B46=\"\",B47=\"\",B48=\"\",B49=\"\",B50=\"\"),\"\",\"Flow Rate (acfm):\")","v":""},{"$f":"IF(AND(B46=\"\",B47=\"\",B48=\"\",B49=\"\",B50=\"\"),\"\",\"Temperature (Deg F):\")","v":""},null,"","",null,null,null,"","",null,"Cement Delivery to Silo",0,{"$f":"IF(Q44=0,0,LOOKUP(P44,'Emission Factors'!$A$5:$A$16,'Emission Factors'!$H$5:$H$16))","v":0},null,{"$f":"IF(Q44=0,0,IF($I$10>0,$I$10,Q44*R44))","v":0},{"$f":"IF($J$11>0,\"\",IF($D$9>0,$D$9*R44/2000,IF($D$10>0,$D$10*365*R44/2000,IF($D$11>0,$D$11*365*R44*Q44/2000,IF($I$11>0,0,T44*8760/2000)))))","v":0},0]
[null,null,null,null,null,null,null,"","",null,null,null,"","",null,"Cement Supplement Delivery to Silo",0,{"$f":"IF(Q45=0,0,LOOKUP(P45,'Emission Factors'!$A$5:$A$16,'Emission Factors'!$H$5:$H$16))","v":0},null,{"$f":"IF(Q45=0,0,IF($I$10>0,$I$10,Q45*R45))","v":0},{"$f":"IF($J$11>0,\"\",IF($D$9>0,$D$9*R45/2000,IF($D$10>0,$D$10*365*R45/2000,IF($D$11>0,$D$11*365*R45*Q45/2000,IF($I$11>0,0,T45*8760/2000)))))","v":0},0]
[null,{"$f":"IF(COUNTIF(J39:J48,\"Cement Delivery to Silo\")>0,\"EP-2 Cement Silo Stack:\",\"\")","v":""},null,null,null,null,null,"","",null,null,null,"",""]
[null,{"$f":"IF(COUNTIF(J39:J48,\"Cement Supplement Delivery to Silo\")>0,\"EP-3 Cement Supplement Silo Stack:\",\"\")","v":""},null,null,null,null,null,"","",null,null,null,"","",null,null,"Max Design Rate (acres/day)","Emission Factor   (lb/acre-day)","Potential Uncontrolled Emissions (lb/hr)","Potential Controlled Emissions (lb/hr)","Potential Annual Emissions (tons/yr)","Actual Annual Emissions (tons/yr)"]
[null,{"$f":"IF(COUNTIF(J39:J48,\"Weigh Hopper Loading\")>0,\"EP-4 Weigh Hopper Loading Stack:\",\"\")","v":""},null,null,null,null,null,"","",null,null,null,"","",null,"Storage Pile"]
[null,{"$f":"IF(COUNTIF(J39:J48,\"Truck Mix Loading\")>0,\"EP-5 Truck Mix Loading Stack:\",\"\")","v":""},null,null,null,null,null,null,null,null,null,null,null,null,null,"PM2.5/PM10",{"$f":"Q17","v":0},3.64,{"$f":"Q49*R49*(1/24)","v":0},null,{"$f":"Q49*R49*365/2000","v":0},{"$f":"R17*R49/2000","v":0}]
[null,{"$f":"IF(COUNTIF(J39:J48,\"Central Mix Loading\")>0,\"EP-6 Central Mix Loading Stack:\",\"\")","v":""},null,null,null,null,null,{"$f":"IF('Concrete Plant (CP-1)'!$D$4>1,\"Stock Pile Area\",\"\")","v":""}]
[null,null,null,null,null,null,null,null,{"$f":"IF('Concrete Plant (CP-1)'!$D$4>1,\"Emission Unit #\",\"\")","v":""},{"$f":"IF('Concrete Plant (CP-1)'!$D$4>1,\"Maximum Storage Area (acres)\",\"\")","v":""},{"$f":"IF('Concrete Plant (CP-1)'!$D$4>1,\"Actual Storage Area (acres)\",\"\")","v":""},{"$f":"IF('Concrete Plant (CP-1)'!$D$4>1,\"Actual Days in Existence (days)\",\"\")","v":""}]
[]
[]
[]
[null,{"$f":"IF('Concrete Plant (CP-1)'!$D$4>2,\"Batch Plant\",\"\")","v":""},{"$f":"IF('Concrete Plant (CP-1)'!$D$4>2,\"Site 3\",\"\")","v":""},null,null,null,null,{"$f":"IF('Concrete Plant (CP-1)'!$D$4>2,\"Emission Point #\",\"\")","v":""},{"$f":"IF('Concrete Plant (CP-1)'!$D$4>2,\"Emission     Unit #\",\"\")","v":""},{"$f":"IF('Concrete Plant (CP-1)'!$D$4>2,\"Processes\",\"\")","v":""},{"$f":"IF('Concrete Plant (CP-1)'!$D$4>2,\"Combined Maximum Hourly Design Rate for all Like Processes (cubic yard/hr)\",\"\")","v":""},{"$f":"IF('Concrete Plant (CP-1)'!$D$4>2,('Facility Information'!G5&\" Annual Throughput (cubic yards)\"),\"\")","v":""}]
[null,null,null,null,null,null,null,null,null,null,null,null,"Truck","Central"]
[null,{"$f":"IF('Concrete Plant (CP-1)'!$D$4>2,\"Site Name:\",\"\")","v":""},null,null,null,null,null,{"$f":"IF(J57=\"cement delivery to silo\",\"CP-1 EP-2\",IF(J57=\"cement supplement delivery to silo\",\"CP-1 EP-3\",IF(J57=\"weigh hopper loading\",\"CP-1 EP-4\",IF(J57=\"truck mix loading\",\"CP-1 EP-5\",IF(J57=\"central mix loading\",\"CP-1 EP-6\",IF(J57=\"\",\"\",\"CP-1 EP-1\"))))))","v":""},{"$f":"IF(J57=\"\",\"\",IF(J57=\"aggregate delivery to ground storage\",\"CP-1 EU-1\",IF(J57=\"sand delivery to ground storage\",\"CP-1 EU-2\",IF(J57=\"aggregate transfer to conveyor\",\"CP-1 EU-3\",IF(J57=\"sand transfer to conveyor\",\"CP-1 EU-4\",IF(J57=\"aggregate transfer to elevated storage\",\"CP-1 EU-5\",IF(J57=\"sand transfer to elevated storage\",\"CP-1 EU-6\",IF(J57=\"weigh hopper loading\",\"CP-1 EU-7\",IF(J57=\"central mix loading\",\"CP-1 EU-8\",IF(J57=\"truck mix loading\",\"CP-1 EU-9\",IF(J57=\"cement delivery to silo\",\"CP-1 EU-10\",IF(J57=\"cement supplement delivery to silo\",\"CP-1 EU-11\"))))))))))))","v":""},null,null,null,{"$f":"IF(J57=\"truck mix loading\",IF($F$60=\"yes\",L57*0.05/2000,L57/2000),\"\")","v":""},{"$f":"IF(J57=\"central mix loading\",IF($F$60=\"yes\",L57*0.05/2000,L57/2000),\"\")","v":""}]
[null,{"$f":"IF('Concrete Plant (CP-1)'!$D$4>2,\"County:\",\"\")","v":""},null,null,null,null,null,{"$f":"IF(J58=\"cement delivery to silo\",\"CP-1 EP-2\",IF(J58=\"cement supplement delivery to silo\",\"CP-1 EP-3\",IF(J58=\"weigh hopper loading\",\"CP-1 EP-4\",IF(J58=\"truck mix loading\",\"CP-1 EP-5\",IF(J58=\"central mix loading\",\"CP-1 EP-6\",IF(J58=\"\",\"\",\"CP-1 EP-1\"))))))","v":""},{"$f":"IF(J58=\"\",\"\",IF(J58=\"aggregate delivery to ground storage\",\"CP-1 EU-1\",IF(J58=\"sand delivery to ground storage\",\"CP-1 EU-2\",IF(J58=\"aggregate transfer to conveyor\",\"CP-1 EU-3\",IF(J58=\"sand transfer to conveyor\",\"CP-1 EU-4\",IF(J58=\"aggregate transfer to elevated storage\",\"CP-1 EU-5\",IF(J58=\"sand transfer to elevated storage\",\"CP-1 EU-6\",IF(J58=\"weigh hopper loading\",\"CP-1 EU-7\",IF(J58=\"central mix loading\",\"CP-1 EU-8\",IF(J58=\"truck mix loading\",\"CP-1 EU-9\",IF(J58=\"cement delivery to silo\",\"CP-1 EU-10\",IF(J58=\"cement supplement delivery to silo\",\"CP-1 EU-11\"))))))))))))","v":""},null,null,null,{"$f":"IF(J58=\"truck mix loading\",IF($F$60=\"yes\",L58*0.05/2000,L58/2000),\"\")","v":""},{"$f":"IF(J58=\"central mix loading\",IF($F$60=\"yes\",L58*0.05/2000,L58/2000),\"\")","v":""}]
[null,{"$f":"IF('Concrete Plant (CP-1)'!$D$4>2,\"Batching Period (Dates):\",\"\")","v":""},null,null,null,null,null,"","",null,null,null,"",""]
[null,{"$f":"IF(OR(COUNTIF(J57:J66,\"Truck Mix Loading\")>0,(COUNTIF(J57:J66,\"Central Mix Loading\")>0)),\"Is the Central/Truck Mix Loading process controlled by a baghouse?\",\"\")","v":""},null,null,null,null,null,"","",null,null,null,"",""]
[null,null,null,null,null,null,null,"","",null,null,null,"",""]
[null,{"$f":"IF(AND(B64=\"\",B65=\"\",B66=\"\",B67=\"\",B68=\"\"),\"\",\"Process (complete stack information if applicable):\")","v":""},{"$f":"IF(AND(B64=\"\",B65=\"\",B66=\"\",B67=\"\",B68=\"\"),\"\",\"Stack Height (ft):\")","v":""},{"$f":"IF(AND(B64=\"\",B65=\"\",B66=\"\",B67=\"\",B68=\"\"),\"\",\"Stack Diameter (inches):\")","v":""},{"$f":"IF(AND(B64=\"\",B65=\"\",B66=\"\",B67=\"\",B68=\"\"),\"\",\"Flow Rate (acfm):\")","v":""},{"$f":"IF(AND(B64=\"\",B65=\"\",B66=\"\",B67=\"\",B68=\"\"),\"\",\"Temperature (Deg F):\")","v":""},null,"","",null,null,null,"",""]
[null,null,null,null,null,null,null,"","",null,null,null,"",""]
[null,{"$f":"IF(COUNTIF(J57:J66,\"Cement Delivery to Silo\")>0,\"EP-2 Cement Silo Stack:\",\"\")","v":""},null,null,null,null,null,"","",null,null,null,"",""]
[null,{"$f":"IF(COUNTIF(J57:J66,\"Cement Supplement Delivery to Silo\")>0,\"EP-3 Cement Supplement Silo Stack:\",\"\")","v":""},null,null,null,null,null,"","",null,null,null,"",""]
[null,{"$f":"IF(COUNTIF(J57:J66,\"Weigh Hopper Loading\")>0,\"EP-4 Weigh Hopper Loading Stack:\",\"\")","v":""},null,null,null,null,null,"","",null,null,null,"",""]
[null,{"$f":"IF(COUNTIF(J57:J66,\"Truck Mix Loading\")>0,\"EP-5 Truck Mix Loading Stack:\",\"\")","v":""}]
[null,{"$f":"IF(COUNTIF(J57:J66,\"Central Mix Loading\")>0,\"EP-6 Central Mix Loading Stack:\",\"\")","v":""},null,null,null,null,null,{"$f":"IF('Concrete Plant (CP-1)'!$D$4>2,\"Stock Pile Area\",\"\")","v":""}]
[null,null,null,null,null,null,null,null,{"$f":"IF('Concrete Plant (CP-1)'!$D$4>2,\"Emission Unit #\",\"\")","v":""},{"$f":"IF('Concrete Plant (CP-1)'!$D$4>2,\"Maximum Storage Area (acres)\",\"\")","v":""},{"$f":"IF('Concrete Plant (CP-1)'!$D$4>2,\"Actual Storage Area (acres)\",\"\")","v":""},{"$f":"IF('Concrete Plant (CP-1)'!$D$4>2,\"Actual Days in Existence (days)\",\"\")","v":""}]
[]
[]
[]
[null,{"$f":"IF('Concrete Plant (CP-1)'!$D$4>3,\"Batch Plant\",\"\")","v":""},{"$f":"IF('Concrete Plant (CP-1)'!$D$4>3,\"Site 4\",\"\")","v":""},null,null,null,null,{"$f":"IF('Concrete Plant (CP-1)'!$D$4>3,\"Emission Point #\",\"\")","v":""},{"$f":"IF('Concrete Plant (CP-1)'!$D$4>3,\"Emission     Unit #\",\"\")","v":""},{"$f":"IF('Concrete Plant (CP-1)'!$D$4>3,\"Processes\",\"\")","v":""},{"$f":"IF('Concrete Plant (CP-1)'!$D$4>3,\"Combined Maximum Hourly Design Rate for all Like Processes (cubic yard/hr)\",\"\")","v":""},{"$f":"IF('Concrete Plant (CP-1)'!$D$4>3,('Facility Information'!G5&\" Annual Throughput (cubic yards)\"),\"\")","v":""}]
[null,null,null,null,null,null,null,null,null,null,null,null,"Truck","Central"]
[null,{"$f":"IF('Concrete Plant (CP-1)'!$D$4>3,\"Site Name:\",\"\")","v":""},null,null,null,null,null,{"$f":"IF(J75=\"cement delivery to silo\",\"CP-1 EP-2\",IF(J75=\"cement supplement delivery to silo\",\"CP-1 EP-3\",IF(J75=\"weigh hopper loading\",\"CP-1 EP-4\",IF(J75=\"truck mix loading\",\"CP-1 EP-5\",IF(J75=\"central mix loading\",\"CP-1 EP-6\",IF(J75=\"\",\"\",\"CP-1 EP-1\"))))))","v":""},{"$f":"IF(J75=\"\",\"\",IF(J75=\"aggregate delivery to ground storage\",\"CP-1 EU-1\",IF(J75=\"sand delivery to ground storage\",\"CP-1 EU-2\",IF(J75=\"aggregate transfer to conveyor\",\"CP-1 EU-3\",IF(J75=\"sand transfer to conveyor\",\"CP-1 EU-4\",IF(J75=\"aggregate transfer to elevated storage\",\"CP-1 EU-5\",IF(J75=\"sand transfer to elevated storage\",\"CP-1 EU-6\",IF(J75=\"weigh hopper loading\",\"CP-1 EU-7\",IF(J75=\"central mix loading\",\"CP-1 EU-8\",IF(J75=\"truck mix loading\",\"CP-1 EU-9\",IF(J75=\"cement delivery to silo\",\"CP-1 EU-10\",IF(J75=\"cement supplement delivery to silo\",\"CP-1 EU-11\"))))))))))))","v":""},null,null,null,{"$f":"IF(J75=\"truck mix loading\",IF($F$78=\"yes\",L75*0.05/2000,L75/2000),\"\")","v":""},{"$f":"IF(J75=\"central mix loading\",IF($F$78=\"yes\",L75*0.05/2000,L75/2000),\"\")","v":""}]
[null,{"$f":"IF('Concrete Plant (CP-1)'!$D$4>3,\"County:\",\"\")","v":""},null,null,null,null,null,{"$f":"IF(J76=\"cement delivery to silo\",\"CP-1 EP-2\",IF(J76=\"cement supplement delivery to silo\",\"CP-1 EP-3\",IF(J76=\"weigh hopper loading\",\"CP-1 EP-4\",IF(J76=\"truck mix loading\",\"CP-1 EP-5\",IF(J76=\"central mix loading\",\"CP-1 EP-6\",IF(J76=\"\",\"\",\"CP-1 EP-1\"))))))","v":""},{"$f":"IF(J76=\"\",\"\",IF(J76=\"aggregate delivery to ground storage\",\"CP-1 EU-1\",IF(J76=\"sand delivery to ground storage\",\"CP-1 EU-2\",IF(J76=\"aggregate transfer to conveyor\",\"CP-1 EU-3\",IF(J76=\"sand transfer to conveyor\",\"CP-1 EU-4\",IF(J76=\"aggregate transfer to elevated storage\",\"CP-1 EU-5\",IF(J76=\"sand transfer to elevated storage\",\"CP-1 EU-6\",IF(J76=\"weigh hopper loading\",\"CP-1 EU-7\",IF(J76=\"central mix loading\",\"CP-1 EU-8\",IF(J76=\"truck mix loading\",\"CP-1 EU-9\",IF(J76=\"cement delivery to silo\",\"CP-1 EU-10\",IF(J76=\"cement supplement delivery to silo\",\"CP-1 EU-11\"))))))))))))","v":""},null,null,null,{"$f":"IF(J76=\"truck mix loading\",IF($F$78=\"yes\",L76*0.05/2000,L76/2000),\"\")","v":""},{"$f":"IF(J76=\"central mix loading\",IF($F$78=\"yes\",L76*0.05/2000,L76/2000),\"\")","v":""}]
[null,{"$f":"IF('Concrete Plant (CP-1)'!$D$4>3,\"Batching Period (Dates):\",\"\")","v":""},null,null,null,null,null,"","",null,null,null,"",""]
[null,{"$f":"IF(OR(COUNTIF(J75:J84,\"Truck Mix Loading\")>0,(COUNTIF(J75:J84,\"Central Mix Loading\")>0)),\"Is the Central/Truck Mix Loading process controlled by a baghouse?\",\"\")","v":""},null,null,null,null,null,"","",null,null,null,"",""]
[null,null,null,null,null,null,null,"","",null,null,null,"",""]
[null,{"$f":"IF(AND(B82=\"\",B83=\"\",B84=\"\",B85=\"\",B86=\"\"),\"\",\"Process (complete stack information if applicable):\")","v":""},{"$f":"IF(AND(B82=\"\",B83=\"\",B84=\"\",B85=\"\",B86=\"\"),\"\",\"Stack Height (ft):\")","v":""},{"$f":"IF(AND(B82=\"\",B83=\"\",B84=\"\",B85=\"\",B86=\"\"),\"\",\"Stack Diameter (inches):\")","v":""},{"$f":"IF(AND(B82=\"\",B83=\"\",B84=\"\",B85=\"\",B86=\"\"),\"\",\"Flow Rate (acfm):\")","v":""},{"$f":"IF(AND(B82=\"\",B83=\"\",B84=\"\",B85=\"\",B86=\"\"),\"\",\"Temperature (Deg F):\")","v":""},null,"","",null,null,null,"",""]
[null,null,null,null,null,null,null,"","",null,null,null,"",""]
[null,{"$f":"IF(COUNTIF(J75:J84,\"Cement Delivery to Silo\")>0,\"EP-2 Cement Silo Stack:\",\"\")","v":""},null,null,null,null,null,"","",null,null,null,"",""]
[null,{"$f":"IF(COUNTIF(J75:J84,\"Cement Supplement Delivery to Silo\")>0,\"EP-3 Cement Supplement Silo Stack:\",\"\")","v":""},null,null,null,null,null,"","",null,null,null,"",""]
[null,{"$f":"IF(COUNTIF(J75:J84,\"Weigh Hopper Loading\")>0,\"EP-4 Weigh Hopper Loading Stack:\",\"\")","v":""},null,null,null,null,null,"","",null,null,null,"",""]
[null,{"$f":"IF(COUNTIF(J75:J84,\"Truck Mix Loading\")>0,\"EP-5 Truck Mix Loading Stack:\",\"\")","v":""}]
[null,{"$f":"IF(COUNTIF(J75:J84,\"Central Mix Loading\")>0,\"EP-6 Central Mix Loading Stack:\",\"\")","v":""},null,null,null,null,null,{"$f":"IF('Concrete Plant (CP-1)'!$D$4>3,\"Stock Pile Area\",\"\")","v":""}]
[null,null,null,null,null,null,null,null,{"$f":"IF('Concrete Plant (CP-1)'!$D$4>3,\"Emission Unit #\",\"\")","v":""},{"$f":"IF('Concrete Plant (CP-1)'!$D$4>3,\"Maximum Storage Area (acres)\",\"\")","v":""},{"$f":"IF('Concrete Plant (CP-1)'!$D$4>3,\"Actual Storage Area (acres)\",\"\")","v":""},{"$f":"IF('Concrete Plant (CP-1)'!$D$4>3,\"Actual Days in Existence (days)\",\"\")","v":""}]
[]
[]
[]
[null,{"$f":"IF('Concrete Plant (CP-1)'!$D$4>4,\"Batch Plant\",\"\")","v":""},{"$f":"IF('Concrete Plant (CP-1)'!$D$4>4,\"Site 5\",\"\")","v":""},null,null,null,null,{"$f":"IF('Concrete Plant (CP-1)'!$D$4>4,\"Emission Point #\",\"\")","v":""},{"$f":"IF('Concrete Plant (CP-1)'!$D$4>4,\"Emission     Unit #\",\"\")","v":""},{"$f":"IF('Concrete Plant (CP-1)'!$D$4>4,\"Processes\",\"\")","v":""},{"$f":"IF('Concrete Plant (CP-1)'!$D$4>4,\"Combined Maximum Hourly Design Rate for all Like Processes (cubic yard/hr)\",\"\")","v":""},{"$f":"IF('Concrete Plant (CP-1)'!$D$4>4,('Facility Information'!G5&\" Annual Throughput (cubic yards)\"),\"\")","v":""}]
[null,null,null,null,null,null,null,null,null,null,null,null,"Truck","Central"]
[null,{"$f":"IF('Concrete Plant (CP-1)'!$D$4>4,\"Site Name:\",\"\")","v":""},null,null,null,null,null,{"$f":"IF(J93=\"cement delivery to silo\",\"CP-1 EP-2\",IF(J93=\"cement supplement delivery to silo\",\"CP-1 EP-3\",IF(J93=\"weigh hopper loading\",\"CP-1 EP-4\",IF(J93=\"truck mix loading\",\"CP-1 EP-5\",IF(J93=\"central mix loading\",\"CP-1 EP-6\",IF(J93=\"\",\"\",\"CP-1 EP-1\"))))))","v":""},{"$f":"IF(J93=\"\",\"\",IF(J93=\"aggregate delivery to ground storage\",\"CP-1 EU-1\",IF(J93=\"sand delivery to ground storage\",\"CP-1 EU-2\",IF(J93=\"aggregate transfer to conveyor\",\"CP-1 EU-3\",IF(J93=\"sand transfer to conveyor\",\"CP-1 EU-4\",IF(J93=\"aggregate transfer to elevated storage\",\"CP-1 EU-5\",IF(J93=\"sand transfer to elevated storage\",\"CP-1 EU-6\",IF(J93=\"weigh hopper loading\",\"CP-1 EU-7\",IF(J93=\"central mix loading\",\"CP-1 EU-8\",IF(J93=\"truck mix loading\",\"CP-1 EU-9\",IF(J93=\"cement delivery to silo\",\"CP-1 EU-10\",IF(J93=\"cement supplement delivery to silo\",\"CP-1 EU-11\"))))))))))))","v":""},null,null,null,{"$f":"IF(J93=\"truck mix loading\",IF($F$96=\"yes\",L93*0.05/2000,L93/2000),\"\")","v":""},{"$f":"IF(J93=\"central mix loading\",IF($F$96=\"yes\",L93*0.05/2000,L93/2000),\"\")","v":""}]
[null,{"$f":"IF('Concrete Plant (CP-1)'!$D$4>4,\"County:\",\"\")","v":""},null,null,null,null,null,{"$f":"IF(J94=\"cement delivery to silo\",\"CP-1 EP-2\",IF(J94=\"cement supplement delivery to silo\",\"CP-1 EP-3\",IF(J94=\"weigh hopper loading\",\"CP-1 EP-4\",IF(J94=\"truck mix loading\",\"CP-1 EP-5\",IF(J94=\"central mix loading\",\"CP-1 EP-6\",IF(J94=\"\",\"\",\"CP-1 EP-1\"))))))","v":""},{"$f":"IF(J94=\"\",\"\",IF(J94=\"aggregate delivery to ground storage\",\"CP-1 EU-1\",IF(J94=\"sand delivery to ground storage\",\"CP-1 EU-2\",IF(J94=\"aggregate transfer to conveyor\",\"CP-1 EU-3\",IF(J94=\"sand transfer to conveyor\",\"CP-1 EU-4\",IF(J94=\"aggregate transfer to elevated storage\",\"CP-1 EU-5\",IF(J94=\"sand transfer to elevated storage\",\"CP-1 EU-6\",IF(J94=\"weigh hopper loading\",\"CP-1 EU-7\",IF(J94=\"central mix loading\",\"CP-1 EU-8\",IF(J94=\"truck mix loading\",\"CP-1 EU-9\",IF(J94=\"cement delivery to silo\",\"CP-1 EU-10\",IF(J94=\"cement supplement delivery to silo\",\"CP-1 EU-11\"))))))))))))","v":""},null,null,null,{"$f":"IF(J94=\"truck mix loading\",IF($F$96=\"yes\",L94*0.05/2000,L94/2000),\"\")","v":""},{"$f":"IF(J94=\"central mix loading\",IF($F$96=\"yes\",L94*0.05/2000,L94/2000),\"\")","v":""}]
[null,{"$f":"IF('Concrete Plant (CP-1)'!$D$4>4,\"Batching Period (Dates):\",\"\")","v":""},null,null,null,null,null,"","",null,null,null,"",""]
[null,{"$f":"IF(OR(COUNTIF(J93:J102,\"Truck Mix Loading\")>0,(COUNTIF(J93:J102,\"Central Mix Loading\")>0)),\"Is the Central/Truck Mix Loading process controlled by a baghouse?\",\"\")","v":""},null,null,null,null,null,"","",null,null,null,"",""]
[null,null,null,null,null,null,null,"","",null,null,null,"",""]
[null,{"$f":"IF(AND(B100=\"\",B101=\"\",B102=\"\",B103=\"\",B104=\"\"),\"\",\"Process (complete stack information if applicable):\")","v":""},{"$f":"IF(AND(B100=\"\",B101=\"\",B102=\"\",B103=\"\",B104=\"\"),\"\",\"Stack Height (ft):\")","v":""},{"$f":"IF(AND(B100=\"\",B101=\"\",B102=\"\",B103=\"\",B104=\"\"),\"\",\"Stack Diameter (inches):\")","v":""},{"$f":"IF(AND(B100=\"\",B101=\"\",B102=\"\",B103=\"\",B104=\"\"),\"\",\"Flow Rate (acfm):\")","v":""},{"$f":"IF(AND(B100=\"\",B101=\"\",B102=\"\",B103=\"\",B104=\"\"),\"\",\"Temperature (Deg F):\")","v":""},null,"","",null,null,null,"",""]
[null,null,null,null,null,null,null,"","",null,null,null,"",""]
[null,{"$f":"IF(COUNTIF(J93:J102,\"Cement Delivery to Silo\")>0,\"EP-2 Cement Silo Stack:\",\"\")","v":""},null,null,null,null,null,"","",null,null,null,"",""]
[null,{"$f":"IF(COUNTIF(J93:J102,\"Cement Supplement Delivery to Silo\")>0,\"EP-3 Cement Supplement Silo Stack:\",\"\")","v":""},null,null,null,null,null,"","",null,null,null,"",""]
[null,{"$f":"IF(COUNTIF(J93:J102,\"Weigh Hopper Loading\")>0,\"EP-4 Weigh Hopper Loading Stack:\",\"\")","v":""},null,null,null,null,null,"","",null,null,null,"",""]
[null,{"$f":"IF(COUNTIF(J93:J102,\"Truck Mix Loading\")>0,\"EP-5 Truck Mix Loading Stack:\",\"\")","v":""}]
[null,{"$f":"IF(COUNTIF(J93:J102,\"Central Mix Loading\")>0,\"EP-6 Central Mix Loading Stack:\",\"\")","v":""},null,null,null,null,null,{"$f":"IF('Concrete Plant (CP-1)'!$D$4>4,\"Stock Pile Area\",\"\")","v":""}]
[null,null,null,null,null,null,null,null,{"$f":"IF('Concrete Plant (CP-1)'!$D$4>4,\"Emission Unit #\",\"\")","v":""},{"$f":"IF('Concrete Plant (CP-1)'!$D$4>4,\"Maximum Storage Area (acres)\",\"\")","v":""},{"$f":"IF('Concrete Plant (CP-1)'!$D$4>4,\"Actual Storage Area (acres)\",\"\")","v":""},{"$f":"IF('Concrete Plant (CP-1)'!$D$4>4,\"Actual Days in Existence (days)\",\"\")","v":""}]
[]
[]
[]
[null,{"$f":"IF('Concrete Plant (CP-1)'!$D$4>5,\"Batch Plant\",\"\")","v":""},{"$f":"IF('Concrete Plant (CP-1)'!$D$4>5,\"Site 6\",\"\")","v":""},null,null,null,null,{"$f":"IF('Concrete Plant (CP-1)'!$D$4>5,\"Emission Point #\",\"\")","v":""},{"$f":"IF('Concrete Plant (CP-1)'!$D$4>5,\"Emission     Unit #\",\"\")","v":""},{"$f":"IF('Concrete Plant (CP-1)'!$D$4>5,\"Processes\",\"\")","v":""},{"$f":"IF('Concrete Plant (CP-1)'!$D$4>5,\"Combined Maximum Hourly Design Rate for all Like Processes (cubic yard/hr)\",\"\")","v":""},{"$f":"IF('Concrete Plant (CP-1)'!$D$4>5,('Facility Information'!G5&\" Annual Throughput (cubic yards)\"),\"\")","v":""}]
[null,null,null,null,null,null,null,null,null,null,null,null,"Truck","Central"]
[null,{"$f":"IF('Concrete Plant (CP-1)'!$D$4>5,\"Site Name:\",\"\")","v":""},null,null,null,null,null,{"$f":"IF(J111=\"cement delivery to silo\",\"CP-1 EP-2\",IF(J111=\"cement supplement delivery to silo\",\"CP-1 EP-3\",IF(J111=\"weigh hopper loading\",\"CP-1 EP-4\",IF(J111=\"truck mix loading\",\"CP-1 EP-5\",IF(J111=\"central mix loading\",\"CP-1 EP-6\",IF(J111=\"\",\"\",\"CP-1 EP-1\"))))))","v":""},{"$f":"IF(J111=\"\",\"\",IF(J111=\"aggregate delivery to ground storage\",\"CP-1 EU-1\",IF(J111=\"sand delivery to ground storage\",\"CP-1 EU-2\",IF(J111=\"aggregate transfer to conveyor\",\"CP-1 EU-3\",IF(J111=\"sand transfer to conveyor\",\"CP-1 EU-4\",IF(J111=\"aggregate transfer to elevated storage\",\"CP-1 EU-5\",IF(J111=\"sand transfer to elevated storage\",\"CP-1 EU-6\",IF(J111=\"weigh hopper loading\",\"CP-1 EU-7\",IF(J111=\"central mix loading\",\"CP-1 EU-8\",IF(J111=\"truck mix loading\",\"CP-1 EU-9\",IF(J111=\"cement delivery to silo\",\"CP-1 EU-10\",IF(J111=\"cement supplement delivery to silo\",\"CP-1 EU-11\"))))))))))))","v":""},null,null,null,{"$f":"IF(J111=\"truck mix loading\",IF($F$114=\"yes\",L111*0.05/2000,L111/2000),\"\")","v":""},{"$f":"IF(J111=\"central mix loading\",IF($F$114=\"yes\",L111*0.05/2000,L111/2000),\"\")","v":""}]
[null,{"$f":"IF('Concrete Plant (CP-1)'!$D$4>5,\"County:\",\"\")","v":""},null,null,null,null,null,{"$f":"IF(J112=\"cement delivery to silo\",\"CP-1 EP-2\",IF(J112=\"cement supplement delivery to silo\",\"CP-1 EP-3\",IF(J112=\"weigh hopper loading\",\"CP-1 EP-4\",IF(J112=\"truck mix loading\",\"CP-1 EP-5\",IF(J112=\"central mix loading\",\"CP-1 EP-6\",IF(J112=\"\",\"\",\"CP-1 EP-1\"))))))","v":""},{"$f":"IF(J112=\"\",\"\",IF(J112=\"aggregate delivery to ground storage\",\"CP-1 EU-1\",IF(J112=\"sand delivery to ground storage\",\"CP-1 EU-2\",IF(J112=\"aggregate transfer to conveyor\",\"CP-1 EU-3\",IF(J112=\"sand transfer to conveyor\",\"CP-1 EU-4\",IF(J112=\"aggregate transfer to elevated storage\",\"CP-1 EU-5\",IF(J112=\"sand transfer to elevated storage\",\"CP-1 EU-6\",IF(J112=\"weigh hopper loading\",\"CP-1 EU-7\",IF(J112=\"central mix loading\",\"CP-1 EU-8\",IF(J112=\"truck mix loading\",\"CP-1 EU-9\",IF(J112=\"cement delivery to silo\",\"CP-1 EU-10\",IF(J112=\"cement supplement delivery to silo\",\"CP-1 EU-11\"))))))))))))","v":""},null,null,null,{"$f":"IF(J112=\"truck mix loading\",IF($F$114=\"yes\",L112*0.05/2000,L112/2000),\"\")","v":""},{"$f":"IF(J112=\"central mix loading\",IF($F$114=\"yes\",L112*0.05/2000,L112/2000),\"\")","v":""}]
[null,{"$f":"IF('Concrete Plant (CP-1)'!$D$4>5,\"Batching Period (Dates):\",\"\")","v":""},null,null,null,null,null,"","",null,null,null,"",""]
[null,{"$f":"IF(OR(COUNTIF(J111:J120,\"Truck Mix Loading\")>0,(COUNTIF(J111:J120,\"Central Mix Loading\")>0)),\"Is the Central/Truck Mix Loading process controlled by a baghouse?\",\"\")","v":""},null,null,null,null,null,"","",null,null,null,"",""]
[null,null,null,null,null,null,null,"","",null,null,null,"",""]
[null,{"$f":"IF(AND(B118=\"\",B119=\"\",B120=\"\",B121=\"\",B122=\"\"),\"\",\"Process (complete stack information if applicable):\")","v":""},{"$f":"IF(AND(B118=\"\",B119=\"\",B120=\"\",B121=\"\",B122=\"\"),\"\",\"Stack Height (ft):\")","v":""},{"$f":"IF(AND(B118=\"\",B119=\"\",B120=\"\",B121=\"\",B122=\"\"),\"\",\"Stack Diameter (inches):\")","v":""},{"$f":"IF(AND(B118=\"\",B119=\"\",B120=\"\",B121=\"\",B122=\"\"),\"\",\"Flow Rate (acfm):\")","v":""},{"$f":"IF(AND(B118=\"\",B119=\"\",B120=\"\",B121=\"\",B122=\"\"),\"\",\"Temperature (Deg F):\")","v":""},null,"","",null,null,null,"",""]
[null,null,null,null,null,null,null,"","",null,null,null,"",""]
[null,{"$f":"IF(COUNTIF(J111:J120,\"Cement Delivery to Silo\")>0,\"EP-2 Cement Silo Stack:\",\"\")","v":""},null,null,null,null,null,"","",null,null,null,"",""]
[null,{"$f":"IF(COUNTIF(J111:J120,\"Cement Supplement Delivery to Silo\")>0,\"EP-3 Cement Supplement Silo Stack:\",\"\")","v":""},null,null,null,null,null,"","",null,null,null,"",""]
[null,{"$f":"IF(COUNTIF(J111:J120,\"Weigh Hopper Loading\")>0,\"EP-4 Weigh Hopper Loading Stack:\",\"\")","v":""},null,null,null,null,null,"","",null,null,null,"",""]
[null,{"$f":"IF(COUNTIF(J111:J120,\"Truck Mix Loading\")>0,\"EP-5 Truck Mix Loading Stack:\",\"\")","v":""}]
[null,{"$f":"IF(COUNTIF(J111:J120,\"Central Mix Loading\")>0,\"EP-6 Central Mix Loading Stack:\",\"\")","v":""},null,null,null,null,null,{"$f":"IF('Concrete Plant (CP-1)'!$D$4>5,\"Stock Pile Area\",\"\")","v":""}]
[null,null,null,null,null,null,null,null,{"$f":"IF('Concrete Plant (CP-1)'!$D$4>5,\"Emission Unit #\",\"\")","v":""},{"$f":"IF('Concrete Plant (CP-1)'!$D$4>5,\"Maximum Storage Area (acres)\",\"\")","v":""},{"$f":"IF('Concrete Plant (CP-1)'!$D$4>5,\"Actual Storage Area (acres)\",\"\")","v":""},{"$f":"IF('Concrete Plant (CP-1)'!$D$4>5,\"Actual Days in Existence (days)\",\"\")","v":""}]
[]
[]
[]
[null,{"$f":"IF('Concrete Plant (CP-1)'!$D$4>6,\"Batch Plant\",\"\")","v":""},{"$f":"IF('Concrete Plant (CP-1)'!$D$4>6,\"Site 7\",\"\")","v":""},null,null,null,null,{"$f":"IF('Concrete Plant (CP-1)'!$D$4>6,\"Emission Point #\",\"\")","v":""},{"$f":"IF('Concrete Plant (CP-1)'!$D$4>6,\"Emission     Unit #\",\"\")","v":""},{"$f":"IF('Concrete Plant (CP-1)'!$D$4>6,\"Processes\",\"\")","v":""},{"$f":"IF('Concrete Plant (CP-1)'!$D$4>6,\"Combined Maximum Hourly Design Rate for all Like Processes (cubic yard/hr)\",\"\")","v":""},{"$f":"IF('Concrete Plant (CP-1)'!$D$4>6,('Facility Information'!G5&\" Annual Throughput (cubic yards)\"),\"\")","v":""}]
[null,null,null,null,null,null,null,null,null,null,null,null,"Truck","Central"]
[null,{"$f":"IF('Concrete Plant (CP-1)'!$D$4>6,\"Site Name:\",\"\")","v":""},null,null,null,null,null,{"$f":"IF(J129=\"cement delivery to silo\",\"CP-1 EP-2\",IF(J129=\"cement supplement delivery to silo\",\"CP-1 EP-3\",IF(J129=\"weigh hopper loading\",\"CP-1 EP-4\",IF(J129=\"truck mix loading\",\"CP-1 EP-5\",IF(J129=\"central mix loading\",\"CP-1 EP-6\",IF(J129=\"\",\"\",\"CP-1 EP-1\"))))))","v":""},{"$f":"IF(J129=\"\",\"\",IF(J129=\"aggregate delivery to ground storage\",\"CP-1 EU-1\",IF(J129=\"sand delivery to ground storage\",\"CP-1 EU-2\",IF(J129=\"aggregate transfer to conveyor\",\"CP-1 EU-3\",IF(J129=\"sand transfer to conveyor\",\"CP-1 EU-4\",IF(J129=\"aggregate transfer to elevated storage\",\"CP-1 EU-5\",IF(J129=\"sand transfer to elevated storage\",\"CP-1 EU-6\",IF(J129=\"weigh hopper loading\",\"CP-1 EU-7\",IF(J129=\"central mix loading\",\"CP-1 EU-8\",IF(J129=\"truck mix loading\",\"CP-1 EU-9\",IF(J129=\"cement delivery to silo\",\"CP-1 EU-10\",IF(J129=\"cement supplement delivery to silo\",\"CP-1 EU-11\"))))))))))))","v":""},null,null,null,{"$f":"IF(J129=\"truck mix loading\",IF($F$132=\"yes\",L129*0.05/2000,L129/2000),\"\")","v":""},{"$f":"IF(J129=\"central mix loading\",IF($F$132=\"yes\",L129*0.05/2000,L129/2000),\"\")","v":""}]
[null,{"$f":"IF('Concrete Plant (CP-1)'!$D$4>6,\"County:\",\"\")","v":""},null,null,null,null,null,{"$f":"IF(J130=\"cement delivery to silo\",\"CP-1 EP-2\",IF(J130=\"cement supplement delivery to silo\",\"CP-1 EP-3\",IF(J130=\"weigh hopper loading\",\"CP-1 EP-4\",IF(J130=\"truck mix loading\",\"CP-1 EP-5\",IF(J130=\"central mix loading\",\"CP-1 EP-6\",IF(J130=\"\",\"\",\"CP-1 EP-1\"))))))","v":""},{"$f":"IF(J130=\"\",\"\",IF(J130=\"aggregate delivery to ground storage\",\"CP-1 EU-1\",IF(J130=\"sand delivery to ground storage\",\"CP-1 EU-2\",IF(J130=\"aggregate transfer to conveyor\",\"CP-1 EU-3\",IF(J130=\"sand transfer to conveyor\",\"CP-1 EU-4\",IF(J130=\"aggregate transfer to elevated storage\",\"CP-1 EU-5\",IF(J130=\"sand transfer to elevated storage\",\"CP-1 EU-6\",IF(J130=\"weigh hopper loading\",\"CP-1 EU-7\",IF(J130=\"central mix loading\",\"CP-1 EU-8\",IF(J130=\"truck mix loading\",\"CP-1 EU-9\",IF(J130=\"cement delivery to silo\",\"CP-1 EU-10\",IF(J130=\"cement supplement delivery to silo\",\"CP-1 EU-11\"))))))))))))","v":""},null,null,null,{"$f":"IF(J130=\"truck mix loading\",IF($F$132=\"yes\",L130*0.05/2000,L130/2000),\"\")","v":""},{"$f":"IF(J130=\"central mix loading\",IF($F$132=\"yes\",L130*0.05/2000,L130/2000),\"\")","v":""}]
[null,{"$f":"IF('Concrete Plant (CP-1)'!$D$4>6,\"Batching Period (Dates):\",\"\")","v":""},null,null,null,null,null,"","",null,null,null,"",""]
[null,{"$f":"IF(OR(COUNTIF(J129:J138,\"Truck Mix Loading\")>0,(COUNTIF(J129:J138,\"Central Mix Loading\")>0)),\"Is the Central/Truck Mix Loading process controlled by a baghouse?\",\"\")","v":""},null,null,null,null,null,"","",null,null,null,"",""]
[null,null,null,null,null,null,null,"","",null,null,null,"",""]
[null,{"$f":"IF(AND(B136=\"\",B137=\"\",B138=\"\",B139=\"\",B140=\"\"),\"\",\"Process (complete stack information if applicable):\")","v":""},{"$f":"IF(AND(B136=\"\",B137=\"\",B138=\"\",B139=\"\",B140=\"\"),\"\",\"Stack Height (ft):\")","v":""},{"$f":"IF(AND(B136=\"\",B137=\"\",B138=\"\",B139=\"\",B140=\"\"),\"\",\"Stack Diameter (inches):\")","v":""},{"$f":"IF(AND(B136=\"\",B137=\"\",B138=\"\",B139=\"\",B140=\"\"),\"\",\"Flow Rate (acfm):\")","v":""},{"$f":"IF(AND(B136=\"\",B137=\"\",B138=\"\",B139=\"\",B140=\"\"),\"\",\"Temperature (Deg F):\")","v":""},null,"","",null,null,null,"",""]
[null,null,null,null,null,null,null,"","",null,null,null,"",""]
[null,{"$f":"IF(COUNTIF(J129:J138,\"Cement Delivery to Silo\")>0,\"EP-2 Cement Silo Stack:\",\"\")","v":""},null,null,null,null,null,"","",null,null,null,"",""]
[null,{"$f":"IF(COUNTIF(J129:J138,\"Cement Supplement Delivery to Silo\")>0,\"EP-3 Cement Supplement Silo Stack:\",\"\")","v":""},null,null,null,null,null,"","",null,null,null,"",""]
[null,{"$f":"IF(COUNTIF(J129:J138,\"Weigh Hopper Loading\")>0,\"EP-4 Weigh Hopper Loading Stack:\",\"\")","v":""},null,null,null,null,null,"","",null,null,null,"",""]
[null,{"$f":"IF(COUNTIF(J129:J138,\"Truck Mix Loading\")>0,\"EP-5 Truck Mix Loading Stack:\",\"\")","v":""}]
[null,{"$f":"IF(COUNTIF(J129:J138,\"Central Mix Loading\")>0,\"EP-6 Central Mix Loading Stack:\",\"\")","v":""},null,null,null,null,null,{"$f":"IF('Concrete Plant (CP-1)'!$D$4>6,\"Stock Pile Area\",\"\")","v":""}]
[null,null,null,null,null,null,null,null,{"$f":"IF('Concrete Plant (CP-1)'!$D$4>6,\"Emission Unit #\",\"\")","v":""},{"$f":"IF('Concrete Plant (CP-1)'!$D$4>6,\"Maximum Storage Area (acres)\",\"\")","v":""},{"$f":"IF('Concrete Plant (CP-1)'!$D$4>6,\"Actual Storage Area (acres)\",\"\")","v":""},{"$f":"IF('Concrete Plant (CP-1)'!$D$4>6,\"Actual Days in Existence (days)\",\"\")","v":""}]
[]
[]
[]
[null,{"$f":"IF('Concrete Plant (CP-1)'!$D$4>7,\"Batch Plant\",\"\")","v":""},{"$f":"IF('Concrete Plant (CP-1)'!$D$4>7,\"Site 8\",\"\")","v":""},null,null,null,null,{"$f":"IF('Concrete Plant (CP-1)'!$D$4>7,\"Emission Point #\",\"\")","v":""},{"$f":"IF('Concrete Plant (CP-1)'!$D$4>7,\"Emission     Unit #\",\"\")","v":""},{"$f":"IF('Concrete Plant (CP-1)'!$D$4>7,\"Processes\",\"\")","v":""},{"$f":"IF('Concrete Plant (CP-1)'!$D$4>7,\"Combined Maximum Hourly Design Rate for all Like Processes (cubic yard/hr)\",\"\")","v":""},{"$f":"IF('Concrete Plant (CP-1)'!$D$4>7,('Facility Information'!G5&\" Annual Throughput (cubic yards)\"),\"\")","v":""}]
[null,null,null,null,null,null,null,null,null,null,null,null,"Truck","Central"]
[null,{"$f":"IF('Concrete Plant (CP-1)'!$D$4>7,\"Site Name:\",\"\")","v":""},null,null,null,null,null,{"$f":"IF(J147=\"cement delivery to silo\",\"CP-1 EP-2\",IF(J147=\"cement supplement delivery to silo\",\"CP-1 EP-3\",IF(J147=\"weigh hopper loading\",\"CP-1 EP-4\",IF(J147=\"truck mix loading\",\"CP-1 EP-5\",IF(J147=\"central mix loading\",\"CP-1 EP-6\",IF(J147=\"\",\"\",\"CP-1 EP-1\"))))))","v":""},{"$f":"IF(J147=\"\",\"\",IF(J147=\"aggregate delivery to ground storage\",\"CP-1 EU-1\",IF(J147=\"sand delivery to ground storage\",\"CP-1 EU-2\",IF(J147=\"aggregate transfer to conveyor\",\"CP-1 EU-3\",IF(J147=\"sand transfer to conveyor\",\"CP-1 EU-4\",IF(J147=\"aggregate transfer to elevated storage\",\"CP-1 EU-5\",IF(J147=\"sand transfer to elevated storage\",\"CP-1 EU-6\",IF(J147=\"weigh hopper loading\",\"CP-1 EU-7\",IF(J147=\"central mix loading\",\"CP-1 EU-8\",IF(J147=\"truck mix loading\",\"CP-1 EU-9\",IF(J147=\"cement delivery to silo\",\"CP-1 EU-10\",IF(J147=\"cement supplement delivery to silo\",\"CP-1 EU-11\"))))))))))))","v":""},null,null,null,{"$f":"IF(J147=\"truck mix loading\",IF($F$150=\"yes\",L147*0.05/2000,L147/2000),\"\")","v":""},{"$f":"IF(J147=\"central mix loading\",IF($F$150=\"yes\",L147*0.05/2000,L147/2000),\"\")","v":""}]
[null,{"$f":"IF('Concrete Plant (CP-1)'!$D$4>7,\"County:\",\"\")","v":""},null,null,null,null,null,{"$f":"IF(J148=\"cement delivery to silo\",\"CP-1 EP-2\",IF(J148=\"cement supplement delivery to silo\",\"CP-1 EP-3\",IF(J148=\"weigh hopper loading\",\"CP-1 EP-4\",IF(J148=\"truck mix loading\",\"CP-1 EP-5\",IF(J148=\"central mix loading\",\"CP-1 EP-6\",IF(J148=\"\",\"\",\"CP-1 EP-1\"))))))","v":""},{"$f":"IF(J148=\"\",\"\",IF(J148=\"aggregate delivery to ground storage\",\"CP-1 EU-1\",IF(J148=\"sand delivery to ground storage\",\"CP-1 EU-2\",IF(J148=\"aggregate transfer to conveyor\",\"CP-1 EU-3\",IF(J148=\"sand transfer to conveyor\",\"CP-1 EU-4\",IF(J148=\"aggregate transfer to elevated storage\",\"CP-1 EU-5\",IF(J148=\"sand transfer to elevated storage\",\"CP-1 EU-6\",IF(J148=\"weigh hopper loading\",\"CP-1 EU-7\",IF(J148=\"central mix loading\",\"CP-1 EU-8\",IF(J148=\"truck mix loading\",\"CP-1 EU-9\",IF(J148=\"cement delivery to silo\",\"CP-1 EU-10\",IF(J148=\"cement supplement delivery to silo\",\"CP-1 EU-11\"))))))))))))","v":""},null,null,null,{"$f":"IF(J148=\"truck mix loading\",IF($F$150=\"yes\",L148*0.05/2000,L148/2000),\"\")","v":""},{"$f":"IF(J148=\"central mix loading\",IF($F$150=\"yes\",L148*0.05/2000,L148/2000),\"\")","v":""}]
[null,{"$f":"IF('Concrete Plant (CP-1)'!$D$4>7,\"Batching Period (Dates):\",\"\")","v":""},null,null,null,null,null,"","",null,null,null,"",""]
[null,{"$f":"IF(OR(COUNTIF(J147:J156,\"Truck Mix Loading\")>0,(COUNTIF(J147:J156,\"Central Mix Loading\")>0)),\"Is the Central/Truck Mix Loading process controlled by a baghouse?\",\"\")","v":""},null,null,null,null,null,"","",null,null,null,"",""]
[null,null,null,null,null,null,null,"","",null,null,null,"",""]
[null,{"$f":"IF(AND(B154=\"\",B155=\"\",B156=\"\",B157=\"\",B158=\"\"),\"\",\"Process (complete stack information if applicable):\")","v":""},{"$f":"IF(AND(B154=\"\",B155=\"\",B156=\"\",B157=\"\",B158=\"\"),\"\",\"Stack Height (ft):\")","v":""},{"$f":"IF(AND(B154=\"\",B155=\"\",B156=\"\",B157=\"\",B158=\"\"),\"\",\"Stack Diameter (inches):\")","v":""},{"$f":"IF(AND(B154=\"\",B155=\"\",B156=\"\",B157=\"\",B158=\"\"),\"\",\"Flow Rate (acfm):\")","v":""},{"$f":"IF(AND(B154=\"\",B155=\"\",B156=\"\",B157=\"\",B158=\"\"),\"\",\"Temperature (Deg F):\")","v":""},null,"","",null,null,null,"",""]
[null,null,null,null,null,null,null,"","",null,null,null,"",""]
[null,{"$f":"IF(COUNTIF(J147:J156,\"Cement Delivery to Silo\")>0,\"EP-2 Cement Silo Stack:\",\"\")","v":""},null,null,null,null,null,"","",null,null,null,"",""]
[null,{"$f":"IF(COUNTIF(J147:J156,\"Cement Supplement Delivery to Silo\")>0,\"EP-3 Cement Supplement Silo Stack:\",\"\")","v":""},null,null,null,null,null,"","",null,null,null,"",""]
[null,{"$f":"IF(COUNTIF(J147:J156,\"Weigh Hopper Loading\")>0,\"EP-4 Weigh Hopper Loading Stack:\",\"\")","v":""},null,null,null,null,null,"","",null,null,null,"",""]
[null,{"$f":"IF(COUNTIF(J147:J156,\"Truck Mix Loading\")>0,\"EP-5 Truck Mix Loading Stack:\",\"\")","v":""}]
[null,{"$f":"IF(COUNTIF(J147:J156,\"Central Mix Loading\")>0,\"EP-6 Central Mix Loading Stack:\",\"\")","v":""},null,null,null,null,null,{"$f":"IF('Concrete Plant (CP-1)'!$D$4>7,\"Stock Pile Area\",\"\")","v":""}]
[null,null,null,null,null,null,null,null,{"$f":"IF('Concrete Plant (CP-1)'!$D$4>7,\"Emission Unit #\",\"\")","v":""},{"$f":"IF('Concrete Plant (CP-1)'!$D$4>7,\"Maximum Storage Area (acres)\",\"\")","v":""},{"$f":"IF('Concrete Plant (CP-1)'!$D$4>7,\"Actual Storage Area (acres)\",\"\")","v":""},{"$f":"IF('Concrete Plant (CP-1)'!$D$4>7,\"Actual Days in Existence (days)\",\"\")","v":""}]
[]
[]
[]
[null,{"$f":"IF('Concrete Plant (CP-1)'!$D$4>8,\"Batch Plant\",\"\")","v":""},{"$f":"IF('Concrete Plant (CP-1)'!$D$4>8,\"Site 9\",\"\")","v":""},null,null,null,null,{"$f":"IF('Concrete Plant (CP-1)'!$D$4>8,\"Emission Point #\",\"\")","v":""},{"$f":"IF('Concrete Plant (CP-1)'!$D$4>8,\"Emission     Unit #\",\"\")","v":""},{"$f":"IF('Concrete Plant (CP-1)'!$D$4>8,\"Processes\",\"\")","v":""},{"$f":"IF('Concrete Plant (CP-1)'!$D$4>8,\"Combined Maximum Hourly Design Rate for all Like Processes (cubic yard/hr)\",\"\")","v":""},{"$f":"IF('Concrete Plant (CP-1)'!$D$4>8,('Facility Information'!G5&\" Annual Throughput (cubic yards)\"),\"\")","v":""}]
[null,null,null,null,null,null,null,null,null,null,null,null,"Truck","Central"]
[null,{"$f":"IF('Concrete Plant (CP-1)'!$D$4>8,\"Site Name:\",\"\")","v":""},null,null,null,null,null,{"$f":"IF(J165=\"cement delivery to silo\",\"CP-1 EP-2\",IF(J165=\"cement supplement delivery to silo\",\"CP-1 EP-3\",IF(J165=\"weigh hopper loading\",\"CP-1 EP-4\",IF(J165=\"truck mix loading\",\"CP-1 EP-5\",IF(J165=\"central mix loading\",\"CP-1 EP-6\",IF(J165=\"\",\"\",\"CP-1 EP-1\"))))))","v":""},{"$f":"IF(J165=\"\",\"\",IF(J165=\"aggregate delivery to ground storage\",\"CP-1 EU-1\",IF(J165=\"sand delivery to ground storage\",\"CP-1 EU-2\",IF(J165=\"aggregate transfer to conveyor\",\"CP-1 EU-3\",IF(J165=\"sand transfer to conveyor\",\"CP-1 EU-4\",IF(J165=\"aggregate transfer to elevated storage\",\"CP-1 EU-5\",IF(J165=\"sand transfer to elevated storage\",\"CP-1 EU-6\",IF(J165=\"weigh hopper loading\",\"CP-1 EU-7\",IF(J165=\"central mix loading\",\"CP-1 EU-8\",IF(J165=\"truck mix loading\",\"CP-1 EU-9\",IF(J165=\"cement delivery to silo\",\"CP-1 EU-10\",IF(J165=\"cement supplement delivery to silo\",\"CP-1 EU-11\"))))))))))))","v":""},null,null,null,{"$f":"IF(J165=\"truck mix loading\",IF($F$168=\"yes\",L165*0.05/2000,L165/2000),\"\")","v":""},{"$f":"IF(J165=\"central mix loading\",IF($F$168=\"yes\",L165*0.05/2000,L165/2000),\"\")","v":""}]
[null,{"$f":"IF('Concrete Plant (CP-1)'!$D$4>8,\"County:\",\"\")","v":""},null,null,null,null,null,{"$f":"IF(J166=\"cement delivery to silo\",\"CP-1 EP-2\",IF(J166=\"cement supplement delivery to silo\",\"CP-1 EP-3\",IF(J166=\"weigh hopper loading\",\"CP-1 EP-4\",IF(J166=\"truck mix loading\",\"CP-1 EP-5\",IF(J166=\"central mix loading\",\"CP-1 EP-6\",IF(J166=\"\",\"\",\"CP-1 EP-1\"))))))","v":""},{"$f":"IF(J166=\"\",\"\",IF(J166=\"aggregate delivery to ground storage\",\"CP-1 EU-1\",IF(J166=\"sand delivery to ground storage\",\"CP-1 EU-2\",IF(J166=\"aggregate transfer to conveyor\",\"CP-1 EU-3\",IF(J166=\"sand transfer to conveyor\",\"CP-1 EU-4\",IF(J166=\"aggregate transfer to elevated storage\",\"CP-1 EU-5\",IF(J166=\"sand transfer to elevated storage\",\"CP-1 EU-6\",IF(J166=\"weigh hopper loading\",\"CP-1 EU-7\",IF(J166=\"central mix loading\",\"CP-1 EU-8\",IF(J166=\"truck mix loading\",\"CP-1 EU-9\",IF(J166=\"cement delivery to silo\",\"CP-1 EU-10\",IF(J166=\"cement supplement delivery to silo\",\"CP-1 EU-11\"))))))))))))","v":""},null,null,null,{"$f":"IF(J166=\"truck mix loading\",IF($F$168=\"yes\",L166*0.05/2000,L166/2000),\"\")","v":""},{"$f":"IF(J166=\"central mix loading\",IF($F$168=\"yes\",L166*0.05/2000,L166/2000),\"\")","v":""}]
[null,{"$f":"IF('Concrete Plant (CP-1)'!$D$4>8,\"Batching Period (Dates):\",\"\")","v":""},null,null,null,null,null,"","",null,null,null,"",""]
[null,{"$f":"IF(OR(COUNTIF(J165:J174,\"Truck Mix Loading\")>0,(COUNTIF(J165:J174,\"Central Mix Loading\")>0)),\"Is the Central/Truck Mix Loading process controlled by a baghouse?\",\"\")","v":""},null,null,null,null,null,"","",null,null,null,"",""]
[null,null,null,null,null,null,null,"","",null,null,null,"",""]
[null,{"$f":"IF(AND(B172=\"\",B173=\"\",B174=\"\",B175=\"\",B176=\"\"),\"\",\"Process (complete stack information if applicable):\")","v":""},{"$f":"IF(AND(B172=\"\",B173=\"\",B174=\"\",B175=\"\",B176=\"\"),\"\",\"Stack Height (ft):\")","v":""},{"$f":"IF(AND(B172=\"\",B173=\"\",B174=\"\",B175=\"\",B176=\"\"),\"\",\"Stack Diameter (inches):\")","v":""},{"$f":"IF(AND(B172=\"\",B173=\"\",B174=\"\",B175=\"\",B176=\"\"),\"\",\"Flow Rate (acfm):\")","v":""},{"$f":"IF(AND(B172=\"\",B173=\"\",B174=\"\",B175=\"\",B176=\"\"),\"\",\"Temperature (Deg F):\")","v":""},null,"","",null,null,null,"",""]
[null,null,null,null,null,null,null,"","",null,null,null,"",""]
[null,{"$f":"IF(COUNTIF(J165:J174,\"Cement Delivery to Silo\")>0,\"EP-2 Cement Silo Stack:\",\"\")","v":""},null,null,null,null,null,"","",null,null,null,"",""]
[null,{"$f":"IF(COUNTIF(J165:J174,\"Cement Supplement Delivery to Silo\")>0,\"EP-3 Cement Supplement Silo Stack:\",\"\")","v":""},null,null,null,null,null,"","",null,null,null,"",""]
[null,{"$f":"IF(COUNTIF(J165:J174,\"Weigh Hopper Loading\")>0,\"EP-4 Weigh Hopper Loading Stack:\",\"\")","v":""},null,null,null,null,null,"","",null,null,null,"",""]
[null,{"$f":"IF(COUNTIF(J165:J174,\"Truck Mix Loading\")>0,\"EP-5 Truck Mix Loading Stack:\",\"\")","v":""}]
[null,{"$f":"IF(COUNTIF(J165:J174,\"Central Mix Loading\")>0,\"EP-6 Central Mix Loading Stack:\",\"\")","v":""},null,null,null,null,null,{"$f":"IF('Concrete Plant (CP-1)'!$D$4>8,\"Stock Pile Area\",\"\")","v":""}]
[null,null,null,null,null,null,null,null,{"$f":"IF('Concrete Plant (CP-1)'!$D$4>8,\"Emission Unit #\",\"\")","v":""},{"$f":"IF('Concrete Plant (CP-1)'!$D$4>8,\"Maximum Storage Area (acres)\",\"\")","v":""},{"$f":"IF('Concrete Plant (CP-1)'!$D$4>8,\"Actual Storage Area (acres)\",\"\")","v":""},{"$f":"IF('Concrete Plant (CP-1)'!$D$4>8,\"Actual Days in Existence (days)\",\"\")","v":""}]
[]
[]
[]
[null,{"$f":"IF('Concrete Plant (CP-1)'!$D$4>9,\"Batch Plant\",\"\")","v":""},{"$f":"IF('Concrete Plant (CP-1)'!$D$4>9,\"Site 10\",\"\")","v":""},null,null,null,null,{"$f":"IF('Concrete Plant (CP-1)'!$D$4>9,\"Emission Point #\",\"\")","v":""},{"$f":"IF('Concrete Plant (CP-1)'!$D$4>9,\"Emission     Unit #\",\"\")","v":""},{"$f":"IF('Concrete Plant (CP-1)'!$D$4>9,\"Processes\",\"\")","v":""},{"$f":"IF('Concrete Plant (CP-1)'!$D$4>9,\"Combined Maximum Hourly Design Rate for all Like Processes (cubic yard/hr)\",\"\")","v":""},{"$f":"IF('Concrete Plant (CP-1)'!$D$4>9,('Facility Information'!G5&\" Annual Throughput (cubic yards)\"),\"\")","v":""}]
[null,null,null,null,null,null,null,null,null,null,null,null,"Truck","Central"]
[null,{"$f":"IF('Concrete Plant (CP-1)'!$D$4>9,\"Site Name:\",\"\")","v":""},null,null,null,null,null,{"$f":"IF(J183=\"cement delivery to silo\",\"CP-1 EP-2\",IF(J183=\"cement supplement delivery to silo\",\"CP-1 EP-3\",IF(J183=\"weigh hopper loading\",\"CP-1 EP-4\",IF(J183=\"truck mix loading\",\"CP-1 EP-5\",IF(J183=\"central mix loading\",\"CP-1 EP-6\",IF(J183=\"\",\"\",\"CP-1 EP-1\"))))))","v":""},{"$f":"IF(J183=\"\",\"\",IF(J183=\"aggregate delivery to ground storage\",\"CP-1 EU-1\",IF(J183=\"sand delivery to ground storage\",\"CP-1 EU-2\",IF(J183=\"aggregate transfer to conveyor\",\"CP-1 EU-3\",IF(J183=\"sand transfer to conveyor\",\"CP-1 EU-4\",IF(J183=\"aggregate transfer to elevated storage\",\"CP-1 EU-5\",IF(J183=\"sand transfer to elevated storage\",\"CP-1 EU-6\",IF(J183=\"weigh hopper loading\",\"CP-1 EU-7\",IF(J183=\"central mix loading\",\"CP-1 EU-8\",IF(J183=\"truck mix loading\",\"CP-1 EU-9\",IF(J183=\"cement delivery to silo\",\"CP-1 EU-10\",IF(J183=\"cement supplement delivery to silo\",\"CP-1 EU-11\"))))))))))))","v":""},null,null,null,{"$f":"IF(J183=\"truck mix loading\",IF($F$186=\"yes\",L183*0.05/2000,L183/2000),\"\")","v":""},{"$f":"IF(J183=\"central mix loading\",IF($F$186=\"yes\",L183*0.05/2000,L183/2000),\"\")","v":""}]
[null,{"$f":"IF('Concrete Plant (CP-1)'!$D$4>9,\"County:\",\"\")","v":""},null,null,null,null,null,{"$f":"IF(J184=\"cement delivery to silo\",\"CP-1 EP-2\",IF(J184=\"cement supplement delivery to silo\",\"CP-1 EP-3\",IF(J184=\"weigh hopper loading\",\"CP-1 EP-4\",IF(J184=\"truck mix loading\",\"CP-1 EP-5\",IF(J184=\"central mix loading\",\"CP-1 EP-6\",IF(J184=\"\",\"\",\"CP-1 EP-1\"))))))","v":""},{"$f":"IF(J184=\"\",\"\",IF(J184=\"aggregate delivery to ground storage\",\"CP-1 EU-1\",IF(J184=\"sand delivery to ground storage\",\"CP-1 EU-2\",IF(J184=\"aggregate transfer to conveyor\",\"CP-1 EU-3\",IF(J184=\"sand transfer to conveyor\",\"CP-1 EU-4\",IF(J184=\"aggregate transfer to elevated storage\",\"CP-1 EU-5\",IF(J184=\"sand transfer to elevated storage\",\"CP-1 EU-6\",IF(J184=\"weigh hopper loading\",\"CP-1 EU-7\",IF(J184=\"central mix loading\",\"CP-1 EU-8\",IF(J184=\"truck mix loading\",\"CP-1 EU-9\",IF(J184=\"cement delivery to silo\",\"CP-1 EU-10\",IF(J184=\"cement supplement delivery to silo\",\"CP-1 EU-11\"))))))))))))","v":""},null,null,null,{"$f":"IF(J184=\"truck mix loading\",IF($F$186=\"yes\",L184*0.05/2000,L184/2000),\"\")","v":""},{"$f":"IF(J184=\"central mix loading\",IF($F$186=\"yes\",L184*0.05/2000,L184/2000),\"\")","v":""}]
[null,{"$f":"IF('Concrete Plant (CP-1)'!$D$4>9,\"Batching Period (Dates):\",\"\")","v":""},null,null,null,null,null,"","",null,null,null,"",""]
[null,{"$f":"IF(OR(COUNTIF(J183:J192,\"Truck Mix Loading\")>0,(COUNTIF(J183:J192,\"Central Mix Loading\")>0)),\"Is the Central/Truck Mix Loading process controlled by a baghouse?\",\"\")","v":""},null,null,null,null,null,"","",null,null,null,"",""]
[null,null,null,null,null,null,null,"","",null,null,null,"",""]
[null,{"$f":"IF(AND(B190=\"\",B191=\"\",B192=\"\",B193=\"\",B194=\"\"),\"\",\"Process (complete stack information if applicable):\")","v":""},{"$f":"IF(AND(B190=\"\",B191=\"\",B192=\"\",B193=\"\",B194=\"\"),\"\",\"Stack Height (ft):\")","v":""},{"$f":"IF(AND(B190=\"\",B191=\"\",B192=\"\",B193=\"\",B194=\"\"),\"\",\"Stack Diameter (inches):\")","v":""},{"$f":"IF(AND(B190=\"\",B191=\"\",B192=\"\",B193=\"\",B194=\"\"),\"\",\"Flow Rate (acfm):\")","v":""},{"$f":"IF(AND(B190=\"\",B191=\"\",B192=\"\",B193=\"\",B194=\"\"),\"\",\"Temperature (Deg F):\")","v":""},null,"","",null,null,null,"",""]
[null,null,null,null,null,null,null,"","",null,null,null,"",""]
[null,{"$f":"IF(COUNTIF(J183:J192,\"Cement Delivery to Silo\")>0,\"EP-2 Cement Silo Stack:\",\"\")","v":""},null,null,null,null,null,"","",null,null,null,"",""]
[null,{"$f":"IF(COUNTIF(J183:J192,\"Cement Supplement Delivery to Silo\")>0,\"EP-3 Cement Supplement Silo Stack:\",\"\")","v":""},null,null,null,null,null,"","",null,null,null,"",""]
[null,{"$f":"IF(COUNTIF(J183:J192,\"Weigh Hopper Loading\")>0,\"EP-4 Weigh Hopper Loading Stack:\",\"\")","v":""},null,null,null,null,null,"","",null,null,null,"",""]
[null,{"$f":"IF(COUNTIF(J183:J192,\"Truck Mix Loading\")>0,\"EP-5 Truck Mix Loading Stack:\",\"\")","v":""}]
[null,{"$f":"IF(COUNTIF(J183:J192,\"Central Mix Loading\")>0,\"EP-6 Central Mix Loading Stack:\",\"\")","v":""},null,null,null,null,null,{"$f":"IF('Concrete Plant (CP-1)'!$D$4>9,\"Stock Pile Area\",\"\")","v":""}]
[null,null,null,null,null,null,null,null,{"$f":"IF('Concrete Plant (CP-1)'!$D$4>9,\"Emission Unit #\",\"\")","v":""},{"$f":"IF('Concrete Plant (CP-1)'!$D$4>9,\"Maximum Storage Area (acres)\",\"\")","v":""},{"$f":"IF('Concrete Plant (CP-1)'!$D$4>9,\"Actual Storage Area (acres)\",\"\")","v":""},{"$f":"IF('Concrete Plant (CP-1)'!$D$4>9,\"Actual Days in Existence (days)\",\"\")","v":""}]
[]
[]
[null,null,null,null,null,null,null,null,null,null,null,null,{"$f":"SUM(M183:M192,M165:M174,M147:M156,M129:M138,M111:M120,M93:M102,M75:M84,M57:M66,M39:M48,M21:M30)","v":0},{"$f":"SUM(N183:N192,N165:N174,N147:N156,N129:N138,N111:N120,N93:N102,N75:N84,N57:N66,N39:N48,N21:N30)","v":0}]

{"sheet":"Concrete Plant (CP-2)","index":2,"n_rows":198,"n_cols":23,"rows_kept":198,"cut":false,"hidden":true,"merged":[[3,18,4,20],[97,5,98,5],[95,1,95,4],[43,5,44,5],[61,1,62,1],[61,2,62,2],[61,3,62,3],[61,4,62,4],[61,5,62,5],[59,1,59,4],[79,1,80,1],[79,2,80,2],[79,3,80,3],[79,4,80,4],[79,5,80,5],[74,2,74,4],[25,5,26,5],[25,1,26,1],[25,2,26,2],[25,3,26,3],[25,4,26,4],[8,1,8,2],[10,1,10,2],[9,1,9,2],[115,5,116,5],[133,1,134,1],[133,2,134,2],[133,3,134,3],[133,4,134,4],[133,5,134,5],[131,1,131,4],[167,1,167,4],[185,1,185,4],[164,2,164,4],[149,1,149,4],[151,1,152,1],[151,2,152,2],[151,3,152,3],[151,4,152,4],[151,5,152,5],[148,2,148,4],[147,2,147,4],[146,2,146,4],[166,2,166,4],[165,2,165,4],[130,2,130,4],[129,2,129,4],[128,2,128,4],[187,1,188,1],[187,2,188,2],[187,3,188,3],[187,4,188,4],[187,5,188,5],[169,1,170,1],[169,2,170,2],[169,3,170,3],[169,4,170,4],[169,5,170,5],[184,2,184,4],[183,2,183,4],[182,2,182,4],[9,3,9,4],[8,3,8,4],[22,2,22,4],[21,2,21,4],[20,2,20,4],[11,1,13,4],[23,1,23,4],[112,2,112,4],[111,2,111,4],[110,2,110,4],[76,2,76,4],[75,2,75,4],[77,1,77,4],[94,2,94,4],[93,2,93,4],[92,2,92,4],[40,2,40,4],[39,2,39,4],[38,2,38,4],[58,2,58,4],[57,2,57,4],[56,2,56,4],[41,1,41,4],[113,1,113,4],[115,1,116,1],[115,2,116,2],[115,3,116,3],[115,4,116,4],[97,1,98,1],[97,2,98,2],[97,3,98,3],[97,4,98,4],[43,1,44,1],[43,2,44,2],[43,3,44,3],[43,4,44,4],[2,17,3,17],[3,1,3,2],[20,16,21,16],[0,1,0,2],[1,10,1,11],[2,15,3,15],[2,16,3,16],[18,7,19,7],[18,8,19,8],[18,9,19,9],[18,10,19,10],[18,11,19,11],[1,1,1,4],[5,2,5,3],[36,7,37,7],[36,8,37,8],[36,9,37,9],[36,10,37,10],[36,11,37,11],[10,3,10,4],[46,21,47,21],[20,17,21,17],[20,18,21,18],[20,19,21,19],[20,20,21,20],[20,21,21,21],[46,16,47,16],[46,17,47,17],[46,18,47,18],[46,19,47,19],[46,20,47,20],[72,7,73,7],[72,8,73,8],[72,9,73,9],[72,10,73,10],[72,11,73,11],[54,7,55,7],[54,8,55,8],[54,9,55,9],[54,10,55,10],[54,11,55,11],[108,7,109,7],[108,8,109,8],[108,9,109,9],[108,10,109,10],[108,11,109,11],[90,7,91,7],[90,8,91,8],[90,9,91,9],[90,10,91,10],[90,11,91,11],[144,7,145,7],[144,8,145,8],[144,9,145,9],[144,10,145,10],[144,11,145,11],[126,7,127,7],[126,8,127,8],[126,9,127,9],[126,10,127,10],[126,11,127,11],[180,7,181,7],[180,8,181,8],[180,9,181,9],[180,10,181,10],[180,11,181,11],[162,7,163,7],[162,8,163,8],[162,9,163,9],[162,10,163,10],[162,11,163,11]]}
[null,"CONCRETE BATCH PLANT (CP-2)"]
[null,"Please fill in the yellow boxes as applicable for your facility. ",null,null,null,null,null,null,null,null,"Values used for calculating emissions →",null,null,null,null,"Values Used to Calculate Potential and Actual Emissions for the Listed Processes at this Plant"]
[null,null,null,null,null,null,null,null,null,null,null,null,null,null,null,"Process","Maximum Design Rate (cubic yards/hr)","Actual throughput (cubic yards/yr)"]
[null,{"$f":"\"Number of Sites this Plant operated at in \"&'Facility Information'!G5&\":\"","v":"Number of Sites this Plant operated at in :"},null,null,null,null,null,null,null,null,null,null,null,null,null,null,null,null,"** As of 2016 Potential Emissions are no longer required to be reported in the Minor Source Emissions Inventory**"]
[null,null,null,null,null,null,null,null,null,null,null,null,null,null,null,"Aggregate Delivery to Ground Storage",{"$f":"MAX((IFERROR(OFFSET($J$20,MATCH(\"Aggregate Delivery to Ground Storage\",$J$21:$J$30,0),1),0)),((IFERROR((OFFSET($J$38,MATCH(\"Aggregate Delivery to Ground Storage\",$J$39:$J$48,0),1)),0))),((IFERROR((OFFSET($J$56,MATCH(\"Aggregate Delivery to Ground Storage\",$J$57:$J$66,0),1)),0))),((IFERROR((OFFSET($J$74,MATCH(\"Aggregate Delivery to Ground Storage\",$J$75:$J$84,0),1)),0))),((IFERROR((OFFSET($J$92,MATCH(\"Aggregate Delivery to Ground Storage\",$J$93:$J$102,0),1)),0))),((IFERROR((OFFSET($J$110,MATCH(\"Aggregate Delivery to Ground Storage\",$J$111:$J$120,0),1)),0))),((IFERROR((OFFSET($J$128,MATCH(\"Aggregate Delivery to Ground Storage\",$J$129:$J$138,0),1)),0))),((IFERROR((OFFSET($J$146,MATCH(\"Aggregate Delivery to Ground Storage\",$J$147:$J$156,0),1)),0))),((IFERROR((OFFSET($J$164,MATCH(\"Aggregate Delivery to Ground Storage\",$J$165:$J$174,0),1)),0))),((IFERROR((OFFSET($J$181,MATCH(\"Aggregate Delivery to Ground Storage\",$J$183:$J$192,0),1)),0))),)","v":0},{"$f":"SUM((IFERROR(OFFSET($J$20,MATCH(\"Aggregate Delivery to Ground Storage\",$J$21:$J$30,0),2),0)),((IFERROR((OFFSET($J$38,MATCH(\"Aggregate Delivery to Ground Storage\",$J$39:$J$48,0),2)),0))),((IFERROR((OFFSET($J$56,MATCH(\"Aggregate Delivery to Ground Storage\",$J$57:$J$66,0),2)),0))),((IFERROR((OFFSET($J$74,MATCH(\"Aggregate Delivery to Ground Storage\",$J$75:$J$84,0),2)),0))),((IFERROR((OFFSET($J$92,MATCH(\"Aggregate Delivery to Ground Storage\",$J$93:$J$102,0),2)),0))),((IFERROR((OFFSET($J$110,MATCH(\"Aggregate Delivery to Ground Storage\",$J$111:$J$120,0),2)),0))),((IFERROR((OFFSET($J$128,MATCH(\"Aggregate Delivery to Ground Storage\",$J$129:$J$138,0),2)),0))),((IFERROR((OFFSET($J$146,MATCH(\"Aggregate Delivery to Ground Storage\",$J$147:$J$156,0),2)),0))),((IFERROR((OFFSET($J$164,MATCH(\"Aggregate Delivery to Ground Storage\",$J$165:$J$174,0),2)),0))),((IFERROR((OFFSET($J$181,MATCH(\"Aggregate Delivery to Ground Storage\",$J$183:$J$192,0),2)),0))))","v":0}]
[null,"Plant Specific Permit Number: ",null,null,null,null,null,null,null,null,null,null,null,null,null,"Sand Delivery to Ground Storage",{"$f":"MAX((IFERROR(OFFSET($J$20,MATCH(\"Sand Delivery to Ground Storage\",$J$21:$J$30,0),1),0)),((IFERROR((OFFSET($J$38,MATCH(\"Sand Delivery to Ground Storage\",$J$39:$J$48,0),1)),0))),((IFERROR((OFFSET($J$56,MATCH(\"Sand Delivery to Ground Storage\",$J$57:$J$66,0),1)),0))),((IFERROR((OFFSET($J$74,MATCH(\"Sand Delivery to Ground Storage\",$J$75:$J$84,0),1)),0))),((IFERROR((OFFSET($J$92,MATCH(\"Sand Delivery to Ground Storage\",$J$93:$J$102,0),1)),0))),((IFERROR((OFFSET($J$110,MATCH(\"Sand Delivery to Ground Storage\",$J$111:$J$120,0),1)),0))),((IFERROR((OFFSET($J$128,MATCH(\"Sand Delivery to Ground Storage\",$J$129:$J$138,0),1)),0))),((IFERROR((OFFSET($J$146,MATCH(\"Sand Delivery to Ground Storage\",$J$147:$J$156,0),1)),0))),((IFERROR((OFFSET($J$164,MATCH(\"Sand Delivery to Ground Storage\",$J$165:$J$174,0),1)),0))),((IFERROR((OFFSET($J$181,MATCH(\"Sand Delivery to Ground Storage\",$J$183:$J$192,0),1)),0))),)","v":0},{"$f":"SUM((IFERROR(OFFSET($J$20,MATCH(\"Sand Delivery to Ground Storage\",$J$21:$J$30,0),2),0)),((IFERROR((OFFSET($J$38,MATCH(\"Sand Delivery to Ground Storage\",$J$39:$J$48,0),2)),0))),((IFERROR((OFFSET($J$56,MATCH(\"Sand Delivery to Ground Storage\",$J$57:$J$66,0),2)),0))),((IFERROR((OFFSET($J$74,MATCH(\"Sand Delivery to Ground Storage\",$J$75:$J$84,0),2)),0))),((IFERROR((OFFSET($J$92,MATCH(\"Sand Delivery to Ground Storage\",$J$93:$J$102,0),2)),0))),((IFERROR((OFFSET($J$110,MATCH(\"Sand Delivery to Ground Storage\",$J$111:$J$120,0),2)),0))),((IFERROR((OFFSET($J$128,MATCH(\"Sand Delivery to Ground Storage\",$J$129:$J$138,0),2)),0))),((IFERROR((OFFSET($J$146,MATCH(\"Sand Delivery to Ground Storage\",$J$147:$J$156,0),2)),0))),((IFERROR((OFFSET($J$164,MATCH(\"Sand Delivery to Ground Storage\",$J$165:$J$174,0),2)),0))),((IFERROR((OFFSET($J$181,MATCH(\"Sand Delivery to Ground Storage\",$J$183:$J$192,0),2)),0))))","v":0}]
[null,null,null,null,null,null,null,null,null,null,null,null,null,null,null,"Aggregate Transfer to Conveyor",{"$f":"MAX((IFERROR(OFFSET($J$20,MATCH(\"Aggregate Transfer to Conveyor\",$J$21:$J$30,0),1),0)),((IFERROR((OFFSET($J$38,MATCH(\"Aggregate Transfer to Conveyor\",$J$39:$J$48,0),1)),0))),((IFERROR((OFFSET($J$56,MATCH(\"Aggregate Transfer to Conveyor\",$J$57:$J$66,0),1)),0))),((IFERROR((OFFSET($J$74,MATCH(\"Aggregate Transfer to Conveyor\",$J$75:$J$84,0),1)),0))),((IFERROR((OFFSET($J$92,MATCH(\"Aggregate Transfer to Conveyor\",$J$93:$J$102,0),1)),0))),((IFERROR((OFFSET($J$110,MATCH(\"Aggregate Transfer to Conveyor\",$J$111:$J$120,0),1)),0))),((IFERROR((OFFSET($J$128,MATCH(\"Aggregate Transfer to Conveyor\",$J$129:$J$138,0),1)),0))),((IFERROR((OFFSET($J$146,MATCH(\"Aggregate Transfer to Conveyor\",$J$147:$J$156,0),1)),0))),((IFERROR((OFFSET($J$164,MATCH(\"Aggregate Transfer to Conveyor\",$J$165:$J$174,0),1)),0))),((IFERROR((OFFSET($J$181,MATCH(\"Aggregate Transfer to Conveyor\",$J$183:$J$192,0),1)),0))),)","v":0},{"$f":"SUM((IFERROR(OFFSET($J$20,MATCH(\"Aggregate Transfer to Conveyor\",$J$21:$J$30,0),2),0)),((IFERROR((OFFSET($J$38,MATCH(\"Aggregate Transfer to Conveyor\",$J$39:$J$48,0),2)),0))),((IFERROR((OFFSET($J$56,MATCH(\"Aggregate Transfer to Conveyor\",$J$57:$J$66,0),2)),0))),((IFERROR((OFFSET($J$74,MATCH(\"Aggregate Transfer to Conveyor\",$J$75:$J$84,0),2)),0))),((IFERROR((OFFSET($J$92,MATCH(\"Aggregate Transfer to Conveyor\",$J$93:$J$102,0),2)),0))),((IFERROR((OFFSET($J$110,MATCH(\"Aggregate Transfer to Conveyor\",$J$111:$J$120,0),2)),0))),((IFERROR((OFFSET($J$128,MATCH(\"Aggregate Transfer to Conveyor\",$J$129:$J$138,0),2)),0))),((IFERROR((OFFSET($J$146,MATCH(\"Aggregate Transfer to Conveyor\",$J$147:$J$156,0),2)),0))),((IFERROR((OFFSET($J$164,MATCH(\"Aggregate Transfer to Conveyor\",$J$165:$J$174,0),2)),0))),((IFERROR((OFFSET($J$181,MATCH(\"Aggregate Transfer to Conveyor\",$J$183:$J$192,0),2)),0))))","v":0}]
[null,"Plant Specific Operating Limits:",null,null,null,null,null,"Plant Specific Emission Limits:",null,null,null,null,null,null,null,"Sand Transfer to Conveyor",{"$f":"MAX((IFERROR(OFFSET($J$20,MATCH(\"Sand Transfer to Conveyor\",$J$21:$J$30,0),1),0)),((IFERROR((OFFSET($J$38,MATCH(\"Sand Transfer to Conveyor\",$J$39:$J$48,0),1)),0))),((IFERROR((OFFSET($J$56,MATCH(\"Sand Transfer to Conveyor\",$J$57:$J$66,0),1)),0))),((IFERROR((OFFSET($J$74,MATCH(\"Sand Transfer to Conveyor\",$J$75:$J$84,0),1)),0))),((IFERROR((OFFSET($J$92,MATCH(\"Sand Transfer to Conveyor\",$J$93:$J$102,0),1)),0))),((IFERROR((OFFSET($J$110,MATCH(\"Sand Transfer to Conveyor\",$J$111:$J$120,0),1)),0))),((IFERROR((OFFSET($J$128,MATCH(\"Sand Transfer to Conveyor\",$J$129:$J$138,0),1)),0))),((IFERROR((OFFSET($J$146,MATCH(\"Sand Transfer to Conveyor\",$J$147:$J$156,0),1)),0))),((IFERROR((OFFSET($J$164,MATCH(\"Sand Transfer to Conveyor\",$J$165:$J$174,0),1)),0))),((IFERROR((OFFSET($J$181,MATCH(\"Sand Transfer to Conveyor\",$J$183:$J$192,0),1)),0))),)","v":0},{"$f":"SUM((IFERROR(OFFSET($J$20,MATCH(\"Sand Transfer to Conveyor\",$J$21:$J$30,0),2),0)),((IFERROR((OFFSET($J$38,MATCH(\"Sand Transfer to Conveyor\",$J$39:$J$48,0),2)),0))),((IFERROR((OFFSET($J$56,MATCH(\"Sand Transfer to Conveyor\",$J$57:$J$66,0),2)),0))),((IFERROR((OFFSET($J$74,MATCH(\"Sand Transfer to Conveyor\",$J$75:$J$84,0),2)),0))),((IFERROR((OFFSET($J$92,MATCH(\"Sand Transfer to Conveyor\",$J$93:$J$102,0),2)),0))),((IFERROR((OFFSET($J$110,MATCH(\"Sand Transfer to Conveyor\",$J$111:$J$120,0),2)),0))),((IFERROR((OFFSET($J$128,MATCH(\"Sand Transfer to Conveyor\",$J$129:$J$138,0),2)),0))),((IFERROR((OFFSET($J$146,MATCH(\"Sand Transfer to Conveyor\",$J$147:$J$156,0),2)),0))),((IFERROR((OFFSET($J$164,MATCH(\"Sand Transfer to Conveyor\",$J$165:$J$174,0),2)),0))),((IFERROR((OFFSET($J$181,MATCH(\"Sand Transfer to Conveyor\",$J$183:$J$192,0),2)),0))))","v":0}]
[null,"Throughput Limit (cubic yards/yr):",null,null,null,null,null,"Pollutant","lb/hr","tons/yr",null,null,null,null,null,"Aggregate Transfer to Elevated Storage",{"$f":"MAX((IFERROR(OFFSET($J$20,MATCH(\"Aggregate Transfer to Elevated Storage\",$J$21:$J$30,0),1),0)),((IFERROR((OFFSET($J$38,MATCH(\"Aggregate Transfer to Elevated Storage\",$J$39:$J$48,0),1)),0))),((IFERROR((OFFSET($J$56,MATCH(\"Aggregate Transfer to Elevated Storage\",$J$57:$J$66,0),1)),0))),((IFERROR((OFFSET($J$74,MATCH(\"Aggregate Transfer to Elevated Storage\",$J$75:$J$84,0),1)),0))),((IFERROR((OFFSET($J$92,MATCH(\"Aggregate Transfer to Elevated Storage\",$J$93:$J$102,0),1)),0))),((IFERROR((OFFSET($J$110,MATCH(\"Aggregate Transfer to Elevated Storage\",$J$111:$J$120,0),1)),0))),((IFERROR((OFFSET($J$128,MATCH(\"Aggregate Transfer to Elevated Storage\",$J$129:$J$138,0),1)),0))),((IFERROR((OFFSET($J$146,MATCH(\"Aggregate Transfer to Elevated Storage\",$J$147:$J$156,0),1)),0))),((IFERROR((OFFSET($J$164,MATCH(\"Aggregate Transfer to Elevated Storage\",$J$165:$J$174,0),1)),0))),((IFERROR((OFFSET($J$181,MATCH(\"Aggregate Transfer to Elevated Storage\",$J$183:$J$192,0),1)),0))),)","v":0},{"$f":"SUM((IFERROR(OFFSET($J$20,MATCH(\"Aggregate Transfer to Elevated Storage\",$J$21:$J$30,0),2),0)),((IFERROR((OFFSET($J$38,MATCH(\"Aggregate Transfer to Elevated Storage\",$J$39:$J$48,0),2)),0))),((IFERROR((OFFSET($J$56,MATCH(\"Aggregate Transfer to Elevated Storage\",$J$57:$J$66,0),2)),0))),((IFERROR((OFFSET($J$74,MATCH(\"Aggregate Transfer to Elevated Storage\",$J$75:$J$84,0),2)),0))),((IFERROR((OFFSET($J$92,MATCH(\"Aggregate Transfer to Elevated Storage\",$J$93:$J$102,0),2)),0))),((IFERROR((OFFSET($J$110,MATCH(\"Aggregate Transfer to Elevated Storage\",$J$111:$J$120,0),2)),0))),((IFERROR((OFFSET($J$128,MATCH(\"Aggregate Transfer to Elevated Storage\",$J$129:$J$138,0),2)),0))),((IFERROR((OFFSET($J$146,MATCH(\"Aggregate Transfer to Elevated Storage\",$J$147:$J$156,0),2)),0))),((IFERROR((OFFSET($J$164,MATCH(\"Aggregate Transfer to Elevated Storage\",$J$165:$J$174,0),2)),0))),((IFERROR((OFFSET($J$181,MATCH(\"Aggregate Transfer to Elevated Storage\",$J$183:$J$192,0),2)),0))))","v":0}]
[null,"Daily Throughput Limit (cubic yards/day):",null,null,null,null,null,"PM2.5",null,null,null,null,null,null,null,"Sand Transfer to Elevated Storage",{"$f":"MAX((IFERROR(OFFSET($J$20,MATCH(\"Sand Transfer to Elevated Storage\",$J$21:$J$30,0),1),0)),((IFERROR((OFFSET($J$38,MATCH(\"Sand Transfer to Elevated Storage\",$J$39:$J$48,0),1)),0))),((IFERROR((OFFSET($J$56,MATCH(\"Sand Transfer to Elevated Storage\",$J$57:$J$66,0),1)),0))),((IFERROR((OFFSET($J$74,MATCH(\"Sand Transfer to Elevated Storage\",$J$75:$J$84,0),1)),0))),((IFERROR((OFFSET($J$92,MATCH(\"Sand Transfer to Elevated Storage\",$J$93:$J$102,0),1)),0))),((IFERROR((OFFSET($J$110,MATCH(\"Sand Transfer to Elevated Storage\",$J$111:$J$120,0),1)),0))),((IFERROR((OFFSET($J$128,MATCH(\"Sand Transfer to Elevated Storage\",$J$129:$J$138,0),1)),0))),((IFERROR((OFFSET($J$146,MATCH(\"Sand Transfer to Elevated Storage\",$J$147:$J$156,0),1)),0))),((IFERROR((OFFSET($J$164,MATCH(\"Sand Transfer to Elevated Storage\",$J$165:$J$174,0),1)),0))),((IFERROR((OFFSET($J$181,MATCH(\"Sand Transfer to Elevated Storage\",$J$183:$J$192,0),1)),0))),)","v":0},{"$f":"SUM((IFERROR(OFFSET($J$20,MATCH(\"Sand Transfer to Elevated Storage\",$J$21:$J$30,0),2),0)),((IFERROR((OFFSET($J$38,MATCH(\"Sand Transfer to Elevated Storage\",$J$39:$J$48,0),2)),0))),((IFERROR((OFFSET($J$56,MATCH(\"Sand Transfer to Elevated Storage\",$J$57:$J$66,0),2)),0))),((IFERROR((OFFSET($J$74,MATCH(\"Sand Transfer to Elevated Storage\",$J$75:$J$84,0),2)),0))),((IFERROR((OFFSET($J$92,MATCH(\"Sand Transfer to Elevated Storage\",$J$93:$J$102,0),2)),0))),((IFERROR((OFFSET($J$110,MATCH(\"Sand Transfer to Elevated Storage\",$J$111:$J$120,0),2)),0))),((IFERROR((OFFSET($J$128,MATCH(\"Sand Transfer to Elevated Storage\",$J$129:$J$138,0),2)),0))),((IFERROR((OFFSET($J$146,MATCH(\"Sand Transfer to Elevated Storage\",$J$147:$J$156,0),2)),0))),((IFERROR((OFFSET($J$164,MATCH(\"Sand Transfer to Elevated Storage\",$J$165:$J$174,0),2)),0))),((IFERROR((OFFSET($J$181,MATCH(\"Sand Transfer to Elevated Storage\",$J$183:$J$192,0),2)),0))))","v":0}]
[null,"Hours of Operation Limit (hours/day):",null,null,null,null,null,"PM10",null,null,null,null,null,null,null,"Weigh Hopper Loading",{"$f":"MAX((IFERROR(OFFSET($J$20,MATCH(\"Weigh Hopper Loading\",$J$21:$J$30,0),1),0)),((IFERROR((OFFSET($J$38,MATCH(\"Weigh Hopper Loading\",$J$39:$J$48,0),1)),0))),((IFERROR((OFFSET($J$56,MATCH(\"Weigh Hopper Loading\",$J$57:$J$66,0),1)),0))),((IFERROR((OFFSET($J$74,MATCH(\"Weigh Hopper Loading\",$J$75:$J$84,0),1)),0))),((IFERROR((OFFSET($J$92,MATCH(\"Weigh Hopper Loading\",$J$93:$J$102,0),1)),0))),((IFERROR((OFFSET($J$110,MATCH(\"Weigh Hopper Loading\",$J$111:$J$120,0),1)),0))),((IFERROR((OFFSET($J$128,MATCH(\"Weigh Hopper Loading\",$J$129:$J$138,0),1)),0))),((IFERROR((OFFSET($J$146,MATCH(\"Weigh Hopper Loading\",$J$147:$J$156,0),1)),0))),((IFERROR((OFFSET($J$164,MATCH(\"Weigh Hopper Loading\",$J$165:$J$174,0),1)),0))),((IFERROR((OFFSET($J$181,MATCH(\"Weigh Hopper Loading\",$J$183:$J$192,0),1)),0))),)","v":0},{"$f":"SUM((IFERROR(OFFSET($J$20,MATCH(\"Weigh Hopper Loading\",$J$21:$J$30,0),2),0)),((IFERROR((OFFSET($J$38,MATCH(\"Weigh Hopper Loading\",$J$39:$J$48,0),2)),0))),((IFERROR((OFFSET($J$56,MATCH(\"Weigh Hopper Loading\",$J$57:$J$66,0),2)),0))),((IFERROR((OFFSET($J$74,MATCH(\"Weigh Hopper Loading\",$J$75:$J$84,0),2)),0))),((IFERROR((OFFSET($J$92,MATCH(\"Weigh Hopper Loading\",$J$93:$J$102,0),2)),0))),((IFERROR((OFFSET($J$110,MATCH(\"Weigh Hopper Loading\",$J$111:$J$120,0),2)),0))),((IFERROR((OFFSET($J$128,MATCH(\"Weigh Hopper Loading\",$J$129:$J$138,0),2)),0))),((IFERROR((OFFSET($J$146,MATCH(\"Weigh Hopper Loading\",$J$147:$J$156,0),2)),0))),((IFERROR((OFFSET($J$164,MATCH(\"Weigh Hopper Loading\",$J$165:$J$174,0),2)),0))),((IFERROR((OFFSET($J$181,MATCH(\"Weigh Hopper Loading\",$J$183:$J$192,0),2)),0))))","v":0}]
[null,"Note: if the plant has an hrs/day and a cubic yards/hr permit limit, those values should be multiplied together to calculate a cubic yards/day limit and that value should be placed in cell C10.",null,null,null,null,null,"SO2",null,null,null,null,null,null,null,"Central Mix Loading",{"$f":"MAX((IFERROR(OFFSET($J$20,MATCH(\"Central Mix Loading\",$J$21:$J$30,0),1),0)),((IFERROR((OFFSET($J$38,MATCH(\"Central Mix Loading\",$J$39:$J$48,0),1)),0))),((IFERROR((OFFSET($J$56,MATCH(\"Central Mix Loading\",$J$57:$J$66,0),1)),0))),((IFERROR((OFFSET($J$74,MATCH(\"Central Mix Loading\",$J$75:$J$84,0),1)),0))),((IFERROR((OFFSET($J$92,MATCH(\"Central Mix Loading\",$J$93:$J$102,0),1)),0))),((IFERROR((OFFSET($J$110,MATCH(\"Central Mix Loading\",$J$111:$J$120,0),1)),0))),((IFERROR((OFFSET($J$128,MATCH(\"Central Mix Loading\",$J$129:$J$138,0),1)),0))),((IFERROR((OFFSET($J$146,MATCH(\"Central Mix Loading\",$J$147:$J$156,0),1)),0))),((IFERROR((OFFSET($J$164,MATCH(\"Central Mix Loading\",$J$165:$J$174,0),1)),0))),((IFERROR((OFFSET($J$181,MATCH(\"Central Mix Loading\",$J$183:$J$192,0),1)),0))),)","v":0},{"$f":"SUM((IFERROR(OFFSET($J$20,MATCH(\"Central Mix Loading\",$J$21:$J$30,0),2),0)),((IFERROR((OFFSET($J$38,MATCH(\"Central Mix Loading\",$J$39:$J$48,0),2)),0))),((IFERROR((OFFSET($J$56,MATCH(\"Central Mix Loading\",$J$57:$J$66,0),2)),0))),((IFERROR((OFFSET($J$74,MATCH(\"Central Mix Loading\",$J$75:$J$84,0),2)),0))),((IFERROR((OFFSET($J$92,MATCH(\"Central Mix Loading\",$J$93:$J$102,0),2)),0))),((IFERROR((OFFSET($J$110,MATCH(\"Central Mix Loading\",$J$111:$J$120,0),2)),0))),((IFERROR((OFFSET($J$128,MATCH(\"Central Mix Loading\",$J$129:$J$138,0),2)),0))),((IFERROR((OFFSET($J$146,MATCH(\"Central Mix Loading\",$J$147:$J$156,0),2)),0))),((IFERROR((OFFSET($J$164,MATCH(\"Central Mix Loading\",$J$165:$J$174,0),2)),0))),((IFERROR((OFFSET($J$181,MATCH(\"Central Mix Loading\",$J$183:$J$192,0),2)),0))))","v":0}]
[null,null,null,null,null,null,null,"NOx",null,null,null,null,null,null,null,"Truck Mix Loading",{"$f":"MAX((IFERROR(OFFSET($J$20,MATCH(\"Truck Mix Loading\",$J$21:$J$30,0),1),0)),((IFERROR((OFFSET($J$38,MATCH(\"Truck Mix Loading\",$J$39:$J$48,0),1)),0))),((IFERROR((OFFSET($J$56,MATCH(\"Truck Mix Loading\",$J$57:$J$66,0),1)),0))),((IFERROR((OFFSET($J$74,MATCH(\"Truck Mix Loading\",$J$75:$J$84,0),1)),0))),((IFERROR((OFFSET($J$92,MATCH(\"Truck Mix Loading\",$J$93:$J$102,0),1)),0))),((IFERROR((OFFSET($J$110,MATCH(\"Truck Mix Loading\",$J$111:$J$120,0),1)),0))),((IFERROR((OFFSET($J$128,MATCH(\"Truck Mix Loading\",$J$129:$J$138,0),1)),0))),((IFERROR((OFFSET($J$146,MATCH(\"Truck Mix Loading\",$J$147:$J$156,0),1)),0))),((IFERROR((OFFSET($J$164,MATCH(\"Truck Mix Loading\",$J$165:$J$174,0),1)),0))),((IFERROR((OFFSET($J$181,MATCH(\"Truck Mix Loading\",$J$183:$J$192,0),1)),0))),)","v":0},{"$f":"SUM((IFERROR(OFFSET($J$20,MATCH(\"Truck Mix Loading\",$J$21:$J$30,0),2),0)),((IFERROR((OFFSET($J$38,MATCH(\"Truck Mix Loading\",$J$39:$J$48,0),2)),0))),((IFERROR((OFFSET($J$56,MATCH(\"Truck Mix Loading\",$J$57:$J$66,0),2)),0))),((IFERROR((OFFSET($J$74,MATCH(\"Truck Mix Loading\",$J$75:$J$84,0),2)),0))),((IFERROR((OFFSET($J$92,MATCH(\"Truck Mix Loading\",$J$93:$J$102,0),2)),0))),((IFERROR((OFFSET($J$110,MATCH(\"Truck Mix Loading\",$J$111:$J$120,0),2)),0))),((IFERROR((OFFSET($J$128,MATCH(\"Truck Mix Loading\",$J$129:$J$138,0),2)),0))),((IFERROR((OFFSET($J$146,MATCH(\"Truck Mix Loading\",$J$147:$J$156,0),2)),0))),((IFERROR((OFFSET($J$164,MATCH(\"Truck Mix Loading\",$J$165:$J$174,0),2)),0))),((IFERROR((OFFSET($J$181,MATCH(\"Truck Mix Loading\",$J$183:$J$192,0),2)),0))))","v":0}]
[null,null,null,null,null,null,null,"VOC",null,null,null,null,null,null,null,"Cement Delivery to Silo",{"$f":"MAX((IFERROR(OFFSET($J$20,MATCH(\"Cement Delivery to Silo\",$J$21:$J$30,0),1),0)),((IFERROR((OFFSET($J$38,MATCH(\"Cement Delivery to Silo\",$J$39:$J$48,0),1)),0))),((IFERROR((OFFSET($J$56,MATCH(\"Cement Delivery to Silo\",$J$57:$J$66,0),1)),0))),((IFERROR((OFFSET($J$74,MATCH(\"Cement Delivery to Silo\",$J$75:$J$84,0),1)),0))),((IFERROR((OFFSET($J$92,MATCH(\"Cement Delivery to Silo\",$J$93:$J$102,0),1)),0))),((IFERROR((OFFSET($J$110,MATCH(\"Cement Delivery to Silo\",$J$111:$J$120,0),1)),0))),((IFERROR((OFFSET($J$128,MATCH(\"Cement Delivery to Silo\",$J$129:$J$138,0),1)),0))),((IFERROR((OFFSET($J$146,MATCH(\"Cement Delivery to Silo\",$J$147:$J$156,0),1)),0))),((IFERROR((OFFSET($J$164,MATCH(\"Cement Delivery to Silo\",$J$165:$J$174,0),1)),0))),((IFERROR((OFFSET($J$181,MATCH(\"Cement Delivery to Silo\",$J$183:$J$192,0),1)),0))),)","v":0},{"$f":"SUM((IFERROR(OFFSET($J$20,MATCH(\"Cement Delivery to Silo\",$J$21:$J$30,0),2),0)),((IFERROR((OFFSET($J$38,MATCH(\"Cement Delivery to Silo\",$J$39:$J$48,0),2)),0))),((IFERROR((OFFSET($J$56,MATCH(\"Cement Delivery to Silo\",$J$57:$J$66,0),2)),0))),((IFERROR((OFFSET($J$74,MATCH(\"Cement Delivery to Silo\",$J$75:$J$84,0),2)),0))),((IFERROR((OFFSET($J$92,MATCH(\"Cement Delivery to Silo\",$J$93:$J$102,0),2)),0))),((IFERROR((OFFSET($J$110,MATCH(\"Cement Delivery to Silo\",$J$111:$J$120,0),2)),0))),((IFERROR((OFFSET($J$128,MATCH(\"Cement Delivery to Silo\",$J$129:$J$138,0),2)),0))),((IFERROR((OFFSET($J$146,MATCH(\"Cement Delivery to Silo\",$J$147:$J$156,0),2)),0))),((IFERROR((OFFSET($J$164,MATCH(\"Cement Delivery to Silo\",$J$165:$J$174,0),2)),0))),((IFERROR((OFFSET($J$181,MATCH(\"Cement Delivery to Silo\",$J$183:$J$192,0),2)),0))))","v":0}]
[null,null,null,null,null,null,null,"CO",null,null,null,null,null,null,null,"Cement Supplement Delivery to Silo",{"$f":"MAX((IFERROR(OFFSET($J$20,MATCH(\"Cement Supplement Delivery to Silo\",$J$21:$J$30,0),1),0)),((IFERROR((OFFSET($J$38,MATCH(\"Cement Supplement Delivery to Silo\",$J$39:$J$48,0),1)),0))),((IFERROR((OFFSET($J$56,MATCH(\"Cement Supplement Delivery to Silo\",$J$57:$J$66,0),1)),0))),((IFERROR((OFFSET($J$74,MATCH(\"Cement Supplement Delivery to Silo\",$J$75:$J$84,0),1)),0))),((IFERROR((OFFSET($J$92,MATCH(\"Cement Supplement Delivery to Silo\",$J$93:$J$102,0),1)),0))),((IFERROR((OFFSET($J$110,MATCH(\"Cement Supplement Delivery to Silo\",$J$111:$J$120,0),1)),0))),((IFERROR((OFFSET($J$128,MATCH(\"Cement Supplement Delivery to Silo\",$J$129:$J$138,0),1)),0))),((IFERROR((OFFSET($J$146,MATCH(\"Cement Supplement Delivery to Silo\",$J$147:$J$156,0),1)),0))),((IFERROR((OFFSET($J$164,MATCH(\"Cement Supplement Delivery to Silo\",$J$165:$J$174,0),1)),0))),((IFERROR((OFFSET($J$181,MATCH(\"Cement Supplement Delivery to Silo\",$J$183:$J$192,0),1)),0))),)","v":0},{"$f":"SUM((IFERROR(OFFSET($J$20,MATCH(\"Cement Supplement Delivery to Silo\",$J$21:$J$30,0),2),0)),((IFERROR((OFFSET($J$38,MATCH(\"Cement Supplement Delivery to Silo\",$J$39:$J$48,0),2)),0))),((IFERROR((OFFSET($J$56,MATCH(\"Cement Supplement Delivery to Silo\",$J$57:$J$66,0),2)),0))),((IFERROR((OFFSET($J$74,MATCH(\"Cement Supplement Delivery to Silo\",$J$75:$J$84,0),2)),0))),((IFERROR((OFFSET($J$92,MATCH(\"Cement Supplement Delivery to Silo\",$J$93:$J$102,0),2)),0))),((IFERROR((OFFSET($J$110,MATCH(\"Cement Supplement Delivery to Silo\",$J$111:$J$120,0),2)),0))),((IFERROR((OFFSET($J$128,MATCH(\"Cement Supplement Delivery to Silo\",$J$129:$J$138,0),2)),0))),((IFERROR((OFFSET($J$146,MATCH(\"Cement Supplement Delivery to Silo\",$J$147:$J$156,0),2)),0))),((IFERROR((OFFSET($J$164,MATCH(\"Cement Supplement Delivery to Silo\",$J$165:$J$174,0),2)),0))),((IFERROR((OFFSET($J$181,MATCH(\"Cement Supplement Delivery to Silo\",$J$183:$J$192,0),2)),0))))","v":0}]
[null,null,null,null,null,null,null,null,null,null,null,null,null,null,null,null,"Maximum (acres/day)","Actual (acres-day/yr)"]
[null,null,null,null,null,null,null,null,null,null,null,null,null,null,null,"Storage Pile",{"$f":"SUM(J34,J52,J70,J88,J106,J124,J142,J160,J178,J196)","v":0},{"$f":"SUM(K34*L34,K52*L52,K70*L70,K88*L88,K106*L106,K124*L124,K142*L142,K160*L160,K178*L178,K196*L196)","v":0}]
[]
[null,"Batch Plant","Site 1",null,null,null,null,"Emission Point #","Emission     Unit #","Processes","Combined Maximum Hourly Design Rate for all Like Processes (cubic yard/hr)",{"$f":"('Facility Information'!G5&\" Annual Throughput (cubic yards)\")","v":" Annual Throughput (cubic yards)"}]
[null,null,null,null,null,null,null,null,null,null,null,null,"Truck","Central",null,"Potential and Actual Emissions for the Listed Processes at this Plant"]
["YES","Site Name:",null,null,null,null,null,{"$f":"IF(J21=\"cement delivery to silo\",\"CP-1 EP-2\",IF(J21=\"cement supplement delivery to silo\",\"CP-1 EP-3\",IF(J21=\"weigh hopper loading\",\"CP-1 EP-4\",IF(J21=\"truck mix loading\",\"CP-1 EP-5\",IF(J21=\"central mix loading\",\"CP-1 EP-6\",IF(J21=\"\",\"\",\"CP-1 EP-1\"))))))","v":""},{"$f":"IF(J21=\"\",\"\",IF(J21=\"aggregate delivery to ground storage\",\"CP-2 EU-1\",IF(J21=\"sand delivery to ground storage\",\"CP-2 EU-2\",IF(J21=\"aggregate transfer to conveyor\",\"CP-2 EU-3\",IF(J21=\"sand transfer to conveyor\",\"CP-2 EU-4\",IF(J21=\"aggregate transfer to elevated storage\",\"CP-2 EU-5\",IF(J21=\"sand transfer to elevated storage\",\"CP-2 EU-6\",IF(J21=\"weigh hopper loading\",\"CP-2 EU-7\",IF(J21=\"central mix loading\",\"CP-2 EU-8\",IF(J21=\"truck mix loading\",\"CP-2 EU-9\",IF(J21=\"cement delivery to silo\",\"CP-2 EU-10\",IF(J21=\"cement supplement delivery to silo\",\"CP-2 EU-11\"))))))))))))","v":""},null,null,null,{"$f":"IF(J21=\"truck mix loading\",IF($F$24=\"yes\",L21*0.05/2000,L21/2000),\"\")","v":""},{"$f":"IF(J21=\"central mix loading\",IF($F$24=\"yes\",L21*0.05/2000,L21/2000),\"\")","v":""},null,null,"Maximum Design Rate (cubic yards/hr)","Emission Factor (lb/cubic yard)","Potential Uncontrolled Emissions (lb/hr)","Potential Controlled Emissions (lb/hr)","Potential Annual Emissions (tons/yr)","Actual Annual Emissions (tons/yr)"]
["NO","County:",null,null,null,null,null,{"$f":"IF(J22=\"cement delivery to silo\",\"CP-1 EP-2\",IF(J22=\"cement supplement delivery to silo\",\"CP-1 EP-3\",IF(J22=\"weigh hopper loading\",\"CP-1 EP-4\",IF(J22=\"truck mix loading\",\"CP-1 EP-5\",IF(J22=\"central mix loading\",\"CP-1 EP-6\",IF(J22=\"\",\"\",\"CP-1 EP-1\"))))))","v":""},"",null,null,null,{"$f":"IF(J22=\"truck mix loading\",IF($F$24=\"yes\",L22*0.05/2000,L22/2000),\"\")","v":""},{"$f":"IF(J22=\"central mix loading\",IF($F$24=\"yes\",L22*0.05/2000,L22/2000),\"\")","v":""},null,"PM2.5"]
[null,"Batching Period (Dates):",null,null,null,null,null,"","",null,null,null,"","",null,"Aggregate Delivery to Ground Storage",{"$f":"Q5","v":0},{"$f":"IF(Q23=0,0,LOOKUP(P23,'Emission Factors'!$A$5:$A$16,'Emission Factors'!$D$5:$D$16))","v":0},{"$f":"Q23*R23","v":0},{"$f":"IF(Q23=0,\"\",IF($I$10>0,$I$10,\"\"))","v":""},{"$f":"IF($J$10>0,$J$10,IF($D$9>0,$D$9*R23/2000,IF($D$10>0,$D$10*365*R23/2000,IF($D$11>0,$D$11*365*R23*Q23/2000,IF(T23=\"\",S23*8760/2000,T23*8760/2000)))))","v":0},{"$f":"(R5*R23/2000)","v":0}]
["Aggregate Delivery to Ground Storage",{"$f":"IF(OR(COUNTIF(J21:J30,\"Truck Mix Loading\")>0,(COUNTIF(J21:J30,\"Central Mix Loading\")>0)),\"Is the Central/Truck Mix Loading process controlled by a baghouse?\",\"\")","v":""},null,null,null,null,null,"","",null,null,null,"","",null,"Sand Delivery to Ground Storage",{"$f":"Q6","v":0},{"$f":"IF(Q24=0,0,LOOKUP(P24,'Emission Factors'!$A$5:$A$16,'Emission Factors'!$D$5:$D$16))","v":0},{"$f":"Q24*R24","v":0},{"$f":"IF(Q24=0,\"\",IF($I$10>0,$I$10,\"\"))","v":""},{"$f":"IF($J$10>0,\"\",IF($D$9>0,$D$9*R24/2000,IF($D$10>0,$D$10*365*R24/2000,IF($D$11>0,$D$11*365*R24*Q24/2000,IF(T24=\"\",S24*8760/2000,T24*8760/2000)))))","v":0},{"$f":"(R6*R24/2000)","v":0}]
["Sand Delivery to Ground Storage",null,null,null,null,null,null,"","",null,null,null,"","",null,"Aggregate Transfer to Conveyor",0,{"$f":"IF(Q25=0,0,LOOKUP(P25,'Emission Factors'!$A$5:$A$16,'Emission Factors'!$D$5:$D$16))","v":0},0,"",0,0]
["Aggregate Transfer to Conveyor",{"$f":"IF(AND(B28=\"\",B29=\"\",B32=\"\",B31=\"\",B30=\"\"),\"\",\"Process (complete stack information if applicable):\")","v":""},{"$f":"IF(AND(B28=\"\",B29=\"\",B32=\"\",B31=\"\",B30=\"\"),\"\",\"Stack Height (ft):\")","v":""},{"$f":"IF(AND(B28=\"\",B29=\"\",B32=\"\",B31=\"\",B30=\"\"),\"\",\"Stack Diameter (inches):\")","v":""},{"$f":"IF(AND(B28=\"\",B29=\"\",B32=\"\",B31=\"\",B30=\"\"),\"\",\"Flow Rate (acfm):\")","v":""},{"$f":"IF(AND(B28=\"\",B29=\"\",B32=\"\",B31=\"\",B30=\"\"),\"\",\"Temperature (Deg F):\")","v":""},null,"","",null,null,null,"","",null,"Sand Transfer to Conveyor",0,{"$f":"IF(Q26=0,0,LOOKUP(P26,'Emission Factors'!$A$5:$A$16,'Emission Factors'!$D$5:$D$16))","v":0},0,"",0,0]
["Sand Transfer to Conveyor",null,null,null,null,null,null,"","",null,null,null,"","",null,"Aggregate Transfer to Elevated Storage",0,{"$f":"IF(Q27=0,0,LOOKUP(P27,'Emission Factors'!$A$5:$A$16,'Emission Factors'!$D$5:$D$16))","v":0},0,"",0,0]
["Aggregate Transfer to Elevated Storage",{"$f":"IF(COUNTIF(J21:J30,\"Cement Delivery to Silo\")>0,\"EP-2 Cement Silo Stack:\",\"\")","v":""},null,null,null,null,null,"","",null,null,null,"","",null,"Sand Transfer to Elevated Storage",0,{"$f":"IF(Q28=0,0,LOOKUP(P28,'Emission Factors'!$A$5:$A$16,'Emission Factors'!$D$5:$D$16))","v":0},0,"",0,0]
["Sand Transfer to Elevated Storage",{"$f":"IF(COUNTIF(J21:J30,\"Cement Supplement Delivery to Silo\")>0,\"EP-3 Cement Supplement Silo Stack:\",\"\")","v":""},null,null,null,null,null,"","",null,null,null,"","",null,"Weigh Hopper Loading",0,{"$f":"IF(Q29=0,0,LOOKUP(P29,'Emission Factors'!$A$5:$A$16,'Emission Factors'!$D$5:$D$16))","v":0},0,"",0,0]
["Weigh Hopper Loading",{"$f":"IF(COUNTIF(J21:J30,\"Weigh Hopper Loading\")>0,\"EP-4 Weigh Hopper Loading Stack:\",\"\")","v":""},null,null,null,null,null,"","",null,null,null,"","",null,"Central Mix Loading",0,{"$f":"IF(Q30=0,0,LOOKUP(P30,'Emission Factors'!$A$5:$A$16,'Emission Factors'!$D$5:$D$16))","v":0},0,{"$f":"IF(Q30=0,\"\",IF($I$10>0,$I$10,IF(COUNTIF($F$24:$F$186,\"no\")>0,\"\",S30*(1-0.95))))","v":""},{"$f":"IF($J$10>0,\"\",IF($D$9>0,$D$9*R30*((100-$W$30)/100)/2000,IF($D$10>0,$D$10*365*R30*((100-$W$30)/100)/2000,IF($D$11>0,$D$11*365*R30*((100-$W$30)/100)*Q30/2000,IF(T30=\"\",S30*8760/2000,T30*8760/2000)))))","v":0},{"$f":"(R30*N198)","v":0},{"$f":"IF(COUNTIF($F$24:$F$186,\"no\")>0,0,95)","v":95}]
["Central Mix Loading",{"$f":"IF(COUNTIF(J21:J30,\"Truck Mix Loading\")>0,\"EP-5 Truck Mix Loading Stack:\",\"\")","v":""},null,null,null,null,null,null,null,null,null,null,null,null,null,"Truck Mix Loading",0,{"$f":"IF(Q31=0,0,LOOKUP(P31,'Emission Factors'!$A$5:$A$16,'Emission Factors'!$D$5:$D$16))","v":0},0,{"$f":"IF(Q31=0,\"\",IF($I$10>0,$I$10,IF(COUNTIF($F$24:$F$186,\"no\")>0,\"\",S31*(1-0.95))))","v":""},{"$f":"IF($J$10>0,\"\",IF($D$9>0,$D$9*R31*((100-$W$30)/100)/2000,IF($D$10>0,$D$10*365*R31*((100-$W$30)/100)/2000,IF($D$11>0,$D$11*365*R31*((100-$W$30)/100)*Q31/2000,IF(T31=\"\",S31*8760/2000,T31*8760/2000)))))","v":0},{"$f":"(R31*M198)","v":0}]
["Truck Mix Loading",{"$f":"IF(COUNTIF(J21:J30,\"Central Mix Loading\")>0,\"EP-6 Central Mix Loading Stack:\",\"\")","v":""},null,null,null,null,null,"Stock Pile Area",null,null,null,null,null,null,null,"Cement Delivery to Silo",0,{"$f":"IF(Q32=0,0,LOOKUP(P32,'Emission Factors'!$A$5:$A$16,'Emission Factors'!$D$5:$D$16))","v":0},null,{"$f":"IF(Q32=0,0,IF($I$10>0,$I$10,Q32*R32))","v":0},{"$f":"IF($J$10>0,\"\",IF($D$9>0,$D$9*R32/2000,IF($D$10>0,$D$10*365*R32/2000,IF($D$11>0,$D$11*365*R32*Q32/2000,IF($I$10>0,0,T32*8760/2000)))))","v":0},0]
["Cement Delivery to Silo",null,null,null,null,null,null,null,"Emission Unit #","Maximum Storage Area (acres)","Actual Storage Area (acres)","Actual Days in Existence (days)",null,null,null,"Cement Supplement Delivery to Silo",0,{"$f":"IF(Q33=0,0,LOOKUP(P33,'Emission Factors'!$A$5:$A$16,'Emission Factors'!$D$5:$D$16))","v":0},null,{"$f":"IF(Q33=0,0,IF($I$10>0,$I$10,Q33*R33))","v":0},{"$f":"IF($J$10>0,\"\",IF($D$9>0,$D$9*R33/2000,IF($D$10>0,$D$10*365*R33/2000,IF($D$11>0,$D$11*365*R33*Q33/2000,IF($I$10>0,0,T33*8760/2000)))))","v":0},0]
["Cement Supplement Delivery to Silo",null,null,null,null,null,null,null,null,null,null,null,null,null,null,"PM10"]
[null,null,null,null,null,null,null,null,null,null,null,null,null,null,null,"Aggregate Delivery to Ground Storage",{"$f":"Q5","v":0},{"$f":"IF(Q35=0,0,LOOKUP(P35,'Emission Factors'!$A$5:$A$16,'Emission Factors'!$H$5:$H$16))","v":0},0,{"$f":"IF(Q35=0,\"\",IF($I$11>0,$I$11,\"\"))","v":""},{"$f":"IF($J$11>0,$J$11,IF($D$9>0,$D$9*R35/2000,IF($D$10>0,$D$10*365*R35/2000,IF($D$11>0,$D$11*365*R35*Q35/2000,IF(T35=\"\",S35*8760/2000,T35*8760/2000)))))","v":0},{"$f":"(R5*R35/2000)","v":0}]
[null,null,null,null,null,null,null,null,null,null,null,null,null,null,null,"Sand Delivery to Ground Storage",{"$f":"Q6","v":0},{"$f":"IF(Q36=0,0,LOOKUP(P36,'Emission Factors'!$A$5:$A$16,'Emission Factors'!$H$5:$H$16))","v":0},0,{"$f":"IF(Q36=0,\"\",IF($I$11>0,$I$11,\"\"))","v":""},{"$f":"IF($J$11>0,\"\",IF($D$9>0,$D$9*R36/2000,IF($D$10>0,$D$10*365*R36/2000,IF($D$11>0,$D$11*365*R36*Q36/2000,IF(T36=\"\",S36*8760/2000,T36*8760/2000)))))","v":0},{"$f":"(R6*R36/2000)","v":0}]
[null,{"$f":"IF('Concrete Plant (CP-2)'!$D$4>1,\"Batch Plant\",\"\")","v":""},{"$f":"IF('Concrete Plant (CP-2)'!$D$4>1,\"Site 2\",\"\")","v":""},null,null,null,null,{"$f":"IF('Concrete Plant (CP-2)'!$D$4>1,\"Emission Point #\",\"\")","v":""},{"$f":"IF('Concrete Plant (CP-2)'!$D$4>1,\"Emission     Unit #\",\"\")","v":""},{"$f":"IF('Concrete Plant (CP-2)'!$D$4>1,\"Processes\",\"\")","v":""},{"$f":"IF('Concrete Plant (CP-2)'!$D$4>1,\"Combined Maximum Hourly Design Rate for all Like Processes (cubic yard/hr)\",\"\")","v":""},{"$f":"IF('Concrete Plant (CP-2)'!$D$4>1,('Facility Information'!G5&\" Annual Throughput (cubic yards)\"),\"\")","v":""},null,null,null,"Aggregate Transfer to Conveyor",0,{"$f":"IF(Q37=0,0,LOOKUP(P37,'Emission Factors'!$A$5:$A$16,'Emission Factors'!$H$5:$H$16))","v":0},0,"",0,0]
[null,null,null,null,null,null,null,null,null,null,null,null,"Truck","Central",null,"Sand Transfer to Conveyor",0,{"$f":"IF(Q38=0,0,LOOKUP(P38,'Emission Factors'!$A$5:$A$16,'Emission Factors'!$H$5:$H$16))","v":0},0,"",0,0]
[null,{"$f":"IF('Concrete Plant (CP-2)'!$D$4>1,\"Site Name:\",\"\")","v":""},null,null,null,null,null,{"$f":"IF(J39=\"cement delivery to silo\",\"CP-1 EP-2\",IF(J39=\"cement supplement delivery to silo\",\"CP-1 EP-3\",IF(J39=\"weigh hopper loading\",\"CP-1 EP-4\",IF(J39=\"truck mix loading\",\"CP-1 EP-5\",IF(J39=\"central mix loading\",\"CP-1 EP-6\",IF(J39=\"\",\"\",\"CP-1 EP-1\"))))))","v":""},{"$f":"IF(J39=\"\",\"\",IF(J39=\"aggregate delivery to ground storage\",\"CP-2 EU-1\",IF(J39=\"sand delivery to ground storage\",\"CP-2 EU-2\",IF(J39=\"aggregate transfer to conveyor\",\"CP-2 EU-3\",IF(J39=\"sand transfer to conveyor\",\"CP-2 EU-4\",IF(J39=\"aggregate transfer to elevated storage\",\"CP-2 EU-5\",IF(J39=\"sand transfer to elevated storage\",\"CP-2 EU-6\",IF(J39=\"weigh hopper loading\",\"CP-2 EU-7\",IF(J39=\"central mix loading\",\"CP-2 EU-8\",IF(J39=\"truck mix loading\",\"CP-2 EU-9\",IF(J39=\"cement delivery to silo\",\"CP-2 EU-10\",IF(J39=\"cement supplement delivery to silo\",\"CP-2 EU-11\"))))))))))))","v":""},null,null,null,{"$f":"IF(J39=\"truck mix loading\",IF($F$42=\"yes\",L39*0.05/2000,L39/2000),\"\")","v":""},{"$f":"IF(J39=\"central mix loading\",IF($F$42=\"yes\",L39*0.05/2000,L39/2000),\"\")","v":""},null,"Aggregate Transfer to Elevated Storage",0,{"$f":"IF(Q39=0,0,LOOKUP(P39,'Emission Factors'!$A$5:$A$16,'Emission Factors'!$H$5:$H$16))","v":0},0,"",0,0]
[null,{"$f":"IF('Concrete Plant (CP-2)'!$D$4>1,\"County:\",\"\")","v":""},null,null,null,null,null,{"$f":"IF(J40=\"cement delivery to silo\",\"CP-1 EP-2\",IF(J40=\"cement supplement delivery to silo\",\"CP-1 EP-3\",IF(J40=\"weigh hopper loading\",\"CP-1 EP-4\",IF(J40=\"truck mix loading\",\"CP-1 EP-5\",IF(J40=\"central mix loading\",\"CP-1 EP-6\",IF(J40=\"\",\"\",\"CP-1 EP-1\"))))))","v":""},"",null,null,null,{"$f":"IF(J40=\"truck mix loading\",IF($F$42=\"yes\",L40*0.05/2000,L40/2000),\"\")","v":""},{"$f":"IF(J40=\"central mix loading\",IF($F$42=\"yes\",L40*0.05/2000,L40/2000),\"\")","v":""},null,"Sand Transfer to Elevated Storage",0,{"$f":"IF(Q40=0,0,LOOKUP(P40,'Emission Factors'!$A$5:$A$16,'Emission Factors'!$H$5:$H$16))","v":0},0,"",0,0]
[null,{"$f":"IF('Concrete Plant (CP-2)'!$D$4>1,\"Batching Period (Dates):\",\"\")","v":""},null,null,null,null,null,"","",null,null,null,"","",null,"Weigh Hopper Loading",0,{"$f":"IF(Q41=0,0,LOOKUP(P41,'Emission Factors'!$A$5:$A$16,'Emission Factors'!$H$5:$H$16))","v":0},0,"",0,{"$f":"(R11*R41/2000)","v":0}]
[null,{"$f":"IF(OR(COUNTIF(J39:J48,\"Truck Mix Loading\")>0,(COUNTIF(J39:J48,\"Central Mix Loading\")>0)),\"Is the Central/Truck Mix Loading process controlled by a baghouse?\",\"\")","v":""},null,null,null,null,null,"","",null,null,null,"","",null,"Central Mix Loading",0,{"$f":"IF(Q42=0,0,LOOKUP(P42,'Emission Factors'!$A$5:$A$16,'Emission Factors'!$H$5:$H$16))","v":0},0,{"$f":"IF(Q42=0,\"\",IF($I$11>0,$I$11,IF(COUNTIF($F$24:$F$186,\"no\")>0,\"\",S42*(1-0.95))))","v":""},{"$f":"IF($J$11>0,\"\",IF($D$9>0,$D$9*R42*((100-$W$30)/100)/2000,IF($D$10>0,$D$10*365*R42*((100-$W$30)/100)/2000,IF($D$11>0,$D$11*365*R42*((100-$W$30)/100)*Q42/2000,IF(T42=\"\",S42*8760/2000,T42*8760/2000)))))","v":0},{"$f":"(N198*R42)","v":0},{"$f":"IF(COUNTIF($F$24:$F$186,\"no\")>0,0,95)","v":95}]
[null,null,null,null,null,null,null,"","",null,null,null,"","",null,"Truck Mix Loading",0,{"$f":"IF(Q43=0,0,LOOKUP(P43,'Emission Factors'!$A$5:$A$16,'Emission Factors'!$H$5:$H$16))","v":0},0,{"$f":"IF(Q43=0,\"\",IF($I$11>0,$I$11,IF(COUNTIF($F$24:$F$186,\"no\")>0,\"\",S43*(1-0.95))))","v":""},{"$f":"IF($J$11>0,\"\",IF($D$9>0,$D$9*R43*((100-$W$30)/100)/2000,IF($D$10>0,$D$10*365*R43*((100-$W$30)/100)/2000,IF($D$11>0,$D$11*365*R43*((100-$W$30)/100)*Q43/2000,IF(T43=\"\",S43*8760/2000,T43*8760/2000)))))","v":0},{"$f":"(M198*R43)","v":0}]
[null,{"$f":"IF(AND(B46=\"\",B47=\"\",B48=\"\",B49=\"\",B50=\"\"),\"\",\"Process (complete stack information if applicable):\")","v":""},{"$f":"IF(AND(B46=\"\",B47=\"\",B48=\"\",B49=\"\",B50=\"\"),\"\",\"Stack Height (ft):\")","v":""},{"$f":"IF(AND(B46=\"\",B47=\"\",B48=\"\",B49=\"\",B50=\"\"),\"\",\"Stack Diameter (inches):\")","v":""},{"$f":"IF(AND(B46=\"\",B47=\"\",B48=\"\",B49=\"\",B50=\"\"),\"\",\"Flow Rate (acfm):\")","v":""},{"$f":"IF(AND(B46=\"\",B47=\"\",B48=\"\",B49=\"\",B50=\"\"),\"\",\"Temperature (Deg F):\")","v":""},null,"","",null,null,null,"","",null,"Cement Delivery to Silo",0,{"$f":"IF(Q44=0,0,LOOKUP(P44,'Emission Factors'!$A$5:$A$16,'Emission Factors'!$H$5:$H$16))","v":0},null,{"$f":"IF(Q44=0,0,IF($I$10>0,$I$10,Q44*R44))","v":0},{"$f":"IF($J$11>0,\"\",IF($D$9>0,$D$9*R44/2000,IF($D$10>0,$D$10*365*R44/2000,IF($D$11>0,$D$11*365*R44*Q44/2000,IF($I$11>0,0,T44*8760/2000)))))","v":0},0]
[null,null,null,null,null,null,null,"","",null,null,null,"","",null,"Cement Supplement Delivery to Silo",0,{"$f":"IF(Q45=0,0,LOOKUP(P45,'Emission Factors'!$A$5:$A$16,'Emission Factors'!$H$5:$H$16))","v":0},null,{"$f":"IF(Q45=0,0,IF($I$10>0,$I$10,Q45*R45))","v":0},{"$f":"IF($J$11>0,\"\",IF($D$9>0,$D$9*R45/2000,IF($D$10>0,$D$10*365*R45/2000,IF($D$11>0,$D$11*365*R45*Q45/2000,IF($I$11>0,0,T45*8760/2000)))))","v":0},0]
[null,{"$f":"IF(COUNTIF(J39:J48,\"Cement Delivery to Silo\")>0,\"EP-2 Cement Silo Stack:\",\"\")","v":""},null,null,null,null,null,"","",null,null,null,"",""]
[null,{"$f":"IF(COUNTIF(J39:J48,\"Cement Supplement Delivery to Silo\")>0,\"EP-3 Cement Supplement Silo Stack:\",\"\")","v":""},null,null,null,null,null,"","",null,null,null,"","",null,null,"Max Design Rate (acres/day)","Emission Factor   (lb/acre-day)","Potential Uncontrolled Emissions (lb/hr)","Potential Controlled Emissions (lb/hr)","Potential Annual Emissions (tons/yr)","Actual Annual Emissions (tons/yr)"]
[null,{"$f":"IF(COUNTIF(J39:J48,\"Weigh Hopper Loading\")>0,\"EP-4 Weigh Hopper Loading Stack:\",\"\")","v":""},null,null,null,null,null,"","",null,null,null,"","",null,"Storage Pile"]
[null,{"$f":"IF(COUNTIF(J39:J48,\"Truck Mix Loading\")>0,\"EP-5 Truck Mix Loading Stack:\",\"\")","v":""},null,null,null,null,null,null,null,null,null,null,null,null,null,"PM2.5/PM10",{"$f":"Q17","v":0},3.64,{"$f":"Q49*R49*(1/24)","v":0},null,{"$f":"Q49*R49*365/2000","v":0},{"$f":"R17*R49/2000","v":0}]
[null,{"$f":"IF(COUNTIF(J39:J48,\"Central Mix Loading\")>0,\"EP-6 Central Mix Loading Stack:\",\"\")","v":""},null,null,null,null,null,{"$f":"IF('Concrete Plant (CP-2)'!$D$4>1,\"Stock Pile Area\",\"\")","v":""}]
[null,null,null,null,null,null,null,null,{"$f":"IF('Concrete Plant (CP-2)'!$D$4>1,\"Emission Unit #\",\"\")","v":""},{"$f":"IF('Concrete Plant (CP-2)'!$D$4>1,\"Maximum Storage Area (acres)\",\"\")","v":""},{"$f":"IF('Concrete Plant (CP-2)'!$D$4>1,\"Actual Storage Area (acres)\",\"\")","v":""},{"$f":"IF('Concrete Plant (CP-2)'!$D$4>1,\"Actual Days in Existence (days)\",\"\")","v":""}]
[]
[]
[]
[null,{"$f":"IF('Concrete Plant (CP-2)'!$D$4>2,\"Batch Plant\",\"\")","v":""},{"$f":"IF('Concrete Plant (CP-2)'!$D$4>2,\"Site 3\",\"\")","v":""},null,null,null,null,{"$f":"IF('Concrete Plant (CP-2)'!$D$4>2,\"Emission Point #\",\"\")","v":""},{"$f":"IF('Concrete Plant (CP-2)'!$D$4>2,\"Emission     Unit #\",\"\")","v":""},{"$f":"IF('Concrete Plant (CP-2)'!$D$4>2,\"Processes\",\"\")","v":""},{"$f":"IF('Concrete Plant (CP-2)'!$D$4>2,\"Combined Maximum Hourly Design Rate for all Like Processes (cubic yard/hr)\",\"\")","v":""},{"$f":"IF('Concrete Plant (CP-2)'!$D$4>2,('Facility Information'!G5&\" Annual Throughput (cubic yards)\"),\"\")","v":""}]
[null,null,null,null,null,null,null,null,null,null,null,null,"Truck","Central"]
[null,{"$f":"IF('Concrete Plant (CP-2)'!$D$4>2,\"Site Name:\",\"\")","v":""},null,null,null,null,null,{"$f":"IF(J57=\"cement delivery to silo\",\"CP-1 EP-2\",IF(J57=\"cement supplement delivery to silo\",\"CP-1 EP-3\",IF(J57=\"weigh hopper loading\",\"CP-1 EP-4\",IF(J57=\"truck mix loading\",\"CP-1 EP-5\",IF(J57=\"central mix loading\",\"CP-1 EP-6\",IF(J57=\"\",\"\",\"CP-1 EP-1\"))))))","v":""},{"$f":"IF(J57=\"\",\"\",IF(J57=\"aggregate delivery to ground storage\",\"CP-2 EU-1\",IF(J57=\"sand delivery to ground storage\",\"CP-2 EU-2\",IF(J57=\"aggregate transfer to conveyor\",\"CP-2 EU-3\",IF(J57=\"sand transfer to conveyor\",\"CP-2 EU-4\",IF(J57=\"aggregate transfer to elevated storage\",\"CP-2 EU-5\",IF(J57=\"sand transfer to elevated storage\",\"CP-2 EU-6\",IF(J57=\"weigh hopper loading\",\"CP-2 EU-7\",IF(J57=\"central mix loading\",\"CP-2 EU-8\",IF(J57=\"truck mix loading\",\"CP-2 EU-9\",IF(J57=\"cement delivery to silo\",\"CP-2 EU-10\",IF(J57=\"cement supplement delivery to silo\",\"CP-2 EU-11\"))))))))))))","v":""},null,null,null,{"$f":"IF(J57=\"truck mix loading\",IF($F$60=\"yes\",L57*0.05/2000,L57/2000),\"\")","v":""},{"$f":"IF(J57=\"central mix loading\",IF($F$60=\"yes\",L57*0.05/2000,L57/2000),\"\")","v":""}]
[null,{"$f":"IF('Concrete Plant (CP-2)'!$D$4>2,\"County:\",\"\")","v":""},null,null,null,null,null,{"$f":"IF(J58=\"cement delivery to silo\",\"CP-1 EP-2\",IF(J58=\"cement supplement delivery to silo\",\"CP-1 EP-3\",IF(J58=\"weigh hopper loading\",\"CP-1 EP-4\",IF(J58=\"truck mix loading\",\"CP-1 EP-5\",IF(J58=\"central mix loading\",\"CP-1 EP-6\",IF(J58=\"\",\"\",\"CP-1 EP-1\"))))))","v":""},"",null,null,null,{"$f":"IF(J58=\"truck mix loading\",IF($F$60=\"yes\",L58*0.05/2000,L58/2000),\"\")","v":""},{"$f":"IF(J58=\"central mix loading\",IF($F$60=\"yes\",L58*0.05/2000,L58/2000),\"\")","v":""}]
[null,{"$f":"IF('Concrete Plant (CP-2)'!$D$4>2,\"Batching Period (Dates):\",\"\")","v":""},null,null,null,null,null,"","",null,null,null,"",""]
[null,{"$f":"IF(OR(COUNTIF(J57:J66,\"Truck Mix Loading\")>0,(COUNTIF(J57:J66,\"Central Mix Loading\")>0)),\"Is the Central/Truck Mix Loading process controlled by a baghouse?\",\"\")","v":""},null,null,null,null,null,"","",null,null,null,"",""]
[null,null,null,null,null,null,null,"","",null,null,null,"",""]
[null,{"$f":"IF(AND(B64=\"\",B65=\"\",B66=\"\",B67=\"\",B68=\"\"),\"\",\"Process (complete stack information if applicable):\")","v":""},{"$f":"IF(AND(B64=\"\",B65=\"\",B66=\"\",B67=\"\",B68=\"\"),\"\",\"Stack Height (ft):\")","v":""},{"$f":"IF(AND(B64=\"\",B65=\"\",B66=\"\",B67=\"\",B68=\"\"),\"\",\"Stack Diameter (inches):\")","v":""},{"$f":"IF(AND(B64=\"\",B65=\"\",B66=\"\",B67=\"\",B68=\"\"),\"\",\"Flow Rate (acfm):\")","v":""},{"$f":"IF(AND(B64=\"\",B65=\"\",B66=\"\",B67=\"\",B68=\"\"),\"\",\"Temperature (Deg F):\")","v":""},null,"","",null,null,null,"",""]
[null,null,null,null,null,null,null,"","",null,null,null,"",""]
[null,{"$f":"IF(COUNTIF(J57:J66,\"Cement Delivery to Silo\")>0,\"EP-2 Cement Silo Stack:\",\"\")","v":""},null,null,null,null,null,"","",null,null,null,"",""]
[null,{"$f":"IF(COUNTIF(J57:J66,\"Cement Supplement Delivery to Silo\")>0,\"EP-3 Cement Supplement Silo Stack:\",\"\")","v":""},null,null,null,null,null,"","",null,null,null,"",""]
[null,{"$f":"IF(COUNTIF(J57:J66,\"Weigh Hopper Loading\")>0,\"EP-4 Weigh Hopper Loading Stack:\",\"\")","v":""},null,null,null,null,null,"","",null,null,null,"",""]
[null,{"$f":"IF(COUNTIF(J57:J66,\"Truck Mix Loading\")>0,\"EP-5 Truck Mix Loading Stack:\",\"\")","v":""}]
[null,{"$f":"IF(COUNTIF(J57:J66,\"Central Mix Loading\")>0,\"EP-6 Central Mix Loading Stack:\",\"\")","v":""},null,null,null,null,null,{"$f":"IF('Concrete Plant (CP-2)'!$D$4>2,\"Stock Pile Area\",\"\")","v":""}]
[null,null,null,null,null,null,null,null,{"$f":"IF('Concrete Plant (CP-2)'!$D$4>2,\"Emission Unit #\",\"\")","v":""},{"$f":"IF('Concrete Plant (CP-2)'!$D$4>2,\"Maximum Storage Area (acres)\",\"\")","v":""},{"$f":"IF('Concrete Plant (CP-2)'!$D$4>2,\"Actual Storage Area (acres)\",\"\")","v":""},{"$f":"IF('Concrete Plant (CP-2)'!$D$4>2,\"Actual Days in Existence (days)\",\"\")","v":""}]
[]
[]
[]
[null,{"$f":"IF('Concrete Plant (CP-2)'!$D$4>3,\"Batch Plant\",\"\")","v":""},{"$f":"IF('Concrete Plant (CP-2)'!$D$4>3,\"Site 4\",\"\")","v":""},null,null,null,null,{"$f":"IF('Concrete Plant (CP-2)'!$D$4>3,\"Emission Point #\",\"\")","v":""},{"$f":"IF('Concrete Plant (CP-2)'!$D$4>3,\"Emission     Unit #\",\"\")","v":""},{"$f":"IF('Concrete Plant (CP-2)'!$D$4>3,\"Processes\",\"\")","v":""},{"$f":"IF('Concrete Plant (CP-2)'!$D$4>3,\"Combined Maximum Hourly Design Rate for all Like Processes (cubic yard/hr)\",\"\")","v":""},{"$f":"IF('Concrete Plant (CP-2)'!$D$4>3,('Facility Information'!G5&\" Annual Throughput (cubic yards)\"),\"\")","v":""}]
[null,null,null,null,null,null,null,null,null,null,null,null,"Truck","Central"]
[null,{"$f":"IF('Concrete Plant (CP-2)'!$D$4>3,\"Site Name:\",\"\")","v":""},null,null,null,null,null,{"$f":"IF(J75=\"cement delivery to silo\",\"CP-1 EP-2\",IF(J75=\"cement supplement delivery to silo\",\"CP-1 EP-3\",IF(J75=\"weigh hopper loading\",\"CP-1 EP-4\",IF(J75=\"truck mix loading\",\"CP-1 EP-5\",IF(J75=\"central mix loading\",\"CP-1 EP-6\",IF(J75=\"\",\"\",\"CP-1 EP-1\"))))))","v":""},{"$f":"IF(J75=\"\",\"\",IF(J75=\"aggregate delivery to ground storage\",\"CP-2 EU-1\",IF(J75=\"sand delivery to ground storage\",\"CP-2 EU-2\",IF(J75=\"aggregate transfer to conveyor\",\"CP-2 EU-3\",IF(J75=\"sand transfer to conveyor\",\"CP-2 EU-4\",IF(J75=\"aggregate transfer to elevated storage\",\"CP-2 EU-5\",IF(J75=\"sand transfer to elevated storage\",\"CP-2 EU-6\",IF(J75=\"weigh hopper loading\",\"CP-2 EU-7\",IF(J75=\"central mix loading\",\"CP-2 EU-8\",IF(J75=\"truck mix loading\",\"CP-2 EU-9\",IF(J75=\"cement delivery to silo\",\"CP-2 EU-10\",IF(J75=\"cement supplement delivery to silo\",\"CP-2 EU-11\"))))))))))))","v":""},null,null,null,{"$f":"IF(J75=\"truck mix loading\",IF($F$78=\"yes\",L75*0.05/2000,L75/2000),\"\")","v":""},{"$f":"IF(J75=\"central mix loading\",IF($F$78=\"yes\",L75*0.05/2000,L75/2000),\"\")","v":""}]
[null,{"$f":"IF('Concrete Plant (CP-2)'!$D$4>3,\"County:\",\"\")","v":""},null,null,null,null,null,{"$f":"IF(J76=\"cement delivery to silo\",\"CP-1 EP-2\",IF(J76=\"cement supplement delivery to silo\",\"CP-1 EP-3\",IF(J76=\"weigh hopper loading\",\"CP-1 EP-4\",IF(J76=\"truck mix loading\",\"CP-1 EP-5\",IF(J76=\"central mix loading\",\"CP-1 EP-6\",IF(J76=\"\",\"\",\"CP-1 EP-1\"))))))","v":""},"",null,null,null,{"$f":"IF(J76=\"truck mix loading\",IF($F$78=\"yes\",L76*0.05/2000,L76/2000),\"\")","v":""},{"$f":"IF(J76=\"central mix loading\",IF($F$78=\"yes\",L76*0.05/2000,L76/2000),\"\")","v":""}]
[null,{"$f":"IF('Concrete Plant (CP-2)'!$D$4>3,\"Batching Period (Dates):\",\"\")","v":""},null,null,null,null,null,"","",null,null,null,"",""]
[null,{"$f":"IF(OR(COUNTIF(J75:J84,\"Truck Mix Loading\")>0,(COUNTIF(J75:J84,\"Central Mix Loading\")>0)),\"Is the Central/Truck Mix Loading process controlled by a baghouse?\",\"\")","v":""},null,null,null,null,null,"","",null,null,null,"",""]
[null,null,null,null,null,null,null,"","",null,null,null,"",""]
[null,{"$f":"IF(AND(B82=\"\",B83=\"\",B84=\"\",B85=\"\",B86=\"\"),\"\",\"Process (complete stack information if applicable):\")","v":""},{"$f":"IF(AND(B82=\"\",B83=\"\",B84=\"\",B85=\"\",B86=\"\"),\"\",\"Stack Height (ft):\")","v":""},{"$f":"IF(AND(B82=\"\",B83=\"\",B84=\"\",B85=\"\",B86=\"\"),\"\",\"Stack Diameter (inches):\")","v":""},{"$f":"IF(AND(B82=\"\",B83=\"\",B84=\"\",B85=\"\",B86=\"\"),\"\",\"Flow Rate (acfm):\")","v":""},{"$f":"IF(AND(B82=\"\",B83=\"\",B84=\"\",B85=\"\",B86=\"\"),\"\",\"Temperature (Deg F):\")","v":""},null,"","",null,null,null,"",""]
[null,null,null,null,null,null,null,"","",null,null,null,"",""]
[null,{"$f":"IF(COUNTIF(J75:J84,\"Cement Delivery to Silo\")>0,\"EP-2 Cement Silo Stack:\",\"\")","v":""},null,null,null,null,null,"","",null,null,null,"",""]
[null,{"$f":"IF(COUNTIF(J75:J84,\"Cement Supplement Delivery to Silo\")>0,\"EP-3 Cement Supplement Silo Stack:\",\"\")","v":""},null,null,null,null,null,"","",null,null,null,"",""]
[null,{"$f":"IF(COUNTIF(J75:J84,\"Weigh Hopper Loading\")>0,\"EP-4 Weigh Hopper Loading Stack:\",\"\")","v":""},null,null,null,null,null,"","",null,null,null,"",""]
[null,{"$f":"IF(COUNTIF(J75:J84,\"Truck Mix Loading\")>0,\"EP-5 Truck Mix Loading Stack:\",\"\")","v":""}]
[null,{"$f":"IF(COUNTIF(J75:J84,\"Central Mix Loading\")>0,\"EP-6 Central Mix Loading Stack:\",\"\")","v":""},null,null,null,null,null,{"$f":"IF('Concrete Plant (CP-2)'!$D$4>3,\"Stock Pile Area\",\"\")","v":""}]
[null,null,null,null,null,null,null,null,{"$f":"IF('Concrete Plant (CP-2)'!$D$4>3,\"Emission Unit #\",\"\")","v":""},{"$f":"IF('Concrete Plant (CP-2)'!$D$4>3,\"Maximum Storage Area (acres)\",\"\")","v":""},{"$f":"IF('Concrete Plant (CP-2)'!$D$4>3,\"Actual Storage Area (acres)\",\"\")","v":""},{"$f":"IF('Concrete Plant (CP-2)'!$D$4>3,\"Actual Days in Existence (days)\",\"\")","v":""}]
[]
[]
[]
[null,{"$f":"IF('Concrete Plant (CP-2)'!$D$4>4,\"Batch Plant\",\"\")","v":""},{"$f":"IF('Concrete Plant (CP-2)'!$D$4>4,\"Site 5\",\"\")","v":""},null,null,null,null,{"$f":"IF('Concrete Plant (CP-2)'!$D$4>4,\"Emission Point #\",\"\")","v":""},{"$f":"IF('Concrete Plant (CP-2)'!$D$4>4,\"Emission     Unit #\",\"\")","v":""},{"$f":"IF('Concrete Plant (CP-2)'!$D$4>4,\"Processes\",\"\")","v":""},{"$f":"IF('Concrete Plant (CP-2)'!$D$4>4,\"Combined Maximum Hourly Design Rate for all Like Processes (cubic yard/hr)\",\"\")","v":""},{"$f":"IF('Concrete Plant (CP-2)'!$D$4>4,('Facility Information'!G5&\" Annual Throughput (cubic yards)\"),\"\")","v":""}]
[null,null,null,null,null,null,null,null,null,null,null,null,"Truck","Central"]
[null,{"$f":"IF('Concrete Plant (CP-2)'!$D$4>4,\"Site Name:\",\"\")","v":""},null,null,null,null,null,{"$f":"IF(J93=\"cement delivery to silo\",\"CP-1 EP-2\",IF(J93=\"cement supplement delivery to silo\",\"CP-1 EP-3\",IF(J93=\"weigh hopper loading\",\"CP-1 EP-4\",IF(J93=\"truck mix loading\",\"CP-1 EP-5\",IF(J93=\"central mix loading\",\"CP-1 EP-6\",IF(J93=\"\",\"\",\"CP-1 EP-1\"))))))","v":""},{"$f":"IF(J93=\"\",\"\",IF(J93=\"aggregate delivery to ground storage\",\"CP-2 EU-1\",IF(J93=\"sand delivery to ground storage\",\"CP-2 EU-2\",IF(J93=\"aggregate transfer to conveyor\",\"CP-2 EU-3\",IF(J93=\"sand transfer to conveyor\",\"CP-2 EU-4\",IF(J93=\"aggregate transfer to elevated storage\",\"CP-2 EU-5\",IF(J93=\"sand transfer to elevated storage\",\"CP-2 EU-6\",IF(J93=\"weigh hopper loading\",\"CP-2 EU-7\",IF(J93=\"central mix loading\",\"CP-2 EU-8\",IF(J93=\"truck mix loading\",\"CP-2 EU-9\",IF(J93=\"cement delivery to silo\",\"CP-2 EU-10\",IF(J93=\"cement supplement delivery to silo\",\"CP-2 EU-11\"))))))))))))","v":""},null,null,null,{"$f":"IF(J93=\"truck mix loading\",IF($F$96=\"yes\",L93*0.05/2000,L93/2000),\"\")","v":""},{"$f":"IF(J93=\"central mix loading\",IF($F$96=\"yes\",L93*0.05/2000,L93/2000),\"\")","v":""}]
[null,{"$f":"IF('Concrete Plant (CP-2)'!$D$4>4,\"County:\",\"\")","v":""},null,null,null,null,null,{"$f":"IF(J94=\"cement delivery to silo\",\"CP-1 EP-2\",IF(J94=\"cement supplement delivery to silo\",\"CP-1 EP-3\",IF(J94=\"weigh hopper loading\",\"CP-1 EP-4\",IF(J94=\"truck mix loading\",\"CP-1 EP-5\",IF(J94=\"central mix loading\",\"CP-1 EP-6\",IF(J94=\"\",\"\",\"CP-1 EP-1\"))))))","v":""},"",null,null,null,{"$f":"IF(J94=\"truck mix loading\",IF($F$96=\"yes\",L94*0.05/2000,L94/2000),\"\")","v":""},{"$f":"IF(J94=\"central mix loading\",IF($F$96=\"yes\",L94*0.05/2000,L94/2000),\"\")","v":""}]
[null,{"$f":"IF('Concrete Plant (CP-2)'!$D$4>4,\"Batching Period (Dates):\",\"\")","v":""},null,null,null,null,null,"","",null,null,null,"",""]
[null,{"$f":"IF(OR(COUNTIF(J93:J102,\"Truck Mix Loading\")>0,(COUNTIF(J93:J102,\"Central Mix Loading\")>0)),\"Is the Central/Truck Mix Loading process controlled by a baghouse?\",\"\")","v":""},null,null,null,null,null,"","",null,null,null,"",""]
[null,null,null,null,null,null,null,"","",null,null,null,"",""]
[null,{"$f":"IF(AND(B100=\"\",B101=\"\",B102=\"\",B103=\"\",B104=\"\"),\"\",\"Process (complete stack information if applicable):\")","v":""},{"$f":"IF(AND(B100=\"\",B101=\"\",B102=\"\",B103=\"\",B104=\"\"),\"\",\"Stack Height (ft):\")","v":""},{"$f":"IF(AND(B100=\"\",B101=\"\",B102=\"\",B103=\"\",B104=\"\"),\"\",\"Stack Diameter (inches):\")","v":""},{"$f":"IF(AND(B100=\"\",B101=\"\",B102=\"\",B103=\"\",B104=\"\"),\"\",\"Flow Rate (acfm):\")","v":""},{"$f":"IF(AND(B100=\"\",B101=\"\",B102=\"\",B103=\"\",B104=\"\"),\"\",\"Temperature (Deg F):\")","v":""},null,"","",null,null,null,"",""]
[null,null,null,null,null,null,null,"","",null,null,null,"",""]
[null,{"$f":"IF(COUNTIF(J93:J102,\"Cement Delivery to Silo\")>0,\"EP-2 Cement Silo Stack:\",\"\")","v":""},null,null,null,null,null,"","",null,null,null,"",""]
[null,{"$f":"IF(COUNTIF(J93:J102,\"Cement Supplement Delivery to Silo\")>0,\"EP-3 Cement Supplement Silo Stack:\",\"\")","v":""},null,null,null,null,null,"","",null,null,null,"",""]
[null,{"$f":"IF(COUNTIF(J93:J102,\"Weigh Hopper Loading\")>0,\"EP-4 Weigh Hopper Loading Stack:\",\"\")","v":""},null,null,null,null,null,"","",null,null,null,"",""]
[null,{"$f":"IF(COUNTIF(J93:J102,\"Truck Mix Loading\")>0,\"EP-5 Truck Mix Loading Stack:\",\"\")","v":""}]
[null,{"$f":"IF(COUNTIF(J93:J102,\"Central Mix Loading\")>0,\"EP-6 Central Mix Loading Stack:\",\"\")","v":""},null,null,null,null,null,{"$f":"IF('Concrete Plant (CP-2)'!$D$4>4,\"Stock Pile Area\",\"\")","v":""}]
[null,null,null,null,null,null,null,null,{"$f":"IF('Concrete Plant (CP-2)'!$D$4>4,\"Emission Unit #\",\"\")","v":""},{"$f":"IF('Concrete Plant (CP-2)'!$D$4>4,\"Maximum Storage Area (acres)\",\"\")","v":""},{"$f":"IF('Concrete Plant (CP-2)'!$D$4>4,\"Actual Storage Area (acres)\",\"\")","v":""},{"$f":"IF('Concrete Plant (CP-2)'!$D$4>4,\"Actual Days in Existence (days)\",\"\")","v":""}]
[]
[]
[]
[null,{"$f":"IF('Concrete Plant (CP-2)'!$D$4>5,\"Batch Plant\",\"\")","v":""},{"$f":"IF('Concrete Plant (CP-2)'!$D$4>5,\"Site 6\",\"\")","v":""},null,null,null,null,{"$f":"IF('Concrete Plant (CP-2)'!$D$4>5,\"Emission Point #\",\"\")","v":""},{"$f":"IF('Concrete Plant (CP-2)'!$D$4>5,\"Emission     Unit #\",\"\")","v":""},{"$f":"IF('Concrete Plant (CP-2)'!$D$4>5,\"Processes\",\"\")","v":""},{"$f":"IF('Concrete Plant (CP-2)'!$D$4>5,\"Combined Maximum Hourly Design Rate for all Like Processes (cubic yard/hr)\",\"\")","v":""},{"$f":"IF('Concrete Plant (CP-2)'!$D$4>5,('Facility Information'!G5&\" Annual Throughput (cubic yards)\"),\"\")","v":""}]
[null,null,null,null,null,null,null,null,null,null,null,null,"Truck","Central"]
[null,{"$f":"IF('Concrete Plant (CP-2)'!$D$4>5,\"Site Name:\",\"\")","v":""},null,null,null,null,null,{"$f":"IF(J111=\"cement delivery to silo\",\"CP-1 EP-2\",IF(J111=\"cement supplement delivery to silo\",\"CP-1 EP-3\",IF(J111=\"weigh hopper loading\",\"CP-1 EP-4\",IF(J111=\"truck mix loading\",\"CP-1 EP-5\",IF(J111=\"central mix loading\",\"CP-1 EP-6\",IF(J111=\"\",\"\",\"CP-1 EP-1\"))))))","v":""},{"$f":"IF(J111=\"\",\"\",IF(J111=\"aggregate delivery to ground storage\",\"CP-2 EU-1\",IF(J111=\"sand delivery to ground storage\",\"CP-2 EU-2\",IF(J111=\"aggregate transfer to conveyor\",\"CP-2 EU-3\",IF(J111=\"sand transfer to conveyor\",\"CP-2 EU-4\",IF(J111=\"aggregate transfer to elevated storage\",\"CP-2 EU-5\",IF(J111=\"sand transfer to elevated storage\",\"CP-2 EU-6\",IF(J111=\"weigh hopper loading\",\"CP-2 EU-7\",IF(J111=\"central mix loading\",\"CP-2 EU-8\",IF(J111=\"truck mix loading\",\"CP-2 EU-9\",IF(J111=\"cement delivery to silo\",\"CP-2 EU-10\",IF(J111=\"cement supplement delivery to silo\",\"CP-2 EU-11\"))))))))))))","v":""},null,null,null,{"$f":"IF(J111=\"truck mix loading\",IF($F$114=\"yes\",L111*0.05/2000,L111/2000),\"\")","v":""},{"$f":"IF(J111=\"central mix loading\",IF($F$114=\"yes\",L111*0.05/2000,L111/2000),\"\")","v":""}]
[null,{"$f":"IF('Concrete Plant (CP-2)'!$D$4>5,\"County:\",\"\")","v":""},null,null,null,null,null,{"$f":"IF(J112=\"cement delivery to silo\",\"CP-1 EP-2\",IF(J112=\"cement supplement delivery to silo\",\"CP-1 EP-3\",IF(J112=\"weigh hopper loading\",\"CP-1 EP-4\",IF(J112=\"truck mix loading\",\"CP-1 EP-5\",IF(J112=\"central mix loading\",\"CP-1 EP-6\",IF(J112=\"\",\"\",\"CP-1 EP-1\"))))))","v":""},"",null,null,null,{"$f":"IF(J112=\"truck mix loading\",IF($F$114=\"yes\",L112*0.05/2000,L112/2000),\"\")","v":""},{"$f":"IF(J112=\"central mix loading\",IF($F$114=\"yes\",L112*0.05/2000,L112/2000),\"\")","v":""}]
[null,{"$f":"IF('Concrete Plant (CP-2)'!$D$4>5,\"Batching Period (Dates):\",\"\")","v":""},null,null,null,null,null,"","",null,null,null,"",""]
[null,{"$f":"IF(OR(COUNTIF(J111:J120,\"Truck Mix Loading\")>0,(COUNTIF(J111:J120,\"Central Mix Loading\")>0)),\"Is the Central/Truck Mix Loading process controlled by a baghouse?\",\"\")","v":""},null,null,null,null,null,"","",null,null,null,"",""]
[null,null,null,null,null,null,null,"","",null,null,null,"",""]
[null,{"$f":"IF(AND(B118=\"\",B119=\"\",B120=\"\",B121=\"\",B122=\"\"),\"\",\"Process (complete stack information if applicable):\")","v":""},{"$f":"IF(AND(B118=\"\",B119=\"\",B120=\"\",B121=\"\",B122=\"\"),\"\",\"Stack Height (ft):\")","v":""},{"$f":"IF(AND(B118=\"\",B119=\"\",B120=\"\",B121=\"\",B122=\"\"),\"\",\"Stack Diameter (inches):\")","v":""},{"$f":"IF(AND(B118=\"\",B119=\"\",B120=\"\",B121=\"\",B122=\"\"),\"\",\"Flow Rate (acfm):\")","v":""},{"$f":"IF(AND(B118=\"\",B119=\"\",B120=\"\",B121=\"\",B122=\"\"),\"\",\"Temperature (Deg F):\")","v":""},null,"","",null,null,null,"",""]
[null,null,null,null,null,null,null,"","",null,null,null,"",""]
[null,{"$f":"IF(COUNTIF(J111:J120,\"Cement Delivery to Silo\")>0,\"EP-2 Cement Silo Stack:\",\"\")","v":""},null,null,null,null,null,"","",null,null,null,"",""]
[null,{"$f":"IF(COUNTIF(J111:J120,\"Cement Supplement Delivery to Silo\")>0,\"EP-3 Cement Supplement Silo Stack:\",\"\")","v":""},null,null,null,null,null,"","",null,null,null,"",""]
[null,{"$f":"IF(COUNTIF(J111:J120,\"Weigh Hopper Loading\")>0,\"EP-4 Weigh Hopper Loading Stack:\",\"\")","v":""},null,null,null,null,null,"","",null,null,null,"",""]
[null,{"$f":"IF(COUNTIF(J111:J120,\"Truck Mix Loading\")>0,\"EP-5 Truck Mix Loading Stack:\",\"\")","v":""}]
[null,{"$f":"IF(COUNTIF(J111:J120,\"Central Mix Loading\")>0,\"EP-6 Central Mix Loading Stack:\",\"\")","v":""},null,null,null,null,null,{"$f":"IF('Concrete Plant (CP-2)'!$D$4>5,\"Stock Pile Area\",\"\")","v":""}]
[null,null,null,null,null,null,null,null,{"$f":"IF('Concrete Plant (CP-2)'!$D$4>5,\"Emission Unit #\",\"\")","v":""},{"$f":"IF('Concrete Plant (CP-2)'!$D$4>5,\"Maximum Storage Area (acres)\",\"\")","v":""},{"$f":"IF('Concrete Plant (CP-2)'!$D$4>5,\"Actual Storage Area (acres)\",\"\")","v":""},{"$f":"IF('Concrete Plant (CP-2)'!$D$4>5,\"Actual Days in Existence (days)\",\"\")","v":""}]
[]
[]
[]
[null,{"$f":"IF('Concrete Plant (CP-2)'!$D$4>6,\"Batch Plant\",\"\")","v":""},{"$f":"IF('Concrete Plant (CP-2)'!$D$4>6,\"Site 7\",\"\")","v":""},null,null,null,null,{"$f":"IF('Concrete Plant (CP-2)'!$D$4>6,\"Emission Point #\",\"\")","v":""},{"$f":"IF('Concrete Plant (CP-2)'!$D$4>6,\"Emission     Unit #\",\"\")","v":""},{"$f":"IF('Concrete Plant (CP-2)'!$D$4>6,\"Processes\",\"\")","v":""},{"$f":"IF('Concrete Plant (CP-2)'!$D$4>6,\"Combined Maximum Hourly Design Rate for all Like Processes (cubic yard/hr)\",\"\")","v":""},{"$f":"IF('Concrete Plant (CP-2)'!$D$4>6,('Facility Information'!G5&\" Annual Throughput (cubic yards)\"),\"\")","v":""}]
[null,null,null,null,null,null,null,null,null,null,null,null,"Truck","Central"]
[null,{"$f":"IF('Concrete Plant (CP-2)'!$D$4>6,\"Site Name:\",\"\")","v":""},null,null,null,null,null,{"$f":"IF(J129=\"cement delivery to silo\",\"CP-1 EP-2\",IF(J129=\"cement supplement delivery to silo\",\"CP-1 EP-3\",IF(J129=\"weigh hopper loading\",\"CP-1 EP-4\",IF(J129=\"truck mix loading\",\"CP-1 EP-5\",IF(J129=\"central mix loading\",\"CP-1 EP-6\",IF(J129=\"\",\"\",\"CP-1 EP-1\"))))))","v":""},{"$f":"IF(J129=\"\",\"\",IF(J129=\"aggregate delivery to ground storage\",\"CP-2 EU-1\",IF(J129=\"sand delivery to ground storage\",\"CP-2 EU-2\",IF(J129=\"aggregate transfer to conveyor\",\"CP-2 EU-3\",IF(J129=\"sand transfer to conveyor\",\"CP-2 EU-4\",IF(J129=\"aggregate transfer to elevated storage\",\"CP-2 EU-5\",IF(J129=\"sand transfer to elevated storage\",\"CP-2 EU-6\",IF(J129=\"weigh hopper loading\",\"CP-2 EU-7\",IF(J129=\"central mix loading\",\"CP-2 EU-8\",IF(J129=\"truck mix loading\",\"CP-2 EU-9\",IF(J129=\"cement delivery to silo\",\"CP-2 EU-10\",IF(J129=\"cement supplement delivery to silo\",\"CP-2 EU-11\"))))))))))))","v":""},null,null,null,{"$f":"IF(J129=\"truck mix loading\",IF($F$132=\"yes\",L129*0.05/2000,L129/2000),\"\")","v":""},{"$f":"IF(J129=\"central mix loading\",IF($F$132=\"yes\",L129*0.05/2000,L129/2000),\"\")","v":""}]
[null,{"$f":"IF('Concrete Plant (CP-2)'!$D$4>6,\"County:\",\"\")","v":""},null,null,null,null,null,{"$f":"IF(J130=\"cement delivery to silo\",\"CP-1 EP-2\",IF(J130=\"cement supplement delivery to silo\",\"CP-1 EP-3\",IF(J130=\"weigh hopper loading\",\"CP-1 EP-4\",IF(J130=\"truck mix loading\",\"CP-1 EP-5\",IF(J130=\"central mix loading\",\"CP-1 EP-6\",IF(J130=\"\",\"\",\"CP-1 EP-1\"))))))","v":""},"",null,null,null,{"$f":"IF(J130=\"truck mix loading\",IF($F$132=\"yes\",L130*0.05/2000,L130/2000),\"\")","v":""},{"$f":"IF(J130=\"central mix loading\",IF($F$132=\"yes\",L130*0.05/2000,L130/2000),\"\")","v":""}]
[null,{"$f":"IF('Concrete Plant (CP-2)'!$D$4>6,\"Batching Period (Dates):\",\"\")","v":""},null,null,null,null,null,"","",null,null,null,"",""]
[null,{"$f":"IF(OR(COUNTIF(J129:J138,\"Truck Mix Loading\")>0,(COUNTIF(J129:J138,\"Central Mix Loading\")>0)),\"Is the Central/Truck Mix Loading process controlled by a baghouse?\",\"\")","v":""},null,null,null,null,null,"","",null,null,null,"",""]
[null,null,null,null,null,null,null,"","",null,null,null,"",""]
[null,{"$f":"IF(AND(B136=\"\",B137=\"\",B138=\"\",B139=\"\",B140=\"\"),\"\",\"Process (complete stack information if applicable):\")","v":""},{"$f":"IF(AND(B136=\"\",B137=\"\",B138=\"\",B139=\"\",B140=\"\"),\"\",\"Stack Height (ft):\")","v":""},{"$f":"IF(AND(B136=\"\",B137=\"\",B138=\"\",B139=\"\",B140=\"\"),\"\",\"Stack Diameter (inches):\")","v":""},{"$f":"IF(AND(B136=\"\",B137=\"\",B138=\"\",B139=\"\",B140=\"\"),\"\",\"Flow Rate (acfm):\")","v":""},{"$f":"IF(AND(B136=\"\",B137=\"\",B138=\"\",B139=\"\",B140=\"\"),\"\",\"Temperature (Deg F):\")","v":""},null,"","",null,null,null,"",""]
[null,null,null,null,null,null,null,"","",null,null,null,"",""]
[null,{"$f":"IF(COUNTIF(J129:J138,\"Cement Delivery to Silo\")>0,\"EP-2 Cement Silo Stack:\",\"\")","v":""},null,null,null,null,null,"","",null,null,null,"",""]
[null,{"$f":"IF(COUNTIF(J129:J138,\"Cement Supplement Delivery to Silo\")>0,\"EP-3 Cement Supplement Silo Stack:\",\"\")","v":""},null,null,null,null,null,"","",null,null,null,"",""]
[null,{"$f":"IF(COUNTIF(J129:J138,\"Weigh Hopper Loading\")>0,\"EP-4 Weigh Hopper Loading Stack:\",\"\")","v":""},null,null,null,null,null,"","",null,null,null,"",""]
[null,{"$f":"IF(COUNTIF(J129:J138,\"Truck Mix Loading\")>0,\"EP-5 Truck Mix Loading Stack:\",\"\")","v":""}]
[null,{"$f":"IF(COUNTIF(J129:J138,\"Central Mix Loading\")>0,\"EP-6 Central Mix Loading Stack:\",\"\")","v":""},null,null,null,null,null,{"$f":"IF('Concrete Plant (CP-2)'!$D$4>6,\"Stock Pile Area\",\"\")","v":""}]
[null,null,null,null,null,null,null,null,{"$f":"IF('Concrete Plant (CP-2)'!$D$4>6,\"Emission Unit #\",\"\")","v":""},{"$f":"IF('Concrete Plant (CP-2)'!$D$4>6,\"Maximum Storage Area (acres)\",\"\")","v":""},{"$f":"IF('Concrete Plant (CP-2)'!$D$4>6,\"Actual Storage Area (acres)\",\"\")","v":""},{"$f":"IF('Concrete Plant (CP-2)'!$D$4>6,\"Actual Days in Existence (days)\",\"\")","v":""}]
[]
[]
[]
[null,{"$f":"IF('Concrete Plant (CP-2)'!$D$4>7,\"Batch Plant\",\"\")","v":""},{"$f":"IF('Concrete Plant (CP-2)'!$D$4>7,\"Site 8\",\"\")","v":""},null,null,null,null,{"$f":"IF('Concrete Plant (CP-2)'!$D$4>7,\"Emission Point #\",\"\")","v":""},{"$f":"IF('Concrete Plant (CP-2)'!$D$4>7,\"Emission     Unit #\",\"\")","v":""},{"$f":"IF('Concrete Plant (CP-2)'!$D$4>7,\"Processes\",\"\")","v":""},{"$f":"IF('Concrete Plant (CP-2)'!$D$4>7,\"Combined Maximum Hourly Design Rate for all Like Processes (cubic yard/hr)\",\"\")","v":""},{"$f":"IF('Concrete Plant (CP-2)'!$D$4>7,('Facility Information'!G5&\" Annual Throughput (cubic yards)\"),\"\")","v":""}]
[null,null,null,null,null,null,null,null,null,null,null,null,"Truck","Central"]
[null,{"$f":"IF('Concrete Plant (CP-2)'!$D$4>7,\"Site Name:\",\"\")","v":""},null,null,null,null,null,{"$f":"IF(J147=\"cement delivery to silo\",\"CP-1 EP-2\",IF(J147=\"cement supplement delivery to silo\",\"CP-1 EP-3\",IF(J147=\"weigh hopper loading\",\"CP-1 EP-4\",IF(J147=\"truck mix loading\",\"CP-1 EP-5\",IF(J147=\"central mix loading\",\"CP-1 EP-6\",IF(J147=\"\",\"\",\"CP-1 EP-1\"))))))","v":""},{"$f":"IF(J147=\"\",\"\",IF(J147=\"aggregate delivery to ground storage\",\"CP-2 EU-1\",IF(J147=\"sand delivery to ground storage\",\"CP-2 EU-2\",IF(J147=\"aggregate transfer to conveyor\",\"CP-2 EU-3\",IF(J147=\"sand transfer to conveyor\",\"CP-2 EU-4\",IF(J147=\"aggregate transfer to elevated storage\",\"CP-2 EU-5\",IF(J147=\"sand transfer to elevated storage\",\"CP-2 EU-6\",IF(J147=\"weigh hopper loading\",\"CP-2 EU-7\",IF(J147=\"central mix loading\",\"CP-2 EU-8\",IF(J147=\"truck mix loading\",\"CP-2 EU-9\",IF(J147=\"cement delivery to silo\",\"CP-2 EU-10\",IF(J147=\"cement supplement delivery to silo\",\"CP-2 EU-11\"))))))))))))","v":""},null,null,null,{"$f":"IF(J147=\"truck mix loading\",IF($F$150=\"yes\",L147*0.05/2000,L147/2000),\"\")","v":""},{"$f":"IF(J147=\"central mix loading\",IF($F$150=\"yes\",L147*0.05/2000,L147/2000),\"\")","v":""}]
[null,{"$f":"IF('Concrete Plant (CP-2)'!$D$4>7,\"County:\",\"\")","v":""},null,null,null,null,null,{"$f":"IF(J148=\"cement delivery to silo\",\"CP-1 EP-2\",IF(J148=\"cement supplement delivery to silo\",\"CP-1 EP-3\",IF(J148=\"weigh hopper loading\",\"CP-1 EP-4\",IF(J148=\"truck mix loading\",\"CP-1 EP-5\",IF(J148=\"central mix loading\",\"CP-1 EP-6\",IF(J148=\"\",\"\",\"CP-1 EP-1\"))))))","v":""},"",null,null,null,{"$f":"IF(J148=\"truck mix loading\",IF($F$150=\"yes\",L148*0.05/2000,L148/2000),\"\")","v":""},{"$f":"IF(J148=\"central mix loading\",IF($F$150=\"yes\",L148*0.05/2000,L148/2000),\"\")","v":""}]
[null,{"$f":"IF('Concrete Plant (CP-2)'!$D$4>7,\"Batching Period (Dates):\",\"\")","v":""},null,null,null,null,null,"","",null,null,null,"",""]
[null,{"$f":"IF(OR(COUNTIF(J147:J156,\"Truck Mix Loading\")>0,(COUNTIF(J147:J156,\"Central Mix Loading\")>0)),\"Is the Central/Truck Mix Loading process controlled by a baghouse?\",\"\")","v":""},null,null,null,null,null,"","",null,null,null,"",""]
[null,null,null,null,null,null,null,"","",null,null,null,"",""]
[null,{"$f":"IF(AND(B154=\"\",B155=\"\",B156=\"\",B157=\"\",B158=\"\"),\"\",\"Process (complete stack information if applicable):\")","v":""},{"$f":"IF(AND(B154=\"\",B155=\"\",B156=\"\",B157=\"\",B158=\"\"),\"\",\"Stack Height (ft):\")","v":""},{"$f":"IF(AND(B154=\"\",B155=\"\",B156=\"\",B157=\"\",B158=\"\"),\"\",\"Stack Diameter (inches):\")","v":""},{"$f":"IF(AND(B154=\"\",B155=\"\",B156=\"\",B157=\"\",B158=\"\"),\"\",\"Flow Rate (acfm):\")","v":""},{"$f":"IF(AND(B154=\"\",B155=\"\",B156=\"\",B157=\"\",B158=\"\"),\"\",\"Temperature (Deg F):\")","v":""},null,"","",null,null,null,"",""]
[null,null,null,null,null,null,null,"","",null,null,null,"",""]
[null,{"$f":"IF(COUNTIF(J147:J156,\"Cement Delivery to Silo\")>0,\"EP-2 Cement Silo Stack:\",\"\")","v":""},null,null,null,null,null,"","",null,null,null,"",""]
[null,{"$f":"IF(COUNTIF(J147:J156,\"Cement Supplement Delivery to Silo\")>0,\"EP-3 Cement Supplement Silo Stack:\",\"\")","v":""},null,null,null,null,null,"","",null,null,null,"",""]
[null,{"$f":"IF(COUNTIF(J147:J156,\"Weigh Hopper Loading\")>0,\"EP-4 Weigh Hopper Loading Stack:\",\"\")","v":""},null,null,null,null,null,"","",null,null,null,"",""]
[null,{"$f":"IF(COUNTIF(J147:J156,\"Truck Mix Loading\")>0,\"EP-5 Truck Mix Loading Stack:\",\"\")","v":""}]
[null,{"$f":"IF(COUNTIF(J147:J156,\"Central Mix Loading\")>0,\"EP-6 Central Mix Loading Stack:\",\"\")","v":""},null,null,null,null,null,{"$f":"IF('Concrete Plant (CP-2)'!$D$4>7,\"Stock Pile Area\",\"\")","v":""}]
[null,null,null,null,null,null,null,null,{"$f":"IF('Concrete Plant (CP-2)'!$D$4>7,\"Emission Unit #\",\"\")","v":""},{"$f":"IF('Concrete Plant (CP-2)'!$D$4>7,\"Maximum Storage Area (acres)\",\"\")","v":""},{"$f":"IF('Concrete Plant (CP-2)'!$D$4>7,\"Actual Storage Area (acres)\",\"\")","v":""},{"$f":"IF('Concrete Plant (CP-2)'!$D$4>7,\"Actual Days in Existence (days)\",\"\")","v":""}]
[]
[]
[]
[null,{"$f":"IF('Concrete Plant (CP-2)'!$D$4>8,\"Batch Plant\",\"\")","v":""},{"$f":"IF('Concrete Plant (CP-2)'!$D$4>8,\"Site 9\",\"\")","v":""},null,null,null,null,{"$f":"IF('Concrete Plant (CP-2)'!$D$4>8,\"Emission Point #\",\"\")","v":""},{"$f":"IF('Concrete Plant (CP-2)'!$D$4>8,\"Emission     Unit #\",\"\")","v":""},{"$f":"IF('Concrete Plant (CP-2)'!$D$4>8,\"Processes\",\"\")","v":""},{"$f":"IF('Concrete Plant (CP-2)'!$D$4>8,\"Combined Maximum Hourly Design Rate for all Like Processes (cubic yard/hr)\",\"\")","v":""},{"$f":"IF('Concrete Plant (CP-2)'!$D$4>8,('Facility Information'!G5&\" Annual Throughput (cubic yards)\"),\"\")","v":""}]
[null,null,null,null,null,null,null,null,null,null,null,null,"Truck","Central"]
[null,{"$f":"IF('Concrete Plant (CP-2)'!$D$4>8,\"Site Name:\",\"\")","v":""},null,null,null,null,null,{"$f":"IF(J165=\"cement delivery to silo\",\"CP-1 EP-2\",IF(J165=\"cement supplement delivery to silo\",\"CP-1 EP-3\",IF(J165=\"weigh hopper loading\",\"CP-1 EP-4\",IF(J165=\"truck mix loading\",\"CP-1 EP-5\",IF(J165=\"central mix loading\",\"CP-1 EP-6\",IF(J165=\"\",\"\",\"CP-1 EP-1\"))))))","v":""},{"$f":"IF(J165=\"\",\"\",IF(J165=\"aggregate delivery to ground storage\",\"CP-2 EU-1\",IF(J165=\"sand delivery to ground storage\",\"CP-2 EU-2\",IF(J165=\"aggregate transfer to conveyor\",\"CP-2 EU-3\",IF(J165=\"sand transfer to conveyor\",\"CP-2 EU-4\",IF(J165=\"aggregate transfer to elevated storage\",\"CP-2 EU-5\",IF(J165=\"sand transfer to elevated storage\",\"CP-2 EU-6\",IF(J165=\"weigh hopper loading\",\"CP-2 EU-7\",IF(J165=\"central mix loading\",\"CP-2 EU-8\",IF(J165=\"truck mix loading\",\"CP-2 EU-9\",IF(J165=\"cement delivery to silo\",\"CP-2 EU-10\",IF(J165=\"cement supplement delivery to silo\",\"CP-2 EU-11\"))))))))))))","v":""},null,null,null,{"$f":"IF(J165=\"truck mix loading\",IF($F$168=\"yes\",L165*0.05/2000,L165/2000),\"\")","v":""},{"$f":"IF(J165=\"central mix loading\",IF($F$168=\"yes\",L165*0.05/2000,L165/2000),\"\")","v":""}]
[null,{"$f":"IF('Concrete Plant (CP-2)'!$D$4>8,\"County:\",\"\")","v":""},null,null,null,null,null,{"$f":"IF(J166=\"cement delivery to silo\",\"CP-1 EP-2\",IF(J166=\"cement supplement delivery to silo\",\"CP-1 EP-3\",IF(J166=\"weigh hopper loading\",\"CP-1 EP-4\",IF(J166=\"truck mix loading\",\"CP-1 EP-5\",IF(J166=\"central mix loading\",\"CP-1 EP-6\",IF(J166=\"\",\"\",\"CP-1 EP-1\"))))))","v":""},"",null,null,null,{"$f":"IF(J166=\"truck mix loading\",IF($F$168=\"yes\",L166*0.05/2000,L166/2000),\"\")","v":""},{"$f":"IF(J166=\"central mix loading\",IF($F$168=\"yes\",L166*0.05/2000,L166/2000),\"\")","v":""}]
[null,{"$f":"IF('Concrete Plant (CP-2)'!$D$4>8,\"Batching Period (Dates):\",\"\")","v":""},null,null,null,null,null,"","",null,null,null,"",""]
[null,{"$f":"IF(OR(COUNTIF(J165:J174,\"Truck Mix Loading\")>0,(COUNTIF(J165:J174,\"Central Mix Loading\")>0)),\"Is the Central/Truck Mix Loading process controlled by a baghouse?\",\"\")","v":""},null,null,null,null,null,"","",null,null,null,"",""]
[null,null,null,null,null,null,null,"","",null,null,null,"",""]
[null,{"$f":"IF(AND(B172=\"\",B173=\"\",B174=\"\",B175=\"\",B176=\"\"),\"\",\"Process (complete stack information if applicable):\")","v":""},{"$f":"IF(AND(B172=\"\",B173=\"\",B174=\"\",B175=\"\",B176=\"\"),\"\",\"Stack Height (ft):\")","v":""},{"$f":"IF(AND(B172=\"\",B173=\"\",B174=\"\",B175=\"\",B176=\"\"),\"\",\"Stack Diameter (inches):\")","v":""},{"$f":"IF(AND(B172=\"\",B173=\"\",B174=\"\",B175=\"\",B176=\"\"),\"\",\"Flow Rate (acfm):\")","v":""},{"$f":"IF(AND(B172=\"\",B173=\"\",B174=\"\",B175=\"\",B176=\"\"),\"\",\"Temperature (Deg F):\")","v":""},null,"","",null,null,null,"",""]
[null,null,null,null,null,null,null,"","",null,null,null,"",""]
[null,{"$f":"IF(COUNTIF(J165:J174,\"Cement Delivery to Silo\")>0,\"EP-2 Cement Silo Stack:\",\"\")","v":""},null,null,null,null,null,"","",null,null,null,"",""]
[null,{"$f":"IF(COUNTIF(J165:J174,\"Cement Supplement Delivery to Silo\")>0,\"EP-3 Cement Supplement Silo Stack:\",\"\")","v":""},null,null,null,null,null,"","",null,null,null,"",""]
[null,{"$f":"IF(COUNTIF(J165:J174,\"Weigh Hopper Loading\")>0,\"EP-4 Weigh Hopper Loading Stack:\",\"\")","v":""},null,null,null,null,null,"","",null,null,null,"",""]
[null,{"$f":"IF(COUNTIF(J165:J174,\"Truck Mix Loading\")>0,\"EP-5 Truck Mix Loading Stack:\",\"\")","v":""}]
[null,{"$f":"IF(COUNTIF(J165:J174,\"Central Mix Loading\")>0,\"EP-6 Central Mix Loading Stack:\",\"\")","v":""},null,null,null,null,null,{"$f":"IF('Concrete Plant (CP-2)'!$D$4>8,\"Stock Pile Area\",\"\")","v":""}]
[null,null,null,null,null,null,null,null,{"$f":"IF('Concrete Plant (CP-2)'!$D$4>8,\"Emission Unit #\",\"\")","v":""},{"$f":"IF('Concrete Plant (CP-2)'!$D$4>8,\"Maximum Storage Area (acres)\",\"\")","v":""},{"$f":"IF('Concrete Plant (CP-2)'!$D$4>8,\"Actual Storage Area (acres)\",\"\")","v":""},{"$f":"IF('Concrete Plant (CP-2)'!$D$4>8,\"Actual Days in Existence (days)\",\"\")","v":""}]
[]
[]
[]
[null,{"$f":"IF('Concrete Plant (CP-2)'!$D$4>9,\"Batch Plant\",\"\")","v":""},{"$f":"IF('Concrete Plant (CP-2)'!$D$4>9,\"Site 10\",\"\")","v":""},null,null,null,null,{"$f":"IF('Concrete Plant (CP-2)'!$D$4>9,\"Emission Point #\",\"\")","v":""},{"$f":"IF('Concrete Plant (CP-2)'!$D$4>9,\"Emission     Unit #\",\"\")","v":""},{"$f":"IF('Concrete Plant (CP-2)'!$D$4>9,\"Processes\",\"\")","v":""},{"$f":"IF('Concrete Plant (CP-2)'!$D$4>9,\"Combined Maximum Hourly Design Rate for all Like Processes (cubic yard/hr)\",\"\")","v":""},{"$f":"IF('Concrete Plant (CP-2)'!$D$4>9,('Facility Information'!G5&\" Annual Throughput (cubic yards)\"),\"\")","v":""}]
[null,null,null,null,null,null,null,null,null,null,null,null,"Truck","Central"]
[null,{"$f":"IF('Concrete Plant (CP-2)'!$D$4>9,\"Site Name:\",\"\")","v":""},null,null,null,null,null,{"$f":"IF(J183=\"cement delivery to silo\",\"CP-1 EP-2\",IF(J183=\"cement supplement delivery to silo\",\"CP-1 EP-3\",IF(J183=\"weigh hopper loading\",\"CP-1 EP-4\",IF(J183=\"truck mix loading\",\"CP-1 EP-5\",IF(J183=\"central mix loading\",\"CP-1 EP-6\",IF(J183=\"\",\"\",\"CP-1 EP-1\"))))))","v":""},{"$f":"IF(J183=\"\",\"\",IF(J183=\"aggregate delivery to ground storage\",\"CP-2 EU-1\",IF(J183=\"sand delivery to ground storage\",\"CP-2 EU-2\",IF(J183=\"aggregate transfer to conveyor\",\"CP-2 EU-3\",IF(J183=\"sand transfer to conveyor\",\"CP-2 EU-4\",IF(J183=\"aggregate transfer to elevated storage\",\"CP-2 EU-5\",IF(J183=\"sand transfer to elevated storage\",\"CP-2 EU-6\",IF(J183=\"weigh hopper loading\",\"CP-2 EU-7\",IF(J183=\"central mix loading\",\"CP-2 EU-8\",IF(J183=\"truck mix loading\",\"CP-2 EU-9\",IF(J183=\"cement delivery to silo\",\"CP-2 EU-10\",IF(J183=\"cement supplement delivery to silo\",\"CP-2 EU-11\"))))))))))))","v":""},null,null,null,{"$f":"IF(J183=\"truck mix loading\",IF($F$186=\"yes\",L183*0.05/2000,L183/2000),\"\")","v":""},{"$f":"IF(J183=\"central mix loading\",IF($F$186=\"yes\",L183*0.05/2000,L183/2000),\"\")","v":""}]
[null,{"$f":"IF('Concrete Plant (CP-2)'!$D$4>9,\"County:\",\"\")","v":""},null,null,null,null,null,{"$f":"IF(J184=\"cement delivery to silo\",\"CP-1 EP-2\",IF(J184=\"cement supplement delivery to silo\",\"CP-1 EP-3\",IF(J184=\"weigh hopper loading\",\"CP-1 EP-4\",IF(J184=\"truck mix loading\",\"CP-1 EP-5\",IF(J184=\"central mix loading\",\"CP-1 EP-6\",IF(J184=\"\",\"\",\"CP-1 EP-1\"))))))","v":""},"",null,null,null,{"$f":"IF(J184=\"truck mix loading\",IF($F$186=\"yes\",L184*0.05/2000,L184/2000),\"\")","v":""},{"$f":"IF(J184=\"central mix loading\",IF($F$186=\"yes\",L184*0.05/2000,L184/2000),\"\")","v":""}]
[null,{"$f":"IF('Concrete Plant (CP-2)'!$D$4>9,\"Batching Period (Dates):\",\"\")","v":""},null,null,null,null,null,"","",null,null,null,"",""]
[null,{"$f":"IF(OR(COUNTIF(J183:J192,\"Truck Mix Loading\")>0,(COUNTIF(J183:J192,\"Central Mix Loading\")>0)),\"Is the Central/Truck Mix Loading process controlled by a baghouse?\",\"\")","v":""},null,null,null,null,null,"","",null,null,null,"",""]
[null,null,null,null,null,null,null,"","",null,null,null,"",""]
[null,{"$f":"IF(AND(B190=\"\",B191=\"\",B192=\"\",B193=\"\",B194=\"\"),\"\",\"Process (complete stack information if applicable):\")","v":""},{"$f":"IF(AND(B190=\"\",B191=\"\",B192=\"\",B193=\"\",B194=\"\"),\"\",\"Stack Height (ft):\")","v":""},{"$f":"IF(AND(B190=\"\",B191=\"\",B192=\"\",B193=\"\",B194=\"\"),\"\",\"Stack Diameter (inches):\")","v":""},{"$f":"IF(AND(B190=\"\",B191=\"\",B192=\"\",B193=\"\",B194=\"\"),\"\",\"Flow Rate (acfm):\")","v":""},{"$f":"IF(AND(B190=\"\",B191=\"\",B192=\"\",B193=\"\",B194=\"\"),\"\",\"Temperature (Deg F):\")","v":""},null,"","",null,null,null,"",""]
[null,null,null,null,null,null,null,"","",null,null,null,"",""]
[null,{"$f":"IF(COUNTIF(J183:J192,\"Cement Delivery to Silo\")>0,\"EP-2 Cement Silo Stack:\",\"\")","v":""},null,null,null,null,null,"","",null,null,null,"",""]
[null,{"$f":"IF(COUNTIF(J183:J192,\"Cement Supplement Delivery to Silo\")>0,\"EP-3 Cement Supplement Silo Stack:\",\"\")","v":""},null,null,null,null,null,"","",null,null,null,"",""]
[null,{"$f":"IF(COUNTIF(J183:J192,\"Weigh Hopper Loading\")>0,\"EP-4 Weigh Hopper Loading Stack:\",\"\")","v":""},null,null,null,null,null,"","",null,null,null,"",""]
[null,{"$f":"IF(COUNTIF(J183:J192,\"Truck Mix Loading\")>0,\"EP-5 Truck Mix Loading Stack:\",\"\")","v":""}]
[null,{"$f":"IF(COUNTIF(J183:J192,\"Central Mix Loading\")>0,\"EP-6 Central Mix Loading Stack:\",\"\")","v":""},null,null,null,null,null,{"$f":"IF('Concrete Plant (CP-2)'!$D$4>9,\"Stock Pile Area\",\"\")","v":""}]
[null,null,null,null,null,null,null,null,{"$f":"IF('Concrete Plant (CP-2)'!$D$4>9,\"Emission Unit #\",\"\")","v":""},{"$f":"IF('Concrete Plant (CP-2)'!$D$4>9,\"Maximum Storage Area (acres)\",\"\")","v":""},{"$f":"IF('Concrete Plant (CP-2)'!$D$4>9,\"Actual Storage Area (acres)\",\"\")","v":""},{"$f":"IF('Concrete Plant (CP-2)'!$D$4>9,\"Actual Days in Existence (days)\",\"\")","v":""}]
[]
[]
[null,null,null,null,null,null,null,null,null,null,null,null,{"$f":"SUM(M183:M192,M165:M174,M147:M156,M129:M138,M111:M120,M93:M102,M75:M84,M57:M66,M39:M48,M21:M30)","v":0},{"$f":"SUM(N183:N192,N165:N174,N147:N156,N129:N138,N111:N120,N93:N102,N75:N84,N57:N66,N39:N48,N21:N30)","v":0}]

{"sheet":"Concrete Plant (CP-3)","index":3,"n_rows":198,"n_cols":23,"rows_kept":198,"cut":false,"hidden":true,"merged":[[3,18,4,20],[95,1,95,4],[113,1,113,4],[131,1,131,4],[149,1,149,4],[167,1,167,4],[185,1,185,4],[187,1,188,1],[187,2,188,2],[187,3,188,3],[187,4,188,4],[133,1,134,1],[133,2,134,2],[133,3,134,3],[133,4,134,4],[187,5,188,5],[169,1,170,1],[169,2,170,2],[169,3,170,3],[169,4,170,4],[169,5,170,5],[151,1,152,1],[151,2,152,2],[151,3,152,3],[151,4,152,4],[151,5,152,5],[133,5,134,5],[115,1,116,1],[115,2,116,2],[115,3,116,3],[115,4,116,4],[115,5,116,5],[97,1,98,1],[97,2,98,2],[97,3,98,3],[97,4,98,4],[97,5,98,5],[79,1,80,1],[79,2,80,2],[79,3,80,3],[79,4,80,4],[79,5,80,5],[25,5,26,5],[61,1,62,1],[61,2,62,2],[61,3,62,3],[61,4,62,4],[61,5,62,5],[43,1,44,1],[43,2,44,2],[43,3,44,3],[43,4,44,4],[43,5,44,5],[74,2,74,4],[75,2,75,4],[76,2,76,4],[41,1,41,4],[59,1,59,4],[77,1,77,4],[20,2,20,4],[25,1,26,1],[25,2,26,2],[25,3,26,3],[25,4,26,4],[40,2,40,4],[39,2,39,4],[38,2,38,4],[22,2,22,4],[21,2,21,4],[23,1,23,4],[2,17,3,17],[20,16,21,16],[11,1,13,4],[182,2,182,4],[183,2,183,4],[184,2,184,4],[166,2,166,4],[165,2,165,4],[164,2,164,4],[148,2,148,4],[147,2,147,4],[146,2,146,4],[128,2,128,4],[129,2,129,4],[130,2,130,4],[110,2,110,4],[111,2,111,4],[112,2,112,4],[92,2,92,4],[93,2,93,4],[94,2,94,4],[56,2,56,4],[57,2,57,4],[58,2,58,4],[0,1,0,2],[1,10,1,11],[2,15,3,15],[2,16,3,16],[18,7,19,7],[18,8,19,8],[18,9,19,9],[18,10,19,10],[18,11,19,11],[1,1,1,4],[5,2,5,3],[10,3,10,4],[8,3,8,4],[9,3,9,4],[10,1,10,2],[9,1,9,2],[8,1,8,2],[36,7,37,7],[36,8,37,8],[36,9,37,9],[36,10,37,10],[36,11,37,11],[46,21,47,21],[20,17,21,17],[20,18,21,18],[20,19,21,19],[20,20,21,20],[20,21,21,21],[46,16,47,16],[46,17,47,17],[46,18,47,18],[46,19,47,19],[46,20,47,20],[72,7,73,7],[72,8,73,8],[72,9,73,9],[72,10,73,10],[72,11,73,11],[54,7,55,7],[54,8,55,8],[54,9,55,9],[54,10,55,10],[54,11,55,11],[108,7,109,7],[108,8,109,8],[108,9,109,9],[108,10,109,10],[108,11,109,11],[90,7,91,7],[90,8,91,8],[90,9,91,9],[90,10,91,10],[90,11,91,11],[144,7,145,7],[144,8,145,8],[144,9,145,9],[144,10,145,10],[144,11,145,11],[126,7,127,7],[126,8,127,8],[126,9,127,9],[126,10,127,10],[126,11,127,11],[180,7,181,7],[180,8,181,8],[180,9,181,9],[180,10,181,10],[180,11,181,11],[162,7,163,7],[162,8,163,8],[162,9,163,9],[162,10,163,10],[162,11,163,11]]}
[null,"CONCRETE BATCH PLANT (CP-3)"]
[null,"Please fill in the yellow boxes as applicable for your facility. ",null,null,null,null,null,null,null,null,"Values used for calculating emissions →",null,null,null,null,"Values Used to Calculate Potential and Actual Emissions for the Listed Processes at this Plant"]
[null,null,null,null,null,null,null,null,null,null,null,null,null,null,null,"Process","Maximum Design Rate (cubic yards/hr)","Actual throughput (cubic yards/yr)"]
[null,{"$f":"\"Number of Sites this Plant operated at in \"&'Facility Information'!G5&\":\"","v":"Number of Sites this Plant operated at in :"},null,null,null,null,null,null,null,null,null,null,null,null,null,null,null,null,"** As of 2016 Potential Emissions are no longer required to be reported in the Minor Source Emissions Inventory**"]
[null,null,null,null,null,null,null,null,null,null,null,null,null,null,null,"Aggregate Delivery to Ground Storage",{"$f":"MAX((IFERROR(OFFSET($J$20,MATCH(\"Aggregate Delivery to Ground Storage\",$J$21:$J$30,0),1),0)),((IFERROR((OFFSET($J$38,MATCH(\"Aggregate Delivery to Ground Storage\",$J$39:$J$48,0),1)),0))),((IFERROR((OFFSET($J$56,MATCH(\"Aggregate Delivery to Ground Storage\",$J$57:$J$66,0),1)),0))),((IFERROR((OFFSET($J$74,MATCH(\"Aggregate Delivery to Ground Storage\",$J$75:$J$84,0),1)),0))),((IFERROR((OFFSET($J$92,MATCH(\"Aggregate Delivery to Ground Storage\",$J$93:$J$102,0),1)),0))),((IFERROR((OFFSET($J$110,MATCH(\"Aggregate Delivery to Ground Storage\",$J$111:$J$120,0),1)),0))),((IFERROR((OFFSET($J$128,MATCH(\"Aggregate Delivery to Ground Storage\",$J$129:$J$138,0),1)),0))),((IFERROR((OFFSET($J$146,MATCH(\"Aggregate Delivery to Ground Storage\",$J$147:$J$156,0),1)),0))),((IFERROR((OFFSET($J$164,MATCH(\"Aggregate Delivery to Ground Storage\",$J$165:$J$174,0),1)),0))),((IFERROR((OFFSET($J$181,MATCH(\"Aggregate Delivery to Ground Storage\",$J$183:$J$192,0),1)),0))),)","v":0},{"$f":"SUM((IFERROR(OFFSET($J$20,MATCH(\"Aggregate Delivery to Ground Storage\",$J$21:$J$30,0),2),0)),((IFERROR((OFFSET($J$38,MATCH(\"Aggregate Delivery to Ground Storage\",$J$39:$J$48,0),2)),0))),((IFERROR((OFFSET($J$56,MATCH(\"Aggregate Delivery to Ground Storage\",$J$57:$J$66,0),2)),0))),((IFERROR((OFFSET($J$74,MATCH(\"Aggregate Delivery to Ground Storage\",$J$75:$J$84,0),2)),0))),((IFERROR((OFFSET($J$92,MATCH(\"Aggregate Delivery to Ground Storage\",$J$93:$J$102,0),2)),0))),((IFERROR((OFFSET($J$110,MATCH(\"Aggregate Delivery to Ground Storage\",$J$111:$J$120,0),2)),0))),((IFERROR((OFFSET($J$128,MATCH(\"Aggregate Delivery to Ground Storage\",$J$129:$J$138,0),2)),0))),((IFERROR((OFFSET($J$146,MATCH(\"Aggregate Delivery to Ground Storage\",$J$147:$J$156,0),2)),0))),((IFERROR((OFFSET($J$164,MATCH(\"Aggregate Delivery to Ground Storage\",$J$165:$J$174,0),2)),0))),((IFERROR((OFFSET($J$181,MATCH(\"Aggregate Delivery to Ground Storage\",$J$183:$J$192,0),2)),0))))","v":0}]
[null,"Plant Specific Permit Number: ",null,null,null,null,null,null,null,null,null,null,null,null,null,"Sand Delivery to Ground Storage",{"$f":"MAX((IFERROR(OFFSET($J$20,MATCH(\"Sand Delivery to Ground Storage\",$J$21:$J$30,0),1),0)),((IFERROR((OFFSET($J$38,MATCH(\"Sand Delivery to Ground Storage\",$J$39:$J$48,0),1)),0))),((IFERROR((OFFSET($J$56,MATCH(\"Sand Delivery to Ground Storage\",$J$57:$J$66,0),1)),0))),((IFERROR((OFFSET($J$74,MATCH(\"Sand Delivery to Ground Storage\",$J$75:$J$84,0),1)),0))),((IFERROR((OFFSET($J$92,MATCH(\"Sand Delivery to Ground Storage\",$J$93:$J$102,0),1)),0))),((IFERROR((OFFSET($J$110,MATCH(\"Sand Delivery to Ground Storage\",$J$111:$J$120,0),1)),0))),((IFERROR((OFFSET($J$128,MATCH(\"Sand Delivery to Ground Storage\",$J$129:$J$138,0),1)),0))),((IFERROR((OFFSET($J$146,MATCH(\"Sand Delivery to Ground Storage\",$J$147:$J$156,0),1)),0))),((IFERROR((OFFSET($J$164,MATCH(\"Sand Delivery to Ground Storage\",$J$165:$J$174,0),1)),0))),((IFERROR((OFFSET($J$181,MATCH(\"Sand Delivery to Ground Storage\",$J$183:$J$192,0),1)),0))),)","v":0},{"$f":"SUM((IFERROR(OFFSET($J$20,MATCH(\"Sand Delivery to Ground Storage\",$J$21:$J$30,0),2),0)),((IFERROR((OFFSET($J$38,MATCH(\"Sand Delivery to Ground Storage\",$J$39:$J$48,0),2)),0))),((IFERROR((OFFSET($J$56,MATCH(\"Sand Delivery to Ground Storage\",$J$57:$J$66,0),2)),0))),((IFERROR((OFFSET($J$74,MATCH(\"Sand Delivery to Ground Storage\",$J$75:$J$84,0),2)),0))),((IFERROR((OFFSET($J$92,MATCH(\"Sand Delivery to Ground Storage\",$J$93:$J$102,0),2)),0))),((IFERROR((OFFSET($J$110,MATCH(\"Sand Delivery to Ground Storage\",$J$111:$J$120,0),2)),0))),((IFERROR((OFFSET($J$128,MATCH(\"Sand Delivery to Ground Storage\",$J$129:$J$138,0),2)),0))),((IFERROR((OFFSET($J$146,MATCH(\"Sand Delivery to Ground Storage\",$J$147:$J$156,0),2)),0))),((IFERROR((OFFSET($J$164,MATCH(\"Sand Delivery to Ground Storage\",$J$165:$J$174,0),2)),0))),((IFERROR((OFFSET($J$181,MATCH(\"Sand Delivery to Ground Storage\",$J$183:$J$192,0),2)),0))))","v":0}]
[null,null,null,null,null,null,null,null,null,null,null,null,null,null,null,"Aggregate Transfer to Conveyor",{"$f":"MAX((IFERROR(OFFSET($J$20,MATCH(\"Aggregate Transfer to Conveyor\",$J$21:$J$30,0),1),0)),((IFERROR((OFFSET($J$38,MATCH(\"Aggregate Transfer to Conveyor\",$J$39:$J$48,0),1)),0))),((IFERROR((OFFSET($J$56,MATCH(\"Aggregate Transfer to Conveyor\",$J$57:$J$66,0),1)),0))),((IFERROR((OFFSET($J$74,MATCH(\"Aggregate Transfer to Conveyor\",$J$75:$J$84,0),1)),0))),((IFERROR((OFFSET($J$92,MATCH(\"Aggregate Transfer to Conveyor\",$J$93:$J$102,0),1)),0))),((IFERROR((OFFSET($J$110,MATCH(\"Aggregate Transfer to Conveyor\",$J$111:$J$120,0),1)),0))),((IFERROR((OFFSET($J$128,MATCH(\"Aggregate Transfer to Conveyor\",$J$129:$J$138,0),1)),0))),((IFERROR((OFFSET($J$146,MATCH(\"Aggregate Transfer to Conveyor\",$J$147:$J$156,0),1)),0))),((IFERROR((OFFSET($J$164,MATCH(\"Aggregate Transfer to Conveyor\",$J$165:$J$174,0),1)),0))),((IFERROR((OFFSET($J$181,MATCH(\"Aggregate Transfer to Conveyor\",$J$183:$J$192,0),1)),0))),)","v":0},{"$f":"SUM((IFERROR(OFFSET($J$20,MATCH(\"Aggregate Transfer to Conveyor\",$J$21:$J$30,0),2),0)),((IFERROR((OFFSET($J$38,MATCH(\"Aggregate Transfer to Conveyor\",$J$39:$J$48,0),2)),0))),((IFERROR((OFFSET($J$56,MATCH(\"Aggregate Transfer to Conveyor\",$J$57:$J$66,0),2)),0))),((IFERROR((OFFSET($J$74,MATCH(\"Aggregate Transfer to Conveyor\",$J$75:$J$84,0),2)),0))),((IFERROR((OFFSET($J$92,MATCH(\"Aggregate Transfer to Conveyor\",$J$93:$J$102,0),2)),0))),((IFERROR((OFFSET($J$110,MATCH(\"Aggregate Transfer to Conveyor\",$J$111:$J$120,0),2)),0))),((IFERROR((OFFSET($J$128,MATCH(\"Aggregate Transfer to Conveyor\",$J$129:$J$138,0),2)),0))),((IFERROR((OFFSET($J$146,MATCH(\"Aggregate Transfer to Conveyor\",$J$147:$J$156,0),2)),0))),((IFERROR((OFFSET($J$164,MATCH(\"Aggregate Transfer to Conveyor\",$J$165:$J$174,0),2)),0))),((IFERROR((OFFSET($J$181,MATCH(\"Aggregate Transfer to Conveyor\",$J$183:$J$192,0),2)),0))))","v":0}]
[null,"Plant Specific Operating Limits:",null,null,null,null,null,"Plant Specific Emission Limits:",null,null,null,null,null,null,null,"Sand Transfer to Conveyor",{"$f":"MAX((IFERROR(OFFSET($J$20,MATCH(\"Sand Transfer to Conveyor\",$J$21:$J$30,0),1),0)),((IFERROR((OFFSET($J$38,MATCH(\"Sand Transfer to Conveyor\",$J$39:$J$48,0),1)),0))),((IFERROR((OFFSET($J$56,MATCH(\"Sand Transfer to Conveyor\",$J$57:$J$66,0),1)),0))),((IFERROR((OFFSET($J$74,MATCH(\"Sand Transfer to Conveyor\",$J$75:$J$84,0),1)),0))),((IFERROR((OFFSET($J$92,MATCH(\"Sand Transfer to Conveyor\",$J$93:$J$102,0),1)),0))),((IFERROR((OFFSET($J$110,MATCH(\"Sand Transfer to Conveyor\",$J$111:$J$120,0),1)),0))),((IFERROR((OFFSET($J$128,MATCH(\"Sand Transfer to Conveyor\",$J$129:$J$138,0),1)),0))),((IFERROR((OFFSET($J$146,MATCH(\"Sand Transfer to Conveyor\",$J$147:$J$156,0),1)),0))),((IFERROR((OFFSET($J$164,MATCH(\"Sand Transfer to Conveyor\",$J$165:$J$174,0),1)),0))),((IFERROR((OFFSET($J$181,MATCH(\"Sand Transfer to Conveyor\",$J$183:$J$192,0),1)),0))),)","v":0},{"$f":"SUM((IFERROR(OFFSET($J$20,MATCH(\"Sand Transfer to Conveyor\",$J$21:$J$30,0),2),0)),((IFERROR((OFFSET($J$38,MATCH(\"Sand Transfer to Conveyor\",$J$39:$J$48,0),2)),0))),((IFERROR((OFFSET($J$56,MATCH(\"Sand Transfer to Conveyor\",$J$57:$J$66,0),2)),0))),((IFERROR((OFFSET($J$74,MATCH(\"Sand Transfer to Conveyor\",$J$75:$J$84,0),2)),0))),((IFERROR((OFFSET($J$92,MATCH(\"Sand Transfer to Conveyor\",$J$93:$J$102,0),2)),0))),((IFERROR((OFFSET($J$110,MATCH(\"Sand Transfer to Conveyor\",$J$111:$J$120,0),2)),0))),((IFERROR((OFFSET($J$128,MATCH(\"Sand Transfer to Conveyor\",$J$129:$J$138,0),2)),0))),((IFERROR((OFFSET($J$146,MATCH(\"Sand Transfer to Conveyor\",$J$147:$J$156,0),2)),0))),((IFERROR((OFFSET($J$164,MATCH(\"Sand Transfer to Conveyor\",$J$165:$J$174,0),2)),0))),((IFERROR((OFFSET($J$181,MATCH(\"Sand Transfer to Conveyor\",$J$183:$J$192,0),2)),0))))","v":0}]
[null,"Throughput Limit (cubic yards/yr):",null,null,null,null,null,"Pollutant","lb/hr","tons/yr",null,null,null,null,null,"Aggregate Transfer to Elevated Storage",{"$f":"MAX((IFERROR(OFFSET($J$20,MATCH(\"Aggregate Transfer to Elevated Storage\",$J$21:$J$30,0),1),0)),((IFERROR((OFFSET($J$38,MATCH(\"Aggregate Transfer to Elevated Storage\",$J$39:$J$48,0),1)),0))),((IFERROR((OFFSET($J$56,MATCH(\"Aggregate Transfer to Elevated Storage\",$J$57:$J$66,0),1)),0))),((IFERROR((OFFSET($J$74,MATCH(\"Aggregate Transfer to Elevated Storage\",$J$75:$J$84,0),1)),0))),((IFERROR((OFFSET($J$92,MATCH(\"Aggregate Transfer to Elevated Storage\",$J$93:$J$102,0),1)),0))),((IFERROR((OFFSET($J$110,MATCH(\"Aggregate Transfer to Elevated Storage\",$J$111:$J$120,0),1)),0))),((IFERROR((OFFSET($J$128,MATCH(\"Aggregate Transfer to Elevated Storage\",$J$129:$J$138,0),1)),0))),((IFERROR((OFFSET($J$146,MATCH(\"Aggregate Transfer to Elevated Storage\",$J$147:$J$156,0),1)),0))),((IFERROR((OFFSET($J$164,MATCH(\"Aggregate Transfer to Elevated Storage\",$J$165:$J$174,0),1)),0))),((IFERROR((OFFSET($J$181,MATCH(\"Aggregate Transfer to Elevated Storage\",$J$183:$J$192,0),1)),0))),)","v":0},{"$f":"SUM((IFERROR(OFFSET($J$20,MATCH(\"Aggregate Transfer to Elevated Storage\",$J$21:$J$30,0),2),0)),((IFERROR((OFFSET($J$38,MATCH(\"Aggregate Transfer to Elevated Storage\",$J$39:$J$48,0),2)),0))),((IFERROR((OFFSET($J$56,MATCH(\"Aggregate Transfer to Elevated Storage\",$J$57:$J$66,0),2)),0))),((IFERROR((OFFSET($J$74,MATCH(\"Aggregate Transfer to Elevated Storage\",$J$75:$J$84,0),2)),0))),((IFERROR((OFFSET($J$92,MATCH(\"Aggregate Transfer to Elevated Storage\",$J$93:$J$102,0),2)),0))),((IFERROR((OFFSET($J$110,MATCH(\"Aggregate Transfer to Elevated Storage\",$J$111:$J$120,0),2)),0))),((IFERROR((OFFSET($J$128,MATCH(\"Aggregate Transfer to Elevated Storage\",$J$129:$J$138,0),2)),0))),((IFERROR((OFFSET($J$146,MATCH(\"Aggregate Transfer to Elevated Storage\",$J$147:$J$156,0),2)),0))),((IFERROR((OFFSET($J$164,MATCH(\"Aggregate Transfer to Elevated Storage\",$J$165:$J$174,0),2)),0))),((IFERROR((OFFSET($J$181,MATCH(\"Aggregate Transfer to Elevated Storage\",$J$183:$J$192,0),2)),0))))","v":0}]
[null,"Daily Throughput Limit (cubic yards/day):",null,null,null,null,null,"PM2.5",null,null,null,null,null,null,null,"Sand Transfer to Elevated Storage",{"$f":"MAX((IFERROR(OFFSET($J$20,MATCH(\"Sand Transfer to Elevated Storage\",$J$21:$J$30,0),1),0)),((IFERROR((OFFSET($J$38,MATCH(\"Sand Transfer to Elevated Storage\",$J$39:$J$48,0),1)),0))),((IFERROR((OFFSET($J$56,MATCH(\"Sand Transfer to Elevated Storage\",$J$57:$J$66,0),1)),0))),((IFERROR((OFFSET($J$74,MATCH(\"Sand Transfer to Elevated Storage\",$J$75:$J$84,0),1)),0))),((IFERROR((OFFSET($J$92,MATCH(\"Sand Transfer to Elevated Storage\",$J$93:$J$102,0),1)),0))),((IFERROR((OFFSET($J$110,MATCH(\"Sand Transfer to Elevated Storage\",$J$111:$J$120,0),1)),0))),((IFERROR((OFFSET($J$128,MATCH(\"Sand Transfer to Elevated Storage\",$J$129:$J$138,0),1)),0))),((IFERROR((OFFSET($J$146,MATCH(\"Sand Transfer to Elevated Storage\",$J$147:$J$156,0),1)),0))),((IFERROR((OFFSET($J$164,MATCH(\"Sand Transfer to Elevated Storage\",$J$165:$J$174,0),1)),0))),((IFERROR((OFFSET($J$181,MATCH(\"Sand Transfer to Elevated Storage\",$J$183:$J$192,0),1)),0))),)","v":0},{"$f":"SUM((IFERROR(OFFSET($J$20,MATCH(\"Sand Transfer to Elevated Storage\",$J$21:$J$30,0),2),0)),((IFERROR((OFFSET($J$38,MATCH(\"Sand Transfer to Elevated Storage\",$J$39:$J$48,0),2)),0))),((IFERROR((OFFSET($J$56,MATCH(\"Sand Transfer to Elevated Storage\",$J$57:$J$66,0),2)),0))),((IFERROR((OFFSET($J$74,MATCH(\"Sand Transfer to Elevated Storage\",$J$75:$J$84,0),2)),0))),((IFERROR((OFFSET($J$92,MATCH(\"Sand Transfer to Elevated Storage\",$J$93:$J$102,0),2)),0))),((IFERROR((OFFSET($J$110,MATCH(\"Sand Transfer to Elevated Storage\",$J$111:$J$120,0),2)),0))),((IFERROR((OFFSET($J$128,MATCH(\"Sand Transfer to Elevated Storage\",$J$129:$J$138,0),2)),0))),((IFERROR((OFFSET($J$146,MATCH(\"Sand Transfer to Elevated Storage\",$J$147:$J$156,0),2)),0))),((IFERROR((OFFSET($J$164,MATCH(\"Sand Transfer to Elevated Storage\",$J$165:$J$174,0),2)),0))),((IFERROR((OFFSET($J$181,MATCH(\"Sand Transfer to Elevated Storage\",$J$183:$J$192,0),2)),0))))","v":0}]
[null,"Hours of Operation Limit (hours/day):",null,null,null,null,null,"PM10",null,null,null,null,null,null,null,"Weigh Hopper Loading",{"$f":"MAX((IFERROR(OFFSET($J$20,MATCH(\"Weigh Hopper Loading\",$J$21:$J$30,0),1),0)),((IFERROR((OFFSET($J$38,MATCH(\"Weigh Hopper Loading\",$J$39:$J$48,0),1)),0))),((IFERROR((OFFSET($J$56,MATCH(\"Weigh Hopper Loading\",$J$57:$J$66,0),1)),0))),((IFERROR((OFFSET($J$74,MATCH(\"Weigh Hopper Loading\",$J$75:$J$84,0),1)),0))),((IFERROR((OFFSET($J$92,MATCH(\"Weigh Hopper Loading\",$J$93:$J$102,0),1)),0))),((IFERROR((OFFSET($J$110,MATCH(\"Weigh Hopper Loading\",$J$111:$J$120,0),1)),0))),((IFERROR((OFFSET($J$128,MATCH(\"Weigh Hopper Loading\",$J$129:$J$138,0),1)),0))),((IFERROR((OFFSET($J$146,MATCH(\"Weigh Hopper Loading\",$J$147:$J$156,0),1)),0))),((IFERROR((OFFSET($J$164,MATCH(\"Weigh Hopper Loading\",$J$165:$J$174,0),1)),0))),((IFERROR((OFFSET($J$181,MATCH(\"Weigh Hopper Loading\",$J$183:$J$192,0),1)),0))),)","v":0},{"$f":"SUM((IFERROR(OFFSET($J$20,MATCH(\"Weigh Hopper Loading\",$J$21:$J$30,0),2),0)),((IFERROR((OFFSET($J$38,MATCH(\"Weigh Hopper Loading\",$J$39:$J$48,0),2)),0))),((IFERROR((OFFSET($J$56,MATCH(\"Weigh Hopper Loading\",$J$57:$J$66,0),2)),0))),((IFERROR((OFFSET($J$74,MATCH(\"Weigh Hopper Loading\",$J$75:$J$84,0),2)),0))),((IFERROR((OFFSET($J$92,MATCH(\"Weigh Hopper Loading\",$J$93:$J$102,0),2)),0))),((IFERROR((OFFSET($J$110,MATCH(\"Weigh Hopper Loading\",$J$111:$J$120,0),2)),0))),((IFERROR((OFFSET($J$128,MATCH(\"Weigh Hopper Loading\",$J$129:$J$138,0),2)),0))),((IFERROR((OFFSET($J$146,MATCH(\"Weigh Hopper Loading\",$J$147:$J$156,0),2)),0))),((IFERROR((OFFSET($J$164,MATCH(\"Weigh Hopper Loading\",$J$165:$J$174,0),2)),0))),((IFERROR((OFFSET($J$181,MATCH(\"Weigh Hopper Loading\",$J$183:$J$192,0),2)),0))))","v":0}]
[null,"Note: if the plant has an hrs/day and a cubic yards/hr permit limit, those values should be multiplied together to calculate a cubic yards/day limit and that value should be placed in cell C10.",null,null,null,null,null,"SO2",null,null,null,null,null,null,null,"Central Mix Loading",{"$f":"MAX((IFERROR(OFFSET($J$20,MATCH(\"Central Mix Loading\",$J$21:$J$30,0),1),0)),((IFERROR((OFFSET($J$38,MATCH(\"Central Mix Loading\",$J$39:$J$48,0),1)),0))),((IFERROR((OFFSET($J$56,MATCH(\"Central Mix Loading\",$J$57:$J$66,0),1)),0))),((IFERROR((OFFSET($J$74,MATCH(\"Central Mix Loading\",$J$75:$J$84,0),1)),0))),((IFERROR((OFFSET($J$92,MATCH(\"Central Mix Loading\",$J$93:$J$102,0),1)),0))),((IFERROR((OFFSET($J$110,MATCH(\"Central Mix Loading\",$J$111:$J$120,0),1)),0))),((IFERROR((OFFSET($J$128,MATCH(\"Central Mix Loading\",$J$129:$J$138,0),1)),0))),((IFERROR((OFFSET($J$146,MATCH(\"Central Mix Loading\",$J$147:$J$156,0),1)),0))),((IFERROR((OFFSET($J$164,MATCH(\"Central Mix Loading\",$J$165:$J$174,0),1)),0))),((IFERROR((OFFSET($J$181,MATCH(\"Central Mix Loading\",$J$183:$J$192,0),1)),0))),)","v":0},{"$f":"SUM((IFERROR(OFFSET($J$20,MATCH(\"Central Mix Loading\",$J$21:$J$30,0),2),0)),((IFERROR((OFFSET($J$38,MATCH(\"Central Mix Loading\",$J$39:$J$48,0),2)),0))),((IFERROR((OFFSET($J$56,MATCH(\"Central Mix Loading\",$J$57:$J$66,0),2)),0))),((IFERROR((OFFSET($J$74,MATCH(\"Central Mix Loading\",$J$75:$J$84,0),2)),0))),((IFERROR((OFFSET($J$92,MATCH(\"Central Mix Loading\",$J$93:$J$102,0),2)),0))),((IFERROR((OFFSET($J$110,MATCH(\"Central Mix Loading\",$J$111:$J$120,0),2)),0))),((IFERROR((OFFSET($J$128,MATCH(\"Central Mix Loading\",$J$129:$J$138,0),2)),0))),((IFERROR((OFFSET($J$146,MATCH(\"Central Mix Loading\",$J$147:$J$156,0),2)),0))),((IFERROR((OFFSET($J$164,MATCH(\"Central Mix Loading\",$J$165:$J$174,0),2)),0))),((IFERROR((OFFSET($J$181,MATCH(\"Central Mix Loading\",$J$183:$J$192,0),2)),0))))","v":0}]
[null,null,null,null,null,null,null,"NOx",null,null,null,null,null,null,null,"Truck Mix Loading",{"$f":"MAX((IFERROR(OFFSET($J$20,MATCH(\"Truck Mix Loading\",$J$21:$J$30,0),1),0)),((IFERROR((OFFSET($J$38,MATCH(\"Truck Mix Loading\",$J$39:$J$48,0),1)),0))),((IFERROR((OFFSET($J$56,MATCH(\"Truck Mix Loading\",$J$57:$J$66,0),1)),0))),((IFERROR((OFFSET($J$74,MATCH(\"Truck Mix Loading\",$J$75:$J$84,0),1)),0))),((IFERROR((OFFSET($J$92,MATCH(\"Truck Mix Loading\",$J$93:$J$102,0),1)),0))),((IFERROR((OFFSET($J$110,MATCH(\"Truck Mix Loading\",$J$111:$J$120,0),1)),0))),((IFERROR((OFFSET($J$128,MATCH(\"Truck Mix Loading\",$J$129:$J$138,0),1)),0))),((IFERROR((OFFSET($J$146,MATCH(\"Truck Mix Loading\",$J$147:$J$156,0),1)),0))),((IFERROR((OFFSET($J$164,MATCH(\"Truck Mix Loading\",$J$165:$J$174,0),1)),0))),((IFERROR((OFFSET($J$181,MATCH(\"Truck Mix Loading\",$J$183:$J$192,0),1)),0))),)","v":0},{"$f":"SUM((IFERROR(OFFSET($J$20,MATCH(\"Truck Mix Loading\",$J$21:$J$30,0),2),0)),((IFERROR((OFFSET($J$38,MATCH(\"Truck Mix Loading\",$J$39:$J$48,0),2)),0))),((IFERROR((OFFSET($J$56,MATCH(\"Truck Mix Loading\",$J$57:$J$66,0),2)),0))),((IFERROR((OFFSET($J$74,MATCH(\"Truck Mix Loading\",$J$75:$J$84,0),2)),0))),((IFERROR((OFFSET($J$92,MATCH(\"Truck Mix Loading\",$J$93:$J$102,0),2)),0))),((IFERROR((OFFSET($J$110,MATCH(\"Truck Mix Loading\",$J$111:$J$120,0),2)),0))),((IFERROR((OFFSET($J$128,MATCH(\"Truck Mix Loading\",$J$129:$J$138,0),2)),0))),((IFERROR((OFFSET($J$146,MATCH(\"Truck Mix Loading\",$J$147:$J$156,0),2)),0))),((IFERROR((OFFSET($J$164,MATCH(\"Truck Mix Loading\",$J$165:$J$174,0),2)),0))),((IFERROR((OFFSET($J$181,MATCH(\"Truck Mix Loading\",$J$183:$J$192,0),2)),0))))","v":0}]
[null,null,null,null,null,null,null,"VOC",null,null,null,null,null,null,null,"Cement Delivery to Silo",{"$f":"MAX((IFERROR(OFFSET($J$20,MATCH(\"Cement Delivery to Silo\",$J$21:$J$30,0),1),0)),((IFERROR((OFFSET($J$38,MATCH(\"Cement Delivery to Silo\",$J$39:$J$48,0),1)),0))),((IFERROR((OFFSET($J$56,MATCH(\"Cement Delivery to Silo\",$J$57:$J$66,0),1)),0))),((IFERROR((OFFSET($J$74,MATCH(\"Cement Delivery to Silo\",$J$75:$J$84,0),1)),0))),((IFERROR((OFFSET($J$92,MATCH(\"Cement Delivery to Silo\",$J$93:$J$102,0),1)),0))),((IFERROR((OFFSET($J$110,MATCH(\"Cement Delivery to Silo\",$J$111:$J$120,0),1)),0))),((IFERROR((OFFSET($J$128,MATCH(\"Cement Delivery to Silo\",$J$129:$J$138,0),1)),0))),((IFERROR((OFFSET($J$146,MATCH(\"Cement Delivery to Silo\",$J$147:$J$156,0),1)),0))),((IFERROR((OFFSET($J$164,MATCH(\"Cement Delivery to Silo\",$J$165:$J$174,0),1)),0))),((IFERROR((OFFSET($J$181,MATCH(\"Cement Delivery to Silo\",$J$183:$J$192,0),1)),0))),)","v":0},{"$f":"SUM((IFERROR(OFFSET($J$20,MATCH(\"Cement Delivery to Silo\",$J$21:$J$30,0),2),0)),((IFERROR((OFFSET($J$38,MATCH(\"Cement Delivery to Silo\",$J$39:$J$48,0),2)),0))),((IFERROR((OFFSET($J$56,MATCH(\"Cement Delivery to Silo\",$J$57:$J$66,0),2)),0))),((IFERROR((OFFSET($J$74,MATCH(\"Cement Delivery to Silo\",$J$75:$J$84,0),2)),0))),((IFERROR((OFFSET($J$92,MATCH(\"Cement Delivery to Silo\",$J$93:$J$102,0),2)),0))),((IFERROR((OFFSET($J$110,MATCH(\"Cement Delivery to Silo\",$J$111:$J$120,0),2)),0))),((IFERROR((OFFSET($J$128,MATCH(\"Cement Delivery to Silo\",$J$129:$J$138,0),2)),0))),((IFERROR((OFFSET($J$146,MATCH(\"Cement Delivery to Silo\",$J$147:$J$156,0),2)),0))),((IFERROR((OFFSET($J$164,MATCH(\"Cement Delivery to Silo\",$J$165:$J$174,0),2)),0))),((IFERROR((OFFSET($J$181,MATCH(\"Cement Delivery to Silo\",$J$183:$J$192,0),2)),0))))","v":0}]
[null,null,null,null,null,null,null,"CO",null,null,null,null,null,null,null,"Cement Supplement Delivery to Silo",{"$f":"MAX((IFERROR(OFFSET($J$20,MATCH(\"Cement Supplement Delivery to Silo\",$J$21:$J$30,0),1),0)),((IFERROR((OFFSET($J$38,MATCH(\"Cement Supplement Delivery to Silo\",$J$39:$J$48,0),1)),0))),((IFERROR((OFFSET($J$56,MATCH(\"Cement Supplement Delivery to Silo\",$J$57:$J$66,0),1)),0))),((IFERROR((OFFSET($J$74,MATCH(\"Cement Supplement Delivery to Silo\",$J$75:$J$84,0),1)),0))),((IFERROR((OFFSET($J$92,MATCH(\"Cement Supplement Delivery to Silo\",$J$93:$J$102,0),1)),0))),((IFERROR((OFFSET($J$110,MATCH(\"Cement Supplement Delivery to Silo\",$J$111:$J$120,0),1)),0))),((IFERROR((OFFSET($J$128,MATCH(\"Cement Supplement Delivery to Silo\",$J$129:$J$138,0),1)),0))),((IFERROR((OFFSET($J$146,MATCH(\"Cement Supplement Delivery to Silo\",$J$147:$J$156,0),1)),0))),((IFERROR((OFFSET($J$164,MATCH(\"Cement Supplement Delivery to Silo\",$J$165:$J$174,0),1)),0))),((IFERROR((OFFSET($J$181,MATCH(\"Cement Supplement Delivery to Silo\",$J$183:$J$192,0),1)),0))),)","v":0},{"$f":"SUM((IFERROR(OFFSET($J$20,MATCH(\"Cement Supplement Delivery to Silo\",$J$21:$J$30,0),2),0)),((IFERROR((OFFSET($J$38,MATCH(\"Cement Supplement Delivery to Silo\",$J$39:$J$48,0),2)),0))),((IFERROR((OFFSET($J$56,MATCH(\"Cement Supplement Delivery to Silo\",$J$57:$J$66,0),2)),0))),((IFERROR((OFFSET($J$74,MATCH(\"Cement Supplement Delivery to Silo\",$J$75:$J$84,0),2)),0))),((IFERROR((OFFSET($J$92,MATCH(\"Cement Supplement Delivery to Silo\",$J$93:$J$102,0),2)),0))),((IFERROR((OFFSET($J$110,MATCH(\"Cement Supplement Delivery to Silo\",$J$111:$J$120,0),2)),0))),((IFERROR((OFFSET($J$128,MATCH(\"Cement Supplement Delivery to Silo\",$J$129:$J$138,0),2)),0))),((IFERROR((OFFSET($J$146,MATCH(\"Cement Supplement Delivery to Silo\",$J$147:$J$156,0),2)),0))),((IFERROR((OFFSET($J$164,MATCH(\"Cement Supplement Delivery to Silo\",$J$165:$J$174,0),2)),0))),((IFERROR((OFFSET($J$181,MATCH(\"Cement Supplement Delivery to Silo\",$J$183:$J$192,0),2)),0))))","v":0}]
[null,null,null,null,null,null,null,null,null,null,null,null,null,null,null,null,"Maximum (acres/day)","Actual (acres-day/yr)"]
[null,null,null,null,null,null,null,null,null,null,null,null,null,null,null,"Storage Pile",{"$f":"SUM(J34,J52,J70,J88,J106,J124,J142,J160,J178,J196)","v":0},{"$f":"SUM(K34*L34,K52*L52,K70*L70,K88*L88,K106*L106,K124*L124,K142*L142,K160*L160,K178*L178,K196*L196)","v":0}]
[]
[null,"Batch Plant","Site 1",null,null,null,null,"Emission Point #","Emission     Unit #","Processes","Combined Maximum Hourly Design Rate for all Like Processes (cubic yard/hr)",{"$f":"('Facility Information'!G5&\" Annual Throughput (cubic yards)\")","v":" Annual Throughput (cubic yards)"}]
[null,null,null,null,null,null,null,null,null,null,null,null,"Truck","Central",null,"Potential and Actual Emissions for the Listed Processes at this Plant"]
["YES","Site Name:",null,null,null,null,null,{"$f":"IF(J21=\"cement delivery to silo\",\"CP-1 EP-2\",IF(J21=\"cement supplement delivery to silo\",\"CP-1 EP-3\",IF(J21=\"weigh hopper loading\",\"CP-1 EP-4\",IF(J21=\"truck mix loading\",\"CP-1 EP-5\",IF(J21=\"central mix loading\",\"CP-1 EP-6\",IF(J21=\"\",\"\",\"CP-1 EP-1\"))))))","v":""},{"$f":"IF(J21=\"\",\"\",IF(J21=\"aggregate delivery to ground storage\",\"CP-3 EU-1\",IF(J21=\"sand delivery to ground storage\",\"CP-3 EU-2\",IF(J21=\"aggregate transfer to conveyor\",\"CP-3 EU-3\",IF(J21=\"sand transfer to conveyor\",\"CP-3 EU-4\",IF(J21=\"aggregate transfer to elevated storage\",\"CP-3 EU-5\",IF(J21=\"sand transfer to elevated storage\",\"CP-3 EU-6\",IF(J21=\"weigh hopper loading\",\"CP-3 EU-7\",IF(J21=\"central mix loading\",\"CP-3 EU-8\",IF(J21=\"truck mix loading\",\"CP-3 EU-9\",IF(J21=\"cement delivery to silo\",\"CP-3 EU-10\",IF(J21=\"cement supplement delivery to silo\",\"CP-3 EU-11\"))))))))))))","v":""},null,null,null,{"$f":"IF(J21=\"truck mix loading\",IF($F$24=\"yes\",L21*0.05/2000,L21/2000),\"\")","v":""},{"$f":"IF(J21=\"central mix loading\",IF($F$24=\"yes\",L21*0.05/2000,L21/2000),\"\")","v":""},null,null,"Maximum Design Rate (cubic yards/hr)","Emission Factor (lb/cubic yard)","Potential Uncontrolled Emissions (lb/hr)","Potential Controlled Emissions (lb/hr)","Potential Annual Emissions (tons/yr)","Actual Annual Emissions (tons/yr)"]
["NO","County:",null,null,null,null,null,{"$f":"IF(J22=\"cement delivery to silo\",\"CP-1 EP-2\",IF(J22=\"cement supplement delivery to silo\",\"CP-1 EP-3\",IF(J22=\"weigh hopper loading\",\"CP-1 EP-4\",IF(J22=\"truck mix loading\",\"CP-1 EP-5\",IF(J22=\"central mix loading\",\"CP-1 EP-6\",IF(J22=\"\",\"\",\"CP-1 EP-1\"))))))","v":""},"",null,null,null,{"$f":"IF(J22=\"truck mix loading\",IF($F$24=\"yes\",L22*0.05/2000,L22/2000),\"\")","v":""},{"$f":"IF(J22=\"central mix loading\",IF($F$24=\"yes\",L22*0.05/2000,L22/2000),\"\")","v":""},null,"PM2.5"]
[null,"Batching Period (Dates):",null,null,null,null,null,"","",null,null,null,"","",null,"Aggregate Delivery to Ground Storage",{"$f":"Q5","v":0},{"$f":"IF(Q23=0,0,LOOKUP(P23,'Emission Factors'!$A$5:$A$16,'Emission Factors'!$D$5:$D$16))","v":0},{"$f":"Q23*R23","v":0},{"$f":"IF(Q23=0,\"\",IF($I$10>0,$I$10,\"\"))","v":""},{"$f":"IF($J$10>0,$J$10,IF($D$9>0,$D$9*R23/2000,IF($D$10>0,$D$10*365*R23/2000,IF($D$11>0,$D$11*365*R23*Q23/2000,IF(T23=\"\",S23*8760/2000,T23*8760/2000)))))","v":0},{"$f":"(R5*R23/2000)","v":0}]
["Aggregate Delivery to Ground Storage",{"$f":"IF(OR(COUNTIF(J21:J30,\"Truck Mix Loading\")>0,(COUNTIF(J21:J30,\"Central Mix Loading\")>0)),\"Is the Central/Truck Mix Loading process controlled by a baghouse?\",\"\")","v":""},null,null,null,null,null,"","",null,null,null,"","",null,"Sand Delivery to Ground Storage",{"$f":"Q6","v":0},{"$f":"IF(Q24=0,0,LOOKUP(P24,'Emission Factors'!$A$5:$A$16,'Emission Factors'!$D$5:$D$16))","v":0},{"$f":"Q24*R24","v":0},{"$f":"IF(Q24=0,\"\",IF($I$10>0,$I$10,\"\"))","v":""},{"$f":"IF($J$10>0,\"\",IF($D$9>0,$D$9*R24/2000,IF($D$10>0,$D$10*365*R24/2000,IF($D$11>0,$D$11*365*R24*Q24/2000,IF(T24=\"\",S24*8760/2000,T24*8760/2000)))))","v":0},{"$f":"(R6*R24/2000)","v":0}]
["Sand Delivery to Ground Storage",null,null,null,null,null,null,"","",null,null,null,"","",null,"Aggregate Transfer to Conveyor",0,{"$f":"IF(Q25=0,0,LOOKUP(P25,'Emission Factors'!$A$5:$A$16,'Emission Factors'!$D$5:$D$16))","v":0},0,"",0,0]
["Aggregate Transfer to Conveyor",{"$f":"IF(AND(B28=\"\",B29=\"\",B32=\"\",B31=\"\",B30=\"\"),\"\",\"Process (complete stack information if applicable):\")","v":""},{"$f":"IF(AND(B28=\"\",B29=\"\",B32=\"\",B31=\"\",B30=\"\"),\"\",\"Stack Height (ft):\")","v":""},{"$f":"IF(AND(B28=\"\",B29=\"\",B32=\"\",B31=\"\",B30=\"\"),\"\",\"Stack Diameter (inches):\")","v":""},{"$f":"IF(AND(B28=\"\",B29=\"\",B32=\"\",B31=\"\",B30=\"\"),\"\",\"Flow Rate (acfm):\")","v":""},{"$f":"IF(AND(B28=\"\",B29=\"\",B32=\"\",B31=\"\",B30=\"\"),\"\",\"Temperature (Deg F):\")","v":""},null,"","",null,null,null,"","",null,"Sand Transfer to Conveyor",0,{"$f":"IF(Q26=0,0,LOOKUP(P26,'Emission Factors'!$A$5:$A$16,'Emission Factors'!$D$5:$D$16))","v":0},0,"",0,0]
["Sand Transfer to Conveyor",null,null,null,null,null,null,"","",null,null,null,"","",null,"Aggregate Transfer to Elevated Storage",0,{"$f":"IF(Q27=0,0,LOOKUP(P27,'Emission Factors'!$A$5:$A$16,'Emission Factors'!$D$5:$D$16))","v":0},0,"",0,0]
["Aggregate Transfer to Elevated Storage",{"$f":"IF(COUNTIF(J21:J30,\"Cement Delivery to Silo\")>0,\"EP-2 Cement Silo Stack:\",\"\")","v":""},null,null,null,null,null,"","",null,null,null,"","",null,"Sand Transfer to Elevated Storage",0,{"$f":"IF(Q28=0,0,LOOKUP(P28,'Emission Factors'!$A$5:$A$16,'Emission Factors'!$D$5:$D$16))","v":0},0,"",0,0]
["Sand Transfer to Elevated Storage",{"$f":"IF(COUNTIF(J21:J30,\"Cement Supplement Delivery to Silo\")>0,\"EP-3 Cement Supplement Silo Stack:\",\"\")","v":""},null,null,null,null,null,"","",null,null,null,"","",null,"Weigh Hopper Loading",0,{"$f":"IF(Q29=0,0,LOOKUP(P29,'Emission Factors'!$A$5:$A$16,'Emission Factors'!$D$5:$D$16))","v":0},0,"",0,0]
["Weigh Hopper Loading",{"$f":"IF(COUNTIF(J21:J30,\"Weigh Hopper Loading\")>0,\"EP-4 Weigh Hopper Loading Stack:\",\"\")","v":""},null,null,null,null,null,"","",null,null,null,"","",null,"Central Mix Loading",0,{"$f":"IF(Q30=0,0,LOOKUP(P30,'Emission Factors'!$A$5:$A$16,'Emission Factors'!$D$5:$D$16))","v":0},0,{"$f":"IF(Q30=0,\"\",IF($I$10>0,$I$10,IF(COUNTIF($F$24:$F$186,\"no\")>0,\"\",S30*(1-0.95))))","v":""},{"$f":"IF($J$10>0,\"\",IF($D$9>0,$D$9*R30*((100-$W$30)/100)/2000,IF($D$10>0,$D$10*365*R30*((100-$W$30)/100)/2000,IF($D$11>0,$D$11*365*R30*((100-$W$30)/100)*Q30/2000,IF(T30=\"\",S30*8760/2000,T30*8760/2000)))))","v":0},{"$f":"(R30*N198)","v":0},{"$f":"IF(COUNTIF($F$24:$F$186,\"no\")>0,0,95)","v":95}]
["Central Mix Loading",{"$f":"IF(COUNTIF(J21:J30,\"Truck Mix Loading\")>0,\"EP-5 Truck Mix Loading Stack:\",\"\")","v":""},null,null,null,null,null,null,null,null,null,null,null,null,null,"Truck Mix Loading",0,{"$f":"IF(Q31=0,0,LOOKUP(P31,'Emission Factors'!$A$5:$A$16,'Emission Factors'!$D$5:$D$16))","v":0},0,{"$f":"IF(Q31=0,\"\",IF($I$10>0,$I$10,IF(COUNTIF($F$24:$F$186,\"no\")>0,\"\",S31*(1-0.95))))","v":""},{"$f":"IF($J$10>0,\"\",IF($D$9>0,$D$9*R31*((100-$W$30)/100)/2000,IF($D$10>0,$D$10*365*R31*((100-$W$30)/100)/2000,IF($D$11>0,$D$11*365*R31*((100-$W$30)/100)*Q31/2000,IF(T31=\"\",S31*8760/2000,T31*8760/2000)))))","v":0},{"$f":"(R31*M198)","v":0}]
["Truck Mix Loading",{"$f":"IF(COUNTIF(J21:J30,\"Central Mix Loading\")>0,\"EP-6 Central Mix Loading Stack:\",\"\")","v":""},null,null,null,null,null,"Stock Pile Area",null,null,null,null,null,null,null,"Cement Delivery to Silo",0,{"$f":"IF(Q32=0,0,LOOKUP(P32,'Emission Factors'!$A$5:$A$16,'Emission Factors'!$D$5:$D$16))","v":0},null,{"$f":"IF(Q32=0,0,IF($I$10>0,$I$10,Q32*R32))","v":0},{"$f":"IF($J$10>0,\"\",IF($D$9>0,$D$9*R32/2000,IF($D$10>0,$D$10*365*R32/2000,IF($D$11>0,$D$11*365*R32*Q32/2000,IF($I$10>0,0,T32*8760/2000)))))","v":0},0]
["Cement Delivery to Silo",null,null,null,null,null,null,null,"Emission Unit #","Maximum Storage Area (acres)","Actual Storage Area (acres)","Actual Days in Existence (days)",null,null,null,"Cement Supplement Delivery to Silo",0,{"$f":"IF(Q33=0,0,LOOKUP(P33,'Emission Factors'!$A$5:$A$16,'Emission Factors'!$D$5:$D$16))","v":0},null,{"$f":"IF(Q33=0,0,IF($I$10>0,$I$10,Q33*R33))","v":0},{"$f":"IF($J$10>0,\"\",IF($D$9>0,$D$9*R33/2000,IF($D$10>0,$D$10*365*R33/2000,IF($D$11>0,$D$11*365*R33*Q33/2000,IF($I$10>0,0,T33*8760/2000)))))","v":0},0]
["Cement Supplement Delivery to Silo",null,null,null,null,null,null,null,null,null,null,null,null,null,null,"PM10"]
[null,null,null,null,null,null,null,null,null,null,null,null,null,null,null,"Aggregate Delivery to Ground Storage",{"$f":"Q5","v":0},{"$f":"IF(Q35=0,0,LOOKUP(P35,'Emission Factors'!$A$5:$A$16,'Emission Factors'!$H$5:$H$16))","v":0},0,{"$f":"IF(Q35=0,\"\",IF($I$11>0,$I$11,\"\"))","v":""},{"$f":"IF($J$11>0,$J$11,IF($D$9>0,$D$9*R35/2000,IF($D$10>0,$D$10*365*R35/2000,IF($D$11>0,$D$11*365*R35*Q35/2000,IF(T35=\"\",S35*8760/2000,T35*8760/2000)))))","v":0},{"$f":"(R5*R35/2000)","v":0}]
[null,null,null,null,null,null,null,null,null,null,null,null,null,null,null,"Sand Delivery to Ground Storage",{"$f":"Q6","v":0},{"$f":"IF(Q36=0,0,LOOKUP(P36,'Emission Factors'!$A$5:$A$16,'Emission Factors'!$H$5:$H$16))","v":0},0,{"$f":"IF(Q36=0,\"\",IF($I$11>0,$I$11,\"\"))","v":""},{"$f":"IF($J$11>0,\"\",IF($D$9>0,$D$9*R36/2000,IF($D$10>0,$D$10*365*R36/2000,IF($D$11>0,$D$11*365*R36*Q36/2000,IF(T36=\"\",S36*8760/2000,T36*8760/2000)))))","v":0},{"$f":"(R6*R36/2000)","v":0}]
[null,{"$f":"IF('Concrete Plant (CP-3)'!$D$4>1,\"Batch Plant\",\"\")","v":""},{"$f":"IF('Concrete Plant (CP-3)'!$D$4>1,\"Site 2\",\"\")","v":""},null,null,null,null,{"$f":"IF('Concrete Plant (CP-3)'!$D$4>1,\"Emission Point #\",\"\")","v":""},{"$f":"IF('Concrete Plant (CP-3)'!$D$4>1,\"Emission     Unit #\",\"\")","v":""},{"$f":"IF('Concrete Plant (CP-3)'!$D$4>1,\"Processes\",\"\")","v":""},{"$f":"IF('Concrete Plant (CP-3)'!$D$4>1,\"Combined Maximum Hourly Design Rate for all Like Processes (cubic yard/hr)\",\"\")","v":""},{"$f":"IF('Concrete Plant (CP-3)'!$D$4>1,('Facility Information'!G5&\" Annual Throughput (cubic yards)\"),\"\")","v":""},null,null,null,"Aggregate Transfer to Conveyor",0,{"$f":"IF(Q37=0,0,LOOKUP(P37,'Emission Factors'!$A$5:$A$16,'Emission Factors'!$H$5:$H$16))","v":0},0,"",0,0]
[null,null,null,null,null,null,null,null,null,null,null,null,"Truck","Central",null,"Sand Transfer to Conveyor",0,{"$f":"IF(Q38=0,0,LOOKUP(P38,'Emission Factors'!$A$5:$A$16,'Emission Factors'!$H$5:$H$16))","v":0},0,"",0,0]
[null,{"$f":"IF('Concrete Plant (CP-3)'!$D$4>1,\"Site Name:\",\"\")","v":""},null,null,null,null,null,{"$f":"IF(J39=\"cement delivery to silo\",\"CP-1 EP-2\",IF(J39=\"cement supplement delivery to silo\",\"CP-1 EP-3\",IF(J39=\"weigh hopper loading\",\"CP-1 EP-4\",IF(J39=\"truck mix loading\",\"CP-1 EP-5\",IF(J39=\"central mix loading\",\"CP-1 EP-6\",IF(J39=\"\",\"\",\"CP-1 EP-1\"))))))","v":""},{"$f":"IF(J39=\"\",\"\",IF(J39=\"aggregate delivery to ground storage\",\"CP-3 EU-1\",IF(J39=\"sand delivery to ground storage\",\"CP-3 EU-2\",IF(J39=\"aggregate transfer to conveyor\",\"CP-3 EU-3\",IF(J39=\"sand transfer to conveyor\",\"CP-3 EU-4\",IF(J39=\"aggregate transfer to elevated storage\",\"CP-3 EU-5\",IF(J39=\"sand transfer to elevated storage\",\"CP-3 EU-6\",IF(J39=\"weigh hopper loading\",\"CP-3 EU-7\",IF(J39=\"central mix loading\",\"CP-3 EU-8\",IF(J39=\"truck mix loading\",\"CP-3 EU-9\",IF(J39=\"cement delivery to silo\",\"CP-3 EU-10\",IF(J39=\"cement supplement delivery to silo\",\"CP-3 EU-11\"))))))))))))","v":""},null,null,null,{"$f":"IF(J39=\"truck mix loading\",IF($F$42=\"yes\",L39*0.05/2000,L39/2000),\"\")","v":""},{"$f":"IF(J39=\"central mix loading\",IF($F$42=\"yes\",L39*0.05/2000,L39/2000),\"\")","v":""},null,"Aggregate Transfer to Elevated Storage",0,{"$f":"IF(Q39=0,0,LOOKUP(P39,'Emission Factors'!$A$5:$A$16,'Emission Factors'!$H$5:$H$16))","v":0},0,"",0,0]
[null,{"$f":"IF('Concrete Plant (CP-3)'!$D$4>1,\"County:\",\"\")","v":""},null,null,null,null,null,{"$f":"IF(J40=\"cement delivery to silo\",\"CP-1 EP-2\",IF(J40=\"cement supplement delivery to silo\",\"CP-1 EP-3\",IF(J40=\"weigh hopper loading\",\"CP-1 EP-4\",IF(J40=\"truck mix loading\",\"CP-1 EP-5\",IF(J40=\"central mix loading\",\"CP-1 EP-6\",IF(J40=\"\",\"\",\"CP-1 EP-1\"))))))","v":""},"",null,null,null,{"$f":"IF(J40=\"truck mix loading\",IF($F$42=\"yes\",L40*0.05/2000,L40/2000),\"\")","v":""},{"$f":"IF(J40=\"central mix loading\",IF($F$42=\"yes\",L40*0.05/2000,L40/2000),\"\")","v":""},null,"Sand Transfer to Elevated Storage",0,{"$f":"IF(Q40=0,0,LOOKUP(P40,'Emission Factors'!$A$5:$A$16,'Emission Factors'!$H$5:$H$16))","v":0},0,"",0,0]
[null,{"$f":"IF('Concrete Plant (CP-3)'!$D$4>1,\"Batching Period (Dates):\",\"\")","v":""},null,null,null,null,null,"","",null,null,null,"","",null,"Weigh Hopper Loading",0,{"$f":"IF(Q41=0,0,LOOKUP(P41,'Emission Factors'!$A$5:$A$16,'Emission Factors'!$H$5:$H$16))","v":0},0,"",0,0]
[null,{"$f":"IF(OR(COUNTIF(J39:J48,\"Truck Mix Loading\")>0,(COUNTIF(J39:J48,\"Central Mix Loading\")>0)),\"Is the Central/Truck Mix Loading process controlled by a baghouse?\",\"\")","v":""},null,null,null,null,null,"","",null,null,null,"","",null,"Central Mix Loading",0,{"$f":"IF(Q42=0,0,LOOKUP(P42,'Emission Factors'!$A$5:$A$16,'Emission Factors'!$H$5:$H$16))","v":0},0,{"$f":"IF(Q42=0,\"\",IF($I$11>0,$I$11,IF(COUNTIF($F$24:$F$186,\"no\")>0,\"\",S42*(1-0.95))))","v":""},{"$f":"IF($J$11>0,\"\",IF($D$9>0,$D$9*R42*((100-$W$30)/100)/2000,IF($D$10>0,$D$10*365*R42*((100-$W$30)/100)/2000,IF($D$11>0,$D$11*365*R42*((100-$W$30)/100)*Q42/2000,IF(T42=\"\",S42*8760/2000,T42*8760/2000)))))","v":0},{"$f":"(N198*R42)","v":0},{"$f":"IF(COUNTIF($F$24:$F$186,\"no\")>0,0,95)","v":95}]
[null,null,null,null,null,null,null,"","",null,null,null,"","",null,"Truck Mix Loading",0,{"$f":"IF(Q43=0,0,LOOKUP(P43,'Emission Factors'!$A$5:$A$16,'Emission Factors'!$H$5:$H$16))","v":0},0,{"$f":"IF(Q43=0,\"\",IF($I$11>0,$I$11,IF(COUNTIF($F$24:$F$186,\"no\")>0,\"\",S43*(1-0.95))))","v":""},{"$f":"IF($J$11>0,\"\",IF($D$9>0,$D$9*R43*((100-$W$30)/100)/2000,IF($D$10>0,$D$10*365*R43*((100-$W$30)/100)/2000,IF($D$11>0,$D$11*365*R43*((100-$W$30)/100)*Q43/2000,IF(T43=\"\",S43*8760/2000,T43*8760/2000)))))","v":0},{"$f":"(M198*R43)","v":0}]
[null,{"$f":"IF(AND(B46=\"\",B47=\"\",B48=\"\",B49=\"\",B50=\"\"),\"\",\"Process (complete stack information if applicable):\")","v":""},{"$f":"IF(AND(B46=\"\",B47=\"\",B48=\"\",B49=\"\",B50=\"\"),\"\",\"Stack Height (ft):\")","v":""},{"$f":"IF(AND(B46=\"\",B47=\"\",B48=\"\",B49=\"\",B50=\"\"),\"\",\"Stack Diameter (inches):\")","v":""},{"$f":"IF(AND(B46=\"\",B47=\"\",B48=\"\",B49=\"\",B50=\"\"),\"\",\"Flow Rate (acfm):\")","v":""},{"$f":"IF(AND(B46=\"\",B47=\"\",B48=\"\",B49=\"\",B50=\"\"),\"\",\"Temperature (Deg F):\")","v":""},null,"","",null,null,null,"","",null,"Cement Delivery to Silo",0,{"$f":"IF(Q44=0,0,LOOKUP(P44,'Emission Factors'!$A$5:$A$16,'Emission Factors'!$H$5:$H$16))","v":0},null,{"$f":"IF(Q44=0,0,IF($I$10>0,$I$10,Q44*R44))","v":0},{"$f":"IF($J$11>0,\"\",IF($D$9>0,$D$9*R44/2000,IF($D$10>0,$D$10*365*R44/2000,IF($D$11>0,$D$11*365*R44*Q44/2000,IF($I$11>0,0,T44*8760/2000)))))","v":0},0]
[null,null,null,null,null,null,null,"","",null,null,null,"","",null,"Cement Supplement Delivery to Silo",0,{"$f":"IF(Q45=0,0,LOOKUP(P45,'Emission Factors'!$A$5:$A$16,'Emission Factors'!$H$5:$H$16))","v":0},null,{"$f":"IF(Q45=0,0,IF($I$10>0,$I$10,Q45*R45))","v":0},{"$f":"IF($J$11>0,\"\",IF($D$9>0,$D$9*R45/2000,IF($D$10>0,$D$10*365*R45/2000,IF($D$11>0,$D$11*365*R45*Q45/2000,IF($I$11>0,0,T45*8760/2000)))))","v":0},0]
[null,{"$f":"IF(COUNTIF(J39:J48,\"Cement Delivery to Silo\")>0,\"EP-2 Cement Silo Stack:\",\"\")","v":""},null,null,null,null,null,"","",null,null,null,"",""]
[null,{"$f":"IF(COUNTIF(J39:J48,\"Cement Supplement Delivery to Silo\")>0,\"EP-3 Cement Supplement Silo Stack:\",\"\")","v":""},null,null,null,null,null,"","",null,null,null,"","",null,null,"Max Design Rate (acres/day)","Emission Factor   (lb/acre-day)","Potential Uncontrolled Emissions (lb/hr)","Potential Controlled Emissions (lb/hr)","Potential Annual Emissions (tons/yr)","Actual Annual Emissions (tons/yr)"]
[null,{"$f":"IF(COUNTIF(J39:J48,\"Weigh Hopper Loading\")>0,\"EP-4 Weigh Hopper Loading Stack:\",\"\")","v":""},null,null,null,null,null,"","",null,null,null,"","",null,"Storage Pile"]
[null,{"$f":"IF(COUNTIF(J39:J48,\"Truck Mix Loading\")>0,\"EP-5 Truck Mix Loading Stack:\",\"\")","v":""},null,null,null,null,null,null,null,null,null,null,null,null,null,"PM2.5/PM10",{"$f":"Q17","v":0},3.64,{"$f":"Q49*R49*(1/24)","v":0},null,{"$f":"Q49*R49*365/2000","v":0},{"$f":"R17*R49/2000","v":0}]
[null,{"$f":"IF(COUNTIF(J39:J48,\"Central Mix Loading\")>0,\"EP-6 Central Mix Loading Stack:\",\"\")","v":""},null,null,null,null,null,{"$f":"IF('Concrete Plant (CP-3)'!$D$4>1,\"Stock Pile Area\",\"\")","v":""}]
[null,null,null,null,null,null,null,null,{"$f":"IF('Concrete Plant (CP-3)'!$D$4>1,\"Emission Unit #\",\"\")","v":""},{"$f":"IF('Concrete Plant (CP-3)'!$D$4>1,\"Maximum Storage Area (acres)\",\"\")","v":""},{"$f":"IF('Concrete Plant (CP-3)'!$D$4>1,\"Actual Storage Area (acres)\",\"\")","v":""},{"$f":"IF('Concrete Plant (CP-3)'!$D$4>1,\"Actual Days in Existence (days)\",\"\")","v":""}]
[]
[]
[]
[null,{"$f":"IF('Concrete Plant (CP-3)'!$D$4>2,\"Batch Plant\",\"\")","v":""},{"$f":"IF('Concrete Plant (CP-3)'!$D$4>2,\"Site 3\",\"\")","v":""},null,null,null,null,{"$f":"IF('Concrete Plant (CP-3)'!$D$4>2,\"Emission Point #\",\"\")","v":""},{"$f":"IF('Concrete Plant (CP-3)'!$D$4>2,\"Emission     Unit #\",\"\")","v":""},{"$f":"IF('Concrete Plant (CP-3)'!$D$4>2,\"Processes\",\"\")","v":""},{"$f":"IF('Concrete Plant (CP-3)'!$D$4>2,\"Combined Maximum Hourly Design Rate for all Like Processes (cubic yard/hr)\",\"\")","v":""},{"$f":"IF('Concrete Plant (CP-3)'!$D$4>2,('Facility Information'!G5&\" Annual Throughput (cubic yards)\"),\"\")","v":""}]
[null,null,null,null,null,null,null,null,null,null,null,null,"Truck","Central"]
[null,{"$f":"IF('Concrete Plant (CP-3)'!$D$4>2,\"Site Name:\",\"\")","v":""},null,null,null,null,null,{"$f":"IF(J57=\"cement delivery to silo\",\"CP-1 EP-2\",IF(J57=\"cement supplement delivery to silo\",\"CP-1 EP-3\",IF(J57=\"weigh hopper loading\",\"CP-1 EP-4\",IF(J57=\"truck mix loading\",\"CP-1 EP-5\",IF(J57=\"central mix loading\",\"CP-1 EP-6\",IF(J57=\"\",\"\",\"CP-1 EP-1\"))))))","v":""},{"$f":"IF(J57=\"\",\"\",IF(J57=\"aggregate delivery to ground storage\",\"CP-3 EU-1\",IF(J57=\"sand delivery to ground storage\",\"CP-3 EU-2\",IF(J57=\"aggregate transfer to conveyor\",\"CP-3 EU-3\",IF(J57=\"sand transfer to conveyor\",\"CP-3 EU-4\",IF(J57=\"aggregate transfer to elevated storage\",\"CP-3 EU-5\",IF(J57=\"sand transfer to elevated storage\",\"CP-3 EU-6\",IF(J57=\"weigh hopper loading\",\"CP-3 EU-7\",IF(J57=\"central mix loading\",\"CP-3 EU-8\",IF(J57=\"truck mix loading\",\"CP-3 EU-9\",IF(J57=\"cement delivery to silo\",\"CP-3 EU-10\",IF(J57=\"cement supplement delivery to silo\",\"CP-3 EU-11\"))))))))))))","v":""},null,null,null,{"$f":"IF(J57=\"truck mix loading\",IF($F$60=\"yes\",L57*0.05/2000,L57/2000),\"\")","v":""},{"$f":"IF(J57=\"central mix loading\",IF($F$60=\"yes\",L57*0.05/2000,L57/2000),\"\")","v":""}]
[null,{"$f":"IF('Concrete Plant (CP-3)'!$D$4>2,\"County:\",\"\")","v":""},null,null,null,null,null,{"$f":"IF(J58=\"cement delivery to silo\",\"CP-1 EP-2\",IF(J58=\"cement supplement delivery to silo\",\"CP-1 EP-3\",IF(J58=\"weigh hopper loading\",\"CP-1 EP-4\",IF(J58=\"truck mix loading\",\"CP-1 EP-5\",IF(J58=\"central mix loading\",\"CP-1 EP-6\",IF(J58=\"\",\"\",\"CP-1 EP-1\"))))))","v":""},"",null,null,null,{"$f":"IF(J58=\"truck mix loading\",IF($F$60=\"yes\",L58*0.05/2000,L58/2000),\"\")","v":""},{"$f":"IF(J58=\"central mix loading\",IF($F$60=\"yes\",L58*0.05/2000,L58/2000),\"\")","v":""}]
[null,{"$f":"IF('Concrete Plant (CP-3)'!$D$4>2,\"Batching Period (Dates):\",\"\")","v":""},null,null,null,null,null,"","",null,null,null,"",""]
[null,{"$f":"IF(OR(COUNTIF(J57:J66,\"Truck Mix Loading\")>0,(COUNTIF(J57:J66,\"Central Mix Loading\")>0)),\"Is the Central/Truck Mix Loading process controlled by a baghouse?\",\"\")","v":""},null,null,null,null,null,"","",null,null,null,"",""]
[null,null,null,null,null,null,null,"","",null,null,null,"",""]
[null,{"$f":"IF(AND(B64=\"\",B65=\"\",B66=\"\",B67=\"\",B68=\"\"),\"\",\"Process (complete stack information if applicable):\")","v":""},{"$f":"IF(AND(B64=\"\",B65=\"\",B66=\"\",B67=\"\",B68=\"\"),\"\",\"Stack Height (ft):\")","v":""},{"$f":"IF(AND(B64=\"\",B65=\"\",B66=\"\",B67=\"\",B68=\"\"),\"\",\"Stack Diameter (inches):\")","v":""},{"$f":"IF(AND(B64=\"\",B65=\"\",B66=\"\",B67=\"\",B68=\"\"),\"\",\"Flow Rate (acfm):\")","v":""},{"$f":"IF(AND(B64=\"\",B65=\"\",B66=\"\",B67=\"\",B68=\"\"),\"\",\"Temperature (Deg F):\")","v":""},null,"","",null,null,null,"",""]
[null,null,null,null,null,null,null,"","",null,null,null,"",""]
[null,{"$f":"IF(COUNTIF(J57:J66,\"Cement Delivery to Silo\")>0,\"EP-2 Cement Silo Stack:\",\"\")","v":""},null,null,null,null,null,"","",null,null,null,"",""]
[null,{"$f":"IF(COUNTIF(J57:J66,\"Cement Supplement Delivery to Silo\")>0,\"EP-3 Cement Supplement Silo Stack:\",\"\")","v":""},null,null,null,null,null,"","",null,null,null,"",""]
[null,{"$f":"IF(COUNTIF(J57:J66,\"Weigh Hopper Loading\")>0,\"EP-4 Weigh Hopper Loading Stack:\",\"\")","v":""},null,null,null,null,null,"","",null,null,null,"",""]
[null,{"$f":"IF(COUNTIF(J57:J66,\"Truck Mix Loading\")>0,\"EP-5 Truck Mix Loading Stack:\",\"\")","v":""}]
[null,{"$f":"IF(COUNTIF(J57:J66,\"Central Mix Loading\")>0,\"EP-6 Central Mix Loading Stack:\",\"\")","v":""},null,null,null,null,null,{"$f":"IF('Concrete Plant (CP-3)'!$D$4>2,\"Stock Pile Area\",\"\")","v":""}]
[null,null,null,null,null,null,null,null,{"$f":"IF('Concrete Plant (CP-3)'!$D$4>2,\"Emission Unit #\",\"\")","v":""},{"$f":"IF('Concrete Plant (CP-3)'!$D$4>2,\"Maximum Storage Area (acres)\",\"\")","v":""},{"$f":"IF('Concrete Plant (CP-3)'!$D$4>2,\"Actual Storage Area (acres)\",\"\")","v":""},{"$f":"IF('Concrete Plant (CP-3)'!$D$4>2,\"Actual Days in Existence (days)\",\"\")","v":""}]
[]
[]
[]
[null,{"$f":"IF('Concrete Plant (CP-3)'!$D$4>3,\"Batch Plant\",\"\")","v":""},{"$f":"IF('Concrete Plant (CP-3)'!$D$4>3,\"Site 4\",\"\")","v":""},null,null,null,null,{"$f":"IF('Concrete Plant (CP-3)'!$D$4>3,\"Emission Point #\",\"\")","v":""},{"$f":"IF('Concrete Plant (CP-3)'!$D$4>3,\"Emission     Unit #\",\"\")","v":""},{"$f":"IF('Concrete Plant (CP-3)'!$D$4>3,\"Processes\",\"\")","v":""},{"$f":"IF('Concrete Plant (CP-3)'!$D$4>3,\"Combined Maximum Hourly Design Rate for all Like Processes (cubic yard/hr)\",\"\")","v":""},{"$f":"IF('Concrete Plant (CP-3)'!$D$4>3,('Facility Information'!G5&\" Annual Throughput (cubic yards)\"),\"\")","v":""}]
[null,null,null,null,null,null,null,null,null,null,null,null,"Truck","Central"]
[null,{"$f":"IF('Concrete Plant (CP-3)'!$D$4>3,\"Site Name:\",\"\")","v":""},null,null,null,null,null,{"$f":"IF(J75=\"cement delivery to silo\",\"CP-1 EP-2\",IF(J75=\"cement supplement delivery to silo\",\"CP-1 EP-3\",IF(J75=\"weigh hopper loading\",\"CP-1 EP-4\",IF(J75=\"truck mix loading\",\"CP-1 EP-5\",IF(J75=\"central mix loading\",\"CP-1 EP-6\",IF(J75=\"\",\"\",\"CP-1 EP-1\"))))))","v":""},{"$f":"IF(J75=\"\",\"\",IF(J75=\"aggregate delivery to ground storage\",\"CP-3 EU-1\",IF(J75=\"sand delivery to ground storage\",\"CP-3 EU-2\",IF(J75=\"aggregate transfer to conveyor\",\"CP-3 EU-3\",IF(J75=\"sand transfer to conveyor\",\"CP-3 EU-4\",IF(J75=\"aggregate transfer to elevated storage\",\"CP-3 EU-5\",IF(J75=\"sand transfer to elevated storage\",\"CP-3 EU-6\",IF(J75=\"weigh hopper loading\",\"CP-3 EU-7\",IF(J75=\"central mix loading\",\"CP-3 EU-8\",IF(J75=\"truck mix loading\",\"CP-3 EU-9\",IF(J75=\"cement delivery to silo\",\"CP-3 EU-10\",IF(J75=\"cement supplement delivery to silo\",\"CP-3 EU-11\"))))))))))))","v":""},null,null,null,{"$f":"IF(J75=\"truck mix loading\",IF($F$78=\"yes\",L75*0.05/2000,L75/2000),\"\")","v":""},{"$f":"IF(J75=\"central mix loading\",IF($F$78=\"yes\",L75*0.05/2000,L75/2000),\"\")","v":""}]
[null,{"$f":"IF('Concrete Plant (CP-3)'!$D$4>3,\"County:\",\"\")","v":""},null,null,null,null,null,{"$f":"IF(J76=\"cement delivery to silo\",\"CP-1 EP-2\",IF(J76=\"cement supplement delivery to silo\",\"CP-1 EP-3\",IF(J76=\"weigh hopper loading\",\"CP-1 EP-4\",IF(J76=\"truck mix loading\",\"CP-1 EP-5\",IF(J76=\"central mix loading\",\"CP-1 EP-6\",IF(J76=\"\",\"\",\"CP-1 EP-1\"))))))","v":""},"",null,null,null,{"$f":"IF(J76=\"truck mix loading\",IF($F$78=\"yes\",L76*0.05/2000,L76/2000),\"\")","v":""},{"$f":"IF(J76=\"central mix loading\",IF($F$78=\"yes\",L76*0.05/2000,L76/2000),\"\")","v":""}]
[null,{"$f":"IF('Concrete Plant (CP-3)'!$D$4>3,\"Batching Period (Dates):\",\"\")","v":""},null,null,null,null,null,"","",null,null,null,"",""]
[null,{"$f":"IF(OR(COUNTIF(J75:J84,\"Truck Mix Loading\")>0,(COUNTIF(J75:J84,\"Central Mix Loading\")>0)),\"Is the Central/Truck Mix Loading process controlled by a baghouse?\",\"\")","v":""},null,null,null,null,null,"","",null,null,null,"",""]
[null,null,null,null,null,null,null,"","",null,null,null,"",""]
[null,{"$f":"IF(AND(B82=\"\",B83=\"\",B84=\"\",B85=\"\",B86=\"\"),\"\",\"Process (complete stack information if applicable):\")","v":""},{"$f":"IF(AND(B82=\"\",B83=\"\",B84=\"\",B85=\"\",B86=\"\"),\"\",\"Stack Height (ft):\")","v":""},{"$f":"IF(AND(B82=\"\",B83=\"\",B84=\"\",B85=\"\",B86=\"\"),\"\",\"Stack Diameter (inches):\")","v":""},{"$f":"IF(AND(B82=\"\",B83=\"\",B84=\"\",B85=\"\",B86=\"\"),\"\",\"Flow Rate (acfm):\")","v":""},{"$f":"IF(AND(B82=\"\",B83=\"\",B84=\"\",B85=\"\",B86=\"\"),\"\",\"Temperature (Deg F):\")","v":""},null,"","",null,null,null,"",""]
[null,null,null,null,null,null,null,"","",null,null,null,"",""]
[null,{"$f":"IF(COUNTIF(J75:J84,\"Cement Delivery to Silo\")>0,\"EP-2 Cement Silo Stack:\",\"\")","v":""},null,null,null,null,null,"","",null,null,null,"",""]
[null,{"$f":"IF(COUNTIF(J75:J84,\"Cement Supplement Delivery to Silo\")>0,\"EP-3 Cement Supplement Silo Stack:\",\"\")","v":""},null,null,null,null,null,"","",null,null,null,"",""]
[null,{"$f":"IF(COUNTIF(J75:J84,\"Weigh Hopper Loading\")>0,\"EP-4 Weigh Hopper Loading Stack:\",\"\")","v":""},null,null,null,null,null,"","",null,null,null,"",""]
[null,{"$f":"IF(COUNTIF(J75:J84,\"Truck Mix Loading\")>0,\"EP-5 Truck Mix Loading Stack:\",\"\")","v":""}]
[null,{"$f":"IF(COUNTIF(J75:J84,\"Central Mix Loading\")>0,\"EP-6 Central Mix Loading Stack:\",\"\")","v":""},null,null,null,null,null,{"$f":"IF('Concrete Plant (CP-3)'!$D$4>3,\"Stock Pile Area\",\"\")","v":""}]
[null,null,null,null,null,null,null,null,{"$f":"IF('Concrete Plant (CP-3)'!$D$4>3,\"Emission Unit #\",\"\")","v":""},{"$f":"IF('Concrete Plant (CP-3)'!$D$4>3,\"Maximum Storage Area (acres)\",\"\")","v":""},{"$f":"IF('Concrete Plant (CP-3)'!$D$4>3,\"Actual Storage Area (acres)\",\"\")","v":""},{"$f":"IF('Concrete Plant (CP-3)'!$D$4>3,\"Actual Days in Existence (days)\",\"\")","v":""}]
[]
[]
[]
[null,{"$f":"IF('Concrete Plant (CP-3)'!$D$4>4,\"Batch Plant\",\"\")","v":""},{"$f":"IF('Concrete Plant (CP-3)'!$D$4>4,\"Site 5\",\"\")","v":""},null,null,null,null,{"$f":"IF('Concrete Plant (CP-3)'!$D$4>4,\"Emission Point #\",\"\")","v":""},{"$f":"IF('Concrete Plant (CP-3)'!$D$4>4,\"Emission     Unit #\",\"\")","v":""},{"$f":"IF('Concrete Plant (CP-3)'!$D$4>4,\"Processes\",\"\")","v":""},{"$f":"IF('Concrete Plant (CP-3)'!$D$4>4,\"Combined Maximum Hourly Design Rate for all Like Processes (cubic yard/hr)\",\"\")","v":""},{"$f":"IF('Concrete Plant (CP-3)'!$D$4>4,('Facility Information'!G5&\" Annual Throughput (cubic yards)\"),\"\")","v":""}]
[null,null,null,null,null,null,null,null,null,null,null,null,"Truck","Central"]
[null,{"$f":"IF('Concrete Plant (CP-3)'!$D$4>4,\"Site Name:\",\"\")","v":""},null,null,null,null,null,{"$f":"IF(J93=\"cement delivery to silo\",\"CP-1 EP-2\",IF(J93=\"cement supplement delivery to silo\",\"CP-1 EP-3\",IF(J93=\"weigh hopper loading\",\"CP-1 EP-4\",IF(J93=\"truck mix loading\",\"CP-1 EP-5\",IF(J93=\"central mix loading\",\"CP-1 EP-6\",IF(J93=\"\",\"\",\"CP-1 EP-1\"))))))","v":""},{"$f":"IF(J93=\"\",\"\",IF(J93=\"aggregate delivery to ground storage\",\"CP-3 EU-1\",IF(J93=\"sand delivery to ground storage\",\"CP-3 EU-2\",IF(J93=\"aggregate transfer to conveyor\",\"CP-3 EU-3\",IF(J93=\"sand transfer to conveyor\",\"CP-3 EU-4\",IF(J93=\"aggregate transfer to elevated storage\",\"CP-3 EU-5\",IF(J93=\"sand transfer to elevated storage\",\"CP-3 EU-6\",IF(J93=\"weigh hopper loading\",\"CP-3 EU-7\",IF(J93=\"central mix loading\",\"CP-3 EU-8\",IF(J93=\"truck mix loading\",\"CP-3 EU-9\",IF(J93=\"cement delivery to silo\",\"CP-3 EU-10\",IF(J93=\"cement supplement delivery to silo\",\"CP-3 EU-11\"))))))))))))","v":""},null,null,null,{"$f":"IF(J93=\"truck mix loading\",IF($F$96=\"yes\",L93*0.05/2000,L93/2000),\"\")","v":""},{"$f":"IF(J93=\"central mix loading\",IF($F$96=\"yes\",L93*0.05/2000,L93/2000),\"\")","v":""}]
[null,{"$f":"IF('Concrete Plant (CP-3)'!$D$4>4,\"County:\",\"\")","v":""},null,null,null,null,null,{"$f":"IF(J94=\"cement delivery to silo\",\"CP-1 EP-2\",IF(J94=\"cement supplement delivery to silo\",\"CP-1 EP-3\",IF(J94=\"weigh hopper loading\",\"CP-1 EP-4\",IF(J94=\"truck mix loading\",\"CP-1 EP-5\",IF(J94=\"central mix loading\",\"CP-1 EP-6\",IF(J94=\"\",\"\",\"CP-1 EP-1\"))))))","v":""},"",null,null,null,{"$f":"IF(J94=\"truck mix loading\",IF($F$96=\"yes\",L94*0.05/2000,L94/2000),\"\")","v":""},{"$f":"IF(J94=\"central mix loading\",IF($F$96=\"yes\",L94*0.05/2000,L94/2000),\"\")","v":""}]
[null,{"$f":"IF('Concrete Plant (CP-3)'!$D$4>4,\"Batching Period (Dates):\",\"\")","v":""},null,null,null,null,null,"","",null,null,null,"",""]
[null,{"$f":"IF(OR(COUNTIF(J93:J102,\"Truck Mix Loading\")>0,(COUNTIF(J93:J102,\"Central Mix Loading\")>0)),\"Is the Central/Truck Mix Loading process controlled by a baghouse?\",\"\")","v":""},null,null,null,null,null,"","",null,null,null,"",""]
[null,null,null,null,null,null,null,"","",null,null,null,"",""]
[null,{"$f":"IF(AND(B100=\"\",B101=\"\",B102=\"\",B103=\"\",B104=\"\"),\"\",\"Process (complete stack information if applicable):\")","v":""},{"$f":"IF(AND(B100=\"\",B101=\"\",B102=\"\",B103=\"\",B104=\"\"),\"\",\"Stack Height (ft):\")","v":""},{"$f":"IF(AND(B100=\"\",B101=\"\",B102=\"\",B103=\"\",B104=\"\"),\"\",\"Stack Diameter (inches):\")","v":""},{"$f":"IF(AND(B100=\"\",B101=\"\",B102=\"\",B103=\"\",B104=\"\"),\"\",\"Flow Rate (acfm):\")","v":""},{"$f":"IF(AND(B100=\"\",B101=\"\",B102=\"\",B103=\"\",B104=\"\"),\"\",\"Temperature (Deg F):\")","v":""},null,"","",null,null,null,"",""]
[null,null,null,null,null,null,null,"","",null,null,null,"",""]
[null,{"$f":"IF(COUNTIF(J93:J102,\"Cement Delivery to Silo\")>0,\"EP-2 Cement Silo Stack:\",\"\")","v":""},null,null,null,null,null,"","",null,null,null,"",""]
[null,{"$f":"IF(COUNTIF(J93:J102,\"Cement Supplement Delivery to Silo\")>0,\"EP-3 Cement Supplement Silo Stack:\",\"\")","v":""},null,null,null,null,null,"","",null,null,null,"",""]
[null,{"$f":"IF(COUNTIF(J93:J102,\"Weigh Hopper Loading\")>0,\"EP-4 Weigh Hopper Loading Stack:\",\"\")","v":""},null,null,null,null,null,"","",null,null,null,"",""]
[null,{"$f":"IF(COUNTIF(J93:J102,\"Truck Mix Loading\")>0,\"EP-5 Truck Mix Loading Stack:\",\"\")","v":""}]
[null,{"$f":"IF(COUNTIF(J93:J102,\"Central Mix Loading\")>0,\"EP-6 Central Mix Loading Stack:\",\"\")","v":""},null,null,null,null,null,{"$f":"IF('Concrete Plant (CP-3)'!$D$4>4,\"Stock Pile Area\",\"\")","v":""}]
[null,null,null,null,null,null,null,null,{"$f":"IF('Concrete Plant (CP-3)'!$D$4>4,\"Emission Unit #\",\"\")","v":""},{"$f":"IF('Concrete Plant (CP-3)'!$D$4>4,\"Maximum Storage Area (acres)\",\"\")","v":""},{"$f":"IF('Concrete Plant (CP-3)'!$D$4>4,\"Actual Storage Area (acres)\",\"\")","v":""},{"$f":"IF('Concrete Plant (CP-3)'!$D$4>4,\"Actual Days in Existence (days)\",\"\")","v":""}]
[]
[]
[]
[null,{"$f":"IF('Concrete Plant (CP-3)'!$D$4>5,\"Batch Plant\",\"\")","v":""},{"$f":"IF('Concrete Plant (CP-3)'!$D$4>5,\"Site 6\",\"\")","v":""},null,null,null,null,{"$f":"IF('Concrete Plant (CP-3)'!$D$4>5,\"Emission Point #\",\"\")","v":""},{"$f":"IF('Concrete Plant (CP-3)'!$D$4>5,\"Emission     Unit #\",\"\")","v":""},{"$f":"IF('Concrete Plant (CP-3)'!$D$4>5,\"Processes\",\"\")","v":""},{"$f":"IF('Concrete Plant (CP-3)'!$D$4>5,\"Combined Maximum Hourly Design Rate for all Like Processes (cubic yard/hr)\",\"\")","v":""},{"$f":"IF('Concrete Plant (CP-3)'!$D$4>5,('Facility Information'!G5&\" Annual Throughput (cubic yards)\"),\"\")","v":""}]
[null,null,null,null,null,null,null,null,null,null,null,null,"Truck","Central"]
[null,{"$f":"IF('Concrete Plant (CP-3)'!$D$4>5,\"Site Name:\",\"\")","v":""},null,null,null,null,null,{"$f":"IF(J111=\"cement delivery to silo\",\"CP-1 EP-2\",IF(J111=\"cement supplement delivery to silo\",\"CP-1 EP-3\",IF(J111=\"weigh hopper loading\",\"CP-1 EP-4\",IF(J111=\"truck mix loading\",\"CP-1 EP-5\",IF(J111=\"central mix loading\",\"CP-1 EP-6\",IF(J111=\"\",\"\",\"CP-1 EP-1\"))))))","v":""},{"$f":"IF(J111=\"\",\"\",IF(J111=\"aggregate delivery to ground storage\",\"CP-3 EU-1\",IF(J111=\"sand delivery to ground storage\",\"CP-3 EU-2\",IF(J111=\"aggregate transfer to conveyor\",\"CP-3 EU-3\",IF(J111=\"sand transfer to conveyor\",\"CP-3 EU-4\",IF(J111=\"aggregate transfer to elevated storage\",\"CP-3 EU-5\",IF(J111=\"sand transfer to elevated storage\",\"CP-3 EU-6\",IF(J111=\"weigh hopper loading\",\"CP-3 EU-7\",IF(J111=\"central mix loading\",\"CP-3 EU-8\",IF(J111=\"truck mix loading\",\"CP-3 EU-9\",IF(J111=\"cement delivery to silo\",\"CP-3 EU-10\",IF(J111=\"cement supplement delivery to silo\",\"CP-3 EU-11\"))))))))))))","v":""},null,null,null,{"$f":"IF(J111=\"truck mix loading\",IF($F$114=\"yes\",L111*0.05/2000,L111/2000),\"\")","v":""},{"$f":"IF(J111=\"central mix loading\",IF($F$114=\"yes\",L111*0.05/2000,L111/2000),\"\")","v":""}]
[null,{"$f":"IF('Concrete Plant (CP-3)'!$D$4>5,\"County:\",\"\")","v":""},null,null,null,null,null,{"$f":"IF(J112=\"cement delivery to silo\",\"CP-1 EP-2\",IF(J112=\"cement supplement delivery to silo\",\"CP-1 EP-3\",IF(J112=\"weigh hopper loading\",\"CP-1 EP-4\",IF(J112=\"truck mix loading\",\"CP-1 EP-5\",IF(J112=\"central mix loading\",\"CP-1 EP-6\",IF(J112=\"\",\"\",\"CP-1 EP-1\"))))))","v":""},"",null,null,null,{"$f":"IF(J112=\"truck mix loading\",IF($F$114=\"yes\",L112*0.05/2000,L112/2000),\"\")","v":""},{"$f":"IF(J112=\"central mix loading\",IF($F$114=\"yes\",L112*0.05/2000,L112/2000),\"\")","v":""}]
[null,{"$f":"IF('Concrete Plant (CP-3)'!$D$4>5,\"Batching Period (Dates):\",\"\")","v":""},null,null,null,null,null,"","",null,null,null,"",""]
[null,{"$f":"IF(OR(COUNTIF(J111:J120,\"Truck Mix Loading\")>0,(COUNTIF(J111:J120,\"Central Mix Loading\")>0)),\"Is the Central/Truck Mix Loading process controlled by a baghouse?\",\"\")","v":""},null,null,null,null,null,"","",null,null,null,"",""]
[null,null,null,null,null,null,null,"","",null,null,null,"",""]
[null,{"$f":"IF(AND(B118=\"\",B119=\"\",B120=\"\",B121=\"\",B122=\"\"),\"\",\"Process (complete stack information if applicable):\")","v":""},{"$f":"IF(AND(B118=\"\",B119=\"\",B120=\"\",B121=\"\",B122=\"\"),\"\",\"Stack Height (ft):\")","v":""},{"$f":"IF(AND(B118=\"\",B119=\"\",B120=\"\",B121=\"\",B122=\"\"),\"\",\"Stack Diameter (inches):\")","v":""},{"$f":"IF(AND(B118=\"\",B119=\"\",B120=\"\",B121=\"\",B122=\"\"),\"\",\"Flow Rate (acfm):\")","v":""},{"$f":"IF(AND(B118=\"\",B119=\"\",B120=\"\",B121=\"\",B122=\"\"),\"\",\"Temperature (Deg F):\")","v":""},null,"","",null,null,null,"",""]
[null,null,null,null,null,null,null,"","",null,null,null,"",""]
[null,{"$f":"IF(COUNTIF(J111:J120,\"Cement Delivery to Silo\")>0,\"EP-2 Cement Silo Stack:\",\"\")","v":""},null,null,null,null,null,"","",null,null,null,"",""]
[null,{"$f":"IF(COUNTIF(J111:J120,\"Cement Supplement Delivery to Silo\")>0,\"EP-3 Cement Supplement Silo Stack:\",\"\")","v":""},null,null,null,null,null,"","",null,null,null,"",""]
[null,{"$f":"IF(COUNTIF(J111:J120,\"Weigh Hopper Loading\")>0,\"EP-4 Weigh Hopper Loading Stack:\",\"\")","v":""},null,null,null,null,null,"","",null,null,null,"",""]
[null,{"$f":"IF(COUNTIF(J111:J120,\"Truck Mix Loading\")>0,\"EP-5 Truck Mix Loading Stack:\",\"\")","v":""}]
[null,{"$f":"IF(COUNTIF(J111:J120,\"Central Mix Loading\")>0,\"EP-6 Central Mix Loading Stack:\",\"\")","v":""},null,null,null,null,null,{"$f":"IF('Concrete Plant (CP-3)'!$D$4>5,\"Stock Pile Area\",\"\")","v":""}]
[null,null,null,null,null,null,null,null,{"$f":"IF('Concrete Plant (CP-3)'!$D$4>5,\"Emission Unit #\",\"\")","v":""},{"$f":"IF('Concrete Plant (CP-3)'!$D$4>5,\"Maximum Storage Area (acres)\",\"\")","v":""},{"$f":"IF('Concrete Plant (CP-3)'!$D$4>5,\"Actual Storage Area (acres)\",\"\")","v":""},{"$f":"IF('Concrete Plant (CP-3)'!$D$4>5,\"Actual Days in Existence (days)\",\"\")","v":""}]
[]
[]
[]
[null,{"$f":"IF('Concrete Plant (CP-3)'!$D$4>6,\"Batch Plant\",\"\")","v":""},{"$f":"IF('Concrete Plant (CP-3)'!$D$4>6,\"Site 7\",\"\")","v":""},null,null,null,null,{"$f":"IF('Concrete Plant (CP-3)'!$D$4>6,\"Emission Point #\",\"\")","v":""},{"$f":"IF('Concrete Plant (CP-3)'!$D$4>6,\"Emission     Unit #\",\"\")","v":""},{"$f":"IF('Concrete Plant (CP-3)'!$D$4>6,\"Processes\",\"\")","v":""},{"$f":"IF('Concrete Plant (CP-3)'!$D$4>6,\"Combined Maximum Hourly Design Rate for all Like Processes (cubic yard/hr)\",\"\")","v":""},{"$f":"IF('Concrete Plant (CP-3)'!$D$4>6,('Facility Information'!G5&\" Annual Throughput (cubic yards)\"),\"\")","v":""}]
[null,null,null,null,null,null,null,null,null,null,null,null,"Truck","Central"]
[null,{"$f":"IF('Concrete Plant (CP-3)'!$D$4>6,\"Site Name:\",\"\")","v":""},null,null,null,null,null,{"$f":"IF(J129=\"cement delivery to silo\",\"CP-1 EP-2\",IF(J129=\"cement supplement delivery to silo\",\"CP-1 EP-3\",IF(J129=\"weigh hopper loading\",\"CP-1 EP-4\",IF(J129=\"truck mix loading\",\"CP-1 EP-5\",IF(J129=\"central mix loading\",\"CP-1 EP-6\",IF(J129=\"\",\"\",\"CP-1 EP-1\"))))))","v":""},{"$f":"IF(J129=\"\",\"\",IF(J129=\"aggregate delivery to ground storage\",\"CP-3 EU-1\",IF(J129=\"sand delivery to ground storage\",\"CP-3 EU-2\",IF(J129=\"aggregate transfer to conveyor\",\"CP-3 EU-3\",IF(J129=\"sand transfer to conveyor\",\"CP-3 EU-4\",IF(J129=\"aggregate transfer to elevated storage\",\"CP-3 EU-5\",IF(J129=\"sand transfer to elevated storage\",\"CP-3 EU-6\",IF(J129=\"weigh hopper loading\",\"CP-3 EU-7\",IF(J129=\"central mix loading\",\"CP-3 EU-8\",IF(J129=\"truck mix loading\",\"CP-3 EU-9\",IF(J129=\"cement delivery to silo\",\"CP-3 EU-10\",IF(J129=\"cement supplement delivery to silo\",\"CP-3 EU-11\"))))))))))))","v":""},null,null,null,{"$f":"IF(J129=\"truck mix loading\",IF($F$132=\"yes\",L129*0.05/2000,L129/2000),\"\")","v":""},{"$f":"IF(J129=\"central mix loading\",IF($F$132=\"yes\",L129*0.05/2000,L129/2000),\"\")","v":""}]
[null,{"$f":"IF('Concrete Plant (CP-3)'!$D$4>6,\"County:\",\"\")","v":""},null,null,null,null,null,{"$f":"IF(J130=\"cement delivery to silo\",\"CP-1 EP-2\",IF(J130=\"cement supplement delivery to silo\",\"CP-1 EP-3\",IF(J130=\"weigh hopper loading\",\"CP-1 EP-4\",IF(J130=\"truck mix loading\",\"CP-1 EP-5\",IF(J130=\"central mix loading\",\"CP-1 EP-6\",IF(J130=\"\",\"\",\"CP-1 EP-1\"))))))","v":""},"",null,null,null,{"$f":"IF(J130=\"truck mix loading\",IF($F$132=\"yes\",L130*0.05/2000,L130/2000),\"\")","v":""},{"$f":"IF(J130=\"central mix loading\",IF($F$132=\"yes\",L130*0.05/2000,L130/2000),\"\")","v":""}]
[null,{"$f":"IF('Concrete Plant (CP-3)'!$D$4>6,\"Batching Period (Dates):\",\"\")","v":""},null,null,null,null,null,"","",null,null,null,"",""]
[null,{"$f":"IF(OR(COUNTIF(J129:J138,\"Truck Mix Loading\")>0,(COUNTIF(J129:J138,\"Central Mix Loading\")>0)),\"Is the Central/Truck Mix Loading process controlled by a baghouse?\",\"\")","v":""},null,null,null,null,null,"","",null,null,null,"",""]
[null,null,null,null,null,null,null,"","",null,null,null,"",""]
[null,{"$f":"IF(AND(B136=\"\",B137=\"\",B138=\"\",B139=\"\",B140=\"\"),\"\",\"Process (complete stack information if applicable):\")","v":""},{"$f":"IF(AND(B136=\"\",B137=\"\",B138=\"\",B139=\"\",B140=\"\"),\"\",\"Stack Height (ft):\")","v":""},{"$f":"IF(AND(B136=\"\",B137=\"\",B138=\"\",B139=\"\",B140=\"\"),\"\",\"Stack Diameter (inches):\")","v":""},{"$f":"IF(AND(B136=\"\",B137=\"\",B138=\"\",B139=\"\",B140=\"\"),\"\",\"Flow Rate (acfm):\")","v":""},{"$f":"IF(AND(B136=\"\",B137=\"\",B138=\"\",B139=\"\",B140=\"\"),\"\",\"Temperature (Deg F):\")","v":""},null,"","",null,null,null,"",""]
[null,null,null,null,null,null,null,"","",null,null,null,"",""]
[null,{"$f":"IF(COUNTIF(J129:J138,\"Cement Delivery to Silo\")>0,\"EP-2 Cement Silo Stack:\",\"\")","v":""},null,null,null,null,null,"","",null,null,null,"",""]
[null,{"$f":"IF(COUNTIF(J129:J138,\"Cement Supplement Delivery to Silo\")>0,\"EP-3 Cement Supplement Silo Stack:\",\"\")","v":""},null,null,null,null,null,"","",null,null,null,"",""]
[null,{"$f":"IF(COUNTIF(J129:J138,\"Weigh Hopper Loading\")>0,\"EP-4 Weigh Hopper Loading Stack:\",\"\")","v":""},null,null,null,null,null,"","",null,null,null,"",""]
[null,{"$f":"IF(COUNTIF(J129:J138,\"Truck Mix Loading\")>0,\"EP-5 Truck Mix Loading Stack:\",\"\")","v":""}]
[null,{"$f":"IF(COUNTIF(J129:J138,\"Central Mix Loading\")>0,\"EP-6 Central Mix Loading Stack:\",\"\")","v":""},null,null,null,null,null,{"$f":"IF('Concrete Plant (CP-3)'!$D$4>6,\"Stock Pile Area\",\"\")","v":""}]
[null,null,null,null,null,null,null,null,{"$f":"IF('Concrete Plant (CP-3)'!$D$4>6,\"Emission Unit #\",\"\")","v":""},{"$f":"IF('Concrete Plant (CP-3)'!$D$4>6,\"Maximum Storage Area (acres)\",\"\")","v":""},{"$f":"IF('Concrete Plant (CP-3)'!$D$4>6,\"Actual Storage Area (acres)\",\"\")","v":""},{"$f":"IF('Concrete Plant (CP-3)'!$D$4>6,\"Actual Days in Existence (days)\",\"\")","v":""}]
[]
[]
[]
[null,{"$f":"IF('Concrete Plant (CP-3)'!$D$4>7,\"Batch Plant\",\"\")","v":""},{"$f":"IF('Concrete Plant (CP-3)'!$D$4>7,\"Site 8\",\"\")","v":""},null,null,null,null,{"$f":"IF('Concrete Plant (CP-3)'!$D$4>7,\"Emission Point #\",\"\")","v":""},{"$f":"IF('Concrete Plant (CP-3)'!$D$4>7,\"Emission     Unit #\",\"\")","v":""},{"$f":"IF('Concrete Plant (CP-3)'!$D$4>7,\"Processes\",\"\")","v":""},{"$f":"IF('Concrete Plant (CP-3)'!$D$4>7,\"Combined Maximum Hourly Design Rate for all Like Processes (cubic yard/hr)\",\"\")","v":""},{"$f":"IF('Concrete Plant (CP-3)'!$D$4>7,('Facility Information'!G5&\" Annual Throughput (cubic yards)\"),\"\")","v":""}]
[null,null,null,null,null,null,null,null,null,null,null,null,"Truck","Central"]
[null,{"$f":"IF('Concrete Plant (CP-3)'!$D$4>7,\"Site Name:\",\"\")","v":""},null,null,null,null,null,{"$f":"IF(J147=\"cement delivery to silo\",\"CP-1 EP-2\",IF(J147=\"cement supplement delivery to silo\",\"CP-1 EP-3\",IF(J147=\"weigh hopper loading\",\"CP-1 EP-4\",IF(J147=\"truck mix loading\",\"CP-1 EP-5\",IF(J147=\"central mix loading\",\"CP-1 EP-6\",IF(J147=\"\",\"\",\"CP-1 EP-1\"))))))","v":""},{"$f":"IF(J147=\"\",\"\",IF(J147=\"aggregate delivery to ground storage\",\"CP-3 EU-1\",IF(J147=\"sand delivery to ground storage\",\"CP-3 EU-2\",IF(J147=\"aggregate transfer to conveyor\",\"CP-3 EU-3\",IF(J147=\"sand transfer to conveyor\",\"CP-3 EU-4\",IF(J147=\"aggregate transfer to elevated storage\",\"CP-3 EU-5\",IF(J147=\"sand transfer to elevated storage\",\"CP-3 EU-6\",IF(J147=\"weigh hopper loading\",\"CP-3 EU-7\",IF(J147=\"central mix loading\",\"CP-3 EU-8\",IF(J147=\"truck mix loading\",\"CP-3 EU-9\",IF(J147=\"cement delivery to silo\",\"CP-3 EU-10\",IF(J147=\"cement supplement delivery to silo\",\"CP-3 EU-11\"))))))))))))","v":""},null,null,null,{"$f":"IF(J147=\"truck mix loading\",IF($F$150=\"yes\",L147*0.05/2000,L147/2000),\"\")","v":""},{"$f":"IF(J147=\"central mix loading\",IF($F$150=\"yes\",L147*0.05/2000,L147/2000),\"\")","v":""}]
[null,{"$f":"IF('Concrete Plant (CP-3)'!$D$4>7,\"County:\",\"\")","v":""},null,null,null,null,null,{"$f":"IF(J148=\"cement delivery to silo\",\"CP-1 EP-2\",IF(J148=\"cement supplement delivery to silo\",\"CP-1 EP-3\",IF(J148=\"weigh hopper loading\",\"CP-1 EP-4\",IF(J148=\"truck mix loading\",\"CP-1 EP-5\",IF(J148=\"central mix loading\",\"CP-1 EP-6\",IF(J148=\"\",\"\",\"CP-1 EP-1\"))))))","v":""},"",null,null,null,{"$f":"IF(J148=\"truck mix loading\",IF($F$150=\"yes\",L148*0.05/2000,L148/2000),\"\")","v":""},{"$f":"IF(J148=\"central mix loading\",IF($F$150=\"yes\",L148*0.05/2000,L148/2000),\"\")","v":""}]
[null,{"$f":"IF('Concrete Plant (CP-3)'!$D$4>7,\"Batching Period (Dates):\",\"\")","v":""},null,null,null,null,null,"","",null,null,null,"",""]
[null,{"$f":"IF(OR(COUNTIF(J147:J156,\"Truck Mix Loading\")>0,(COUNTIF(J147:J156,\"Central Mix Loading\")>0)),\"Is the Central/Truck Mix Loading process controlled by a baghouse?\",\"\")","v":""},null,null,null,null,null,"","",null,null,null,"",""]
[null,null,null,null,null,null,null,"","",null,null,null,"",""]
[null,{"$f":"IF(AND(B154=\"\",B155=\"\",B156=\"\",B157=\"\",B158=\"\"),\"\",\"Process (complete stack information if applicable):\")","v":""},{"$f":"IF(AND(B154=\"\",B155=\"\",B156=\"\",B157=\"\",B158=\"\"),\"\",\"Stack Height (ft):\")","v":""},{"$f":"IF(AND(B154=\"\",B155=\"\",B156=\"\",B157=\"\",B158=\"\"),\"\",\"Stack Diameter (inches):\")","v":""},{"$f":"IF(AND(B154=\"\",B155=\"\",B156=\"\",B157=\"\",B158=\"\"),\"\",\"Flow Rate (acfm):\")","v":""},{"$f":"IF(AND(B154=\"\",B155=\"\",B156=\"\",B157=\"\",B158=\"\"),\"\",\"Temperature (Deg F):\")","v":""},null,"","",null,null,null,"",""]
[null,null,null,null,null,null,null,"","",null,null,null,"",""]
[null,{"$f":"IF(COUNTIF(J147:J156,\"Cement Delivery to Silo\")>0,\"EP-2 Cement Silo Stack:\",\"\")","v":""},null,null,null,null,null,"","",null,null,null,"",""]
[null,{"$f":"IF(COUNTIF(J147:J156,\"Cement Supplement Delivery to Silo\")>0,\"EP-3 Cement Supplement Silo Stack:\",\"\")","v":""},null,null,null,null,null,"","",null,null,null,"",""]
[null,{"$f":"IF(COUNTIF(J147:J156,\"Weigh Hopper Loading\")>0,\"EP-4 Weigh Hopper Loading Stack:\",\"\")","v":""},null,null,null,null,null,"","",null,null,null,"",""]
[null,{"$f":"IF(COUNTIF(J147:J156,\"Truck Mix Loading\")>0,\"EP-5 Truck Mix Loading Stack:\",\"\")","v":""}]
[null,{"$f":"IF(COUNTIF(J147:J156,\"Central Mix Loading\")>0,\"EP-6 Central Mix Loading Stack:\",\"\")","v":""},null,null,null,null,null,{"$f":"IF('Concrete Plant (CP-3)'!$D$4>7,\"Stock Pile Area\",\"\")","v":""}]
[null,null,null,null,null,null,null,null,{"$f":"IF('Concrete Plant (CP-3)'!$D$4>7,\"Emission Unit #\",\"\")","v":""},{"$f":"IF('Concrete Plant (CP-3)'!$D$4>7,\"Maximum Storage Area (acres)\",\"\")","v":""},{"$f":"IF('Concrete Plant (CP-3)'!$D$4>7,\"Actual Storage Area (acres)\",\"\")","v":""},{"$f":"IF('Concrete Plant (CP-3)'!$D$4>7,\"Actual Days in Existence (days)\",\"\")","v":""}]
[]
[]
[]
[null,{"$f":"IF('Concrete Plant (CP-3)'!$D$4>8,\"Batch Plant\",\"\")","v":""},{"$f":"IF('Concrete Plant (CP-3)'!$D$4>8,\"Site 9\",\"\")","v":""},null,null,null,null,{"$f":"IF('Concrete Plant (CP-3)'!$D$4>8,\"Emission Point #\",\"\")","v":""},{"$f":"IF('Concrete Plant (CP-3)'!$D$4>8,\"Emission     Unit #\",\"\")","v":""},{"$f":"IF('Concrete Plant (CP-3)'!$D$4>8,\"Processes\",\"\")","v":""},{"$f":"IF('Concrete Plant (CP-3)'!$D$4>8,\"Combined Maximum Hourly Design Rate for all Like Processes (cubic yard/hr)\",\"\")","v":""},{"$f":"IF('Concrete Plant (CP-3)'!$D$4>8,('Facility Information'!G5&\" Annual Throughput (cubic yards)\"),\"\")","v":""}]
[null,null,null,null,null,null,null,null,null,null,null,null,"Truck","Central"]
[null,{"$f":"IF('Concrete Plant (CP-3)'!$D$4>8,\"Site Name:\",\"\")","v":""},null,null,null,null,null,{"$f":"IF(J165=\"cement delivery to silo\",\"CP-1 EP-2\",IF(J165=\"cement supplement delivery to silo\",\"CP-1 EP-3\",IF(J165=\"weigh hopper loading\",\"CP-1 EP-4\",IF(J165=\"truck mix loading\",\"CP-1 EP-5\",IF(J165=\"central mix loading\",\"CP-1 EP-6\",IF(J165=\"\",\"\",\"CP-1 EP-1\"))))))","v":""},{"$f":"IF(J165=\"\",\"\",IF(J165=\"aggregate delivery to ground storage\",\"CP-3 EU-1\",IF(J165=\"sand delivery to ground storage\",\"CP-3 EU-2\",IF(J165=\"aggregate transfer to conveyor\",\"CP-3 EU-3\",IF(J165=\"sand transfer to conveyor\",\"CP-3 EU-4\",IF(J165=\"aggregate transfer to elevated storage\",\"CP-3 EU-5\",IF(J165=\"sand transfer to elevated storage\",\"CP-3 EU-6\",IF(J165=\"weigh hopper loading\",\"CP-3 EU-7\",IF(J165=\"central mix loading\",\"CP-3 EU-8\",IF(J165=\"truck mix loading\",\"CP-3 EU-9\",IF(J165=\"cement delivery to silo\",\"CP-3 EU-10\",IF(J165=\"cement supplement delivery to silo\",\"CP-3 EU-11\"))))))))))))","v":""},null,null,null,{"$f":"IF(J165=\"truck mix loading\",IF($F$168=\"yes\",L165*0.05/2000,L165/2000),\"\")","v":""},{"$f":"IF(J165=\"central mix loading\",IF($F$168=\"yes\",L165*0.05/2000,L165/2000),\"\")","v":""}]
[null,{"$f":"IF('Concrete Plant (CP-3)'!$D$4>8,\"County:\",\"\")","v":""},null,null,null,null,null,{"$f":"IF(J166=\"cement delivery to silo\",\"CP-1 EP-2\",IF(J166=\"cement supplement delivery to silo\",\"CP-1 EP-3\",IF(J166=\"weigh hopper loading\",\"CP-1 EP-4\",IF(J166=\"truck mix loading\",\"CP-1 EP-5\",IF(J166=\"central mix loading\",\"CP-1 EP-6\",IF(J166=\"\",\"\",\"CP-1 EP-1\"))))))","v":""},"",null,null,null,{"$f":"IF(J166=\"truck mix loading\",IF($F$168=\"yes\",L166*0.05/2000,L166/2000),\"\")","v":""},{"$f":"IF(J166=\"central mix loading\",IF($F$168=\"yes\",L166*0.05/2000,L166/2000),\"\")","v":""}]
[null,{"$f":"IF('Concrete Plant (CP-3)'!$D$4>8,\"Batching Period (Dates):\",\"\")","v":""},null,null,null,null,null,"","",null,null,null,"",""]
[null,{"$f":"IF(OR(COUNTIF(J165:J174,\"Truck Mix Loading\")>0,(COUNTIF(J165:J174,\"Central Mix Loading\")>0)),\"Is the Central/Truck Mix Loading process controlled by a baghouse?\",\"\")","v":""},null,null,null,null,null,"","",null,null,null,"",""]
[null,null,null,null,null,null,null,"","",null,null,null,"",""]
[null,{"$f":"IF(AND(B172=\"\",B173=\"\",B174=\"\",B175=\"\",B176=\"\"),\"\",\"Process (complete stack information if applicable):\")","v":""},{"$f":"IF(AND(B172=\"\",B173=\"\",B174=\"\",B175=\"\",B176=\"\"),\"\",\"Stack Height (ft):\")","v":""},{"$f":"IF(AND(B172=\"\",B173=\"\",B174=\"\",B175=\"\",B176=\"\"),\"\",\"Stack Diameter (inches):\")","v":""},{"$f":"IF(AND(B172=\"\",B173=\"\",B174=\"\",B175=\"\",B176=\"\"),\"\",\"Flow Rate (acfm):\")","v":""},{"$f":"IF(AND(B172=\"\",B173=\"\",B174=\"\",B175=\"\",B176=\"\"),\"\",\"Temperature (Deg F):\")","v":""},null,"","",null,null,null,"",""]
[null,null,null,null,null,null,null,"","",null,null,null,"",""]
[null,{"$f":"IF(COUNTIF(J165:J174,\"Cement Delivery to Silo\")>0,\"EP-2 Cement Silo Stack:\",\"\")","v":""},null,null,null,null,null,"","",null,null,null,"",""]
[null,{"$f":"IF(COUNTIF(J165:J174,\"Cement Supplement Delivery to Silo\")>0,\"EP-3 Cement Supplement Silo Stack:\",\"\")","v":""},null,null,null,null,null,"","",null,null,null,"",""]
[null,{"$f":"IF(COUNTIF(J165:J174,\"Weigh Hopper Loading\")>0,\"EP-4 Weigh Hopper Loading Stack:\",\"\")","v":""},null,null,null,null,null,"","",null,null,null,"",""]
[null,{"$f":"IF(COUNTIF(J165:J174,\"Truck Mix Loading\")>0,\"EP-5 Truck Mix Loading Stack:\",\"\")","v":""}]
[null,{"$f":"IF(COUNTIF(J165:J174,\"Central Mix Loading\")>0,\"EP-6 Central Mix Loading Stack:\",\"\")","v":""},null,null,null,null,null,{"$f":"IF('Concrete Plant (CP-3)'!$D$4>8,\"Stock Pile Area\",\"\")","v":""}]
[null,null,null,null,null,null,null,null,{"$f":"IF('Concrete Plant (CP-3)'!$D$4>8,\"Emission Unit #\",\"\")","v":""},{"$f":"IF('Concrete Plant (CP-3)'!$D$4>8,\"Maximum Storage Area (acres)\",\"\")","v":""},{"$f":"IF('Concrete Plant (CP-3)'!$D$4>8,\"Actual Storage Area (acres)\",\"\")","v":""},{"$f":"IF('Concrete Plant (CP-3)'!$D$4>8,\"Actual Days in Existence (days)\",\"\")","v":""}]
[]
[]
[]
[null,{"$f":"IF('Concrete Plant (CP-3)'!$D$4>9,\"Batch Plant\",\"\")","v":""},{"$f":"IF('Concrete Plant (CP-3)'!$D$4>9,\"Site 10\",\"\")","v":""},null,null,null,null,{"$f":"IF('Concrete Plant (CP-3)'!$D$4>9,\"Emission Point #\",\"\")","v":""},{"$f":"IF('Concrete Plant (CP-3)'!$D$4>9,\"Emission     Unit #\",\"\")","v":""},{"$f":"IF('Concrete Plant (CP-3)'!$D$4>9,\"Processes\",\"\")","v":""},{"$f":"IF('Concrete Plant (CP-3)'!$D$4>9,\"Combined Maximum Hourly Design Rate for all Like Processes (cubic yard/hr)\",\"\")","v":""},{"$f":"IF('Concrete Plant (CP-3)'!$D$4>9,('Facility Information'!G5&\" Annual Throughput (cubic yards)\"),\"\")","v":""}]
[null,null,null,null,null,null,null,null,null,null,null,null,"Truck","Central"]
[null,{"$f":"IF('Concrete Plant (CP-3)'!$D$4>9,\"Site Name:\",\"\")","v":""},null,null,null,null,null,{"$f":"IF(J183=\"cement delivery to silo\",\"CP-1 EP-2\",IF(J183=\"cement supplement delivery to silo\",\"CP-1 EP-3\",IF(J183=\"weigh hopper loading\",\"CP-1 EP-4\",IF(J183=\"truck mix loading\",\"CP-1 EP-5\",IF(J183=\"central mix loading\",\"CP-1 EP-6\",IF(J183=\"\",\"\",\"CP-1 EP-1\"))))))","v":""},{"$f":"IF(J183=\"\",\"\",IF(J183=\"aggregate delivery to ground storage\",\"CP-3 EU-1\",IF(J183=\"sand delivery to ground storage\",\"CP-3 EU-2\",IF(J183=\"aggregate transfer to conveyor\",\"CP-3 EU-3\",IF(J183=\"sand transfer to conveyor\",\"CP-3 EU-4\",IF(J183=\"aggregate transfer to elevated storage\",\"CP-3 EU-5\",IF(J183=\"sand transfer to elevated storage\",\"CP-3 EU-6\",IF(J183=\"weigh hopper loading\",\"CP-3 EU-7\",IF(J183=\"central mix loading\",\"CP-3 EU-8\",IF(J183=\"truck mix loading\",\"CP-3 EU-9\",IF(J183=\"cement delivery to silo\",\"CP-3 EU-10\",IF(J183=\"cement supplement delivery to silo\",\"CP-3 EU-11\"))))))))))))","v":""},null,null,null,{"$f":"IF(J183=\"truck mix loading\",IF($F$186=\"yes\",L183*0.05/2000,L183/2000),\"\")","v":""},{"$f":"IF(J183=\"central mix loading\",IF($F$186=\"yes\",L183*0.05/2000,L183/2000),\"\")","v":""}]
[null,{"$f":"IF('Concrete Plant (CP-3)'!$D$4>9,\"County:\",\"\")","v":""},null,null,null,null,null,{"$f":"IF(J184=\"cement delivery to silo\",\"CP-1 EP-2\",IF(J184=\"cement supplement delivery to silo\",\"CP-1 EP-3\",IF(J184=\"weigh hopper loading\",\"CP-1 EP-4\",IF(J184=\"truck mix loading\",\"CP-1 EP-5\",IF(J184=\"central mix loading\",\"CP-1 EP-6\",IF(J184=\"\",\"\",\"CP-1 EP-1\"))))))","v":""},"",null,null,null,{"$f":"IF(J184=\"truck mix loading\",IF($F$186=\"yes\",L184*0.05/2000,L184/2000),\"\")","v":""},{"$f":"IF(J184=\"central mix loading\",IF($F$186=\"yes\",L184*0.05/2000,L184/2000),\"\")","v":""}]
[null,{"$f":"IF('Concrete Plant (CP-3)'!$D$4>9,\"Batching Period (Dates):\",\"\")","v":""},null,null,null,null,null,"","",null,null,null,"",""]
[null,{"$f":"IF(OR(COUNTIF(J183:J192,\"Truck Mix Loading\")>0,(COUNTIF(J183:J192,\"Central Mix Loading\")>0)),\"Is the Central/Truck Mix Loading process controlled by a baghouse?\",\"\")","v":""},null,null,null,null,null,"","",null,null,null,"",""]
[null,null,null,null,null,null,null,"","",null,null,null,"",""]
[null,{"$f":"IF(AND(B190=\"\",B191=\"\",B192=\"\",B193=\"\",B194=\"\"),\"\",\"Process (complete stack information if applicable):\")","v":""},{"$f":"IF(AND(B190=\"\",B191=\"\",B192=\"\",B193=\"\",B194=\"\"),\"\",\"Stack Height (ft):\")","v":""},{"$f":"IF(AND(B190=\"\",B191=\"\",B192=\"\",B193=\"\",B194=\"\"),\"\",\"Stack Diameter (inches):\")","v":""},{"$f":"IF(AND(B190=\"\",B191=\"\",B192=\"\",B193=\"\",B194=\"\"),\"\",\"Flow Rate (acfm):\")","v":""},{"$f":"IF(AND(B190=\"\",B191=\"\",B192=\"\",B193=\"\",B194=\"\"),\"\",\"Temperature (Deg F):\")","v":""},null,"","",null,null,null,"",""]
[null,null,null,null,null,null,null,"","",null,null,null,"",""]
[null,{"$f":"IF(COUNTIF(J183:J192,\"Cement Delivery to Silo\")>0,\"EP-2 Cement Silo Stack:\",\"\")","v":""},null,null,null,null,null,"","",null,null,null,"",""]
[null,{"$f":"IF(COUNTIF(J183:J192,\"Cement Supplement Delivery to Silo\")>0,\"EP-3 Cement Supplement Silo Stack:\",\"\")","v":""},null,null,null,null,null,"","",null,null,null,"",""]
[null,{"$f":"IF(COUNTIF(J183:J192,\"Weigh Hopper Loading\")>0,\"EP-4 Weigh Hopper Loading Stack:\",\"\")","v":""},null,null,null,null,null,"","",null,null,null,"",""]
[null,{"$f":"IF(COUNTIF(J183:J192,\"Truck Mix Loading\")>0,\"EP-5 Truck Mix Loading Stack:\",\"\")","v":""}]
[null,{"$f":"IF(COUNTIF(J183:J192,\"Central Mix Loading\")>0,\"EP-6 Central Mix Loading Stack:\",\"\")","v":""},null,null,null,null,null,{"$f":"IF('Concrete Plant (CP-3)'!$D$4>9,\"Stock Pile Area\",\"\")","v":""}]
[null,null,null,null,null,null,null,null,{"$f":"IF('Concrete Plant (CP-3)'!$D$4>9,\"Emission Unit #\",\"\")","v":""},{"$f":"IF('Concrete Plant (CP-3)'!$D$4>9,\"Maximum Storage Area (acres)\",\"\")","v":""},{"$f":"IF('Concrete Plant (CP-3)'!$D$4>9,\"Actual Storage Area (acres)\",\"\")","v":""},{"$f":"IF('Concrete Plant (CP-3)'!$D$4>9,\"Actual Days in Existence (days)\",\"\")","v":""}]
[]
[]
[null,null,null,null,null,null,null,null,null,null,null,null,{"$f":"SUM(M183:M192,M165:M174,M147:M156,M129:M138,M111:M120,M93:M102,M75:M84,M57:M66,M39:M48,M21:M30)","v":0},{"$f":"SUM(N183:N192,N165:N174,N147:N156,N129:N138,N111:N120,N93:N102,N75:N84,N57:N66,N39:N48,N21:N30)","v":0}]

{"sheet":"Concrete Plant (CP-4)","index":4,"n_rows":198,"n_cols":23,"rows_kept":198,"cut":false,"hidden":true,"merged":[[3,18,4,20],[59,1,59,4],[77,1,77,4],[95,1,95,4],[113,1,113,4],[131,1,131,4],[149,1,149,4],[167,1,167,4],[185,1,185,4],[151,5,152,5],[133,5,134,5],[115,5,116,5],[128,2,128,4],[129,2,129,4],[130,2,130,4],[97,5,98,5],[79,1,80,1],[79,2,80,2],[79,3,80,3],[79,4,80,4],[79,5,80,5],[61,1,62,1],[61,2,62,2],[61,3,62,3],[166,2,166,4],[133,1,134,1],[133,2,134,2],[133,3,134,3],[133,4,134,4],[115,1,116,1],[115,2,116,2],[115,3,116,3],[115,4,116,4],[151,1,152,1],[151,2,152,2],[151,3,152,3],[151,4,152,4],[97,1,98,1],[97,2,98,2],[97,3,98,3],[97,4,98,4],[110,2,110,4],[111,2,111,4],[112,2,112,4],[187,5,188,5],[169,1,170,1],[169,2,170,2],[169,3,170,3],[169,4,170,4],[169,5,170,5],[182,2,182,4],[183,2,183,4],[184,2,184,4],[187,1,188,1],[187,2,188,2],[187,3,188,3],[187,4,188,4],[61,4,62,4],[61,5,62,5],[76,2,76,4],[92,2,92,4],[93,2,93,4],[94,2,94,4],[74,2,74,4],[75,2,75,4],[20,2,20,4],[21,2,21,4],[22,2,22,4],[25,5,26,5],[43,5,44,5],[25,1,26,1],[25,2,26,2],[25,3,26,3],[25,4,26,4],[23,1,23,4],[41,1,41,4],[58,2,58,4],[57,2,57,4],[56,2,56,4],[38,2,38,4],[39,2,39,4],[40,2,40,4],[43,1,44,1],[43,2,44,2],[43,3,44,3],[43,4,44,4],[165,2,165,4],[164,2,164,4],[146,2,146,4],[147,2,147,4],[148,2,148,4],[2,17,3,17],[3,1,3,2],[20,16,21,16],[36,7,37,7],[36,8,37,8],[36,9,37,9],[36,10,37,10],[36,11,37,11],[72,7,73,7],[72,8,73,8],[72,9,73,9],[72,10,73,10],[72,11,73,11],[54,7,55,7],[54,8,55,8],[54,9,55,9],[54,10,55,10],[54,11,55,11],[108,7,109,7],[0,1,0,2],[1,10,1,11],[2,15,3,15],[2,16,3,16],[18,7,19,7],[18,8,19,8],[18,9,19,9],[18,10,19,10],[18,11,19,11],[1,1,1,4],[5,2,5,3],[10,3,10,4],[9,3,9,4],[8,3,8,4],[11,1,13,4],[10,1,10,2],[9,1,9,2],[8,1,8,2],[46,21,47,21],[20,17,21,17],[20,18,21,18],[20,19,21,19],[20,20,21,20],[20,21,21,21],[46,16,47,16],[46,17,47,17],[46,18,47,18],[46,19,47,19],[46,20,47,20],[108,8,109,8],[108,9,109,9],[108,10,109,10],[108,11,109,11],[90,7,91,7],[90,8,91,8],[90,9,91,9],[90,10,91,10],[90,11,91,11],[144,7,145,7],[144,8,145,8],[144,9,145,9],[144,10,145,10],[144,11,145,11],[126,7,127,7],[126,8,127,8],[126,9,127,9],[126,10,127,10],[126,11,127,11],[180,7,181,7],[180,8,181,8],[180,9,181,9],[180,10,181,10],[180,11,181,11],[162,7,163,7],[162,8,163,8],[162,9,163,9],[162,10,163,10],[162,11,163,11]]}
[null,"CONCRETE BATCH PLANT (CP-4)"]
[null,"Please fill in the yellow boxes as applicable for your facility. ",null,null,null,null,null,null,null,null,"Values used for calculating emissions →",null,null,null,null,"Values Used to Calculate Potential and Actual Emissions for the Listed Processes at this Plant"]
[null,null,null,null,null,null,null,null,null,null,null,null,null,null,null,"Process","Maximum Design Rate (cubic yards/hr)","Actual throughput (cubic yards/yr)"]
[null,{"$f":"\"Number of Sites this Plant operated at in \"&'Facility Information'!G5&\":\"","v":"Number of Sites this Plant operated at in :"},null,null,null,null,null,null,null,null,null,null,null,null,null,null,null,null,"** As of 2016 Potential Emissions are no longer required to be reported in the Minor Source Emissions Inventory**"]
[null,null,null,null,null,null,null,null,null,null,null,null,null,null,null,"Aggregate Delivery to Ground Storage",{"$f":"MAX((IFERROR(OFFSET($J$20,MATCH(\"Aggregate Delivery to Ground Storage\",$J$21:$J$30,0),1),0)),((IFERROR((OFFSET($J$38,MATCH(\"Aggregate Delivery to Ground Storage\",$J$39:$J$48,0),1)),0))),((IFERROR((OFFSET($J$56,MATCH(\"Aggregate Delivery to Ground Storage\",$J$57:$J$66,0),1)),0))),((IFERROR((OFFSET($J$74,MATCH(\"Aggregate Delivery to Ground Storage\",$J$75:$J$84,0),1)),0))),((IFERROR((OFFSET($J$92,MATCH(\"Aggregate Delivery to Ground Storage\",$J$93:$J$102,0),1)),0))),((IFERROR((OFFSET($J$110,MATCH(\"Aggregate Delivery to Ground Storage\",$J$111:$J$120,0),1)),0))),((IFERROR((OFFSET($J$128,MATCH(\"Aggregate Delivery to Ground Storage\",$J$129:$J$138,0),1)),0))),((IFERROR((OFFSET($J$146,MATCH(\"Aggregate Delivery to Ground Storage\",$J$147:$J$156,0),1)),0))),((IFERROR((OFFSET($J$164,MATCH(\"Aggregate Delivery to Ground Storage\",$J$165:$J$174,0),1)),0))),((IFERROR((OFFSET($J$181,MATCH(\"Aggregate Delivery to Ground Storage\",$J$183:$J$192,0),1)),0))),)","v":0},{"$f":"SUM((IFERROR(OFFSET($J$20,MATCH(\"Aggregate Delivery to Ground Storage\",$J$21:$J$30,0),2),0)),((IFERROR((OFFSET($J$38,MATCH(\"Aggregate Delivery to Ground Storage\",$J$39:$J$48,0),2)),0))),((IFERROR((OFFSET($J$56,MATCH(\"Aggregate Delivery to Ground Storage\",$J$57:$J$66,0),2)),0))),((IFERROR((OFFSET($J$74,MATCH(\"Aggregate Delivery to Ground Storage\",$J$75:$J$84,0),2)),0))),((IFERROR((OFFSET($J$92,MATCH(\"Aggregate Delivery to Ground Storage\",$J$93:$J$102,0),2)),0))),((IFERROR((OFFSET($J$110,MATCH(\"Aggregate Delivery to Ground Storage\",$J$111:$J$120,0),2)),0))),((IFERROR((OFFSET($J$128,MATCH(\"Aggregate Delivery to Ground Storage\",$J$129:$J$138,0),2)),0))),((IFERROR((OFFSET($J$146,MATCH(\"Aggregate Delivery to Ground Storage\",$J$147:$J$156,0),2)),0))),((IFERROR((OFFSET($J$164,MATCH(\"Aggregate Delivery to Ground Storage\",$J$165:$J$174,0),2)),0))),((IFERROR((OFFSET($J$181,MATCH(\"Aggregate Delivery to Ground Storage\",$J$183:$J$192,0),2)),0))))","v":0}]
[null,"Plant Specific Permit Number: ",null,null,null,null,null,null,null,null,null,null,null,null,null,"Sand Delivery to Ground Storage",{"$f":"MAX((IFERROR(OFFSET($J$20,MATCH(\"Sand Delivery to Ground Storage\",$J$21:$J$30,0),1),0)),((IFERROR((OFFSET($J$38,MATCH(\"Sand Delivery to Ground Storage\",$J$39:$J$48,0),1)),0))),((IFERROR((OFFSET($J$56,MATCH(\"Sand Delivery to Ground Storage\",$J$57:$J$66,0),1)),0))),((IFERROR((OFFSET($J$74,MATCH(\"Sand Delivery to Ground Storage\",$J$75:$J$84,0),1)),0))),((IFERROR((OFFSET($J$92,MATCH(\"Sand Delivery to Ground Storage\",$J$93:$J$102,0),1)),0))),((IFERROR((OFFSET($J$110,MATCH(\"Sand Delivery to Ground Storage\",$J$111:$J$120,0),1)),0))),((IFERROR((OFFSET($J$128,MATCH(\"Sand Delivery to Ground Storage\",$J$129:$J$138,0),1)),0))),((IFERROR((OFFSET($J$146,MATCH(\"Sand Delivery to Ground Storage\",$J$147:$J$156,0),1)),0))),((IFERROR((OFFSET($J$164,MATCH(\"Sand Delivery to Ground Storage\",$J$165:$J$174,0),1)),0))),((IFERROR((OFFSET($J$181,MATCH(\"Sand Delivery to Ground Storage\",$J$183:$J$192,0),1)),0))),)","v":0},{"$f":"SUM((IFERROR(OFFSET($J$20,MATCH(\"Sand Delivery to Ground Storage\",$J$21:$J$30,0),2),0)),((IFERROR((OFFSET($J$38,MATCH(\"Sand Delivery to Ground Storage\",$J$39:$J$48,0),2)),0))),((IFERROR((OFFSET($J$56,MATCH(\"Sand Delivery to Ground Storage\",$J$57:$J$66,0),2)),0))),((IFERROR((OFFSET($J$74,MATCH(\"Sand Delivery to Ground Storage\",$J$75:$J$84,0),2)),0))),((IFERROR((OFFSET($J$92,MATCH(\"Sand Delivery to Ground Storage\",$J$93:$J$102,0),2)),0))),((IFERROR((OFFSET($J$110,MATCH(\"Sand Delivery to Ground Storage\",$J$111:$J$120,0),2)),0))),((IFERROR((OFFSET($J$128,MATCH(\"Sand Delivery to Ground Storage\",$J$129:$J$138,0),2)),0))),((IFERROR((OFFSET($J$146,MATCH(\"Sand Delivery to Ground Storage\",$J$147:$J$156,0),2)),0))),((IFERROR((OFFSET($J$164,MATCH(\"Sand Delivery to Ground Storage\",$J$165:$J$174,0),2)),0))),((IFERROR((OFFSET($J$181,MATCH(\"Sand Delivery to Ground Storage\",$J$183:$J$192,0),2)),0))))","v":0}]
[null,null,null,null,null,null,null,null,null,null,null,null,null,null,null,"Aggregate Transfer to Conveyor",{"$f":"MAX((IFERROR(OFFSET($J$20,MATCH(\"Aggregate Transfer to Conveyor\",$J$21:$J$30,0),1),0)),((IFERROR((OFFSET($J$38,MATCH(\"Aggregate Transfer to Conveyor\",$J$39:$J$48,0),1)),0))),((IFERROR((OFFSET($J$56,MATCH(\"Aggregate Transfer to Conveyor\",$J$57:$J$66,0),1)),0))),((IFERROR((OFFSET($J$74,MATCH(\"Aggregate Transfer to Conveyor\",$J$75:$J$84,0),1)),0))),((IFERROR((OFFSET($J$92,MATCH(\"Aggregate Transfer to Conveyor\",$J$93:$J$102,0),1)),0))),((IFERROR((OFFSET($J$110,MATCH(\"Aggregate Transfer to Conveyor\",$J$111:$J$120,0),1)),0))),((IFERROR((OFFSET($J$128,MATCH(\"Aggregate Transfer to Conveyor\",$J$129:$J$138,0),1)),0))),((IFERROR((OFFSET($J$146,MATCH(\"Aggregate Transfer to Conveyor\",$J$147:$J$156,0),1)),0))),((IFERROR((OFFSET($J$164,MATCH(\"Aggregate Transfer to Conveyor\",$J$165:$J$174,0),1)),0))),((IFERROR((OFFSET($J$181,MATCH(\"Aggregate Transfer to Conveyor\",$J$183:$J$192,0),1)),0))),)","v":0},{"$f":"SUM((IFERROR(OFFSET($J$20,MATCH(\"Aggregate Transfer to Conveyor\",$J$21:$J$30,0),2),0)),((IFERROR((OFFSET($J$38,MATCH(\"Aggregate Transfer to Conveyor\",$J$39:$J$48,0),2)),0))),((IFERROR((OFFSET($J$56,MATCH(\"Aggregate Transfer to Conveyor\",$J$57:$J$66,0),2)),0))),((IFERROR((OFFSET($J$74,MATCH(\"Aggregate Transfer to Conveyor\",$J$75:$J$84,0),2)),0))),((IFERROR((OFFSET($J$92,MATCH(\"Aggregate Transfer to Conveyor\",$J$93:$J$102,0),2)),0))),((IFERROR((OFFSET($J$110,MATCH(\"Aggregate Transfer to Conveyor\",$J$111:$J$120,0),2)),0))),((IFERROR((OFFSET($J$128,MATCH(\"Aggregate Transfer to Conveyor\",$J$129:$J$138,0),2)),0))),((IFERROR((OFFSET($J$146,MATCH(\"Aggregate Transfer to Conveyor\",$J$147:$J$156,0),2)),0))),((IFERROR((OFFSET($J$164,MATCH(\"Aggregate Transfer to Conveyor\",$J$165:$J$174,0),2)),0))),((IFERROR((OFFSET($J$181,MATCH(\"Aggregate Transfer to Conveyor\",$J$183:$J$192,0),2)),0))))","v":0}]
[null,"Plant Specific Operating Limits:",null,null,null,null,null,"Plant Specific Emission Limits:",null,null,null,null,null,null,null,"Sand Transfer to Conveyor",{"$f":"MAX((IFERROR(OFFSET($J$20,MATCH(\"Sand Transfer to Conveyor\",$J$21:$J$30,0),1),0)),((IFERROR((OFFSET($J$38,MATCH(\"Sand Transfer to Conveyor\",$J$39:$J$48,0),1)),0))),((IFERROR((OFFSET($J$56,MATCH(\"Sand Transfer to Conveyor\",$J$57:$J$66,0),1)),0))),((IFERROR((OFFSET($J$74,MATCH(\"Sand Transfer to Conveyor\",$J$75:$J$84,0),1)),0))),((IFERROR((OFFSET($J$92,MATCH(\"Sand Transfer to Conveyor\",$J$93:$J$102,0),1)),0))),((IFERROR((OFFSET($J$110,MATCH(\"Sand Transfer to Conveyor\",$J$111:$J$120,0),1)),0))),((IFERROR((OFFSET($J$128,MATCH(\"Sand Transfer to Conveyor\",$J$129:$J$138,0),1)),0))),((IFERROR((OFFSET($J$146,MATCH(\"Sand Transfer to Conveyor\",$J$147:$J$156,0),1)),0))),((IFERROR((OFFSET($J$164,MATCH(\"Sand Transfer to Conveyor\",$J$165:$J$174,0),1)),0))),((IFERROR((OFFSET($J$181,MATCH(\"Sand Transfer to Conveyor\",$J$183:$J$192,0),1)),0))),)","v":0},{"$f":"SUM((IFERROR(OFFSET($J$20,MATCH(\"Sand Transfer to Conveyor\",$J$21:$J$30,0),2),0)),((IFERROR((OFFSET($J$38,MATCH(\"Sand Transfer to Conveyor\",$J$39:$J$48,0),2)),0))),((IFERROR((OFFSET($J$56,MATCH(\"Sand Transfer to Conveyor\",$J$57:$J$66,0),2)),0))),((IFERROR((OFFSET($J$74,MATCH(\"Sand Transfer to Conveyor\",$J$75:$J$84,0),2)),0))),((IFERROR((OFFSET($J$92,MATCH(\"Sand Transfer to Conveyor\",$J$93:$J$102,0),2)),0))),((IFERROR((OFFSET($J$110,MATCH(\"Sand Transfer to Conveyor\",$J$111:$J$120,0),2)),0))),((IFERROR((OFFSET($J$128,MATCH(\"Sand Transfer to Conveyor\",$J$129:$J$138,0),2)),0))),((IFERROR((OFFSET($J$146,MATCH(\"Sand Transfer to Conveyor\",$J$147:$J$156,0),2)),0))),((IFERROR((OFFSET($J$164,MATCH(\"Sand Transfer to Conveyor\",$J$165:$J$174,0),2)),0))),((IFERROR((OFFSET($J$181,MATCH(\"Sand Transfer to Conveyor\",$J$183:$J$192,0),2)),0))))","v":0}]
[null,"Throughput Limit (cubic yards/yr):",null,null,null,null,null,"Pollutant","lb/hr","tons/yr",null,null,null,null,null,"Aggregate Transfer to Elevated Storage",{"$f":"MAX((IFERROR(OFFSET($J$20,MATCH(\"Aggregate Transfer to Elevated Storage\",$J$21:$J$30,0),1),0)),((IFERROR((OFFSET($J$38,MATCH(\"Aggregate Transfer to Elevated Storage\",$J$39:$J$48,0),1)),0))),((IFERROR((OFFSET($J$56,MATCH(\"Aggregate Transfer to Elevated Storage\",$J$57:$J$66,0),1)),0))),((IFERROR((OFFSET($J$74,MATCH(\"Aggregate Transfer to Elevated Storage\",$J$75:$J$84,0),1)),0))),((IFERROR((OFFSET($J$92,MATCH(\"Aggregate Transfer to Elevated Storage\",$J$93:$J$102,0),1)),0))),((IFERROR((OFFSET($J$110,MATCH(\"Aggregate Transfer to Elevated Storage\",$J$111:$J$120,0),1)),0))),((IFERROR((OFFSET($J$128,MATCH(\"Aggregate Transfer to Elevated Storage\",$J$129:$J$138,0),1)),0))),((IFERROR((OFFSET($J$146,MATCH(\"Aggregate Transfer to Elevated Storage\",$J$147:$J$156,0),1)),0))),((IFERROR((OFFSET($J$164,MATCH(\"Aggregate Transfer to Elevated Storage\",$J$165:$J$174,0),1)),0))),((IFERROR((OFFSET($J$181,MATCH(\"Aggregate Transfer to Elevated Storage\",$J$183:$J$192,0),1)),0))),)","v":0},{"$f":"SUM((IFERROR(OFFSET($J$20,MATCH(\"Aggregate Transfer to Elevated Storage\",$J$21:$J$30,0),2),0)),((IFERROR((OFFSET($J$38,MATCH(\"Aggregate Transfer to Elevated Storage\",$J$39:$J$48,0),2)),0))),((IFERROR((OFFSET($J$56,MATCH(\"Aggregate Transfer to Elevated Storage\",$J$57:$J$66,0),2)),0))),((IFERROR((OFFSET($J$74,MATCH(\"Aggregate Transfer to Elevated Storage\",$J$75:$J$84,0),2)),0))),((IFERROR((OFFSET($J$92,MATCH(\"Aggregate Transfer to Elevated Storage\",$J$93:$J$102,0),2)),0))),((IFERROR((OFFSET($J$110,MATCH(\"Aggregate Transfer to Elevated Storage\",$J$111:$J$120,0),2)),0))),((IFERROR((OFFSET($J$128,MATCH(\"Aggregate Transfer to Elevated Storage\",$J$129:$J$138,0),2)),0))),((IFERROR((OFFSET($J$146,MATCH(\"Aggregate Transfer to Elevated Storage\",$J$147:$J$156,0),2)),0))),((IFERROR((OFFSET($J$164,MATCH(\"Aggregate Transfer to Elevated Storage\",$J$165:$J$174,0),2)),0))),((IFERROR((OFFSET($J$181,MATCH(\"Aggregate Transfer to Elevated Storage\",$J$183:$J$192,0),2)),0))))","v":0}]
[null,"Daily Throughput Limit (cubic yards/day):",null,null,null,null,null,"PM2.5",null,null,null,null,null,null,null,"Sand Transfer to Elevated Storage",{"$f":"MAX((IFERROR(OFFSET($J$20,MATCH(\"Sand Transfer to Elevated Storage\",$J$21:$J$30,0),1),0)),((IFERROR((OFFSET($J$38,MATCH(\"Sand Transfer to Elevated Storage\",$J$39:$J$48,0),1)),0))),((IFERROR((OFFSET($J$56,MATCH(\"Sand Transfer to Elevated Storage\",$J$57:$J$66,0),1)),0))),((IFERROR((OFFSET($J$74,MATCH(\"Sand Transfer to Elevated Storage\",$J$75:$J$84,0),1)),0))),((IFERROR((OFFSET($J$92,MATCH(\"Sand Transfer to Elevated Storage\",$J$93:$J$102,0),1)),0))),((IFERROR((OFFSET($J$110,MATCH(\"Sand Transfer to Elevated Storage\",$J$111:$J$120,0),1)),0))),((IFERROR((OFFSET($J$128,MATCH(\"Sand Transfer to Elevated Storage\",$J$129:$J$138,0),1)),0))),((IFERROR((OFFSET($J$146,MATCH(\"Sand Transfer to Elevated Storage\",$J$147:$J$156,0),1)),0))),((IFERROR((OFFSET($J$164,MATCH(\"Sand Transfer to Elevated Storage\",$J$165:$J$174,0),1)),0))),((IFERROR((OFFSET($J$181,MATCH(\"Sand Transfer to Elevated Storage\",$J$183:$J$192,0),1)),0))),)","v":0},{"$f":"SUM((IFERROR(OFFSET($J$20,MATCH(\"Sand Transfer to Elevated Storage\",$J$21:$J$30,0),2),0)),((IFERROR((OFFSET($J$38,MATCH(\"Sand Transfer to Elevated Storage\",$J$39:$J$48,0),2)),0))),((IFERROR((OFFSET($J$56,MATCH(\"Sand Transfer to Elevated Storage\",$J$57:$J$66,0),2)),0))),((IFERROR((OFFSET($J$74,MATCH(\"Sand Transfer to Elevated Storage\",$J$75:$J$84,0),2)),0))),((IFERROR((OFFSET($J$92,MATCH(\"Sand Transfer to Elevated Storage\",$J$93:$J$102,0),2)),0))),((IFERROR((OFFSET($J$110,MATCH(\"Sand Transfer to Elevated Storage\",$J$111:$J$120,0),2)),0))),((IFERROR((OFFSET($J$128,MATCH(\"Sand Transfer to Elevated Storage\",$J$129:$J$138,0),2)),0))),((IFERROR((OFFSET($J$146,MATCH(\"Sand Transfer to Elevated Storage\",$J$147:$J$156,0),2)),0))),((IFERROR((OFFSET($J$164,MATCH(\"Sand Transfer to Elevated Storage\",$J$165:$J$174,0),2)),0))),((IFERROR((OFFSET($J$181,MATCH(\"Sand Transfer to Elevated Storage\",$J$183:$J$192,0),2)),0))))","v":0}]
[null,"Hours of Operation Limit (hours/day):",null,null,null,null,null,"PM10",null,null,null,null,null,null,null,"Weigh Hopper Loading",{"$f":"MAX((IFERROR(OFFSET($J$20,MATCH(\"Weigh Hopper Loading\",$J$21:$J$30,0),1),0)),((IFERROR((OFFSET($J$38,MATCH(\"Weigh Hopper Loading\",$J$39:$J$48,0),1)),0))),((IFERROR((OFFSET($J$56,MATCH(\"Weigh Hopper Loading\",$J$57:$J$66,0),1)),0))),((IFERROR((OFFSET($J$74,MATCH(\"Weigh Hopper Loading\",$J$75:$J$84,0),1)),0))),((IFERROR((OFFSET($J$92,MATCH(\"Weigh Hopper Loading\",$J$93:$J$102,0),1)),0))),((IFERROR((OFFSET($J$110,MATCH(\"Weigh Hopper Loading\",$J$111:$J$120,0),1)),0))),((IFERROR((OFFSET($J$128,MATCH(\"Weigh Hopper Loading\",$J$129:$J$138,0),1)),0))),((IFERROR((OFFSET($J$146,MATCH(\"Weigh Hopper Loading\",$J$147:$J$156,0),1)),0))),((IFERROR((OFFSET($J$164,MATCH(\"Weigh Hopper Loading\",$J$165:$J$174,0),1)),0))),((IFERROR((OFFSET($J$181,MATCH(\"Weigh Hopper Loading\",$J$183:$J$192,0),1)),0))),)","v":0},{"$f":"SUM((IFERROR(OFFSET($J$20,MATCH(\"Weigh Hopper Loading\",$J$21:$J$30,0),2),0)),((IFERROR((OFFSET($J$38,MATCH(\"Weigh Hopper Loading\",$J$39:$J$48,0),2)),0))),((IFERROR((OFFSET($J$56,MATCH(\"Weigh Hopper Loading\",$J$57:$J$66,0),2)),0))),((IFERROR((OFFSET($J$74,MATCH(\"Weigh Hopper Loading\",$J$75:$J$84,0),2)),0))),((IFERROR((OFFSET($J$92,MATCH(\"Weigh Hopper Loading\",$J$93:$J$102,0),2)),0))),((IFERROR((OFFSET($J$110,MATCH(\"Weigh Hopper Loading\",$J$111:$J$120,0),2)),0))),((IFERROR((OFFSET($J$128,MATCH(\"Weigh Hopper Loading\",$J$129:$J$138,0),2)),0))),((IFERROR((OFFSET($J$146,MATCH(\"Weigh Hopper Loading\",$J$147:$J$156,0),2)),0))),((IFERROR((OFFSET($J$164,MATCH(\"Weigh Hopper Loading\",$J$165:$J$174,0),2)),0))),((IFERROR((OFFSET($J$181,MATCH(\"Weigh Hopper Loading\",$J$183:$J$192,0),2)),0))))","v":0}]
[null,"Note: if the plant has an hrs/day and a cubic yards/hr permit limit, those values should be multiplied together to calculate a cubic yards/day limit and that value should be placed in cell C10.",null,null,null,null,null,"SO2",null,null,null,null,null,null,null,"Central Mix Loading",{"$f":"MAX((IFERROR(OFFSET($J$20,MATCH(\"Central Mix Loading\",$J$21:$J$30,0),1),0)),((IFERROR((OFFSET($J$38,MATCH(\"Central Mix Loading\",$J$39:$J$48,0),1)),0))),((IFERROR((OFFSET($J$56,MATCH(\"Central Mix Loading\",$J$57:$J$66,0),1)),0))),((IFERROR((OFFSET($J$74,MATCH(\"Central Mix Loading\",$J$75:$J$84,0),1)),0))),((IFERROR((OFFSET($J$92,MATCH(\"Central Mix Loading\",$J$93:$J$102,0),1)),0))),((IFERROR((OFFSET($J$110,MATCH(\"Central Mix Loading\",$J$111:$J$120,0),1)),0))),((IFERROR((OFFSET($J$128,MATCH(\"Central Mix Loading\",$J$129:$J$138,0),1)),0))),((IFERROR((OFFSET($J$146,MATCH(\"Central Mix Loading\",$J$147:$J$156,0),1)),0))),((IFERROR((OFFSET($J$164,MATCH(\"Central Mix Loading\",$J$165:$J$174,0),1)),0))),((IFERROR((OFFSET($J$181,MATCH(\"Central Mix Loading\",$J$183:$J$192,0),1)),0))),)","v":0},{"$f":"SUM((IFERROR(OFFSET($J$20,MATCH(\"Central Mix Loading\",$J$21:$J$30,0),2),0)),((IFERROR((OFFSET($J$38,MATCH(\"Central Mix Loading\",$J$39:$J$48,0),2)),0))),((IFERROR((OFFSET($J$56,MATCH(\"Central Mix Loading\",$J$57:$J$66,0),2)),0))),((IFERROR((OFFSET($J$74,MATCH(\"Central Mix Loading\",$J$75:$J$84,0),2)),0))),((IFERROR((OFFSET($J$92,MATCH(\"Central Mix Loading\",$J$93:$J$102,0),2)),0))),((IFERROR((OFFSET($J$110,MATCH(\"Central Mix Loading\",$J$111:$J$120,0),2)),0))),((IFERROR((OFFSET($J$128,MATCH(\"Central Mix Loading\",$J$129:$J$138,0),2)),0))),((IFERROR((OFFSET($J$146,MATCH(\"Central Mix Loading\",$J$147:$J$156,0),2)),0))),((IFERROR((OFFSET($J$164,MATCH(\"Central Mix Loading\",$J$165:$J$174,0),2)),0))),((IFERROR((OFFSET($J$181,MATCH(\"Central Mix Loading\",$J$183:$J$192,0),2)),0))))","v":0}]
[null,null,null,null,null,null,null,"NOx",null,null,null,null,null,null,null,"Truck Mix Loading",{"$f":"MAX((IFERROR(OFFSET($J$20,MATCH(\"Truck Mix Loading\",$J$21:$J$30,0),1),0)),((IFERROR((OFFSET($J$38,MATCH(\"Truck Mix Loading\",$J$39:$J$48,0),1)),0))),((IFERROR((OFFSET($J$56,MATCH(\"Truck Mix Loading\",$J$57:$J$66,0),1)),0))),((IFERROR((OFFSET($J$74,MATCH(\"Truck Mix Loading\",$J$75:$J$84,0),1)),0))),((IFERROR((OFFSET($J$92,MATCH(\"Truck Mix Loading\",$J$93:$J$102,0),1)),0))),((IFERROR((OFFSET($J$110,MATCH(\"Truck Mix Loading\",$J$111:$J$120,0),1)),0))),((IFERROR((OFFSET($J$128,MATCH(\"Truck Mix Loading\",$J$129:$J$138,0),1)),0))),((IFERROR((OFFSET($J$146,MATCH(\"Truck Mix Loading\",$J$147:$J$156,0),1)),0))),((IFERROR((OFFSET($J$164,MATCH(\"Truck Mix Loading\",$J$165:$J$174,0),1)),0))),((IFERROR((OFFSET($J$181,MATCH(\"Truck Mix Loading\",$J$183:$J$192,0),1)),0))),)","v":0},{"$f":"SUM((IFERROR(OFFSET($J$20,MATCH(\"Truck Mix Loading\",$J$21:$J$30,0),2),0)),((IFERROR((OFFSET($J$38,MATCH(\"Truck Mix Loading\",$J$39:$J$48,0),2)),0))),((IFERROR((OFFSET($J$56,MATCH(\"Truck Mix Loading\",$J$57:$J$66,0),2)),0))),((IFERROR((OFFSET($J$74,MATCH(\"Truck Mix Loading\",$J$75:$J$84,0),2)),0))),((IFERROR((OFFSET($J$92,MATCH(\"Truck Mix Loading\",$J$93:$J$102,0),2)),0))),((IFERROR((OFFSET($J$110,MATCH(\"Truck Mix Loading\",$J$111:$J$120,0),2)),0))),((IFERROR((OFFSET($J$128,MATCH(\"Truck Mix Loading\",$J$129:$J$138,0),2)),0))),((IFERROR((OFFSET($J$146,MATCH(\"Truck Mix Loading\",$J$147:$J$156,0),2)),0))),((IFERROR((OFFSET($J$164,MATCH(\"Truck Mix Loading\",$J$165:$J$174,0),2)),0))),((IFERROR((OFFSET($J$181,MATCH(\"Truck Mix Loading\",$J$183:$J$192,0),2)),0))))","v":0}]
[null,null,null,null,null,null,null,"VOC",null,null,null,null,null,null,null,"Cement Delivery to Silo",{"$f":"MAX((IFERROR(OFFSET($J$20,MATCH(\"Cement Delivery to Silo\",$J$21:$J$30,0),1),0)),((IFERROR((OFFSET($J$38,MATCH(\"Cement Delivery to Silo\",$J$39:$J$48,0),1)),0))),((IFERROR((OFFSET($J$56,MATCH(\"Cement Delivery to Silo\",$J$57:$J$66,0),1)),0))),((IFERROR((OFFSET($J$74,MATCH(\"Cement Delivery to Silo\",$J$75:$J$84,0),1)),0))),((IFERROR((OFFSET($J$92,MATCH(\"Cement Delivery to Silo\",$J$93:$J$102,0),1)),0))),((IFERROR((OFFSET($J$110,MATCH(\"Cement Delivery to Silo\",$J$111:$J$120,0),1)),0))),((IFERROR((OFFSET($J$128,MATCH(\"Cement Delivery to Silo\",$J$129:$J$138,0),1)),0))),((IFERROR((OFFSET($J$146,MATCH(\"Cement Delivery to Silo\",$J$147:$J$156,0),1)),0))),((IFERROR((OFFSET($J$164,MATCH(\"Cement Delivery to Silo\",$J$165:$J$174,0),1)),0))),((IFERROR((OFFSET($J$181,MATCH(\"Cement Delivery to Silo\",$J$183:$J$192,0),1)),0))),)","v":0},{"$f":"SUM((IFERROR(OFFSET($J$20,MATCH(\"Cement Delivery to Silo\",$J$21:$J$30,0),2),0)),((IFERROR((OFFSET($J$38,MATCH(\"Cement Delivery to Silo\",$J$39:$J$48,0),2)),0))),((IFERROR((OFFSET($J$56,MATCH(\"Cement Delivery to Silo\",$J$57:$J$66,0),2)),0))),((IFERROR((OFFSET($J$74,MATCH(\"Cement Delivery to Silo\",$J$75:$J$84,0),2)),0))),((IFERROR((OFFSET($J$92,MATCH(\"Cement Delivery to Silo\",$J$93:$J$102,0),2)),0))),((IFERROR((OFFSET($J$110,MATCH(\"Cement Delivery to Silo\",$J$111:$J$120,0),2)),0))),((IFERROR((OFFSET($J$128,MATCH(\"Cement Delivery to Silo\",$J$129:$J$138,0),2)),0))),((IFERROR((OFFSET($J$146,MATCH(\"Cement Delivery to Silo\",$J$147:$J$156,0),2)),0))),((IFERROR((OFFSET($J$164,MATCH(\"Cement Delivery to Silo\",$J$165:$J$174,0),2)),0))),((IFERROR((OFFSET($J$181,MATCH(\"Cement Delivery to Silo\",$J$183:$J$192,0),2)),0))))","v":0}]
[null,null,null,null,null,null,null,"CO",null,null,null,null,null,null,null,"Cement Supplement Delivery to Silo",{"$f":"MAX((IFERROR(OFFSET($J$20,MATCH(\"Cement Supplement Delivery to Silo\",$J$21:$J$30,0),1),0)),((IFERROR((OFFSET($J$38,MATCH(\"Cement Supplement Delivery to Silo\",$J$39:$J$48,0),1)),0))),((IFERROR((OFFSET($J$56,MATCH(\"Cement Supplement Delivery to Silo\",$J$57:$J$66,0),1)),0))),((IFERROR((OFFSET($J$74,MATCH(\"Cement Supplement Delivery to Silo\",$J$75:$J$84,0),1)),0))),((IFERROR((OFFSET($J$92,MATCH(\"Cement Supplement Delivery to Silo\",$J$93:$J$102,0),1)),0))),((IFERROR((OFFSET($J$110,MATCH(\"Cement Supplement Delivery to Silo\",$J$111:$J$120,0),1)),0))),((IFERROR((OFFSET($J$128,MATCH(\"Cement Supplement Delivery to Silo\",$J$129:$J$138,0),1)),0))),((IFERROR((OFFSET($J$146,MATCH(\"Cement Supplement Delivery to Silo\",$J$147:$J$156,0),1)),0))),((IFERROR((OFFSET($J$164,MATCH(\"Cement Supplement Delivery to Silo\",$J$165:$J$174,0),1)),0))),((IFERROR((OFFSET($J$181,MATCH(\"Cement Supplement Delivery to Silo\",$J$183:$J$192,0),1)),0))),)","v":0},{"$f":"SUM((IFERROR(OFFSET($J$20,MATCH(\"Cement Supplement Delivery to Silo\",$J$21:$J$30,0),2),0)),((IFERROR((OFFSET($J$38,MATCH(\"Cement Supplement Delivery to Silo\",$J$39:$J$48,0),2)),0))),((IFERROR((OFFSET($J$56,MATCH(\"Cement Supplement Delivery to Silo\",$J$57:$J$66,0),2)),0))),((IFERROR((OFFSET($J$74,MATCH(\"Cement Supplement Delivery to Silo\",$J$75:$J$84,0),2)),0))),((IFERROR((OFFSET($J$92,MATCH(\"Cement Supplement Delivery to Silo\",$J$93:$J$102,0),2)),0))),((IFERROR((OFFSET($J$110,MATCH(\"Cement Supplement Delivery to Silo\",$J$111:$J$120,0),2)),0))),((IFERROR((OFFSET($J$128,MATCH(\"Cement Supplement Delivery to Silo\",$J$129:$J$138,0),2)),0))),((IFERROR((OFFSET($J$146,MATCH(\"Cement Supplement Delivery to Silo\",$J$147:$J$156,0),2)),0))),((IFERROR((OFFSET($J$164,MATCH(\"Cement Supplement Delivery to Silo\",$J$165:$J$174,0),2)),0))),((IFERROR((OFFSET($J$181,MATCH(\"Cement Supplement Delivery to Silo\",$J$183:$J$192,0),2)),0))))","v":0}]
[null,null,null,null,null,null,null,null,null,null,null,null,null,null,null,null,"Maximum (acres/day)","Actual (acres-day/yr)"]
[null,null,null,null,null,null,null,null,null,null,null,null,null,null,null,"Storage Pile",{"$f":"SUM(J34,J52,J70,J88,J106,J124,J142,J160,J178,J196)","v":0},{"$f":"SUM(K34*L34,K52*L52,K70*L70,K88*L88,K106*L106,K124*L124,K142*L142,K160*L160,K178*L178,K196*L196)","v":0}]
[]
[null,"Batch Plant","Site 1",null,null,null,null,"Emission Point #","Emission     Unit #","Processes","Combined Maximum Hourly Design Rate for all Like Processes (cubic yard/hr)",{"$f":"('Facility Information'!G5&\" Annual Throughput (cubic yards)\")","v":" Annual Throughput (cubic yards)"}]
[null,null,null,null,null,null,null,null,null,null,null,null,"Truck","Central",null,"Potential and Actual Emissions for the Listed Processes at this Plant"]
["YES","Site Name:",null,null,null,null,null,{"$f":"IF(J21=\"cement delivery to silo\",\"CP-1 EP-2\",IF(J21=\"cement supplement delivery to silo\",\"CP-1 EP-3\",IF(J21=\"weigh hopper loading\",\"CP-1 EP-4\",IF(J21=\"truck mix loading\",\"CP-1 EP-5\",IF(J21=\"central mix loading\",\"CP-1 EP-6\",IF(J21=\"\",\"\",\"CP-1 EP-1\"))))))","v":""},{"$f":"IF(J21=\"\",\"\",IF(J21=\"aggregate delivery to ground storage\",\"CP-4 EU-1\",IF(J21=\"sand delivery to ground storage\",\"CP-4 EU-2\",IF(J21=\"aggregate transfer to conveyor\",\"CP-4 EU-3\",IF(J21=\"sand transfer to conveyor\",\"CP-4 EU-4\",IF(J21=\"aggregate transfer to elevated storage\",\"CP-4 EU-5\",IF(J21=\"sand transfer to elevated storage\",\"CP-4 EU-6\",IF(J21=\"weigh hopper loading\",\"CP-4 EU-7\",IF(J21=\"central mix loading\",\"CP-4 EU-8\",IF(J21=\"truck mix loading\",\"CP-4 EU-9\",IF(J21=\"cement delivery to silo\",\"CP-4 EU-10\",IF(J21=\"cement supplement delivery to silo\",\"CP-4 EU-11\"))))))))))))","v":""},null,null,null,{"$f":"IF(J21=\"truck mix loading\",IF($F$24=\"yes\",L21*0.05/2000,L21/2000),\"\")","v":""},{"$f":"IF(J21=\"central mix loading\",IF($F$24=\"yes\",L21*0.05/2000,L21/2000),\"\")","v":""},null,null,"Maximum Design Rate (cubic yards/hr)","Emission Factor (lb/cubic yard)","Potential Uncontrolled Emissions (lb/hr)","Potential Controlled Emissions (lb/hr)","Potential Annual Emissions (tons/yr)","Actual Annual Emissions (tons/yr)"]
["NO","County:",null,null,null,null,null,{"$f":"IF(J22=\"cement delivery to silo\",\"CP-1 EP-2\",IF(J22=\"cement supplement delivery to silo\",\"CP-1 EP-3\",IF(J22=\"weigh hopper loading\",\"CP-1 EP-4\",IF(J22=\"truck mix loading\",\"CP-1 EP-5\",IF(J22=\"central mix loading\",\"CP-1 EP-6\",IF(J22=\"\",\"\",\"CP-1 EP-1\"))))))","v":""},"",null,null,null,{"$f":"IF(J22=\"truck mix loading\",IF($F$24=\"yes\",L22*0.05/2000,L22/2000),\"\")","v":""},{"$f":"IF(J22=\"central mix loading\",IF($F$24=\"yes\",L22*0.05/2000,L22/2000),\"\")","v":""},null,"PM2.5"]
[null,"Batching Period (Dates):",null,null,null,null,null,"","",null,null,null,"","",null,"Aggregate Delivery to Ground Storage",{"$f":"Q5","v":0},{"$f":"IF(Q23=0,0,LOOKUP(P23,'Emission Factors'!$A$5:$A$16,'Emission Factors'!$D$5:$D$16))","v":0},{"$f":"Q23*R23","v":0},{"$f":"IF(Q23=0,\"\",IF($I$10>0,$I$10,\"\"))","v":""},{"$f":"IF($J$10>0,$J$10,IF($D$9>0,$D$9*R23/2000,IF($D$10>0,$D$10*365*R23/2000,IF($D$11>0,$D$11*365*R23*Q23/2000,IF(T23=\"\",S23*8760/2000,T23*8760/2000)))))","v":0},{"$f":"(R5*R23/2000)","v":0}]
["Aggregate Delivery to Ground Storage",{"$f":"IF(OR(COUNTIF(J21:J30,\"Truck Mix Loading\")>0,(COUNTIF(J21:J30,\"Central Mix Loading\")>0)),\"Is the Central/Truck Mix Loading process controlled by a baghouse?\",\"\")","v":""},null,null,null,null,null,"","",null,null,null,"","",null,"Sand Delivery to Ground Storage",{"$f":"Q6","v":0},{"$f":"IF(Q24=0,0,LOOKUP(P24,'Emission Factors'!$A$5:$A$16,'Emission Factors'!$D$5:$D$16))","v":0},{"$f":"Q24*R24","v":0},{"$f":"IF(Q24=0,\"\",IF($I$10>0,$I$10,\"\"))","v":""},{"$f":"IF($J$10>0,\"\",IF($D$9>0,$D$9*R24/2000,IF($D$10>0,$D$10*365*R24/2000,IF($D$11>0,$D$11*365*R24*Q24/2000,IF(T24=\"\",S24*8760/2000,T24*8760/2000)))))","v":0},{"$f":"(R6*R24/2000)","v":0}]
["Sand Delivery to Ground Storage",null,null,null,null,null,null,"","",null,null,null,"","",null,"Aggregate Transfer to Conveyor",0,{"$f":"IF(Q25=0,0,LOOKUP(P25,'Emission Factors'!$A$5:$A$16,'Emission Factors'!$D$5:$D$16))","v":0},0,"",0,0]
["Aggregate Transfer to Conveyor",{"$f":"IF(AND(B28=\"\",B29=\"\",B32=\"\",B31=\"\",B30=\"\"),\"\",\"Process (complete stack information if applicable):\")","v":""},{"$f":"IF(AND(B28=\"\",B29=\"\",B32=\"\",B31=\"\",B30=\"\"),\"\",\"Stack Height (ft):\")","v":""},{"$f":"IF(AND(B28=\"\",B29=\"\",B32=\"\",B31=\"\",B30=\"\"),\"\",\"Stack Diameter (inches):\")","v":""},{"$f":"IF(AND(B28=\"\",B29=\"\",B32=\"\",B31=\"\",B30=\"\"),\"\",\"Flow Rate (acfm):\")","v":""},{"$f":"IF(AND(B28=\"\",B29=\"\",B32=\"\",B31=\"\",B30=\"\"),\"\",\"Temperature (Deg F):\")","v":""},null,"","",null,null,null,"","",null,"Sand Transfer to Conveyor",0,{"$f":"IF(Q26=0,0,LOOKUP(P26,'Emission Factors'!$A$5:$A$16,'Emission Factors'!$D$5:$D$16))","v":0},0,"",0,0]
["Sand Transfer to Conveyor",null,null,null,null,null,null,"","",null,null,null,"","",null,"Aggregate Transfer to Elevated Storage",0,{"$f":"IF(Q27=0,0,LOOKUP(P27,'Emission Factors'!$A$5:$A$16,'Emission Factors'!$D$5:$D$16))","v":0},0,"",0,0]
["Aggregate Transfer to Elevated Storage",{"$f":"IF(COUNTIF(J21:J30,\"Cement Delivery to Silo\")>0,\"EP-2 Cement Silo Stack:\",\"\")","v":""},null,null,null,null,null,"","",null,null,null,"","",null,"Sand Transfer to Elevated Storage",0,{"$f":"IF(Q28=0,0,LOOKUP(P28,'Emission Factors'!$A$5:$A$16,'Emission Factors'!$D$5:$D$16))","v":0},0,"",0,0]
["Sand Transfer to Elevated Storage",{"$f":"IF(COUNTIF(J21:J30,\"Cement Supplement Delivery to Silo\")>0,\"EP-3 Cement Supplement Silo Stack:\",\"\")","v":""},null,null,null,null,null,"","",null,null,null,"","",null,"Weigh Hopper Loading",0,{"$f":"IF(Q29=0,0,LOOKUP(P29,'Emission Factors'!$A$5:$A$16,'Emission Factors'!$D$5:$D$16))","v":0},0,"",0,0]
["Weigh Hopper Loading",{"$f":"IF(COUNTIF(J21:J30,\"Weigh Hopper Loading\")>0,\"EP-4 Weigh Hopper Loading Stack:\",\"\")","v":""},null,null,null,null,null,"","",null,null,null,"","",null,"Central Mix Loading",0,{"$f":"IF(Q30=0,0,LOOKUP(P30,'Emission Factors'!$A$5:$A$16,'Emission Factors'!$D$5:$D$16))","v":0},0,{"$f":"IF(Q30=0,\"\",IF($I$10>0,$I$10,IF(COUNTIF($F$24:$F$186,\"no\")>0,\"\",S30*(1-0.95))))","v":""},{"$f":"IF($J$10>0,\"\",IF($D$9>0,$D$9*R30*((100-$W$30)/100)/2000,IF($D$10>0,$D$10*365*R30*((100-$W$30)/100)/2000,IF($D$11>0,$D$11*365*R30*((100-$W$30)/100)*Q30/2000,IF(T30=\"\",S30*8760/2000,T30*8760/2000)))))","v":0},{"$f":"(R30*N198)","v":0},{"$f":"IF(COUNTIF($F$24:$F$186,\"no\")>0,0,95)","v":95}]
["Central Mix Loading",{"$f":"IF(COUNTIF(J21:J30,\"Truck Mix Loading\")>0,\"EP-5 Truck Mix Loading Stack:\",\"\")","v":""},null,null,null,null,null,null,null,null,null,null,null,null,null,"Truck Mix Loading",0,{"$f":"IF(Q31=0,0,LOOKUP(P31,'Emission Factors'!$A$5:$A$16,'Emission Factors'!$D$5:$D$16))","v":0},0,{"$f":"IF(Q31=0,\"\",IF($I$10>0,$I$10,IF(COUNTIF($F$24:$F$186,\"no\")>0,\"\",S31*(1-0.95))))","v":""},{"$f":"IF($J$10>0,\"\",IF($D$9>0,$D$9*R31*((100-$W$30)/100)/2000,IF($D$10>0,$D$10*365*R31*((100-$W$30)/100)/2000,IF($D$11>0,$D$11*365*R31*((100-$W$30)/100)*Q31/2000,IF(T31=\"\",S31*8760/2000,T31*8760/2000)))))","v":0},{"$f":"(R31*M198)","v":0}]
["Truck Mix Loading",{"$f":"IF(COUNTIF(J21:J30,\"Central Mix Loading\")>0,\"EP-6 Central Mix Loading Stack:\",\"\")","v":""},null,null,null,null,null,"Stock Pile Area",null,null,null,null,null,null,null,"Cement Delivery to Silo",0,{"$f":"IF(Q32=0,0,LOOKUP(P32,'Emission Factors'!$A$5:$A$16,'Emission Factors'!$D$5:$D$16))","v":0},null,{"$f":"IF(Q32=0,0,IF($I$10>0,$I$10,Q32*R32))","v":0},{"$f":"IF($J$10>0,\"\",IF($D$9>0,$D$9*R32/2000,IF($D$10>0,$D$10*365*R32/2000,IF($D$11>0,$D$11*365*R32*Q32/2000,IF($I$10>0,0,T32*8760/2000)))))","v":0},0]
["Cement Delivery to Silo",null,null,null,null,null,null,null,"Emission Unit #","Maximum Storage Area (acres)","Actual Storage Area (acres)","Actual Days in Existence (days)",null,null,null,"Cement Supplement Delivery to Silo",0,{"$f":"IF(Q33=0,0,LOOKUP(P33,'Emission Factors'!$A$5:$A$16,'Emission Factors'!$D$5:$D$16))","v":0},null,{"$f":"IF(Q33=0,0,IF($I$10>0,$I$10,Q33*R33))","v":0},{"$f":"IF($J$10>0,\"\",IF($D$9>0,$D$9*R33/2000,IF($D$10>0,$D$10*365*R33/2000,IF($D$11>0,$D$11*365*R33*Q33/2000,IF($I$10>0,0,T33*8760/2000)))))","v":0},0]
["Cement Supplement Delivery to Silo",null,null,null,null,null,null,null,null,null,null,null,null,null,null,"PM10"]
[null,null,null,null,null,null,null,null,null,null,null,null,null,null,null,"Aggregate Delivery to Ground Storage",{"$f":"Q5","v":0},{"$f":"IF(Q35=0,0,LOOKUP(P35,'Emission Factors'!$A$5:$A$16,'Emission Factors'!$H$5:$H$16))","v":0},0,{"$f":"IF(Q35=0,\"\",IF($I$11>0,$I$11,\"\"))","v":""},{"$f":"IF($J$11>0,$J$11,IF($D$9>0,$D$9*R35/2000,IF($D$10>0,$D$10*365*R35/2000,IF($D$11>0,$D$11*365*R35*Q35/2000,IF(T35=\"\",S35*8760/2000,T35*8760/2000)))))","v":0},{"$f":"(R5*R35/2000)","v":0}]
[null,null,null,null,null,null,null,null,null,null,null,null,null,null,null,"Sand Delivery to Ground Storage",{"$f":"Q6","v":0},{"$f":"IF(Q36=0,0,LOOKUP(P36,'Emission Factors'!$A$5:$A$16,'Emission Factors'!$H$5:$H$16))","v":0},0,{"$f":"IF(Q36=0,\"\",IF($I$11>0,$I$11,\"\"))","v":""},{"$f":"IF($J$11>0,\"\",IF($D$9>0,$D$9*R36/2000,IF($D$10>0,$D$10*365*R36/2000,IF($D$11>0,$D$11*365*R36*Q36/2000,IF(T36=\"\",S36*8760/2000,T36*8760/2000)))))","v":0},{"$f":"(R6*R36/2000)","v":0}]
[null,{"$f":"IF('Concrete Plant (CP-4)'!$D$4>1,\"Batch Plant\",\"\")","v":""},{"$f":"IF('Concrete Plant (CP-4)'!$D$4>1,\"Site 2\",\"\")","v":""},null,null,null,null,{"$f":"IF('Concrete Plant (CP-4)'!$D$4>1,\"Emission Point #\",\"\")","v":""},{"$f":"IF('Concrete Plant (CP-4)'!$D$4>1,\"Emission     Unit #\",\"\")","v":""},{"$f":"IF('Concrete Plant (CP-4)'!$D$4>1,\"Processes\",\"\")","v":""},{"$f":"IF('Concrete Plant (CP-4)'!$D$4>1,\"Combined Maximum Hourly Design Rate for all Like Processes (cubic yard/hr)\",\"\")","v":""},{"$f":"IF('Concrete Plant (CP-4)'!$D$4>1,('Facility Information'!G5&\" Annual Throughput (cubic yards)\"),\"\")","v":""},null,null,null,"Aggregate Transfer to Conveyor",0,{"$f":"IF(Q37=0,0,LOOKUP(P37,'Emission Factors'!$A$5:$A$16,'Emission Factors'!$H$5:$H$16))","v":0},0,"",0,0]
[null,null,null,null,null,null,null,null,null,null,null,null,"Truck","Central",null,"Sand Transfer to Conveyor",0,{"$f":"IF(Q38=0,0,LOOKUP(P38,'Emission Factors'!$A$5:$A$16,'Emission Factors'!$H$5:$H$16))","v":0},0,"",0,0]
[null,{"$f":"IF('Concrete Plant (CP-4)'!$D$4>1,\"Site Name:\",\"\")","v":""},null,null,null,null,null,{"$f":"IF(J39=\"cement delivery to silo\",\"CP-1 EP-2\",IF(J39=\"cement supplement delivery to silo\",\"CP-1 EP-3\",IF(J39=\"weigh hopper loading\",\"CP-1 EP-4\",IF(J39=\"truck mix loading\",\"CP-1 EP-5\",IF(J39=\"central mix loading\",\"CP-1 EP-6\",IF(J39=\"\",\"\",\"CP-1 EP-1\"))))))","v":""},{"$f":"IF(J39=\"\",\"\",IF(J39=\"aggregate delivery to ground storage\",\"CP-4 EU-1\",IF(J39=\"sand delivery to ground storage\",\"CP-4 EU-2\",IF(J39=\"aggregate transfer to conveyor\",\"CP-4 EU-3\",IF(J39=\"sand transfer to conveyor\",\"CP-4 EU-4\",IF(J39=\"aggregate transfer to elevated storage\",\"CP-4 EU-5\",IF(J39=\"sand transfer to elevated storage\",\"CP-4 EU-6\",IF(J39=\"weigh hopper loading\",\"CP-4 EU-7\",IF(J39=\"central mix loading\",\"CP-4 EU-8\",IF(J39=\"truck mix loading\",\"CP-4 EU-9\",IF(J39=\"cement delivery to silo\",\"CP-4 EU-10\",IF(J39=\"cement supplement delivery to silo\",\"CP-4 EU-11\"))))))))))))","v":""},null,null,null,{"$f":"IF(J39=\"truck mix loading\",IF($F$42=\"yes\",L39*0.05/2000,L39/2000),\"\")","v":""},{"$f":"IF(J39=\"central mix loading\",IF($F$42=\"yes\",L39*0.05/2000,L39/2000),\"\")","v":""},null,"Aggregate Transfer to Elevated Storage",0,{"$f":"IF(Q39=0,0,LOOKUP(P39,'Emission Factors'!$A$5:$A$16,'Emission Factors'!$H$5:$H$16))","v":0},0,"",0,0]
[null,{"$f":"IF('Concrete Plant (CP-4)'!$D$4>1,\"County:\",\"\")","v":""},null,null,null,null,null,{"$f":"IF(J40=\"cement delivery to silo\",\"CP-1 EP-2\",IF(J40=\"cement supplement delivery to silo\",\"CP-1 EP-3\",IF(J40=\"weigh hopper loading\",\"CP-1 EP-4\",IF(J40=\"truck mix loading\",\"CP-1 EP-5\",IF(J40=\"central mix loading\",\"CP-1 EP-6\",IF(J40=\"\",\"\",\"CP-1 EP-1\"))))))","v":""},"",null,null,null,{"$f":"IF(J40=\"truck mix loading\",IF($F$42=\"yes\",L40*0.05/2000,L40/2000),\"\")","v":""},{"$f":"IF(J40=\"central mix loading\",IF($F$42=\"yes\",L40*0.05/2000,L40/2000),\"\")","v":""},null,"Sand Transfer to Elevated Storage",0,{"$f":"IF(Q40=0,0,LOOKUP(P40,'Emission Factors'!$A$5:$A$16,'Emission Factors'!$H$5:$H$16))","v":0},0,"",0,0]
[null,{"$f":"IF('Concrete Plant (CP-4)'!$D$4>1,\"Batching Period (Dates):\",\"\")","v":""},null,null,null,null,null,"","",null,null,null,"","",null,"Weigh Hopper Loading",0,{"$f":"IF(Q41=0,0,LOOKUP(P41,'Emission Factors'!$A$5:$A$16,'Emission Factors'!$H$5:$H$16))","v":0},0,"",0,0]
[null,{"$f":"IF(OR(COUNTIF(J39:J48,\"Truck Mix Loading\")>0,(COUNTIF(J39:J48,\"Central Mix Loading\")>0)),\"Is the Central/Truck Mix Loading process controlled by a baghouse?\",\"\")","v":""},null,null,null,null,null,"","",null,null,null,"","",null,"Central Mix Loading",0,{"$f":"IF(Q42=0,0,LOOKUP(P42,'Emission Factors'!$A$5:$A$16,'Emission Factors'!$H$5:$H$16))","v":0},0,{"$f":"IF(Q42=0,\"\",IF($I$11>0,$I$11,IF(COUNTIF($F$24:$F$186,\"no\")>0,\"\",S42*(1-0.95))))","v":""},{"$f":"IF($J$11>0,\"\",IF($D$9>0,$D$9*R42*((100-$W$30)/100)/2000,IF($D$10>0,$D$10*365*R42*((100-$W$30)/100)/2000,IF($D$11>0,$D$11*365*R42*((100-$W$30)/100)*Q42/2000,IF(T42=\"\",S42*8760/2000,T42*8760/2000)))))","v":0},{"$f":"(N198*R42)","v":0},{"$f":"IF(COUNTIF($F$24:$F$186,\"no\")>0,0,95)","v":95}]
[null,null,null,null,null,null,null,"","",null,null,null,"","",null,"Truck Mix Loading",0,{"$f":"IF(Q43=0,0,LOOKUP(P43,'Emission Factors'!$A$5:$A$16,'Emission Factors'!$H$5:$H$16))","v":0},0,{"$f":"IF(Q43=0,\"\",IF($I$11>0,$I$11,IF(COUNTIF($F$24:$F$186,\"no\")>0,\"\",S43*(1-0.95))))","v":""},{"$f":"IF($J$11>0,\"\",IF($D$9>0,$D$9*R43*((100-$W$30)/100)/2000,IF($D$10>0,$D$10*365*R43*((100-$W$30)/100)/2000,IF($D$11>0,$D$11*365*R43*((100-$W$30)/100)*Q43/2000,IF(T43=\"\",S43*8760/2000,T43*8760/2000)))))","v":0},{"$f":"(M198*R43)","v":0}]
[null,{"$f":"IF(AND(B46=\"\",B47=\"\",B48=\"\",B49=\"\",B50=\"\"),\"\",\"Process (complete stack information if applicable):\")","v":""},{"$f":"IF(AND(B46=\"\",B47=\"\",B48=\"\",B49=\"\",B50=\"\"),\"\",\"Stack Height (ft):\")","v":""},{"$f":"IF(AND(B46=\"\",B47=\"\",B48=\"\",B49=\"\",B50=\"\"),\"\",\"Stack Diameter (inches):\")","v":""},{"$f":"IF(AND(B46=\"\",B47=\"\",B48=\"\",B49=\"\",B50=\"\"),\"\",\"Flow Rate (acfm):\")","v":""},{"$f":"IF(AND(B46=\"\",B47=\"\",B48=\"\",B49=\"\",B50=\"\"),\"\",\"Temperature (Deg F):\")","v":""},null,"","",null,null,null,"","",null,"Cement Delivery to Silo",0,{"$f":"IF(Q44=0,0,LOOKUP(P44,'Emission Factors'!$A$5:$A$16,'Emission Factors'!$H$5:$H$16))","v":0},null,{"$f":"IF(Q44=0,0,IF($I$10>0,$I$10,Q44*R44))","v":0},{"$f":"IF($J$11>0,\"\",IF($D$9>0,$D$9*R44/2000,IF($D$10>0,$D$10*365*R44/2000,IF($D$11>0,$D$11*365*R44*Q44/2000,IF($I$11>0,0,T44*8760/2000)))))","v":0},0]
[null,null,null,null,null,null,null,"","",null,null,null,"","",null,"Cement Supplement Delivery to Silo",0,{"$f":"IF(Q45=0,0,LOOKUP(P45,'Emission Factors'!$A$5:$A$16,'Emission Factors'!$H$5:$H$16))","v":0},null,{"$f":"IF(Q45=0,0,IF($I$10>0,$I$10,Q45*R45))","v":0},{"$f":"IF($J$11>0,\"\",IF($D$9>0,$D$9*R45/2000,IF($D$10>0,$D$10*365*R45/2000,IF($D$11>0,$D$11*365*R45*Q45/2000,IF($I$11>0,0,T45*8760/2000)))))","v":0},0]
[null,{"$f":"IF(COUNTIF(J39:J48,\"Cement Delivery to Silo\")>0,\"EP-2 Cement Silo Stack:\",\"\")","v":""},null,null,null,null,null,"","",null,null,null,"",""]
[null,{"$f":"IF(COUNTIF(J39:J48,\"Cement Supplement Delivery to Silo\")>0,\"EP-3 Cement Supplement Silo Stack:\",\"\")","v":""},null,null,null,null,null,"","",null,null,null,"","",null,null,"Max Design Rate (acres/day)","Emission Factor   (lb/acre-day)","Potential Uncontrolled Emissions (lb/hr)","Potential Controlled Emissions (lb/hr)","Potential Annual Emissions (tons/yr)","Actual Annual Emissions (tons/yr)"]
[null,{"$f":"IF(COUNTIF(J39:J48,\"Weigh Hopper Loading\")>0,\"EP-4 Weigh Hopper Loading Stack:\",\"\")","v":""},null,null,null,null,null,"","",null,null,null,"","",null,"Storage Pile"]
[null,{"$f":"IF(COUNTIF(J39:J48,\"Truck Mix Loading\")>0,\"EP-5 Truck Mix Loading Stack:\",\"\")","v":""},null,null,null,null,null,null,null,null,null,null,null,null,null,"PM2.5/PM10",{"$f":"Q17","v":0},3.64,{"$f":"Q49*R49*(1/24)","v":0},null,{"$f":"Q49*R49*365/2000","v":0},{"$f":"R17*R49/2000","v":0}]
[null,{"$f":"IF(COUNTIF(J39:J48,\"Central Mix Loading\")>0,\"EP-6 Central Mix Loading Stack:\",\"\")","v":""},null,null,null,null,null,{"$f":"IF('Concrete Plant (CP-4)'!$D$4>1,\"Stock Pile Area\",\"\")","v":""}]
[null,null,null,null,null,null,null,null,{"$f":"IF('Concrete Plant (CP-4)'!$D$4>1,\"Emission Unit #\",\"\")","v":""},{"$f":"IF('Concrete Plant (CP-4)'!$D$4>1,\"Maximum Storage Area (acres)\",\"\")","v":""},{"$f":"IF('Concrete Plant (CP-4)'!$D$4>1,\"Actual Storage Area (acres)\",\"\")","v":""},{"$f":"IF('Concrete Plant (CP-4)'!$D$4>1,\"Actual Days in Existence (days)\",\"\")","v":""}]
[]
[]
[]
[null,{"$f":"IF('Concrete Plant (CP-4)'!$D$4>2,\"Batch Plant\",\"\")","v":""},{"$f":"IF('Concrete Plant (CP-4)'!$D$4>2,\"Site 3\",\"\")","v":""},null,null,null,null,{"$f":"IF('Concrete Plant (CP-4)'!$D$4>2,\"Emission Point #\",\"\")","v":""},{"$f":"IF('Concrete Plant (CP-4)'!$D$4>2,\"Emission     Unit #\",\"\")","v":""},{"$f":"IF('Concrete Plant (CP-4)'!$D$4>2,\"Processes\",\"\")","v":""},{"$f":"IF('Concrete Plant (CP-4)'!$D$4>2,\"Combined Maximum Hourly Design Rate for all Like Processes (cubic yard/hr)\",\"\")","v":""},{"$f":"IF('Concrete Plant (CP-4)'!$D$4>2,('Facility Information'!G5&\" Annual Throughput (cubic yards)\"),\"\")","v":""}]
[null,null,null,null,null,null,null,null,null,null,null,null,"Truck","Central"]
[null,{"$f":"IF('Concrete Plant (CP-4)'!$D$4>2,\"Site Name:\",\"\")","v":""},null,null,null,null,null,{"$f":"IF(J57=\"cement delivery to silo\",\"CP-1 EP-2\",IF(J57=\"cement supplement delivery to silo\",\"CP-1 EP-3\",IF(J57=\"weigh hopper loading\",\"CP-1 EP-4\",IF(J57=\"truck mix loading\",\"CP-1 EP-5\",IF(J57=\"central mix loading\",\"CP-1 EP-6\",IF(J57=\"\",\"\",\"CP-1 EP-1\"))))))","v":""},{"$f":"IF(J57=\"\",\"\",IF(J57=\"aggregate delivery to ground storage\",\"CP-4 EU-1\",IF(J57=\"sand delivery to ground storage\",\"CP-4 EU-2\",IF(J57=\"aggregate transfer to conveyor\",\"CP-4 EU-3\",IF(J57=\"sand transfer to conveyor\",\"CP-4 EU-4\",IF(J57=\"aggregate transfer to elevated storage\",\"CP-4 EU-5\",IF(J57=\"sand transfer to elevated storage\",\"CP-4 EU-6\",IF(J57=\"weigh hopper loading\",\"CP-4 EU-7\",IF(J57=\"central mix loading\",\"CP-4 EU-8\",IF(J57=\"truck mix loading\",\"CP-4 EU-9\",IF(J57=\"cement delivery to silo\",\"CP-4 EU-10\",IF(J57=\"cement supplement delivery to silo\",\"CP-4 EU-11\"))))))))))))","v":""},null,null,null,{"$f":"IF(J57=\"truck mix loading\",IF($F$60=\"yes\",L57*0.05/2000,L57/2000),\"\")","v":""},{"$f":"IF(J57=\"central mix loading\",IF($F$60=\"yes\",L57*0.05/2000,L57/2000),\"\")","v":""}]
[null,{"$f":"IF('Concrete Plant (CP-4)'!$D$4>2,\"County:\",\"\")","v":""},null,null,null,null,null,{"$f":"IF(J58=\"cement delivery to silo\",\"CP-1 EP-2\",IF(J58=\"cement supplement delivery to silo\",\"CP-1 EP-3\",IF(J58=\"weigh hopper loading\",\"CP-1 EP-4\",IF(J58=\"truck mix loading\",\"CP-1 EP-5\",IF(J58=\"central mix loading\",\"CP-1 EP-6\",IF(J58=\"\",\"\",\"CP-1 EP-1\"))))))","v":""},"",null,null,null,{"$f":"IF(J58=\"truck mix loading\",IF($F$60=\"yes\",L58*0.05/2000,L58/2000),\"\")","v":""},{"$f":"IF(J58=\"central mix loading\",IF($F$60=\"yes\",L58*0.05/2000,L58/2000),\"\")","v":""}]
[null,{"$f":"IF('Concrete Plant (CP-4)'!$D$4>2,\"Batching Period (Dates):\",\"\")","v":""},null,null,null,null,null,"","",null,null,null,"",""]
[null,{"$f":"IF(OR(COUNTIF(J57:J66,\"Truck Mix Loading\")>0,(COUNTIF(J57:J66,\"Central Mix Loading\")>0)),\"Is the Central/Truck Mix Loading process controlled by a baghouse?\",\"\")","v":""},null,null,null,null,null,"","",null,null,null,"",""]
[null,null,null,null,null,null,null,"","",null,null,null,"",""]
[null,{"$f":"IF(AND(B64=\"\",B65=\"\",B66=\"\",B67=\"\",B68=\"\"),\"\",\"Process (complete stack information if applicable):\")","v":""},{"$f":"IF(AND(B64=\"\",B65=\"\",B66=\"\",B67=\"\",B68=\"\"),\"\",\"Stack Height (ft):\")","v":""},{"$f":"IF(AND(B64=\"\",B65=\"\",B66=\"\",B67=\"\",B68=\"\"),\"\",\"Stack Diameter (inches):\")","v":""},{"$f":"IF(AND(B64=\"\",B65=\"\",B66=\"\",B67=\"\",B68=\"\"),\"\",\"Flow Rate (acfm):\")","v":""},{"$f":"IF(AND(B64=\"\",B65=\"\",B66=\"\",B67=\"\",B68=\"\"),\"\",\"Temperature (Deg F):\")","v":""},null,"","",null,null,null,"",""]
[null,null,null,null,null,null,null,"","",null,null,null,"",""]
[null,{"$f":"IF(COUNTIF(J57:J66,\"Cement Delivery to Silo\")>0,\"EP-2 Cement Silo Stack:\",\"\")","v":""},null,null,null,null,null,"","",null,null,null,"",""]
[null,{"$f":"IF(COUNTIF(J57:J66,\"Cement Supplement Delivery to Silo\")>0,\"EP-3 Cement Supplement Silo Stack:\",\"\")","v":""},null,null,null,null,null,"","",null,null,null,"",""]
[null,{"$f":"IF(COUNTIF(J57:J66,\"Weigh Hopper Loading\")>0,\"EP-4 Weigh Hopper Loading Stack:\",\"\")","v":""},null,null,null,null,null,"","",null,null,null,"",""]
[null,{"$f":"IF(COUNTIF(J57:J66,\"Truck Mix Loading\")>0,\"EP-5 Truck Mix Loading Stack:\",\"\")","v":""}]
[null,{"$f":"IF(COUNTIF(J57:J66,\"Central Mix Loading\")>0,\"EP-6 Central Mix Loading Stack:\",\"\")","v":""},null,null,null,null,null,{"$f":"IF('Concrete Plant (CP-4)'!$D$4>2,\"Stock Pile Area\",\"\")","v":""}]
[null,null,null,null,null,null,null,null,{"$f":"IF('Concrete Plant (CP-4)'!$D$4>2,\"Emission Unit #\",\"\")","v":""},{"$f":"IF('Concrete Plant (CP-4)'!$D$4>2,\"Maximum Storage Area (acres)\",\"\")","v":""},{"$f":"IF('Concrete Plant (CP-4)'!$D$4>2,\"Actual Storage Area (acres)\",\"\")","v":""},{"$f":"IF('Concrete Plant (CP-4)'!$D$4>2,\"Actual Days in Existence (days)\",\"\")","v":""}]
[]
[]
[]
[null,{"$f":"IF('Concrete Plant (CP-4)'!$D$4>3,\"Batch Plant\",\"\")","v":""},{"$f":"IF('Concrete Plant (CP-4)'!$D$4>3,\"Site 4\",\"\")","v":""},null,null,null,null,{"$f":"IF('Concrete Plant (CP-4)'!$D$4>3,\"Emission Point #\",\"\")","v":""},{"$f":"IF('Concrete Plant (CP-4)'!$D$4>3,\"Emission     Unit #\",\"\")","v":""},{"$f":"IF('Concrete Plant (CP-4)'!$D$4>3,\"Processes\",\"\")","v":""},{"$f":"IF('Concrete Plant (CP-4)'!$D$4>3,\"Combined Maximum Hourly Design Rate for all Like Processes (cubic yard/hr)\",\"\")","v":""},{"$f":"IF('Concrete Plant (CP-4)'!$D$4>3,('Facility Information'!G5&\" Annual Throughput (cubic yards)\"),\"\")","v":""}]
[null,null,null,null,null,null,null,null,null,null,null,null,"Truck","Central"]
[null,{"$f":"IF('Concrete Plant (CP-4)'!$D$4>3,\"Site Name:\",\"\")","v":""},null,null,null,null,null,{"$f":"IF(J75=\"cement delivery to silo\",\"CP-1 EP-2\",IF(J75=\"cement supplement delivery to silo\",\"CP-1 EP-3\",IF(J75=\"weigh hopper loading\",\"CP-1 EP-4\",IF(J75=\"truck mix loading\",\"CP-1 EP-5\",IF(J75=\"central mix loading\",\"CP-1 EP-6\",IF(J75=\"\",\"\",\"CP-1 EP-1\"))))))","v":""},{"$f":"IF(J75=\"\",\"\",IF(J75=\"aggregate delivery to ground storage\",\"CP-4 EU-1\",IF(J75=\"sand delivery to ground storage\",\"CP-4 EU-2\",IF(J75=\"aggregate transfer to conveyor\",\"CP-4 EU-3\",IF(J75=\"sand transfer to conveyor\",\"CP-4 EU-4\",IF(J75=\"aggregate transfer to elevated storage\",\"CP-4 EU-5\",IF(J75=\"sand transfer to elevated storage\",\"CP-4 EU-6\",IF(J75=\"weigh hopper loading\",\"CP-4 EU-7\",IF(J75=\"central mix loading\",\"CP-4 EU-8\",IF(J75=\"truck mix loading\",\"CP-4 EU-9\",IF(J75=\"cement delivery to silo\",\"CP-4 EU-10\",IF(J75=\"cement supplement delivery to silo\",\"CP-4 EU-11\"))))))))))))","v":""},null,null,null,{"$f":"IF(J75=\"truck mix loading\",IF($F$78=\"yes\",L75*0.05/2000,L75/2000),\"\")","v":""},{"$f":"IF(J75=\"central mix loading\",IF($F$78=\"yes\",L75*0.05/2000,L75/2000),\"\")","v":""}]
[null,{"$f":"IF('Concrete Plant (CP-4)'!$D$4>3,\"County:\",\"\")","v":""},null,null,null,null,null,{"$f":"IF(J76=\"cement delivery to silo\",\"CP-1 EP-2\",IF(J76=\"cement supplement delivery to silo\",\"CP-1 EP-3\",IF(J76=\"weigh hopper loading\",\"CP-1 EP-4\",IF(J76=\"truck mix loading\",\"CP-1 EP-5\",IF(J76=\"central mix loading\",\"CP-1 EP-6\",IF(J76=\"\",\"\",\"CP-1 EP-1\"))))))","v":""},"",null,null,null,{"$f":"IF(J76=\"truck mix loading\",IF($F$78=\"yes\",L76*0.05/2000,L76/2000),\"\")","v":""},{"$f":"IF(J76=\"central mix loading\",IF($F$78=\"yes\",L76*0.05/2000,L76/2000),\"\")","v":""}]
[null,{"$f":"IF('Concrete Plant (CP-4)'!$D$4>3,\"Batching Period (Dates):\",\"\")","v":""},null,null,null,null,null,"","",null,null,null,"",""]
[null,{"$f":"IF(OR(COUNTIF(J75:J84,\"Truck Mix Loading\")>0,(COUNTIF(J75:J84,\"Central Mix Loading\")>0)),\"Is the Central/Truck Mix Loading process controlled by a baghouse?\",\"\")","v":""},null,null,null,null,null,"","",null,null,null,"",""]
[null,null,null,null,null,null,null,"","",null,null,null,"",""]
[null,{"$f":"IF(AND(B82=\"\",B83=\"\",B84=\"\",B85=\"\",B86=\"\"),\"\",\"Process (complete stack information if applicable):\")","v":""},{"$f":"IF(AND(B82=\"\",B83=\"\",B84=\"\",B85=\"\",B86=\"\"),\"\",\"Stack Height (ft):\")","v":""},{"$f":"IF(AND(B82=\"\",B83=\"\",B84=\"\",B85=\"\",B86=\"\"),\"\",\"Stack Diameter (inches):\")","v":""},{"$f":"IF(AND(B82=\"\",B83=\"\",B84=\"\",B85=\"\",B86=\"\"),\"\",\"Flow Rate (acfm):\")","v":""},{"$f":"IF(AND(B82=\"\",B83=\"\",B84=\"\",B85=\"\",B86=\"\"),\"\",\"Temperature (Deg F):\")","v":""},null,"","",null,null,null,"",""]
[null,null,null,null,null,null,null,"","",null,null,null,"",""]
[null,{"$f":"IF(COUNTIF(J75:J84,\"Cement Delivery to Silo\")>0,\"EP-2 Cement Silo Stack:\",\"\")","v":""},null,null,null,null,null,"","",null,null,null,"",""]
[null,{"$f":"IF(COUNTIF(J75:J84,\"Cement Supplement Delivery to Silo\")>0,\"EP-3 Cement Supplement Silo Stack:\",\"\")","v":""},null,null,null,null,null,"","",null,null,null,"",""]
[null,{"$f":"IF(COUNTIF(J75:J84,\"Weigh Hopper Loading\")>0,\"EP-4 Weigh Hopper Loading Stack:\",\"\")","v":""},null,null,null,null,null,"","",null,null,null,"",""]
[null,{"$f":"IF(COUNTIF(J75:J84,\"Truck Mix Loading\")>0,\"EP-5 Truck Mix Loading Stack:\",\"\")","v":""}]
[null,{"$f":"IF(COUNTIF(J75:J84,\"Central Mix Loading\")>0,\"EP-6 Central Mix Loading Stack:\",\"\")","v":""},null,null,null,null,null,{"$f":"IF('Concrete Plant (CP-4)'!$D$4>3,\"Stock Pile Area\",\"\")","v":""}]
[null,null,null,null,null,null,null,null,{"$f":"IF('Concrete Plant (CP-4)'!$D$4>3,\"Emission Unit #\",\"\")","v":""},{"$f":"IF('Concrete Plant (CP-4)'!$D$4>3,\"Maximum Storage Area (acres)\",\"\")","v":""},{"$f":"IF('Concrete Plant (CP-4)'!$D$4>3,\"Actual Storage Area (acres)\",\"\")","v":""},{"$f":"IF('Concrete Plant (CP-4)'!$D$4>3,\"Actual Days in Existence (days)\",\"\")","v":""}]
[]
[]
[]
[null,{"$f":"IF('Concrete Plant (CP-4)'!$D$4>4,\"Batch Plant\",\"\")","v":""},{"$f":"IF('Concrete Plant (CP-4)'!$D$4>4,\"Site 5\",\"\")","v":""},null,null,null,null,{"$f":"IF('Concrete Plant (CP-4)'!$D$4>4,\"Emission Point #\",\"\")","v":""},{"$f":"IF('Concrete Plant (CP-4)'!$D$4>4,\"Emission     Unit #\",\"\")","v":""},{"$f":"IF('Concrete Plant (CP-4)'!$D$4>4,\"Processes\",\"\")","v":""},{"$f":"IF('Concrete Plant (CP-4)'!$D$4>4,\"Combined Maximum Hourly Design Rate for all Like Processes (cubic yard/hr)\",\"\")","v":""},{"$f":"IF('Concrete Plant (CP-4)'!$D$4>4,('Facility Information'!G5&\" Annual Throughput (cubic yards)\"),\"\")","v":""}]
[null,null,null,null,null,null,null,null,null,null,null,null,"Truck","Central"]
[null,{"$f":"IF('Concrete Plant (CP-4)'!$D$4>4,\"Site Name:\",\"\")","v":""},null,null,null,null,null,{"$f":"IF(J93=\"cement delivery to silo\",\"CP-1 EP-2\",IF(J93=\"cement supplement delivery to silo\",\"CP-1 EP-3\",IF(J93=\"weigh hopper loading\",\"CP-1 EP-4\",IF(J93=\"truck mix loading\",\"CP-1 EP-5\",IF(J93=\"central mix loading\",\"CP-1 EP-6\",IF(J93=\"\",\"\",\"CP-1 EP-1\"))))))","v":""},{"$f":"IF(J93=\"\",\"\",IF(J93=\"aggregate delivery to ground storage\",\"CP-4 EU-1\",IF(J93=\"sand delivery to ground storage\",\"CP-4 EU-2\",IF(J93=\"aggregate transfer to conveyor\",\"CP-4 EU-3\",IF(J93=\"sand transfer to conveyor\",\"CP-4 EU-4\",IF(J93=\"aggregate transfer to elevated storage\",\"CP-4 EU-5\",IF(J93=\"sand transfer to elevated storage\",\"CP-4 EU-6\",IF(J93=\"weigh hopper loading\",\"CP-4 EU-7\",IF(J93=\"central mix loading\",\"CP-4 EU-8\",IF(J93=\"truck mix loading\",\"CP-4 EU-9\",IF(J93=\"cement delivery to silo\",\"CP-4 EU-10\",IF(J93=\"cement supplement delivery to silo\",\"CP-4 EU-11\"))))))))))))","v":""},null,null,null,{"$f":"IF(J93=\"truck mix loading\",IF($F$96=\"yes\",L93*0.05/2000,L93/2000),\"\")","v":""},{"$f":"IF(J93=\"central mix loading\",IF($F$96=\"yes\",L93*0.05/2000,L93/2000),\"\")","v":""}]
[null,{"$f":"IF('Concrete Plant (CP-4)'!$D$4>4,\"County:\",\"\")","v":""},null,null,null,null,null,{"$f":"IF(J94=\"cement delivery to silo\",\"CP-1 EP-2\",IF(J94=\"cement supplement delivery to silo\",\"CP-1 EP-3\",IF(J94=\"weigh hopper loading\",\"CP-1 EP-4\",IF(J94=\"truck mix loading\",\"CP-1 EP-5\",IF(J94=\"central mix loading\",\"CP-1 EP-6\",IF(J94=\"\",\"\",\"CP-1 EP-1\"))))))","v":""},"",null,null,null,{"$f":"IF(J94=\"truck mix loading\",IF($F$96=\"yes\",L94*0.05/2000,L94/2000),\"\")","v":""},{"$f":"IF(J94=\"central mix loading\",IF($F$96=\"yes\",L94*0.05/2000,L94/2000),\"\")","v":""}]
[null,{"$f":"IF('Concrete Plant (CP-4)'!$D$4>4,\"Batching Period (Dates):\",\"\")","v":""},null,null,null,null,null,"","",null,null,null,"",""]
[null,{"$f":"IF(OR(COUNTIF(J93:J102,\"Truck Mix Loading\")>0,(COUNTIF(J93:J102,\"Central Mix Loading\")>0)),\"Is the Central/Truck Mix Loading process controlled by a baghouse?\",\"\")","v":""},null,null,null,null,null,"","",null,null,null,"",""]
[null,null,null,null,null,null,null,"","",null,null,null,"",""]
[null,{"$f":"IF(AND(B100=\"\",B101=\"\",B102=\"\",B103=\"\",B104=\"\"),\"\",\"Process (complete stack information if applicable):\")","v":""},{"$f":"IF(AND(B100=\"\",B101=\"\",B102=\"\",B103=\"\",B104=\"\"),\"\",\"Stack Height (ft):\")","v":""},{"$f":"IF(AND(B100=\"\",B101=\"\",B102=\"\",B103=\"\",B104=\"\"),\"\",\"Stack Diameter (inches):\")","v":""},{"$f":"IF(AND(B100=\"\",B101=\"\",B102=\"\",B103=\"\",B104=\"\"),\"\",\"Flow Rate (acfm):\")","v":""},{"$f":"IF(AND(B100=\"\",B101=\"\",B102=\"\",B103=\"\",B104=\"\"),\"\",\"Temperature (Deg F):\")","v":""},null,"","",null,null,null,"",""]
[null,null,null,null,null,null,null,"","",null,null,null,"",""]
[null,{"$f":"IF(COUNTIF(J93:J102,\"Cement Delivery to Silo\")>0,\"EP-2 Cement Silo Stack:\",\"\")","v":""},null,null,null,null,null,"","",null,null,null,"",""]
[null,{"$f":"IF(COUNTIF(J93:J102,\"Cement Supplement Delivery to Silo\")>0,\"EP-3 Cement Supplement Silo Stack:\",\"\")","v":""},null,null,null,null,null,"","",null,null,null,"",""]
[null,{"$f":"IF(COUNTIF(J93:J102,\"Weigh Hopper Loading\")>0,\"EP-4 Weigh Hopper Loading Stack:\",\"\")","v":""},null,null,null,null,null,"","",null,null,null,"",""]
[null,{"$f":"IF(COUNTIF(J93:J102,\"Truck Mix Loading\")>0,\"EP-5 Truck Mix Loading Stack:\",\"\")","v":""}]
[null,{"$f":"IF(COUNTIF(J93:J102,\"Central Mix Loading\")>0,\"EP-6 Central Mix Loading Stack:\",\"\")","v":""},null,null,null,null,null,{"$f":"IF('Concrete Plant (CP-4)'!$D$4>4,\"Stock Pile Area\",\"\")","v":""}]
[null,null,null,null,null,null,null,null,{"$f":"IF('Concrete Plant (CP-4)'!$D$4>4,\"Emission Unit #\",\"\")","v":""},{"$f":"IF('Concrete Plant (CP-4)'!$D$4>4,\"Maximum Storage Area (acres)\",\"\")","v":""},{"$f":"IF('Concrete Plant (CP-4)'!$D$4>4,\"Actual Storage Area (acres)\",\"\")","v":""},{"$f":"IF('Concrete Plant (CP-4)'!$D$4>4,\"Actual Days in Existence (days)\",\"\")","v":""}]
[]
[]
[]
[null,{"$f":"IF('Concrete Plant (CP-4)'!$D$4>5,\"Batch Plant\",\"\")","v":""},{"$f":"IF('Concrete Plant (CP-4)'!$D$4>5,\"Site 6\",\"\")","v":""},null,null,null,null,{"$f":"IF('Concrete Plant (CP-4)'!$D$4>5,\"Emission Point #\",\"\")","v":""},{"$f":"IF('Concrete Plant (CP-4)'!$D$4>5,\"Emission     Unit #\",\"\")","v":""},{"$f":"IF('Concrete Plant (CP-4)'!$D$4>5,\"Processes\",\"\")","v":""},{"$f":"IF('Concrete Plant (CP-4)'!$D$4>5,\"Combined Maximum Hourly Design Rate for all Like Processes (cubic yard/hr)\",\"\")","v":""},{"$f":"IF('Concrete Plant (CP-4)'!$D$4>5,('Facility Information'!G5&\" Annual Throughput (cubic yards)\"),\"\")","v":""}]
[null,null,null,null,null,null,null,null,null,null,null,null,"Truck","Central"]
[null,{"$f":"IF('Concrete Plant (CP-4)'!$D$4>5,\"Site Name:\",\"\")","v":""},null,null,null,null,null,{"$f":"IF(J111=\"cement delivery to silo\",\"CP-1 EP-2\",IF(J111=\"cement supplement delivery to silo\",\"CP-1 EP-3\",IF(J111=\"weigh hopper loading\",\"CP-1 EP-4\",IF(J111=\"truck mix loading\",\"CP-1 EP-5\",IF(J111=\"central mix loading\",\"CP-1 EP-6\",IF(J111=\"\",\"\",\"CP-1 EP-1\"))))))","v":""},{"$f":"IF(J111=\"\",\"\",IF(J111=\"aggregate delivery to ground storage\",\"CP-4 EU-1\",IF(J111=\"sand delivery to ground storage\",\"CP-4 EU-2\",IF(J111=\"aggregate transfer to conveyor\",\"CP-4 EU-3\",IF(J111=\"sand transfer to conveyor\",\"CP-4 EU-4\",IF(J111=\"aggregate transfer to elevated storage\",\"CP-4 EU-5\",IF(J111=\"sand transfer to elevated storage\",\"CP-4 EU-6\",IF(J111=\"weigh hopper loading\",\"CP-4 EU-7\",IF(J111=\"central mix loading\",\"CP-4 EU-8\",IF(J111=\"truck mix loading\",\"CP-4 EU-9\",IF(J111=\"cement delivery to silo\",\"CP-4 EU-10\",IF(J111=\"cement supplement delivery to silo\",\"CP-4 EU-11\"))))))))))))","v":""},null,null,null,{"$f":"IF(J111=\"truck mix loading\",IF($F$114=\"yes\",L111*0.05/2000,L111/2000),\"\")","v":""},{"$f":"IF(J111=\"central mix loading\",IF($F$114=\"yes\",L111*0.05/2000,L111/2000),\"\")","v":""}]
[null,{"$f":"IF('Concrete Plant (CP-4)'!$D$4>5,\"County:\",\"\")","v":""},null,null,null,null,null,{"$f":"IF(J112=\"cement delivery to silo\",\"CP-1 EP-2\",IF(J112=\"cement supplement delivery to silo\",\"CP-1 EP-3\",IF(J112=\"weigh hopper loading\",\"CP-1 EP-4\",IF(J112=\"truck mix loading\",\"CP-1 EP-5\",IF(J112=\"central mix loading\",\"CP-1 EP-6\",IF(J112=\"\",\"\",\"CP-1 EP-1\"))))))","v":""},"",null,null,null,{"$f":"IF(J112=\"truck mix loading\",IF($F$114=\"yes\",L112*0.05/2000,L112/2000),\"\")","v":""},{"$f":"IF(J112=\"central mix loading\",IF($F$114=\"yes\",L112*0.05/2000,L112/2000),\"\")","v":""}]
[null,{"$f":"IF('Concrete Plant (CP-4)'!$D$4>5,\"Batching Period (Dates):\",\"\")","v":""},null,null,null,null,null,"","",null,null,null,"",""]
[null,{"$f":"IF(OR(COUNTIF(J111:J120,\"Truck Mix Loading\")>0,(COUNTIF(J111:J120,\"Central Mix Loading\")>0)),\"Is the Central/Truck Mix Loading process controlled by a baghouse?\",\"\")","v":""},null,null,null,null,null,"","",null,null,null,"",""]
[null,null,null,null,null,null,null,"","",null,null,null,"",""]
[null,{"$f":"IF(AND(B118=\"\",B119=\"\",B120=\"\",B121=\"\",B122=\"\"),\"\",\"Process (complete stack information if applicable):\")","v":""},{"$f":"IF(AND(B118=\"\",B119=\"\",B120=\"\",B121=\"\",B122=\"\"),\"\",\"Stack Height (ft):\")","v":""},{"$f":"IF(AND(B118=\"\",B119=\"\",B120=\"\",B121=\"\",B122=\"\"),\"\",\"Stack Diameter (inches):\")","v":""},{"$f":"IF(AND(B118=\"\",B119=\"\",B120=\"\",B121=\"\",B122=\"\"),\"\",\"Flow Rate (acfm):\")","v":""},{"$f":"IF(AND(B118=\"\",B119=\"\",B120=\"\",B121=\"\",B122=\"\"),\"\",\"Temperature (Deg F):\")","v":""},null,"","",null,null,null,"",""]
[null,null,null,null,null,null,null,"","",null,null,null,"",""]
[null,{"$f":"IF(COUNTIF(J111:J120,\"Cement Delivery to Silo\")>0,\"EP-2 Cement Silo Stack:\",\"\")","v":""},null,null,null,null,null,"","",null,null,null,"",""]
[null,{"$f":"IF(COUNTIF(J111:J120,\"Cement Supplement Delivery to Silo\")>0,\"EP-3 Cement Supplement Silo Stack:\",\"\")","v":""},null,null,null,null,null,"","",null,null,null,"",""]
[null,{"$f":"IF(COUNTIF(J111:J120,\"Weigh Hopper Loading\")>0,\"EP-4 Weigh Hopper Loading Stack:\",\"\")","v":""},null,null,null,null,null,"","",null,null,null,"",""]
[null,{"$f":"IF(COUNTIF(J111:J120,\"Truck Mix Loading\")>0,\"EP-5 Truck Mix Loading Stack:\",\"\")","v":""}]
[null,{"$f":"IF(COUNTIF(J111:J120,\"Central Mix Loading\")>0,\"EP-6 Central Mix Loading Stack:\",\"\")","v":""},null,null,null,null,null,{"$f":"IF('Concrete Plant (CP-4)'!$D$4>5,\"Stock Pile Area\",\"\")","v":""}]
[null,null,null,null,null,null,null,null,{"$f":"IF('Concrete Plant (CP-4)'!$D$4>5,\"Emission Unit #\",\"\")","v":""},{"$f":"IF('Concrete Plant (CP-4)'!$D$4>5,\"Maximum Storage Area (acres)\",\"\")","v":""},{"$f":"IF('Concrete Plant (CP-4)'!$D$4>5,\"Actual Storage Area (acres)\",\"\")","v":""},{"$f":"IF('Concrete Plant (CP-4)'!$D$4>5,\"Actual Days in Existence (days)\",\"\")","v":""}]
[]
[]
[]
[null,{"$f":"IF('Concrete Plant (CP-4)'!$D$4>6,\"Batch Plant\",\"\")","v":""},{"$f":"IF('Concrete Plant (CP-4)'!$D$4>6,\"Site 7\",\"\")","v":""},null,null,null,null,{"$f":"IF('Concrete Plant (CP-4)'!$D$4>6,\"Emission Point #\",\"\")","v":""},{"$f":"IF('Concrete Plant (CP-4)'!$D$4>6,\"Emission     Unit #\",\"\")","v":""},{"$f":"IF('Concrete Plant (CP-4)'!$D$4>6,\"Processes\",\"\")","v":""},{"$f":"IF('Concrete Plant (CP-4)'!$D$4>6,\"Combined Maximum Hourly Design Rate for all Like Processes (cubic yard/hr)\",\"\")","v":""},{"$f":"IF('Concrete Plant (CP-4)'!$D$4>6,('Facility Information'!G5&\" Annual Throughput (cubic yards)\"),\"\")","v":""}]
[null,null,null,null,null,null,null,null,null,null,null,null,"Truck","Central"]
[null,{"$f":"IF('Concrete Plant (CP-4)'!$D$4>6,\"Site Name:\",\"\")","v":""},null,null,null,null,null,{"$f":"IF(J129=\"cement delivery to silo\",\"CP-1 EP-2\",IF(J129=\"cement supplement delivery to silo\",\"CP-1 EP-3\",IF(J129=\"weigh hopper loading\",\"CP-1 EP-4\",IF(J129=\"truck mix loading\",\"CP-1 EP-5\",IF(J129=\"central mix loading\",\"CP-1 EP-6\",IF(J129=\"\",\"\",\"CP-1 EP-1\"))))))","v":""},{"$f":"IF(J129=\"\",\"\",IF(J129=\"aggregate delivery to ground storage\",\"CP-4 EU-1\",IF(J129=\"sand delivery to ground storage\",\"CP-4 EU-2\",IF(J129=\"aggregate transfer to conveyor\",\"CP-4 EU-3\",IF(J129=\"sand transfer to conveyor\",\"CP-4 EU-4\",IF(J129=\"aggregate transfer to elevated storage\",\"CP-4 EU-5\",IF(J129=\"sand transfer to elevated storage\",\"CP-4 EU-6\",IF(J129=\"weigh hopper loading\",\"CP-4 EU-7\",IF(J129=\"central mix loading\",\"CP-4 EU-8\",IF(J129=\"truck mix loading\",\"CP-4 EU-9\",IF(J129=\"cement delivery to silo\",\"CP-4 EU-10\",IF(J129=\"cement supplement delivery to silo\",\"CP-4 EU-11\"))))))))))))","v":""},null,null,null,{"$f":"IF(J129=\"truck mix loading\",IF($F$132=\"yes\",L129*0.05/2000,L129/2000),\"\")","v":""},{"$f":"IF(J129=\"central mix loading\",IF($F$132=\"yes\",L129*0.05/2000,L129/2000),\"\")","v":""}]
[null,{"$f":"IF('Concrete Plant (CP-4)'!$D$4>6,\"County:\",\"\")","v":""},null,null,null,null,null,{"$f":"IF(J130=\"cement delivery to silo\",\"CP-1 EP-2\",IF(J130=\"cement supplement delivery to silo\",\"CP-1 EP-3\",IF(J130=\"weigh hopper loading\",\"CP-1 EP-4\",IF(J130=\"truck mix loading\",\"CP-1 EP-5\",IF(J130=\"central mix loading\",\"CP-1 EP-6\",IF(J130=\"\",\"\",\"CP-1 EP-1\"))))))","v":""},"",null,null,null,{"$f":"IF(J130=\"truck mix loading\",IF($F$132=\"yes\",L130*0.05/2000,L130/2000),\"\")","v":""},{"$f":"IF(J130=\"central mix loading\",IF($F$132=\"yes\",L130*0.05/2000,L130/2000),\"\")","v":""}]
[null,{"$f":"IF('Concrete Plant (CP-4)'!$D$4>6,\"Batching Period (Dates):\",\"\")","v":""},null,null,null,null,null,"","",null,null,null,"",""]
[null,{"$f":"IF(OR(COUNTIF(J129:J138,\"Truck Mix Loading\")>0,(COUNTIF(J129:J138,\"Central Mix Loading\")>0)),\"Is the Central/Truck Mix Loading process controlled by a baghouse?\",\"\")","v":""},null,null,null,null,null,"","",null,null,null,"",""]
[null,null,null,null,null,null,null,"","",null,null,null,"",""]
[null,{"$f":"IF(AND(B136=\"\",B137=\"\",B138=\"\",B139=\"\",B140=\"\"),\"\",\"Process (complete stack information if applicable):\")","v":""},{"$f":"IF(AND(B136=\"\",B137=\"\",B138=\"\",B139=\"\",B140=\"\"),\"\",\"Stack Height (ft):\")","v":""},{"$f":"IF(AND(B136=\"\",B137=\"\",B138=\"\",B139=\"\",B140=\"\"),\"\",\"Stack Diameter (inches):\")","v":""},{"$f":"IF(AND(B136=\"\",B137=\"\",B138=\"\",B139=\"\",B140=\"\"),\"\",\"Flow Rate (acfm):\")","v":""},{"$f":"IF(AND(B136=\"\",B137=\"\",B138=\"\",B139=\"\",B140=\"\"),\"\",\"Temperature (Deg F):\")","v":""},null,"","",null,null,null,"",""]
[null,null,null,null,null,null,null,"","",null,null,null,"",""]
[null,{"$f":"IF(COUNTIF(J129:J138,\"Cement Delivery to Silo\")>0,\"EP-2 Cement Silo Stack:\",\"\")","v":""},null,null,null,null,null,"","",null,null,null,"",""]
[null,{"$f":"IF(COUNTIF(J129:J138,\"Cement Supplement Delivery to Silo\")>0,\"EP-3 Cement Supplement Silo Stack:\",\"\")","v":""},null,null,null,null,null,"","",null,null,null,"",""]
[null,{"$f":"IF(COUNTIF(J129:J138,\"Weigh Hopper Loading\")>0,\"EP-4 Weigh Hopper Loading Stack:\",\"\")","v":""},null,null,null,null,null,"","",null,null,null,"",""]
[null,{"$f":"IF(COUNTIF(J129:J138,\"Truck Mix Loading\")>0,\"EP-5 Truck Mix Loading Stack:\",\"\")","v":""}]
[null,{"$f":"IF(COUNTIF(J129:J138,\"Central Mix Loading\")>0,\"EP-6 Central Mix Loading Stack:\",\"\")","v":""},null,null,null,null,null,{"$f":"IF('Concrete Plant (CP-4)'!$D$4>6,\"Stock Pile Area\",\"\")","v":""}]
[null,null,null,null,null,null,null,null,{"$f":"IF('Concrete Plant (CP-4)'!$D$4>6,\"Emission Unit #\",\"\")","v":""},{"$f":"IF('Concrete Plant (CP-4)'!$D$4>6,\"Maximum Storage Area (acres)\",\"\")","v":""},{"$f":"IF('Concrete Plant (CP-4)'!$D$4>6,\"Actual Storage Area (acres)\",\"\")","v":""},{"$f":"IF('Concrete Plant (CP-4)'!$D$4>6,\"Actual Days in Existence (days)\",\"\")","v":""}]
[]
[]
[]
[null,{"$f":"IF('Concrete Plant (CP-4)'!$D$4>7,\"Batch Plant\",\"\")","v":""},{"$f":"IF('Concrete Plant (CP-4)'!$D$4>7,\"Site 8\",\"\")","v":""},null,null,null,null,{"$f":"IF('Concrete Plant (CP-4)'!$D$4>7,\"Emission Point #\",\"\")","v":""},{"$f":"IF('Concrete Plant (CP-4)'!$D$4>7,\"Emission     Unit #\",\"\")","v":""},{"$f":"IF('Concrete Plant (CP-4)'!$D$4>7,\"Processes\",\"\")","v":""},{"$f":"IF('Concrete Plant (CP-4)'!$D$4>7,\"Combined Maximum Hourly Design Rate for all Like Processes (cubic yard/hr)\",\"\")","v":""},{"$f":"IF('Concrete Plant (CP-4)'!$D$4>7,('Facility Information'!G5&\" Annual Throughput (cubic yards)\"),\"\")","v":""}]
[null,null,null,null,null,null,null,null,null,null,null,null,"Truck","Central"]
[null,{"$f":"IF('Concrete Plant (CP-4)'!$D$4>7,\"Site Name:\",\"\")","v":""},null,null,null,null,null,{"$f":"IF(J147=\"cement delivery to silo\",\"CP-1 EP-2\",IF(J147=\"cement supplement delivery to silo\",\"CP-1 EP-3\",IF(J147=\"weigh hopper loading\",\"CP-1 EP-4\",IF(J147=\"truck mix loading\",\"CP-1 EP-5\",IF(J147=\"central mix loading\",\"CP-1 EP-6\",IF(J147=\"\",\"\",\"CP-1 EP-1\"))))))","v":""},{"$f":"IF(J147=\"\",\"\",IF(J147=\"aggregate delivery to ground storage\",\"CP-4 EU-1\",IF(J147=\"sand delivery to ground storage\",\"CP-4 EU-2\",IF(J147=\"aggregate transfer to conveyor\",\"CP-4 EU-3\",IF(J147=\"sand transfer to conveyor\",\"CP-4 EU-4\",IF(J147=\"aggregate transfer to elevated storage\",\"CP-4 EU-5\",IF(J147=\"sand transfer to elevated storage\",\"CP-4 EU-6\",IF(J147=\"weigh hopper loading\",\"CP-4 EU-7\",IF(J147=\"central mix loading\",\"CP-4 EU-8\",IF(J147=\"truck mix loading\",\"CP-4 EU-9\",IF(J147=\"cement delivery to silo\",\"CP-4 EU-10\",IF(J147=\"cement supplement delivery to silo\",\"CP-4 EU-11\"))))))))))))","v":""},null,null,null,{"$f":"IF(J147=\"truck mix loading\",IF($F$150=\"yes\",L147*0.05/2000,L147/2000),\"\")","v":""},{"$f":"IF(J147=\"central mix loading\",IF($F$150=\"yes\",L147*0.05/2000,L147/2000),\"\")","v":""}]
[null,{"$f":"IF('Concrete Plant (CP-4)'!$D$4>7,\"County:\",\"\")","v":""},null,null,null,null,null,{"$f":"IF(J148=\"cement delivery to silo\",\"CP-1 EP-2\",IF(J148=\"cement supplement delivery to silo\",\"CP-1 EP-3\",IF(J148=\"weigh hopper loading\",\"CP-1 EP-4\",IF(J148=\"truck mix loading\",\"CP-1 EP-5\",IF(J148=\"central mix loading\",\"CP-1 EP-6\",IF(J148=\"\",\"\",\"CP-1 EP-1\"))))))","v":""},"",null,null,null,{"$f":"IF(J148=\"truck mix loading\",IF($F$150=\"yes\",L148*0.05/2000,L148/2000),\"\")","v":""},{"$f":"IF(J148=\"central mix loading\",IF($F$150=\"yes\",L148*0.05/2000,L148/2000),\"\")","v":""}]
[null,{"$f":"IF('Concrete Plant (CP-4)'!$D$4>7,\"Batching Period (Dates):\",\"\")","v":""},null,null,null,null,null,"","",null,null,null,"",""]
[null,{"$f":"IF(OR(COUNTIF(J147:J156,\"Truck Mix Loading\")>0,(COUNTIF(J147:J156,\"Central Mix Loading\")>0)),\"Is the Central/Truck Mix Loading process controlled by a baghouse?\",\"\")","v":""},null,null,null,null,null,"","",null,null,null,"",""]
[null,null,null,null,null,null,null,"","",null,null,null,"",""]
[null,{"$f":"IF(AND(B154=\"\",B155=\"\",B156=\"\",B157=\"\",B158=\"\"),\"\",\"Process (complete stack information if applicable):\")","v":""},{"$f":"IF(AND(B154=\"\",B155=\"\",B156=\"\",B157=\"\",B158=\"\"),\"\",\"Stack Height (ft):\")","v":""},{"$f":"IF(AND(B154=\"\",B155=\"\",B156=\"\",B157=\"\",B158=\"\"),\"\",\"Stack Diameter (inches):\")","v":""},{"$f":"IF(AND(B154=\"\",B155=\"\",B156=\"\",B157=\"\",B158=\"\"),\"\",\"Flow Rate (acfm):\")","v":""},{"$f":"IF(AND(B154=\"\",B155=\"\",B156=\"\",B157=\"\",B158=\"\"),\"\",\"Temperature (Deg F):\")","v":""},null,"","",null,null,null,"",""]
[null,null,null,null,null,null,null,"","",null,null,null,"",""]
[null,{"$f":"IF(COUNTIF(J147:J156,\"Cement Delivery to Silo\")>0,\"EP-2 Cement Silo Stack:\",\"\")","v":""},null,null,null,null,null,"","",null,null,null,"",""]
[null,{"$f":"IF(COUNTIF(J147:J156,\"Cement Supplement Delivery to Silo\")>0,\"EP-3 Cement Supplement Silo Stack:\",\"\")","v":""},null,null,null,null,null,"","",null,null,null,"",""]
[null,{"$f":"IF(COUNTIF(J147:J156,\"Weigh Hopper Loading\")>0,\"EP-4 Weigh Hopper Loading Stack:\",\"\")","v":""},null,null,null,null,null,"","",null,null,null,"",""]
[null,{"$f":"IF(COUNTIF(J147:J156,\"Truck Mix Loading\")>0,\"EP-5 Truck Mix Loading Stack:\",\"\")","v":""}]
[null,{"$f":"IF(COUNTIF(J147:J156,\"Central Mix Loading\")>0,\"EP-6 Central Mix Loading Stack:\",\"\")","v":""},null,null,null,null,null,{"$f":"IF('Concrete Plant (CP-4)'!$D$4>7,\"Stock Pile Area\",\"\")","v":""}]
[null,null,null,null,null,null,null,null,{"$f":"IF('Concrete Plant (CP-4)'!$D$4>7,\"Emission Unit #\",\"\")","v":""},{"$f":"IF('Concrete Plant (CP-4)'!$D$4>7,\"Maximum Storage Area (acres)\",\"\")","v":""},{"$f":"IF('Concrete Plant (CP-4)'!$D$4>7,\"Actual Storage Area (acres)\",\"\")","v":""},{"$f":"IF('Concrete Plant (CP-4)'!$D$4>7,\"Actual Days in Existence (days)\",\"\")","v":""}]
[]
[]
[]
[null,{"$f":"IF('Concrete Plant (CP-4)'!$D$4>8,\"Batch Plant\",\"\")","v":""},{"$f":"IF('Concrete Plant (CP-4)'!$D$4>8,\"Site 9\",\"\")","v":""},null,null,null,null,{"$f":"IF('Concrete Plant (CP-4)'!$D$4>8,\"Emission Point #\",\"\")","v":""},{"$f":"IF('Concrete Plant (CP-4)'!$D$4>8,\"Emission     Unit #\",\"\")","v":""},{"$f":"IF('Concrete Plant (CP-4)'!$D$4>8,\"Processes\",\"\")","v":""},{"$f":"IF('Concrete Plant (CP-4)'!$D$4>8,\"Combined Maximum Hourly Design Rate for all Like Processes (cubic yard/hr)\",\"\")","v":""},{"$f":"IF('Concrete Plant (CP-4)'!$D$4>8,('Facility Information'!G5&\" Annual Throughput (cubic yards)\"),\"\")","v":""}]
[null,null,null,null,null,null,null,null,null,null,null,null,"Truck","Central"]
[null,{"$f":"IF('Concrete Plant (CP-4)'!$D$4>8,\"Site Name:\",\"\")","v":""},null,null,null,null,null,{"$f":"IF(J165=\"cement delivery to silo\",\"CP-1 EP-2\",IF(J165=\"cement supplement delivery to silo\",\"CP-1 EP-3\",IF(J165=\"weigh hopper loading\",\"CP-1 EP-4\",IF(J165=\"truck mix loading\",\"CP-1 EP-5\",IF(J165=\"central mix loading\",\"CP-1 EP-6\",IF(J165=\"\",\"\",\"CP-1 EP-1\"))))))","v":""},{"$f":"IF(J165=\"\",\"\",IF(J165=\"aggregate delivery to ground storage\",\"CP-4 EU-1\",IF(J165=\"sand delivery to ground storage\",\"CP-4 EU-2\",IF(J165=\"aggregate transfer to conveyor\",\"CP-4 EU-3\",IF(J165=\"sand transfer to conveyor\",\"CP-4 EU-4\",IF(J165=\"aggregate transfer to elevated storage\",\"CP-4 EU-5\",IF(J165=\"sand transfer to elevated storage\",\"CP-4 EU-6\",IF(J165=\"weigh hopper loading\",\"CP-4 EU-7\",IF(J165=\"central mix loading\",\"CP-4 EU-8\",IF(J165=\"truck mix loading\",\"CP-4 EU-9\",IF(J165=\"cement delivery to silo\",\"CP-4 EU-10\",IF(J165=\"cement supplement delivery to silo\",\"CP-4 EU-11\"))))))))))))","v":""},null,null,null,{"$f":"IF(J165=\"truck mix loading\",IF($F$168=\"yes\",L165*0.05/2000,L165/2000),\"\")","v":""},{"$f":"IF(J165=\"central mix loading\",IF($F$168=\"yes\",L165*0.05/2000,L165/2000),\"\")","v":""}]
[null,{"$f":"IF('Concrete Plant (CP-4)'!$D$4>8,\"County:\",\"\")","v":""},null,null,null,null,null,{"$f":"IF(J166=\"cement delivery to silo\",\"CP-1 EP-2\",IF(J166=\"cement supplement delivery to silo\",\"CP-1 EP-3\",IF(J166=\"weigh hopper loading\",\"CP-1 EP-4\",IF(J166=\"truck mix loading\",\"CP-1 EP-5\",IF(J166=\"central mix loading\",\"CP-1 EP-6\",IF(J166=\"\",\"\",\"CP-1 EP-1\"))))))","v":""},"",null,null,null,{"$f":"IF(J166=\"truck mix loading\",IF($F$168=\"yes\",L166*0.05/2000,L166/2000),\"\")","v":""},{"$f":"IF(J166=\"central mix loading\",IF($F$168=\"yes\",L166*0.05/2000,L166/2000),\"\")","v":""}]
[null,{"$f":"IF('Concrete Plant (CP-4)'!$D$4>8,\"Batching Period (Dates):\",\"\")","v":""},null,null,null,null,null,"","",null,null,null,"",""]
[null,{"$f":"IF(OR(COUNTIF(J165:J174,\"Truck Mix Loading\")>0,(COUNTIF(J165:J174,\"Central Mix Loading\")>0)),\"Is the Central/Truck Mix Loading process controlled by a baghouse?\",\"\")","v":""},null,null,null,null,null,"","",null,null,null,"",""]
[null,null,null,null,null,null,null,"","",null,null,null,"",""]
[null,{"$f":"IF(AND(B172=\"\",B173=\"\",B174=\"\",B175=\"\",B176=\"\"),\"\",\"Process (complete stack information if applicable):\")","v":""},{"$f":"IF(AND(B172=\"\",B173=\"\",B174=\"\",B175=\"\",B176=\"\"),\"\",\"Stack Height (ft):\")","v":""},{"$f":"IF(AND(B172=\"\",B173=\"\",B174=\"\",B175=\"\",B176=\"\"),\"\",\"Stack Diameter (inches):\")","v":""},{"$f":"IF(AND(B172=\"\",B173=\"\",B174=\"\",B175=\"\",B176=\"\"),\"\",\"Flow Rate (acfm):\")","v":""},{"$f":"IF(AND(B172=\"\",B173=\"\",B174=\"\",B175=\"\",B176=\"\"),\"\",\"Temperature (Deg F):\")","v":""},null,"","",null,null,null,"",""]
[null,null,null,null,null,null,null,"","",null,null,null,"",""]
[null,{"$f":"IF(COUNTIF(J165:J174,\"Cement Delivery to Silo\")>0,\"EP-2 Cement Silo Stack:\",\"\")","v":""},null,null,null,null,null,"","",null,null,null,"",""]
[null,{"$f":"IF(COUNTIF(J165:J174,\"Cement Supplement Delivery to Silo\")>0,\"EP-3 Cement Supplement Silo Stack:\",\"\")","v":""},null,null,null,null,null,"","",null,null,null,"",""]
[null,{"$f":"IF(COUNTIF(J165:J174,\"Weigh Hopper Loading\")>0,\"EP-4 Weigh Hopper Loading Stack:\",\"\")","v":""},null,null,null,null,null,"","",null,null,null,"",""]
[null,{"$f":"IF(COUNTIF(J165:J174,\"Truck Mix Loading\")>0,\"EP-5 Truck Mix Loading Stack:\",\"\")","v":""}]
[null,{"$f":"IF(COUNTIF(J165:J174,\"Central Mix Loading\")>0,\"EP-6 Central Mix Loading Stack:\",\"\")","v":""},null,null,null,null,null,{"$f":"IF('Concrete Plant (CP-4)'!$D$4>8,\"Stock Pile Area\",\"\")","v":""}]
[null,null,null,null,null,null,null,null,{"$f":"IF('Concrete Plant (CP-4)'!$D$4>8,\"Emission Unit #\",\"\")","v":""},{"$f":"IF('Concrete Plant (CP-4)'!$D$4>8,\"Maximum Storage Area (acres)\",\"\")","v":""},{"$f":"IF('Concrete Plant (CP-4)'!$D$4>8,\"Actual Storage Area (acres)\",\"\")","v":""},{"$f":"IF('Concrete Plant (CP-4)'!$D$4>8,\"Actual Days in Existence (days)\",\"\")","v":""}]
[]
[]
[]
[null,{"$f":"IF('Concrete Plant (CP-4)'!$D$4>9,\"Batch Plant\",\"\")","v":""},{"$f":"IF('Concrete Plant (CP-4)'!$D$4>9,\"Site 10\",\"\")","v":""},null,null,null,null,{"$f":"IF('Concrete Plant (CP-4)'!$D$4>9,\"Emission Point #\",\"\")","v":""},{"$f":"IF('Concrete Plant (CP-4)'!$D$4>9,\"Emission     Unit #\",\"\")","v":""},{"$f":"IF('Concrete Plant (CP-4)'!$D$4>9,\"Processes\",\"\")","v":""},{"$f":"IF('Concrete Plant (CP-4)'!$D$4>9,\"Combined Maximum Hourly Design Rate for all Like Processes (cubic yard/hr)\",\"\")","v":""},{"$f":"IF('Concrete Plant (CP-4)'!$D$4>9,('Facility Information'!G5&\" Annual Throughput (cubic yards)\"),\"\")","v":""}]
[null,null,null,null,null,null,null,null,null,null,null,null,"Truck","Central"]
[null,{"$f":"IF('Concrete Plant (CP-4)'!$D$4>9,\"Site Name:\",\"\")","v":""},null,null,null,null,null,{"$f":"IF(J183=\"cement delivery to silo\",\"CP-1 EP-2\",IF(J183=\"cement supplement delivery to silo\",\"CP-1 EP-3\",IF(J183=\"weigh hopper loading\",\"CP-1 EP-4\",IF(J183=\"truck mix loading\",\"CP-1 EP-5\",IF(J183=\"central mix loading\",\"CP-1 EP-6\",IF(J183=\"\",\"\",\"CP-1 EP-1\"))))))","v":""},{"$f":"IF(J183=\"\",\"\",IF(J183=\"aggregate delivery to ground storage\",\"CP-4 EU-1\",IF(J183=\"sand delivery to ground storage\",\"CP-4 EU-2\",IF(J183=\"aggregate transfer to conveyor\",\"CP-4 EU-3\",IF(J183=\"sand transfer to conveyor\",\"CP-4 EU-4\",IF(J183=\"aggregate transfer to elevated storage\",\"CP-4 EU-5\",IF(J183=\"sand transfer to elevated storage\",\"CP-4 EU-6\",IF(J183=\"weigh hopper loading\",\"CP-4 EU-7\",IF(J183=\"central mix loading\",\"CP-4 EU-8\",IF(J183=\"truck mix loading\",\"CP-4 EU-9\",IF(J183=\"cement delivery to silo\",\"CP-4 EU-10\",IF(J183=\"cement supplement delivery to silo\",\"CP-4 EU-11\"))))))))))))","v":""},null,null,null,{"$f":"IF(J183=\"truck mix loading\",IF($F$186=\"yes\",L183*0.05/2000,L183/2000),\"\")","v":""},{"$f":"IF(J183=\"central mix loading\",IF($F$186=\"yes\",L183*0.05/2000,L183/2000),\"\")","v":""}]
[null,{"$f":"IF('Concrete Plant (CP-4)'!$D$4>9,\"County:\",\"\")","v":""},null,null,null,null,null,{"$f":"IF(J184=\"cement delivery to silo\",\"CP-1 EP-2\",IF(J184=\"cement supplement delivery to silo\",\"CP-1 EP-3\",IF(J184=\"weigh hopper loading\",\"CP-1 EP-4\",IF(J184=\"truck mix loading\",\"CP-1 EP-5\",IF(J184=\"central mix loading\",\"CP-1 EP-6\",IF(J184=\"\",\"\",\"CP-1 EP-1\"))))))","v":""},"",null,null,null,{"$f":"IF(J184=\"truck mix loading\",IF($F$186=\"yes\",L184*0.05/2000,L184/2000),\"\")","v":""},{"$f":"IF(J184=\"central mix loading\",IF($F$186=\"yes\",L184*0.05/2000,L184/2000),\"\")","v":""}]
[null,{"$f":"IF('Concrete Plant (CP-4)'!$D$4>9,\"Batching Period (Dates):\",\"\")","v":""},null,null,null,null,null,"","",null,null,null,"",""]
[null,{"$f":"IF(OR(COUNTIF(J183:J192,\"Truck Mix Loading\")>0,(COUNTIF(J183:J192,\"Central Mix Loading\")>0)),\"Is the Central/Truck Mix Loading process controlled by a baghouse?\",\"\")","v":""},null,null,null,null,null,"","",null,null,null,"",""]
[null,null,null,null,null,null,null,"","",null,null,null,"",""]
[null,{"$f":"IF(AND(B190=\"\",B191=\"\",B192=\"\",B193=\"\",B194=\"\"),\"\",\"Process (complete stack information if applicable):\")","v":""},{"$f":"IF(AND(B190=\"\",B191=\"\",B192=\"\",B193=\"\",B194=\"\"),\"\",\"Stack Height (ft):\")","v":""},{"$f":"IF(AND(B190=\"\",B191=\"\",B192=\"\",B193=\"\",B194=\"\"),\"\",\"Stack Diameter (inches):\")","v":""},{"$f":"IF(AND(B190=\"\",B191=\"\",B192=\"\",B193=\"\",B194=\"\"),\"\",\"Flow Rate (acfm):\")","v":""},{"$f":"IF(AND(B190=\"\",B191=\"\",B192=\"\",B193=\"\",B194=\"\"),\"\",\"Temperature (Deg F):\")","v":""},null,"","",null,null,null,"",""]
[null,null,null,null,null,null,null,"","",null,null,null,"",""]
[null,{"$f":"IF(COUNTIF(J183:J192,\"Cement Delivery to Silo\")>0,\"EP-2 Cement Silo Stack:\",\"\")","v":""},null,null,null,null,null,"","",null,null,null,"",""]
[null,{"$f":"IF(COUNTIF(J183:J192,\"Cement Supplement Delivery to Silo\")>0,\"EP-3 Cement Supplement Silo Stack:\",\"\")","v":""},null,null,null,null,null,"","",null,null,null,"",""]
[null,{"$f":"IF(COUNTIF(J183:J192,\"Weigh Hopper Loading\")>0,\"EP-4 Weigh Hopper Loading Stack:\",\"\")","v":""},null,null,null,null,null,"","",null,null,null,"",""]
[null,{"$f":"IF(COUNTIF(J183:J192,\"Truck Mix Loading\")>0,\"EP-5 Truck Mix Loading Stack:\",\"\")","v":""}]
[null,{"$f":"IF(COUNTIF(J183:J192,\"Central Mix Loading\")>0,\"EP-6 Central Mix Loading Stack:\",\"\")","v":""},null,null,null,null,null,{"$f":"IF('Concrete Plant (CP-4)'!$D$4>9,\"Stock Pile Area\",\"\")","v":""}]
[null,null,null,null,null,null,null,null,{"$f":"IF('Concrete Plant (CP-4)'!$D$4>9,\"Emission Unit #\",\"\")","v":""},{"$f":"IF('Concrete Plant (CP-4)'!$D$4>9,\"Maximum Storage Area (acres)\",\"\")","v":""},{"$f":"IF('Concrete Plant (CP-4)'!$D$4>9,\"Actual Storage Area (acres)\",\"\")","v":""},{"$f":"IF('Concrete Plant (CP-4)'!$D$4>9,\"Actual Days in Existence (days)\",\"\")","v":""}]
[]
[]
[null,null,null,null,null,null,null,null,null,null,null,null,{"$f":"SUM(M183:M192,M165:M174,M147:M156,M129:M138,M111:M120,M93:M102,M75:M84,M57:M66,M39:M48,M21:M30)","v":0},{"$f":"SUM(N183:N192,N165:N174,N147:N156,N129:N138,N111:N120,N93:N102,N75:N84,N57:N66,N39:N48,N21:N30)","v":0}]

{"sheet":"Concrete Plant (CP-5)","index":5,"n_rows":198,"n_cols":23,"rows_kept":198,"cut":false,"hidden":true,"merged":[[3,18,4,20],[36,8,37,8],[36,9,37,9],[36,10,37,10],[36,11,37,11],[54,8,55,8],[54,9,55,9],[54,10,55,10],[54,11,55,11],[46,18,47,18],[46,19,47,19],[46,20,47,20],[72,7,73,7],[72,8,73,8],[72,9,73,9],[72,10,73,10],[72,11,73,11],[54,7,55,7],[2,17,3,17],[3,1,3,2],[20,16,21,16],[46,16,47,16],[46,17,47,17],[0,1,0,2],[1,10,1,11],[2,15,3,15],[2,16,3,16],[18,7,19,7],[18,8,19,8],[18,9,19,9],[18,10,19,10],[18,11,19,11],[1,1,1,4],[5,2,5,3],[10,3,10,4],[9,3,9,4],[8,3,8,4],[11,1,13,4],[10,1,10,2],[9,1,9,2],[46,21,47,21],[20,17,21,17],[20,18,21,18],[20,19,21,19],[20,20,21,20],[20,21,21,21],[108,8,109,8],[108,9,109,9],[108,10,109,10],[108,11,109,11],[90,7,91,7],[126,8,127,8],[126,9,127,9],[126,10,127,10],[126,11,127,11],[90,8,91,8],[90,9,91,9],[90,10,91,10],[90,11,91,11],[108,7,109,7],[144,7,145,7],[144,8,145,8],[144,9,145,9],[144,10,145,10],[144,11,145,11],[126,7,127,7],[162,8,163,8],[162,9,163,9],[162,10,163,10],[162,11,163,11],[180,7,181,7],[180,8,181,8],[180,9,181,9],[180,10,181,10],[180,11,181,11],[162,7,163,7],[36,7,37,7],[128,2,128,4],[112,2,112,4],[111,2,111,4],[110,2,110,4],[94,2,94,4],[40,2,40,4],[39,2,39,4],[38,2,38,4],[93,2,93,4],[92,2,92,4],[76,2,76,4],[75,2,75,4],[74,2,74,4],[43,5,44,5],[115,2,116,2],[115,3,116,3],[115,4,116,4],[115,5,116,5],[97,5,98,5],[41,1,41,4],[59,1,59,4],[77,1,77,4],[95,1,95,4],[8,1,8,2],[22,2,22,4],[21,2,21,4],[20,2,20,4],[43,1,44,1],[43,2,44,2],[43,3,44,3],[43,4,44,4],[58,2,58,4],[57,2,57,4],[56,2,56,4],[25,1,26,1],[25,2,26,2],[25,3,26,3],[25,4,26,4],[23,1,23,4],[113,1,113,4],[150,5,151,5],[133,1,134,1],[133,2,134,2],[133,3,134,3],[133,4,134,4],[133,5,134,5],[25,5,26,5],[79,1,80,1],[79,2,80,2],[79,3,80,3],[79,4,80,4],[79,5,80,5],[61,1,62,1],[61,2,62,2],[61,3,62,3],[61,4,62,4],[61,5,62,5],[115,1,116,1],[97,1,98,1],[97,2,98,2],[97,3,98,3],[97,4,98,4],[150,1,151,1],[130,2,130,4],[129,2,129,4],[148,2,148,4],[147,2,147,4],[146,2,146,4],[186,1,187,1],[186,2,187,2],[186,3,187,3],[186,4,187,4],[150,2,151,2],[150,3,151,3],[150,4,151,4],[165,2,165,4],[164,2,164,4],[163,2,163,4],[131,1,131,4],[149,1,149,4],[166,1,166,4],[184,1,184,4],[186,5,187,5],[168,1,169,1],[168,2,169,2],[168,3,169,3],[168,4,169,4],[168,5,169,5],[183,2,183,4],[182,2,182,4],[181,2,181,4]]}
[null,"CONCRETE BATCH PLANT (CP-5)"]
[null,"Please fill in the yellow boxes as applicable for your facility. ",null,null,null,null,null,null,null,null,"Values used for calculating emissions →",null,null,null,null,"Values Used to Calculate Potential and Actual Emissions for the Listed Processes at this Plant"]
[null,null,null,null,null,null,null,null,null,null,null,null,null,null,null,"Process","Maximum Design Rate (cubic yards/hr)","Actual throughput (cubic yards/yr)"]
[null,{"$f":"\"Number of Sites this Plant operated at in \"&'Facility Information'!G5&\":\"","v":"Number of Sites this Plant operated at in :"},null,null,null,null,null,null,null,null,null,null,null,null,null,null,null,null,"** As of 2016 Potential Emissions are no longer required to be reported in the Minor Source Emissions Inventory**"]
[null,null,null,null,null,null,null,null,null,null,null,null,null,null,null,"Aggregate Delivery to Ground Storage",{"$f":"MAX((IFERROR(OFFSET($J$20,MATCH(\"Aggregate Delivery to Ground Storage\",$J$21:$J$30,0),1),0)),((IFERROR((OFFSET($J$38,MATCH(\"Aggregate Delivery to Ground Storage\",$J$39:$J$48,0),1)),0))),((IFERROR((OFFSET($J$56,MATCH(\"Aggregate Delivery to Ground Storage\",$J$57:$J$66,0),1)),0))),((IFERROR((OFFSET($J$74,MATCH(\"Aggregate Delivery to Ground Storage\",$J$75:$J$84,0),1)),0))),((IFERROR((OFFSET($J$92,MATCH(\"Aggregate Delivery to Ground Storage\",$J$93:$J$102,0),1)),0))),((IFERROR((OFFSET($J$110,MATCH(\"Aggregate Delivery to Ground Storage\",$J$111:$J$120,0),1)),0))),((IFERROR((OFFSET($J$128,MATCH(\"Aggregate Delivery to Ground Storage\",$J$129:$J$138,0),1)),0))),((IFERROR((OFFSET($J$146,MATCH(\"Aggregate Delivery to Ground Storage\",$J$147:$J$156,0),1)),0))),((IFERROR((OFFSET($J$164,MATCH(\"Aggregate Delivery to Ground Storage\",$J$165:$J$174,0),1)),0))),((IFERROR((OFFSET($J$181,MATCH(\"Aggregate Delivery to Ground Storage\",$J$183:$J$192,0),1)),0))),)","v":0},{"$f":"SUM((IFERROR(OFFSET($J$20,MATCH(\"Aggregate Delivery to Ground Storage\",$J$21:$J$30,0),2),0)),((IFERROR((OFFSET($J$38,MATCH(\"Aggregate Delivery to Ground Storage\",$J$39:$J$48,0),2)),0))),((IFERROR((OFFSET($J$56,MATCH(\"Aggregate Delivery to Ground Storage\",$J$57:$J$66,0),2)),0))),((IFERROR((OFFSET($J$74,MATCH(\"Aggregate Delivery to Ground Storage\",$J$75:$J$84,0),2)),0))),((IFERROR((OFFSET($J$92,MATCH(\"Aggregate Delivery to Ground Storage\",$J$93:$J$102,0),2)),0))),((IFERROR((OFFSET($J$110,MATCH(\"Aggregate Delivery to Ground Storage\",$J$111:$J$120,0),2)),0))),((IFERROR((OFFSET($J$128,MATCH(\"Aggregate Delivery to Ground Storage\",$J$129:$J$138,0),2)),0))),((IFERROR((OFFSET($J$146,MATCH(\"Aggregate Delivery to Ground Storage\",$J$147:$J$156,0),2)),0))),((IFERROR((OFFSET($J$164,MATCH(\"Aggregate Delivery to Ground Storage\",$J$165:$J$174,0),2)),0))),((IFERROR((OFFSET($J$181,MATCH(\"Aggregate Delivery to Ground Storage\",$J$183:$J$192,0),2)),0))))","v":0}]
[null,"Plant Specific Permit Number: ",null,null,null,null,null,null,null,null,null,null,null,null,null,"Sand Delivery to Ground Storage",{"$f":"MAX((IFERROR(OFFSET($J$20,MATCH(\"Sand Delivery to Ground Storage\",$J$21:$J$30,0),1),0)),((IFERROR((OFFSET($J$38,MATCH(\"Sand Delivery to Ground Storage\",$J$39:$J$48,0),1)),0))),((IFERROR((OFFSET($J$56,MATCH(\"Sand Delivery to Ground Storage\",$J$57:$J$66,0),1)),0))),((IFERROR((OFFSET($J$74,MATCH(\"Sand Delivery to Ground Storage\",$J$75:$J$84,0),1)),0))),((IFERROR((OFFSET($J$92,MATCH(\"Sand Delivery to Ground Storage\",$J$93:$J$102,0),1)),0))),((IFERROR((OFFSET($J$110,MATCH(\"Sand Delivery to Ground Storage\",$J$111:$J$120,0),1)),0))),((IFERROR((OFFSET($J$128,MATCH(\"Sand Delivery to Ground Storage\",$J$129:$J$138,0),1)),0))),((IFERROR((OFFSET($J$146,MATCH(\"Sand Delivery to Ground Storage\",$J$147:$J$156,0),1)),0))),((IFERROR((OFFSET($J$164,MATCH(\"Sand Delivery to Ground Storage\",$J$165:$J$174,0),1)),0))),((IFERROR((OFFSET($J$181,MATCH(\"Sand Delivery to Ground Storage\",$J$183:$J$192,0),1)),0))),)","v":0},{"$f":"SUM((IFERROR(OFFSET($J$20,MATCH(\"Sand Delivery to Ground Storage\",$J$21:$J$30,0),2),0)),((IFERROR((OFFSET($J$38,MATCH(\"Sand Delivery to Ground Storage\",$J$39:$J$48,0),2)),0))),((IFERROR((OFFSET($J$56,MATCH(\"Sand Delivery to Ground Storage\",$J$57:$J$66,0),2)),0))),((IFERROR((OFFSET($J$74,MATCH(\"Sand Delivery to Ground Storage\",$J$75:$J$84,0),2)),0))),((IFERROR((OFFSET($J$92,MATCH(\"Sand Delivery to Ground Storage\",$J$93:$J$102,0),2)),0))),((IFERROR((OFFSET($J$110,MATCH(\"Sand Delivery to Ground Storage\",$J$111:$J$120,0),2)),0))),((IFERROR((OFFSET($J$128,MATCH(\"Sand Delivery to Ground Storage\",$J$129:$J$138,0),2)),0))),((IFERROR((OFFSET($J$146,MATCH(\"Sand Delivery to Ground Storage\",$J$147:$J$156,0),2)),0))),((IFERROR((OFFSET($J$164,MATCH(\"Sand Delivery to Ground Storage\",$J$165:$J$174,0),2)),0))),((IFERROR((OFFSET($J$181,MATCH(\"Sand Delivery to Ground Storage\",$J$183:$J$192,0),2)),0))))","v":0}]
[null,null,null,null,null,null,null,null,null,null,null,null,null,null,null,"Aggregate Transfer to Conveyor",{"$f":"MAX((IFERROR(OFFSET($J$20,MATCH(\"Aggregate Transfer to Conveyor\",$J$21:$J$30,0),1),0)),((IFERROR((OFFSET($J$38,MATCH(\"Aggregate Transfer to Conveyor\",$J$39:$J$48,0),1)),0))),((IFERROR((OFFSET($J$56,MATCH(\"Aggregate Transfer to Conveyor\",$J$57:$J$66,0),1)),0))),((IFERROR((OFFSET($J$74,MATCH(\"Aggregate Transfer to Conveyor\",$J$75:$J$84,0),1)),0))),((IFERROR((OFFSET($J$92,MATCH(\"Aggregate Transfer to Conveyor\",$J$93:$J$102,0),1)),0))),((IFERROR((OFFSET($J$110,MATCH(\"Aggregate Transfer to Conveyor\",$J$111:$J$120,0),1)),0))),((IFERROR((OFFSET($J$128,MATCH(\"Aggregate Transfer to Conveyor\",$J$129:$J$138,0),1)),0))),((IFERROR((OFFSET($J$146,MATCH(\"Aggregate Transfer to Conveyor\",$J$147:$J$156,0),1)),0))),((IFERROR((OFFSET($J$164,MATCH(\"Aggregate Transfer to Conveyor\",$J$165:$J$174,0),1)),0))),((IFERROR((OFFSET($J$181,MATCH(\"Aggregate Transfer to Conveyor\",$J$183:$J$192,0),1)),0))),)","v":0},{"$f":"SUM((IFERROR(OFFSET($J$20,MATCH(\"Aggregate Transfer to Conveyor\",$J$21:$J$30,0),2),0)),((IFERROR((OFFSET($J$38,MATCH(\"Aggregate Transfer to Conveyor\",$J$39:$J$48,0),2)),0))),((IFERROR((OFFSET($J$56,MATCH(\"Aggregate Transfer to Conveyor\",$J$57:$J$66,0),2)),0))),((IFERROR((OFFSET($J$74,MATCH(\"Aggregate Transfer to Conveyor\",$J$75:$J$84,0),2)),0))),((IFERROR((OFFSET($J$92,MATCH(\"Aggregate Transfer to Conveyor\",$J$93:$J$102,0),2)),0))),((IFERROR((OFFSET($J$110,MATCH(\"Aggregate Transfer to Conveyor\",$J$111:$J$120,0),2)),0))),((IFERROR((OFFSET($J$128,MATCH(\"Aggregate Transfer to Conveyor\",$J$129:$J$138,0),2)),0))),((IFERROR((OFFSET($J$146,MATCH(\"Aggregate Transfer to Conveyor\",$J$147:$J$156,0),2)),0))),((IFERROR((OFFSET($J$164,MATCH(\"Aggregate Transfer to Conveyor\",$J$165:$J$174,0),2)),0))),((IFERROR((OFFSET($J$181,MATCH(\"Aggregate Transfer to Conveyor\",$J$183:$J$192,0),2)),0))))","v":0}]
[null,"Plant Specific Operating Limits:",null,null,null,null,null,"Plant Specific Emission Limits:",null,null,null,null,null,null,null,"Sand Transfer to Conveyor",{"$f":"MAX((IFERROR(OFFSET($J$20,MATCH(\"Sand Transfer to Conveyor\",$J$21:$J$30,0),1),0)),((IFERROR((OFFSET($J$38,MATCH(\"Sand Transfer to Conveyor\",$J$39:$J$48,0),1)),0))),((IFERROR((OFFSET($J$56,MATCH(\"Sand Transfer to Conveyor\",$J$57:$J$66,0),1)),0))),((IFERROR((OFFSET($J$74,MATCH(\"Sand Transfer to Conveyor\",$J$75:$J$84,0),1)),0))),((IFERROR((OFFSET($J$92,MATCH(\"Sand Transfer to Conveyor\",$J$93:$J$102,0),1)),0))),((IFERROR((OFFSET($J$110,MATCH(\"Sand Transfer to Conveyor\",$J$111:$J$120,0),1)),0))),((IFERROR((OFFSET($J$128,MATCH(\"Sand Transfer to Conveyor\",$J$129:$J$138,0),1)),0))),((IFERROR((OFFSET($J$146,MATCH(\"Sand Transfer to Conveyor\",$J$147:$J$156,0),1)),0))),((IFERROR((OFFSET($J$164,MATCH(\"Sand Transfer to Conveyor\",$J$165:$J$174,0),1)),0))),((IFERROR((OFFSET($J$181,MATCH(\"Sand Transfer to Conveyor\",$J$183:$J$192,0),1)),0))),)","v":0},{"$f":"SUM((IFERROR(OFFSET($J$20,MATCH(\"Sand Transfer to Conveyor\",$J$21:$J$30,0),2),0)),((IFERROR((OFFSET($J$38,MATCH(\"Sand Transfer to Conveyor\",$J$39:$J$48,0),2)),0))),((IFERROR((OFFSET($J$56,MATCH(\"Sand Transfer to Conveyor\",$J$57:$J$66,0),2)),0))),((IFERROR((OFFSET($J$74,MATCH(\"Sand Transfer to Conveyor\",$J$75:$J$84,0),2)),0))),((IFERROR((OFFSET($J$92,MATCH(\"Sand Transfer to Conveyor\",$J$93:$J$102,0),2)),0))),((IFERROR((OFFSET($J$110,MATCH(\"Sand Transfer to Conveyor\",$J$111:$J$120,0),2)),0))),((IFERROR((OFFSET($J$128,MATCH(\"Sand Transfer to Conveyor\",$J$129:$J$138,0),2)),0))),((IFERROR((OFFSET($J$146,MATCH(\"Sand Transfer to Conveyor\",$J$147:$J$156,0),2)),0))),((IFERROR((OFFSET($J$164,MATCH(\"Sand Transfer to Conveyor\",$J$165:$J$174,0),2)),0))),((IFERROR((OFFSET($J$181,MATCH(\"Sand Transfer to Conveyor\",$J$183:$J$192,0),2)),0))))","v":0}]
[null,"Throughput Limit (cubic yards/yr):",null,null,null,null,null,"Pollutant","lb/hr","tons/yr",null,null,null,null,null,"Aggregate Transfer to Elevated Storage",{"$f":"MAX((IFERROR(OFFSET($J$20,MATCH(\"Aggregate Transfer to Elevated Storage\",$J$21:$J$30,0),1),0)),((IFERROR((OFFSET($J$38,MATCH(\"Aggregate Transfer to Elevated Storage\",$J$39:$J$48,0),1)),0))),((IFERROR((OFFSET($J$56,MATCH(\"Aggregate Transfer to Elevated Storage\",$J$57:$J$66,0),1)),0))),((IFERROR((OFFSET($J$74,MATCH(\"Aggregate Transfer to Elevated Storage\",$J$75:$J$84,0),1)),0))),((IFERROR((OFFSET($J$92,MATCH(\"Aggregate Transfer to Elevated Storage\",$J$93:$J$102,0),1)),0))),((IFERROR((OFFSET($J$110,MATCH(\"Aggregate Transfer to Elevated Storage\",$J$111:$J$120,0),1)),0))),((IFERROR((OFFSET($J$128,MATCH(\"Aggregate Transfer to Elevated Storage\",$J$129:$J$138,0),1)),0))),((IFERROR((OFFSET($J$146,MATCH(\"Aggregate Transfer to Elevated Storage\",$J$147:$J$156,0),1)),0))),((IFERROR((OFFSET($J$164,MATCH(\"Aggregate Transfer to Elevated Storage\",$J$165:$J$174,0),1)),0))),((IFERROR((OFFSET($J$181,MATCH(\"Aggregate Transfer to Elevated Storage\",$J$183:$J$192,0),1)),0))),)","v":0},{"$f":"SUM((IFERROR(OFFSET($J$20,MATCH(\"Aggregate Transfer to Elevated Storage\",$J$21:$J$30,0),2),0)),((IFERROR((OFFSET($J$38,MATCH(\"Aggregate Transfer to Elevated Storage\",$J$39:$J$48,0),2)),0))),((IFERROR((OFFSET($J$56,MATCH(\"Aggregate Transfer to Elevated Storage\",$J$57:$J$66,0),2)),0))),((IFERROR((OFFSET($J$74,MATCH(\"Aggregate Transfer to Elevated Storage\",$J$75:$J$84,0),2)),0))),((IFERROR((OFFSET($J$92,MATCH(\"Aggregate Transfer to Elevated Storage\",$J$93:$J$102,0),2)),0))),((IFERROR((OFFSET($J$110,MATCH(\"Aggregate Transfer to Elevated Storage\",$J$111:$J$120,0),2)),0))),((IFERROR((OFFSET($J$128,MATCH(\"Aggregate Transfer to Elevated Storage\",$J$129:$J$138,0),2)),0))),((IFERROR((OFFSET($J$146,MATCH(\"Aggregate Transfer to Elevated Storage\",$J$147:$J$156,0),2)),0))),((IFERROR((OFFSET($J$164,MATCH(\"Aggregate Transfer to Elevated Storage\",$J$165:$J$174,0),2)),0))),((IFERROR((OFFSET($J$181,MATCH(\"Aggregate Transfer to Elevated Storage\",$J$183:$J$192,0),2)),0))))","v":0}]
[null,"Daily Throughput Limit (cubic yards/day):",null,null,null,null,null,"PM2.5",null,null,null,null,null,null,null,"Sand Transfer to Elevated Storage",{"$f":"MAX((IFERROR(OFFSET($J$20,MATCH(\"Sand Transfer to Elevated Storage\",$J$21:$J$30,0),1),0)),((IFERROR((OFFSET($J$38,MATCH(\"Sand Transfer to Elevated Storage\",$J$39:$J$48,0),1)),0))),((IFERROR((OFFSET($J$56,MATCH(\"Sand Transfer to Elevated Storage\",$J$57:$J$66,0),1)),0))),((IFERROR((OFFSET($J$74,MATCH(\"Sand Transfer to Elevated Storage\",$J$75:$J$84,0),1)),0))),((IFERROR((OFFSET($J$92,MATCH(\"Sand Transfer to Elevated Storage\",$J$93:$J$102,0),1)),0))),((IFERROR((OFFSET($J$110,MATCH(\"Sand Transfer to Elevated Storage\",$J$111:$J$120,0),1)),0))),((IFERROR((OFFSET($J$128,MATCH(\"Sand Transfer to Elevated Storage\",$J$129:$J$138,0),1)),0))),((IFERROR((OFFSET($J$146,MATCH(\"Sand Transfer to Elevated Storage\",$J$147:$J$156,0),1)),0))),((IFERROR((OFFSET($J$164,MATCH(\"Sand Transfer to Elevated Storage\",$J$165:$J$174,0),1)),0))),((IFERROR((OFFSET($J$181,MATCH(\"Sand Transfer to Elevated Storage\",$J$183:$J$192,0),1)),0))),)","v":0},{"$f":"SUM((IFERROR(OFFSET($J$20,MATCH(\"Sand Transfer to Elevated Storage\",$J$21:$J$30,0),2),0)),((IFERROR((OFFSET($J$38,MATCH(\"Sand Transfer to Elevated Storage\",$J$39:$J$48,0),2)),0))),((IFERROR((OFFSET($J$56,MATCH(\"Sand Transfer to Elevated Storage\",$J$57:$J$66,0),2)),0))),((IFERROR((OFFSET($J$74,MATCH(\"Sand Transfer to Elevated Storage\",$J$75:$J$84,0),2)),0))),((IFERROR((OFFSET($J$92,MATCH(\"Sand Transfer to Elevated Storage\",$J$93:$J$102,0),2)),0))),((IFERROR((OFFSET($J$110,MATCH(\"Sand Transfer to Elevated Storage\",$J$111:$J$120,0),2)),0))),((IFERROR((OFFSET($J$128,MATCH(\"Sand Transfer to Elevated Storage\",$J$129:$J$138,0),2)),0))),((IFERROR((OFFSET($J$146,MATCH(\"Sand Transfer to Elevated Storage\",$J$147:$J$156,0),2)),0))),((IFERROR((OFFSET($J$164,MATCH(\"Sand Transfer to Elevated Storage\",$J$165:$J$174,0),2)),0))),((IFERROR((OFFSET($J$181,MATCH(\"Sand Transfer to Elevated Storage\",$J$183:$J$192,0),2)),0))))","v":0}]
[null,"Hours of Operation Limit (hours/day):",null,null,null,null,null,"PM10",null,null,null,null,null,null,null,"Weigh Hopper Loading",{"$f":"MAX((IFERROR(OFFSET($J$20,MATCH(\"Weigh Hopper Loading\",$J$21:$J$30,0),1),0)),((IFERROR((OFFSET($J$38,MATCH(\"Weigh Hopper Loading\",$J$39:$J$48,0),1)),0))),((IFERROR((OFFSET($J$56,MATCH(\"Weigh Hopper Loading\",$J$57:$J$66,0),1)),0))),((IFERROR((OFFSET($J$74,MATCH(\"Weigh Hopper Loading\",$J$75:$J$84,0),1)),0))),((IFERROR((OFFSET($J$92,MATCH(\"Weigh Hopper Loading\",$J$93:$J$102,0),1)),0))),((IFERROR((OFFSET($J$110,MATCH(\"Weigh Hopper Loading\",$J$111:$J$120,0),1)),0))),((IFERROR((OFFSET($J$128,MATCH(\"Weigh Hopper Loading\",$J$129:$J$138,0),1)),0))),((IFERROR((OFFSET($J$146,MATCH(\"Weigh Hopper Loading\",$J$147:$J$156,0),1)),0))),((IFERROR((OFFSET($J$164,MATCH(\"Weigh Hopper Loading\",$J$165:$J$174,0),1)),0))),((IFERROR((OFFSET($J$181,MATCH(\"Weigh Hopper Loading\",$J$183:$J$192,0),1)),0))),)","v":0},{"$f":"SUM((IFERROR(OFFSET($J$20,MATCH(\"Weigh Hopper Loading\",$J$21:$J$30,0),2),0)),((IFERROR((OFFSET($J$38,MATCH(\"Weigh Hopper Loading\",$J$39:$J$48,0),2)),0))),((IFERROR((OFFSET($J$56,MATCH(\"Weigh Hopper Loading\",$J$57:$J$66,0),2)),0))),((IFERROR((OFFSET($J$74,MATCH(\"Weigh Hopper Loading\",$J$75:$J$84,0),2)),0))),((IFERROR((OFFSET($J$92,MATCH(\"Weigh Hopper Loading\",$J$93:$J$102,0),2)),0))),((IFERROR((OFFSET($J$110,MATCH(\"Weigh Hopper Loading\",$J$111:$J$120,0),2)),0))),((IFERROR((OFFSET($J$128,MATCH(\"Weigh Hopper Loading\",$J$129:$J$138,0),2)),0))),((IFERROR((OFFSET($J$146,MATCH(\"Weigh Hopper Loading\",$J$147:$J$156,0),2)),0))),((IFERROR((OFFSET($J$164,MATCH(\"Weigh Hopper Loading\",$J$165:$J$174,0),2)),0))),((IFERROR((OFFSET($J$181,MATCH(\"Weigh Hopper Loading\",$J$183:$J$192,0),2)),0))))","v":0}]
[null,"Note: if the plant has an hrs/day and a cubic yards/hr permit limit, those values should be multiplied together to calculate a cubic yards/day limit and that value should be placed in cell C10.",null,null,null,null,null,"SO2",null,null,null,null,null,null,null,"Central Mix Loading",{"$f":"MAX((IFERROR(OFFSET($J$20,MATCH(\"Central Mix Loading\",$J$21:$J$30,0),1),0)),((IFERROR((OFFSET($J$38,MATCH(\"Central Mix Loading\",$J$39:$J$48,0),1)),0))),((IFERROR((OFFSET($J$56,MATCH(\"Central Mix Loading\",$J$57:$J$66,0),1)),0))),((IFERROR((OFFSET($J$74,MATCH(\"Central Mix Loading\",$J$75:$J$84,0),1)),0))),((IFERROR((OFFSET($J$92,MATCH(\"Central Mix Loading\",$J$93:$J$102,0),1)),0))),((IFERROR((OFFSET($J$110,MATCH(\"Central Mix Loading\",$J$111:$J$120,0),1)),0))),((IFERROR((OFFSET($J$128,MATCH(\"Central Mix Loading\",$J$129:$J$138,0),1)),0))),((IFERROR((OFFSET($J$146,MATCH(\"Central Mix Loading\",$J$147:$J$156,0),1)),0))),((IFERROR((OFFSET($J$164,MATCH(\"Central Mix Loading\",$J$165:$J$174,0),1)),0))),((IFERROR((OFFSET($J$181,MATCH(\"Central Mix Loading\",$J$183:$J$192,0),1)),0))),)","v":0},{"$f":"SUM((IFERROR(OFFSET($J$20,MATCH(\"Central Mix Loading\",$J$21:$J$30,0),2),0)),((IFERROR((OFFSET($J$38,MATCH(\"Central Mix Loading\",$J$39:$J$48,0),2)),0))),((IFERROR((OFFSET($J$56,MATCH(\"Central Mix Loading\",$J$57:$J$66,0),2)),0))),((IFERROR((OFFSET($J$74,MATCH(\"Central Mix Loading\",$J$75:$J$84,0),2)),0))),((IFERROR((OFFSET($J$92,MATCH(\"Central Mix Loading\",$J$93:$J$102,0),2)),0))),((IFERROR((OFFSET($J$110,MATCH(\"Central Mix Loading\",$J$111:$J$120,0),2)),0))),((IFERROR((OFFSET($J$128,MATCH(\"Central Mix Loading\",$J$129:$J$138,0),2)),0))),((IFERROR((OFFSET($J$146,MATCH(\"Central Mix Loading\",$J$147:$J$156,0),2)),0))),((IFERROR((OFFSET($J$164,MATCH(\"Central Mix Loading\",$J$165:$J$174,0),2)),0))),((IFERROR((OFFSET($J$181,MATCH(\"Central Mix Loading\",$J$183:$J$192,0),2)),0))))","v":0}]
[null,null,null,null,null,null,null,"NOx",null,null,null,null,null,null,null,"Truck Mix Loading",{"$f":"MAX((IFERROR(OFFSET($J$20,MATCH(\"Truck Mix Loading\",$J$21:$J$30,0),1),0)),((IFERROR((OFFSET($J$38,MATCH(\"Truck Mix Loading\",$J$39:$J$48,0),1)),0))),((IFERROR((OFFSET($J$56,MATCH(\"Truck Mix Loading\",$J$57:$J$66,0),1)),0))),((IFERROR((OFFSET($J$74,MATCH(\"Truck Mix Loading\",$J$75:$J$84,0),1)),0))),((IFERROR((OFFSET($J$92,MATCH(\"Truck Mix Loading\",$J$93:$J$102,0),1)),0))),((IFERROR((OFFSET($J$110,MATCH(\"Truck Mix Loading\",$J$111:$J$120,0),1)),0))),((IFERROR((OFFSET($J$128,MATCH(\"Truck Mix Loading\",$J$129:$J$138,0),1)),0))),((IFERROR((OFFSET($J$146,MATCH(\"Truck Mix Loading\",$J$147:$J$156,0),1)),0))),((IFERROR((OFFSET($J$164,MATCH(\"Truck Mix Loading\",$J$165:$J$174,0),1)),0))),((IFERROR((OFFSET($J$181,MATCH(\"Truck Mix Loading\",$J$183:$J$192,0),1)),0))),)","v":0},{"$f":"SUM((IFERROR(OFFSET($J$20,MATCH(\"Truck Mix Loading\",$J$21:$J$30,0),2),0)),((IFERROR((OFFSET($J$38,MATCH(\"Truck Mix Loading\",$J$39:$J$48,0),2)),0))),((IFERROR((OFFSET($J$56,MATCH(\"Truck Mix Loading\",$J$57:$J$66,0),2)),0))),((IFERROR((OFFSET($J$74,MATCH(\"Truck Mix Loading\",$J$75:$J$84,0),2)),0))),((IFERROR((OFFSET($J$92,MATCH(\"Truck Mix Loading\",$J$93:$J$102,0),2)),0))),((IFERROR((OFFSET($J$110,MATCH(\"Truck Mix Loading\",$J$111:$J$120,0),2)),0))),((IFERROR((OFFSET($J$128,MATCH(\"Truck Mix Loading\",$J$129:$J$138,0),2)),0))),((IFERROR((OFFSET($J$146,MATCH(\"Truck Mix Loading\",$J$147:$J$156,0),2)),0))),((IFERROR((OFFSET($J$164,MATCH(\"Truck Mix Loading\",$J$165:$J$174,0),2)),0))),((IFERROR((OFFSET($J$181,MATCH(\"Truck Mix Loading\",$J$183:$J$192,0),2)),0))))","v":0}]
[null,null,null,null,null,null,null,"VOC",null,null,null,null,null,null,null,"Cement Delivery to Silo",{"$f":"MAX((IFERROR(OFFSET($J$20,MATCH(\"Cement Delivery to Silo\",$J$21:$J$30,0),1),0)),((IFERROR((OFFSET($J$38,MATCH(\"Cement Delivery to Silo\",$J$39:$J$48,0),1)),0))),((IFERROR((OFFSET($J$56,MATCH(\"Cement Delivery to Silo\",$J$57:$J$66,0),1)),0))),((IFERROR((OFFSET($J$74,MATCH(\"Cement Delivery to Silo\",$J$75:$J$84,0),1)),0))),((IFERROR((OFFSET($J$92,MATCH(\"Cement Delivery to Silo\",$J$93:$J$102,0),1)),0))),((IFERROR((OFFSET($J$110,MATCH(\"Cement Delivery to Silo\",$J$111:$J$120,0),1)),0))),((IFERROR((OFFSET($J$128,MATCH(\"Cement Delivery to Silo\",$J$129:$J$138,0),1)),0))),((IFERROR((OFFSET($J$146,MATCH(\"Cement Delivery to Silo\",$J$147:$J$156,0),1)),0))),((IFERROR((OFFSET($J$164,MATCH(\"Cement Delivery to Silo\",$J$165:$J$174,0),1)),0))),((IFERROR((OFFSET($J$181,MATCH(\"Cement Delivery to Silo\",$J$183:$J$192,0),1)),0))),)","v":0},{"$f":"SUM((IFERROR(OFFSET($J$20,MATCH(\"Cement Delivery to Silo\",$J$21:$J$30,0),2),0)),((IFERROR((OFFSET($J$38,MATCH(\"Cement Delivery to Silo\",$J$39:$J$48,0),2)),0))),((IFERROR((OFFSET($J$56,MATCH(\"Cement Delivery to Silo\",$J$57:$J$66,0),2)),0))),((IFERROR((OFFSET($J$74,MATCH(\"Cement Delivery to Silo\",$J$75:$J$84,0),2)),0))),((IFERROR((OFFSET($J$92,MATCH(\"Cement Delivery to Silo\",$J$93:$J$102,0),2)),0))),((IFERROR((OFFSET($J$110,MATCH(\"Cement Delivery to Silo\",$J$111:$J$120,0),2)),0))),((IFERROR((OFFSET($J$128,MATCH(\"Cement Delivery to Silo\",$J$129:$J$138,0),2)),0))),((IFERROR((OFFSET($J$146,MATCH(\"Cement Delivery to Silo\",$J$147:$J$156,0),2)),0))),((IFERROR((OFFSET($J$164,MATCH(\"Cement Delivery to Silo\",$J$165:$J$174,0),2)),0))),((IFERROR((OFFSET($J$181,MATCH(\"Cement Delivery to Silo\",$J$183:$J$192,0),2)),0))))","v":0}]
[null,null,null,null,null,null,null,"CO",null,null,null,null,null,null,null,"Cement Supplement Delivery to Silo",{"$f":"MAX((IFERROR(OFFSET($J$20,MATCH(\"Cement Supplement Delivery to Silo\",$J$21:$J$30,0),1),0)),((IFERROR((OFFSET($J$38,MATCH(\"Cement Supplement Delivery to Silo\",$J$39:$J$48,0),1)),0))),((IFERROR((OFFSET($J$56,MATCH(\"Cement Supplement Delivery to Silo\",$J$57:$J$66,0),1)),0))),((IFERROR((OFFSET($J$74,MATCH(\"Cement Supplement Delivery to Silo\",$J$75:$J$84,0),1)),0))),((IFERROR((OFFSET($J$92,MATCH(\"Cement Supplement Delivery to Silo\",$J$93:$J$102,0),1)),0))),((IFERROR((OFFSET($J$110,MATCH(\"Cement Supplement Delivery to Silo\",$J$111:$J$120,0),1)),0))),((IFERROR((OFFSET($J$128,MATCH(\"Cement Supplement Delivery to Silo\",$J$129:$J$138,0),1)),0))),((IFERROR((OFFSET($J$146,MATCH(\"Cement Supplement Delivery to Silo\",$J$147:$J$156,0),1)),0))),((IFERROR((OFFSET($J$164,MATCH(\"Cement Supplement Delivery to Silo\",$J$165:$J$174,0),1)),0))),((IFERROR((OFFSET($J$181,MATCH(\"Cement Supplement Delivery to Silo\",$J$183:$J$192,0),1)),0))),)","v":0},{"$f":"SUM((IFERROR(OFFSET($J$20,MATCH(\"Cement Supplement Delivery to Silo\",$J$21:$J$30,0),2),0)),((IFERROR((OFFSET($J$38,MATCH(\"Cement Supplement Delivery to Silo\",$J$39:$J$48,0),2)),0))),((IFERROR((OFFSET($J$56,MATCH(\"Cement Supplement Delivery to Silo\",$J$57:$J$66,0),2)),0))),((IFERROR((OFFSET($J$74,MATCH(\"Cement Supplement Delivery to Silo\",$J$75:$J$84,0),2)),0))),((IFERROR((OFFSET($J$92,MATCH(\"Cement Supplement Delivery to Silo\",$J$93:$J$102,0),2)),0))),((IFERROR((OFFSET($J$110,MATCH(\"Cement Supplement Delivery to Silo\",$J$111:$J$120,0),2)),0))),((IFERROR((OFFSET($J$128,MATCH(\"Cement Supplement Delivery to Silo\",$J$129:$J$138,0),2)),0))),((IFERROR((OFFSET($J$146,MATCH(\"Cement Supplement Delivery to Silo\",$J$147:$J$156,0),2)),0))),((IFERROR((OFFSET($J$164,MATCH(\"Cement Supplement Delivery to Silo\",$J$165:$J$174,0),2)),0))),((IFERROR((OFFSET($J$181,MATCH(\"Cement Supplement Delivery to Silo\",$J$183:$J$192,0),2)),0))))","v":0}]
[null,null,null,null,null,null,null,null,null,null,null,null,null,null,null,null,"Maximum (acres/day)","Actual (acres-day/yr)"]
[null,null,null,null,null,null,null,null,null,null,null,null,null,null,null,"Storage Pile",{"$f":"SUM(J34,J52,J70,J88,J106,J124,J142,J160,J178,J196)","v":0},{"$f":"SUM(K34*L34,K52*L52,K70*L70,K88*L88,K106*L106,K124*L124,K142*L142,K160*L160,K178*L178,K196*L196)","v":0}]
[]
[null,"Batch Plant","Site 1",null,null,null,null,"Emission Point #","Emission     Unit #","Processes","Combined Maximum Hourly Design Rate for all Like Processes (cubic yard/hr)",{"$f":"('Facility Information'!G5&\" Annual Throughput (cubic yards)\")","v":" Annual Throughput (cubic yards)"}]
[null,null,null,null,null,null,null,null,null,null,null,null,"Truck","Central",null,"Potential and Actual Emissions for the Listed Processes at this Plant"]
["YES","Site Name:",null,null,null,null,null,{"$f":"IF(J21=\"cement delivery to silo\",\"CP-1 EP-2\",IF(J21=\"cement supplement delivery to silo\",\"CP-1 EP-3\",IF(J21=\"weigh hopper loading\",\"CP-1 EP-4\",IF(J21=\"truck mix loading\",\"CP-1 EP-5\",IF(J21=\"central mix loading\",\"CP-1 EP-6\",IF(J21=\"\",\"\",\"CP-1 EP-1\"))))))","v":""},{"$f":"IF(J21=\"\",\"\",IF(J21=\"aggregate delivery to ground storage\",\"CP-5 EU-1\",IF(J21=\"sand delivery to ground storage\",\"CP-5 EU-2\",IF(J21=\"aggregate transfer to conveyor\",\"CP-5 EU-3\",IF(J21=\"sand transfer to conveyor\",\"CP-5 EU-4\",IF(J21=\"aggregate transfer to elevated storage\",\"CP-5 EU-5\",IF(J21=\"sand transfer to elevated storage\",\"CP-5 EU-6\",IF(J21=\"weigh hopper loading\",\"CP-5 EU-7\",IF(J21=\"central mix loading\",\"CP-5 EU-8\",IF(J21=\"truck mix loading\",\"CP-5 EU-9\",IF(J21=\"cement delivery to silo\",\"CP-5 EU-10\",IF(J21=\"cement supplement delivery to silo\",\"CP-5 EU-11\"))))))))))))","v":""},null,null,null,{"$f":"IF(J21=\"truck mix loading\",IF($F$24=\"yes\",L21*0.05/2000,L21/2000),\"\")","v":""},{"$f":"IF(J21=\"central mix loading\",IF($F$24=\"yes\",L21*0.05/2000,L21/2000),\"\")","v":""},null,null,"Maximum Design Rate (cubic yards/hr)","Emission Factor (lb/cubic yard)","Potential Uncontrolled Emissions (lb/hr)","Potential Controlled Emissions (lb/hr)","Potential Annual Emissions (tons/yr)","Actual Annual Emissions (tons/yr)"]
["NO","County:",null,null,null,null,null,{"$f":"IF(J22=\"cement delivery to silo\",\"CP-1 EP-2\",IF(J22=\"cement supplement delivery to silo\",\"CP-1 EP-3\",IF(J22=\"weigh hopper loading\",\"CP-1 EP-4\",IF(J22=\"truck mix loading\",\"CP-1 EP-5\",IF(J22=\"central mix loading\",\"CP-1 EP-6\",IF(J22=\"\",\"\",\"CP-1 EP-1\"))))))","v":""},"",null,null,null,{"$f":"IF(J22=\"truck mix loading\",IF($F$24=\"yes\",L22*0.05/2000,L22/2000),\"\")","v":""},{"$f":"IF(J22=\"central mix loading\",IF($F$24=\"yes\",L22*0.05/2000,L22/2000),\"\")","v":""},null,"PM2.5"]
[null,"Batching Period (Dates):",null,null,null,null,null,"","",null,null,null,"","",null,"Aggregate Delivery to Ground Storage",{"$f":"Q5","v":0},{"$f":"IF(Q23=0,0,LOOKUP(P23,'Emission Factors'!$A$5:$A$16,'Emission Factors'!$D$5:$D$16))","v":0},{"$f":"Q23*R23","v":0},{"$f":"IF(Q23=0,\"\",IF($I$10>0,$I$10,\"\"))","v":""},{"$f":"IF($J$10>0,$J$10,IF($D$9>0,$D$9*R23/2000,IF($D$10>0,$D$10*365*R23/2000,IF($D$11>0,$D$11*365*R23*Q23/2000,IF(T23=\"\",S23*8760/2000,T23*8760/2000)))))","v":0},{"$f":"(R5*R23/2000)","v":0}]
["Aggregate Delivery to Ground Storage",{"$f":"IF(OR(COUNTIF(J21:J30,\"Truck Mix Loading\")>0,(COUNTIF(J21:J30,\"Central Mix Loading\")>0)),\"Is the Central/Truck Mix Loading process controlled by a baghouse?\",\"\")","v":""},null,null,null,null,null,"","",null,null,null,"","",null,"Sand Delivery to Ground Storage",{"$f":"Q6","v":0},{"$f":"IF(Q24=0,0,LOOKUP(P24,'Emission Factors'!$A$5:$A$16,'Emission Factors'!$D$5:$D$16))","v":0},{"$f":"Q24*R24","v":0},{"$f":"IF(Q24=0,\"\",IF($I$10>0,$I$10,\"\"))","v":""},{"$f":"IF($J$10>0,\"\",IF($D$9>0,$D$9*R24/2000,IF($D$10>0,$D$10*365*R24/2000,IF($D$11>0,$D$11*365*R24*Q24/2000,IF(T24=\"\",S24*8760/2000,T24*8760/2000)))))","v":0},{"$f":"(R6*R24/2000)","v":0}]
["Sand Delivery to Ground Storage",null,null,null,null,null,null,"","",null,null,null,"","",null,"Aggregate Transfer to Conveyor",0,{"$f":"IF(Q25=0,0,LOOKUP(P25,'Emission Factors'!$A$5:$A$16,'Emission Factors'!$D$5:$D$16))","v":0},0,"",0,0]
["Aggregate Transfer to Conveyor",{"$f":"IF(AND(B28=\"\",B29=\"\",B32=\"\",B31=\"\",B30=\"\"),\"\",\"Process (complete stack information if applicable):\")","v":""},{"$f":"IF(AND(B28=\"\",B29=\"\",B32=\"\",B31=\"\",B30=\"\"),\"\",\"Stack Height (ft):\")","v":""},{"$f":"IF(AND(B28=\"\",B29=\"\",B32=\"\",B31=\"\",B30=\"\"),\"\",\"Stack Diameter (inches):\")","v":""},{"$f":"IF(AND(B28=\"\",B29=\"\",B32=\"\",B31=\"\",B30=\"\"),\"\",\"Flow Rate (acfm):\")","v":""},{"$f":"IF(AND(B28=\"\",B29=\"\",B32=\"\",B31=\"\",B30=\"\"),\"\",\"Temperature (Deg F):\")","v":""},null,"","",null,null,null,"","",null,"Sand Transfer to Conveyor",0,{"$f":"IF(Q26=0,0,LOOKUP(P26,'Emission Factors'!$A$5:$A$16,'Emission Factors'!$D$5:$D$16))","v":0},0,"",0,0]
["Sand Transfer to Conveyor",null,null,null,null,null,null,"","",null,null,null,"","",null,"Aggregate Transfer to Elevated Storage",0,{"$f":"IF(Q27=0,0,LOOKUP(P27,'Emission Factors'!$A$5:$A$16,'Emission Factors'!$D$5:$D$16))","v":0},0,"",0,0]
["Aggregate Transfer to Elevated Storage",{"$f":"IF(COUNTIF(J21:J30,\"Cement Delivery to Silo\")>0,\"EP-2 Cement Silo Stack:\",\"\")","v":""},null,null,null,null,null,"","",null,null,null,"","",null,"Sand Transfer to Elevated Storage",0,{"$f":"IF(Q28=0,0,LOOKUP(P28,'Emission Factors'!$A$5:$A$16,'Emission Factors'!$D$5:$D$16))","v":0},0,"",0,0]
["Sand Transfer to Elevated Storage",{"$f":"IF(COUNTIF(J21:J30,\"Cement Supplement Delivery to Silo\")>0,\"EP-3 Cement Supplement Silo Stack:\",\"\")","v":""},null,null,null,null,null,"","",null,null,null,"","",null,"Weigh Hopper Loading",0,{"$f":"IF(Q29=0,0,LOOKUP(P29,'Emission Factors'!$A$5:$A$16,'Emission Factors'!$D$5:$D$16))","v":0},0,"",0,0]
["Weigh Hopper Loading",{"$f":"IF(COUNTIF(J21:J30,\"Weigh Hopper Loading\")>0,\"EP-4 Weigh Hopper Loading Stack:\",\"\")","v":""},null,null,null,null,null,"","",null,null,null,"","",null,"Central Mix Loading",0,{"$f":"IF(Q30=0,0,LOOKUP(P30,'Emission Factors'!$A$5:$A$16,'Emission Factors'!$D$5:$D$16))","v":0},0,{"$f":"IF(Q30=0,\"\",IF($I$10>0,$I$10,IF(COUNTIF($F$24:$F$186,\"no\")>0,\"\",S30*(1-0.95))))","v":""},{"$f":"IF($J$10>0,\"\",IF($D$9>0,$D$9*R30*((100-$W$30)/100)/2000,IF($D$10>0,$D$10*365*R30*((100-$W$30)/100)/2000,IF($D$11>0,$D$11*365*R30*((100-$W$30)/100)*Q30/2000,IF(T30=\"\",S30*8760/2000,T30*8760/2000)))))","v":0},{"$f":"(R30*N198)","v":0},{"$f":"IF(COUNTIF($F$24:$F$186,\"no\")>0,0,95)","v":95}]
["Central Mix Loading",{"$f":"IF(COUNTIF(J21:J30,\"Truck Mix Loading\")>0,\"EP-5 Truck Mix Loading Stack:\",\"\")","v":""},null,null,null,null,null,null,null,null,null,null,null,null,null,"Truck Mix Loading",0,{"$f":"IF(Q31=0,0,LOOKUP(P31,'Emission Factors'!$A$5:$A$16,'Emission Factors'!$D$5:$D$16))","v":0},0,{"$f":"IF(Q31=0,\"\",IF($I$10>0,$I$10,IF(COUNTIF($F$24:$F$186,\"no\")>0,\"\",S31*(1-0.95))))","v":""},{"$f":"IF($J$10>0,\"\",IF($D$9>0,$D$9*R31*((100-$W$30)/100)/2000,IF($D$10>0,$D$10*365*R31*((100-$W$30)/100)/2000,IF($D$11>0,$D$11*365*R31*((100-$W$30)/100)*Q31/2000,IF(T31=\"\",S31*8760/2000,T31*8760/2000)))))","v":0},{"$f":"(R31*M198)","v":0}]
["Truck Mix Loading",{"$f":"IF(COUNTIF(J21:J30,\"Central Mix Loading\")>0,\"EP-6 Central Mix Loading Stack:\",\"\")","v":""},null,null,null,null,null,"Stock Pile Area",null,null,null,null,null,null,null,"Cement Delivery to Silo",0,{"$f":"IF(Q32=0,0,LOOKUP(P32,'Emission Factors'!$A$5:$A$16,'Emission Factors'!$D$5:$D$16))","v":0},null,{"$f":"IF(Q32=0,0,IF($I$10>0,$I$10,Q32*R32))","v":0},{"$f":"IF($J$10>0,\"\",IF($D$9>0,$D$9*R32/2000,IF($D$10>0,$D$10*365*R32/2000,IF($D$11>0,$D$11*365*R32*Q32/2000,IF($I$10>0,0,T32*8760/2000)))))","v":0},0]
["Cement Delivery to Silo",null,null,null,null,null,null,null,"Emission Unit #","Maximum Storage Area (acres)","Actual Storage Area (acres)","Actual Days in Existence (days)",null,null,null,"Cement Supplement Delivery to Silo",0,{"$f":"IF(Q33=0,0,LOOKUP(P33,'Emission Factors'!$A$5:$A$16,'Emission Factors'!$D$5:$D$16))","v":0},null,{"$f":"IF(Q33=0,0,IF($I$10>0,$I$10,Q33*R33))","v":0},{"$f":"IF($J$10>0,\"\",IF($D$9>0,$D$9*R33/2000,IF($D$10>0,$D$10*365*R33/2000,IF($D$11>0,$D$11*365*R33*Q33/2000,IF($I$10>0,0,T33*8760/2000)))))","v":0},0]
["Cement Supplement Delivery to Silo",null,null,null,null,null,null,null,null,null,null,null,null,null,null,"PM10"]
[null,null,null,null,null,null,null,null,null,null,null,null,null,null,null,"Aggregate Delivery to Ground Storage",{"$f":"Q5","v":0},{"$f":"IF(Q35=0,0,LOOKUP(P35,'Emission Factors'!$A$5:$A$16,'Emission Factors'!$H$5:$H$16))","v":0},0,{"$f":"IF(Q35=0,\"\",IF($I$11>0,$I$11,\"\"))","v":""},{"$f":"IF($J$11>0,$J$11,IF($D$9>0,$D$9*R35/2000,IF($D$10>0,$D$10*365*R35/2000,IF($D$11>0,$D$11*365*R35*Q35/2000,IF(T35=\"\",S35*8760/2000,T35*8760/2000)))))","v":0},{"$f":"(R5*R35/2000)","v":0}]
[null,null,null,null,null,null,null,null,null,null,null,null,null,null,null,"Sand Delivery to Ground Storage",{"$f":"Q6","v":0},{"$f":"IF(Q36=0,0,LOOKUP(P36,'Emission Factors'!$A$5:$A$16,'Emission Factors'!$H$5:$H$16))","v":0},0,{"$f":"IF(Q36=0,\"\",IF($I$11>0,$I$11,\"\"))","v":""},{"$f":"IF($J$11>0,\"\",IF($D$9>0,$D$9*R36/2000,IF($D$10>0,$D$10*365*R36/2000,IF($D$11>0,$D$11*365*R36*Q36/2000,IF(T36=\"\",S36*8760/2000,T36*8760/2000)))))","v":0},{"$f":"(R6*R36/2000)","v":0}]
[null,{"$f":"IF('Concrete Plant (CP-5)'!$D$4>1,\"Batch Plant\",\"\")","v":""},{"$f":"IF('Concrete Plant (CP-5)'!$D$4>1,\"Site 2\",\"\")","v":""},null,null,null,null,{"$f":"IF('Concrete Plant (CP-5)'!$D$4>1,\"Emission Point #\",\"\")","v":""},{"$f":"IF('Concrete Plant (CP-5)'!$D$4>1,\"Emission     Unit #\",\"\")","v":""},{"$f":"IF('Concrete Plant (CP-5)'!$D$4>1,\"Processes\",\"\")","v":""},{"$f":"IF('Concrete Plant (CP-5)'!$D$4>1,\"Combined Maximum Hourly Design Rate for all Like Processes (cubic yard/hr)\",\"\")","v":""},{"$f":"IF('Concrete Plant (CP-5)'!$D$4>1,('Facility Information'!G5&\" Annual Throughput (cubic yards)\"),\"\")","v":""},null,null,null,"Aggregate Transfer to Conveyor",0,{"$f":"IF(Q37=0,0,LOOKUP(P37,'Emission Factors'!$A$5:$A$16,'Emission Factors'!$H$5:$H$16))","v":0},0,"",0,0]
[null,null,null,null,null,null,null,null,null,null,null,null,"Truck","Central",null,"Sand Transfer to Conveyor",0,{"$f":"IF(Q38=0,0,LOOKUP(P38,'Emission Factors'!$A$5:$A$16,'Emission Factors'!$H$5:$H$16))","v":0},0,"",0,0]
[null,{"$f":"IF('Concrete Plant (CP-5)'!$D$4>1,\"Site Name:\",\"\")","v":""},null,null,null,null,null,{"$f":"IF(J39=\"cement delivery to silo\",\"CP-1 EP-2\",IF(J39=\"cement supplement delivery to silo\",\"CP-1 EP-3\",IF(J39=\"weigh hopper loading\",\"CP-1 EP-4\",IF(J39=\"truck mix loading\",\"CP-1 EP-5\",IF(J39=\"central mix loading\",\"CP-1 EP-6\",IF(J39=\"\",\"\",\"CP-1 EP-1\"))))))","v":""},{"$f":"IF(J39=\"\",\"\",IF(J39=\"aggregate delivery to ground storage\",\"CP-5 EU-1\",IF(J39=\"sand delivery to ground storage\",\"CP-5 EU-2\",IF(J39=\"aggregate transfer to conveyor\",\"CP-5 EU-3\",IF(J39=\"sand transfer to conveyor\",\"CP-5 EU-4\",IF(J39=\"aggregate transfer to elevated storage\",\"CP-5 EU-5\",IF(J39=\"sand transfer to elevated storage\",\"CP-5 EU-6\",IF(J39=\"weigh hopper loading\",\"CP-5 EU-7\",IF(J39=\"central mix loading\",\"CP-5 EU-8\",IF(J39=\"truck mix loading\",\"CP-5 EU-9\",IF(J39=\"cement delivery to silo\",\"CP-5 EU-10\",IF(J39=\"cement supplement delivery to silo\",\"CP-5 EU-11\"))))))))))))","v":""},null,null,null,{"$f":"IF(J39=\"truck mix loading\",IF($F$42=\"yes\",L39*0.05/2000,L39/2000),\"\")","v":""},{"$f":"IF(J39=\"central mix loading\",IF($F$42=\"yes\",L39*0.05/2000,L39/2000),\"\")","v":""},null,"Aggregate Transfer to Elevated Storage",0,{"$f":"IF(Q39=0,0,LOOKUP(P39,'Emission Factors'!$A$5:$A$16,'Emission Factors'!$H$5:$H$16))","v":0},0,"",0,0]
[null,{"$f":"IF('Concrete Plant (CP-5)'!$D$4>1,\"County:\",\"\")","v":""},null,null,null,null,null,{"$f":"IF(J40=\"cement delivery to silo\",\"CP-1 EP-2\",IF(J40=\"cement supplement delivery to silo\",\"CP-1 EP-3\",IF(J40=\"weigh hopper loading\",\"CP-1 EP-4\",IF(J40=\"truck mix loading\",\"CP-1 EP-5\",IF(J40=\"central mix loading\",\"CP-1 EP-6\",IF(J40=\"\",\"\",\"CP-1 EP-1\"))))))","v":""},"",null,null,null,{"$f":"IF(J40=\"truck mix loading\",IF($F$42=\"yes\",L40*0.05/2000,L40/2000),\"\")","v":""},{"$f":"IF(J40=\"central mix loading\",IF($F$42=\"yes\",L40*0.05/2000,L40/2000),\"\")","v":""},null,"Sand Transfer to Elevated Storage",0,{"$f":"IF(Q40=0,0,LOOKUP(P40,'Emission Factors'!$A$5:$A$16,'Emission Factors'!$H$5:$H$16))","v":0},0,"",0,0]
[null,{"$f":"IF('Concrete Plant (CP-5)'!$D$4>1,\"Batching Period (Dates):\",\"\")","v":""},null,null,null,null,null,"","",null,null,null,"","",null,"Weigh Hopper Loading",0,{"$f":"IF(Q41=0,0,LOOKUP(P41,'Emission Factors'!$A$5:$A$16,'Emission Factors'!$H$5:$H$16))","v":0},0,"",0,0]
[null,{"$f":"IF(OR(COUNTIF(J39:J48,\"Truck Mix Loading\")>0,(COUNTIF(J39:J48,\"Central Mix Loading\")>0)),\"Is the Central/Truck Mix Loading process controlled by a baghouse?\",\"\")","v":""},null,null,null,null,null,"","",null,null,null,"","",null,"Central Mix Loading",0,{"$f":"IF(Q42=0,0,LOOKUP(P42,'Emission Factors'!$A$5:$A$16,'Emission Factors'!$H$5:$H$16))","v":0},0,{"$f":"IF(Q42=0,\"\",IF($I$11>0,$I$11,IF(COUNTIF($F$24:$F$186,\"no\")>0,\"\",S42*(1-0.95))))","v":""},{"$f":"IF($J$11>0,\"\",IF($D$9>0,$D$9*R42*((100-$W$30)/100)/2000,IF($D$10>0,$D$10*365*R42*((100-$W$30)/100)/2000,IF($D$11>0,$D$11*365*R42*((100-$W$30)/100)*Q42/2000,IF(T42=\"\",S42*8760/2000,T42*8760/2000)))))","v":0},{"$f":"(N198*R42)","v":0},{"$f":"IF(COUNTIF($F$24:$F$186,\"no\")>0,0,95)","v":95}]
[null,null,null,null,null,null,null,"","",null,null,null,"","",null,"Truck Mix Loading",0,{"$f":"IF(Q43=0,0,LOOKUP(P43,'Emission Factors'!$A$5:$A$16,'Emission Factors'!$H$5:$H$16))","v":0},0,{"$f":"IF(Q43=0,\"\",IF($I$11>0,$I$11,IF(COUNTIF($F$24:$F$186,\"no\")>0,\"\",S43*(1-0.95))))","v":""},{"$f":"IF($J$11>0,\"\",IF($D$9>0,$D$9*R43*((100-$W$30)/100)/2000,IF($D$10>0,$D$10*365*R43*((100-$W$30)/100)/2000,IF($D$11>0,$D$11*365*R43*((100-$W$30)/100)*Q43/2000,IF(T43=\"\",S43*8760/2000,T43*8760/2000)))))","v":0},{"$f":"(M198*R43)","v":0}]
[null,{"$f":"IF(AND(B46=\"\",B47=\"\",B48=\"\",B49=\"\",B50=\"\"),\"\",\"Process (complete stack information if applicable):\")","v":""},{"$f":"IF(AND(B46=\"\",B47=\"\",B48=\"\",B49=\"\",B50=\"\"),\"\",\"Stack Height (ft):\")","v":""},{"$f":"IF(AND(B46=\"\",B47=\"\",B48=\"\",B49=\"\",B50=\"\"),\"\",\"Stack Diameter (inches):\")","v":""},{"$f":"IF(AND(B46=\"\",B47=\"\",B48=\"\",B49=\"\",B50=\"\"),\"\",\"Flow Rate (acfm):\")","v":""},{"$f":"IF(AND(B46=\"\",B47=\"\",B48=\"\",B49=\"\",B50=\"\"),\"\",\"Temperature (Deg F):\")","v":""},null,"","",null,null,null,"","",null,"Cement Delivery to Silo",0,{"$f":"IF(Q44=0,0,LOOKUP(P44,'Emission Factors'!$A$5:$A$16,'Emission Factors'!$H$5:$H$16))","v":0},null,{"$f":"IF(Q44=0,0,IF($I$10>0,$I$10,Q44*R44))","v":0},{"$f":"IF($J$11>0,\"\",IF($D$9>0,$D$9*R44/2000,IF($D$10>0,$D$10*365*R44/2000,IF($D$11>0,$D$11*365*R44*Q44/2000,IF($I$11>0,0,T44*8760/2000)))))","v":0},0]
[null,null,null,null,null,null,null,"","",null,null,null,"","",null,"Cement Supplement Delivery to Silo",0,{"$f":"IF(Q45=0,0,LOOKUP(P45,'Emission Factors'!$A$5:$A$16,'Emission Factors'!$H$5:$H$16))","v":0},null,{"$f":"IF(Q45=0,0,IF($I$10>0,$I$10,Q45*R45))","v":0},{"$f":"IF($J$11>0,\"\",IF($D$9>0,$D$9*R45/2000,IF($D$10>0,$D$10*365*R45/2000,IF($D$11>0,$D$11*365*R45*Q45/2000,IF($I$11>0,0,T45*8760/2000)))))","v":0},0]
[null,{"$f":"IF(COUNTIF(J39:J48,\"Cement Delivery to Silo\")>0,\"EP-2 Cement Silo Stack:\",\"\")","v":""},null,null,null,null,null,"","",null,null,null,"",""]
[null,{"$f":"IF(COUNTIF(J39:J48,\"Cement Supplement Delivery to Silo\")>0,\"EP-3 Cement Supplement Silo Stack:\",\"\")","v":""},null,null,null,null,null,"","",null,null,null,"","",null,null,"Max Design Rate (acres/day)","Emission Factor   (lb/acre-day)","Potential Uncontrolled Emissions (lb/hr)","Potential Controlled Emissions (lb/hr)","Potential Annual Emissions (tons/yr)","Actual Annual Emissions (tons/yr)"]
[null,{"$f":"IF(COUNTIF(J39:J48,\"Weigh Hopper Loading\")>0,\"EP-4 Weigh Hopper Loading Stack:\",\"\")","v":""},null,null,null,null,null,"","",null,null,null,"","",null,"Storage Pile"]
[null,{"$f":"IF(COUNTIF(J39:J48,\"Truck Mix Loading\")>0,\"EP-5 Truck Mix Loading Stack:\",\"\")","v":""},null,null,null,null,null,null,null,null,null,null,null,null,null,"PM2.5/PM10",{"$f":"Q17","v":0},3.64,{"$f":"Q49*R49*(1/24)","v":0},null,{"$f":"Q49*R49*365/2000","v":0},{"$f":"R17*R49/2000","v":0}]
[null,{"$f":"IF(COUNTIF(J39:J48,\"Central Mix Loading\")>0,\"EP-6 Central Mix Loading Stack:\",\"\")","v":""},null,null,null,null,null,{"$f":"IF('Concrete Plant (CP-5)'!$D$4>1,\"Stock Pile Area\",\"\")","v":""}]
[null,null,null,null,null,null,null,null,{"$f":"IF('Concrete Plant (CP-5)'!$D$4>1,\"Emission Unit #\",\"\")","v":""},{"$f":"IF('Concrete Plant (CP-5)'!$D$4>1,\"Maximum Storage Area (acres)\",\"\")","v":""},{"$f":"IF('Concrete Plant (CP-5)'!$D$4>1,\"Actual Storage Area (acres)\",\"\")","v":""},{"$f":"IF('Concrete Plant (CP-5)'!$D$4>1,\"Actual Days in Existence (days)\",\"\")","v":""}]
[]
[]
[]
[null,{"$f":"IF('Concrete Plant (CP-5)'!$D$4>2,\"Batch Plant\",\"\")","v":""},{"$f":"IF('Concrete Plant (CP-5)'!$D$4>2,\"Site 3\",\"\")","v":""},null,null,null,null,{"$f":"IF('Concrete Plant (CP-5)'!$D$4>2,\"Emission Point #\",\"\")","v":""},{"$f":"IF('Concrete Plant (CP-5)'!$D$4>2,\"Emission     Unit #\",\"\")","v":""},{"$f":"IF('Concrete Plant (CP-5)'!$D$4>2,\"Processes\",\"\")","v":""},{"$f":"IF('Concrete Plant (CP-5)'!$D$4>2,\"Combined Maximum Hourly Design Rate for all Like Processes (cubic yard/hr)\",\"\")","v":""},{"$f":"IF('Concrete Plant (CP-5)'!$D$4>2,('Facility Information'!G5&\" Annual Throughput (cubic yards)\"),\"\")","v":""}]
[null,null,null,null,null,null,null,null,null,null,null,null,"Truck","Central"]
[null,{"$f":"IF('Concrete Plant (CP-5)'!$D$4>2,\"Site Name:\",\"\")","v":""},null,null,null,null,null,{"$f":"IF(J57=\"cement delivery to silo\",\"CP-1 EP-2\",IF(J57=\"cement supplement delivery to silo\",\"CP-1 EP-3\",IF(J57=\"weigh hopper loading\",\"CP-1 EP-4\",IF(J57=\"truck mix loading\",\"CP-1 EP-5\",IF(J57=\"central mix loading\",\"CP-1 EP-6\",IF(J57=\"\",\"\",\"CP-1 EP-1\"))))))","v":""},{"$f":"IF(J57=\"\",\"\",IF(J57=\"aggregate delivery to ground storage\",\"CP-5 EU-1\",IF(J57=\"sand delivery to ground storage\",\"CP-5 EU-2\",IF(J57=\"aggregate transfer to conveyor\",\"CP-5 EU-3\",IF(J57=\"sand transfer to conveyor\",\"CP-5 EU-4\",IF(J57=\"aggregate transfer to elevated storage\",\"CP-5 EU-5\",IF(J57=\"sand transfer to elevated storage\",\"CP-5 EU-6\",IF(J57=\"weigh hopper loading\",\"CP-5 EU-7\",IF(J57=\"central mix loading\",\"CP-5 EU-8\",IF(J57=\"truck mix loading\",\"CP-5 EU-9\",IF(J57=\"cement delivery to silo\",\"CP-5 EU-10\",IF(J57=\"cement supplement delivery to silo\",\"CP-5 EU-11\"))))))))))))","v":""},null,null,null,{"$f":"IF(J57=\"truck mix loading\",IF($F$60=\"yes\",L57*0.05/2000,L57/2000),\"\")","v":""},{"$f":"IF(J57=\"central mix loading\",IF($F$60=\"yes\",L57*0.05/2000,L57/2000),\"\")","v":""}]
[null,{"$f":"IF('Concrete Plant (CP-5)'!$D$4>2,\"County:\",\"\")","v":""},null,null,null,null,null,{"$f":"IF(J58=\"cement delivery to silo\",\"CP-1 EP-2\",IF(J58=\"cement supplement delivery to silo\",\"CP-1 EP-3\",IF(J58=\"weigh hopper loading\",\"CP-1 EP-4\",IF(J58=\"truck mix loading\",\"CP-1 EP-5\",IF(J58=\"central mix loading\",\"CP-1 EP-6\",IF(J58=\"\",\"\",\"CP-1 EP-1\"))))))","v":""},"",null,null,null,{"$f":"IF(J58=\"truck mix loading\",IF($F$60=\"yes\",L58*0.05/2000,L58/2000),\"\")","v":""},{"$f":"IF(J58=\"central mix loading\",IF($F$60=\"yes\",L58*0.05/2000,L58/2000),\"\")","v":""}]
[null,{"$f":"IF('Concrete Plant (CP-5)'!$D$4>2,\"Batching Period (Dates):\",\"\")","v":""},null,null,null,null,null,"","",null,null,null,"",""]
[null,{"$f":"IF(OR(COUNTIF(J57:J66,\"Truck Mix Loading\")>0,(COUNTIF(J57:J66,\"Central Mix Loading\")>0)),\"Is the Central/Truck Mix Loading process controlled by a baghouse?\",\"\")","v":""},null,null,null,null,null,"","",null,null,null,"",""]
[null,null,null,null,null,null,null,"","",null,null,null,"",""]
[null,{"$f":"IF(AND(B64=\"\",B65=\"\",B66=\"\",B67=\"\",B68=\"\"),\"\",\"Process (complete stack information if applicable):\")","v":""},{"$f":"IF(AND(B64=\"\",B65=\"\",B66=\"\",B67=\"\",B68=\"\"),\"\",\"Stack Height (ft):\")","v":""},{"$f":"IF(AND(B64=\"\",B65=\"\",B66=\"\",B67=\"\",B68=\"\"),\"\",\"Stack Diameter (inches):\")","v":""},{"$f":"IF(AND(B64=\"\",B65=\"\",B66=\"\",B67=\"\",B68=\"\"),\"\",\"Flow Rate (acfm):\")","v":""},{"$f":"IF(AND(B64=\"\",B65=\"\",B66=\"\",B67=\"\",B68=\"\"),\"\",\"Temperature (Deg F):\")","v":""},null,"","",null,null,null,"",""]
[null,null,null,null,null,null,null,"","",null,null,null,"",""]
[null,{"$f":"IF(COUNTIF(J57:J66,\"Cement Delivery to Silo\")>0,\"EP-2 Cement Silo Stack:\",\"\")","v":""},null,null,null,null,null,"","",null,null,null,"",""]
[null,{"$f":"IF(COUNTIF(J57:J66,\"Cement Supplement Delivery to Silo\")>0,\"EP-3 Cement Supplement Silo Stack:\",\"\")","v":""},null,null,null,null,null,"","",null,null,null,"",""]
[null,{"$f":"IF(COUNTIF(J57:J66,\"Weigh Hopper Loading\")>0,\"EP-4 Weigh Hopper Loading Stack:\",\"\")","v":""},null,null,null,null,null,"","",null,null,null,"",""]
[null,{"$f":"IF(COUNTIF(J57:J66,\"Truck Mix Loading\")>0,\"EP-5 Truck Mix Loading Stack:\",\"\")","v":""}]
[null,{"$f":"IF(COUNTIF(J57:J66,\"Central Mix Loading\")>0,\"EP-6 Central Mix Loading Stack:\",\"\")","v":""},null,null,null,null,null,{"$f":"IF('Concrete Plant (CP-5)'!$D$4>2,\"Stock Pile Area\",\"\")","v":""}]
[null,null,null,null,null,null,null,null,{"$f":"IF('Concrete Plant (CP-5)'!$D$4>2,\"Emission Unit #\",\"\")","v":""},{"$f":"IF('Concrete Plant (CP-5)'!$D$4>2,\"Maximum Storage Area (acres)\",\"\")","v":""},{"$f":"IF('Concrete Plant (CP-5)'!$D$4>2,\"Actual Storage Area (acres)\",\"\")","v":""},{"$f":"IF('Concrete Plant (CP-5)'!$D$4>2,\"Actual Days in Existence (days)\",\"\")","v":""}]
[]
[]
[]
[null,{"$f":"IF('Concrete Plant (CP-5)'!$D$4>3,\"Batch Plant\",\"\")","v":""},{"$f":"IF('Concrete Plant (CP-5)'!$D$4>3,\"Site 4\",\"\")","v":""},null,null,null,null,{"$f":"IF('Concrete Plant (CP-5)'!$D$4>3,\"Emission Point #\",\"\")","v":""},{"$f":"IF('Concrete Plant (CP-5)'!$D$4>3,\"Emission     Unit #\",\"\")","v":""},{"$f":"IF('Concrete Plant (CP-5)'!$D$4>3,\"Processes\",\"\")","v":""},{"$f":"IF('Concrete Plant (CP-5)'!$D$4>3,\"Combined Maximum Hourly Design Rate for all Like Processes (cubic yard/hr)\",\"\")","v":""},{"$f":"IF('Concrete Plant (CP-5)'!$D$4>3,('Facility Information'!G5&\" Annual Throughput (cubic yards)\"),\"\")","v":""}]
[null,null,null,null,null,null,null,null,null,null,null,null,"Truck","Central"]
[null,{"$f":"IF('Concrete Plant (CP-5)'!$D$4>3,\"Site Name:\",\"\")","v":""},null,null,null,null,null,{"$f":"IF(J75=\"cement delivery to silo\",\"CP-1 EP-2\",IF(J75=\"cement supplement delivery to silo\",\"CP-1 EP-3\",IF(J75=\"weigh hopper loading\",\"CP-1 EP-4\",IF(J75=\"truck mix loading\",\"CP-1 EP-5\",IF(J75=\"central mix loading\",\"CP-1 EP-6\",IF(J75=\"\",\"\",\"CP-1 EP-1\"))))))","v":""},{"$f":"IF(J75=\"\",\"\",IF(J75=\"aggregate delivery to ground storage\",\"CP-5 EU-1\",IF(J75=\"sand delivery to ground storage\",\"CP-5 EU-2\",IF(J75=\"aggregate transfer to conveyor\",\"CP-5 EU-3\",IF(J75=\"sand transfer to conveyor\",\"CP-5 EU-4\",IF(J75=\"aggregate transfer to elevated storage\",\"CP-5 EU-5\",IF(J75=\"sand transfer to elevated storage\",\"CP-5 EU-6\",IF(J75=\"weigh hopper loading\",\"CP-5 EU-7\",IF(J75=\"central mix loading\",\"CP-5 EU-8\",IF(J75=\"truck mix loading\",\"CP-5 EU-9\",IF(J75=\"cement delivery to silo\",\"CP-5 EU-10\",IF(J75=\"cement supplement delivery to silo\",\"CP-5 EU-11\"))))))))))))","v":""},null,null,null,{"$f":"IF(J75=\"truck mix loading\",IF($F$78=\"yes\",L75*0.05/2000,L75/2000),\"\")","v":""},{"$f":"IF(J75=\"central mix loading\",IF($F$78=\"yes\",L75*0.05/2000,L75/2000),\"\")","v":""}]
[null,{"$f":"IF('Concrete Plant (CP-5)'!$D$4>3,\"County:\",\"\")","v":""},null,null,null,null,null,{"$f":"IF(J76=\"cement delivery to silo\",\"CP-1 EP-2\",IF(J76=\"cement supplement delivery to silo\",\"CP-1 EP-3\",IF(J76=\"weigh hopper loading\",\"CP-1 EP-4\",IF(J76=\"truck mix loading\",\"CP-1 EP-5\",IF(J76=\"central mix loading\",\"CP-1 EP-6\",IF(J76=\"\",\"\",\"CP-1 EP-1\"))))))","v":""},"",null,null,null,{"$f":"IF(J76=\"truck mix loading\",IF($F$78=\"yes\",L76*0.05/2000,L76/2000),\"\")","v":""},{"$f":"IF(J76=\"central mix loading\",IF($F$78=\"yes\",L76*0.05/2000,L76/2000),\"\")","v":""}]
[null,{"$f":"IF('Concrete Plant (CP-5)'!$D$4>3,\"Batching Period (Dates):\",\"\")","v":""},null,null,null,null,null,"","",null,null,null,"",""]
[null,{"$f":"IF(OR(COUNTIF(J75:J84,\"Truck Mix Loading\")>0,(COUNTIF(J75:J84,\"Central Mix Loading\")>0)),\"Is the Central/Truck Mix Loading process controlled by a baghouse?\",\"\")","v":""},null,null,null,null,null,"","",null,null,null,"",""]
[null,null,null,null,null,null,null,"","",null,null,null,"",""]
[null,{"$f":"IF(AND(B82=\"\",B83=\"\",B84=\"\",B85=\"\",B86=\"\"),\"\",\"Process (complete stack information if applicable):\")","v":""},{"$f":"IF(AND(B82=\"\",B83=\"\",B84=\"\",B85=\"\",B86=\"\"),\"\",\"Stack Height (ft):\")","v":""},{"$f":"IF(AND(B82=\"\",B83=\"\",B84=\"\",B85=\"\",B86=\"\"),\"\",\"Stack Diameter (inches):\")","v":""},{"$f":"IF(AND(B82=\"\",B83=\"\",B84=\"\",B85=\"\",B86=\"\"),\"\",\"Flow Rate (acfm):\")","v":""},{"$f":"IF(AND(B82=\"\",B83=\"\",B84=\"\",B85=\"\",B86=\"\"),\"\",\"Temperature (Deg F):\")","v":""},null,"","",null,null,null,"",""]
[null,null,null,null,null,null,null,"","",null,null,null,"",""]
[null,{"$f":"IF(COUNTIF(J75:J84,\"Cement Delivery to Silo\")>0,\"EP-2 Cement Silo Stack:\",\"\")","v":""},null,null,null,null,null,"","",null,null,null,"",""]
[null,{"$f":"IF(COUNTIF(J75:J84,\"Cement Supplement Delivery to Silo\")>0,\"EP-3 Cement Supplement Silo Stack:\",\"\")","v":""},null,null,null,null,null,"","",null,null,null,"",""]
[null,{"$f":"IF(COUNTIF(J75:J84,\"Weigh Hopper Loading\")>0,\"EP-4 Weigh Hopper Loading Stack:\",\"\")","v":""},null,null,null,null,null,"","",null,null,null,"",""]
[null,{"$f":"IF(COUNTIF(J75:J84,\"Truck Mix Loading\")>0,\"EP-5 Truck Mix Loading Stack:\",\"\")","v":""}]
[null,{"$f":"IF(COUNTIF(J75:J84,\"Central Mix Loading\")>0,\"EP-6 Central Mix Loading Stack:\",\"\")","v":""},null,null,null,null,null,{"$f":"IF('Concrete Plant (CP-5)'!$D$4>3,\"Stock Pile Area\",\"\")","v":""}]
[null,null,null,null,null,null,null,null,{"$f":"IF('Concrete Plant (CP-5)'!$D$4>3,\"Emission Unit #\",\"\")","v":""},{"$f":"IF('Concrete Plant (CP-5)'!$D$4>3,\"Maximum Storage Area (acres)\",\"\")","v":""},{"$f":"IF('Concrete Plant (CP-5)'!$D$4>3,\"Actual Storage Area (acres)\",\"\")","v":""},{"$f":"IF('Concrete Plant (CP-5)'!$D$4>3,\"Actual Days in Existence (days)\",\"\")","v":""}]
[]
[]
[]
[null,{"$f":"IF('Concrete Plant (CP-5)'!$D$4>4,\"Batch Plant\",\"\")","v":""},{"$f":"IF('Concrete Plant (CP-5)'!$D$4>4,\"Site 5\",\"\")","v":""},null,null,null,null,{"$f":"IF('Concrete Plant (CP-5)'!$D$4>4,\"Emission Point #\",\"\")","v":""},{"$f":"IF('Concrete Plant (CP-5)'!$D$4>4,\"Emission     Unit #\",\"\")","v":""},{"$f":"IF('Concrete Plant (CP-5)'!$D$4>4,\"Processes\",\"\")","v":""},{"$f":"IF('Concrete Plant (CP-5)'!$D$4>4,\"Combined Maximum Hourly Design Rate for all Like Processes (cubic yard/hr)\",\"\")","v":""},{"$f":"IF('Concrete Plant (CP-5)'!$D$4>4,('Facility Information'!G5&\" Annual Throughput (cubic yards)\"),\"\")","v":""}]
[null,null,null,null,null,null,null,null,null,null,null,null,"Truck","Central"]
[null,{"$f":"IF('Concrete Plant (CP-5)'!$D$4>4,\"Site Name:\",\"\")","v":""},null,null,null,null,null,{"$f":"IF(J93=\"cement delivery to silo\",\"CP-1 EP-2\",IF(J93=\"cement supplement delivery to silo\",\"CP-1 EP-3\",IF(J93=\"weigh hopper loading\",\"CP-1 EP-4\",IF(J93=\"truck mix loading\",\"CP-1 EP-5\",IF(J93=\"central mix loading\",\"CP-1 EP-6\",IF(J93=\"\",\"\",\"CP-1 EP-1\"))))))","v":""},{"$f":"IF(J93=\"\",\"\",IF(J93=\"aggregate delivery to ground storage\",\"CP-5 EU-1\",IF(J93=\"sand delivery to ground storage\",\"CP-5 EU-2\",IF(J93=\"aggregate transfer to conveyor\",\"CP-5 EU-3\",IF(J93=\"sand transfer to conveyor\",\"CP-5 EU-4\",IF(J93=\"aggregate transfer to elevated storage\",\"CP-5 EU-5\",IF(J93=\"sand transfer to elevated storage\",\"CP-5 EU-6\",IF(J93=\"weigh hopper loading\",\"CP-5 EU-7\",IF(J93=\"central mix loading\",\"CP-5 EU-8\",IF(J93=\"truck mix loading\",\"CP-5 EU-9\",IF(J93=\"cement delivery to silo\",\"CP-5 EU-10\",IF(J93=\"cement supplement delivery to silo\",\"CP-5 EU-11\"))))))))))))","v":""},null,null,null,{"$f":"IF(J93=\"truck mix loading\",IF($F$96=\"yes\",L93*0.05/2000,L93/2000),\"\")","v":""},{"$f":"IF(J93=\"central mix loading\",IF($F$96=\"yes\",L93*0.05/2000,L93/2000),\"\")","v":""}]
[null,{"$f":"IF('Concrete Plant (CP-5)'!$D$4>4,\"County:\",\"\")","v":""},null,null,null,null,null,{"$f":"IF(J94=\"cement delivery to silo\",\"CP-1 EP-2\",IF(J94=\"cement supplement delivery to silo\",\"CP-1 EP-3\",IF(J94=\"weigh hopper loading\",\"CP-1 EP-4\",IF(J94=\"truck mix loading\",\"CP-1 EP-5\",IF(J94=\"central mix loading\",\"CP-1 EP-6\",IF(J94=\"\",\"\",\"CP-1 EP-1\"))))))","v":""},"",null,null,null,{"$f":"IF(J94=\"truck mix loading\",IF($F$96=\"yes\",L94*0.05/2000,L94/2000),\"\")","v":""},{"$f":"IF(J94=\"central mix loading\",IF($F$96=\"yes\",L94*0.05/2000,L94/2000),\"\")","v":""}]
[null,{"$f":"IF('Concrete Plant (CP-5)'!$D$4>4,\"Batching Period (Dates):\",\"\")","v":""},null,null,null,null,null,"","",null,null,null,"",""]
[null,{"$f":"IF(OR(COUNTIF(J93:J102,\"Truck Mix Loading\")>0,(COUNTIF(J93:J102,\"Central Mix Loading\")>0)),\"Is the Central/Truck Mix Loading process controlled by a baghouse?\",\"\")","v":""},null,null,null,null,null,"","",null,null,null,"",""]
[null,null,null,null,null,null,null,"","",null,null,null,"",""]
[null,{"$f":"IF(AND(B100=\"\",B101=\"\",B102=\"\",B103=\"\",B104=\"\"),\"\",\"Process (complete stack information if applicable):\")","v":""},{"$f":"IF(AND(B100=\"\",B101=\"\",B102=\"\",B103=\"\",B104=\"\"),\"\",\"Stack Height (ft):\")","v":""},{"$f":"IF(AND(B100=\"\",B101=\"\",B102=\"\",B103=\"\",B104=\"\"),\"\",\"Stack Diameter (inches):\")","v":""},{"$f":"IF(AND(B100=\"\",B101=\"\",B102=\"\",B103=\"\",B104=\"\"),\"\",\"Flow Rate (acfm):\")","v":""},{"$f":"IF(AND(B100=\"\",B101=\"\",B102=\"\",B103=\"\",B104=\"\"),\"\",\"Temperature (Deg F):\")","v":""},null,"","",null,null,null,"",""]
[null,null,null,null,null,null,null,"","",null,null,null,"",""]
[null,{"$f":"IF(COUNTIF(J93:J102,\"Cement Delivery to Silo\")>0,\"EP-2 Cement Silo Stack:\",\"\")","v":""},null,null,null,null,null,"","",null,null,null,"",""]
[null,{"$f":"IF(COUNTIF(J93:J102,\"Cement Supplement Delivery to Silo\")>0,\"EP-3 Cement Supplement Silo Stack:\",\"\")","v":""},null,null,null,null,null,"","",null,null,null,"",""]
[null,{"$f":"IF(COUNTIF(J93:J102,\"Weigh Hopper Loading\")>0,\"EP-4 Weigh Hopper Loading Stack:\",\"\")","v":""},null,null,null,null,null,"","",null,null,null,"",""]
[null,{"$f":"IF(COUNTIF(J93:J102,\"Truck Mix Loading\")>0,\"EP-5 Truck Mix Loading Stack:\",\"\")","v":""}]
[null,{"$f":"IF(COUNTIF(J93:J102,\"Central Mix Loading\")>0,\"EP-6 Central Mix Loading Stack:\",\"\")","v":""},null,null,null,null,null,{"$f":"IF('Concrete Plant (CP-5)'!$D$4>4,\"Stock Pile Area\",\"\")","v":""}]
[null,null,null,null,null,null,null,null,{"$f":"IF('Concrete Plant (CP-5)'!$D$4>4,\"Emission Unit #\",\"\")","v":""},{"$f":"IF('Concrete Plant (CP-5)'!$D$4>4,\"Maximum Storage Area (acres)\",\"\")","v":""},{"$f":"IF('Concrete Plant (CP-5)'!$D$4>4,\"Actual Storage Area (acres)\",\"\")","v":""},{"$f":"IF('Concrete Plant (CP-5)'!$D$4>4,\"Actual Days in Existence (days)\",\"\")","v":""}]
[]
[]
[]
[null,{"$f":"IF('Concrete Plant (CP-5)'!$D$4>5,\"Batch Plant\",\"\")","v":""},{"$f":"IF('Concrete Plant (CP-5)'!$D$4>5,\"Site 6\",\"\")","v":""},null,null,null,null,{"$f":"IF('Concrete Plant (CP-5)'!$D$4>5,\"Emission Point #\",\"\")","v":""},{"$f":"IF('Concrete Plant (CP-5)'!$D$4>5,\"Emission     Unit #\",\"\")","v":""},{"$f":"IF('Concrete Plant (CP-5)'!$D$4>5,\"Processes\",\"\")","v":""},{"$f":"IF('Concrete Plant (CP-5)'!$D$4>5,\"Combined Maximum Hourly Design Rate for all Like Processes (cubic yard/hr)\",\"\")","v":""},{"$f":"IF('Concrete Plant (CP-5)'!$D$4>5,('Facility Information'!G5&\" Annual Throughput (cubic yards)\"),\"\")","v":""}]
[null,null,null,null,null,null,null,null,null,null,null,null,"Truck","Central"]
[null,{"$f":"IF('Concrete Plant (CP-5)'!$D$4>5,\"Site Name:\",\"\")","v":""},null,null,null,null,null,{"$f":"IF(J111=\"cement delivery to silo\",\"CP-1 EP-2\",IF(J111=\"cement supplement delivery to silo\",\"CP-1 EP-3\",IF(J111=\"weigh hopper loading\",\"CP-1 EP-4\",IF(J111=\"truck mix loading\",\"CP-1 EP-5\",IF(J111=\"central mix loading\",\"CP-1 EP-6\",IF(J111=\"\",\"\",\"CP-1 EP-1\"))))))","v":""},{"$f":"IF(J111=\"\",\"\",IF(J111=\"aggregate delivery to ground storage\",\"CP-5 EU-1\",IF(J111=\"sand delivery to ground storage\",\"CP-5 EU-2\",IF(J111=\"aggregate transfer to conveyor\",\"CP-5 EU-3\",IF(J111=\"sand transfer to conveyor\",\"CP-5 EU-4\",IF(J111=\"aggregate transfer to elevated storage\",\"CP-5 EU-5\",IF(J111=\"sand transfer to elevated storage\",\"CP-5 EU-6\",IF(J111=\"weigh hopper loading\",\"CP-5 EU-7\",IF(J111=\"central mix loading\",\"CP-5 EU-8\",IF(J111=\"truck mix loading\",\"CP-5 EU-9\",IF(J111=\"cement delivery to silo\",\"CP-5 EU-10\",IF(J111=\"cement supplement delivery to silo\",\"CP-5 EU-11\"))))))))))))","v":""},null,null,null,{"$f":"IF(J111=\"truck mix loading\",IF($F$114=\"yes\",L111*0.05/2000,L111/2000),\"\")","v":""},{"$f":"IF(J111=\"central mix loading\",IF($F$114=\"yes\",L111*0.05/2000,L111/2000),\"\")","v":""}]
[null,{"$f":"IF('Concrete Plant (CP-5)'!$D$4>5,\"County:\",\"\")","v":""},null,null,null,null,null,{"$f":"IF(J112=\"cement delivery to silo\",\"CP-1 EP-2\",IF(J112=\"cement supplement delivery to silo\",\"CP-1 EP-3\",IF(J112=\"weigh hopper loading\",\"CP-1 EP-4\",IF(J112=\"truck mix loading\",\"CP-1 EP-5\",IF(J112=\"central mix loading\",\"CP-1 EP-6\",IF(J112=\"\",\"\",\"CP-1 EP-1\"))))))","v":""},"",null,null,null,{"$f":"IF(J112=\"truck mix loading\",IF($F$114=\"yes\",L112*0.05/2000,L112/2000),\"\")","v":""},{"$f":"IF(J112=\"central mix loading\",IF($F$114=\"yes\",L112*0.05/2000,L112/2000),\"\")","v":""}]
[null,{"$f":"IF('Concrete Plant (CP-5)'!$D$4>5,\"Batching Period (Dates):\",\"\")","v":""},null,null,null,null,null,"","",null,null,null,"",""]
[null,{"$f":"IF(OR(COUNTIF(J111:J120,\"Truck Mix Loading\")>0,(COUNTIF(J111:J120,\"Central Mix Loading\")>0)),\"Is the Central/Truck Mix Loading process controlled by a baghouse?\",\"\")","v":""},null,null,null,null,null,"","",null,null,null,"",""]
[null,null,null,null,null,null,null,"","",null,null,null,"",""]
[null,{"$f":"IF(AND(B118=\"\",B119=\"\",B120=\"\",B121=\"\",B122=\"\"),\"\",\"Process (complete stack information if applicable):\")","v":""},{"$f":"IF(AND(B118=\"\",B119=\"\",B120=\"\",B121=\"\",B122=\"\"),\"\",\"Stack Height (ft):\")","v":""},{"$f":"IF(AND(B118=\"\",B119=\"\",B120=\"\",B121=\"\",B122=\"\"),\"\",\"Stack Diameter (inches):\")","v":""},{"$f":"IF(AND(B118=\"\",B119=\"\",B120=\"\",B121=\"\",B122=\"\"),\"\",\"Flow Rate (acfm):\")","v":""},{"$f":"IF(AND(B118=\"\",B119=\"\",B120=\"\",B121=\"\",B122=\"\"),\"\",\"Temperature (Deg F):\")","v":""},null,"","",null,null,null,"",""]
[null,null,null,null,null,null,null,"","",null,null,null,"",""]
[null,{"$f":"IF(COUNTIF(J111:J120,\"Cement Delivery to Silo\")>0,\"EP-2 Cement Silo Stack:\",\"\")","v":""},null,null,null,null,null,"","",null,null,null,"",""]
[null,{"$f":"IF(COUNTIF(J111:J120,\"Cement Supplement Delivery to Silo\")>0,\"EP-3 Cement Supplement Silo Stack:\",\"\")","v":""},null,null,null,null,null,"","",null,null,null,"",""]
[null,{"$f":"IF(COUNTIF(J111:J120,\"Weigh Hopper Loading\")>0,\"EP-4 Weigh Hopper Loading Stack:\",\"\")","v":""},null,null,null,null,null,"","",null,null,null,"",""]
[null,{"$f":"IF(COUNTIF(J111:J120,\"Truck Mix Loading\")>0,\"EP-5 Truck Mix Loading Stack:\",\"\")","v":""}]
[null,{"$f":"IF(COUNTIF(J111:J120,\"Central Mix Loading\")>0,\"EP-6 Central Mix Loading Stack:\",\"\")","v":""},null,null,null,null,null,{"$f":"IF('Concrete Plant (CP-5)'!$D$4>5,\"Stock Pile Area\",\"\")","v":""}]
[null,null,null,null,null,null,null,null,{"$f":"IF('Concrete Plant (CP-5)'!$D$4>5,\"Emission Unit #\",\"\")","v":""},{"$f":"IF('Concrete Plant (CP-5)'!$D$4>5,\"Maximum Storage Area (acres)\",\"\")","v":""},{"$f":"IF('Concrete Plant (CP-5)'!$D$4>5,\"Actual Storage Area (acres)\",\"\")","v":""},{"$f":"IF('Concrete Plant (CP-5)'!$D$4>5,\"Actual Days in Existence (days)\",\"\")","v":""}]
[]
[]
[]
[null,{"$f":"IF('Concrete Plant (CP-5)'!$D$4>6,\"Batch Plant\",\"\")","v":""},{"$f":"IF('Concrete Plant (CP-5)'!$D$4>6,\"Site 7\",\"\")","v":""},null,null,null,null,{"$f":"IF('Concrete Plant (CP-5)'!$D$4>6,\"Emission Point #\",\"\")","v":""},{"$f":"IF('Concrete Plant (CP-5)'!$D$4>6,\"Emission     Unit #\",\"\")","v":""},{"$f":"IF('Concrete Plant (CP-5)'!$D$4>6,\"Processes\",\"\")","v":""},{"$f":"IF('Concrete Plant (CP-5)'!$D$4>6,\"Combined Maximum Hourly Design Rate for all Like Processes (cubic yard/hr)\",\"\")","v":""},{"$f":"IF('Concrete Plant (CP-5)'!$D$4>6,('Facility Information'!G5&\" Annual Throughput (cubic yards)\"),\"\")","v":""}]
[null,null,null,null,null,null,null,null,null,null,null,null,"Truck","Central"]
[null,{"$f":"IF('Concrete Plant (CP-5)'!$D$4>6,\"Site Name:\",\"\")","v":""},null,null,null,null,null,{"$f":"IF(J129=\"cement delivery to silo\",\"CP-1 EP-2\",IF(J129=\"cement supplement delivery to silo\",\"CP-1 EP-3\",IF(J129=\"weigh hopper loading\",\"CP-1 EP-4\",IF(J129=\"truck mix loading\",\"CP-1 EP-5\",IF(J129=\"central mix loading\",\"CP-1 EP-6\",IF(J129=\"\",\"\",\"CP-1 EP-1\"))))))","v":""},{"$f":"IF(J129=\"\",\"\",IF(J129=\"aggregate delivery to ground storage\",\"CP-5 EU-1\",IF(J129=\"sand delivery to ground storage\",\"CP-5 EU-2\",IF(J129=\"aggregate transfer to conveyor\",\"CP-5 EU-3\",IF(J129=\"sand transfer to conveyor\",\"CP-5 EU-4\",IF(J129=\"aggregate transfer to elevated storage\",\"CP-5 EU-5\",IF(J129=\"sand transfer to elevated storage\",\"CP-5 EU-6\",IF(J129=\"weigh hopper loading\",\"CP-5 EU-7\",IF(J129=\"central mix loading\",\"CP-5 EU-8\",IF(J129=\"truck mix loading\",\"CP-5 EU-9\",IF(J129=\"cement delivery to silo\",\"CP-5 EU-10\",IF(J129=\"cement supplement delivery to silo\",\"CP-5 EU-11\"))))))))))))","v":""},null,null,null,{"$f":"IF(J129=\"truck mix loading\",IF($F$132=\"yes\",L129*0.05/2000,L129/2000),\"\")","v":""},{"$f":"IF(J129=\"central mix loading\",IF($F$132=\"yes\",L129*0.05/2000,L129/2000),\"\")","v":""}]
[null,{"$f":"IF('Concrete Plant (CP-5)'!$D$4>6,\"County:\",\"\")","v":""},null,null,null,null,null,{"$f":"IF(J130=\"cement delivery to silo\",\"CP-1 EP-2\",IF(J130=\"cement supplement delivery to silo\",\"CP-1 EP-3\",IF(J130=\"weigh hopper loading\",\"CP-1 EP-4\",IF(J130=\"truck mix loading\",\"CP-1 EP-5\",IF(J130=\"central mix loading\",\"CP-1 EP-6\",IF(J130=\"\",\"\",\"CP-1 EP-1\"))))))","v":""},"",null,null,null,{"$f":"IF(J130=\"truck mix loading\",IF($F$132=\"yes\",L130*0.05/2000,L130/2000),\"\")","v":""},{"$f":"IF(J130=\"central mix loading\",IF($F$132=\"yes\",L130*0.05/2000,L130/2000),\"\")","v":""}]
[null,{"$f":"IF('Concrete Plant (CP-5)'!$D$4>6,\"Batching Period (Dates):\",\"\")","v":""},null,null,null,null,null,"","",null,null,null,"",""]
[null,{"$f":"IF(OR(COUNTIF(J129:J138,\"Truck Mix Loading\")>0,(COUNTIF(J129:J138,\"Central Mix Loading\")>0)),\"Is the Central/Truck Mix Loading process controlled by a baghouse?\",\"\")","v":""},null,null,null,null,null,"","",null,null,null,"",""]
[null,null,null,null,null,null,null,"","",null,null,null,"",""]
[null,{"$f":"IF(AND(B136=\"\",B137=\"\",B138=\"\",B139=\"\",B140=\"\"),\"\",\"Process (complete stack information if applicable):\")","v":""},{"$f":"IF(AND(B136=\"\",B137=\"\",B138=\"\",B139=\"\",B140=\"\"),\"\",\"Stack Height (ft):\")","v":""},{"$f":"IF(AND(B136=\"\",B137=\"\",B138=\"\",B139=\"\",B140=\"\"),\"\",\"Stack Diameter (inches):\")","v":""},{"$f":"IF(AND(B136=\"\",B137=\"\",B138=\"\",B139=\"\",B140=\"\"),\"\",\"Flow Rate (acfm):\")","v":""},{"$f":"IF(AND(B136=\"\",B137=\"\",B138=\"\",B139=\"\",B140=\"\"),\"\",\"Temperature (Deg F):\")","v":""},null,"","",null,null,null,"",""]
[null,null,null,null,null,null,null,"","",null,null,null,"",""]
[null,{"$f":"IF(COUNTIF(J129:J138,\"Cement Delivery to Silo\")>0,\"EP-2 Cement Silo Stack:\",\"\")","v":""},null,null,null,null,null,"","",null,null,null,"",""]
[null,{"$f":"IF(COUNTIF(J129:J138,\"Cement Supplement Delivery to Silo\")>0,\"EP-3 Cement Supplement Silo Stack:\",\"\")","v":""},null,null,null,null,null,"","",null,null,null,"",""]
[null,{"$f":"IF(COUNTIF(J129:J138,\"Weigh Hopper Loading\")>0,\"EP-4 Weigh Hopper Loading Stack:\",\"\")","v":""},null,null,null,null,null,"","",null,null,null,"",""]
[null,{"$f":"IF(COUNTIF(J129:J138,\"Truck Mix Loading\")>0,\"EP-5 Truck Mix Loading Stack:\",\"\")","v":""}]
[null,{"$f":"IF(COUNTIF(J129:J138,\"Central Mix Loading\")>0,\"EP-6 Central Mix Loading Stack:\",\"\")","v":""},null,null,null,null,null,{"$f":"IF('Concrete Plant (CP-5)'!$D$4>6,\"Stock Pile Area\",\"\")","v":""}]
[null,null,null,null,null,null,null,null,{"$f":"IF('Concrete Plant (CP-5)'!$D$4>6,\"Emission Unit #\",\"\")","v":""},{"$f":"IF('Concrete Plant (CP-5)'!$D$4>6,\"Maximum Storage Area (acres)\",\"\")","v":""},{"$f":"IF('Concrete Plant (CP-5)'!$D$4>6,\"Actual Storage Area (acres)\",\"\")","v":""},{"$f":"IF('Concrete Plant (CP-5)'!$D$4>6,\"Actual Days in Existence (days)\",\"\")","v":""}]
[]
[]
[]
[null,{"$f":"IF('Concrete Plant (CP-5)'!$D$4>7,\"Batch Plant\",\"\")","v":""},{"$f":"IF('Concrete Plant (CP-5)'!$D$4>7,\"Site 8\",\"\")","v":""},null,null,null,null,{"$f":"IF('Concrete Plant (CP-5)'!$D$4>7,\"Emission Point #\",\"\")","v":""},{"$f":"IF('Concrete Plant (CP-5)'!$D$4>7,\"Emission     Unit #\",\"\")","v":""},{"$f":"IF('Concrete Plant (CP-5)'!$D$4>7,\"Processes\",\"\")","v":""},{"$f":"IF('Concrete Plant (CP-5)'!$D$4>7,\"Combined Maximum Hourly Design Rate for all Like Processes (cubic yard/hr)\",\"\")","v":""},{"$f":"IF('Concrete Plant (CP-5)'!$D$4>7,('Facility Information'!G5&\" Annual Throughput (cubic yards)\"),\"\")","v":""}]
[null,null,null,null,null,null,null,null,null,null,null,null,"Truck","Central"]
[null,{"$f":"IF('Concrete Plant (CP-5)'!$D$4>7,\"Site Name:\",\"\")","v":""},null,null,null,null,null,{"$f":"IF(J147=\"cement delivery to silo\",\"CP-1 EP-2\",IF(J147=\"cement supplement delivery to silo\",\"CP-1 EP-3\",IF(J147=\"weigh hopper loading\",\"CP-1 EP-4\",IF(J147=\"truck mix loading\",\"CP-1 EP-5\",IF(J147=\"central mix loading\",\"CP-1 EP-6\",IF(J147=\"\",\"\",\"CP-1 EP-1\"))))))","v":""},{"$f":"IF(J147=\"\",\"\",IF(J147=\"aggregate delivery to ground storage\",\"CP-5 EU-1\",IF(J147=\"sand delivery to ground storage\",\"CP-5 EU-2\",IF(J147=\"aggregate transfer to conveyor\",\"CP-5 EU-3\",IF(J147=\"sand transfer to conveyor\",\"CP-5 EU-4\",IF(J147=\"aggregate transfer to elevated storage\",\"CP-5 EU-5\",IF(J147=\"sand transfer to elevated storage\",\"CP-5 EU-6\",IF(J147=\"weigh hopper loading\",\"CP-5 EU-7\",IF(J147=\"central mix loading\",\"CP-5 EU-8\",IF(J147=\"truck mix loading\",\"CP-5 EU-9\",IF(J147=\"cement delivery to silo\",\"CP-5 EU-10\",IF(J147=\"cement supplement delivery to silo\",\"CP-5 EU-11\"))))))))))))","v":""},null,null,null,{"$f":"IF(J147=\"truck mix loading\",IF($F$150=\"yes\",L147*0.05/2000,L147/2000),\"\")","v":""},{"$f":"IF(J147=\"central mix loading\",IF($F$150=\"yes\",L147*0.05/2000,L147/2000),\"\")","v":""}]
[null,{"$f":"IF('Concrete Plant (CP-5)'!$D$4>7,\"County:\",\"\")","v":""},null,null,null,null,null,{"$f":"IF(J148=\"cement delivery to silo\",\"CP-1 EP-2\",IF(J148=\"cement supplement delivery to silo\",\"CP-1 EP-3\",IF(J148=\"weigh hopper loading\",\"CP-1 EP-4\",IF(J148=\"truck mix loading\",\"CP-1 EP-5\",IF(J148=\"central mix loading\",\"CP-1 EP-6\",IF(J148=\"\",\"\",\"CP-1 EP-1\"))))))","v":""},"",null,null,null,{"$f":"IF(J148=\"truck mix loading\",IF($F$150=\"yes\",L148*0.05/2000,L148/2000),\"\")","v":""},{"$f":"IF(J148=\"central mix loading\",IF($F$150=\"yes\",L148*0.05/2000,L148/2000),\"\")","v":""}]
[null,{"$f":"IF('Concrete Plant (CP-5)'!$D$4>7,\"Batching Period (Dates):\",\"\")","v":""},null,null,null,null,null,"","",null,null,null,"",""]
[null,{"$f":"IF(OR(COUNTIF(J147:J156,\"Truck Mix Loading\")>0,(COUNTIF(J147:J156,\"Central Mix Loading\")>0)),\"Is the Central/Truck Mix Loading process controlled by a baghouse?\",\"\")","v":""},null,null,null,null,null,"","",null,null,null,"",""]
[null,{"$f":"IF(AND(B153=\"\",B154=\"\",B155=\"\",B156=\"\",B157=\"\"),\"\",\"Process (complete stack information if applicable):\")","v":""},{"$f":"IF(AND(B153=\"\",B154=\"\",B155=\"\",B156=\"\",B157=\"\"),\"\",\"Stack Height (ft):\")","v":""},{"$f":"IF(AND(B153=\"\",B154=\"\",B155=\"\",B156=\"\",B157=\"\"),\"\",\"Stack Diameter (inches):\")","v":""},{"$f":"IF(AND(B153=\"\",B154=\"\",B155=\"\",B156=\"\",B157=\"\"),\"\",\"Flow Rate (acfm):\")","v":""},{"$f":"IF(AND(B153=\"\",B154=\"\",B155=\"\",B156=\"\",B157=\"\"),\"\",\"Temperature (Deg F):\")","v":""},null,"","",null,null,null,"",""]
[null,null,null,null,null,null,null,"","",null,null,null,"",""]
[null,{"$f":"IF(COUNTIF(J147:J156,\"Cement Delivery to Silo\")>0,\"EP-2 Cement Silo Stack:\",\"\")","v":""},null,null,null,null,null,"","",null,null,null,"",""]
[null,{"$f":"IF(COUNTIF(J147:J156,\"Cement Supplement Delivery to Silo\")>0,\"EP-3 Cement Supplement Silo Stack:\",\"\")","v":""},null,null,null,null,null,"","",null,null,null,"",""]
[null,{"$f":"IF(COUNTIF(J147:J156,\"Weigh Hopper Loading\")>0,\"EP-4 Weigh Hopper Loading Stack:\",\"\")","v":""},null,null,null,null,null,"","",null,null,null,"",""]
[null,{"$f":"IF(COUNTIF(J147:J156,\"Truck Mix Loading\")>0,\"EP-5 Truck Mix Loading Stack:\",\"\")","v":""},null,null,null,null,null,"","",null,null,null,"",""]
[null,{"$f":"IF(COUNTIF(J147:J156,\"Central Mix Loading\")>0,\"EP-6 Central Mix Loading Stack:\",\"\")","v":""}]
[null,null,null,null,null,null,null,{"$f":"IF('Concrete Plant (CP-5)'!$D$4>7,\"Stock Pile Area\",\"\")","v":""}]
[null,null,null,null,null,null,null,null,{"$f":"IF('Concrete Plant (CP-5)'!$D$4>7,\"Emission Unit #\",\"\")","v":""},{"$f":"IF('Concrete Plant (CP-5)'!$D$4>7,\"Maximum Storage Area (acres)\",\"\")","v":""},{"$f":"IF('Concrete Plant (CP-5)'!$D$4>7,\"Actual Storage Area (acres)\",\"\")","v":""},{"$f":"IF('Concrete Plant (CP-5)'!$D$4>7,\"Actual Days in Existence (days)\",\"\")","v":""}]
[]
[]
[null,{"$f":"IF('Concrete Plant (CP-5)'!$D$4>8,\"Batch Plant\",\"\")","v":""},{"$f":"IF('Concrete Plant (CP-5)'!$D$4>8,\"Site 9\",\"\")","v":""}]
[null,null,null,null,null,null,null,{"$f":"IF('Concrete Plant (CP-5)'!$D$4>8,\"Emission Point #\",\"\")","v":""},{"$f":"IF('Concrete Plant (CP-5)'!$D$4>8,\"Emission     Unit #\",\"\")","v":""},{"$f":"IF('Concrete Plant (CP-5)'!$D$4>8,\"Processes\",\"\")","v":""},{"$f":"IF('Concrete Plant (CP-5)'!$D$4>8,\"Combined Maximum Hourly Design Rate for all Like Processes (cubic yard/hr)\",\"\")","v":""},{"$f":"IF('Concrete Plant (CP-5)'!$D$4>8,('Facility Information'!G5&\" Annual Throughput (cubic yards)\"),\"\")","v":""}]
[null,{"$f":"IF('Concrete Plant (CP-5)'!$D$4>8,\"Site Name:\",\"\")","v":""},null,null,null,null,null,null,null,null,null,null,"Truck","Central"]
[null,{"$f":"IF('Concrete Plant (CP-5)'!$D$4>8,\"County:\",\"\")","v":""},null,null,null,null,null,{"$f":"IF(J165=\"cement delivery to silo\",\"CP-1 EP-2\",IF(J165=\"cement supplement delivery to silo\",\"CP-1 EP-3\",IF(J165=\"weigh hopper loading\",\"CP-1 EP-4\",IF(J165=\"truck mix loading\",\"CP-1 EP-5\",IF(J165=\"central mix loading\",\"CP-1 EP-6\",IF(J165=\"\",\"\",\"CP-1 EP-1\"))))))","v":""},{"$f":"IF(J165=\"\",\"\",IF(J165=\"aggregate delivery to ground storage\",\"CP-5 EU-1\",IF(J165=\"sand delivery to ground storage\",\"CP-5 EU-2\",IF(J165=\"aggregate transfer to conveyor\",\"CP-5 EU-3\",IF(J165=\"sand transfer to conveyor\",\"CP-5 EU-4\",IF(J165=\"aggregate transfer to elevated storage\",\"CP-5 EU-5\",IF(J165=\"sand transfer to elevated storage\",\"CP-5 EU-6\",IF(J165=\"weigh hopper loading\",\"CP-5 EU-7\",IF(J165=\"central mix loading\",\"CP-5 EU-8\",IF(J165=\"truck mix loading\",\"CP-5 EU-9\",IF(J165=\"cement delivery to silo\",\"CP-5 EU-10\",IF(J165=\"cement supplement delivery to silo\",\"CP-5 EU-11\"))))))))))))","v":""},null,null,null,{"$f":"IF(J165=\"truck mix loading\",IF($F$168=\"yes\",L165*0.05/2000,L165/2000),\"\")","v":""},{"$f":"IF(J165=\"central mix loading\",IF($F$168=\"yes\",L165*0.05/2000,L165/2000),\"\")","v":""}]
[null,{"$f":"IF('Concrete Plant (CP-5)'!$D$4>8,\"Batching Period (Dates):\",\"\")","v":""},null,null,null,null,null,{"$f":"IF(J166=\"cement delivery to silo\",\"CP-1 EP-2\",IF(J166=\"cement supplement delivery to silo\",\"CP-1 EP-3\",IF(J166=\"weigh hopper loading\",\"CP-1 EP-4\",IF(J166=\"truck mix loading\",\"CP-1 EP-5\",IF(J166=\"central mix loading\",\"CP-1 EP-6\",IF(J166=\"\",\"\",\"CP-1 EP-1\"))))))","v":""},"",null,null,null,{"$f":"IF(J166=\"truck mix loading\",IF($F$168=\"yes\",L166*0.05/2000,L166/2000),\"\")","v":""},{"$f":"IF(J166=\"central mix loading\",IF($F$168=\"yes\",L166*0.05/2000,L166/2000),\"\")","v":""}]
[null,{"$f":"IF(OR(COUNTIF(J164:J173,\"Truck Mix Loading\")>0,(COUNTIF(J164:J173,\"Central Mix Loading\")>0)),\"Is the Central/Truck Mix Loading process controlled by a baghouse?\",\"\")","v":""},null,null,null,null,null,"","",null,null,null,"",""]
[null,null,null,null,null,null,null,"","",null,null,null,"",""]
[null,{"$f":"IF(AND(B171=\"\",B172=\"\",B173=\"\",B174=\"\",B175=\"\"),\"\",\"Process (complete stack information if applicable):\")","v":""},{"$f":"IF(AND(B171=\"\",B172=\"\",B173=\"\",B174=\"\",B175=\"\"),\"\",\"Stack Height (ft):\")","v":""},{"$f":"IF(AND(B171=\"\",B172=\"\",B173=\"\",B174=\"\",B175=\"\"),\"\",\"Stack Diameter (inches):\")","v":""},{"$f":"IF(AND(B171=\"\",B172=\"\",B173=\"\",B174=\"\",B175=\"\"),\"\",\"Flow Rate (acfm):\")","v":""},{"$f":"IF(AND(B171=\"\",B172=\"\",B173=\"\",B174=\"\",B175=\"\"),\"\",\"Temperature (Deg F):\")","v":""},null,"","",null,null,null,"",""]
[null,null,null,null,null,null,null,"","",null,null,null,"",""]
[null,{"$f":"IF(COUNTIF(J165:J174,\"Cement Delivery to Silo\")>0,\"EP-2 Cement Silo Stack:\",\"\")","v":""},null,null,null,null,null,"","",null,null,null,"",""]
[null,{"$f":"IF(COUNTIF(J165:J174,\"Cement Supplement Delivery to Silo\")>0,\"EP-3 Cement Supplement Silo Stack:\",\"\")","v":""},null,null,null,null,null,"","",null,null,null,"",""]
[null,{"$f":"IF(COUNTIF(J165:J174,\"Weigh Hopper Loading\")>0,\"EP-4 Weigh Hopper Loading Stack:\",\"\")","v":""},null,null,null,null,null,"","",null,null,null,"",""]
[null,{"$f":"IF(COUNTIF(J165:J174,\"Truck Mix Loading\")>0,\"EP-5 Truck Mix Loading Stack:\",\"\")","v":""},null,null,null,null,null,"","",null,null,null,"",""]
[null,{"$f":"IF(COUNTIF(J165:J174,\"Central Mix Loading\")>0,\"EP-6 Central Mix Loading Stack:\",\"\")","v":""}]
[null,null,null,null,null,null,null,{"$f":"IF('Concrete Plant (CP-5)'!$D$4>8,\"Stock Pile Area\",\"\")","v":""}]
[null,null,null,null,null,null,null,null,{"$f":"IF('Concrete Plant (CP-5)'!$D$4>8,\"Emission Unit #\",\"\")","v":""},{"$f":"IF('Concrete Plant (CP-5)'!$D$4>8,\"Maximum Storage Area (acres)\",\"\")","v":""},{"$f":"IF('Concrete Plant (CP-5)'!$D$4>8,\"Actual Storage Area (acres)\",\"\")","v":""},{"$f":"IF('Concrete Plant (CP-5)'!$D$4>8,\"Actual Days in Existence (days)\",\"\")","v":""}]
[]
[]
[null,{"$f":"IF('Concrete Plant (CP-5)'!$D$4>9,\"Batch Plant\",\"\")","v":""},{"$f":"IF('Concrete Plant (CP-5)'!$D$4>9,\"Site 10\",\"\")","v":""}]
[null,null,null,null,null,null,null,{"$f":"IF('Concrete Plant (CP-5)'!$D$4>9,\"Emission Point #\",\"\")","v":""},{"$f":"IF('Concrete Plant (CP-5)'!$D$4>9,\"Emission     Unit #\",\"\")","v":""},{"$f":"IF('Concrete Plant (CP-5)'!$D$4>9,\"Processes\",\"\")","v":""},{"$f":"IF('Concrete Plant (CP-5)'!$D$4>9,\"Combined Maximum Hourly Design Rate for all Like Processes (cubic yard/hr)\",\"\")","v":""},{"$f":"IF('Concrete Plant (CP-5)'!$D$4>9,('Facility Information'!G5&\" Annual Throughput (cubic yards)\"),\"\")","v":""}]
[null,{"$f":"IF('Concrete Plant (CP-5)'!$D$4>9,\"Site Name:\",\"\")","v":""},null,null,null,null,null,null,null,null,null,null,"Truck","Central"]
[null,{"$f":"IF('Concrete Plant (CP-5)'!$D$4>9,\"County:\",\"\")","v":""},null,null,null,null,null,{"$f":"IF(J183=\"cement delivery to silo\",\"CP-1 EP-2\",IF(J183=\"cement supplement delivery to silo\",\"CP-1 EP-3\",IF(J183=\"weigh hopper loading\",\"CP-1 EP-4\",IF(J183=\"truck mix loading\",\"CP-1 EP-5\",IF(J183=\"central mix loading\",\"CP-1 EP-6\",IF(J183=\"\",\"\",\"CP-1 EP-1\"))))))","v":""},{"$f":"IF(J183=\"\",\"\",IF(J183=\"aggregate delivery to ground storage\",\"CP-5 EU-1\",IF(J183=\"sand delivery to ground storage\",\"CP-5 EU-2\",IF(J183=\"aggregate transfer to conveyor\",\"CP-5 EU-3\",IF(J183=\"sand transfer to conveyor\",\"CP-5 EU-4\",IF(J183=\"aggregate transfer to elevated storage\",\"CP-5 EU-5\",IF(J183=\"sand transfer to elevated storage\",\"CP-5 EU-6\",IF(J183=\"weigh hopper loading\",\"CP-5 EU-7\",IF(J183=\"central mix loading\",\"CP-5 EU-8\",IF(J183=\"truck mix loading\",\"CP-5 EU-9\",IF(J183=\"cement delivery to silo\",\"CP-5 EU-10\",IF(J183=\"cement supplement delivery to silo\",\"CP-5 EU-11\"))))))))))))","v":""},null,null,null,{"$f":"IF(J183=\"truck mix loading\",IF($F$186=\"yes\",L183*0.05/2000,L183/2000),\"\")","v":""},{"$f":"IF(J183=\"central mix loading\",IF($F$186=\"yes\",L183*0.05/2000,L183/2000),\"\")","v":""}]
[null,{"$f":"IF('Concrete Plant (CP-5)'!$D$4>9,\"Batching Period (Dates):\",\"\")","v":""},null,null,null,null,null,{"$f":"IF(J184=\"cement delivery to silo\",\"CP-1 EP-2\",IF(J184=\"cement supplement delivery to silo\",\"CP-1 EP-3\",IF(J184=\"weigh hopper loading\",\"CP-1 EP-4\",IF(J184=\"truck mix loading\",\"CP-1 EP-5\",IF(J184=\"central mix loading\",\"CP-1 EP-6\",IF(J184=\"\",\"\",\"CP-1 EP-1\"))))))","v":""},"",null,null,null,{"$f":"IF(J184=\"truck mix loading\",IF($F$186=\"yes\",L184*0.05/2000,L184/2000),\"\")","v":""},{"$f":"IF(J184=\"central mix loading\",IF($F$186=\"yes\",L184*0.05/2000,L184/2000),\"\")","v":""}]
[null,{"$f":"IF(OR(COUNTIF(J182:J191,\"Truck Mix Loading\")>0,(COUNTIF(J182:J191,\"Central Mix Loading\")>0)),\"Is the Central/Truck Mix Loading process controlled by a baghouse?\",\"\")","v":""},null,null,null,null,null,"","",null,null,null,"",""]
[null,null,null,null,null,null,null,"","",null,null,null,"",""]
[null,{"$f":"IF(AND(B189=\"\",B190=\"\",B191=\"\",B192=\"\",B193=\"\"),\"\",\"Process (complete stack information if applicable):\")","v":""},{"$f":"IF(AND(B189=\"\",B190=\"\",B191=\"\",B192=\"\",B193=\"\"),\"\",\"Stack Height (ft):\")","v":""},{"$f":"IF(AND(B189=\"\",B190=\"\",B191=\"\",B192=\"\",B193=\"\"),\"\",\"Stack Diameter (inches):\")","v":""},{"$f":"IF(AND(B189=\"\",B190=\"\",B191=\"\",B192=\"\",B193=\"\"),\"\",\"Flow Rate (acfm):\")","v":""},{"$f":"IF(AND(B189=\"\",B190=\"\",B191=\"\",B192=\"\",B193=\"\"),\"\",\"Temperature (Deg F):\")","v":""},null,"","",null,null,null,"",""]
[null,null,null,null,null,null,null,"","",null,null,null,"",""]
[null,{"$f":"IF(COUNTIF(J183:J192,\"Cement Delivery to Silo\")>0,\"EP-2 Cement Silo Stack:\",\"\")","v":""},null,null,null,null,null,"","",null,null,null,"",""]
[null,{"$f":"IF(COUNTIF(J183:J192,\"Cement Supplement Delivery to Silo\")>0,\"EP-3 Cement Supplement Silo Stack:\",\"\")","v":""},null,null,null,null,null,"","",null,null,null,"",""]
[null,{"$f":"IF(COUNTIF(J183:J192,\"Weigh Hopper Loading\")>0,\"EP-4 Weigh Hopper Loading Stack:\",\"\")","v":""},null,null,null,null,null,"","",null,null,null,"",""]
[null,{"$f":"IF(COUNTIF(J183:J192,\"Truck Mix Loading\")>0,\"EP-5 Truck Mix Loading Stack:\",\"\")","v":""},null,null,null,null,null,"","",null,null,null,"",""]
[null,{"$f":"IF(COUNTIF(J183:J192,\"Central Mix Loading\")>0,\"EP-6 Central Mix Loading Stack:\",\"\")","v":""}]
[null,null,null,null,null,null,null,{"$f":"IF('Concrete Plant (CP-5)'!$D$4>9,\"Stock Pile Area\",\"\")","v":""}]
[null,null,null,null,null,null,null,null,{"$f":"IF('Concrete Plant (CP-5)'!$D$4>9,\"Emission Unit #\",\"\")","v":""},{"$f":"IF('Concrete Plant (CP-5)'!$D$4>9,\"Maximum Storage Area (acres)\",\"\")","v":""},{"$f":"IF('Concrete Plant (CP-5)'!$D$4>9,\"Actual Storage Area (acres)\",\"\")","v":""},{"$f":"IF('Concrete Plant (CP-5)'!$D$4>9,\"Actual Days in Existence (days)\",\"\")","v":""}]
[]
[]
[null,null,null,null,null,null,null,null,null,null,null,null,{"$f":"SUM(M183:M192,M165:M174,M147:M156,M129:M138,M111:M120,M93:M102,M75:M84,M57:M66,M39:M48,M21:M30)","v":0},{"$f":"SUM(N183:N192,N165:N174,N147:N156,N129:N138,N111:N120,N93:N102,N75:N84,N57:N66,N39:N48,N21:N30)","v":0}]

{"sheet":"Concrete Plant (CP-6)","index":6,"n_rows":198,"n_cols":23,"rows_kept":198,"cut":false,"hidden":true,"merged":[[3,18,4,20],[167,1,167,4],[185,1,185,4],[36,7,37,7],[36,8,37,8],[36,9,37,9],[36,10,37,10],[36,11,37,11],[2,17,3,17],[3,1,3,2],[20,16,21,16],[25,5,26,5],[23,1,23,4],[46,16,47,16],[46,17,47,17],[54,7,55,7],[54,8,55,8],[54,9,55,9],[54,10,55,10],[54,11,55,11],[72,7,73,7],[72,8,73,8],[72,9,73,9],[72,10,73,10],[72,11,73,11],[0,1,0,2],[1,10,1,11],[2,15,3,15],[2,16,3,16],[18,7,19,7],[18,8,19,8],[18,9,19,9],[18,10,19,10],[18,11,19,11],[1,1,1,4],[11,1,13,4],[56,2,56,4],[43,1,44,1],[43,2,44,2],[43,3,44,3],[43,4,44,4],[43,5,44,5],[5,2,5,3],[25,1,26,1],[25,2,26,2],[25,3,26,3],[25,4,26,4],[9,3,9,4],[46,18,47,18],[46,19,47,19],[46,20,47,20],[46,21,47,21],[20,17,21,17],[20,18,21,18],[20,19,21,19],[20,20,21,20],[20,21,21,21],[144,8,145,8],[144,9,145,9],[144,10,145,10],[144,11,145,11],[162,7,163,7],[162,8,163,8],[162,9,163,9],[162,10,163,10],[162,11,163,11],[180,7,181,7],[180,8,181,8],[180,9,181,9],[180,10,181,10],[180,11,181,11],[58,2,58,4],[57,2,57,4],[166,2,166,4],[90,7,91,7],[90,8,91,8],[90,9,91,9],[90,10,91,10],[90,11,91,11],[108,7,109,7],[108,8,109,8],[108,9,109,9],[108,10,109,10],[108,11,109,11],[126,7,127,7],[126,8,127,8],[126,9,127,9],[126,10,127,10],[126,11,127,11],[144,7,145,7],[164,2,164,4],[165,2,165,4],[110,2,110,4],[111,2,111,4],[112,2,112,4],[130,2,130,4],[129,2,129,4],[128,2,128,4],[113,1,113,4],[131,1,131,4],[149,1,149,4],[115,1,116,1],[115,2,116,2],[115,3,116,3],[115,4,116,4],[94,2,94,4],[93,2,93,4],[92,2,92,4],[59,1,59,4],[77,1,77,4],[95,1,95,4],[146,2,146,4],[147,2,147,4],[148,2,148,4],[8,3,8,4],[10,1,10,2],[9,1,9,2],[8,1,8,2],[20,2,20,4],[21,2,21,4],[22,2,22,4],[10,3,10,4],[38,2,38,4],[39,2,39,4],[40,2,40,4],[41,1,41,4],[79,1,80,1],[79,2,80,2],[79,3,80,3],[79,4,80,4],[79,5,80,5],[61,1,62,1],[61,2,62,2],[61,3,62,3],[61,4,62,4],[61,5,62,5],[76,2,76,4],[75,2,75,4],[74,2,74,4],[115,5,116,5],[97,1,98,1],[97,2,98,2],[97,3,98,3],[97,4,98,4],[97,5,98,5],[151,1,152,1],[151,2,152,2],[151,3,152,3],[151,4,152,4],[151,5,152,5],[133,1,134,1],[133,2,134,2],[133,3,134,3],[133,4,134,4],[133,5,134,5],[187,1,188,1],[187,2,188,2],[187,3,188,3],[187,4,188,4],[187,5,188,5],[169,1,170,1],[169,2,170,2],[169,3,170,3],[169,4,170,4],[169,5,170,5],[182,2,182,4],[183,2,183,4],[184,2,184,4]]}
[null,"CONCRETE BATCH PLANT (CP-6)"]
[null,"Please fill in the yellow boxes as applicable for your facility. ",null,null,null,null,null,null,null,null,"Values used for calculating emissions →",null,null,null,null,"Values Used to Calculate Potential and Actual Emissions for the Listed Processes at this Plant"]
[null,null,null,null,null,null,null,null,null,null,null,null,null,null,null,"Process","Maximum Design Rate (cubic yards/hr)","Actual throughput (cubic yards/yr)"]
[null,{"$f":"\"Number of Sites this Plant operated at in \"&'Facility Information'!G5&\":\"","v":"Number of Sites this Plant operated at in :"},null,null,null,null,null,null,null,null,null,null,null,null,null,null,null,null,"** As of 2016 Potential Emissions are no longer required to be reported in the Minor Source Emissions Inventory**"]
[null,null,null,null,null,null,null,null,null,null,null,null,null,null,null,"Aggregate Delivery to Ground Storage",{"$f":"MAX((IFERROR(OFFSET($J$20,MATCH(\"Aggregate Delivery to Ground Storage\",$J$21:$J$30,0),1),0)),((IFERROR((OFFSET($J$38,MATCH(\"Aggregate Delivery to Ground Storage\",$J$39:$J$48,0),1)),0))),((IFERROR((OFFSET($J$56,MATCH(\"Aggregate Delivery to Ground Storage\",$J$57:$J$66,0),1)),0))),((IFERROR((OFFSET($J$74,MATCH(\"Aggregate Delivery to Ground Storage\",$J$75:$J$84,0),1)),0))),((IFERROR((OFFSET($J$92,MATCH(\"Aggregate Delivery to Ground Storage\",$J$93:$J$102,0),1)),0))),((IFERROR((OFFSET($J$110,MATCH(\"Aggregate Delivery to Ground Storage\",$J$111:$J$120,0),1)),0))),((IFERROR((OFFSET($J$128,MATCH(\"Aggregate Delivery to Ground Storage\",$J$129:$J$138,0),1)),0))),((IFERROR((OFFSET($J$146,MATCH(\"Aggregate Delivery to Ground Storage\",$J$147:$J$156,0),1)),0))),((IFERROR((OFFSET($J$164,MATCH(\"Aggregate Delivery to Ground Storage\",$J$165:$J$174,0),1)),0))),((IFERROR((OFFSET($J$181,MATCH(\"Aggregate Delivery to Ground Storage\",$J$183:$J$192,0),1)),0))),)","v":0},{"$f":"SUM((IFERROR(OFFSET($J$20,MATCH(\"Aggregate Delivery to Ground Storage\",$J$21:$J$30,0),2),0)),((IFERROR((OFFSET($J$38,MATCH(\"Aggregate Delivery to Ground Storage\",$J$39:$J$48,0),2)),0))),((IFERROR((OFFSET($J$56,MATCH(\"Aggregate Delivery to Ground Storage\",$J$57:$J$66,0),2)),0))),((IFERROR((OFFSET($J$74,MATCH(\"Aggregate Delivery to Ground Storage\",$J$75:$J$84,0),2)),0))),((IFERROR((OFFSET($J$92,MATCH(\"Aggregate Delivery to Ground Storage\",$J$93:$J$102,0),2)),0))),((IFERROR((OFFSET($J$110,MATCH(\"Aggregate Delivery to Ground Storage\",$J$111:$J$120,0),2)),0))),((IFERROR((OFFSET($J$128,MATCH(\"Aggregate Delivery to Ground Storage\",$J$129:$J$138,0),2)),0))),((IFERROR((OFFSET($J$146,MATCH(\"Aggregate Delivery to Ground Storage\",$J$147:$J$156,0),2)),0))),((IFERROR((OFFSET($J$164,MATCH(\"Aggregate Delivery to Ground Storage\",$J$165:$J$174,0),2)),0))),((IFERROR((OFFSET($J$181,MATCH(\"Aggregate Delivery to Ground Storage\",$J$183:$J$192,0),2)),0))))","v":0}]
[null,"Plant Specific Permit Number: ",null,null,null,null,null,null,null,null,null,null,null,null,null,"Sand Delivery to Ground Storage",{"$f":"MAX((IFERROR(OFFSET($J$20,MATCH(\"Sand Delivery to Ground Storage\",$J$21:$J$30,0),1),0)),((IFERROR((OFFSET($J$38,MATCH(\"Sand Delivery to Ground Storage\",$J$39:$J$48,0),1)),0))),((IFERROR((OFFSET($J$56,MATCH(\"Sand Delivery to Ground Storage\",$J$57:$J$66,0),1)),0))),((IFERROR((OFFSET($J$74,MATCH(\"Sand Delivery to Ground Storage\",$J$75:$J$84,0),1)),0))),((IFERROR((OFFSET($J$92,MATCH(\"Sand Delivery to Ground Storage\",$J$93:$J$102,0),1)),0))),((IFERROR((OFFSET($J$110,MATCH(\"Sand Delivery to Ground Storage\",$J$111:$J$120,0),1)),0))),((IFERROR((OFFSET($J$128,MATCH(\"Sand Delivery to Ground Storage\",$J$129:$J$138,0),1)),0))),((IFERROR((OFFSET($J$146,MATCH(\"Sand Delivery to Ground Storage\",$J$147:$J$156,0),1)),0))),((IFERROR((OFFSET($J$164,MATCH(\"Sand Delivery to Ground Storage\",$J$165:$J$174,0),1)),0))),((IFERROR((OFFSET($J$181,MATCH(\"Sand Delivery to Ground Storage\",$J$183:$J$192,0),1)),0))),)","v":0},{"$f":"SUM((IFERROR(OFFSET($J$20,MATCH(\"Sand Delivery to Ground Storage\",$J$21:$J$30,0),2),0)),((IFERROR((OFFSET($J$38,MATCH(\"Sand Delivery to Ground Storage\",$J$39:$J$48,0),2)),0))),((IFERROR((OFFSET($J$56,MATCH(\"Sand Delivery to Ground Storage\",$J$57:$J$66,0),2)),0))),((IFERROR((OFFSET($J$74,MATCH(\"Sand Delivery to Ground Storage\",$J$75:$J$84,0),2)),0))),((IFERROR((OFFSET($J$92,MATCH(\"Sand Delivery to Ground Storage\",$J$93:$J$102,0),2)),0))),((IFERROR((OFFSET($J$110,MATCH(\"Sand Delivery to Ground Storage\",$J$111:$J$120,0),2)),0))),((IFERROR((OFFSET($J$128,MATCH(\"Sand Delivery to Ground Storage\",$J$129:$J$138,0),2)),0))),((IFERROR((OFFSET($J$146,MATCH(\"Sand Delivery to Ground Storage\",$J$147:$J$156,0),2)),0))),((IFERROR((OFFSET($J$164,MATCH(\"Sand Delivery to Ground Storage\",$J$165:$J$174,0),2)),0))),((IFERROR((OFFSET($J$181,MATCH(\"Sand Delivery to Ground Storage\",$J$183:$J$192,0),2)),0))))","v":0}]
[null,null,null,null,null,null,null,null,null,null,null,null,null,null,null,"Aggregate Transfer to Conveyor",{"$f":"MAX((IFERROR(OFFSET($J$20,MATCH(\"Aggregate Transfer to Conveyor\",$J$21:$J$30,0),1),0)),((IFERROR((OFFSET($J$38,MATCH(\"Aggregate Transfer to Conveyor\",$J$39:$J$48,0),1)),0))),((IFERROR((OFFSET($J$56,MATCH(\"Aggregate Transfer to Conveyor\",$J$57:$J$66,0),1)),0))),((IFERROR((OFFSET($J$74,MATCH(\"Aggregate Transfer to Conveyor\",$J$75:$J$84,0),1)),0))),((IFERROR((OFFSET($J$92,MATCH(\"Aggregate Transfer to Conveyor\",$J$93:$J$102,0),1)),0))),((IFERROR((OFFSET($J$110,MATCH(\"Aggregate Transfer to Conveyor\",$J$111:$J$120,0),1)),0))),((IFERROR((OFFSET($J$128,MATCH(\"Aggregate Transfer to Conveyor\",$J$129:$J$138,0),1)),0))),((IFERROR((OFFSET($J$146,MATCH(\"Aggregate Transfer to Conveyor\",$J$147:$J$156,0),1)),0))),((IFERROR((OFFSET($J$164,MATCH(\"Aggregate Transfer to Conveyor\",$J$165:$J$174,0),1)),0))),((IFERROR((OFFSET($J$181,MATCH(\"Aggregate Transfer to Conveyor\",$J$183:$J$192,0),1)),0))),)","v":0},{"$f":"SUM((IFERROR(OFFSET($J$20,MATCH(\"Aggregate Transfer to Conveyor\",$J$21:$J$30,0),2),0)),((IFERROR((OFFSET($J$38,MATCH(\"Aggregate Transfer to Conveyor\",$J$39:$J$48,0),2)),0))),((IFERROR((OFFSET($J$56,MATCH(\"Aggregate Transfer to Conveyor\",$J$57:$J$66,0),2)),0))),((IFERROR((OFFSET($J$74,MATCH(\"Aggregate Transfer to Conveyor\",$J$75:$J$84,0),2)),0))),((IFERROR((OFFSET($J$92,MATCH(\"Aggregate Transfer to Conveyor\",$J$93:$J$102,0),2)),0))),((IFERROR((OFFSET($J$110,MATCH(\"Aggregate Transfer to Conveyor\",$J$111:$J$120,0),2)),0))),((IFERROR((OFFSET($J$128,MATCH(\"Aggregate Transfer to Conveyor\",$J$129:$J$138,0),2)),0))),((IFERROR((OFFSET($J$146,MATCH(\"Aggregate Transfer to Conveyor\",$J$147:$J$156,0),2)),0))),((IFERROR((OFFSET($J$164,MATCH(\"Aggregate Transfer to Conveyor\",$J$165:$J$174,0),2)),0))),((IFERROR((OFFSET($J$181,MATCH(\"Aggregate Transfer to Conveyor\",$J$183:$J$192,0),2)),0))))","v":0}]
[null,"Plant Specific Operating Limits:",null,null,null,null,null,"Plant Specific Emission Limits:",null,null,null,null,null,null,null,"Sand Transfer to Conveyor",{"$f":"MAX((IFERROR(OFFSET($J$20,MATCH(\"Sand Transfer to Conveyor\",$J$21:$J$30,0),1),0)),((IFERROR((OFFSET($J$38,MATCH(\"Sand Transfer to Conveyor\",$J$39:$J$48,0),1)),0))),((IFERROR((OFFSET($J$56,MATCH(\"Sand Transfer to Conveyor\",$J$57:$J$66,0),1)),0))),((IFERROR((OFFSET($J$74,MATCH(\"Sand Transfer to Conveyor\",$J$75:$J$84,0),1)),0))),((IFERROR((OFFSET($J$92,MATCH(\"Sand Transfer to Conveyor\",$J$93:$J$102,0),1)),0))),((IFERROR((OFFSET($J$110,MATCH(\"Sand Transfer to Conveyor\",$J$111:$J$120,0),1)),0))),((IFERROR((OFFSET($J$128,MATCH(\"Sand Transfer to Conveyor\",$J$129:$J$138,0),1)),0))),((IFERROR((OFFSET($J$146,MATCH(\"Sand Transfer to Conveyor\",$J$147:$J$156,0),1)),0))),((IFERROR((OFFSET($J$164,MATCH(\"Sand Transfer to Conveyor\",$J$165:$J$174,0),1)),0))),((IFERROR((OFFSET($J$181,MATCH(\"Sand Transfer to Conveyor\",$J$183:$J$192,0),1)),0))),)","v":0},{"$f":"SUM((IFERROR(OFFSET($J$20,MATCH(\"Sand Transfer to Conveyor\",$J$21:$J$30,0),2),0)),((IFERROR((OFFSET($J$38,MATCH(\"Sand Transfer to Conveyor\",$J$39:$J$48,0),2)),0))),((IFERROR((OFFSET($J$56,MATCH(\"Sand Transfer to Conveyor\",$J$57:$J$66,0),2)),0))),((IFERROR((OFFSET($J$74,MATCH(\"Sand Transfer to Conveyor\",$J$75:$J$84,0),2)),0))),((IFERROR((OFFSET($J$92,MATCH(\"Sand Transfer to Conveyor\",$J$93:$J$102,0),2)),0))),((IFERROR((OFFSET($J$110,MATCH(\"Sand Transfer to Conveyor\",$J$111:$J$120,0),2)),0))),((IFERROR((OFFSET($J$128,MATCH(\"Sand Transfer to Conveyor\",$J$129:$J$138,0),2)),0))),((IFERROR((OFFSET($J$146,MATCH(\"Sand Transfer to Conveyor\",$J$147:$J$156,0),2)),0))),((IFERROR((OFFSET($J$164,MATCH(\"Sand Transfer to Conveyor\",$J$165:$J$174,0),2)),0))),((IFERROR((OFFSET($J$181,MATCH(\"Sand Transfer to Conveyor\",$J$183:$J$192,0),2)),0))))","v":0}]
[null,"Throughput Limit (cubic yards/yr):",null,null,null,null,null,"Pollutant","lb/hr","tons/yr",null,null,null,null,null,"Aggregate Transfer to Elevated Storage",{"$f":"MAX((IFERROR(OFFSET($J$20,MATCH(\"Aggregate Transfer to Elevated Storage\",$J$21:$J$30,0),1),0)),((IFERROR((OFFSET($J$38,MATCH(\"Aggregate Transfer to Elevated Storage\",$J$39:$J$48,0),1)),0))),((IFERROR((OFFSET($J$56,MATCH(\"Aggregate Transfer to Elevated Storage\",$J$57:$J$66,0),1)),0))),((IFERROR((OFFSET($J$74,MATCH(\"Aggregate Transfer to Elevated Storage\",$J$75:$J$84,0),1)),0))),((IFERROR((OFFSET($J$92,MATCH(\"Aggregate Transfer to Elevated Storage\",$J$93:$J$102,0),1)),0))),((IFERROR((OFFSET($J$110,MATCH(\"Aggregate Transfer to Elevated Storage\",$J$111:$J$120,0),1)),0))),((IFERROR((OFFSET($J$128,MATCH(\"Aggregate Transfer to Elevated Storage\",$J$129:$J$138,0),1)),0))),((IFERROR((OFFSET($J$146,MATCH(\"Aggregate Transfer to Elevated Storage\",$J$147:$J$156,0),1)),0))),((IFERROR((OFFSET($J$164,MATCH(\"Aggregate Transfer to Elevated Storage\",$J$165:$J$174,0),1)),0))),((IFERROR((OFFSET($J$181,MATCH(\"Aggregate Transfer to Elevated Storage\",$J$183:$J$192,0),1)),0))),)","v":0},{"$f":"SUM((IFERROR(OFFSET($J$20,MATCH(\"Aggregate Transfer to Elevated Storage\",$J$21:$J$30,0),2),0)),((IFERROR((OFFSET($J$38,MATCH(\"Aggregate Transfer to Elevated Storage\",$J$39:$J$48,0),2)),0))),((IFERROR((OFFSET($J$56,MATCH(\"Aggregate Transfer to Elevated Storage\",$J$57:$J$66,0),2)),0))),((IFERROR((OFFSET($J$74,MATCH(\"Aggregate Transfer to Elevated Storage\",$J$75:$J$84,0),2)),0))),((IFERROR((OFFSET($J$92,MATCH(\"Aggregate Transfer to Elevated Storage\",$J$93:$J$102,0),2)),0))),((IFERROR((OFFSET($J$110,MATCH(\"Aggregate Transfer to Elevated Storage\",$J$111:$J$120,0),2)),0))),((IFERROR((OFFSET($J$128,MATCH(\"Aggregate Transfer to Elevated Storage\",$J$129:$J$138,0),2)),0))),((IFERROR((OFFSET($J$146,MATCH(\"Aggregate Transfer to Elevated Storage\",$J$147:$J$156,0),2)),0))),((IFERROR((OFFSET($J$164,MATCH(\"Aggregate Transfer to Elevated Storage\",$J$165:$J$174,0),2)),0))),((IFERROR((OFFSET($J$181,MATCH(\"Aggregate Transfer to Elevated Storage\",$J$183:$J$192,0),2)),0))))","v":0}]
[null,"Daily Throughput Limit (cubic yards/day):",null,null,null,null,null,"PM2.5",null,null,null,null,null,null,null,"Sand Transfer to Elevated Storage",{"$f":"MAX((IFERROR(OFFSET($J$20,MATCH(\"Sand Transfer to Elevated Storage\",$J$21:$J$30,0),1),0)),((IFERROR((OFFSET($J$38,MATCH(\"Sand Transfer to Elevated Storage\",$J$39:$J$48,0),1)),0))),((IFERROR((OFFSET($J$56,MATCH(\"Sand Transfer to Elevated Storage\",$J$57:$J$66,0),1)),0))),((IFERROR((OFFSET($J$74,MATCH(\"Sand Transfer to Elevated Storage\",$J$75:$J$84,0),1)),0))),((IFERROR((OFFSET($J$92,MATCH(\"Sand Transfer to Elevated Storage\",$J$93:$J$102,0),1)),0))),((IFERROR((OFFSET($J$110,MATCH(\"Sand Transfer to Elevated Storage\",$J$111:$J$120,0),1)),0))),((IFERROR((OFFSET($J$128,MATCH(\"Sand Transfer to Elevated Storage\",$J$129:$J$138,0),1)),0))),((IFERROR((OFFSET($J$146,MATCH(\"Sand Transfer to Elevated Storage\",$J$147:$J$156,0),1)),0))),((IFERROR((OFFSET($J$164,MATCH(\"Sand Transfer to Elevated Storage\",$J$165:$J$174,0),1)),0))),((IFERROR((OFFSET($J$181,MATCH(\"Sand Transfer to Elevated Storage\",$J$183:$J$192,0),1)),0))),)","v":0},{"$f":"SUM((IFERROR(OFFSET($J$20,MATCH(\"Sand Transfer to Elevated Storage\",$J$21:$J$30,0),2),0)),((IFERROR((OFFSET($J$38,MATCH(\"Sand Transfer to Elevated Storage\",$J$39:$J$48,0),2)),0))),((IFERROR((OFFSET($J$56,MATCH(\"Sand Transfer to Elevated Storage\",$J$57:$J$66,0),2)),0))),((IFERROR((OFFSET($J$74,MATCH(\"Sand Transfer to Elevated Storage\",$J$75:$J$84,0),2)),0))),((IFERROR((OFFSET($J$92,MATCH(\"Sand Transfer to Elevated Storage\",$J$93:$J$102,0),2)),0))),((IFERROR((OFFSET($J$110,MATCH(\"Sand Transfer to Elevated Storage\",$J$111:$J$120,0),2)),0))),((IFERROR((OFFSET($J$128,MATCH(\"Sand Transfer to Elevated Storage\",$J$129:$J$138,0),2)),0))),((IFERROR((OFFSET($J$146,MATCH(\"Sand Transfer to Elevated Storage\",$J$147:$J$156,0),2)),0))),((IFERROR((OFFSET($J$164,MATCH(\"Sand Transfer to Elevated Storage\",$J$165:$J$174,0),2)),0))),((IFERROR((OFFSET($J$181,MATCH(\"Sand Transfer to Elevated Storage\",$J$183:$J$192,0),2)),0))))","v":0}]
[null,"Hours of Operation Limit (hours/day):",null,null,null,null,null,"PM10",null,null,null,null,null,null,null,"Weigh Hopper Loading",{"$f":"MAX((IFERROR(OFFSET($J$20,MATCH(\"Weigh Hopper Loading\",$J$21:$J$30,0),1),0)),((IFERROR((OFFSET($J$38,MATCH(\"Weigh Hopper Loading\",$J$39:$J$48,0),1)),0))),((IFERROR((OFFSET($J$56,MATCH(\"Weigh Hopper Loading\",$J$57:$J$66,0),1)),0))),((IFERROR((OFFSET($J$74,MATCH(\"Weigh Hopper Loading\",$J$75:$J$84,0),1)),0))),((IFERROR((OFFSET($J$92,MATCH(\"Weigh Hopper Loading\",$J$93:$J$102,0),1)),0))),((IFERROR((OFFSET($J$110,MATCH(\"Weigh Hopper Loading\",$J$111:$J$120,0),1)),0))),((IFERROR((OFFSET($J$128,MATCH(\"Weigh Hopper Loading\",$J$129:$J$138,0),1)),0))),((IFERROR((OFFSET($J$146,MATCH(\"Weigh Hopper Loading\",$J$147:$J$156,0),1)),0))),((IFERROR((OFFSET($J$164,MATCH(\"Weigh Hopper Loading\",$J$165:$J$174,0),1)),0))),((IFERROR((OFFSET($J$181,MATCH(\"Weigh Hopper Loading\",$J$183:$J$192,0),1)),0))),)","v":0},{"$f":"SUM((IFERROR(OFFSET($J$20,MATCH(\"Weigh Hopper Loading\",$J$21:$J$30,0),2),0)),((IFERROR((OFFSET($J$38,MATCH(\"Weigh Hopper Loading\",$J$39:$J$48,0),2)),0))),((IFERROR((OFFSET($J$56,MATCH(\"Weigh Hopper Loading\",$J$57:$J$66,0),2)),0))),((IFERROR((OFFSET($J$74,MATCH(\"Weigh Hopper Loading\",$J$75:$J$84,0),2)),0))),((IFERROR((OFFSET($J$92,MATCH(\"Weigh Hopper Loading\",$J$93:$J$102,0),2)),0))),((IFERROR((OFFSET($J$110,MATCH(\"Weigh Hopper Loading\",$J$111:$J$120,0),2)),0))),((IFERROR((OFFSET($J$128,MATCH(\"Weigh Hopper Loading\",$J$129:$J$138,0),2)),0))),((IFERROR((OFFSET($J$146,MATCH(\"Weigh Hopper Loading\",$J$147:$J$156,0),2)),0))),((IFERROR((OFFSET($J$164,MATCH(\"Weigh Hopper Loading\",$J$165:$J$174,0),2)),0))),((IFERROR((OFFSET($J$181,MATCH(\"Weigh Hopper Loading\",$J$183:$J$192,0),2)),0))))","v":0}]
[null,"Note: if the plant has an hrs/day and a cubic yards/hr permit limit, those values should be multiplied together to calculate a cubic yards/day limit and that value should be placed in cell C10.",null,null,null,null,null,"SO2",null,null,null,null,null,null,null,"Central Mix Loading",{"$f":"MAX((IFERROR(OFFSET($J$20,MATCH(\"Central Mix Loading\",$J$21:$J$30,0),1),0)),((IFERROR((OFFSET($J$38,MATCH(\"Central Mix Loading\",$J$39:$J$48,0),1)),0))),((IFERROR((OFFSET($J$56,MATCH(\"Central Mix Loading\",$J$57:$J$66,0),1)),0))),((IFERROR((OFFSET($J$74,MATCH(\"Central Mix Loading\",$J$75:$J$84,0),1)),0))),((IFERROR((OFFSET($J$92,MATCH(\"Central Mix Loading\",$J$93:$J$102,0),1)),0))),((IFERROR((OFFSET($J$110,MATCH(\"Central Mix Loading\",$J$111:$J$120,0),1)),0))),((IFERROR((OFFSET($J$128,MATCH(\"Central Mix Loading\",$J$129:$J$138,0),1)),0))),((IFERROR((OFFSET($J$146,MATCH(\"Central Mix Loading\",$J$147:$J$156,0),1)),0))),((IFERROR((OFFSET($J$164,MATCH(\"Central Mix Loading\",$J$165:$J$174,0),1)),0))),((IFERROR((OFFSET($J$181,MATCH(\"Central Mix Loading\",$J$183:$J$192,0),1)),0))),)","v":0},{"$f":"SUM((IFERROR(OFFSET($J$20,MATCH(\"Central Mix Loading\",$J$21:$J$30,0),2),0)),((IFERROR((OFFSET($J$38,MATCH(\"Central Mix Loading\",$J$39:$J$48,0),2)),0))),((IFERROR((OFFSET($J$56,MATCH(\"Central Mix Loading\",$J$57:$J$66,0),2)),0))),((IFERROR((OFFSET($J$74,MATCH(\"Central Mix Loading\",$J$75:$J$84,0),2)),0))),((IFERROR((OFFSET($J$92,MATCH(\"Central Mix Loading\",$J$93:$J$102,0),2)),0))),((IFERROR((OFFSET($J$110,MATCH(\"Central Mix Loading\",$J$111:$J$120,0),2)),0))),((IFERROR((OFFSET($J$128,MATCH(\"Central Mix Loading\",$J$129:$J$138,0),2)),0))),((IFERROR((OFFSET($J$146,MATCH(\"Central Mix Loading\",$J$147:$J$156,0),2)),0))),((IFERROR((OFFSET($J$164,MATCH(\"Central Mix Loading\",$J$165:$J$174,0),2)),0))),((IFERROR((OFFSET($J$181,MATCH(\"Central Mix Loading\",$J$183:$J$192,0),2)),0))))","v":0}]
[null,null,null,null,null,null,null,"NOx",null,null,null,null,null,null,null,"Truck Mix Loading",{"$f":"MAX((IFERROR(OFFSET($J$20,MATCH(\"Truck Mix Loading\",$J$21:$J$30,0),1),0)),((IFERROR((OFFSET($J$38,MATCH(\"Truck Mix Loading\",$J$39:$J$48,0),1)),0))),((IFERROR((OFFSET($J$56,MATCH(\"Truck Mix Loading\",$J$57:$J$66,0),1)),0))),((IFERROR((OFFSET($J$74,MATCH(\"Truck Mix Loading\",$J$75:$J$84,0),1)),0))),((IFERROR((OFFSET($J$92,MATCH(\"Truck Mix Loading\",$J$93:$J$102,0),1)),0))),((IFERROR((OFFSET($J$110,MATCH(\"Truck Mix Loading\",$J$111:$J$120,0),1)),0))),((IFERROR((OFFSET($J$128,MATCH(\"Truck Mix Loading\",$J$129:$J$138,0),1)),0))),((IFERROR((OFFSET($J$146,MATCH(\"Truck Mix Loading\",$J$147:$J$156,0),1)),0))),((IFERROR((OFFSET($J$164,MATCH(\"Truck Mix Loading\",$J$165:$J$174,0),1)),0))),((IFERROR((OFFSET($J$181,MATCH(\"Truck Mix Loading\",$J$183:$J$192,0),1)),0))),)","v":0},{"$f":"SUM((IFERROR(OFFSET($J$20,MATCH(\"Truck Mix Loading\",$J$21:$J$30,0),2),0)),((IFERROR((OFFSET($J$38,MATCH(\"Truck Mix Loading\",$J$39:$J$48,0),2)),0))),((IFERROR((OFFSET($J$56,MATCH(\"Truck Mix Loading\",$J$57:$J$66,0),2)),0))),((IFERROR((OFFSET($J$74,MATCH(\"Truck Mix Loading\",$J$75:$J$84,0),2)),0))),((IFERROR((OFFSET($J$92,MATCH(\"Truck Mix Loading\",$J$93:$J$102,0),2)),0))),((IFERROR((OFFSET($J$110,MATCH(\"Truck Mix Loading\",$J$111:$J$120,0),2)),0))),((IFERROR((OFFSET($J$128,MATCH(\"Truck Mix Loading\",$J$129:$J$138,0),2)),0))),((IFERROR((OFFSET($J$146,MATCH(\"Truck Mix Loading\",$J$147:$J$156,0),2)),0))),((IFERROR((OFFSET($J$164,MATCH(\"Truck Mix Loading\",$J$165:$J$174,0),2)),0))),((IFERROR((OFFSET($J$181,MATCH(\"Truck Mix Loading\",$J$183:$J$192,0),2)),0))))","v":0}]
[null,null,null,null,null,null,null,"VOC",null,null,null,null,null,null,null,"Cement Delivery to Silo",{"$f":"MAX((IFERROR(OFFSET($J$20,MATCH(\"Cement Delivery to Silo\",$J$21:$J$30,0),1),0)),((IFERROR((OFFSET($J$38,MATCH(\"Cement Delivery to Silo\",$J$39:$J$48,0),1)),0))),((IFERROR((OFFSET($J$56,MATCH(\"Cement Delivery to Silo\",$J$57:$J$66,0),1)),0))),((IFERROR((OFFSET($J$74,MATCH(\"Cement Delivery to Silo\",$J$75:$J$84,0),1)),0))),((IFERROR((OFFSET($J$92,MATCH(\"Cement Delivery to Silo\",$J$93:$J$102,0),1)),0))),((IFERROR((OFFSET($J$110,MATCH(\"Cement Delivery to Silo\",$J$111:$J$120,0),1)),0))),((IFERROR((OFFSET($J$128,MATCH(\"Cement Delivery to Silo\",$J$129:$J$138,0),1)),0))),((IFERROR((OFFSET($J$146,MATCH(\"Cement Delivery to Silo\",$J$147:$J$156,0),1)),0))),((IFERROR((OFFSET($J$164,MATCH(\"Cement Delivery to Silo\",$J$165:$J$174,0),1)),0))),((IFERROR((OFFSET($J$181,MATCH(\"Cement Delivery to Silo\",$J$183:$J$192,0),1)),0))),)","v":0},{"$f":"SUM((IFERROR(OFFSET($J$20,MATCH(\"Cement Delivery to Silo\",$J$21:$J$30,0),2),0)),((IFERROR((OFFSET($J$38,MATCH(\"Cement Delivery to Silo\",$J$39:$J$48,0),2)),0))),((IFERROR((OFFSET($J$56,MATCH(\"Cement Delivery to Silo\",$J$57:$J$66,0),2)),0))),((IFERROR((OFFSET($J$74,MATCH(\"Cement Delivery to Silo\",$J$75:$J$84,0),2)),0))),((IFERROR((OFFSET($J$92,MATCH(\"Cement Delivery to Silo\",$J$93:$J$102,0),2)),0))),((IFERROR((OFFSET($J$110,MATCH(\"Cement Delivery to Silo\",$J$111:$J$120,0),2)),0))),((IFERROR((OFFSET($J$128,MATCH(\"Cement Delivery to Silo\",$J$129:$J$138,0),2)),0))),((IFERROR((OFFSET($J$146,MATCH(\"Cement Delivery to Silo\",$J$147:$J$156,0),2)),0))),((IFERROR((OFFSET($J$164,MATCH(\"Cement Delivery to Silo\",$J$165:$J$174,0),2)),0))),((IFERROR((OFFSET($J$181,MATCH(\"Cement Delivery to Silo\",$J$183:$J$192,0),2)),0))))","v":0}]
[null,null,null,null,null,null,null,"CO",null,null,null,null,null,null,null,"Cement Supplement Delivery to Silo",{"$f":"MAX((IFERROR(OFFSET($J$20,MATCH(\"Cement Supplement Delivery to Silo\",$J$21:$J$30,0),1),0)),((IFERROR((OFFSET($J$38,MATCH(\"Cement Supplement Delivery to Silo\",$J$39:$J$48,0),1)),0))),((IFERROR((OFFSET($J$56,MATCH(\"Cement Supplement Delivery to Silo\",$J$57:$J$66,0),1)),0))),((IFERROR((OFFSET($J$74,MATCH(\"Cement Supplement Delivery to Silo\",$J$75:$J$84,0),1)),0))),((IFERROR((OFFSET($J$92,MATCH(\"Cement Supplement Delivery to Silo\",$J$93:$J$102,0),1)),0))),((IFERROR((OFFSET($J$110,MATCH(\"Cement Supplement Delivery to Silo\",$J$111:$J$120,0),1)),0))),((IFERROR((OFFSET($J$128,MATCH(\"Cement Supplement Delivery to Silo\",$J$129:$J$138,0),1)),0))),((IFERROR((OFFSET($J$146,MATCH(\"Cement Supplement Delivery to Silo\",$J$147:$J$156,0),1)),0))),((IFERROR((OFFSET($J$164,MATCH(\"Cement Supplement Delivery to Silo\",$J$165:$J$174,0),1)),0))),((IFERROR((OFFSET($J$181,MATCH(\"Cement Supplement Delivery to Silo\",$J$183:$J$192,0),1)),0))),)","v":0},{"$f":"SUM((IFERROR(OFFSET($J$20,MATCH(\"Cement Supplement Delivery to Silo\",$J$21:$J$30,0),2),0)),((IFERROR((OFFSET($J$38,MATCH(\"Cement Supplement Delivery to Silo\",$J$39:$J$48,0),2)),0))),((IFERROR((OFFSET($J$56,MATCH(\"Cement Supplement Delivery to Silo\",$J$57:$J$66,0),2)),0))),((IFERROR((OFFSET($J$74,MATCH(\"Cement Supplement Delivery to Silo\",$J$75:$J$84,0),2)),0))),((IFERROR((OFFSET($J$92,MATCH(\"Cement Supplement Delivery to Silo\",$J$93:$J$102,0),2)),0))),((IFERROR((OFFSET($J$110,MATCH(\"Cement Supplement Delivery to Silo\",$J$111:$J$120,0),2)),0))),((IFERROR((OFFSET($J$128,MATCH(\"Cement Supplement Delivery to Silo\",$J$129:$J$138,0),2)),0))),((IFERROR((OFFSET($J$146,MATCH(\"Cement Supplement Delivery to Silo\",$J$147:$J$156,0),2)),0))),((IFERROR((OFFSET($J$164,MATCH(\"Cement Supplement Delivery to Silo\",$J$165:$J$174,0),2)),0))),((IFERROR((OFFSET($J$181,MATCH(\"Cement Supplement Delivery to Silo\",$J$183:$J$192,0),2)),0))))","v":0}]
[null,null,null,null,null,null,null,null,null,null,null,null,null,null,null,null,"Maximum (acres/day)","Actual (acres-day/yr)"]
[null,null,null,null,null,null,null,null,null,null,null,null,null,null,null,"Storage Pile",{"$f":"SUM(J34,J52,J70,J88,J106,J124,J142,J160,J178,J196)","v":0},{"$f":"SUM(K34*L34,K52*L52,K70*L70,K88*L88,K106*L106,K124*L124,K142*L142,K160*L160,K178*L178,K196*L196)","v":0}]
[]
[null,"Batch Plant","Site 1",null,null,null,null,"Emission Point #","Emission     Unit #","Processes","Combined Maximum Hourly Design Rate for all Like Processes (cubic yard/hr)",{"$f":"('Facility Information'!G5&\" Annual Throughput (cubic yards)\")","v":" Annual Throughput (cubic yards)"}]
[null,null,null,null,null,null,null,null,null,null,null,null,"Truck","Central",null,"Potential and Actual Emissions for the Listed Processes at this Plant"]
["YES","Site Name:",null,null,null,null,null,{"$f":"IF(J21=\"cement delivery to silo\",\"CP-1 EP-2\",IF(J21=\"cement supplement delivery to silo\",\"CP-1 EP-3\",IF(J21=\"weigh hopper loading\",\"CP-1 EP-4\",IF(J21=\"truck mix loading\",\"CP-1 EP-5\",IF(J21=\"central mix loading\",\"CP-1 EP-6\",IF(J21=\"\",\"\",\"CP-1 EP-1\"))))))","v":""},{"$f":"IF(J21=\"\",\"\",IF(J21=\"aggregate delivery to ground storage\",\"CP-6 EU-1\",IF(J21=\"sand delivery to ground storage\",\"CP-6 EU-2\",IF(J21=\"aggregate transfer to conveyor\",\"CP-6 EU-3\",IF(J21=\"sand transfer to conveyor\",\"CP-6 EU-4\",IF(J21=\"aggregate transfer to elevated storage\",\"CP-6 EU-5\",IF(J21=\"sand transfer to elevated storage\",\"CP-6 EU-6\",IF(J21=\"weigh hopper loading\",\"CP-6 EU-7\",IF(J21=\"central mix loading\",\"CP-6 EU-8\",IF(J21=\"truck mix loading\",\"CP-6 EU-9\",IF(J21=\"cement delivery to silo\",\"CP-6 EU-10\",IF(J21=\"cement supplement delivery to silo\",\"CP-6 EU-11\"))))))))))))","v":""},null,null,null,{"$f":"IF(J21=\"truck mix loading\",IF($F$24=\"yes\",L21*0.05/2000,L21/2000),\"\")","v":""},{"$f":"IF(J21=\"central mix loading\",IF($F$24=\"yes\",L21*0.05/2000,L21/2000),\"\")","v":""},null,null,"Maximum Design Rate (cubic yards/hr)","Emission Factor (lb/cubic yard)","Potential Uncontrolled Emissions (lb/hr)","Potential Controlled Emissions (lb/hr)","Potential Annual Emissions (tons/yr)","Actual Annual Emissions (tons/yr)"]
["NO","County:",null,null,null,null,null,{"$f":"IF(J22=\"cement delivery to silo\",\"CP-1 EP-2\",IF(J22=\"cement supplement delivery to silo\",\"CP-1 EP-3\",IF(J22=\"weigh hopper loading\",\"CP-1 EP-4\",IF(J22=\"truck mix loading\",\"CP-1 EP-5\",IF(J22=\"central mix loading\",\"CP-1 EP-6\",IF(J22=\"\",\"\",\"CP-1 EP-1\"))))))","v":""},"",null,null,null,{"$f":"IF(J22=\"truck mix loading\",IF($F$24=\"yes\",L22*0.05/2000,L22/2000),\"\")","v":""},{"$f":"IF(J22=\"central mix loading\",IF($F$24=\"yes\",L22*0.05/2000,L22/2000),\"\")","v":""},null,"PM2.5"]
[null,"Batching Period (Dates):",null,null,null,null,null,"","",null,null,null,"","",null,"Aggregate Delivery to Ground Storage",{"$f":"Q5","v":0},{"$f":"IF(Q23=0,0,LOOKUP(P23,'Emission Factors'!$A$5:$A$16,'Emission Factors'!$D$5:$D$16))","v":0},{"$f":"Q23*R23","v":0},{"$f":"IF(Q23=0,\"\",IF($I$10>0,$I$10,\"\"))","v":""},{"$f":"IF($J$10>0,$J$10,IF($D$9>0,$D$9*R23/2000,IF($D$10>0,$D$10*365*R23/2000,IF($D$11>0,$D$11*365*R23*Q23/2000,IF(T23=\"\",S23*8760/2000,T23*8760/2000)))))","v":0},{"$f":"(R5*R23/2000)","v":0}]
["Aggregate Delivery to Ground Storage",{"$f":"IF(OR(COUNTIF(J21:J30,\"Truck Mix Loading\")>0,(COUNTIF(J21:J30,\"Central Mix Loading\")>0)),\"Is the Central/Truck Mix Loading process controlled by a baghouse?\",\"\")","v":""},null,null,null,null,null,"","",null,null,null,"","",null,"Sand Delivery to Ground Storage",{"$f":"Q6","v":0},{"$f":"IF(Q24=0,0,LOOKUP(P24,'Emission Factors'!$A$5:$A$16,'Emission Factors'!$D$5:$D$16))","v":0},{"$f":"Q24*R24","v":0},{"$f":"IF(Q24=0,\"\",IF($I$10>0,$I$10,\"\"))","v":""},{"$f":"IF($J$10>0,\"\",IF($D$9>0,$D$9*R24/2000,IF($D$10>0,$D$10*365*R24/2000,IF($D$11>0,$D$11*365*R24*Q24/2000,IF(T24=\"\",S24*8760/2000,T24*8760/2000)))))","v":0},{"$f":"(R6*R24/2000)","v":0}]
["Sand Delivery to Ground Storage",null,null,null,null,null,null,"","",null,null,null,"","",null,"Aggregate Transfer to Conveyor",0,{"$f":"IF(Q25=0,0,LOOKUP(P25,'Emission Factors'!$A$5:$A$16,'Emission Factors'!$D$5:$D$16))","v":0},0,"",0,0]
["Aggregate Transfer to Conveyor",{"$f":"IF(AND(B28=\"\",B29=\"\",B32=\"\",B31=\"\",B30=\"\"),\"\",\"Process (complete stack information if applicable):\")","v":""},{"$f":"IF(AND(B28=\"\",B29=\"\",B32=\"\",B31=\"\",B30=\"\"),\"\",\"Stack Height (ft):\")","v":""},{"$f":"IF(AND(B28=\"\",B29=\"\",B32=\"\",B31=\"\",B30=\"\"),\"\",\"Stack Diameter (inches):\")","v":""},{"$f":"IF(AND(B28=\"\",B29=\"\",B32=\"\",B31=\"\",B30=\"\"),\"\",\"Flow Rate (acfm):\")","v":""},{"$f":"IF(AND(B28=\"\",B29=\"\",B32=\"\",B31=\"\",B30=\"\"),\"\",\"Temperature (Deg F):\")","v":""},null,"","",null,null,null,"","",null,"Sand Transfer to Conveyor",0,{"$f":"IF(Q26=0,0,LOOKUP(P26,'Emission Factors'!$A$5:$A$16,'Emission Factors'!$D$5:$D$16))","v":0},0,"",0,0]
["Sand Transfer to Conveyor",null,null,null,null,null,null,"","",null,null,null,"","",null,"Aggregate Transfer to Elevated Storage",0,{"$f":"IF(Q27=0,0,LOOKUP(P27,'Emission Factors'!$A$5:$A$16,'Emission Factors'!$D$5:$D$16))","v":0},0,"",0,0]
["Aggregate Transfer to Elevated Storage",{"$f":"IF(COUNTIF(J21:J30,\"Cement Delivery to Silo\")>0,\"EP-2 Cement Silo Stack:\",\"\")","v":""},null,null,null,null,null,"","",null,null,null,"","",null,"Sand Transfer to Elevated Storage",0,{"$f":"IF(Q28=0,0,LOOKUP(P28,'Emission Factors'!$A$5:$A$16,'Emission Factors'!$D$5:$D$16))","v":0},0,"",0,0]
["Sand Transfer to Elevated Storage",{"$f":"IF(COUNTIF(J21:J30,\"Cement Supplement Delivery to Silo\")>0,\"EP-3 Cement Supplement Silo Stack:\",\"\")","v":""},null,null,null,null,null,"","",null,null,null,"","",null,"Weigh Hopper Loading",0,{"$f":"IF(Q29=0,0,LOOKUP(P29,'Emission Factors'!$A$5:$A$16,'Emission Factors'!$D$5:$D$16))","v":0},0,"",0,0]
["Weigh Hopper Loading",{"$f":"IF(COUNTIF(J21:J30,\"Weigh Hopper Loading\")>0,\"EP-4 Weigh Hopper Loading Stack:\",\"\")","v":""},null,null,null,null,null,"","",null,null,null,"","",null,"Central Mix Loading",0,{"$f":"IF(Q30=0,0,LOOKUP(P30,'Emission Factors'!$A$5:$A$16,'Emission Factors'!$D$5:$D$16))","v":0},0,{"$f":"IF(Q30=0,\"\",IF($I$10>0,$I$10,IF(COUNTIF($F$24:$F$186,\"no\")>0,\"\",S30*(1-0.95))))","v":""},{"$f":"IF($J$10>0,\"\",IF($D$9>0,$D$9*R30*((100-$W$30)/100)/2000,IF($D$10>0,$D$10*365*R30*((100-$W$30)/100)/2000,IF($D$11>0,$D$11*365*R30*((100-$W$30)/100)*Q30/2000,IF(T30=\"\",S30*8760/2000,T30*8760/2000)))))","v":0},{"$f":"(R30*N198)","v":0},{"$f":"IF(COUNTIF($F$24:$F$186,\"no\")>0,0,95)","v":95}]
["Central Mix Loading",{"$f":"IF(COUNTIF(J21:J30,\"Truck Mix Loading\")>0,\"EP-5 Truck Mix Loading Stack:\",\"\")","v":""},null,null,null,null,null,null,null,null,null,null,null,null,null,"Truck Mix Loading",0,{"$f":"IF(Q31=0,0,LOOKUP(P31,'Emission Factors'!$A$5:$A$16,'Emission Factors'!$D$5:$D$16))","v":0},0,{"$f":"IF(Q31=0,\"\",IF($I$10>0,$I$10,IF(COUNTIF($F$24:$F$186,\"no\")>0,\"\",S31*(1-0.95))))","v":""},{"$f":"IF($J$10>0,\"\",IF($D$9>0,$D$9*R31*((100-$W$30)/100)/2000,IF($D$10>0,$D$10*365*R31*((100-$W$30)/100)/2000,IF($D$11>0,$D$11*365*R31*((100-$W$30)/100)*Q31/2000,IF(T31=\"\",S31*8760/2000,T31*8760/2000)))))","v":0},{"$f":"(R31*M198)","v":0}]
["Truck Mix Loading",{"$f":"IF(COUNTIF(J21:J30,\"Central Mix Loading\")>0,\"EP-6 Central Mix Loading Stack:\",\"\")","v":""},null,null,null,null,null,"Stock Pile Area",null,null,null,null,null,null,null,"Cement Delivery to Silo",0,{"$f":"IF(Q32=0,0,LOOKUP(P32,'Emission Factors'!$A$5:$A$16,'Emission Factors'!$D$5:$D$16))","v":0},null,{"$f":"IF(Q32=0,0,IF($I$10>0,$I$10,Q32*R32))","v":0},{"$f":"IF($J$10>0,\"\",IF($D$9>0,$D$9*R32/2000,IF($D$10>0,$D$10*365*R32/2000,IF($D$11>0,$D$11*365*R32*Q32/2000,IF($I$10>0,0,T32*8760/2000)))))","v":0},0]
["Cement Delivery to Silo",null,null,null,null,null,null,null,"Emission Unit #","Maximum Storage Area (acres)","Actual Storage Area (acres)","Actual Days in Existence (days)",null,null,null,"Cement Supplement Delivery to Silo",0,{"$f":"IF(Q33=0,0,LOOKUP(P33,'Emission Factors'!$A$5:$A$16,'Emission Factors'!$D$5:$D$16))","v":0},null,{"$f":"IF(Q33=0,0,IF($I$10>0,$I$10,Q33*R33))","v":0},{"$f":"IF($J$10>0,\"\",IF($D$9>0,$D$9*R33/2000,IF($D$10>0,$D$10*365*R33/2000,IF($D$11>0,$D$11*365*R33*Q33/2000,IF($I$10>0,0,T33*8760/2000)))))","v":0},0]
["Cement Supplement Delivery to Silo",null,null,null,null,null,null,null,null,null,null,null,null,null,null,"PM10"]
[null,null,null,null,null,null,null,null,null,null,null,null,null,null,null,"Aggregate Delivery to Ground Storage",{"$f":"Q5","v":0},{"$f":"IF(Q35=0,0,LOOKUP(P35,'Emission Factors'!$A$5:$A$16,'Emission Factors'!$H$5:$H$16))","v":0},0,{"$f":"IF(Q35=0,\"\",IF($I$11>0,$I$11,\"\"))","v":""},{"$f":"IF($J$11>0,$J$11,IF($D$9>0,$D$9*R35/2000,IF($D$10>0,$D$10*365*R35/2000,IF($D$11>0,$D$11*365*R35*Q35/2000,IF(T35=\"\",S35*8760/2000,T35*8760/2000)))))","v":0},{"$f":"(R5*R35/2000)","v":0}]
[null,null,null,null,null,null,null,null,null,null,null,null,null,null,null,"Sand Delivery to Ground Storage",{"$f":"Q6","v":0},{"$f":"IF(Q36=0,0,LOOKUP(P36,'Emission Factors'!$A$5:$A$16,'Emission Factors'!$H$5:$H$16))","v":0},0,{"$f":"IF(Q36=0,\"\",IF($I$11>0,$I$11,\"\"))","v":""},{"$f":"IF($J$11>0,\"\",IF($D$9>0,$D$9*R36/2000,IF($D$10>0,$D$10*365*R36/2000,IF($D$11>0,$D$11*365*R36*Q36/2000,IF(T36=\"\",S36*8760/2000,T36*8760/2000)))))","v":0},{"$f":"(R6*R36/2000)","v":0}]
[null,{"$f":"IF('Concrete Plant (CP-6)'!$D$4>1,\"Batch Plant\",\"\")","v":""},{"$f":"IF('Concrete Plant (CP-6)'!$D$4>1,\"Site 2\",\"\")","v":""},null,null,null,null,{"$f":"IF('Concrete Plant (CP-6)'!$D$4>1,\"Emission Point #\",\"\")","v":""},{"$f":"IF('Concrete Plant (CP-6)'!$D$4>1,\"Emission     Unit #\",\"\")","v":""},{"$f":"IF('Concrete Plant (CP-6)'!$D$4>1,\"Processes\",\"\")","v":""},{"$f":"IF('Concrete Plant (CP-6)'!$D$4>1,\"Combined Maximum Hourly Design Rate for all Like Processes (cubic yard/hr)\",\"\")","v":""},{"$f":"IF('Concrete Plant (CP-6)'!$D$4>1,('Facility Information'!G5&\" Annual Throughput (cubic yards)\"),\"\")","v":""},null,null,null,"Aggregate Transfer to Conveyor",0,{"$f":"IF(Q37=0,0,LOOKUP(P37,'Emission Factors'!$A$5:$A$16,'Emission Factors'!$H$5:$H$16))","v":0},0,"",0,0]
[null,null,null,null,null,null,null,null,null,null,null,null,"Truck","Central",null,"Sand Transfer to Conveyor",0,{"$f":"IF(Q38=0,0,LOOKUP(P38,'Emission Factors'!$A$5:$A$16,'Emission Factors'!$H$5:$H$16))","v":0},0,"",0,0]
[null,{"$f":"IF('Concrete Plant (CP-6)'!$D$4>1,\"Site Name:\",\"\")","v":""},null,null,null,null,null,{"$f":"IF(J39=\"cement delivery to silo\",\"CP-1 EP-2\",IF(J39=\"cement supplement delivery to silo\",\"CP-1 EP-3\",IF(J39=\"weigh hopper loading\",\"CP-1 EP-4\",IF(J39=\"truck mix loading\",\"CP-1 EP-5\",IF(J39=\"central mix loading\",\"CP-1 EP-6\",IF(J39=\"\",\"\",\"CP-1 EP-1\"))))))","v":""},{"$f":"IF(J39=\"\",\"\",IF(J39=\"aggregate delivery to ground storage\",\"CP-6 EU-1\",IF(J39=\"sand delivery to ground storage\",\"CP-6 EU-2\",IF(J39=\"aggregate transfer to conveyor\",\"CP-6 EU-3\",IF(J39=\"sand transfer to conveyor\",\"CP-6 EU-4\",IF(J39=\"aggregate transfer to elevated storage\",\"CP-6 EU-5\",IF(J39=\"sand transfer to elevated storage\",\"CP-6 EU-6\",IF(J39=\"weigh hopper loading\",\"CP-6 EU-7\",IF(J39=\"central mix loading\",\"CP-6 EU-8\",IF(J39=\"truck mix loading\",\"CP-6 EU-9\",IF(J39=\"cement delivery to silo\",\"CP-6 EU-10\",IF(J39=\"cement supplement delivery to silo\",\"CP-6 EU-11\"))))))))))))","v":""},null,null,null,{"$f":"IF(J39=\"truck mix loading\",IF($F$42=\"yes\",L39*0.05/2000,L39/2000),\"\")","v":""},{"$f":"IF(J39=\"central mix loading\",IF($F$42=\"yes\",L39*0.05/2000,L39/2000),\"\")","v":""},null,"Aggregate Transfer to Elevated Storage",0,{"$f":"IF(Q39=0,0,LOOKUP(P39,'Emission Factors'!$A$5:$A$16,'Emission Factors'!$H$5:$H$16))","v":0},0,"",0,0]
[null,{"$f":"IF('Concrete Plant (CP-6)'!$D$4>1,\"County:\",\"\")","v":""},null,null,null,null,null,{"$f":"IF(J40=\"cement delivery to silo\",\"CP-1 EP-2\",IF(J40=\"cement supplement delivery to silo\",\"CP-1 EP-3\",IF(J40=\"weigh hopper loading\",\"CP-1 EP-4\",IF(J40=\"truck mix loading\",\"CP-1 EP-5\",IF(J40=\"central mix loading\",\"CP-1 EP-6\",IF(J40=\"\",\"\",\"CP-1 EP-1\"))))))","v":""},"",null,null,null,{"$f":"IF(J40=\"truck mix loading\",IF($F$42=\"yes\",L40*0.05/2000,L40/2000),\"\")","v":""},{"$f":"IF(J40=\"central mix loading\",IF($F$42=\"yes\",L40*0.05/2000,L40/2000),\"\")","v":""},null,"Sand Transfer to Elevated Storage",0,{"$f":"IF(Q40=0,0,LOOKUP(P40,'Emission Factors'!$A$5:$A$16,'Emission Factors'!$H$5:$H$16))","v":0},0,"",0,0]
[null,{"$f":"IF('Concrete Plant (CP-6)'!$D$4>1,\"Batching Period (Dates):\",\"\")","v":""},null,null,null,null,null,"","",null,null,null,"","",null,"Weigh Hopper Loading",0,{"$f":"IF(Q41=0,0,LOOKUP(P41,'Emission Factors'!$A$5:$A$16,'Emission Factors'!$H$5:$H$16))","v":0},0,"",0,0]
[null,{"$f":"IF(OR(COUNTIF(J39:J48,\"Truck Mix Loading\")>0,(COUNTIF(J39:J48,\"Central Mix Loading\")>0)),\"Is the Central/Truck Mix Loading process controlled by a baghouse?\",\"\")","v":""},null,null,null,null,null,"","",null,null,null,"","",null,"Central Mix Loading",0,{"$f":"IF(Q42=0,0,LOOKUP(P42,'Emission Factors'!$A$5:$A$16,'Emission Factors'!$H$5:$H$16))","v":0},0,{"$f":"IF(Q42=0,\"\",IF($I$11>0,$I$11,IF(COUNTIF($F$24:$F$186,\"no\")>0,\"\",S42*(1-0.95))))","v":""},{"$f":"IF($J$11>0,\"\",IF($D$9>0,$D$9*R42*((100-$W$30)/100)/2000,IF($D$10>0,$D$10*365*R42*((100-$W$30)/100)/2000,IF($D$11>0,$D$11*365*R42*((100-$W$30)/100)*Q42/2000,IF(T42=\"\",S42*8760/2000,T42*8760/2000)))))","v":0},{"$f":"(N198*R42)","v":0},{"$f":"IF(COUNTIF($F$24:$F$186,\"no\")>0,0,95)","v":95}]
[null,null,null,null,null,null,null,"","",null,null,null,"","",null,"Truck Mix Loading",0,{"$f":"IF(Q43=0,0,LOOKUP(P43,'Emission Factors'!$A$5:$A$16,'Emission Factors'!$H$5:$H$16))","v":0},0,{"$f":"IF(Q43=0,\"\",IF($I$11>0,$I$11,IF(COUNTIF($F$24:$F$186,\"no\")>0,\"\",S43*(1-0.95))))","v":""},{"$f":"IF($J$11>0,\"\",IF($D$9>0,$D$9*R43*((100-$W$30)/100)/2000,IF($D$10>0,$D$10*365*R43*((100-$W$30)/100)/2000,IF($D$11>0,$D$11*365*R43*((100-$W$30)/100)*Q43/2000,IF(T43=\"\",S43*8760/2000,T43*8760/2000)))))","v":0},{"$f":"(M198*R43)","v":0}]
[null,{"$f":"IF(AND(B46=\"\",B47=\"\",B48=\"\",B49=\"\",B50=\"\"),\"\",\"Process (complete stack information if applicable):\")","v":""},{"$f":"IF(AND(B46=\"\",B47=\"\",B48=\"\",B49=\"\",B50=\"\"),\"\",\"Stack Height (ft):\")","v":""},{"$f":"IF(AND(B46=\"\",B47=\"\",B48=\"\",B49=\"\",B50=\"\"),\"\",\"Stack Diameter (inches):\")","v":""},{"$f":"IF(AND(B46=\"\",B47=\"\",B48=\"\",B49=\"\",B50=\"\"),\"\",\"Flow Rate (acfm):\")","v":""},{"$f":"IF(AND(B46=\"\",B47=\"\",B48=\"\",B49=\"\",B50=\"\"),\"\",\"Temperature (Deg F):\")","v":""},null,"","",null,null,null,"","",null,"Cement Delivery to Silo",0,{"$f":"IF(Q44=0,0,LOOKUP(P44,'Emission Factors'!$A$5:$A$16,'Emission Factors'!$H$5:$H$16))","v":0},null,{"$f":"IF(Q44=0,0,IF($I$10>0,$I$10,Q44*R44))","v":0},{"$f":"IF($J$11>0,\"\",IF($D$9>0,$D$9*R44/2000,IF($D$10>0,$D$10*365*R44/2000,IF($D$11>0,$D$11*365*R44*Q44/2000,IF($I$11>0,0,T44*8760/2000)))))","v":0},0]
[null,null,null,null,null,null,null,"","",null,null,null,"","",null,"Cement Supplement Delivery to Silo",0,{"$f":"IF(Q45=0,0,LOOKUP(P45,'Emission Factors'!$A$5:$A$16,'Emission Factors'!$H$5:$H$16))","v":0},null,{"$f":"IF(Q45=0,0,IF($I$10>0,$I$10,Q45*R45))","v":0},{"$f":"IF($J$11>0,\"\",IF($D$9>0,$D$9*R45/2000,IF($D$10>0,$D$10*365*R45/2000,IF($D$11>0,$D$11*365*R45*Q45/2000,IF($I$11>0,0,T45*8760/2000)))))","v":0},0]
[null,{"$f":"IF(COUNTIF(J39:J48,\"Cement Delivery to Silo\")>0,\"EP-2 Cement Silo Stack:\",\"\")","v":""},null,null,null,null,null,"","",null,null,null,"",""]
[null,{"$f":"IF(COUNTIF(J39:J48,\"Cement Supplement Delivery to Silo\")>0,\"EP-3 Cement Supplement Silo Stack:\",\"\")","v":""},null,null,null,null,null,"","",null,null,null,"","",null,null,"Max Design Rate (acres/day)","Emission Factor   (lb/acre-day)","Potential Uncontrolled Emissions (lb/hr)","Potential Controlled Emissions (lb/hr)","Potential Annual Emissions (tons/yr)","Actual Annual Emissions (tons/yr)"]
[null,{"$f":"IF(COUNTIF(J39:J48,\"Weigh Hopper Loading\")>0,\"EP-4 Weigh Hopper Loading Stack:\",\"\")","v":""},null,null,null,null,null,"","",null,null,null,"","",null,"Storage Pile"]
[null,{"$f":"IF(COUNTIF(J39:J48,\"Truck Mix Loading\")>0,\"EP-5 Truck Mix Loading Stack:\",\"\")","v":""},null,null,null,null,null,null,null,null,null,null,null,null,null,"PM2.5/PM10",{"$f":"Q17","v":0},3.64,{"$f":"Q49*R49*(1/24)","v":0},null,{"$f":"Q49*R49*365/2000","v":0},{"$f":"R17*R49/2000","v":0}]
[null,{"$f":"IF(COUNTIF(J39:J48,\"Central Mix Loading\")>0,\"EP-6 Central Mix Loading Stack:\",\"\")","v":""},null,null,null,null,null,{"$f":"IF('Concrete Plant (CP-6)'!$D$4>1,\"Stock Pile Area\",\"\")","v":""}]
[null,null,null,null,null,null,null,null,{"$f":"IF('Concrete Plant (CP-6)'!$D$4>1,\"Emission Unit #\",\"\")","v":""},{"$f":"IF('Concrete Plant (CP-6)'!$D$4>1,\"Maximum Storage Area (acres)\",\"\")","v":""},{"$f":"IF('Concrete Plant (CP-6)'!$D$4>1,\"Actual Storage Area (acres)\",\"\")","v":""},{"$f":"IF('Concrete Plant (CP-6)'!$D$4>1,\"Actual Days in Existence (days)\",\"\")","v":""}]
[]
[]
[]
[null,{"$f":"IF('Concrete Plant (CP-6)'!$D$4>2,\"Batch Plant\",\"\")","v":""},{"$f":"IF('Concrete Plant (CP-6)'!$D$4>2,\"Site 3\",\"\")","v":""},null,null,null,null,{"$f":"IF('Concrete Plant (CP-6)'!$D$4>2,\"Emission Point #\",\"\")","v":""},{"$f":"IF('Concrete Plant (CP-6)'!$D$4>2,\"Emission     Unit #\",\"\")","v":""},{"$f":"IF('Concrete Plant (CP-6)'!$D$4>2,\"Processes\",\"\")","v":""},{"$f":"IF('Concrete Plant (CP-6)'!$D$4>2,\"Combined Maximum Hourly Design Rate for all Like Processes (cubic yard/hr)\",\"\")","v":""},{"$f":"IF('Concrete Plant (CP-6)'!$D$4>2,('Facility Information'!G5&\" Annual Throughput (cubic yards)\"),\"\")","v":""}]
[null,null,null,null,null,null,null,null,null,null,null,null,"Truck","Central"]
[null,{"$f":"IF('Concrete Plant (CP-6)'!$D$4>2,\"Site Name:\",\"\")","v":""},null,null,null,null,null,{"$f":"IF(J57=\"cement delivery to silo\",\"CP-1 EP-2\",IF(J57=\"cement supplement delivery to silo\",\"CP-1 EP-3\",IF(J57=\"weigh hopper loading\",\"CP-1 EP-4\",IF(J57=\"truck mix loading\",\"CP-1 EP-5\",IF(J57=\"central mix loading\",\"CP-1 EP-6\",IF(J57=\"\",\"\",\"CP-1 EP-1\"))))))","v":""},{"$f":"IF(J57=\"\",\"\",IF(J57=\"aggregate delivery to ground storage\",\"CP-6 EU-1\",IF(J57=\"sand delivery to ground storage\",\"CP-6 EU-2\",IF(J57=\"aggregate transfer to conveyor\",\"CP-6 EU-3\",IF(J57=\"sand transfer to conveyor\",\"CP-6 EU-4\",IF(J57=\"aggregate transfer to elevated storage\",\"CP-6 EU-5\",IF(J57=\"sand transfer to elevated storage\",\"CP-6 EU-6\",IF(J57=\"weigh hopper loading\",\"CP-6 EU-7\",IF(J57=\"central mix loading\",\"CP-6 EU-8\",IF(J57=\"truck mix loading\",\"CP-6 EU-9\",IF(J57=\"cement delivery to silo\",\"CP-6 EU-10\",IF(J57=\"cement supplement delivery to silo\",\"CP-6 EU-11\"))))))))))))","v":""},null,null,null,{"$f":"IF(J57=\"truck mix loading\",IF($F$60=\"yes\",L57*0.05/2000,L57/2000),\"\")","v":""},{"$f":"IF(J57=\"central mix loading\",IF($F$60=\"yes\",L57*0.05/2000,L57/2000),\"\")","v":""}]
[null,{"$f":"IF('Concrete Plant (CP-6)'!$D$4>2,\"County:\",\"\")","v":""},null,null,null,null,null,{"$f":"IF(J58=\"cement delivery to silo\",\"CP-1 EP-2\",IF(J58=\"cement supplement delivery to silo\",\"CP-1 EP-3\",IF(J58=\"weigh hopper loading\",\"CP-1 EP-4\",IF(J58=\"truck mix loading\",\"CP-1 EP-5\",IF(J58=\"central mix loading\",\"CP-1 EP-6\",IF(J58=\"\",\"\",\"CP-1 EP-1\"))))))","v":""},"",null,null,null,{"$f":"IF(J58=\"truck mix loading\",IF($F$60=\"yes\",L58*0.05/2000,L58/2000),\"\")","v":""},{"$f":"IF(J58=\"central mix loading\",IF($F$60=\"yes\",L58*0.05/2000,L58/2000),\"\")","v":""}]
[null,{"$f":"IF('Concrete Plant (CP-6)'!$D$4>2,\"Batching Period (Dates):\",\"\")","v":""},null,null,null,null,null,"","",null,null,null,"",""]
[null,{"$f":"IF(OR(COUNTIF(J57:J66,\"Truck Mix Loading\")>0,(COUNTIF(J57:J66,\"Central Mix Loading\")>0)),\"Is the Central/Truck Mix Loading process controlled by a baghouse?\",\"\")","v":""},null,null,null,null,null,"","",null,null,null,"",""]
[null,null,null,null,null,null,null,"","",null,null,null,"",""]
[null,{"$f":"IF(AND(B64=\"\",B65=\"\",B66=\"\",B67=\"\",B68=\"\"),\"\",\"Process (complete stack information if applicable):\")","v":""},{"$f":"IF(AND(B64=\"\",B65=\"\",B66=\"\",B67=\"\",B68=\"\"),\"\",\"Stack Height (ft):\")","v":""},{"$f":"IF(AND(B64=\"\",B65=\"\",B66=\"\",B67=\"\",B68=\"\"),\"\",\"Stack Diameter (inches):\")","v":""},{"$f":"IF(AND(B64=\"\",B65=\"\",B66=\"\",B67=\"\",B68=\"\"),\"\",\"Flow Rate (acfm):\")","v":""},{"$f":"IF(AND(B64=\"\",B65=\"\",B66=\"\",B67=\"\",B68=\"\"),\"\",\"Temperature (Deg F):\")","v":""},null,"","",null,null,null,"",""]
[null,null,null,null,null,null,null,"","",null,null,null,"",""]
[null,{"$f":"IF(COUNTIF(J57:J66,\"Cement Delivery to Silo\")>0,\"EP-2 Cement Silo Stack:\",\"\")","v":""},null,null,null,null,null,"","",null,null,null,"",""]
[null,{"$f":"IF(COUNTIF(J57:J66,\"Cement Supplement Delivery to Silo\")>0,\"EP-3 Cement Supplement Silo Stack:\",\"\")","v":""},null,null,null,null,null,"","",null,null,null,"",""]
[null,{"$f":"IF(COUNTIF(J57:J66,\"Weigh Hopper Loading\")>0,\"EP-4 Weigh Hopper Loading Stack:\",\"\")","v":""},null,null,null,null,null,"","",null,null,null,"",""]
[null,{"$f":"IF(COUNTIF(J57:J66,\"Truck Mix Loading\")>0,\"EP-5 Truck Mix Loading Stack:\",\"\")","v":""}]
[null,{"$f":"IF(COUNTIF(J57:J66,\"Central Mix Loading\")>0,\"EP-6 Central Mix Loading Stack:\",\"\")","v":""},null,null,null,null,null,{"$f":"IF('Concrete Plant (CP-6)'!$D$4>2,\"Stock Pile Area\",\"\")","v":""}]
[null,null,null,null,null,null,null,null,{"$f":"IF('Concrete Plant (CP-6)'!$D$4>2,\"Emission Unit #\",\"\")","v":""},{"$f":"IF('Concrete Plant (CP-6)'!$D$4>2,\"Maximum Storage Area (acres)\",\"\")","v":""},{"$f":"IF('Concrete Plant (CP-6)'!$D$4>2,\"Actual Storage Area (acres)\",\"\")","v":""},{"$f":"IF('Concrete Plant (CP-6)'!$D$4>2,\"Actual Days in Existence (days)\",\"\")","v":""}]
[]
[]
[]
[null,{"$f":"IF('Concrete Plant (CP-6)'!$D$4>3,\"Batch Plant\",\"\")","v":""},{"$f":"IF('Concrete Plant (CP-6)'!$D$4>3,\"Site 4\",\"\")","v":""},null,null,null,null,{"$f":"IF('Concrete Plant (CP-6)'!$D$4>3,\"Emission Point #\",\"\")","v":""},{"$f":"IF('Concrete Plant (CP-6)'!$D$4>3,\"Emission     Unit #\",\"\")","v":""},{"$f":"IF('Concrete Plant (CP-6)'!$D$4>3,\"Processes\",\"\")","v":""},{"$f":"IF('Concrete Plant (CP-6)'!$D$4>3,\"Combined Maximum Hourly Design Rate for all Like Processes (cubic yard/hr)\",\"\")","v":""},{"$f":"IF('Concrete Plant (CP-6)'!$D$4>3,('Facility Information'!G5&\" Annual Throughput (cubic yards)\"),\"\")","v":""}]
[null,null,null,null,null,null,null,null,null,null,null,null,"Truck","Central"]
[null,{"$f":"IF('Concrete Plant (CP-6)'!$D$4>3,\"Site Name:\",\"\")","v":""},null,null,null,null,null,{"$f":"IF(J75=\"cement delivery to silo\",\"CP-1 EP-2\",IF(J75=\"cement supplement delivery to silo\",\"CP-1 EP-3\",IF(J75=\"weigh hopper loading\",\"CP-1 EP-4\",IF(J75=\"truck mix loading\",\"CP-1 EP-5\",IF(J75=\"central mix loading\",\"CP-1 EP-6\",IF(J75=\"\",\"\",\"CP-1 EP-1\"))))))","v":""},{"$f":"IF(J75=\"\",\"\",IF(J75=\"aggregate delivery to ground storage\",\"CP-6 EU-1\",IF(J75=\"sand delivery to ground storage\",\"CP-6 EU-2\",IF(J75=\"aggregate transfer to conveyor\",\"CP-6 EU-3\",IF(J75=\"sand transfer to conveyor\",\"CP-6 EU-4\",IF(J75=\"aggregate transfer to elevated storage\",\"CP-6 EU-5\",IF(J75=\"sand transfer to elevated storage\",\"CP-6 EU-6\",IF(J75=\"weigh hopper loading\",\"CP-6 EU-7\",IF(J75=\"central mix loading\",\"CP-6 EU-8\",IF(J75=\"truck mix loading\",\"CP-6 EU-9\",IF(J75=\"cement delivery to silo\",\"CP-6 EU-10\",IF(J75=\"cement supplement delivery to silo\",\"CP-6 EU-11\"))))))))))))","v":""},null,null,null,{"$f":"IF(J75=\"truck mix loading\",IF($F$78=\"yes\",L75*0.05/2000,L75/2000),\"\")","v":""},{"$f":"IF(J75=\"central mix loading\",IF($F$78=\"yes\",L75*0.05/2000,L75/2000),\"\")","v":""}]
[null,{"$f":"IF('Concrete Plant (CP-6)'!$D$4>3,\"County:\",\"\")","v":""},null,null,null,null,null,{"$f":"IF(J76=\"cement delivery to silo\",\"CP-1 EP-2\",IF(J76=\"cement supplement delivery to silo\",\"CP-1 EP-3\",IF(J76=\"weigh hopper loading\",\"CP-1 EP-4\",IF(J76=\"truck mix loading\",\"CP-1 EP-5\",IF(J76=\"central mix loading\",\"CP-1 EP-6\",IF(J76=\"\",\"\",\"CP-1 EP-1\"))))))","v":""},"",null,null,null,{"$f":"IF(J76=\"truck mix loading\",IF($F$78=\"yes\",L76*0.05/2000,L76/2000),\"\")","v":""},{"$f":"IF(J76=\"central mix loading\",IF($F$78=\"yes\",L76*0.05/2000,L76/2000),\"\")","v":""}]
[null,{"$f":"IF('Concrete Plant (CP-6)'!$D$4>3,\"Batching Period (Dates):\",\"\")","v":""},null,null,null,null,null,"","",null,null,null,"",""]
[null,{"$f":"IF(OR(COUNTIF(J75:J84,\"Truck Mix Loading\")>0,(COUNTIF(J75:J84,\"Central Mix Loading\")>0)),\"Is the Central/Truck Mix Loading process controlled by a baghouse?\",\"\")","v":""},null,null,null,null,null,"","",null,null,null,"",""]
[null,null,null,null,null,null,null,"","",null,null,null,"",""]
[null,{"$f":"IF(AND(B82=\"\",B83=\"\",B84=\"\",B85=\"\",B86=\"\"),\"\",\"Process (complete stack information if applicable):\")","v":""},{"$f":"IF(AND(B82=\"\",B83=\"\",B84=\"\",B85=\"\",B86=\"\"),\"\",\"Stack Height (ft):\")","v":""},{"$f":"IF(AND(B82=\"\",B83=\"\",B84=\"\",B85=\"\",B86=\"\"),\"\",\"Stack Diameter (inches):\")","v":""},{"$f":"IF(AND(B82=\"\",B83=\"\",B84=\"\",B85=\"\",B86=\"\"),\"\",\"Flow Rate (acfm):\")","v":""},{"$f":"IF(AND(B82=\"\",B83=\"\",B84=\"\",B85=\"\",B86=\"\"),\"\",\"Temperature (Deg F):\")","v":""},null,"","",null,null,null,"",""]
[null,null,null,null,null,null,null,"","",null,null,null,"",""]
[null,{"$f":"IF(COUNTIF(J75:J84,\"Cement Delivery to Silo\")>0,\"EP-2 Cement Silo Stack:\",\"\")","v":""},null,null,null,null,null,"","",null,null,null,"",""]
[null,{"$f":"IF(COUNTIF(J75:J84,\"Cement Supplement Delivery to Silo\")>0,\"EP-3 Cement Supplement Silo Stack:\",\"\")","v":""},null,null,null,null,null,"","",null,null,null,"",""]
[null,{"$f":"IF(COUNTIF(J75:J84,\"Weigh Hopper Loading\")>0,\"EP-4 Weigh Hopper Loading Stack:\",\"\")","v":""},null,null,null,null,null,"","",null,null,null,"",""]
[null,{"$f":"IF(COUNTIF(J75:J84,\"Truck Mix Loading\")>0,\"EP-5 Truck Mix Loading Stack:\",\"\")","v":""}]
[null,{"$f":"IF(COUNTIF(J75:J84,\"Central Mix Loading\")>0,\"EP-6 Central Mix Loading Stack:\",\"\")","v":""},null,null,null,null,null,{"$f":"IF('Concrete Plant (CP-6)'!$D$4>3,\"Stock Pile Area\",\"\")","v":""}]
[null,null,null,null,null,null,null,null,{"$f":"IF('Concrete Plant (CP-6)'!$D$4>3,\"Emission Unit #\",\"\")","v":""},{"$f":"IF('Concrete Plant (CP-6)'!$D$4>3,\"Maximum Storage Area (acres)\",\"\")","v":""},{"$f":"IF('Concrete Plant (CP-6)'!$D$4>3,\"Actual Storage Area (acres)\",\"\")","v":""},{"$f":"IF('Concrete Plant (CP-6)'!$D$4>3,\"Actual Days in Existence (days)\",\"\")","v":""}]
[]
[]
[]
[null,{"$f":"IF('Concrete Plant (CP-6)'!$D$4>4,\"Batch Plant\",\"\")","v":""},{"$f":"IF('Concrete Plant (CP-6)'!$D$4>4,\"Site 5\",\"\")","v":""},null,null,null,null,{"$f":"IF('Concrete Plant (CP-6)'!$D$4>4,\"Emission Point #\",\"\")","v":""},{"$f":"IF('Concrete Plant (CP-6)'!$D$4>4,\"Emission     Unit #\",\"\")","v":""},{"$f":"IF('Concrete Plant (CP-6)'!$D$4>4,\"Processes\",\"\")","v":""},{"$f":"IF('Concrete Plant (CP-6)'!$D$4>4,\"Combined Maximum Hourly Design Rate for all Like Processes (cubic yard/hr)\",\"\")","v":""},{"$f":"IF('Concrete Plant (CP-6)'!$D$4>4,('Facility Information'!G5&\" Annual Throughput (cubic yards)\"),\"\")","v":""}]
[null,null,null,null,null,null,null,null,null,null,null,null,"Truck","Central"]
[null,{"$f":"IF('Concrete Plant (CP-6)'!$D$4>4,\"Site Name:\",\"\")","v":""},null,null,null,null,null,{"$f":"IF(J93=\"cement delivery to silo\",\"CP-1 EP-2\",IF(J93=\"cement supplement delivery to silo\",\"CP-1 EP-3\",IF(J93=\"weigh hopper loading\",\"CP-1 EP-4\",IF(J93=\"truck mix loading\",\"CP-1 EP-5\",IF(J93=\"central mix loading\",\"CP-1 EP-6\",IF(J93=\"\",\"\",\"CP-1 EP-1\"))))))","v":""},{"$f":"IF(J93=\"\",\"\",IF(J93=\"aggregate delivery to ground storage\",\"CP-6 EU-1\",IF(J93=\"sand delivery to ground storage\",\"CP-6 EU-2\",IF(J93=\"aggregate transfer to conveyor\",\"CP-6 EU-3\",IF(J93=\"sand transfer to conveyor\",\"CP-6 EU-4\",IF(J93=\"aggregate transfer to elevated storage\",\"CP-6 EU-5\",IF(J93=\"sand transfer to elevated storage\",\"CP-6 EU-6\",IF(J93=\"weigh hopper loading\",\"CP-6 EU-7\",IF(J93=\"central mix loading\",\"CP-6 EU-8\",IF(J93=\"truck mix loading\",\"CP-6 EU-9\",IF(J93=\"cement delivery to silo\",\"CP-6 EU-10\",IF(J93=\"cement supplement delivery to silo\",\"CP-6 EU-11\"))))))))))))","v":""},null,null,null,{"$f":"IF(J93=\"truck mix loading\",IF($F$96=\"yes\",L93*0.05/2000,L93/2000),\"\")","v":""},{"$f":"IF(J93=\"central mix loading\",IF($F$96=\"yes\",L93*0.05/2000,L93/2000),\"\")","v":""}]
[null,{"$f":"IF('Concrete Plant (CP-6)'!$D$4>4,\"County:\",\"\")","v":""},null,null,null,null,null,{"$f":"IF(J94=\"cement delivery to silo\",\"CP-1 EP-2\",IF(J94=\"cement supplement delivery to silo\",\"CP-1 EP-3\",IF(J94=\"weigh hopper loading\",\"CP-1 EP-4\",IF(J94=\"truck mix loading\",\"CP-1 EP-5\",IF(J94=\"central mix loading\",\"CP-1 EP-6\",IF(J94=\"\",\"\",\"CP-1 EP-1\"))))))","v":""},"",null,null,null,{"$f":"IF(J94=\"truck mix loading\",IF($F$96=\"yes\",L94*0.05/2000,L94/2000),\"\")","v":""},{"$f":"IF(J94=\"central mix loading\",IF($F$96=\"yes\",L94*0.05/2000,L94/2000),\"\")","v":""}]
[null,{"$f":"IF('Concrete Plant (CP-6)'!$D$4>4,\"Batching Period (Dates):\",\"\")","v":""},null,null,null,null,null,"","",null,null,null,"",""]
[null,{"$f":"IF(OR(COUNTIF(J93:J102,\"Truck Mix Loading\")>0,(COUNTIF(J93:J102,\"Central Mix Loading\")>0)),\"Is the Central/Truck Mix Loading process controlled by a baghouse?\",\"\")","v":""},null,null,null,null,null,"","",null,null,null,"",""]
[null,null,null,null,null,null,null,"","",null,null,null,"",""]
[null,{"$f":"IF(AND(B100=\"\",B101=\"\",B102=\"\",B103=\"\",B104=\"\"),\"\",\"Process (complete stack information if applicable):\")","v":""},{"$f":"IF(AND(B100=\"\",B101=\"\",B102=\"\",B103=\"\",B104=\"\"),\"\",\"Stack Height (ft):\")","v":""},{"$f":"IF(AND(B100=\"\",B101=\"\",B102=\"\",B103=\"\",B104=\"\"),\"\",\"Stack Diameter (inches):\")","v":""},{"$f":"IF(AND(B100=\"\",B101=\"\",B102=\"\",B103=\"\",B104=\"\"),\"\",\"Flow Rate (acfm):\")","v":""},{"$f":"IF(AND(B100=\"\",B101=\"\",B102=\"\",B103=\"\",B104=\"\"),\"\",\"Temperature (Deg F):\")","v":""},null,"","",null,null,null,"",""]
[null,null,null,null,null,null,null,"","",null,null,null,"",""]
[null,{"$f":"IF(COUNTIF(J93:J102,\"Cement Delivery to Silo\")>0,\"EP-2 Cement Silo Stack:\",\"\")","v":""},null,null,null,null,null,"","",null,null,null,"",""]
[null,{"$f":"IF(COUNTIF(J93:J102,\"Cement Supplement Delivery to Silo\")>0,\"EP-3 Cement Supplement Silo Stack:\",\"\")","v":""},null,null,null,null,null,"","",null,null,null,"",""]
[null,{"$f":"IF(COUNTIF(J93:J102,\"Weigh Hopper Loading\")>0,\"EP-4 Weigh Hopper Loading Stack:\",\"\")","v":""},null,null,null,null,null,"","",null,null,null,"",""]
[null,{"$f":"IF(COUNTIF(J93:J102,\"Truck Mix Loading\")>0,\"EP-5 Truck Mix Loading Stack:\",\"\")","v":""}]
[null,{"$f":"IF(COUNTIF(J93:J102,\"Central Mix Loading\")>0,\"EP-6 Central Mix Loading Stack:\",\"\")","v":""},null,null,null,null,null,{"$f":"IF('Concrete Plant (CP-6)'!$D$4>4,\"Stock Pile Area\",\"\")","v":""}]
[null,null,null,null,null,null,null,null,{"$f":"IF('Concrete Plant (CP-6)'!$D$4>4,\"Emission Unit #\",\"\")","v":""},{"$f":"IF('Concrete Plant (CP-6)'!$D$4>4,\"Maximum Storage Area (acres)\",\"\")","v":""},{"$f":"IF('Concrete Plant (CP-6)'!$D$4>4,\"Actual Storage Area (acres)\",\"\")","v":""},{"$f":"IF('Concrete Plant (CP-6)'!$D$4>4,\"Actual Days in Existence (days)\",\"\")","v":""}]
[]
[]
[]
[null,{"$f":"IF('Concrete Plant (CP-6)'!$D$4>5,\"Batch Plant\",\"\")","v":""},{"$f":"IF('Concrete Plant (CP-6)'!$D$4>5,\"Site 6\",\"\")","v":""},null,null,null,null,{"$f":"IF('Concrete Plant (CP-6)'!$D$4>5,\"Emission Point #\",\"\")","v":""},{"$f":"IF('Concrete Plant (CP-6)'!$D$4>5,\"Emission     Unit #\",\"\")","v":""},{"$f":"IF('Concrete Plant (CP-6)'!$D$4>5,\"Processes\",\"\")","v":""},{"$f":"IF('Concrete Plant (CP-6)'!$D$4>5,\"Combined Maximum Hourly Design Rate for all Like Processes (cubic yard/hr)\",\"\")","v":""},{"$f":"IF('Concrete Plant (CP-6)'!$D$4>5,('Facility Information'!G5&\" Annual Throughput (cubic yards)\"),\"\")","v":""}]
[null,null,null,null,null,null,null,null,null,null,null,null,"Truck","Central"]
[null,{"$f":"IF('Concrete Plant (CP-6)'!$D$4>5,\"Site Name:\",\"\")","v":""},null,null,null,null,null,{"$f":"IF(J111=\"cement delivery to silo\",\"CP-1 EP-2\",IF(J111=\"cement supplement delivery to silo\",\"CP-1 EP-3\",IF(J111=\"weigh hopper loading\",\"CP-1 EP-4\",IF(J111=\"truck mix loading\",\"CP-1 EP-5\",IF(J111=\"central mix loading\",\"CP-1 EP-6\",IF(J111=\"\",\"\",\"CP-1 EP-1\"))))))","v":""},{"$f":"IF(J111=\"\",\"\",IF(J111=\"aggregate delivery to ground storage\",\"CP-6 EU-1\",IF(J111=\"sand delivery to ground storage\",\"CP-6 EU-2\",IF(J111=\"aggregate transfer to conveyor\",\"CP-6 EU-3\",IF(J111=\"sand transfer to conveyor\",\"CP-6 EU-4\",IF(J111=\"aggregate transfer to elevated storage\",\"CP-6 EU-5\",IF(J111=\"sand transfer to elevated storage\",\"CP-6 EU-6\",IF(J111=\"weigh hopper loading\",\"CP-6 EU-7\",IF(J111=\"central mix loading\",\"CP-6 EU-8\",IF(J111=\"truck mix loading\",\"CP-6 EU-9\",IF(J111=\"cement delivery to silo\",\"CP-6 EU-10\",IF(J111=\"cement supplement delivery to silo\",\"CP-6 EU-11\"))))))))))))","v":""},null,null,null,{"$f":"IF(J111=\"truck mix loading\",IF($F$114=\"yes\",L111*0.05/2000,L111/2000),\"\")","v":""},{"$f":"IF(J111=\"central mix loading\",IF($F$114=\"yes\",L111*0.05/2000,L111/2000),\"\")","v":""}]
[null,{"$f":"IF('Concrete Plant (CP-6)'!$D$4>5,\"County:\",\"\")","v":""},null,null,null,null,null,{"$f":"IF(J112=\"cement delivery to silo\",\"CP-1 EP-2\",IF(J112=\"cement supplement delivery to silo\",\"CP-1 EP-3\",IF(J112=\"weigh hopper loading\",\"CP-1 EP-4\",IF(J112=\"truck mix loading\",\"CP-1 EP-5\",IF(J112=\"central mix loading\",\"CP-1 EP-6\",IF(J112=\"\",\"\",\"CP-1 EP-1\"))))))","v":""},"",null,null,null,{"$f":"IF(J112=\"truck mix loading\",IF($F$114=\"yes\",L112*0.05/2000,L112/2000),\"\")","v":""},{"$f":"IF(J112=\"central mix loading\",IF($F$114=\"yes\",L112*0.05/2000,L112/2000),\"\")","v":""}]
[null,{"$f":"IF('Concrete Plant (CP-6)'!$D$4>5,\"Batching Period (Dates):\",\"\")","v":""},null,null,null,null,null,"","",null,null,null,"",""]
[null,{"$f":"IF(OR(COUNTIF(J111:J120,\"Truck Mix Loading\")>0,(COUNTIF(J111:J120,\"Central Mix Loading\")>0)),\"Is the Central/Truck Mix Loading process controlled by a baghouse?\",\"\")","v":""},null,null,null,null,null,"","",null,null,null,"",""]
[null,null,null,null,null,null,null,"","",null,null,null,"",""]
[null,{"$f":"IF(AND(B118=\"\",B119=\"\",B120=\"\",B121=\"\",B122=\"\"),\"\",\"Process (complete stack information if applicable):\")","v":""},{"$f":"IF(AND(B118=\"\",B119=\"\",B120=\"\",B121=\"\",B122=\"\"),\"\",\"Stack Height (ft):\")","v":""},{"$f":"IF(AND(B118=\"\",B119=\"\",B120=\"\",B121=\"\",B122=\"\"),\"\",\"Stack Diameter (inches):\")","v":""},{"$f":"IF(AND(B118=\"\",B119=\"\",B120=\"\",B121=\"\",B122=\"\"),\"\",\"Flow Rate (acfm):\")","v":""},{"$f":"IF(AND(B118=\"\",B119=\"\",B120=\"\",B121=\"\",B122=\"\"),\"\",\"Temperature (Deg F):\")","v":""},null,"","",null,null,null,"",""]
[null,null,null,null,null,null,null,"","",null,null,null,"",""]
[null,{"$f":"IF(COUNTIF(J111:J120,\"Cement Delivery to Silo\")>0,\"EP-2 Cement Silo Stack:\",\"\")","v":""},null,null,null,null,null,"","",null,null,null,"",""]
[null,{"$f":"IF(COUNTIF(J111:J120,\"Cement Supplement Delivery to Silo\")>0,\"EP-3 Cement Supplement Silo Stack:\",\"\")","v":""},null,null,null,null,null,"","",null,null,null,"",""]
[null,{"$f":"IF(COUNTIF(J111:J120,\"Weigh Hopper Loading\")>0,\"EP-4 Weigh Hopper Loading Stack:\",\"\")","v":""},null,null,null,null,null,"","",null,null,null,"",""]
[null,{"$f":"IF(COUNTIF(J111:J120,\"Truck Mix Loading\")>0,\"EP-5 Truck Mix Loading Stack:\",\"\")","v":""}]
[null,{"$f":"IF(COUNTIF(J111:J120,\"Central Mix Loading\")>0,\"EP-6 Central Mix Loading Stack:\",\"\")","v":""},null,null,null,null,null,{"$f":"IF('Concrete Plant (CP-6)'!$D$4>5,\"Stock Pile Area\",\"\")","v":""}]
[null,null,null,null,null,null,null,null,{"$f":"IF('Concrete Plant (CP-6)'!$D$4>5,\"Emission Unit #\",\"\")","v":""},{"$f":"IF('Concrete Plant (CP-6)'!$D$4>5,\"Maximum Storage Area (acres)\",\"\")","v":""},{"$f":"IF('Concrete Plant (CP-6)'!$D$4>5,\"Actual Storage Area (acres)\",\"\")","v":""},{"$f":"IF('Concrete Plant (CP-6)'!$D$4>5,\"Actual Days in Existence (days)\",\"\")","v":""}]
[]
[]
[]
[null,{"$f":"IF('Concrete Plant (CP-6)'!$D$4>6,\"Batch Plant\",\"\")","v":""},{"$f":"IF('Concrete Plant (CP-6)'!$D$4>6,\"Site 7\",\"\")","v":""},null,null,null,null,{"$f":"IF('Concrete Plant (CP-6)'!$D$4>6,\"Emission Point #\",\"\")","v":""},{"$f":"IF('Concrete Plant (CP-6)'!$D$4>6,\"Emission     Unit #\",\"\")","v":""},{"$f":"IF('Concrete Plant (CP-6)'!$D$4>6,\"Processes\",\"\")","v":""},{"$f":"IF('Concrete Plant (CP-6)'!$D$4>6,\"Combined Maximum Hourly Design Rate for all Like Processes (cubic yard/hr)\",\"\")","v":""},{"$f":"IF('Concrete Plant (CP-6)'!$D$4>6,('Facility Information'!G5&\" Annual Throughput (cubic yards)\"),\"\")","v":""}]
[null,null,null,null,null,null,null,null,null,null,null,null,"Truck","Central"]
[null,{"$f":"IF('Concrete Plant (CP-6)'!$D$4>6,\"Site Name:\",\"\")","v":""},null,null,null,null,null,{"$f":"IF(J129=\"cement delivery to silo\",\"CP-1 EP-2\",IF(J129=\"cement supplement delivery to silo\",\"CP-1 EP-3\",IF(J129=\"weigh hopper loading\",\"CP-1 EP-4\",IF(J129=\"truck mix loading\",\"CP-1 EP-5\",IF(J129=\"central mix loading\",\"CP-1 EP-6\",IF(J129=\"\",\"\",\"CP-1 EP-1\"))))))","v":""},{"$f":"IF(J129=\"\",\"\",IF(J129=\"aggregate delivery to ground storage\",\"CP-6 EU-1\",IF(J129=\"sand delivery to ground storage\",\"CP-6 EU-2\",IF(J129=\"aggregate transfer to conveyor\",\"CP-6 EU-3\",IF(J129=\"sand transfer to conveyor\",\"CP-6 EU-4\",IF(J129=\"aggregate transfer to elevated storage\",\"CP-6 EU-5\",IF(J129=\"sand transfer to elevated storage\",\"CP-6 EU-6\",IF(J129=\"weigh hopper loading\",\"CP-6 EU-7\",IF(J129=\"central mix loading\",\"CP-6 EU-8\",IF(J129=\"truck mix loading\",\"CP-6 EU-9\",IF(J129=\"cement delivery to silo\",\"CP-6 EU-10\",IF(J129=\"cement supplement delivery to silo\",\"CP-6 EU-11\"))))))))))))","v":""},null,null,null,{"$f":"IF(J129=\"truck mix loading\",IF($F$132=\"yes\",L129*0.05/2000,L129/2000),\"\")","v":""},{"$f":"IF(J129=\"central mix loading\",IF($F$132=\"yes\",L129*0.05/2000,L129/2000),\"\")","v":""}]
[null,{"$f":"IF('Concrete Plant (CP-6)'!$D$4>6,\"County:\",\"\")","v":""},null,null,null,null,null,{"$f":"IF(J130=\"cement delivery to silo\",\"CP-1 EP-2\",IF(J130=\"cement supplement delivery to silo\",\"CP-1 EP-3\",IF(J130=\"weigh hopper loading\",\"CP-1 EP-4\",IF(J130=\"truck mix loading\",\"CP-1 EP-5\",IF(J130=\"central mix loading\",\"CP-1 EP-6\",IF(J130=\"\",\"\",\"CP-1 EP-1\"))))))","v":""},"",null,null,null,{"$f":"IF(J130=\"truck mix loading\",IF($F$132=\"yes\",L130*0.05/2000,L130/2000),\"\")","v":""},{"$f":"IF(J130=\"central mix loading\",IF($F$132=\"yes\",L130*0.05/2000,L130/2000),\"\")","v":""}]
[null,{"$f":"IF('Concrete Plant (CP-6)'!$D$4>6,\"Batching Period (Dates):\",\"\")","v":""},null,null,null,null,null,"","",null,null,null,"",""]
[null,{"$f":"IF(OR(COUNTIF(J129:J138,\"Truck Mix Loading\")>0,(COUNTIF(J129:J138,\"Central Mix Loading\")>0)),\"Is the Central/Truck Mix Loading process controlled by a baghouse?\",\"\")","v":""},null,null,null,null,null,"","",null,null,null,"",""]
[null,null,null,null,null,null,null,"","",null,null,null,"",""]
[null,{"$f":"IF(AND(B136=\"\",B137=\"\",B138=\"\",B139=\"\",B140=\"\"),\"\",\"Process (complete stack information if applicable):\")","v":""},{"$f":"IF(AND(B136=\"\",B137=\"\",B138=\"\",B139=\"\",B140=\"\"),\"\",\"Stack Height (ft):\")","v":""},{"$f":"IF(AND(B136=\"\",B137=\"\",B138=\"\",B139=\"\",B140=\"\"),\"\",\"Stack Diameter (inches):\")","v":""},{"$f":"IF(AND(B136=\"\",B137=\"\",B138=\"\",B139=\"\",B140=\"\"),\"\",\"Flow Rate (acfm):\")","v":""},{"$f":"IF(AND(B136=\"\",B137=\"\",B138=\"\",B139=\"\",B140=\"\"),\"\",\"Temperature (Deg F):\")","v":""},null,"","",null,null,null,"",""]
[null,null,null,null,null,null,null,"","",null,null,null,"",""]
[null,{"$f":"IF(COUNTIF(J129:J138,\"Cement Delivery to Silo\")>0,\"EP-2 Cement Silo Stack:\",\"\")","v":""},null,null,null,null,null,"","",null,null,null,"",""]
[null,{"$f":"IF(COUNTIF(J129:J138,\"Cement Supplement Delivery to Silo\")>0,\"EP-3 Cement Supplement Silo Stack:\",\"\")","v":""},null,null,null,null,null,"","",null,null,null,"",""]
[null,{"$f":"IF(COUNTIF(J129:J138,\"Weigh Hopper Loading\")>0,\"EP-4 Weigh Hopper Loading Stack:\",\"\")","v":""},null,null,null,null,null,"","",null,null,null,"",""]
[null,{"$f":"IF(COUNTIF(J129:J138,\"Truck Mix Loading\")>0,\"EP-5 Truck Mix Loading Stack:\",\"\")","v":""}]
[null,{"$f":"IF(COUNTIF(J129:J138,\"Central Mix Loading\")>0,\"EP-6 Central Mix Loading Stack:\",\"\")","v":""},null,null,null,null,null,{"$f":"IF('Concrete Plant (CP-6)'!$D$4>6,\"Stock Pile Area\",\"\")","v":""}]
[null,null,null,null,null,null,null,null,{"$f":"IF('Concrete Plant (CP-6)'!$D$4>6,\"Emission Unit #\",\"\")","v":""},{"$f":"IF('Concrete Plant (CP-6)'!$D$4>6,\"Maximum Storage Area (acres)\",\"\")","v":""},{"$f":"IF('Concrete Plant (CP-6)'!$D$4>6,\"Actual Storage Area (acres)\",\"\")","v":""},{"$f":"IF('Concrete Plant (CP-6)'!$D$4>6,\"Actual Days in Existence (days)\",\"\")","v":""}]
[]
[]
[]
[null,{"$f":"IF('Concrete Plant (CP-6)'!$D$4>7,\"Batch Plant\",\"\")","v":""},{"$f":"IF('Concrete Plant (CP-6)'!$D$4>7,\"Site 8\",\"\")","v":""},null,null,null,null,{"$f":"IF('Concrete Plant (CP-6)'!$D$4>7,\"Emission Point #\",\"\")","v":""},{"$f":"IF('Concrete Plant (CP-6)'!$D$4>7,\"Emission     Unit #\",\"\")","v":""},{"$f":"IF('Concrete Plant (CP-6)'!$D$4>7,\"Processes\",\"\")","v":""},{"$f":"IF('Concrete Plant (CP-6)'!$D$4>7,\"Combined Maximum Hourly Design Rate for all Like Processes (cubic yard/hr)\",\"\")","v":""},{"$f":"IF('Concrete Plant (CP-6)'!$D$4>7,('Facility Information'!G5&\" Annual Throughput (cubic yards)\"),\"\")","v":""}]
[null,null,null,null,null,null,null,null,null,null,null,null,"Truck","Central"]
[null,{"$f":"IF('Concrete Plant (CP-6)'!$D$4>7,\"Site Name:\",\"\")","v":""},null,null,null,null,null,{"$f":"IF(J147=\"cement delivery to silo\",\"CP-1 EP-2\",IF(J147=\"cement supplement delivery to silo\",\"CP-1 EP-3\",IF(J147=\"weigh hopper loading\",\"CP-1 EP-4\",IF(J147=\"truck mix loading\",\"CP-1 EP-5\",IF(J147=\"central mix loading\",\"CP-1 EP-6\",IF(J147=\"\",\"\",\"CP-1 EP-1\"))))))","v":""},{"$f":"IF(J147=\"\",\"\",IF(J147=\"aggregate delivery to ground storage\",\"CP-6 EU-1\",IF(J147=\"sand delivery to ground storage\",\"CP-6 EU-2\",IF(J147=\"aggregate transfer to conveyor\",\"CP-6 EU-3\",IF(J147=\"sand transfer to conveyor\",\"CP-6 EU-4\",IF(J147=\"aggregate transfer to elevated storage\",\"CP-6 EU-5\",IF(J147=\"sand transfer to elevated storage\",\"CP-6 EU-6\",IF(J147=\"weigh hopper loading\",\"CP-6 EU-7\",IF(J147=\"central mix loading\",\"CP-6 EU-8\",IF(J147=\"truck mix loading\",\"CP-6 EU-9\",IF(J147=\"cement delivery to silo\",\"CP-6 EU-10\",IF(J147=\"cement supplement delivery to silo\",\"CP-6 EU-11\"))))))))))))","v":""},null,null,null,{"$f":"IF(J147=\"truck mix loading\",IF($F$150=\"yes\",L147*0.05/2000,L147/2000),\"\")","v":""},{"$f":"IF(J147=\"central mix loading\",IF($F$150=\"yes\",L147*0.05/2000,L147/2000),\"\")","v":""}]
[null,{"$f":"IF('Concrete Plant (CP-6)'!$D$4>7,\"County:\",\"\")","v":""},null,null,null,null,null,{"$f":"IF(J148=\"cement delivery to silo\",\"CP-1 EP-2\",IF(J148=\"cement supplement delivery to silo\",\"CP-1 EP-3\",IF(J148=\"weigh hopper loading\",\"CP-1 EP-4\",IF(J148=\"truck mix loading\",\"CP-1 EP-5\",IF(J148=\"central mix loading\",\"CP-1 EP-6\",IF(J148=\"\",\"\",\"CP-1 EP-1\"))))))","v":""},"",null,null,null,{"$f":"IF(J148=\"truck mix loading\",IF($F$150=\"yes\",L148*0.05/2000,L148/2000),\"\")","v":""},{"$f":"IF(J148=\"central mix loading\",IF($F$150=\"yes\",L148*0.05/2000,L148/2000),\"\")","v":""}]
[null,{"$f":"IF('Concrete Plant (CP-6)'!$D$4>7,\"Batching Period (Dates):\",\"\")","v":""},null,null,null,null,null,"","",null,null,null,"",""]
[null,{"$f":"IF(OR(COUNTIF(J147:J156,\"Truck Mix Loading\")>0,(COUNTIF(J147:J156,\"Central Mix Loading\")>0)),\"Is the Central/Truck Mix Loading process controlled by a baghouse?\",\"\")","v":""},null,null,null,null,null,"","",null,null,null,"",""]
[null,null,null,null,null,null,null,"","",null,null,null,"",""]
[null,{"$f":"IF(AND(B154=\"\",B155=\"\",B156=\"\",B157=\"\",B158=\"\"),\"\",\"Process (complete stack information if applicable):\")","v":""},{"$f":"IF(AND(B154=\"\",B155=\"\",B156=\"\",B157=\"\",B158=\"\"),\"\",\"Stack Height (ft):\")","v":""},{"$f":"IF(AND(B154=\"\",B155=\"\",B156=\"\",B157=\"\",B158=\"\"),\"\",\"Stack Diameter (inches):\")","v":""},{"$f":"IF(AND(B154=\"\",B155=\"\",B156=\"\",B157=\"\",B158=\"\"),\"\",\"Flow Rate (acfm):\")","v":""},{"$f":"IF(AND(B154=\"\",B155=\"\",B156=\"\",B157=\"\",B158=\"\"),\"\",\"Temperature (Deg F):\")","v":""},null,"","",null,null,null,"",""]
[null,null,null,null,null,null,null,"","",null,null,null,"",""]
[null,{"$f":"IF(COUNTIF(J147:J156,\"Cement Delivery to Silo\")>0,\"EP-2 Cement Silo Stack:\",\"\")","v":""},null,null,null,null,null,"","",null,null,null,"",""]
[null,{"$f":"IF(COUNTIF(J147:J156,\"Cement Supplement Delivery to Silo\")>0,\"EP-3 Cement Supplement Silo Stack:\",\"\")","v":""},null,null,null,null,null,"","",null,null,null,"",""]
[null,{"$f":"IF(COUNTIF(J147:J156,\"Weigh Hopper Loading\")>0,\"EP-4 Weigh Hopper Loading Stack:\",\"\")","v":""},null,null,null,null,null,"","",null,null,null,"",""]
[null,{"$f":"IF(COUNTIF(J147:J156,\"Truck Mix Loading\")>0,\"EP-5 Truck Mix Loading Stack:\",\"\")","v":""}]
[null,{"$f":"IF(COUNTIF(J147:J156,\"Central Mix Loading\")>0,\"EP-6 Central Mix Loading Stack:\",\"\")","v":""},null,null,null,null,null,{"$f":"IF('Concrete Plant (CP-6)'!$D$4>7,\"Stock Pile Area\",\"\")","v":""}]
[null,null,null,null,null,null,null,null,{"$f":"IF('Concrete Plant (CP-6)'!$D$4>7,\"Emission Unit #\",\"\")","v":""},{"$f":"IF('Concrete Plant (CP-6)'!$D$4>7,\"Maximum Storage Area (acres)\",\"\")","v":""},{"$f":"IF('Concrete Plant (CP-6)'!$D$4>7,\"Actual Storage Area (acres)\",\"\")","v":""},{"$f":"IF('Concrete Plant (CP-6)'!$D$4>7,\"Actual Days in Existence (days)\",\"\")","v":""}]
[]
[]
[]
[null,{"$f":"IF('Concrete Plant (CP-6)'!$D$4>8,\"Batch Plant\",\"\")","v":""},{"$f":"IF('Concrete Plant (CP-6)'!$D$4>8,\"Site 9\",\"\")","v":""},null,null,null,null,{"$f":"IF('Concrete Plant (CP-6)'!$D$4>8,\"Emission Point #\",\"\")","v":""},{"$f":"IF('Concrete Plant (CP-6)'!$D$4>8,\"Emission     Unit #\",\"\")","v":""},{"$f":"IF('Concrete Plant (CP-6)'!$D$4>8,\"Processes\",\"\")","v":""},{"$f":"IF('Concrete Plant (CP-6)'!$D$4>8,\"Combined Maximum Hourly Design Rate for all Like Processes (cubic yard/hr)\",\"\")","v":""},{"$f":"IF('Concrete Plant (CP-6)'!$D$4>8,('Facility Information'!G5&\" Annual Throughput (cubic yards)\"),\"\")","v":""}]
[null,null,null,null,null,null,null,null,null,null,null,null,"Truck","Central"]
[null,{"$f":"IF('Concrete Plant (CP-6)'!$D$4>8,\"Site Name:\",\"\")","v":""},null,null,null,null,null,{"$f":"IF(J165=\"cement delivery to silo\",\"CP-1 EP-2\",IF(J165=\"cement supplement delivery to silo\",\"CP-1 EP-3\",IF(J165=\"weigh hopper loading\",\"CP-1 EP-4\",IF(J165=\"truck mix loading\",\"CP-1 EP-5\",IF(J165=\"central mix loading\",\"CP-1 EP-6\",IF(J165=\"\",\"\",\"CP-1 EP-1\"))))))","v":""},{"$f":"IF(J165=\"\",\"\",IF(J165=\"aggregate delivery to ground storage\",\"CP-6 EU-1\",IF(J165=\"sand delivery to ground storage\",\"CP-6 EU-2\",IF(J165=\"aggregate transfer to conveyor\",\"CP-6 EU-3\",IF(J165=\"sand transfer to conveyor\",\"CP-6 EU-4\",IF(J165=\"aggregate transfer to elevated storage\",\"CP-6 EU-5\",IF(J165=\"sand transfer to elevated storage\",\"CP-6 EU-6\",IF(J165=\"weigh hopper loading\",\"CP-6 EU-7\",IF(J165=\"central mix loading\",\"CP-6 EU-8\",IF(J165=\"truck mix loading\",\"CP-6 EU-9\",IF(J165=\"cement delivery to silo\",\"CP-6 EU-10\",IF(J165=\"cement supplement delivery to silo\",\"CP-6 EU-11\"))))))))))))","v":""},null,null,null,{"$f":"IF(J165=\"truck mix loading\",IF($F$168=\"yes\",L165*0.05/2000,L165/2000),\"\")","v":""},{"$f":"IF(J165=\"central mix loading\",IF($F$168=\"yes\",L165*0.05/2000,L165/2000),\"\")","v":""}]
[null,{"$f":"IF('Concrete Plant (CP-6)'!$D$4>8,\"County:\",\"\")","v":""},null,null,null,null,null,{"$f":"IF(J166=\"cement delivery to silo\",\"CP-1 EP-2\",IF(J166=\"cement supplement delivery to silo\",\"CP-1 EP-3\",IF(J166=\"weigh hopper loading\",\"CP-1 EP-4\",IF(J166=\"truck mix loading\",\"CP-1 EP-5\",IF(J166=\"central mix loading\",\"CP-1 EP-6\",IF(J166=\"\",\"\",\"CP-1 EP-1\"))))))","v":""},"",null,null,null,{"$f":"IF(J166=\"truck mix loading\",IF($F$168=\"yes\",L166*0.05/2000,L166/2000),\"\")","v":""},{"$f":"IF(J166=\"central mix loading\",IF($F$168=\"yes\",L166*0.05/2000,L166/2000),\"\")","v":""}]
[null,{"$f":"IF('Concrete Plant (CP-6)'!$D$4>8,\"Batching Period (Dates):\",\"\")","v":""},null,null,null,null,null,"","",null,null,null,"",""]
[null,{"$f":"IF(OR(COUNTIF(J165:J174,\"Truck Mix Loading\")>0,(COUNTIF(J165:J174,\"Central Mix Loading\")>0)),\"Is the Central/Truck Mix Loading process controlled by a baghouse?\",\"\")","v":""},null,null,null,null,null,"","",null,null,null,"",""]
[null,null,null,null,null,null,null,"","",null,null,null,"",""]
[null,{"$f":"IF(AND(B172=\"\",B173=\"\",B174=\"\",B175=\"\",B176=\"\"),\"\",\"Process (complete stack information if applicable):\")","v":""},{"$f":"IF(AND(B172=\"\",B173=\"\",B174=\"\",B175=\"\",B176=\"\"),\"\",\"Stack Height (ft):\")","v":""},{"$f":"IF(AND(B172=\"\",B173=\"\",B174=\"\",B175=\"\",B176=\"\"),\"\",\"Stack Diameter (inches):\")","v":""},{"$f":"IF(AND(B172=\"\",B173=\"\",B174=\"\",B175=\"\",B176=\"\"),\"\",\"Flow Rate (acfm):\")","v":""},{"$f":"IF(AND(B172=\"\",B173=\"\",B174=\"\",B175=\"\",B176=\"\"),\"\",\"Temperature (Deg F):\")","v":""},null,"","",null,null,null,"",""]
[null,null,null,null,null,null,null,"","",null,null,null,"",""]
[null,{"$f":"IF(COUNTIF(J165:J174,\"Cement Delivery to Silo\")>0,\"EP-2 Cement Silo Stack:\",\"\")","v":""},null,null,null,null,null,"","",null,null,null,"",""]
[null,{"$f":"IF(COUNTIF(J165:J174,\"Cement Supplement Delivery to Silo\")>0,\"EP-3 Cement Supplement Silo Stack:\",\"\")","v":""},null,null,null,null,null,"","",null,null,null,"",""]
[null,{"$f":"IF(COUNTIF(J165:J174,\"Weigh Hopper Loading\")>0,\"EP-4 Weigh Hopper Loading Stack:\",\"\")","v":""},null,null,null,null,null,"","",null,null,null,"",""]
[null,{"$f":"IF(COUNTIF(J165:J174,\"Truck Mix Loading\")>0,\"EP-5 Truck Mix Loading Stack:\",\"\")","v":""}]
[null,{"$f":"IF(COUNTIF(J165:J174,\"Central Mix Loading\")>0,\"EP-6 Central Mix Loading Stack:\",\"\")","v":""},null,null,null,null,null,{"$f":"IF('Concrete Plant (CP-6)'!$D$4>8,\"Stock Pile Area\",\"\")","v":""}]
[null,null,null,null,null,null,null,null,{"$f":"IF('Concrete Plant (CP-6)'!$D$4>8,\"Emission Unit #\",\"\")","v":""},{"$f":"IF('Concrete Plant (CP-6)'!$D$4>8,\"Maximum Storage Area (acres)\",\"\")","v":""},{"$f":"IF('Concrete Plant (CP-6)'!$D$4>8,\"Actual Storage Area (acres)\",\"\")","v":""},{"$f":"IF('Concrete Plant (CP-6)'!$D$4>8,\"Actual Days in Existence (days)\",\"\")","v":""}]
[]
[]
[]
[null,{"$f":"IF('Concrete Plant (CP-6)'!$D$4>9,\"Batch Plant\",\"\")","v":""},{"$f":"IF('Concrete Plant (CP-6)'!$D$4>9,\"Site 10\",\"\")","v":""},null,null,null,null,{"$f":"IF('Concrete Plant (CP-6)'!$D$4>9,\"Emission Point #\",\"\")","v":""},{"$f":"IF('Concrete Plant (CP-6)'!$D$4>9,\"Emission     Unit #\",\"\")","v":""},{"$f":"IF('Concrete Plant (CP-6)'!$D$4>9,\"Processes\",\"\")","v":""},{"$f":"IF('Concrete Plant (CP-6)'!$D$4>9,\"Combined Maximum Hourly Design Rate for all Like Processes (cubic yard/hr)\",\"\")","v":""},{"$f":"IF('Concrete Plant (CP-6)'!$D$4>9,('Facility Information'!G5&\" Annual Throughput (cubic yards)\"),\"\")","v":""}]
[null,null,null,null,null,null,null,null,null,null,null,null,"Truck","Central"]
[null,{"$f":"IF('Concrete Plant (CP-6)'!$D$4>9,\"Site Name:\",\"\")","v":""},null,null,null,null,null,{"$f":"IF(J183=\"cement delivery to silo\",\"CP-1 EP-2\",IF(J183=\"cement supplement delivery to silo\",\"CP-1 EP-3\",IF(J183=\"weigh hopper loading\",\"CP-1 EP-4\",IF(J183=\"truck mix loading\",\"CP-1 EP-5\",IF(J183=\"central mix loading\",\"CP-1 EP-6\",IF(J183=\"\",\"\",\"CP-1 EP-1\"))))))","v":""},{"$f":"IF(J183=\"\",\"\",IF(J183=\"aggregate delivery to ground storage\",\"CP-6 EU-1\",IF(J183=\"sand delivery to ground storage\",\"CP-6 EU-2\",IF(J183=\"aggregate transfer to conveyor\",\"CP-6 EU-3\",IF(J183=\"sand transfer to conveyor\",\"CP-6 EU-4\",IF(J183=\"aggregate transfer to elevated storage\",\"CP-6 EU-5\",IF(J183=\"sand transfer to elevated storage\",\"CP-6 EU-6\",IF(J183=\"weigh hopper loading\",\"CP-6 EU-7\",IF(J183=\"central mix loading\",\"CP-6 EU-8\",IF(J183=\"truck mix loading\",\"CP-6 EU-9\",IF(J183=\"cement delivery to silo\",\"CP-6 EU-10\",IF(J183=\"cement supplement delivery to silo\",\"CP-6 EU-11\"))))))))))))","v":""},null,null,null,{"$f":"IF(J183=\"truck mix loading\",IF($F$186=\"yes\",L183*0.05/2000,L183/2000),\"\")","v":""},{"$f":"IF(J183=\"central mix loading\",IF($F$186=\"yes\",L183*0.05/2000,L183/2000),\"\")","v":""}]
[null,{"$f":"IF('Concrete Plant (CP-6)'!$D$4>9,\"County:\",\"\")","v":""},null,null,null,null,null,{"$f":"IF(J184=\"cement delivery to silo\",\"CP-1 EP-2\",IF(J184=\"cement supplement delivery to silo\",\"CP-1 EP-3\",IF(J184=\"weigh hopper loading\",\"CP-1 EP-4\",IF(J184=\"truck mix loading\",\"CP-1 EP-5\",IF(J184=\"central mix loading\",\"CP-1 EP-6\",IF(J184=\"\",\"\",\"CP-1 EP-1\"))))))","v":""},"",null,null,null,{"$f":"IF(J184=\"truck mix loading\",IF($F$186=\"yes\",L184*0.05/2000,L184/2000),\"\")","v":""},{"$f":"IF(J184=\"central mix loading\",IF($F$186=\"yes\",L184*0.05/2000,L184/2000),\"\")","v":""}]
[null,{"$f":"IF('Concrete Plant (CP-6)'!$D$4>9,\"Batching Period (Dates):\",\"\")","v":""},null,null,null,null,null,"","",null,null,null,"",""]
[null,{"$f":"IF(OR(COUNTIF(J183:J192,\"Truck Mix Loading\")>0,(COUNTIF(J183:J192,\"Central Mix Loading\")>0)),\"Is the Central/Truck Mix Loading process controlled by a baghouse?\",\"\")","v":""},null,null,null,null,null,"","",null,null,null,"",""]
[null,null,null,null,null,null,null,"","",null,null,null,"",""]
[null,{"$f":"IF(AND(B190=\"\",B191=\"\",B192=\"\",B193=\"\",B194=\"\"),\"\",\"Process (complete stack information if applicable):\")","v":""},{"$f":"IF(AND(B190=\"\",B191=\"\",B192=\"\",B193=\"\",B194=\"\"),\"\",\"Stack Height (ft):\")","v":""},{"$f":"IF(AND(B190=\"\",B191=\"\",B192=\"\",B193=\"\",B194=\"\"),\"\",\"Stack Diameter (inches):\")","v":""},{"$f":"IF(AND(B190=\"\",B191=\"\",B192=\"\",B193=\"\",B194=\"\"),\"\",\"Flow Rate (acfm):\")","v":""},{"$f":"IF(AND(B190=\"\",B191=\"\",B192=\"\",B193=\"\",B194=\"\"),\"\",\"Temperature (Deg F):\")","v":""},null,"","",null,null,null,"",""]
[null,null,null,null,null,null,null,"","",null,null,null,"",""]
[null,{"$f":"IF(COUNTIF(J183:J192,\"Cement Delivery to Silo\")>0,\"EP-2 Cement Silo Stack:\",\"\")","v":""},null,null,null,null,null,"","",null,null,null,"",""]
[null,{"$f":"IF(COUNTIF(J183:J192,\"Cement Supplement Delivery to Silo\")>0,\"EP-3 Cement Supplement Silo Stack:\",\"\")","v":""},null,null,null,null,null,"","",null,null,null,"",""]
[null,{"$f":"IF(COUNTIF(J183:J192,\"Weigh Hopper Loading\")>0,\"EP-4 Weigh Hopper Loading Stack:\",\"\")","v":""},null,null,null,null,null,"","",null,null,null,"",""]
[null,{"$f":"IF(COUNTIF(J183:J192,\"Truck Mix Loading\")>0,\"EP-5 Truck Mix Loading Stack:\",\"\")","v":""}]
[null,{"$f":"IF(COUNTIF(J183:J192,\"Central Mix Loading\")>0,\"EP-6 Central Mix Loading Stack:\",\"\")","v":""},null,null,null,null,null,{"$f":"IF('Concrete Plant (CP-6)'!$D$4>9,\"Stock Pile Area\",\"\")","v":""}]
[null,null,null,null,null,null,null,null,{"$f":"IF('Concrete Plant (CP-6)'!$D$4>9,\"Emission Unit #\",\"\")","v":""},{"$f":"IF('Concrete Plant (CP-6)'!$D$4>9,\"Maximum Storage Area (acres)\",\"\")","v":""},{"$f":"IF('Concrete Plant (CP-6)'!$D$4>9,\"Actual Storage Area (acres)\",\"\")","v":""},{"$f":"IF('Concrete Plant (CP-6)'!$D$4>9,\"Actual Days in Existence (days)\",\"\")","v":""}]
[]
[]
[null,null,null,null,null,null,null,null,null,null,null,null,{"$f":"SUM(M183:M192,M165:M174,M147:M156,M129:M138,M111:M120,M93:M102,M75:M84,M57:M66,M39:M48,M21:M30)","v":0},{"$f":"SUM(N183:N192,N165:N174,N147:N156,N129:N138,N111:N120,N93:N102,N75:N84,N57:N66,N39:N48,N21:N30)","v":0}]

{"sheet":"Concrete Plant (CP-7)","index":7,"n_rows":198,"n_cols":23,"rows_kept":198,"cut":false,"hidden":true,"merged":[[133,5,134,5],[115,5,116,5],[97,5,98,5],[79,5,80,5],[61,1,62,1],[61,2,62,2],[61,3,62,3],[61,4,62,4],[61,5,62,5],[129,2,129,4],[128,2,128,4],[112,2,112,4],[111,2,111,4],[3,18,4,20],[23,1,23,4],[41,1,41,4],[59,1,59,4],[77,1,77,4],[95,1,95,4],[113,1,113,4],[25,1,26,1],[25,2,26,2],[25,3,26,3],[25,4,26,4],[43,1,44,1],[43,2,44,2],[79,1,80,1],[79,2,80,2],[79,3,80,3],[79,4,80,4],[115,1,116,1],[115,2,116,2],[115,3,116,3],[115,4,116,4],[97,1,98,1],[97,2,98,2],[97,3,98,3],[97,4,98,4],[187,5,188,5],[169,1,170,1],[169,2,170,2],[169,3,170,3],[169,4,170,4],[169,5,170,5],[185,1,185,4],[151,1,152,1],[151,2,152,2],[151,3,152,3],[151,4,152,4],[151,5,152,5],[164,2,164,4],[187,1,188,1],[187,2,188,2],[187,3,188,3],[187,4,188,4],[43,5,44,5],[25,5,26,5],[10,3,10,4],[9,3,9,4],[8,3,8,4],[11,1,13,4],[10,1,10,2],[9,1,9,2],[8,1,8,2],[110,2,110,4],[39,2,39,4],[38,2,38,4],[22,2,22,4],[21,2,21,4],[20,2,20,4],[74,2,74,4],[58,2,58,4],[57,2,57,4],[56,2,56,4],[40,2,40,4],[94,2,94,4],[93,2,93,4],[92,2,92,4],[76,2,76,4],[75,2,75,4],[43,3,44,3],[43,4,44,4],[148,2,148,4],[147,2,147,4],[146,2,146,4],[130,2,130,4],[184,2,184,4],[183,2,183,4],[182,2,182,4],[166,2,166,4],[165,2,165,4],[167,1,167,4],[133,1,134,1],[133,2,134,2],[133,3,134,3],[133,4,134,4],[131,1,131,4],[149,1,149,4],[2,17,3,17],[3,1,3,2],[20,16,21,16],[0,1,0,2],[1,10,1,11],[2,15,3,15],[2,16,3,16],[18,7,19,7],[18,8,19,8],[18,9,19,9],[18,10,19,10],[18,11,19,11],[1,1,1,4],[5,2,5,3],[36,7,37,7],[36,8,37,8],[36,9,37,9],[36,10,37,10],[36,11,37,11],[72,7,73,7],[72,8,73,8],[46,21,47,21],[20,17,21,17],[20,18,21,18],[20,19,21,19],[20,20,21,20],[20,21,21,21],[46,16,47,16],[46,17,47,17],[46,18,47,18],[46,19,47,19],[46,20,47,20],[72,9,73,9],[72,10,73,10],[72,11,73,11],[54,7,55,7],[54,8,55,8],[54,9,55,9],[54,10,55,10],[54,11,55,11],[108,7,109,7],[108,8,109,8],[108,9,109,9],[108,10,109,10],[108,11,109,11],[90,7,91,7],[90,8,91,8],[90,9,91,9],[90,10,91,10],[90,11,91,11],[144,7,145,7],[144,8,145,8],[144,9,145,9],[144,10,145,10],[144,11,145,11],[126,7,127,7],[126,8,127,8],[126,9,127,9],[126,10,127,10],[126,11,127,11],[180,7,181,7],[180,8,181,8],[180,9,181,9],[180,10,181,10],[180,11,181,11],[162,7,163,7],[162,8,163,8],[162,9,163,9],[162,10,163,10],[162,11,163,11]]}
[null,"CONCRETE BATCH PLANT (CP-7)"]
[null,"Please fill in the yellow boxes as applicable for your facility. ",null,null,null,null,null,null,null,null,"Values used for calculating emissions →",null,null,null,null,"Values Used to Calculate Potential and Actual Emissions for the Listed Processes at this Plant"]
[null,null,null,null,null,null,null,null,null,null,null,null,null,null,null,"Process","Maximum Design Rate (cubic yards/hr)","Actual throughput (cubic yards/yr)"]
[null,{"$f":"\"Number of Sites this Plant operated at in \"&'Facility Information'!G5&\":\"","v":"Number of Sites this Plant operated at in :"},null,null,null,null,null,null,null,null,null,null,null,null,null,null,null,null,"** As of 2016 Potential Emissions are no longer required to be reported in the Minor Source Emissions Inventory**"]
[null,null,null,null,null,null,null,null,null,null,null,null,null,null,null,"Aggregate Delivery to Ground Storage",{"$f":"MAX((IFERROR(OFFSET($J$20,MATCH(\"Aggregate Delivery to Ground Storage\",$J$21:$J$30,0),1),0)),((IFERROR((OFFSET($J$38,MATCH(\"Aggregate Delivery to Ground Storage\",$J$39:$J$48,0),1)),0))),((IFERROR((OFFSET($J$56,MATCH(\"Aggregate Delivery to Ground Storage\",$J$57:$J$66,0),1)),0))),((IFERROR((OFFSET($J$74,MATCH(\"Aggregate Delivery to Ground Storage\",$J$75:$J$84,0),1)),0))),((IFERROR((OFFSET($J$92,MATCH(\"Aggregate Delivery to Ground Storage\",$J$93:$J$102,0),1)),0))),((IFERROR((OFFSET($J$110,MATCH(\"Aggregate Delivery to Ground Storage\",$J$111:$J$120,0),1)),0))),((IFERROR((OFFSET($J$128,MATCH(\"Aggregate Delivery to Ground Storage\",$J$129:$J$138,0),1)),0))),((IFERROR((OFFSET($J$146,MATCH(\"Aggregate Delivery to Ground Storage\",$J$147:$J$156,0),1)),0))),((IFERROR((OFFSET($J$164,MATCH(\"Aggregate Delivery to Ground Storage\",$J$165:$J$174,0),1)),0))),((IFERROR((OFFSET($J$181,MATCH(\"Aggregate Delivery to Ground Storage\",$J$183:$J$192,0),1)),0))),)","v":0},{"$f":"SUM((IFERROR(OFFSET($J$20,MATCH(\"Aggregate Delivery to Ground Storage\",$J$21:$J$30,0),2),0)),((IFERROR((OFFSET($J$38,MATCH(\"Aggregate Delivery to Ground Storage\",$J$39:$J$48,0),2)),0))),((IFERROR((OFFSET($J$56,MATCH(\"Aggregate Delivery to Ground Storage\",$J$57:$J$66,0),2)),0))),((IFERROR((OFFSET($J$74,MATCH(\"Aggregate Delivery to Ground Storage\",$J$75:$J$84,0),2)),0))),((IFERROR((OFFSET($J$92,MATCH(\"Aggregate Delivery to Ground Storage\",$J$93:$J$102,0),2)),0))),((IFERROR((OFFSET($J$110,MATCH(\"Aggregate Delivery to Ground Storage\",$J$111:$J$120,0),2)),0))),((IFERROR((OFFSET($J$128,MATCH(\"Aggregate Delivery to Ground Storage\",$J$129:$J$138,0),2)),0))),((IFERROR((OFFSET($J$146,MATCH(\"Aggregate Delivery to Ground Storage\",$J$147:$J$156,0),2)),0))),((IFERROR((OFFSET($J$164,MATCH(\"Aggregate Delivery to Ground Storage\",$J$165:$J$174,0),2)),0))),((IFERROR((OFFSET($J$181,MATCH(\"Aggregate Delivery to Ground Storage\",$J$183:$J$192,0),2)),0))))","v":0}]
[null,"Plant Specific Permit Number: ",null,null,null,null,null,null,null,null,null,null,null,null,null,"Sand Delivery to Ground Storage",{"$f":"MAX((IFERROR(OFFSET($J$20,MATCH(\"Sand Delivery to Ground Storage\",$J$21:$J$30,0),1),0)),((IFERROR((OFFSET($J$38,MATCH(\"Sand Delivery to Ground Storage\",$J$39:$J$48,0),1)),0))),((IFERROR((OFFSET($J$56,MATCH(\"Sand Delivery to Ground Storage\",$J$57:$J$66,0),1)),0))),((IFERROR((OFFSET($J$74,MATCH(\"Sand Delivery to Ground Storage\",$J$75:$J$84,0),1)),0))),((IFERROR((OFFSET($J$92,MATCH(\"Sand Delivery to Ground Storage\",$J$93:$J$102,0),1)),0))),((IFERROR((OFFSET($J$110,MATCH(\"Sand Delivery to Ground Storage\",$J$111:$J$120,0),1)),0))),((IFERROR((OFFSET($J$128,MATCH(\"Sand Delivery to Ground Storage\",$J$129:$J$138,0),1)),0))),((IFERROR((OFFSET($J$146,MATCH(\"Sand Delivery to Ground Storage\",$J$147:$J$156,0),1)),0))),((IFERROR((OFFSET($J$164,MATCH(\"Sand Delivery to Ground Storage\",$J$165:$J$174,0),1)),0))),((IFERROR((OFFSET($J$181,MATCH(\"Sand Delivery to Ground Storage\",$J$183:$J$192,0),1)),0))),)","v":0},{"$f":"SUM((IFERROR(OFFSET($J$20,MATCH(\"Sand Delivery to Ground Storage\",$J$21:$J$30,0),2),0)),((IFERROR((OFFSET($J$38,MATCH(\"Sand Delivery to Ground Storage\",$J$39:$J$48,0),2)),0))),((IFERROR((OFFSET($J$56,MATCH(\"Sand Delivery to Ground Storage\",$J$57:$J$66,0),2)),0))),((IFERROR((OFFSET($J$74,MATCH(\"Sand Delivery to Ground Storage\",$J$75:$J$84,0),2)),0))),((IFERROR((OFFSET($J$92,MATCH(\"Sand Delivery to Ground Storage\",$J$93:$J$102,0),2)),0))),((IFERROR((OFFSET($J$110,MATCH(\"Sand Delivery to Ground Storage\",$J$111:$J$120,0),2)),0))),((IFERROR((OFFSET($J$128,MATCH(\"Sand Delivery to Ground Storage\",$J$129:$J$138,0),2)),0))),((IFERROR((OFFSET($J$146,MATCH(\"Sand Delivery to Ground Storage\",$J$147:$J$156,0),2)),0))),((IFERROR((OFFSET($J$164,MATCH(\"Sand Delivery to Ground Storage\",$J$165:$J$174,0),2)),0))),((IFERROR((OFFSET($J$181,MATCH(\"Sand Delivery to Ground Storage\",$J$183:$J$192,0),2)),0))))","v":0}]
[null,null,null,null,null,null,null,null,null,null,null,null,null,null,null,"Aggregate Transfer to Conveyor",{"$f":"MAX((IFERROR(OFFSET($J$20,MATCH(\"Aggregate Transfer to Conveyor\",$J$21:$J$30,0),1),0)),((IFERROR((OFFSET($J$38,MATCH(\"Aggregate Transfer to Conveyor\",$J$39:$J$48,0),1)),0))),((IFERROR((OFFSET($J$56,MATCH(\"Aggregate Transfer to Conveyor\",$J$57:$J$66,0),1)),0))),((IFERROR((OFFSET($J$74,MATCH(\"Aggregate Transfer to Conveyor\",$J$75:$J$84,0),1)),0))),((IFERROR((OFFSET($J$92,MATCH(\"Aggregate Transfer to Conveyor\",$J$93:$J$102,0),1)),0))),((IFERROR((OFFSET($J$110,MATCH(\"Aggregate Transfer to Conveyor\",$J$111:$J$120,0),1)),0))),((IFERROR((OFFSET($J$128,MATCH(\"Aggregate Transfer to Conveyor\",$J$129:$J$138,0),1)),0))),((IFERROR((OFFSET($J$146,MATCH(\"Aggregate Transfer to Conveyor\",$J$147:$J$156,0),1)),0))),((IFERROR((OFFSET($J$164,MATCH(\"Aggregate Transfer to Conveyor\",$J$165:$J$174,0),1)),0))),((IFERROR((OFFSET($J$181,MATCH(\"Aggregate Transfer to Conveyor\",$J$183:$J$192,0),1)),0))),)","v":0},{"$f":"SUM((IFERROR(OFFSET($J$20,MATCH(\"Aggregate Transfer to Conveyor\",$J$21:$J$30,0),2),0)),((IFERROR((OFFSET($J$38,MATCH(\"Aggregate Transfer to Conveyor\",$J$39:$J$48,0),2)),0))),((IFERROR((OFFSET($J$56,MATCH(\"Aggregate Transfer to Conveyor\",$J$57:$J$66,0),2)),0))),((IFERROR((OFFSET($J$74,MATCH(\"Aggregate Transfer to Conveyor\",$J$75:$J$84,0),2)),0))),((IFERROR((OFFSET($J$92,MATCH(\"Aggregate Transfer to Conveyor\",$J$93:$J$102,0),2)),0))),((IFERROR((OFFSET($J$110,MATCH(\"Aggregate Transfer to Conveyor\",$J$111:$J$120,0),2)),0))),((IFERROR((OFFSET($J$128,MATCH(\"Aggregate Transfer to Conveyor\",$J$129:$J$138,0),2)),0))),((IFERROR((OFFSET($J$146,MATCH(\"Aggregate Transfer to Conveyor\",$J$147:$J$156,0),2)),0))),((IFERROR((OFFSET($J$164,MATCH(\"Aggregate Transfer to Conveyor\",$J$165:$J$174,0),2)),0))),((IFERROR((OFFSET($J$181,MATCH(\"Aggregate Transfer to Conveyor\",$J$183:$J$192,0),2)),0))))","v":0}]
[null,"Plant Specific Operating Limits:",null,null,null,null,null,"Plant Specific Emission Limits:",null,null,null,null,null,null,null,"Sand Transfer to Conveyor",{"$f":"MAX((IFERROR(OFFSET($J$20,MATCH(\"Sand Transfer to Conveyor\",$J$21:$J$30,0),1),0)),((IFERROR((OFFSET($J$38,MATCH(\"Sand Transfer to Conveyor\",$J$39:$J$48,0),1)),0))),((IFERROR((OFFSET($J$56,MATCH(\"Sand Transfer to Conveyor\",$J$57:$J$66,0),1)),0))),((IFERROR((OFFSET($J$74,MATCH(\"Sand Transfer to Conveyor\",$J$75:$J$84,0),1)),0))),((IFERROR((OFFSET($J$92,MATCH(\"Sand Transfer to Conveyor\",$J$93:$J$102,0),1)),0))),((IFERROR((OFFSET($J$110,MATCH(\"Sand Transfer to Conveyor\",$J$111:$J$120,0),1)),0))),((IFERROR((OFFSET($J$128,MATCH(\"Sand Transfer to Conveyor\",$J$129:$J$138,0),1)),0))),((IFERROR((OFFSET($J$146,MATCH(\"Sand Transfer to Conveyor\",$J$147:$J$156,0),1)),0))),((IFERROR((OFFSET($J$164,MATCH(\"Sand Transfer to Conveyor\",$J$165:$J$174,0),1)),0))),((IFERROR((OFFSET($J$181,MATCH(\"Sand Transfer to Conveyor\",$J$183:$J$192,0),1)),0))),)","v":0},{"$f":"SUM((IFERROR(OFFSET($J$20,MATCH(\"Sand Transfer to Conveyor\",$J$21:$J$30,0),2),0)),((IFERROR((OFFSET($J$38,MATCH(\"Sand Transfer to Conveyor\",$J$39:$J$48,0),2)),0))),((IFERROR((OFFSET($J$56,MATCH(\"Sand Transfer to Conveyor\",$J$57:$J$66,0),2)),0))),((IFERROR((OFFSET($J$74,MATCH(\"Sand Transfer to Conveyor\",$J$75:$J$84,0),2)),0))),((IFERROR((OFFSET($J$92,MATCH(\"Sand Transfer to Conveyor\",$J$93:$J$102,0),2)),0))),((IFERROR((OFFSET($J$110,MATCH(\"Sand Transfer to Conveyor\",$J$111:$J$120,0),2)),0))),((IFERROR((OFFSET($J$128,MATCH(\"Sand Transfer to Conveyor\",$J$129:$J$138,0),2)),0))),((IFERROR((OFFSET($J$146,MATCH(\"Sand Transfer to Conveyor\",$J$147:$J$156,0),2)),0))),((IFERROR((OFFSET($J$164,MATCH(\"Sand Transfer to Conveyor\",$J$165:$J$174,0),2)),0))),((IFERROR((OFFSET($J$181,MATCH(\"Sand Transfer to Conveyor\",$J$183:$J$192,0),2)),0))))","v":0}]
[null,"Throughput Limit (cubic yards/yr):",null,null,null,null,null,"Pollutant","lb/hr","tons/yr",null,null,null,null,null,"Aggregate Transfer to Elevated Storage",{"$f":"MAX((IFERROR(OFFSET($J$20,MATCH(\"Aggregate Transfer to Elevated Storage\",$J$21:$J$30,0),1),0)),((IFERROR((OFFSET($J$38,MATCH(\"Aggregate Transfer to Elevated Storage\",$J$39:$J$48,0),1)),0))),((IFERROR((OFFSET($J$56,MATCH(\"Aggregate Transfer to Elevated Storage\",$J$57:$J$66,0),1)),0))),((IFERROR((OFFSET($J$74,MATCH(\"Aggregate Transfer to Elevated Storage\",$J$75:$J$84,0),1)),0))),((IFERROR((OFFSET($J$92,MATCH(\"Aggregate Transfer to Elevated Storage\",$J$93:$J$102,0),1)),0))),((IFERROR((OFFSET($J$110,MATCH(\"Aggregate Transfer to Elevated Storage\",$J$111:$J$120,0),1)),0))),((IFERROR((OFFSET($J$128,MATCH(\"Aggregate Transfer to Elevated Storage\",$J$129:$J$138,0),1)),0))),((IFERROR((OFFSET($J$146,MATCH(\"Aggregate Transfer to Elevated Storage\",$J$147:$J$156,0),1)),0))),((IFERROR((OFFSET($J$164,MATCH(\"Aggregate Transfer to Elevated Storage\",$J$165:$J$174,0),1)),0))),((IFERROR((OFFSET($J$181,MATCH(\"Aggregate Transfer to Elevated Storage\",$J$183:$J$192,0),1)),0))),)","v":0},{"$f":"SUM((IFERROR(OFFSET($J$20,MATCH(\"Aggregate Transfer to Elevated Storage\",$J$21:$J$30,0),2),0)),((IFERROR((OFFSET($J$38,MATCH(\"Aggregate Transfer to Elevated Storage\",$J$39:$J$48,0),2)),0))),((IFERROR((OFFSET($J$56,MATCH(\"Aggregate Transfer to Elevated Storage\",$J$57:$J$66,0),2)),0))),((IFERROR((OFFSET($J$74,MATCH(\"Aggregate Transfer to Elevated Storage\",$J$75:$J$84,0),2)),0))),((IFERROR((OFFSET($J$92,MATCH(\"Aggregate Transfer to Elevated Storage\",$J$93:$J$102,0),2)),0))),((IFERROR((OFFSET($J$110,MATCH(\"Aggregate Transfer to Elevated Storage\",$J$111:$J$120,0),2)),0))),((IFERROR((OFFSET($J$128,MATCH(\"Aggregate Transfer to Elevated Storage\",$J$129:$J$138,0),2)),0))),((IFERROR((OFFSET($J$146,MATCH(\"Aggregate Transfer to Elevated Storage\",$J$147:$J$156,0),2)),0))),((IFERROR((OFFSET($J$164,MATCH(\"Aggregate Transfer to Elevated Storage\",$J$165:$J$174,0),2)),0))),((IFERROR((OFFSET($J$181,MATCH(\"Aggregate Transfer to Elevated Storage\",$J$183:$J$192,0),2)),0))))","v":0}]
[null,"Daily Throughput Limit (cubic yards/day):",null,null,null,null,null,"PM2.5",null,null,null,null,null,null,null,"Sand Transfer to Elevated Storage",{"$f":"MAX((IFERROR(OFFSET($J$20,MATCH(\"Sand Transfer to Elevated Storage\",$J$21:$J$30,0),1),0)),((IFERROR((OFFSET($J$38,MATCH(\"Sand Transfer to Elevated Storage\",$J$39:$J$48,0),1)),0))),((IFERROR((OFFSET($J$56,MATCH(\"Sand Transfer to Elevated Storage\",$J$57:$J$66,0),1)),0))),((IFERROR((OFFSET($J$74,MATCH(\"Sand Transfer to Elevated Storage\",$J$75:$J$84,0),1)),0))),((IFERROR((OFFSET($J$92,MATCH(\"Sand Transfer to Elevated Storage\",$J$93:$J$102,0),1)),0))),((IFERROR((OFFSET($J$110,MATCH(\"Sand Transfer to Elevated Storage\",$J$111:$J$120,0),1)),0))),((IFERROR((OFFSET($J$128,MATCH(\"Sand Transfer to Elevated Storage\",$J$129:$J$138,0),1)),0))),((IFERROR((OFFSET($J$146,MATCH(\"Sand Transfer to Elevated Storage\",$J$147:$J$156,0),1)),0))),((IFERROR((OFFSET($J$164,MATCH(\"Sand Transfer to Elevated Storage\",$J$165:$J$174,0),1)),0))),((IFERROR((OFFSET($J$181,MATCH(\"Sand Transfer to Elevated Storage\",$J$183:$J$192,0),1)),0))),)","v":0},{"$f":"SUM((IFERROR(OFFSET($J$20,MATCH(\"Sand Transfer to Elevated Storage\",$J$21:$J$30,0),2),0)),((IFERROR((OFFSET($J$38,MATCH(\"Sand Transfer to Elevated Storage\",$J$39:$J$48,0),2)),0))),((IFERROR((OFFSET($J$56,MATCH(\"Sand Transfer to Elevated Storage\",$J$57:$J$66,0),2)),0))),((IFERROR((OFFSET($J$74,MATCH(\"Sand Transfer to Elevated Storage\",$J$75:$J$84,0),2)),0))),((IFERROR((OFFSET($J$92,MATCH(\"Sand Transfer to Elevated Storage\",$J$93:$J$102,0),2)),0))),((IFERROR((OFFSET($J$110,MATCH(\"Sand Transfer to Elevated Storage\",$J$111:$J$120,0),2)),0))),((IFERROR((OFFSET($J$128,MATCH(\"Sand Transfer to Elevated Storage\",$J$129:$J$138,0),2)),0))),((IFERROR((OFFSET($J$146,MATCH(\"Sand Transfer to Elevated Storage\",$J$147:$J$156,0),2)),0))),((IFERROR((OFFSET($J$164,MATCH(\"Sand Transfer to Elevated Storage\",$J$165:$J$174,0),2)),0))),((IFERROR((OFFSET($J$181,MATCH(\"Sand Transfer to Elevated Storage\",$J$183:$J$192,0),2)),0))))","v":0}]
[null,"Hours of Operation Limit (hours/day):",null,null,null,null,null,"PM10",null,null,null,null,null,null,null,"Weigh Hopper Loading",{"$f":"MAX((IFERROR(OFFSET($J$20,MATCH(\"Weigh Hopper Loading\",$J$21:$J$30,0),1),0)),((IFERROR((OFFSET($J$38,MATCH(\"Weigh Hopper Loading\",$J$39:$J$48,0),1)),0))),((IFERROR((OFFSET($J$56,MATCH(\"Weigh Hopper Loading\",$J$57:$J$66,0),1)),0))),((IFERROR((OFFSET($J$74,MATCH(\"Weigh Hopper Loading\",$J$75:$J$84,0),1)),0))),((IFERROR((OFFSET($J$92,MATCH(\"Weigh Hopper Loading\",$J$93:$J$102,0),1)),0))),((IFERROR((OFFSET($J$110,MATCH(\"Weigh Hopper Loading\",$J$111:$J$120,0),1)),0))),((IFERROR((OFFSET($J$128,MATCH(\"Weigh Hopper Loading\",$J$129:$J$138,0),1)),0))),((IFERROR((OFFSET($J$146,MATCH(\"Weigh Hopper Loading\",$J$147:$J$156,0),1)),0))),((IFERROR((OFFSET($J$164,MATCH(\"Weigh Hopper Loading\",$J$165:$J$174,0),1)),0))),((IFERROR((OFFSET($J$181,MATCH(\"Weigh Hopper Loading\",$J$183:$J$192,0),1)),0))),)","v":0},{"$f":"SUM((IFERROR(OFFSET($J$20,MATCH(\"Weigh Hopper Loading\",$J$21:$J$30,0),2),0)),((IFERROR((OFFSET($J$38,MATCH(\"Weigh Hopper Loading\",$J$39:$J$48,0),2)),0))),((IFERROR((OFFSET($J$56,MATCH(\"Weigh Hopper Loading\",$J$57:$J$66,0),2)),0))),((IFERROR((OFFSET($J$74,MATCH(\"Weigh Hopper Loading\",$J$75:$J$84,0),2)),0))),((IFERROR((OFFSET($J$92,MATCH(\"Weigh Hopper Loading\",$J$93:$J$102,0),2)),0))),((IFERROR((OFFSET($J$110,MATCH(\"Weigh Hopper Loading\",$J$111:$J$120,0),2)),0))),((IFERROR((OFFSET($J$128,MATCH(\"Weigh Hopper Loading\",$J$129:$J$138,0),2)),0))),((IFERROR((OFFSET($J$146,MATCH(\"Weigh Hopper Loading\",$J$147:$J$156,0),2)),0))),((IFERROR((OFFSET($J$164,MATCH(\"Weigh Hopper Loading\",$J$165:$J$174,0),2)),0))),((IFERROR((OFFSET($J$181,MATCH(\"Weigh Hopper Loading\",$J$183:$J$192,0),2)),0))))","v":0}]
[null,"Note: if the plant has an hrs/day and a cubic yards/hr permit limit, those values should be multiplied together to calculate a cubic yards/day limit and that value should be placed in cell C10.",null,null,null,null,null,"SO2",null,null,null,null,null,null,null,"Central Mix Loading",{"$f":"MAX((IFERROR(OFFSET($J$20,MATCH(\"Central Mix Loading\",$J$21:$J$30,0),1),0)),((IFERROR((OFFSET($J$38,MATCH(\"Central Mix Loading\",$J$39:$J$48,0),1)),0))),((IFERROR((OFFSET($J$56,MATCH(\"Central Mix Loading\",$J$57:$J$66,0),1)),0))),((IFERROR((OFFSET($J$74,MATCH(\"Central Mix Loading\",$J$75:$J$84,0),1)),0))),((IFERROR((OFFSET($J$92,MATCH(\"Central Mix Loading\",$J$93:$J$102,0),1)),0))),((IFERROR((OFFSET($J$110,MATCH(\"Central Mix Loading\",$J$111:$J$120,0),1)),0))),((IFERROR((OFFSET($J$128,MATCH(\"Central Mix Loading\",$J$129:$J$138,0),1)),0))),((IFERROR((OFFSET($J$146,MATCH(\"Central Mix Loading\",$J$147:$J$156,0),1)),0))),((IFERROR((OFFSET($J$164,MATCH(\"Central Mix Loading\",$J$165:$J$174,0),1)),0))),((IFERROR((OFFSET($J$181,MATCH(\"Central Mix Loading\",$J$183:$J$192,0),1)),0))),)","v":0},{"$f":"SUM((IFERROR(OFFSET($J$20,MATCH(\"Central Mix Loading\",$J$21:$J$30,0),2),0)),((IFERROR((OFFSET($J$38,MATCH(\"Central Mix Loading\",$J$39:$J$48,0),2)),0))),((IFERROR((OFFSET($J$56,MATCH(\"Central Mix Loading\",$J$57:$J$66,0),2)),0))),((IFERROR((OFFSET($J$74,MATCH(\"Central Mix Loading\",$J$75:$J$84,0),2)),0))),((IFERROR((OFFSET($J$92,MATCH(\"Central Mix Loading\",$J$93:$J$102,0),2)),0))),((IFERROR((OFFSET($J$110,MATCH(\"Central Mix Loading\",$J$111:$J$120,0),2)),0))),((IFERROR((OFFSET($J$128,MATCH(\"Central Mix Loading\",$J$129:$J$138,0),2)),0))),((IFERROR((OFFSET($J$146,MATCH(\"Central Mix Loading\",$J$147:$J$156,0),2)),0))),((IFERROR((OFFSET($J$164,MATCH(\"Central Mix Loading\",$J$165:$J$174,0),2)),0))),((IFERROR((OFFSET($J$181,MATCH(\"Central Mix Loading\",$J$183:$J$192,0),2)),0))))","v":0}]
[null,null,null,null,null,null,null,"NOx",null,null,null,null,null,null,null,"Truck Mix Loading",{"$f":"MAX((IFERROR(OFFSET($J$20,MATCH(\"Truck Mix Loading\",$J$21:$J$30,0),1),0)),((IFERROR((OFFSET($J$38,MATCH(\"Truck Mix Loading\",$J$39:$J$48,0),1)),0))),((IFERROR((OFFSET($J$56,MATCH(\"Truck Mix Loading\",$J$57:$J$66,0),1)),0))),((IFERROR((OFFSET($J$74,MATCH(\"Truck Mix Loading\",$J$75:$J$84,0),1)),0))),((IFERROR((OFFSET($J$92,MATCH(\"Truck Mix Loading\",$J$93:$J$102,0),1)),0))),((IFERROR((OFFSET($J$110,MATCH(\"Truck Mix Loading\",$J$111:$J$120,0),1)),0))),((IFERROR((OFFSET($J$128,MATCH(\"Truck Mix Loading\",$J$129:$J$138,0),1)),0))),((IFERROR((OFFSET($J$146,MATCH(\"Truck Mix Loading\",$J$147:$J$156,0),1)),0))),((IFERROR((OFFSET($J$164,MATCH(\"Truck Mix Loading\",$J$165:$J$174,0),1)),0))),((IFERROR((OFFSET($J$181,MATCH(\"Truck Mix Loading\",$J$183:$J$192,0),1)),0))),)","v":0},{"$f":"SUM((IFERROR(OFFSET($J$20,MATCH(\"Truck Mix Loading\",$J$21:$J$30,0),2),0)),((IFERROR((OFFSET($J$38,MATCH(\"Truck Mix Loading\",$J$39:$J$48,0),2)),0))),((IFERROR((OFFSET($J$56,MATCH(\"Truck Mix Loading\",$J$57:$J$66,0),2)),0))),((IFERROR((OFFSET($J$74,MATCH(\"Truck Mix Loading\",$J$75:$J$84,0),2)),0))),((IFERROR((OFFSET($J$92,MATCH(\"Truck Mix Loading\",$J$93:$J$102,0),2)),0))),((IFERROR((OFFSET($J$110,MATCH(\"Truck Mix Loading\",$J$111:$J$120,0),2)),0))),((IFERROR((OFFSET($J$128,MATCH(\"Truck Mix Loading\",$J$129:$J$138,0),2)),0))),((IFERROR((OFFSET($J$146,MATCH(\"Truck Mix Loading\",$J$147:$J$156,0),2)),0))),((IFERROR((OFFSET($J$164,MATCH(\"Truck Mix Loading\",$J$165:$J$174,0),2)),0))),((IFERROR((OFFSET($J$181,MATCH(\"Truck Mix Loading\",$J$183:$J$192,0),2)),0))))","v":0}]
[null,null,null,null,null,null,null,"VOC",null,null,null,null,null,null,null,"Cement Delivery to Silo",{"$f":"MAX((IFERROR(OFFSET($J$20,MATCH(\"Cement Delivery to Silo\",$J$21:$J$30,0),1),0)),((IFERROR((OFFSET($J$38,MATCH(\"Cement Delivery to Silo\",$J$39:$J$48,0),1)),0))),((IFERROR((OFFSET($J$56,MATCH(\"Cement Delivery to Silo\",$J$57:$J$66,0),1)),0))),((IFERROR((OFFSET($J$74,MATCH(\"Cement Delivery to Silo\",$J$75:$J$84,0),1)),0))),((IFERROR((OFFSET($J$92,MATCH(\"Cement Delivery to Silo\",$J$93:$J$102,0),1)),0))),((IFERROR((OFFSET($J$110,MATCH(\"Cement Delivery to Silo\",$J$111:$J$120,0),1)),0))),((IFERROR((OFFSET($J$128,MATCH(\"Cement Delivery to Silo\",$J$129:$J$138,0),1)),0))),((IFERROR((OFFSET($J$146,MATCH(\"Cement Delivery to Silo\",$J$147:$J$156,0),1)),0))),((IFERROR((OFFSET($J$164,MATCH(\"Cement Delivery to Silo\",$J$165:$J$174,0),1)),0))),((IFERROR((OFFSET($J$181,MATCH(\"Cement Delivery to Silo\",$J$183:$J$192,0),1)),0))),)","v":0},{"$f":"SUM((IFERROR(OFFSET($J$20,MATCH(\"Cement Delivery to Silo\",$J$21:$J$30,0),2),0)),((IFERROR((OFFSET($J$38,MATCH(\"Cement Delivery to Silo\",$J$39:$J$48,0),2)),0))),((IFERROR((OFFSET($J$56,MATCH(\"Cement Delivery to Silo\",$J$57:$J$66,0),2)),0))),((IFERROR((OFFSET($J$74,MATCH(\"Cement Delivery to Silo\",$J$75:$J$84,0),2)),0))),((IFERROR((OFFSET($J$92,MATCH(\"Cement Delivery to Silo\",$J$93:$J$102,0),2)),0))),((IFERROR((OFFSET($J$110,MATCH(\"Cement Delivery to Silo\",$J$111:$J$120,0),2)),0))),((IFERROR((OFFSET($J$128,MATCH(\"Cement Delivery to Silo\",$J$129:$J$138,0),2)),0))),((IFERROR((OFFSET($J$146,MATCH(\"Cement Delivery to Silo\",$J$147:$J$156,0),2)),0))),((IFERROR((OFFSET($J$164,MATCH(\"Cement Delivery to Silo\",$J$165:$J$174,0),2)),0))),((IFERROR((OFFSET($J$181,MATCH(\"Cement Delivery to Silo\",$J$183:$J$192,0),2)),0))))","v":0}]
[null,null,null,null,null,null,null,"CO",null,null,null,null,null,null,null,"Cement Supplement Delivery to Silo",{"$f":"MAX((IFERROR(OFFSET($J$20,MATCH(\"Cement Supplement Delivery to Silo\",$J$21:$J$30,0),1),0)),((IFERROR((OFFSET($J$38,MATCH(\"Cement Supplement Delivery to Silo\",$J$39:$J$48,0),1)),0))),((IFERROR((OFFSET($J$56,MATCH(\"Cement Supplement Delivery to Silo\",$J$57:$J$66,0),1)),0))),((IFERROR((OFFSET($J$74,MATCH(\"Cement Supplement Delivery to Silo\",$J$75:$J$84,0),1)),0))),((IFERROR((OFFSET($J$92,MATCH(\"Cement Supplement Delivery to Silo\",$J$93:$J$102,0),1)),0))),((IFERROR((OFFSET($J$110,MATCH(\"Cement Supplement Delivery to Silo\",$J$111:$J$120,0),1)),0))),((IFERROR((OFFSET($J$128,MATCH(\"Cement Supplement Delivery to Silo\",$J$129:$J$138,0),1)),0))),((IFERROR((OFFSET($J$146,MATCH(\"Cement Supplement Delivery to Silo\",$J$147:$J$156,0),1)),0))),((IFERROR((OFFSET($J$164,MATCH(\"Cement Supplement Delivery to Silo\",$J$165:$J$174,0),1)),0))),((IFERROR((OFFSET($J$181,MATCH(\"Cement Supplement Delivery to Silo\",$J$183:$J$192,0),1)),0))),)","v":0},{"$f":"SUM((IFERROR(OFFSET($J$20,MATCH(\"Cement Supplement Delivery to Silo\",$J$21:$J$30,0),2),0)),((IFERROR((OFFSET($J$38,MATCH(\"Cement Supplement Delivery to Silo\",$J$39:$J$48,0),2)),0))),((IFERROR((OFFSET($J$56,MATCH(\"Cement Supplement Delivery to Silo\",$J$57:$J$66,0),2)),0))),((IFERROR((OFFSET($J$74,MATCH(\"Cement Supplement Delivery to Silo\",$J$75:$J$84,0),2)),0))),((IFERROR((OFFSET($J$92,MATCH(\"Cement Supplement Delivery to Silo\",$J$93:$J$102,0),2)),0))),((IFERROR((OFFSET($J$110,MATCH(\"Cement Supplement Delivery to Silo\",$J$111:$J$120,0),2)),0))),((IFERROR((OFFSET($J$128,MATCH(\"Cement Supplement Delivery to Silo\",$J$129:$J$138,0),2)),0))),((IFERROR((OFFSET($J$146,MATCH(\"Cement Supplement Delivery to Silo\",$J$147:$J$156,0),2)),0))),((IFERROR((OFFSET($J$164,MATCH(\"Cement Supplement Delivery to Silo\",$J$165:$J$174,0),2)),0))),((IFERROR((OFFSET($J$181,MATCH(\"Cement Supplement Delivery to Silo\",$J$183:$J$192,0),2)),0))))","v":0}]
[null,null,null,null,null,null,null,null,null,null,null,null,null,null,null,null,"Maximum (acres/day)","Actual (acres-day/yr)"]
[null,null,null,null,null,null,null,null,null,null,null,null,null,null,null,"Storage Pile",{"$f":"SUM(J34,J52,J70,J88,J106,J124,J142,J160,J178,J196)","v":0},{"$f":"SUM(K34*L34,K52*L52,K70*L70,K88*L88,K106*L106,K124*L124,K142*L142,K160*L160,K178*L178,K196*L196)","v":0}]
[]
[null,"Batch Plant","Site 1",null,null,null,null,"Emission Point #","Emission     Unit #","Processes","Combined Maximum Hourly Design Rate for all Like Processes (cubic yard/hr)",{"$f":"('Facility Information'!G5&\" Annual Throughput (cubic yards)\")","v":" Annual Throughput (cubic yards)"}]
[null,null,null,null,null,null,null,null,null,null,null,null,"Truck","Central",null,"Potential and Actual Emissions for the Listed Processes at this Plant"]
["YES","Site Name:",null,null,null,null,null,{"$f":"IF(J21=\"cement delivery to silo\",\"CP-1 EP-2\",IF(J21=\"cement supplement delivery to silo\",\"CP-1 EP-3\",IF(J21=\"weigh hopper loading\",\"CP-1 EP-4\",IF(J21=\"truck mix loading\",\"CP-1 EP-5\",IF(J21=\"central mix loading\",\"CP-1 EP-6\",IF(J21=\"\",\"\",\"CP-1 EP-1\"))))))","v":""},{"$f":"IF(J21=\"\",\"\",IF(J21=\"aggregate delivery to ground storage\",\"CP-7 EU-1\",IF(J21=\"sand delivery to ground storage\",\"CP-7 EU-2\",IF(J21=\"aggregate transfer to conveyor\",\"CP-7 EU-3\",IF(J21=\"sand transfer to conveyor\",\"CP-7 EU-4\",IF(J21=\"aggregate transfer to elevated storage\",\"CP-7 EU-5\",IF(J21=\"sand transfer to elevated storage\",\"CP-7 EU-6\",IF(J21=\"weigh hopper loading\",\"CP-7 EU-7\",IF(J21=\"central mix loading\",\"CP-7 EU-8\",IF(J21=\"truck mix loading\",\"CP-7 EU-9\",IF(J21=\"cement delivery to silo\",\"CP-7 EU-10\",IF(J21=\"cement supplement delivery to silo\",\"CP-7 EU-11\"))))))))))))","v":""},null,null,null,{"$f":"IF(J21=\"truck mix loading\",IF($F$24=\"yes\",L21*0.05/2000,L21/2000),\"\")","v":""},{"$f":"IF(J21=\"central mix loading\",IF($F$24=\"yes\",L21*0.05/2000,L21/2000),\"\")","v":""},null,null,"Maximum Design Rate (cubic yards/hr)","Emission Factor (lb/cubic yard)","Potential Uncontrolled Emissions (lb/hr)","Potential Controlled Emissions (lb/hr)","Potential Annual Emissions (tons/yr)","Actual Annual Emissions (tons/yr)"]
["NO","County:",null,null,null,null,null,{"$f":"IF(J22=\"cement delivery to silo\",\"CP-1 EP-2\",IF(J22=\"cement supplement delivery to silo\",\"CP-1 EP-3\",IF(J22=\"weigh hopper loading\",\"CP-1 EP-4\",IF(J22=\"truck mix loading\",\"CP-1 EP-5\",IF(J22=\"central mix loading\",\"CP-1 EP-6\",IF(J22=\"\",\"\",\"CP-1 EP-1\"))))))","v":""},"",null,null,null,{"$f":"IF(J22=\"truck mix loading\",IF($F$24=\"yes\",L22*0.05/2000,L22/2000),\"\")","v":""},{"$f":"IF(J22=\"central mix loading\",IF($F$24=\"yes\",L22*0.05/2000,L22/2000),\"\")","v":""},null,"PM2.5"]
[null,"Batching Period (Dates):",null,null,null,null,null,"","",null,null,null,"","",null,"Aggregate Delivery to Ground Storage",{"$f":"Q5","v":0},{"$f":"IF(Q23=0,0,LOOKUP(P23,'Emission Factors'!$A$5:$A$16,'Emission Factors'!$D$5:$D$16))","v":0},{"$f":"Q23*R23","v":0},{"$f":"IF(Q23=0,\"\",IF($I$10>0,$I$10,\"\"))","v":""},{"$f":"IF($J$10>0,$J$10,IF($D$9>0,$D$9*R23/2000,IF($D$10>0,$D$10*365*R23/2000,IF($D$11>0,$D$11*365*R23*Q23/2000,IF(T23=\"\",S23*8760/2000,T23*8760/2000)))))","v":0},{"$f":"(R5*R23/2000)","v":0}]
["Aggregate Delivery to Ground Storage",{"$f":"IF(OR(COUNTIF(J21:J30,\"Truck Mix Loading\")>0,(COUNTIF(J21:J30,\"Central Mix Loading\")>0)),\"Is the Central/Truck Mix Loading process controlled by a baghouse?\",\"\")","v":""},null,null,null,null,null,"","",null,null,null,"","",null,"Sand Delivery to Ground Storage",{"$f":"Q6","v":0},{"$f":"IF(Q24=0,0,LOOKUP(P24,'Emission Factors'!$A$5:$A$16,'Emission Factors'!$D$5:$D$16))","v":0},{"$f":"Q24*R24","v":0},{"$f":"IF(Q24=0,\"\",IF($I$10>0,$I$10,\"\"))","v":""},{"$f":"IF($J$10>0,\"\",IF($D$9>0,$D$9*R24/2000,IF($D$10>0,$D$10*365*R24/2000,IF($D$11>0,$D$11*365*R24*Q24/2000,IF(T24=\"\",S24*8760/2000,T24*8760/2000)))))","v":0},{"$f":"(R6*R24/2000)","v":0}]
["Sand Delivery to Ground Storage",null,null,null,null,null,null,"","",null,null,null,"","",null,"Aggregate Transfer to Conveyor",0,{"$f":"IF(Q25=0,0,LOOKUP(P25,'Emission Factors'!$A$5:$A$16,'Emission Factors'!$D$5:$D$16))","v":0},0,"",0,0]
["Aggregate Transfer to Conveyor",{"$f":"IF(AND(B28=\"\",B29=\"\",B32=\"\",B31=\"\",B30=\"\"),\"\",\"Process (complete stack information if applicable):\")","v":""},{"$f":"IF(AND(B28=\"\",B29=\"\",B32=\"\",B31=\"\",B30=\"\"),\"\",\"Stack Height (ft):\")","v":""},{"$f":"IF(AND(B28=\"\",B29=\"\",B32=\"\",B31=\"\",B30=\"\"),\"\",\"Stack Diameter (inches):\")","v":""},{"$f":"IF(AND(B28=\"\",B29=\"\",B32=\"\",B31=\"\",B30=\"\"),\"\",\"Flow Rate (acfm):\")","v":""},{"$f":"IF(AND(B28=\"\",B29=\"\",B32=\"\",B31=\"\",B30=\"\"),\"\",\"Temperature (Deg F):\")","v":""},null,"","",null,null,null,"","",null,"Sand Transfer to Conveyor",0,{"$f":"IF(Q26=0,0,LOOKUP(P26,'Emission Factors'!$A$5:$A$16,'Emission Factors'!$D$5:$D$16))","v":0},0,"",0,0]
["Sand Transfer to Conveyor",null,null,null,null,null,null,"","",null,null,null,"","",null,"Aggregate Transfer to Elevated Storage",0,{"$f":"IF(Q27=0,0,LOOKUP(P27,'Emission Factors'!$A$5:$A$16,'Emission Factors'!$D$5:$D$16))","v":0},0,"",0,0]
["Aggregate Transfer to Elevated Storage",{"$f":"IF(COUNTIF(J21:J30,\"Cement Delivery to Silo\")>0,\"EP-2 Cement Silo Stack:\",\"\")","v":""},null,null,null,null,null,"","",null,null,null,"","",null,"Sand Transfer to Elevated Storage",0,{"$f":"IF(Q28=0,0,LOOKUP(P28,'Emission Factors'!$A$5:$A$16,'Emission Factors'!$D$5:$D$16))","v":0},0,"",0,0]
["Sand Transfer to Elevated Storage",{"$f":"IF(COUNTIF(J21:J30,\"Cement Supplement Delivery to Silo\")>0,\"EP-3 Cement Supplement Silo Stack:\",\"\")","v":""},null,null,null,null,null,"","",null,null,null,"","",null,"Weigh Hopper Loading",0,{"$f":"IF(Q29=0,0,LOOKUP(P29,'Emission Factors'!$A$5:$A$16,'Emission Factors'!$D$5:$D$16))","v":0},0,"",0,0]
["Weigh Hopper Loading",{"$f":"IF(COUNTIF(J21:J30,\"Weigh Hopper Loading\")>0,\"EP-4 Weigh Hopper Loading Stack:\",\"\")","v":""},null,null,null,null,null,"","",null,null,null,"","",null,"Central Mix Loading",0,{"$f":"IF(Q30=0,0,LOOKUP(P30,'Emission Factors'!$A$5:$A$16,'Emission Factors'!$D$5:$D$16))","v":0},0,{"$f":"IF(Q30=0,\"\",IF($I$10>0,$I$10,IF(COUNTIF($F$24:$F$186,\"no\")>0,\"\",S30*(1-0.95))))","v":""},{"$f":"IF($J$10>0,\"\",IF($D$9>0,$D$9*R30*((100-$W$30)/100)/2000,IF($D$10>0,$D$10*365*R30*((100-$W$30)/100)/2000,IF($D$11>0,$D$11*365*R30*((100-$W$30)/100)*Q30/2000,IF(T30=\"\",S30*8760/2000,T30*8760/2000)))))","v":0},{"$f":"(R30*N198)","v":0},{"$f":"IF(COUNTIF($F$24:$F$186,\"no\")>0,0,95)","v":95}]
["Central Mix Loading",{"$f":"IF(COUNTIF(J21:J30,\"Truck Mix Loading\")>0,\"EP-5 Truck Mix Loading Stack:\",\"\")","v":""},null,null,null,null,null,null,null,null,null,null,null,null,null,"Truck Mix Loading",0,{"$f":"IF(Q31=0,0,LOOKUP(P31,'Emission Factors'!$A$5:$A$16,'Emission Factors'!$D$5:$D$16))","v":0},0,{"$f":"IF(Q31=0,\"\",IF($I$10>0,$I$10,IF(COUNTIF($F$24:$F$186,\"no\")>0,\"\",S31*(1-0.95))))","v":""},{"$f":"IF($J$10>0,\"\",IF($D$9>0,$D$9*R31*((100-$W$30)/100)/2000,IF($D$10>0,$D$10*365*R31*((100-$W$30)/100)/2000,IF($D$11>0,$D$11*365*R31*((100-$W$30)/100)*Q31/2000,IF(T31=\"\",S31*8760/2000,T31*8760/2000)))))","v":0},{"$f":"(R31*M198)","v":0}]
["Truck Mix Loading",{"$f":"IF(COUNTIF(J21:J30,\"Central Mix Loading\")>0,\"EP-6 Central Mix Loading Stack:\",\"\")","v":""},null,null,null,null,null,"Stock Pile Area",null,null,null,null,null,null,null,"Cement Delivery to Silo",0,{"$f":"IF(Q32=0,0,LOOKUP(P32,'Emission Factors'!$A$5:$A$16,'Emission Factors'!$D$5:$D$16))","v":0},null,{"$f":"IF(Q32=0,0,IF($I$10>0,$I$10,Q32*R32))","v":0},{"$f":"IF($J$10>0,\"\",IF($D$9>0,$D$9*R32/2000,IF($D$10>0,$D$10*365*R32/2000,IF($D$11>0,$D$11*365*R32*Q32/2000,IF($I$10>0,0,T32*8760/2000)))))","v":0},0]
["Cement Delivery to Silo",null,null,null,null,null,null,null,"Emission Unit #","Maximum Storage Area (acres)","Actual Storage Area (acres)","Actual Days in Existence (days)",null,null,null,"Cement Supplement Delivery to Silo",0,{"$f":"IF(Q33=0,0,LOOKUP(P33,'Emission Factors'!$A$5:$A$16,'Emission Factors'!$D$5:$D$16))","v":0},null,{"$f":"IF(Q33=0,0,IF($I$10>0,$I$10,Q33*R33))","v":0},{"$f":"IF($J$10>0,\"\",IF($D$9>0,$D$9*R33/2000,IF($D$10>0,$D$10*365*R33/2000,IF($D$11>0,$D$11*365*R33*Q33/2000,IF($I$10>0,0,T33*8760/2000)))))","v":0},0]
["Cement Supplement Delivery to Silo",null,null,null,null,null,null,null,null,null,null,null,null,null,null,"PM10"]
[null,null,null,null,null,null,null,null,null,null,null,null,null,null,null,"Aggregate Delivery to Ground Storage",{"$f":"Q5","v":0},{"$f":"IF(Q35=0,0,LOOKUP(P35,'Emission Factors'!$A$5:$A$16,'Emission Factors'!$H$5:$H$16))","v":0},0,{"$f":"IF(Q35=0,\"\",IF($I$11>0,$I$11,\"\"))","v":""},{"$f":"IF($J$11>0,$J$11,IF($D$9>0,$D$9*R35/2000,IF($D$10>0,$D$10*365*R35/2000,IF($D$11>0,$D$11*365*R35*Q35/2000,IF(T35=\"\",S35*8760/2000,T35*8760/2000)))))","v":0},{"$f":"(R5*R35/2000)","v":0}]
[null,null,null,null,null,null,null,null,null,null,null,null,null,null,null,"Sand Delivery to Ground Storage",{"$f":"Q6","v":0},{"$f":"IF(Q36=0,0,LOOKUP(P36,'Emission Factors'!$A$5:$A$16,'Emission Factors'!$H$5:$H$16))","v":0},0,{"$f":"IF(Q36=0,\"\",IF($I$11>0,$I$11,\"\"))","v":""},{"$f":"IF($J$11>0,\"\",IF($D$9>0,$D$9*R36/2000,IF($D$10>0,$D$10*365*R36/2000,IF($D$11>0,$D$11*365*R36*Q36/2000,IF(T36=\"\",S36*8760/2000,T36*8760/2000)))))","v":0},{"$f":"(R6*R36/2000)","v":0}]
[null,{"$f":"IF('Concrete Plant (CP-7)'!$D$4>1,\"Batch Plant\",\"\")","v":""},{"$f":"IF('Concrete Plant (CP-7)'!$D$4>1,\"Site 2\",\"\")","v":""},null,null,null,null,{"$f":"IF('Concrete Plant (CP-7)'!$D$4>1,\"Emission Point #\",\"\")","v":""},{"$f":"IF('Concrete Plant (CP-7)'!$D$4>1,\"Emission     Unit #\",\"\")","v":""},{"$f":"IF('Concrete Plant (CP-7)'!$D$4>1,\"Processes\",\"\")","v":""},{"$f":"IF('Concrete Plant (CP-7)'!$D$4>1,\"Combined Maximum Hourly Design Rate for all Like Processes (cubic yard/hr)\",\"\")","v":""},{"$f":"IF('Concrete Plant (CP-7)'!$D$4>1,('Facility Information'!G5&\" Annual Throughput (cubic yards)\"),\"\")","v":""},null,null,null,"Aggregate Transfer to Conveyor",0,{"$f":"IF(Q37=0,0,LOOKUP(P37,'Emission Factors'!$A$5:$A$16,'Emission Factors'!$H$5:$H$16))","v":0},0,"",0,0]
[null,null,null,null,null,null,null,null,null,null,null,null,"Truck","Central",null,"Sand Transfer to Conveyor",0,{"$f":"IF(Q38=0,0,LOOKUP(P38,'Emission Factors'!$A$5:$A$16,'Emission Factors'!$H$5:$H$16))","v":0},0,"",0,0]
[null,{"$f":"IF('Concrete Plant (CP-7)'!$D$4>1,\"Site Name:\",\"\")","v":""},null,null,null,null,null,{"$f":"IF(J39=\"cement delivery to silo\",\"CP-1 EP-2\",IF(J39=\"cement supplement delivery to silo\",\"CP-1 EP-3\",IF(J39=\"weigh hopper loading\",\"CP-1 EP-4\",IF(J39=\"truck mix loading\",\"CP-1 EP-5\",IF(J39=\"central mix loading\",\"CP-1 EP-6\",IF(J39=\"\",\"\",\"CP-1 EP-1\"))))))","v":""},{"$f":"IF(J39=\"\",\"\",IF(J39=\"aggregate delivery to ground storage\",\"CP-7 EU-1\",IF(J39=\"sand delivery to ground storage\",\"CP-7 EU-2\",IF(J39=\"aggregate transfer to conveyor\",\"CP-7 EU-3\",IF(J39=\"sand transfer to conveyor\",\"CP-7 EU-4\",IF(J39=\"aggregate transfer to elevated storage\",\"CP-7 EU-5\",IF(J39=\"sand transfer to elevated storage\",\"CP-7 EU-6\",IF(J39=\"weigh hopper loading\",\"CP-7 EU-7\",IF(J39=\"central mix loading\",\"CP-7 EU-8\",IF(J39=\"truck mix loading\",\"CP-7 EU-9\",IF(J39=\"cement delivery to silo\",\"CP-7 EU-10\",IF(J39=\"cement supplement delivery to silo\",\"CP-7 EU-11\"))))))))))))","v":""},null,null,null,{"$f":"IF(J39=\"truck mix loading\",IF($F$42=\"yes\",L39*0.05/2000,L39/2000),\"\")","v":""},{"$f":"IF(J39=\"central mix loading\",IF($F$42=\"yes\",L39*0.05/2000,L39/2000),\"\")","v":""},null,"Aggregate Transfer to Elevated Storage",0,{"$f":"IF(Q39=0,0,LOOKUP(P39,'Emission Factors'!$A$5:$A$16,'Emission Factors'!$H$5:$H$16))","v":0},0,"",0,0]
[null,{"$f":"IF('Concrete Plant (CP-7)'!$D$4>1,\"County:\",\"\")","v":""},null,null,null,null,null,{"$f":"IF(J40=\"cement delivery to silo\",\"CP-1 EP-2\",IF(J40=\"cement supplement delivery to silo\",\"CP-1 EP-3\",IF(J40=\"weigh hopper loading\",\"CP-1 EP-4\",IF(J40=\"truck mix loading\",\"CP-1 EP-5\",IF(J40=\"central mix loading\",\"CP-1 EP-6\",IF(J40=\"\",\"\",\"CP-1 EP-1\"))))))","v":""},"",null,null,null,{"$f":"IF(J40=\"truck mix loading\",IF($F$42=\"yes\",L40*0.05/2000,L40/2000),\"\")","v":""},{"$f":"IF(J40=\"central mix loading\",IF($F$42=\"yes\",L40*0.05/2000,L40/2000),\"\")","v":""},null,"Sand Transfer to Elevated Storage",0,{"$f":"IF(Q40=0,0,LOOKUP(P40,'Emission Factors'!$A$5:$A$16,'Emission Factors'!$H$5:$H$16))","v":0},0,"",0,0]
[null,{"$f":"IF('Concrete Plant (CP-7)'!$D$4>1,\"Batching Period (Dates):\",\"\")","v":""},null,null,null,null,null,"","",null,null,null,"","",null,"Weigh Hopper Loading",0,{"$f":"IF(Q41=0,0,LOOKUP(P41,'Emission Factors'!$A$5:$A$16,'Emission Factors'!$H$5:$H$16))","v":0},0,"",0,0]
[null,{"$f":"IF(OR(COUNTIF(J39:J48,\"Truck Mix Loading\")>0,(COUNTIF(J39:J48,\"Central Mix Loading\")>0)),\"Is the Central/Truck Mix Loading process controlled by a baghouse?\",\"\")","v":""},null,null,null,null,null,"","",null,null,null,"","",null,"Central Mix Loading",0,{"$f":"IF(Q42=0,0,LOOKUP(P42,'Emission Factors'!$A$5:$A$16,'Emission Factors'!$H$5:$H$16))","v":0},0,{"$f":"IF(Q42=0,\"\",IF($I$11>0,$I$11,IF(COUNTIF($F$24:$F$186,\"no\")>0,\"\",S42*(1-0.95))))","v":""},{"$f":"IF($J$11>0,\"\",IF($D$9>0,$D$9*R42*((100-$W$30)/100)/2000,IF($D$10>0,$D$10*365*R42*((100-$W$30)/100)/2000,IF($D$11>0,$D$11*365*R42*((100-$W$30)/100)*Q42/2000,IF(T42=\"\",S42*8760/2000,T42*8760/2000)))))","v":0},{"$f":"(N198*R42)","v":0},{"$f":"IF(COUNTIF($F$24:$F$186,\"no\")>0,0,95)","v":95}]
[null,null,null,null,null,null,null,"","",null,null,null,"","",null,"Truck Mix Loading",0,{"$f":"IF(Q43=0,0,LOOKUP(P43,'Emission Factors'!$A$5:$A$16,'Emission Factors'!$H$5:$H$16))","v":0},0,{"$f":"IF(Q43=0,\"\",IF($I$11>0,$I$11,IF(COUNTIF($F$24:$F$186,\"no\")>0,\"\",S43*(1-0.95))))","v":""},{"$f":"IF($J$11>0,\"\",IF($D$9>0,$D$9*R43*((100-$W$30)/100)/2000,IF($D$10>0,$D$10*365*R43*((100-$W$30)/100)/2000,IF($D$11>0,$D$11*365*R43*((100-$W$30)/100)*Q43/2000,IF(T43=\"\",S43*8760/2000,T43*8760/2000)))))","v":0},{"$f":"(M198*R43)","v":0}]
[null,{"$f":"IF(AND(B46=\"\",B47=\"\",B48=\"\",B49=\"\",B50=\"\"),\"\",\"Process (complete stack information if applicable):\")","v":""},{"$f":"IF(AND(B46=\"\",B47=\"\",B48=\"\",B49=\"\",B50=\"\"),\"\",\"Stack Height (ft):\")","v":""},{"$f":"IF(AND(B46=\"\",B47=\"\",B48=\"\",B49=\"\",B50=\"\"),\"\",\"Stack Diameter (inches):\")","v":""},{"$f":"IF(AND(B46=\"\",B47=\"\",B48=\"\",B49=\"\",B50=\"\"),\"\",\"Flow Rate (acfm):\")","v":""},{"$f":"IF(AND(B46=\"\",B47=\"\",B48=\"\",B49=\"\",B50=\"\"),\"\",\"Temperature (Deg F):\")","v":""},null,"","",null,null,null,"","",null,"Cement Delivery to Silo",0,{"$f":"IF(Q44=0,0,LOOKUP(P44,'Emission Factors'!$A$5:$A$16,'Emission Factors'!$H$5:$H$16))","v":0},null,{"$f":"IF(Q44=0,0,IF($I$10>0,$I$10,Q44*R44))","v":0},{"$f":"IF($J$11>0,\"\",IF($D$9>0,$D$9*R44/2000,IF($D$10>0,$D$10*365*R44/2000,IF($D$11>0,$D$11*365*R44*Q44/2000,IF($I$11>0,0,T44*8760/2000)))))","v":0},0]
[null,null,null,null,null,null,null,"","",null,null,null,"","",null,"Cement Supplement Delivery to Silo",0,{"$f":"IF(Q45=0,0,LOOKUP(P45,'Emission Factors'!$A$5:$A$16,'Emission Factors'!$H$5:$H$16))","v":0},null,{"$f":"IF(Q45=0,0,IF($I$10>0,$I$10,Q45*R45))","v":0},{"$f":"IF($J$11>0,\"\",IF($D$9>0,$D$9*R45/2000,IF($D$10>0,$D$10*365*R45/2000,IF($D$11>0,$D$11*365*R45*Q45/2000,IF($I$11>0,0,T45*8760/2000)))))","v":0},0]
[null,{"$f":"IF(COUNTIF(J39:J48,\"Cement Delivery to Silo\")>0,\"EP-2 Cement Silo Stack:\",\"\")","v":""},null,null,null,null,null,"","",null,null,null,"",""]
[null,{"$f":"IF(COUNTIF(J39:J48,\"Cement Supplement Delivery to Silo\")>0,\"EP-3 Cement Supplement Silo Stack:\",\"\")","v":""},null,null,null,null,null,"","",null,null,null,"","",null,null,"Max Design Rate (acres/day)","Emission Factor   (lb/acre-day)","Potential Uncontrolled Emissions (lb/hr)","Potential Controlled Emissions (lb/hr)","Potential Annual Emissions (tons/yr)","Actual Annual Emissions (tons/yr)"]
[null,{"$f":"IF(COUNTIF(J39:J48,\"Weigh Hopper Loading\")>0,\"EP-4 Weigh Hopper Loading Stack:\",\"\")","v":""},null,null,null,null,null,"","",null,null,null,"","",null,"Storage Pile"]
[null,{"$f":"IF(COUNTIF(J39:J48,\"Truck Mix Loading\")>0,\"EP-5 Truck Mix Loading Stack:\",\"\")","v":""},null,null,null,null,null,null,null,null,null,null,null,null,null,"PM2.5/PM10",{"$f":"Q17","v":0},3.64,{"$f":"Q49*R49*(1/24)","v":0},null,{"$f":"Q49*R49*365/2000","v":0},{"$f":"R17*R49/2000","v":0}]
[null,{"$f":"IF(COUNTIF(J39:J48,\"Central Mix Loading\")>0,\"EP-6 Central Mix Loading Stack:\",\"\")","v":""},null,null,null,null,null,{"$f":"IF('Concrete Plant (CP-7)'!$D$4>1,\"Stock Pile Area\",\"\")","v":""}]
[null,null,null,null,null,null,null,null,{"$f":"IF('Concrete Plant (CP-7)'!$D$4>1,\"Emission Unit #\",\"\")","v":""},{"$f":"IF('Concrete Plant (CP-7)'!$D$4>1,\"Maximum Storage Area (acres)\",\"\")","v":""},{"$f":"IF('Concrete Plant (CP-7)'!$D$4>1,\"Actual Storage Area (acres)\",\"\")","v":""},{"$f":"IF('Concrete Plant (CP-7)'!$D$4>1,\"Actual Days in Existence (days)\",\"\")","v":""}]
[]
[]
[]
[null,{"$f":"IF('Concrete Plant (CP-7)'!$D$4>2,\"Batch Plant\",\"\")","v":""},{"$f":"IF('Concrete Plant (CP-7)'!$D$4>2,\"Site 3\",\"\")","v":""},null,null,null,null,{"$f":"IF('Concrete Plant (CP-7)'!$D$4>2,\"Emission Point #\",\"\")","v":""},{"$f":"IF('Concrete Plant (CP-7)'!$D$4>2,\"Emission     Unit #\",\"\")","v":""},{"$f":"IF('Concrete Plant (CP-7)'!$D$4>2,\"Processes\",\"\")","v":""},{"$f":"IF('Concrete Plant (CP-7)'!$D$4>2,\"Combined Maximum Hourly Design Rate for all Like Processes (cubic yard/hr)\",\"\")","v":""},{"$f":"IF('Concrete Plant (CP-7)'!$D$4>2,('Facility Information'!G5&\" Annual Throughput (cubic yards)\"),\"\")","v":""}]
[null,null,null,null,null,null,null,null,null,null,null,null,"Truck","Central"]
[null,{"$f":"IF('Concrete Plant (CP-7)'!$D$4>2,\"Site Name:\",\"\")","v":""},null,null,null,null,null,{"$f":"IF(J57=\"cement delivery to silo\",\"CP-1 EP-2\",IF(J57=\"cement supplement delivery to silo\",\"CP-1 EP-3\",IF(J57=\"weigh hopper loading\",\"CP-1 EP-4\",IF(J57=\"truck mix loading\",\"CP-1 EP-5\",IF(J57=\"central mix loading\",\"CP-1 EP-6\",IF(J57=\"\",\"\",\"CP-1 EP-1\"))))))","v":""},{"$f":"IF(J57=\"\",\"\",IF(J57=\"aggregate delivery to ground storage\",\"CP-7 EU-1\",IF(J57=\"sand delivery to ground storage\",\"CP-7 EU-2\",IF(J57=\"aggregate transfer to conveyor\",\"CP-7 EU-3\",IF(J57=\"sand transfer to conveyor\",\"CP-7 EU-4\",IF(J57=\"aggregate transfer to elevated storage\",\"CP-7 EU-5\",IF(J57=\"sand transfer to elevated storage\",\"CP-7 EU-6\",IF(J57=\"weigh hopper loading\",\"CP-7 EU-7\",IF(J57=\"central mix loading\",\"CP-7 EU-8\",IF(J57=\"truck mix loading\",\"CP-7 EU-9\",IF(J57=\"cement delivery to silo\",\"CP-7 EU-10\",IF(J57=\"cement supplement delivery to silo\",\"CP-7 EU-11\"))))))))))))","v":""},null,null,null,{"$f":"IF(J57=\"truck mix loading\",IF($F$60=\"yes\",L57*0.05/2000,L57/2000),\"\")","v":""},{"$f":"IF(J57=\"central mix loading\",IF($F$60=\"yes\",L57*0.05/2000,L57/2000),\"\")","v":""}]
[null,{"$f":"IF('Concrete Plant (CP-7)'!$D$4>2,\"County:\",\"\")","v":""},null,null,null,null,null,{"$f":"IF(J58=\"cement delivery to silo\",\"CP-1 EP-2\",IF(J58=\"cement supplement delivery to silo\",\"CP-1 EP-3\",IF(J58=\"weigh hopper loading\",\"CP-1 EP-4\",IF(J58=\"truck mix loading\",\"CP-1 EP-5\",IF(J58=\"central mix loading\",\"CP-1 EP-6\",IF(J58=\"\",\"\",\"CP-1 EP-1\"))))))","v":""},"",null,null,null,{"$f":"IF(J58=\"truck mix loading\",IF($F$60=\"yes\",L58*0.05/2000,L58/2000),\"\")","v":""},{"$f":"IF(J58=\"central mix loading\",IF($F$60=\"yes\",L58*0.05/2000,L58/2000),\"\")","v":""}]
[null,{"$f":"IF('Concrete Plant (CP-7)'!$D$4>2,\"Batching Period (Dates):\",\"\")","v":""},null,null,null,null,null,"","",null,null,null,"",""]
[null,{"$f":"IF(OR(COUNTIF(J57:J66,\"Truck Mix Loading\")>0,(COUNTIF(J57:J66,\"Central Mix Loading\")>0)),\"Is the Central/Truck Mix Loading process controlled by a baghouse?\",\"\")","v":""},null,null,null,null,null,"","",null,null,null,"",""]
[null,null,null,null,null,null,null,"","",null,null,null,"",""]
[null,{"$f":"IF(AND(B64=\"\",B65=\"\",B66=\"\",B67=\"\",B68=\"\"),\"\",\"Process (complete stack information if applicable):\")","v":""},{"$f":"IF(AND(B64=\"\",B65=\"\",B66=\"\",B67=\"\",B68=\"\"),\"\",\"Stack Height (ft):\")","v":""},{"$f":"IF(AND(B64=\"\",B65=\"\",B66=\"\",B67=\"\",B68=\"\"),\"\",\"Stack Diameter (inches):\")","v":""},{"$f":"IF(AND(B64=\"\",B65=\"\",B66=\"\",B67=\"\",B68=\"\"),\"\",\"Flow Rate (acfm):\")","v":""},{"$f":"IF(AND(B64=\"\",B65=\"\",B66=\"\",B67=\"\",B68=\"\"),\"\",\"Temperature (Deg F):\")","v":""},null,"","",null,null,null,"",""]
[null,null,null,null,null,null,null,"","",null,null,null,"",""]
[null,{"$f":"IF(COUNTIF(J57:J66,\"Cement Delivery to Silo\")>0,\"EP-2 Cement Silo Stack:\",\"\")","v":""},null,null,null,null,null,"","",null,null,null,"",""]
[null,{"$f":"IF(COUNTIF(J57:J66,\"Cement Supplement Delivery to Silo\")>0,\"EP-3 Cement Supplement Silo Stack:\",\"\")","v":""},null,null,null,null,null,"","",null,null,null,"",""]
[null,{"$f":"IF(COUNTIF(J57:J66,\"Weigh Hopper Loading\")>0,\"EP-4 Weigh Hopper Loading Stack:\",\"\")","v":""},null,null,null,null,null,"","",null,null,null,"",""]
[null,{"$f":"IF(COUNTIF(J57:J66,\"Truck Mix Loading\")>0,\"EP-5 Truck Mix Loading Stack:\",\"\")","v":""}]
[null,{"$f":"IF(COUNTIF(J57:J66,\"Central Mix Loading\")>0,\"EP-6 Central Mix Loading Stack:\",\"\")","v":""},null,null,null,null,null,{"$f":"IF('Concrete Plant (CP-7)'!$D$4>2,\"Stock Pile Area\",\"\")","v":""}]
[null,null,null,null,null,null,null,null,{"$f":"IF('Concrete Plant (CP-7)'!$D$4>2,\"Emission Unit #\",\"\")","v":""},{"$f":"IF('Concrete Plant (CP-7)'!$D$4>2,\"Maximum Storage Area (acres)\",\"\")","v":""},{"$f":"IF('Concrete Plant (CP-7)'!$D$4>2,\"Actual Storage Area (acres)\",\"\")","v":""},{"$f":"IF('Concrete Plant (CP-7)'!$D$4>2,\"Actual Days in Existence (days)\",\"\")","v":""}]
[]
[]
[]
[null,{"$f":"IF('Concrete Plant (CP-7)'!$D$4>3,\"Batch Plant\",\"\")","v":""},{"$f":"IF('Concrete Plant (CP-7)'!$D$4>3,\"Site 4\",\"\")","v":""},null,null,null,null,{"$f":"IF('Concrete Plant (CP-7)'!$D$4>3,\"Emission Point #\",\"\")","v":""},{"$f":"IF('Concrete Plant (CP-7)'!$D$4>3,\"Emission     Unit #\",\"\")","v":""},{"$f":"IF('Concrete Plant (CP-7)'!$D$4>3,\"Processes\",\"\")","v":""},{"$f":"IF('Concrete Plant (CP-7)'!$D$4>3,\"Combined Maximum Hourly Design Rate for all Like Processes (cubic yard/hr)\",\"\")","v":""},{"$f":"IF('Concrete Plant (CP-7)'!$D$4>3,('Facility Information'!G5&\" Annual Throughput (cubic yards)\"),\"\")","v":""}]
[null,null,null,null,null,null,null,null,null,null,null,null,"Truck","Central"]
[null,{"$f":"IF('Concrete Plant (CP-7)'!$D$4>3,\"Site Name:\",\"\")","v":""},null,null,null,null,null,{"$f":"IF(J75=\"cement delivery to silo\",\"CP-1 EP-2\",IF(J75=\"cement supplement delivery to silo\",\"CP-1 EP-3\",IF(J75=\"weigh hopper loading\",\"CP-1 EP-4\",IF(J75=\"truck mix loading\",\"CP-1 EP-5\",IF(J75=\"central mix loading\",\"CP-1 EP-6\",IF(J75=\"\",\"\",\"CP-1 EP-1\"))))))","v":""},{"$f":"IF(J75=\"\",\"\",IF(J75=\"aggregate delivery to ground storage\",\"CP-7 EU-1\",IF(J75=\"sand delivery to ground storage\",\"CP-7 EU-2\",IF(J75=\"aggregate transfer to conveyor\",\"CP-7 EU-3\",IF(J75=\"sand transfer to conveyor\",\"CP-7 EU-4\",IF(J75=\"aggregate transfer to elevated storage\",\"CP-7 EU-5\",IF(J75=\"sand transfer to elevated storage\",\"CP-7 EU-6\",IF(J75=\"weigh hopper loading\",\"CP-7 EU-7\",IF(J75=\"central mix loading\",\"CP-7 EU-8\",IF(J75=\"truck mix loading\",\"CP-7 EU-9\",IF(J75=\"cement delivery to silo\",\"CP-7 EU-10\",IF(J75=\"cement supplement delivery to silo\",\"CP-7 EU-11\"))))))))))))","v":""},null,null,null,{"$f":"IF(J75=\"truck mix loading\",IF($F$78=\"yes\",L75*0.05/2000,L75/2000),\"\")","v":""},{"$f":"IF(J75=\"central mix loading\",IF($F$78=\"yes\",L75*0.05/2000,L75/2000),\"\")","v":""}]
[null,{"$f":"IF('Concrete Plant (CP-7)'!$D$4>3,\"County:\",\"\")","v":""},null,null,null,null,null,{"$f":"IF(J76=\"cement delivery to silo\",\"CP-1 EP-2\",IF(J76=\"cement supplement delivery to silo\",\"CP-1 EP-3\",IF(J76=\"weigh hopper loading\",\"CP-1 EP-4\",IF(J76=\"truck mix loading\",\"CP-1 EP-5\",IF(J76=\"central mix loading\",\"CP-1 EP-6\",IF(J76=\"\",\"\",\"CP-1 EP-1\"))))))","v":""},"",null,null,null,{"$f":"IF(J76=\"truck mix loading\",IF($F$78=\"yes\",L76*0.05/2000,L76/2000),\"\")","v":""},{"$f":"IF(J76=\"central mix loading\",IF($F$78=\"yes\",L76*0.05/2000,L76/2000),\"\")","v":""}]
[null,{"$f":"IF('Concrete Plant (CP-7)'!$D$4>3,\"Batching Period (Dates):\",\"\")","v":""},null,null,null,null,null,"","",null,null,null,"",""]
[null,{"$f":"IF(OR(COUNTIF(J75:J84,\"Truck Mix Loading\")>0,(COUNTIF(J75:J84,\"Central Mix Loading\")>0)),\"Is the Central/Truck Mix Loading process controlled by a baghouse?\",\"\")","v":""},null,null,null,null,null,"","",null,null,null,"",""]
[null,null,null,null,null,null,null,"","",null,null,null,"",""]
[null,{"$f":"IF(AND(B82=\"\",B83=\"\",B84=\"\",B85=\"\",B86=\"\"),\"\",\"Process (complete stack information if applicable):\")","v":""},{"$f":"IF(AND(B82=\"\",B83=\"\",B84=\"\",B85=\"\",B86=\"\"),\"\",\"Stack Height (ft):\")","v":""},{"$f":"IF(AND(B82=\"\",B83=\"\",B84=\"\",B85=\"\",B86=\"\"),\"\",\"Stack Diameter (inches):\")","v":""},{"$f":"IF(AND(B82=\"\",B83=\"\",B84=\"\",B85=\"\",B86=\"\"),\"\",\"Flow Rate (acfm):\")","v":""},{"$f":"IF(AND(B82=\"\",B83=\"\",B84=\"\",B85=\"\",B86=\"\"),\"\",\"Temperature (Deg F):\")","v":""},null,"","",null,null,null,"",""]
[null,null,null,null,null,null,null,"","",null,null,null,"",""]
[null,{"$f":"IF(COUNTIF(J75:J84,\"Cement Delivery to Silo\")>0,\"EP-2 Cement Silo Stack:\",\"\")","v":""},null,null,null,null,null,"","",null,null,null,"",""]
[null,{"$f":"IF(COUNTIF(J75:J84,\"Cement Supplement Delivery to Silo\")>0,\"EP-3 Cement Supplement Silo Stack:\",\"\")","v":""},null,null,null,null,null,"","",null,null,null,"",""]
[null,{"$f":"IF(COUNTIF(J75:J84,\"Weigh Hopper Loading\")>0,\"EP-4 Weigh Hopper Loading Stack:\",\"\")","v":""},null,null,null,null,null,"","",null,null,null,"",""]
[null,{"$f":"IF(COUNTIF(J75:J84,\"Truck Mix Loading\")>0,\"EP-5 Truck Mix Loading Stack:\",\"\")","v":""}]
[null,{"$f":"IF(COUNTIF(J75:J84,\"Central Mix Loading\")>0,\"EP-6 Central Mix Loading Stack:\",\"\")","v":""},null,null,null,null,null,{"$f":"IF('Concrete Plant (CP-7)'!$D$4>3,\"Stock Pile Area\",\"\")","v":""}]
[null,null,null,null,null,null,null,null,{"$f":"IF('Concrete Plant (CP-7)'!$D$4>3,\"Emission Unit #\",\"\")","v":""},{"$f":"IF('Concrete Plant (CP-7)'!$D$4>3,\"Maximum Storage Area (acres)\",\"\")","v":""},{"$f":"IF('Concrete Plant (CP-7)'!$D$4>3,\"Actual Storage Area (acres)\",\"\")","v":""},{"$f":"IF('Concrete Plant (CP-7)'!$D$4>3,\"Actual Days in Existence (days)\",\"\")","v":""}]
[]
[]
[]
[null,{"$f":"IF('Concrete Plant (CP-7)'!$D$4>4,\"Batch Plant\",\"\")","v":""},{"$f":"IF('Concrete Plant (CP-7)'!$D$4>4,\"Site 5\",\"\")","v":""},null,null,null,null,{"$f":"IF('Concrete Plant (CP-7)'!$D$4>4,\"Emission Point #\",\"\")","v":""},{"$f":"IF('Concrete Plant (CP-7)'!$D$4>4,\"Emission     Unit #\",\"\")","v":""},{"$f":"IF('Concrete Plant (CP-7)'!$D$4>4,\"Processes\",\"\")","v":""},{"$f":"IF('Concrete Plant (CP-7)'!$D$4>4,\"Combined Maximum Hourly Design Rate for all Like Processes (cubic yard/hr)\",\"\")","v":""},{"$f":"IF('Concrete Plant (CP-7)'!$D$4>4,('Facility Information'!G5&\" Annual Throughput (cubic yards)\"),\"\")","v":""}]
[null,null,null,null,null,null,null,null,null,null,null,null,"Truck","Central"]
[null,{"$f":"IF('Concrete Plant (CP-7)'!$D$4>4,\"Site Name:\",\"\")","v":""},null,null,null,null,null,{"$f":"IF(J93=\"cement delivery to silo\",\"CP-1 EP-2\",IF(J93=\"cement supplement delivery to silo\",\"CP-1 EP-3\",IF(J93=\"weigh hopper loading\",\"CP-1 EP-4\",IF(J93=\"truck mix loading\",\"CP-1 EP-5\",IF(J93=\"central mix loading\",\"CP-1 EP-6\",IF(J93=\"\",\"\",\"CP-1 EP-1\"))))))","v":""},{"$f":"IF(J93=\"\",\"\",IF(J93=\"aggregate delivery to ground storage\",\"CP-7 EU-1\",IF(J93=\"sand delivery to ground storage\",\"CP-7 EU-2\",IF(J93=\"aggregate transfer to conveyor\",\"CP-7 EU-3\",IF(J93=\"sand transfer to conveyor\",\"CP-7 EU-4\",IF(J93=\"aggregate transfer to elevated storage\",\"CP-7 EU-5\",IF(J93=\"sand transfer to elevated storage\",\"CP-7 EU-6\",IF(J93=\"weigh hopper loading\",\"CP-7 EU-7\",IF(J93=\"central mix loading\",\"CP-7 EU-8\",IF(J93=\"truck mix loading\",\"CP-7 EU-9\",IF(J93=\"cement delivery to silo\",\"CP-7 EU-10\",IF(J93=\"cement supplement delivery to silo\",\"CP-7 EU-11\"))))))))))))","v":""},null,null,null,{"$f":"IF(J93=\"truck mix loading\",IF($F$96=\"yes\",L93*0.05/2000,L93/2000),\"\")","v":""},{"$f":"IF(J93=\"central mix loading\",IF($F$96=\"yes\",L93*0.05/2000,L93/2000),\"\")","v":""}]
[null,{"$f":"IF('Concrete Plant (CP-7)'!$D$4>4,\"County:\",\"\")","v":""},null,null,null,null,null,{"$f":"IF(J94=\"cement delivery to silo\",\"CP-1 EP-2\",IF(J94=\"cement supplement delivery to silo\",\"CP-1 EP-3\",IF(J94=\"weigh hopper loading\",\"CP-1 EP-4\",IF(J94=\"truck mix loading\",\"CP-1 EP-5\",IF(J94=\"central mix loading\",\"CP-1 EP-6\",IF(J94=\"\",\"\",\"CP-1 EP-1\"))))))","v":""},"",null,null,null,{"$f":"IF(J94=\"truck mix loading\",IF($F$96=\"yes\",L94*0.05/2000,L94/2000),\"\")","v":""},{"$f":"IF(J94=\"central mix loading\",IF($F$96=\"yes\",L94*0.05/2000,L94/2000),\"\")","v":""}]
[null,{"$f":"IF('Concrete Plant (CP-7)'!$D$4>4,\"Batching Period (Dates):\",\"\")","v":""},null,null,null,null,null,"","",null,null,null,"",""]
[null,{"$f":"IF(OR(COUNTIF(J93:J102,\"Truck Mix Loading\")>0,(COUNTIF(J93:J102,\"Central Mix Loading\")>0)),\"Is the Central/Truck Mix Loading process controlled by a baghouse?\",\"\")","v":""},null,null,null,null,null,"","",null,null,null,"",""]
[null,null,null,null,null,null,null,"","",null,null,null,"",""]
[null,{"$f":"IF(AND(B100=\"\",B101=\"\",B102=\"\",B103=\"\",B104=\"\"),\"\",\"Process (complete stack information if applicable):\")","v":""},{"$f":"IF(AND(B100=\"\",B101=\"\",B102=\"\",B103=\"\",B104=\"\"),\"\",\"Stack Height (ft):\")","v":""},{"$f":"IF(AND(B100=\"\",B101=\"\",B102=\"\",B103=\"\",B104=\"\"),\"\",\"Stack Diameter (inches):\")","v":""},{"$f":"IF(AND(B100=\"\",B101=\"\",B102=\"\",B103=\"\",B104=\"\"),\"\",\"Flow Rate (acfm):\")","v":""},{"$f":"IF(AND(B100=\"\",B101=\"\",B102=\"\",B103=\"\",B104=\"\"),\"\",\"Temperature (Deg F):\")","v":""},null,"","",null,null,null,"",""]
[null,null,null,null,null,null,null,"","",null,null,null,"",""]
[null,{"$f":"IF(COUNTIF(J93:J102,\"Cement Delivery to Silo\")>0,\"EP-2 Cement Silo Stack:\",\"\")","v":""},null,null,null,null,null,"","",null,null,null,"",""]
[null,{"$f":"IF(COUNTIF(J93:J102,\"Cement Supplement Delivery to Silo\")>0,\"EP-3 Cement Supplement Silo Stack:\",\"\")","v":""},null,null,null,null,null,"","",null,null,null,"",""]
[null,{"$f":"IF(COUNTIF(J93:J102,\"Weigh Hopper Loading\")>0,\"EP-4 Weigh Hopper Loading Stack:\",\"\")","v":""},null,null,null,null,null,"","",null,null,null,"",""]
[null,{"$f":"IF(COUNTIF(J93:J102,\"Truck Mix Loading\")>0,\"EP-5 Truck Mix Loading Stack:\",\"\")","v":""}]
[null,{"$f":"IF(COUNTIF(J93:J102,\"Central Mix Loading\")>0,\"EP-6 Central Mix Loading Stack:\",\"\")","v":""},null,null,null,null,null,{"$f":"IF('Concrete Plant (CP-7)'!$D$4>4,\"Stock Pile Area\",\"\")","v":""}]
[null,null,null,null,null,null,null,null,{"$f":"IF('Concrete Plant (CP-7)'!$D$4>4,\"Emission Unit #\",\"\")","v":""},{"$f":"IF('Concrete Plant (CP-7)'!$D$4>4,\"Maximum Storage Area (acres)\",\"\")","v":""},{"$f":"IF('Concrete Plant (CP-7)'!$D$4>4,\"Actual Storage Area (acres)\",\"\")","v":""},{"$f":"IF('Concrete Plant (CP-7)'!$D$4>4,\"Actual Days in Existence (days)\",\"\")","v":""}]
[]
[]
[]
[null,{"$f":"IF('Concrete Plant (CP-7)'!$D$4>5,\"Batch Plant\",\"\")","v":""},{"$f":"IF('Concrete Plant (CP-7)'!$D$4>5,\"Site 6\",\"\")","v":""},null,null,null,null,{"$f":"IF('Concrete Plant (CP-7)'!$D$4>5,\"Emission Point #\",\"\")","v":""},{"$f":"IF('Concrete Plant (CP-7)'!$D$4>5,\"Emission     Unit #\",\"\")","v":""},{"$f":"IF('Concrete Plant (CP-7)'!$D$4>5,\"Processes\",\"\")","v":""},{"$f":"IF('Concrete Plant (CP-7)'!$D$4>5,\"Combined Maximum Hourly Design Rate for all Like Processes (cubic yard/hr)\",\"\")","v":""},{"$f":"IF('Concrete Plant (CP-7)'!$D$4>5,('Facility Information'!G5&\" Annual Throughput (cubic yards)\"),\"\")","v":""}]
[null,null,null,null,null,null,null,null,null,null,null,null,"Truck","Central"]
[null,{"$f":"IF('Concrete Plant (CP-7)'!$D$4>5,\"Site Name:\",\"\")","v":""},null,null,null,null,null,{"$f":"IF(J111=\"cement delivery to silo\",\"CP-1 EP-2\",IF(J111=\"cement supplement delivery to silo\",\"CP-1 EP-3\",IF(J111=\"weigh hopper loading\",\"CP-1 EP-4\",IF(J111=\"truck mix loading\",\"CP-1 EP-5\",IF(J111=\"central mix loading\",\"CP-1 EP-6\",IF(J111=\"\",\"\",\"CP-1 EP-1\"))))))","v":""},{"$f":"IF(J111=\"\",\"\",IF(J111=\"aggregate delivery to ground storage\",\"CP-7 EU-1\",IF(J111=\"sand delivery to ground storage\",\"CP-7 EU-2\",IF(J111=\"aggregate transfer to conveyor\",\"CP-7 EU-3\",IF(J111=\"sand transfer to conveyor\",\"CP-7 EU-4\",IF(J111=\"aggregate transfer to elevated storage\",\"CP-7 EU-5\",IF(J111=\"sand transfer to elevated storage\",\"CP-7 EU-6\",IF(J111=\"weigh hopper loading\",\"CP-7 EU-7\",IF(J111=\"central mix loading\",\"CP-7 EU-8\",IF(J111=\"truck mix loading\",\"CP-7 EU-9\",IF(J111=\"cement delivery to silo\",\"CP-7 EU-10\",IF(J111=\"cement supplement delivery to silo\",\"CP-7 EU-11\"))))))))))))","v":""},null,null,null,{"$f":"IF(J111=\"truck mix loading\",IF($F$114=\"yes\",L111*0.05/2000,L111/2000),\"\")","v":""},{"$f":"IF(J111=\"central mix loading\",IF($F$114=\"yes\",L111*0.05/2000,L111/2000),\"\")","v":""}]
[null,{"$f":"IF('Concrete Plant (CP-7)'!$D$4>5,\"County:\",\"\")","v":""},null,null,null,null,null,{"$f":"IF(J112=\"cement delivery to silo\",\"CP-1 EP-2\",IF(J112=\"cement supplement delivery to silo\",\"CP-1 EP-3\",IF(J112=\"weigh hopper loading\",\"CP-1 EP-4\",IF(J112=\"truck mix loading\",\"CP-1 EP-5\",IF(J112=\"central mix loading\",\"CP-1 EP-6\",IF(J112=\"\",\"\",\"CP-1 EP-1\"))))))","v":""},"",null,null,null,{"$f":"IF(J112=\"truck mix loading\",IF($F$114=\"yes\",L112*0.05/2000,L112/2000),\"\")","v":""},{"$f":"IF(J112=\"central mix loading\",IF($F$114=\"yes\",L112*0.05/2000,L112/2000),\"\")","v":""}]
[null,{"$f":"IF('Concrete Plant (CP-7)'!$D$4>5,\"Batching Period (Dates):\",\"\")","v":""},null,null,null,null,null,"","",null,null,null,"",""]
[null,{"$f":"IF(OR(COUNTIF(J111:J120,\"Truck Mix Loading\")>0,(COUNTIF(J111:J120,\"Central Mix Loading\")>0)),\"Is the Central/Truck Mix Loading process controlled by a baghouse?\",\"\")","v":""},null,null,null,null,null,"","",null,null,null,"",""]
[null,null,null,null,null,null,null,"","",null,null,null,"",""]
[null,{"$f":"IF(AND(B118=\"\",B119=\"\",B120=\"\",B121=\"\",B122=\"\"),\"\",\"Process (complete stack information if applicable):\")","v":""},{"$f":"IF(AND(B118=\"\",B119=\"\",B120=\"\",B121=\"\",B122=\"\"),\"\",\"Stack Height (ft):\")","v":""},{"$f":"IF(AND(B118=\"\",B119=\"\",B120=\"\",B121=\"\",B122=\"\"),\"\",\"Stack Diameter (inches):\")","v":""},{"$f":"IF(AND(B118=\"\",B119=\"\",B120=\"\",B121=\"\",B122=\"\"),\"\",\"Flow Rate (acfm):\")","v":""},{"$f":"IF(AND(B118=\"\",B119=\"\",B120=\"\",B121=\"\",B122=\"\"),\"\",\"Temperature (Deg F):\")","v":""},null,"","",null,null,null,"",""]
[null,null,null,null,null,null,null,"","",null,null,null,"",""]
[null,{"$f":"IF(COUNTIF(J111:J120,\"Cement Delivery to Silo\")>0,\"EP-2 Cement Silo Stack:\",\"\")","v":""},null,null,null,null,null,"","",null,null,null,"",""]
[null,{"$f":"IF(COUNTIF(J111:J120,\"Cement Supplement Delivery to Silo\")>0,\"EP-3 Cement Supplement Silo Stack:\",\"\")","v":""},null,null,null,null,null,"","",null,null,null,"",""]
[null,{"$f":"IF(COUNTIF(J111:J120,\"Weigh Hopper Loading\")>0,\"EP-4 Weigh Hopper Loading Stack:\",\"\")","v":""},null,null,null,null,null,"","",null,null,null,"",""]
[null,{"$f":"IF(COUNTIF(J111:J120,\"Truck Mix Loading\")>0,\"EP-5 Truck Mix Loading Stack:\",\"\")","v":""}]
[null,{"$f":"IF(COUNTIF(J111:J120,\"Central Mix Loading\")>0,\"EP-6 Central Mix Loading Stack:\",\"\")","v":""},null,null,null,null,null,{"$f":"IF('Concrete Plant (CP-7)'!$D$4>5,\"Stock Pile Area\",\"\")","v":""}]
[null,null,null,null,null,null,null,null,{"$f":"IF('Concrete Plant (CP-7)'!$D$4>5,\"Emission Unit #\",\"\")","v":""},{"$f":"IF('Concrete Plant (CP-7)'!$D$4>5,\"Maximum Storage Area (acres)\",\"\")","v":""},{"$f":"IF('Concrete Plant (CP-7)'!$D$4>5,\"Actual Storage Area (acres)\",\"\")","v":""},{"$f":"IF('Concrete Plant (CP-7)'!$D$4>5,\"Actual Days in Existence (days)\",\"\")","v":""}]
[]
[]
[]
[null,{"$f":"IF('Concrete Plant (CP-7)'!$D$4>6,\"Batch Plant\",\"\")","v":""},{"$f":"IF('Concrete Plant (CP-7)'!$D$4>6,\"Site 7\",\"\")","v":""},null,null,null,null,{"$f":"IF('Concrete Plant (CP-7)'!$D$4>6,\"Emission Point #\",\"\")","v":""},{"$f":"IF('Concrete Plant (CP-7)'!$D$4>6,\"Emission     Unit #\",\"\")","v":""},{"$f":"IF('Concrete Plant (CP-7)'!$D$4>6,\"Processes\",\"\")","v":""},{"$f":"IF('Concrete Plant (CP-7)'!$D$4>6,\"Combined Maximum Hourly Design Rate for all Like Processes (cubic yard/hr)\",\"\")","v":""},{"$f":"IF('Concrete Plant (CP-7)'!$D$4>6,('Facility Information'!G5&\" Annual Throughput (cubic yards)\"),\"\")","v":""}]
[null,null,null,null,null,null,null,null,null,null,null,null,"Truck","Central"]
[null,{"$f":"IF('Concrete Plant (CP-7)'!$D$4>6,\"Site Name:\",\"\")","v":""},null,null,null,null,null,{"$f":"IF(J129=\"cement delivery to silo\",\"CP-1 EP-2\",IF(J129=\"cement supplement delivery to silo\",\"CP-1 EP-3\",IF(J129=\"weigh hopper loading\",\"CP-1 EP-4\",IF(J129=\"truck mix loading\",\"CP-1 EP-5\",IF(J129=\"central mix loading\",\"CP-1 EP-6\",IF(J129=\"\",\"\",\"CP-1 EP-1\"))))))","v":""},{"$f":"IF(J129=\"\",\"\",IF(J129=\"aggregate delivery to ground storage\",\"CP-7 EU-1\",IF(J129=\"sand delivery to ground storage\",\"CP-7 EU-2\",IF(J129=\"aggregate transfer to conveyor\",\"CP-7 EU-3\",IF(J129=\"sand transfer to conveyor\",\"CP-7 EU-4\",IF(J129=\"aggregate transfer to elevated storage\",\"CP-7 EU-5\",IF(J129=\"sand transfer to elevated storage\",\"CP-7 EU-6\",IF(J129=\"weigh hopper loading\",\"CP-7 EU-7\",IF(J129=\"central mix loading\",\"CP-7 EU-8\",IF(J129=\"truck mix loading\",\"CP-7 EU-9\",IF(J129=\"cement delivery to silo\",\"CP-7 EU-10\",IF(J129=\"cement supplement delivery to silo\",\"CP-7 EU-11\"))))))))))))","v":""},null,null,null,{"$f":"IF(J129=\"truck mix loading\",IF($F$132=\"yes\",L129*0.05/2000,L129/2000),\"\")","v":""},{"$f":"IF(J129=\"central mix loading\",IF($F$132=\"yes\",L129*0.05/2000,L129/2000),\"\")","v":""}]
[null,{"$f":"IF('Concrete Plant (CP-7)'!$D$4>6,\"County:\",\"\")","v":""},null,null,null,null,null,{"$f":"IF(J130=\"cement delivery to silo\",\"CP-1 EP-2\",IF(J130=\"cement supplement delivery to silo\",\"CP-1 EP-3\",IF(J130=\"weigh hopper loading\",\"CP-1 EP-4\",IF(J130=\"truck mix loading\",\"CP-1 EP-5\",IF(J130=\"central mix loading\",\"CP-1 EP-6\",IF(J130=\"\",\"\",\"CP-1 EP-1\"))))))","v":""},"",null,null,null,{"$f":"IF(J130=\"truck mix loading\",IF($F$132=\"yes\",L130*0.05/2000,L130/2000),\"\")","v":""},{"$f":"IF(J130=\"central mix loading\",IF($F$132=\"yes\",L130*0.05/2000,L130/2000),\"\")","v":""}]
[null,{"$f":"IF('Concrete Plant (CP-7)'!$D$4>6,\"Batching Period (Dates):\",\"\")","v":""},null,null,null,null,null,"","",null,null,null,"",""]
[null,{"$f":"IF(OR(COUNTIF(J129:J138,\"Truck Mix Loading\")>0,(COUNTIF(J129:J138,\"Central Mix Loading\")>0)),\"Is the Central/Truck Mix Loading process controlled by a baghouse?\",\"\")","v":""},null,null,null,null,null,"","",null,null,null,"",""]
[null,null,null,null,null,null,null,"","",null,null,null,"",""]
[null,{"$f":"IF(AND(B136=\"\",B137=\"\",B138=\"\",B139=\"\",B140=\"\"),\"\",\"Process (complete stack information if applicable):\")","v":""},{"$f":"IF(AND(B136=\"\",B137=\"\",B138=\"\",B139=\"\",B140=\"\"),\"\",\"Stack Height (ft):\")","v":""},{"$f":"IF(AND(B136=\"\",B137=\"\",B138=\"\",B139=\"\",B140=\"\"),\"\",\"Stack Diameter (inches):\")","v":""},{"$f":"IF(AND(B136=\"\",B137=\"\",B138=\"\",B139=\"\",B140=\"\"),\"\",\"Flow Rate (acfm):\")","v":""},{"$f":"IF(AND(B136=\"\",B137=\"\",B138=\"\",B139=\"\",B140=\"\"),\"\",\"Temperature (Deg F):\")","v":""},null,"","",null,null,null,"",""]
[null,null,null,null,null,null,null,"","",null,null,null,"",""]
[null,{"$f":"IF(COUNTIF(J129:J138,\"Cement Delivery to Silo\")>0,\"EP-2 Cement Silo Stack:\",\"\")","v":""},null,null,null,null,null,"","",null,null,null,"",""]
[null,{"$f":"IF(COUNTIF(J129:J138,\"Cement Supplement Delivery to Silo\")>0,\"EP-3 Cement Supplement Silo Stack:\",\"\")","v":""},null,null,null,null,null,"","",null,null,null,"",""]
[null,{"$f":"IF(COUNTIF(J129:J138,\"Weigh Hopper Loading\")>0,\"EP-4 Weigh Hopper Loading Stack:\",\"\")","v":""},null,null,null,null,null,"","",null,null,null,"",""]
[null,{"$f":"IF(COUNTIF(J129:J138,\"Truck Mix Loading\")>0,\"EP-5 Truck Mix Loading Stack:\",\"\")","v":""}]
[null,{"$f":"IF(COUNTIF(J129:J138,\"Central Mix Loading\")>0,\"EP-6 Central Mix Loading Stack:\",\"\")","v":""},null,null,null,null,null,{"$f":"IF('Concrete Plant (CP-7)'!$D$4>6,\"Stock Pile Area\",\"\")","v":""}]
[null,null,null,null,null,null,null,null,{"$f":"IF('Concrete Plant (CP-7)'!$D$4>6,\"Emission Unit #\",\"\")","v":""},{"$f":"IF('Concrete Plant (CP-7)'!$D$4>6,\"Maximum Storage Area (acres)\",\"\")","v":""},{"$f":"IF('Concrete Plant (CP-7)'!$D$4>6,\"Actual Storage Area (acres)\",\"\")","v":""},{"$f":"IF('Concrete Plant (CP-7)'!$D$4>6,\"Actual Days in Existence (days)\",\"\")","v":""}]
[]
[]
[]
[null,{"$f":"IF('Concrete Plant (CP-7)'!$D$4>7,\"Batch Plant\",\"\")","v":""},{"$f":"IF('Concrete Plant (CP-7)'!$D$4>7,\"Site 8\",\"\")","v":""},null,null,null,null,{"$f":"IF('Concrete Plant (CP-7)'!$D$4>7,\"Emission Point #\",\"\")","v":""},{"$f":"IF('Concrete Plant (CP-7)'!$D$4>7,\"Emission     Unit #\",\"\")","v":""},{"$f":"IF('Concrete Plant (CP-7)'!$D$4>7,\"Processes\",\"\")","v":""},{"$f":"IF('Concrete Plant (CP-7)'!$D$4>7,\"Combined Maximum Hourly Design Rate for all Like Processes (cubic yard/hr)\",\"\")","v":""},{"$f":"IF('Concrete Plant (CP-7)'!$D$4>7,('Facility Information'!G5&\" Annual Throughput (cubic yards)\"),\"\")","v":""}]
[null,null,null,null,null,null,null,null,null,null,null,null,"Truck","Central"]
[null,{"$f":"IF('Concrete Plant (CP-7)'!$D$4>7,\"Site Name:\",\"\")","v":""},null,null,null,null,null,{"$f":"IF(J147=\"cement delivery to silo\",\"CP-1 EP-2\",IF(J147=\"cement supplement delivery to silo\",\"CP-1 EP-3\",IF(J147=\"weigh hopper loading\",\"CP-1 EP-4\",IF(J147=\"truck mix loading\",\"CP-1 EP-5\",IF(J147=\"central mix loading\",\"CP-1 EP-6\",IF(J147=\"\",\"\",\"CP-1 EP-1\"))))))","v":""},{"$f":"IF(J147=\"\",\"\",IF(J147=\"aggregate delivery to ground storage\",\"CP-7 EU-1\",IF(J147=\"sand delivery to ground storage\",\"CP-7 EU-2\",IF(J147=\"aggregate transfer to conveyor\",\"CP-7 EU-3\",IF(J147=\"sand transfer to conveyor\",\"CP-7 EU-4\",IF(J147=\"aggregate transfer to elevated storage\",\"CP-7 EU-5\",IF(J147=\"sand transfer to elevated storage\",\"CP-7 EU-6\",IF(J147=\"weigh hopper loading\",\"CP-7 EU-7\",IF(J147=\"central mix loading\",\"CP-7 EU-8\",IF(J147=\"truck mix loading\",\"CP-7 EU-9\",IF(J147=\"cement delivery to silo\",\"CP-7 EU-10\",IF(J147=\"cement supplement delivery to silo\",\"CP-7 EU-11\"))))))))))))","v":""},null,null,null,{"$f":"IF(J147=\"truck mix loading\",IF($F$150=\"yes\",L147*0.05/2000,L147/2000),\"\")","v":""},{"$f":"IF(J147=\"central mix loading\",IF($F$150=\"yes\",L147*0.05/2000,L147/2000),\"\")","v":""}]
[null,{"$f":"IF('Concrete Plant (CP-7)'!$D$4>7,\"County:\",\"\")","v":""},null,null,null,null,null,{"$f":"IF(J148=\"cement delivery to silo\",\"CP-1 EP-2\",IF(J148=\"cement supplement delivery to silo\",\"CP-1 EP-3\",IF(J148=\"weigh hopper loading\",\"CP-1 EP-4\",IF(J148=\"truck mix loading\",\"CP-1 EP-5\",IF(J148=\"central mix loading\",\"CP-1 EP-6\",IF(J148=\"\",\"\",\"CP-1 EP-1\"))))))","v":""},"",null,null,null,{"$f":"IF(J148=\"truck mix loading\",IF($F$150=\"yes\",L148*0.05/2000,L148/2000),\"\")","v":""},{"$f":"IF(J148=\"central mix loading\",IF($F$150=\"yes\",L148*0.05/2000,L148/2000),\"\")","v":""}]
[null,{"$f":"IF('Concrete Plant (CP-7)'!$D$4>7,\"Batching Period (Dates):\",\"\")","v":""},null,null,null,null,null,"","",null,null,null,"",""]
[null,{"$f":"IF(OR(COUNTIF(J147:J156,\"Truck Mix Loading\")>0,(COUNTIF(J147:J156,\"Central Mix Loading\")>0)),\"Is the Central/Truck Mix Loading process controlled by a baghouse?\",\"\")","v":""},null,null,null,null,null,"","",null,null,null,"",""]
[null,null,null,null,null,null,null,"","",null,null,null,"",""]
[null,{"$f":"IF(AND(B154=\"\",B155=\"\",B156=\"\",B157=\"\",B158=\"\"),\"\",\"Process (complete stack information if applicable):\")","v":""},{"$f":"IF(AND(B154=\"\",B155=\"\",B156=\"\",B157=\"\",B158=\"\"),\"\",\"Stack Height (ft):\")","v":""},{"$f":"IF(AND(B154=\"\",B155=\"\",B156=\"\",B157=\"\",B158=\"\"),\"\",\"Stack Diameter (inches):\")","v":""},{"$f":"IF(AND(B154=\"\",B155=\"\",B156=\"\",B157=\"\",B158=\"\"),\"\",\"Flow Rate (acfm):\")","v":""},{"$f":"IF(AND(B154=\"\",B155=\"\",B156=\"\",B157=\"\",B158=\"\"),\"\",\"Temperature (Deg F):\")","v":""},null,"","",null,null,null,"",""]
[null,null,null,null,null,null,null,"","",null,null,null,"",""]
[null,{"$f":"IF(COUNTIF(J147:J156,\"Cement Delivery to Silo\")>0,\"EP-2 Cement Silo Stack:\",\"\")","v":""},null,null,null,null,null,"","",null,null,null,"",""]
[null,{"$f":"IF(COUNTIF(J147:J156,\"Cement Supplement Delivery to Silo\")>0,\"EP-3 Cement Supplement Silo Stack:\",\"\")","v":""},null,null,null,null,null,"","",null,null,null,"",""]
[null,{"$f":"IF(COUNTIF(J147:J156,\"Weigh Hopper Loading\")>0,\"EP-4 Weigh Hopper Loading Stack:\",\"\")","v":""},null,null,null,null,null,"","",null,null,null,"",""]
[null,{"$f":"IF(COUNTIF(J147:J156,\"Truck Mix Loading\")>0,\"EP-5 Truck Mix Loading Stack:\",\"\")","v":""}]
[null,{"$f":"IF(COUNTIF(J147:J156,\"Central Mix Loading\")>0,\"EP-6 Central Mix Loading Stack:\",\"\")","v":""},null,null,null,null,null,{"$f":"IF('Concrete Plant (CP-7)'!$D$4>7,\"Stock Pile Area\",\"\")","v":""}]
[null,null,null,null,null,null,null,null,{"$f":"IF('Concrete Plant (CP-7)'!$D$4>7,\"Emission Unit #\",\"\")","v":""},{"$f":"IF('Concrete Plant (CP-7)'!$D$4>7,\"Maximum Storage Area (acres)\",\"\")","v":""},{"$f":"IF('Concrete Plant (CP-7)'!$D$4>7,\"Actual Storage Area (acres)\",\"\")","v":""},{"$f":"IF('Concrete Plant (CP-7)'!$D$4>7,\"Actual Days in Existence (days)\",\"\")","v":""}]
[]
[]
[]
[null,{"$f":"IF('Concrete Plant (CP-7)'!$D$4>8,\"Batch Plant\",\"\")","v":""},{"$f":"IF('Concrete Plant (CP-7)'!$D$4>8,\"Site 9\",\"\")","v":""},null,null,null,null,{"$f":"IF('Concrete Plant (CP-7)'!$D$4>8,\"Emission Point #\",\"\")","v":""},{"$f":"IF('Concrete Plant (CP-7)'!$D$4>8,\"Emission     Unit #\",\"\")","v":""},{"$f":"IF('Concrete Plant (CP-7)'!$D$4>8,\"Processes\",\"\")","v":""},{"$f":"IF('Concrete Plant (CP-7)'!$D$4>8,\"Combined Maximum Hourly Design Rate for all Like Processes (cubic yard/hr)\",\"\")","v":""},{"$f":"IF('Concrete Plant (CP-7)'!$D$4>8,('Facility Information'!G5&\" Annual Throughput (cubic yards)\"),\"\")","v":""}]
[null,null,null,null,null,null,null,null,null,null,null,null,"Truck","Central"]
[null,{"$f":"IF('Concrete Plant (CP-7)'!$D$4>8,\"Site Name:\",\"\")","v":""},null,null,null,null,null,{"$f":"IF(J165=\"cement delivery to silo\",\"CP-1 EP-2\",IF(J165=\"cement supplement delivery to silo\",\"CP-1 EP-3\",IF(J165=\"weigh hopper loading\",\"CP-1 EP-4\",IF(J165=\"truck mix loading\",\"CP-1 EP-5\",IF(J165=\"central mix loading\",\"CP-1 EP-6\",IF(J165=\"\",\"\",\"CP-1 EP-1\"))))))","v":""},{"$f":"IF(J165=\"\",\"\",IF(J165=\"aggregate delivery to ground storage\",\"CP-7 EU-1\",IF(J165=\"sand delivery to ground storage\",\"CP-7 EU-2\",IF(J165=\"aggregate transfer to conveyor\",\"CP-7 EU-3\",IF(J165=\"sand transfer to conveyor\",\"CP-7 EU-4\",IF(J165=\"aggregate transfer to elevated storage\",\"CP-7 EU-5\",IF(J165=\"sand transfer to elevated storage\",\"CP-7 EU-6\",IF(J165=\"weigh hopper loading\",\"CP-7 EU-7\",IF(J165=\"central mix loading\",\"CP-7 EU-8\",IF(J165=\"truck mix loading\",\"CP-7 EU-9\",IF(J165=\"cement delivery to silo\",\"CP-7 EU-10\",IF(J165=\"cement supplement delivery to silo\",\"CP-7 EU-11\"))))))))))))","v":""},null,null,null,{"$f":"IF(J165=\"truck mix loading\",IF($F$168=\"yes\",L165*0.05/2000,L165/2000),\"\")","v":""},{"$f":"IF(J165=\"central mix loading\",IF($F$168=\"yes\",L165*0.05/2000,L165/2000),\"\")","v":""}]
[null,{"$f":"IF('Concrete Plant (CP-7)'!$D$4>8,\"County:\",\"\")","v":""},null,null,null,null,null,{"$f":"IF(J166=\"cement delivery to silo\",\"CP-1 EP-2\",IF(J166=\"cement supplement delivery to silo\",\"CP-1 EP-3\",IF(J166=\"weigh hopper loading\",\"CP-1 EP-4\",IF(J166=\"truck mix loading\",\"CP-1 EP-5\",IF(J166=\"central mix loading\",\"CP-1 EP-6\",IF(J166=\"\",\"\",\"CP-1 EP-1\"))))))","v":""},"",null,null,null,{"$f":"IF(J166=\"truck mix loading\",IF($F$168=\"yes\",L166*0.05/2000,L166/2000),\"\")","v":""},{"$f":"IF(J166=\"central mix loading\",IF($F$168=\"yes\",L166*0.05/2000,L166/2000),\"\")","v":""}]
[null,{"$f":"IF('Concrete Plant (CP-7)'!$D$4>8,\"Batching Period (Dates):\",\"\")","v":""},null,null,null,null,null,"","",null,null,null,"",""]
[null,{"$f":"IF(OR(COUNTIF(J165:J174,\"Truck Mix Loading\")>0,(COUNTIF(J165:J174,\"Central Mix Loading\")>0)),\"Is the Central/Truck Mix Loading process controlled by a baghouse?\",\"\")","v":""},null,null,null,null,null,"","",null,null,null,"",""]
[null,null,null,null,null,null,null,"","",null,null,null,"",""]
[null,{"$f":"IF(AND(B172=\"\",B173=\"\",B174=\"\",B175=\"\",B176=\"\"),\"\",\"Process (complete stack information if applicable):\")","v":""},{"$f":"IF(AND(B172=\"\",B173=\"\",B174=\"\",B175=\"\",B176=\"\"),\"\",\"Stack Height (ft):\")","v":""},{"$f":"IF(AND(B172=\"\",B173=\"\",B174=\"\",B175=\"\",B176=\"\"),\"\",\"Stack Diameter (inches):\")","v":""},{"$f":"IF(AND(B172=\"\",B173=\"\",B174=\"\",B175=\"\",B176=\"\"),\"\",\"Flow Rate (acfm):\")","v":""},{"$f":"IF(AND(B172=\"\",B173=\"\",B174=\"\",B175=\"\",B176=\"\"),\"\",\"Temperature (Deg F):\")","v":""},null,"","",null,null,null,"",""]
[null,null,null,null,null,null,null,"","",null,null,null,"",""]
[null,{"$f":"IF(COUNTIF(J165:J174,\"Cement Delivery to Silo\")>0,\"EP-2 Cement Silo Stack:\",\"\")","v":""},null,null,null,null,null,"","",null,null,null,"",""]
[null,{"$f":"IF(COUNTIF(J165:J174,\"Cement Supplement Delivery to Silo\")>0,\"EP-3 Cement Supplement Silo Stack:\",\"\")","v":""},null,null,null,null,null,"","",null,null,null,"",""]
[null,{"$f":"IF(COUNTIF(J165:J174,\"Weigh Hopper Loading\")>0,\"EP-4 Weigh Hopper Loading Stack:\",\"\")","v":""},null,null,null,null,null,"","",null,null,null,"",""]
[null,{"$f":"IF(COUNTIF(J165:J174,\"Truck Mix Loading\")>0,\"EP-5 Truck Mix Loading Stack:\",\"\")","v":""}]
[null,{"$f":"IF(COUNTIF(J165:J174,\"Central Mix Loading\")>0,\"EP-6 Central Mix Loading Stack:\",\"\")","v":""},null,null,null,null,null,{"$f":"IF('Concrete Plant (CP-7)'!$D$4>8,\"Stock Pile Area\",\"\")","v":""}]
[null,null,null,null,null,null,null,null,{"$f":"IF('Concrete Plant (CP-7)'!$D$4>8,\"Emission Unit #\",\"\")","v":""},{"$f":"IF('Concrete Plant (CP-7)'!$D$4>8,\"Maximum Storage Area (acres)\",\"\")","v":""},{"$f":"IF('Concrete Plant (CP-7)'!$D$4>8,\"Actual Storage Area (acres)\",\"\")","v":""},{"$f":"IF('Concrete Plant (CP-7)'!$D$4>8,\"Actual Days in Existence (days)\",\"\")","v":""}]
[]
[]
[]
[null,{"$f":"IF('Concrete Plant (CP-7)'!$D$4>9,\"Batch Plant\",\"\")","v":""},{"$f":"IF('Concrete Plant (CP-7)'!$D$4>9,\"Site 10\",\"\")","v":""},null,null,null,null,{"$f":"IF('Concrete Plant (CP-7)'!$D$4>9,\"Emission Point #\",\"\")","v":""},{"$f":"IF('Concrete Plant (CP-7)'!$D$4>9,\"Emission     Unit #\",\"\")","v":""},{"$f":"IF('Concrete Plant (CP-7)'!$D$4>9,\"Processes\",\"\")","v":""},{"$f":"IF('Concrete Plant (CP-7)'!$D$4>9,\"Combined Maximum Hourly Design Rate for all Like Processes (cubic yard/hr)\",\"\")","v":""},{"$f":"IF('Concrete Plant (CP-7)'!$D$4>9,('Facility Information'!G5&\" Annual Throughput (cubic yards)\"),\"\")","v":""}]
[null,null,null,null,null,null,null,null,null,null,null,null,"Truck","Central"]
[null,{"$f":"IF('Concrete Plant (CP-7)'!$D$4>9,\"Site Name:\",\"\")","v":""},null,null,null,null,null,{"$f":"IF(J183=\"cement delivery to silo\",\"CP-1 EP-2\",IF(J183=\"cement supplement delivery to silo\",\"CP-1 EP-3\",IF(J183=\"weigh hopper loading\",\"CP-1 EP-4\",IF(J183=\"truck mix loading\",\"CP-1 EP-5\",IF(J183=\"central mix loading\",\"CP-1 EP-6\",IF(J183=\"\",\"\",\"CP-1 EP-1\"))))))","v":""},{"$f":"IF(J183=\"\",\"\",IF(J183=\"aggregate delivery to ground storage\",\"CP-7 EU-1\",IF(J183=\"sand delivery to ground storage\",\"CP-7 EU-2\",IF(J183=\"aggregate transfer to conveyor\",\"CP-7 EU-3\",IF(J183=\"sand transfer to conveyor\",\"CP-7 EU-4\",IF(J183=\"aggregate transfer to elevated storage\",\"CP-7 EU-5\",IF(J183=\"sand transfer to elevated storage\",\"CP-7 EU-6\",IF(J183=\"weigh hopper loading\",\"CP-7 EU-7\",IF(J183=\"central mix loading\",\"CP-7 EU-8\",IF(J183=\"truck mix loading\",\"CP-7 EU-9\",IF(J183=\"cement delivery to silo\",\"CP-7 EU-10\",IF(J183=\"cement supplement delivery to silo\",\"CP-7 EU-11\"))))))))))))","v":""},null,null,null,{"$f":"IF(J183=\"truck mix loading\",IF($F$186=\"yes\",L183*0.05/2000,L183/2000),\"\")","v":""},{"$f":"IF(J183=\"central mix loading\",IF($F$186=\"yes\",L183*0.05/2000,L183/2000),\"\")","v":""}]
[null,{"$f":"IF('Concrete Plant (CP-7)'!$D$4>9,\"County:\",\"\")","v":""},null,null,null,null,null,{"$f":"IF(J184=\"cement delivery to silo\",\"CP-1 EP-2\",IF(J184=\"cement supplement delivery to silo\",\"CP-1 EP-3\",IF(J184=\"weigh hopper loading\",\"CP-1 EP-4\",IF(J184=\"truck mix loading\",\"CP-1 EP-5\",IF(J184=\"central mix loading\",\"CP-1 EP-6\",IF(J184=\"\",\"\",\"CP-1 EP-1\"))))))","v":""},"",null,null,null,{"$f":"IF(J184=\"truck mix loading\",IF($F$186=\"yes\",L184*0.05/2000,L184/2000),\"\")","v":""},{"$f":"IF(J184=\"central mix loading\",IF($F$186=\"yes\",L184*0.05/2000,L184/2000),\"\")","v":""}]
[null,{"$f":"IF('Concrete Plant (CP-7)'!$D$4>9,\"Batching Period (Dates):\",\"\")","v":""},null,null,null,null,null,"","",null,null,null,"",""]
[null,{"$f":"IF(OR(COUNTIF(J183:J192,\"Truck Mix Loading\")>0,(COUNTIF(J183:J192,\"Central Mix Loading\")>0)),\"Is the Central/Truck Mix Loading process controlled by a baghouse?\",\"\")","v":""},null,null,null,null,null,"","",null,null,null,"",""]
[null,null,null,null,null,null,null,"","",null,null,null,"",""]
[null,{"$f":"IF(AND(B190=\"\",B191=\"\",B192=\"\",B193=\"\",B194=\"\"),\"\",\"Process (complete stack information if applicable):\")","v":""},{"$f":"IF(AND(B190=\"\",B191=\"\",B192=\"\",B193=\"\",B194=\"\"),\"\",\"Stack Height (ft):\")","v":""},{"$f":"IF(AND(B190=\"\",B191=\"\",B192=\"\",B193=\"\",B194=\"\"),\"\",\"Stack Diameter (inches):\")","v":""},{"$f":"IF(AND(B190=\"\",B191=\"\",B192=\"\",B193=\"\",B194=\"\"),\"\",\"Flow Rate (acfm):\")","v":""},{"$f":"IF(AND(B190=\"\",B191=\"\",B192=\"\",B193=\"\",B194=\"\"),\"\",\"Temperature (Deg F):\")","v":""},null,"","",null,null,null,"",""]
[null,null,null,null,null,null,null,"","",null,null,null,"",""]
[null,{"$f":"IF(COUNTIF(J183:J192,\"Cement Delivery to Silo\")>0,\"EP-2 Cement Silo Stack:\",\"\")","v":""},null,null,null,null,null,"","",null,null,null,"",""]
[null,{"$f":"IF(COUNTIF(J183:J192,\"Cement Supplement Delivery to Silo\")>0,\"EP-3 Cement Supplement Silo Stack:\",\"\")","v":""},null,null,null,null,null,"","",null,null,null,"",""]
[null,{"$f":"IF(COUNTIF(J183:J192,\"Weigh Hopper Loading\")>0,\"EP-4 Weigh Hopper Loading Stack:\",\"\")","v":""},null,null,null,null,null,"","",null,null,null,"",""]
[null,{"$f":"IF(COUNTIF(J183:J192,\"Truck Mix Loading\")>0,\"EP-5 Truck Mix Loading Stack:\",\"\")","v":""}]
[null,{"$f":"IF(COUNTIF(J183:J192,\"Central Mix Loading\")>0,\"EP-6 Central Mix Loading Stack:\",\"\")","v":""},null,null,null,null,null,{"$f":"IF('Concrete Plant (CP-7)'!$D$4>9,\"Stock Pile Area\",\"\")","v":""}]
[null,null,null,null,null,null,null,null,{"$f":"IF('Concrete Plant (CP-7)'!$D$4>9,\"Emission Unit #\",\"\")","v":""},{"$f":"IF('Concrete Plant (CP-7)'!$D$4>9,\"Maximum Storage Area (acres)\",\"\")","v":""},{"$f":"IF('Concrete Plant (CP-7)'!$D$4>9,\"Actual Storage Area (acres)\",\"\")","v":""},{"$f":"IF('Concrete Plant (CP-7)'!$D$4>9,\"Actual Days in Existence (days)\",\"\")","v":""}]
[]
[]
[null,null,null,null,null,null,null,null,null,null,null,null,{"$f":"SUM(M183:M192,M165:M174,M147:M156,M129:M138,M111:M120,M93:M102,M75:M84,M57:M66,M39:M48,M21:M30)","v":0},{"$f":"SUM(N183:N192,N165:N174,N147:N156,N129:N138,N111:N120,N93:N102,N75:N84,N57:N66,N39:N48,N21:N30)","v":0}]

{"sheet":"Concrete Plant (CP-8)","index":8,"n_rows":198,"n_cols":23,"rows_kept":198,"cut":false,"hidden":true,"merged":[[3,18,4,20],[79,5,80,5],[25,5,26,5],[61,2,62,2],[61,3,62,3],[61,4,62,4],[61,5,62,5],[43,1,44,1],[43,2,44,2],[43,3,44,3],[43,4,44,4],[43,5,44,5],[41,1,41,4],[59,1,59,4],[76,2,76,4],[75,2,75,4],[74,2,74,4],[77,1,77,4],[22,2,22,4],[21,2,21,4],[20,2,20,4],[61,1,62,1],[9,3,9,4],[8,3,8,4],[95,1,95,4],[113,1,113,4],[131,1,131,4],[149,1,149,4],[167,1,167,4],[185,1,185,4],[79,1,80,1],[79,2,80,2],[79,3,80,3],[79,4,80,4],[94,2,94,4],[93,2,93,4],[92,2,92,4],[112,2,112,4],[166,2,166,4],[165,2,165,4],[164,2,164,4],[130,2,130,4],[129,2,129,4],[128,2,128,4],[151,5,152,5],[133,1,134,1],[133,2,134,2],[133,3,134,3],[133,4,134,4],[133,5,134,5],[151,1,152,1],[151,2,152,2],[151,3,152,3],[151,4,152,4],[148,2,148,4],[147,2,147,4],[146,2,146,4],[115,5,116,5],[97,1,98,1],[97,2,98,2],[97,3,98,3],[97,4,98,4],[97,5,98,5],[111,2,111,4],[110,2,110,4],[115,1,116,1],[115,2,116,2],[115,3,116,3],[115,4,116,4],[187,5,188,5],[169,1,170,1],[169,2,170,2],[169,3,170,3],[169,4,170,4],[169,5,170,5],[187,1,188,1],[187,2,188,2],[187,3,188,3],[187,4,188,4],[184,2,184,4],[183,2,183,4],[182,2,182,4],[25,1,26,1],[25,2,26,2],[25,3,26,3],[25,4,26,4],[23,1,23,4],[58,2,58,4],[57,2,57,4],[56,2,56,4],[40,2,40,4],[39,2,39,4],[38,2,38,4],[2,17,3,17],[3,1,3,2],[20,16,21,16],[0,1,0,2],[1,10,1,11],[2,15,3,15],[2,16,3,16],[18,7,19,7],[18,8,19,8],[18,9,19,9],[18,10,19,10],[18,11,19,11],[1,1,1,4],[10,3,10,4],[11,1,13,4],[5,2,5,3],[10,1,10,2],[9,1,9,2],[8,1,8,2],[36,7,37,7],[36,8,37,8],[36,9,37,9],[36,10,37,10],[36,11,37,11],[46,21,47,21],[20,17,21,17],[20,18,21,18],[20,19,21,19],[20,20,21,20],[20,21,21,21],[46,16,47,16],[46,17,47,17],[46,18,47,18],[46,19,47,19],[46,20,47,20],[72,7,73,7],[72,8,73,8],[72,9,73,9],[72,10,73,10],[72,11,73,11],[54,7,55,7],[54,8,55,8],[54,9,55,9],[54,10,55,10],[54,11,55,11],[108,7,109,7],[108,8,109,8],[108,9,109,9],[108,10,109,10],[108,11,109,11],[90,7,91,7],[90,8,91,8],[90,9,91,9],[90,10,91,10],[90,11,91,11],[144,7,145,7],[144,8,145,8],[144,9,145,9],[144,10,145,10],[144,11,145,11],[126,7,127,7],[126,8,127,8],[126,9,127,9],[126,10,127,10],[126,11,127,11],[180,7,181,7],[180,8,181,8],[180,9,181,9],[180,10,181,10],[180,11,181,11],[162,7,163,7],[162,8,163,8],[162,9,163,9],[162,10,163,10],[162,11,163,11]]}
[null,"CONCRETE BATCH PLANT (CP-8)"]
[null,"Please fill in the yellow boxes as applicable for your facility. ",null,null,null,null,null,null,null,null,"Values used for calculating emissions →",null,null,null,null,"Values Used to Calculate Potential and Actual Emissions for the Listed Processes at this Plant"]
[null,null,null,null,null,null,null,null,null,null,null,null,null,null,null,"Process","Maximum Design Rate (cubic yards/hr)","Actual throughput (cubic yards/yr)"]
[null,{"$f":"\"Number of Sites this Plant operated at in \"&'Facility Information'!G5&\":\"","v":"Number of Sites this Plant operated at in :"},null,null,null,null,null,null,null,null,null,null,null,null,null,null,null,null,"** As of 2016 Potential Emissions are no longer required to be reported in the Minor Source Emissions Inventory**"]
[null,null,null,null,null,null,null,null,null,null,null,null,null,null,null,"Aggregate Delivery to Ground Storage",{"$f":"MAX((IFERROR(OFFSET($J$20,MATCH(\"Aggregate Delivery to Ground Storage\",$J$21:$J$30,0),1),0)),((IFERROR((OFFSET($J$38,MATCH(\"Aggregate Delivery to Ground Storage\",$J$39:$J$48,0),1)),0))),((IFERROR((OFFSET($J$56,MATCH(\"Aggregate Delivery to Ground Storage\",$J$57:$J$66,0),1)),0))),((IFERROR((OFFSET($J$74,MATCH(\"Aggregate Delivery to Ground Storage\",$J$75:$J$84,0),1)),0))),((IFERROR((OFFSET($J$92,MATCH(\"Aggregate Delivery to Ground Storage\",$J$93:$J$102,0),1)),0))),((IFERROR((OFFSET($J$110,MATCH(\"Aggregate Delivery to Ground Storage\",$J$111:$J$120,0),1)),0))),((IFERROR((OFFSET($J$128,MATCH(\"Aggregate Delivery to Ground Storage\",$J$129:$J$138,0),1)),0))),((IFERROR((OFFSET($J$146,MATCH(\"Aggregate Delivery to Ground Storage\",$J$147:$J$156,0),1)),0))),((IFERROR((OFFSET($J$164,MATCH(\"Aggregate Delivery to Ground Storage\",$J$165:$J$174,0),1)),0))),((IFERROR((OFFSET($J$181,MATCH(\"Aggregate Delivery to Ground Storage\",$J$183:$J$192,0),1)),0))),)","v":0},{"$f":"SUM((IFERROR(OFFSET($J$20,MATCH(\"Aggregate Delivery to Ground Storage\",$J$21:$J$30,0),2),0)),((IFERROR((OFFSET($J$38,MATCH(\"Aggregate Delivery to Ground Storage\",$J$39:$J$48,0),2)),0))),((IFERROR((OFFSET($J$56,MATCH(\"Aggregate Delivery to Ground Storage\",$J$57:$J$66,0),2)),0))),((IFERROR((OFFSET($J$74,MATCH(\"Aggregate Delivery to Ground Storage\",$J$75:$J$84,0),2)),0))),((IFERROR((OFFSET($J$92,MATCH(\"Aggregate Delivery to Ground Storage\",$J$93:$J$102,0),2)),0))),((IFERROR((OFFSET($J$110,MATCH(\"Aggregate Delivery to Ground Storage\",$J$111:$J$120,0),2)),0))),((IFERROR((OFFSET($J$128,MATCH(\"Aggregate Delivery to Ground Storage\",$J$129:$J$138,0),2)),0))),((IFERROR((OFFSET($J$146,MATCH(\"Aggregate Delivery to Ground Storage\",$J$147:$J$156,0),2)),0))),((IFERROR((OFFSET($J$164,MATCH(\"Aggregate Delivery to Ground Storage\",$J$165:$J$174,0),2)),0))),((IFERROR((OFFSET($J$181,MATCH(\"Aggregate Delivery to Ground Storage\",$J$183:$J$192,0),2)),0))))","v":0}]
[null,"Plant Specific Permit Number: ",null,null,null,null,null,null,null,null,null,null,null,null,null,"Sand Delivery to Ground Storage",{"$f":"MAX((IFERROR(OFFSET($J$20,MATCH(\"Sand Delivery to Ground Storage\",$J$21:$J$30,0),1),0)),((IFERROR((OFFSET($J$38,MATCH(\"Sand Delivery to Ground Storage\",$J$39:$J$48,0),1)),0))),((IFERROR((OFFSET($J$56,MATCH(\"Sand Delivery to Ground Storage\",$J$57:$J$66,0),1)),0))),((IFERROR((OFFSET($J$74,MATCH(\"Sand Delivery to Ground Storage\",$J$75:$J$84,0),1)),0))),((IFERROR((OFFSET($J$92,MATCH(\"Sand Delivery to Ground Storage\",$J$93:$J$102,0),1)),0))),((IFERROR((OFFSET($J$110,MATCH(\"Sand Delivery to Ground Storage\",$J$111:$J$120,0),1)),0))),((IFERROR((OFFSET($J$128,MATCH(\"Sand Delivery to Ground Storage\",$J$129:$J$138,0),1)),0))),((IFERROR((OFFSET($J$146,MATCH(\"Sand Delivery to Ground Storage\",$J$147:$J$156,0),1)),0))),((IFERROR((OFFSET($J$164,MATCH(\"Sand Delivery to Ground Storage\",$J$165:$J$174,0),1)),0))),((IFERROR((OFFSET($J$181,MATCH(\"Sand Delivery to Ground Storage\",$J$183:$J$192,0),1)),0))),)","v":0},{"$f":"SUM((IFERROR(OFFSET($J$20,MATCH(\"Sand Delivery to Ground Storage\",$J$21:$J$30,0),2),0)),((IFERROR((OFFSET($J$38,MATCH(\"Sand Delivery to Ground Storage\",$J$39:$J$48,0),2)),0))),((IFERROR((OFFSET($J$56,MATCH(\"Sand Delivery to Ground Storage\",$J$57:$J$66,0),2)),0))),((IFERROR((OFFSET($J$74,MATCH(\"Sand Delivery to Ground Storage\",$J$75:$J$84,0),2)),0))),((IFERROR((OFFSET($J$92,MATCH(\"Sand Delivery to Ground Storage\",$J$93:$J$102,0),2)),0))),((IFERROR((OFFSET($J$110,MATCH(\"Sand Delivery to Ground Storage\",$J$111:$J$120,0),2)),0))),((IFERROR((OFFSET($J$128,MATCH(\"Sand Delivery to Ground Storage\",$J$129:$J$138,0),2)),0))),((IFERROR((OFFSET($J$146,MATCH(\"Sand Delivery to Ground Storage\",$J$147:$J$156,0),2)),0))),((IFERROR((OFFSET($J$164,MATCH(\"Sand Delivery to Ground Storage\",$J$165:$J$174,0),2)),0))),((IFERROR((OFFSET($J$181,MATCH(\"Sand Delivery to Ground Storage\",$J$183:$J$192,0),2)),0))))","v":0}]
[null,null,null,null,null,null,null,null,null,null,null,null,null,null,null,"Aggregate Transfer to Conveyor",{"$f":"MAX((IFERROR(OFFSET($J$20,MATCH(\"Aggregate Transfer to Conveyor\",$J$21:$J$30,0),1),0)),((IFERROR((OFFSET($J$38,MATCH(\"Aggregate Transfer to Conveyor\",$J$39:$J$48,0),1)),0))),((IFERROR((OFFSET($J$56,MATCH(\"Aggregate Transfer to Conveyor\",$J$57:$J$66,0),1)),0))),((IFERROR((OFFSET($J$74,MATCH(\"Aggregate Transfer to Conveyor\",$J$75:$J$84,0),1)),0))),((IFERROR((OFFSET($J$92,MATCH(\"Aggregate Transfer to Conveyor\",$J$93:$J$102,0),1)),0))),((IFERROR((OFFSET($J$110,MATCH(\"Aggregate Transfer to Conveyor\",$J$111:$J$120,0),1)),0))),((IFERROR((OFFSET($J$128,MATCH(\"Aggregate Transfer to Conveyor\",$J$129:$J$138,0),1)),0))),((IFERROR((OFFSET($J$146,MATCH(\"Aggregate Transfer to Conveyor\",$J$147:$J$156,0),1)),0))),((IFERROR((OFFSET($J$164,MATCH(\"Aggregate Transfer to Conveyor\",$J$165:$J$174,0),1)),0))),((IFERROR((OFFSET($J$181,MATCH(\"Aggregate Transfer to Conveyor\",$J$183:$J$192,0),1)),0))),)","v":0},{"$f":"SUM((IFERROR(OFFSET($J$20,MATCH(\"Aggregate Transfer to Conveyor\",$J$21:$J$30,0),2),0)),((IFERROR((OFFSET($J$38,MATCH(\"Aggregate Transfer to Conveyor\",$J$39:$J$48,0),2)),0))),((IFERROR((OFFSET($J$56,MATCH(\"Aggregate Transfer to Conveyor\",$J$57:$J$66,0),2)),0))),((IFERROR((OFFSET($J$74,MATCH(\"Aggregate Transfer to Conveyor\",$J$75:$J$84,0),2)),0))),((IFERROR((OFFSET($J$92,MATCH(\"Aggregate Transfer to Conveyor\",$J$93:$J$102,0),2)),0))),((IFERROR((OFFSET($J$110,MATCH(\"Aggregate Transfer to Conveyor\",$J$111:$J$120,0),2)),0))),((IFERROR((OFFSET($J$128,MATCH(\"Aggregate Transfer to Conveyor\",$J$129:$J$138,0),2)),0))),((IFERROR((OFFSET($J$146,MATCH(\"Aggregate Transfer to Conveyor\",$J$147:$J$156,0),2)),0))),((IFERROR((OFFSET($J$164,MATCH(\"Aggregate Transfer to Conveyor\",$J$165:$J$174,0),2)),0))),((IFERROR((OFFSET($J$181,MATCH(\"Aggregate Transfer to Conveyor\",$J$183:$J$192,0),2)),0))))","v":0}]
[null,"Plant Specific Operating Limits:",null,null,null,null,null,"Plant Specific Emission Limits:",null,null,null,null,null,null,null,"Sand Transfer to Conveyor",{"$f":"MAX((IFERROR(OFFSET($J$20,MATCH(\"Sand Transfer to Conveyor\",$J$21:$J$30,0),1),0)),((IFERROR((OFFSET($J$38,MATCH(\"Sand Transfer to Conveyor\",$J$39:$J$48,0),1)),0))),((IFERROR((OFFSET($J$56,MATCH(\"Sand Transfer to Conveyor\",$J$57:$J$66,0),1)),0))),((IFERROR((OFFSET($J$74,MATCH(\"Sand Transfer to Conveyor\",$J$75:$J$84,0),1)),0))),((IFERROR((OFFSET($J$92,MATCH(\"Sand Transfer to Conveyor\",$J$93:$J$102,0),1)),0))),((IFERROR((OFFSET($J$110,MATCH(\"Sand Transfer to Conveyor\",$J$111:$J$120,0),1)),0))),((IFERROR((OFFSET($J$128,MATCH(\"Sand Transfer to Conveyor\",$J$129:$J$138,0),1)),0))),((IFERROR((OFFSET($J$146,MATCH(\"Sand Transfer to Conveyor\",$J$147:$J$156,0),1)),0))),((IFERROR((OFFSET($J$164,MATCH(\"Sand Transfer to Conveyor\",$J$165:$J$174,0),1)),0))),((IFERROR((OFFSET($J$181,MATCH(\"Sand Transfer to Conveyor\",$J$183:$J$192,0),1)),0))),)","v":0},{"$f":"SUM((IFERROR(OFFSET($J$20,MATCH(\"Sand Transfer to Conveyor\",$J$21:$J$30,0),2),0)),((IFERROR((OFFSET($J$38,MATCH(\"Sand Transfer to Conveyor\",$J$39:$J$48,0),2)),0))),((IFERROR((OFFSET($J$56,MATCH(\"Sand Transfer to Conveyor\",$J$57:$J$66,0),2)),0))),((IFERROR((OFFSET($J$74,MATCH(\"Sand Transfer to Conveyor\",$J$75:$J$84,0),2)),0))),((IFERROR((OFFSET($J$92,MATCH(\"Sand Transfer to Conveyor\",$J$93:$J$102,0),2)),0))),((IFERROR((OFFSET($J$110,MATCH(\"Sand Transfer to Conveyor\",$J$111:$J$120,0),2)),0))),((IFERROR((OFFSET($J$128,MATCH(\"Sand Transfer to Conveyor\",$J$129:$J$138,0),2)),0))),((IFERROR((OFFSET($J$146,MATCH(\"Sand Transfer to Conveyor\",$J$147:$J$156,0),2)),0))),((IFERROR((OFFSET($J$164,MATCH(\"Sand Transfer to Conveyor\",$J$165:$J$174,0),2)),0))),((IFERROR((OFFSET($J$181,MATCH(\"Sand Transfer to Conveyor\",$J$183:$J$192,0),2)),0))))","v":0}]
[null,"Throughput Limit (cubic yards/yr):",null,null,null,null,null,"Pollutant","lb/hr","tons/yr",null,null,null,null,null,"Aggregate Transfer to Elevated Storage",{"$f":"MAX((IFERROR(OFFSET($J$20,MATCH(\"Aggregate Transfer to Elevated Storage\",$J$21:$J$30,0),1),0)),((IFERROR((OFFSET($J$38,MATCH(\"Aggregate Transfer to Elevated Storage\",$J$39:$J$48,0),1)),0))),((IFERROR((OFFSET($J$56,MATCH(\"Aggregate Transfer to Elevated Storage\",$J$57:$J$66,0),1)),0))),((IFERROR((OFFSET($J$74,MATCH(\"Aggregate Transfer to Elevated Storage\",$J$75:$J$84,0),1)),0))),((IFERROR((OFFSET($J$92,MATCH(\"Aggregate Transfer to Elevated Storage\",$J$93:$J$102,0),1)),0))),((IFERROR((OFFSET($J$110,MATCH(\"Aggregate Transfer to Elevated Storage\",$J$111:$J$120,0),1)),0))),((IFERROR((OFFSET($J$128,MATCH(\"Aggregate Transfer to Elevated Storage\",$J$129:$J$138,0),1)),0))),((IFERROR((OFFSET($J$146,MATCH(\"Aggregate Transfer to Elevated Storage\",$J$147:$J$156,0),1)),0))),((IFERROR((OFFSET($J$164,MATCH(\"Aggregate Transfer to Elevated Storage\",$J$165:$J$174,0),1)),0))),((IFERROR((OFFSET($J$181,MATCH(\"Aggregate Transfer to Elevated Storage\",$J$183:$J$192,0),1)),0))),)","v":0},{"$f":"SUM((IFERROR(OFFSET($J$20,MATCH(\"Aggregate Transfer to Elevated Storage\",$J$21:$J$30,0),2),0)),((IFERROR((OFFSET($J$38,MATCH(\"Aggregate Transfer to Elevated Storage\",$J$39:$J$48,0),2)),0))),((IFERROR((OFFSET($J$56,MATCH(\"Aggregate Transfer to Elevated Storage\",$J$57:$J$66,0),2)),0))),((IFERROR((OFFSET($J$74,MATCH(\"Aggregate Transfer to Elevated Storage\",$J$75:$J$84,0),2)),0))),((IFERROR((OFFSET($J$92,MATCH(\"Aggregate Transfer to Elevated Storage\",$J$93:$J$102,0),2)),0))),((IFERROR((OFFSET($J$110,MATCH(\"Aggregate Transfer to Elevated Storage\",$J$111:$J$120,0),2)),0))),((IFERROR((OFFSET($J$128,MATCH(\"Aggregate Transfer to Elevated Storage\",$J$129:$J$138,0),2)),0))),((IFERROR((OFFSET($J$146,MATCH(\"Aggregate Transfer to Elevated Storage\",$J$147:$J$156,0),2)),0))),((IFERROR((OFFSET($J$164,MATCH(\"Aggregate Transfer to Elevated Storage\",$J$165:$J$174,0),2)),0))),((IFERROR((OFFSET($J$181,MATCH(\"Aggregate Transfer to Elevated Storage\",$J$183:$J$192,0),2)),0))))","v":0}]
[null,"Daily Throughput Limit (cubic yards/day):",null,null,null,null,null,"PM2.5",null,null,null,null,null,null,null,"Sand Transfer to Elevated Storage",{"$f":"MAX((IFERROR(OFFSET($J$20,MATCH(\"Sand Transfer to Elevated Storage\",$J$21:$J$30,0),1),0)),((IFERROR((OFFSET($J$38,MATCH(\"Sand Transfer to Elevated Storage\",$J$39:$J$48,0),1)),0))),((IFERROR((OFFSET($J$56,MATCH(\"Sand Transfer to Elevated Storage\",$J$57:$J$66,0),1)),0))),((IFERROR((OFFSET($J$74,MATCH(\"Sand Transfer to Elevated Storage\",$J$75:$J$84,0),1)),0))),((IFERROR((OFFSET($J$92,MATCH(\"Sand Transfer to Elevated Storage\",$J$93:$J$102,0),1)),0))),((IFERROR((OFFSET($J$110,MATCH(\"Sand Transfer to Elevated Storage\",$J$111:$J$120,0),1)),0))),((IFERROR((OFFSET($J$128,MATCH(\"Sand Transfer to Elevated Storage\",$J$129:$J$138,0),1)),0))),((IFERROR((OFFSET($J$146,MATCH(\"Sand Transfer to Elevated Storage\",$J$147:$J$156,0),1)),0))),((IFERROR((OFFSET($J$164,MATCH(\"Sand Transfer to Elevated Storage\",$J$165:$J$174,0),1)),0))),((IFERROR((OFFSET($J$181,MATCH(\"Sand Transfer to Elevated Storage\",$J$183:$J$192,0),1)),0))),)","v":0},{"$f":"SUM((IFERROR(OFFSET($J$20,MATCH(\"Sand Transfer to Elevated Storage\",$J$21:$J$30,0),2),0)),((IFERROR((OFFSET($J$38,MATCH(\"Sand Transfer to Elevated Storage\",$J$39:$J$48,0),2)),0))),((IFERROR((OFFSET($J$56,MATCH(\"Sand Transfer to Elevated Storage\",$J$57:$J$66,0),2)),0))),((IFERROR((OFFSET($J$74,MATCH(\"Sand Transfer to Elevated Storage\",$J$75:$J$84,0),2)),0))),((IFERROR((OFFSET($J$92,MATCH(\"Sand Transfer to Elevated Storage\",$J$93:$J$102,0),2)),0))),((IFERROR((OFFSET($J$110,MATCH(\"Sand Transfer to Elevated Storage\",$J$111:$J$120,0),2)),0))),((IFERROR((OFFSET($J$128,MATCH(\"Sand Transfer to Elevated Storage\",$J$129:$J$138,0),2)),0))),((IFERROR((OFFSET($J$146,MATCH(\"Sand Transfer to Elevated Storage\",$J$147:$J$156,0),2)),0))),((IFERROR((OFFSET($J$164,MATCH(\"Sand Transfer to Elevated Storage\",$J$165:$J$174,0),2)),0))),((IFERROR((OFFSET($J$181,MATCH(\"Sand Transfer to Elevated Storage\",$J$183:$J$192,0),2)),0))))","v":0}]
[null,"Hours of Operation Limit (hours/day):",null,null,null,null,null,"PM10",null,null,null,null,null,null,null,"Weigh Hopper Loading",{"$f":"MAX((IFERROR(OFFSET($J$20,MATCH(\"Weigh Hopper Loading\",$J$21:$J$30,0),1),0)),((IFERROR((OFFSET($J$38,MATCH(\"Weigh Hopper Loading\",$J$39:$J$48,0),1)),0))),((IFERROR((OFFSET($J$56,MATCH(\"Weigh Hopper Loading\",$J$57:$J$66,0),1)),0))),((IFERROR((OFFSET($J$74,MATCH(\"Weigh Hopper Loading\",$J$75:$J$84,0),1)),0))),((IFERROR((OFFSET($J$92,MATCH(\"Weigh Hopper Loading\",$J$93:$J$102,0),1)),0))),((IFERROR((OFFSET($J$110,MATCH(\"Weigh Hopper Loading\",$J$111:$J$120,0),1)),0))),((IFERROR((OFFSET($J$128,MATCH(\"Weigh Hopper Loading\",$J$129:$J$138,0),1)),0))),((IFERROR((OFFSET($J$146,MATCH(\"Weigh Hopper Loading\",$J$147:$J$156,0),1)),0))),((IFERROR((OFFSET($J$164,MATCH(\"Weigh Hopper Loading\",$J$165:$J$174,0),1)),0))),((IFERROR((OFFSET($J$181,MATCH(\"Weigh Hopper Loading\",$J$183:$J$192,0),1)),0))),)","v":0},{"$f":"SUM((IFERROR(OFFSET($J$20,MATCH(\"Weigh Hopper Loading\",$J$21:$J$30,0),2),0)),((IFERROR((OFFSET($J$38,MATCH(\"Weigh Hopper Loading\",$J$39:$J$48,0),2)),0))),((IFERROR((OFFSET($J$56,MATCH(\"Weigh Hopper Loading\",$J$57:$J$66,0),2)),0))),((IFERROR((OFFSET($J$74,MATCH(\"Weigh Hopper Loading\",$J$75:$J$84,0),2)),0))),((IFERROR((OFFSET($J$92,MATCH(\"Weigh Hopper Loading\",$J$93:$J$102,0),2)),0))),((IFERROR((OFFSET($J$110,MATCH(\"Weigh Hopper Loading\",$J$111:$J$120,0),2)),0))),((IFERROR((OFFSET($J$128,MATCH(\"Weigh Hopper Loading\",$J$129:$J$138,0),2)),0))),((IFERROR((OFFSET($J$146,MATCH(\"Weigh Hopper Loading\",$J$147:$J$156,0),2)),0))),((IFERROR((OFFSET($J$164,MATCH(\"Weigh Hopper Loading\",$J$165:$J$174,0),2)),0))),((IFERROR((OFFSET($J$181,MATCH(\"Weigh Hopper Loading\",$J$183:$J$192,0),2)),0))))","v":0}]
[null,"Note: if the plant has an hrs/day and a cubic yards/hr permit limit, those values should be multiplied together to calculate a cubic yards/day limit and that value should be placed in cell C10.",null,null,null,null,null,"SO2",null,null,null,null,null,null,null,"Central Mix Loading",{"$f":"MAX((IFERROR(OFFSET($J$20,MATCH(\"Central Mix Loading\",$J$21:$J$30,0),1),0)),((IFERROR((OFFSET($J$38,MATCH(\"Central Mix Loading\",$J$39:$J$48,0),1)),0))),((IFERROR((OFFSET($J$56,MATCH(\"Central Mix Loading\",$J$57:$J$66,0),1)),0))),((IFERROR((OFFSET($J$74,MATCH(\"Central Mix Loading\",$J$75:$J$84,0),1)),0))),((IFERROR((OFFSET($J$92,MATCH(\"Central Mix Loading\",$J$93:$J$102,0),1)),0))),((IFERROR((OFFSET($J$110,MATCH(\"Central Mix Loading\",$J$111:$J$120,0),1)),0))),((IFERROR((OFFSET($J$128,MATCH(\"Central Mix Loading\",$J$129:$J$138,0),1)),0))),((IFERROR((OFFSET($J$146,MATCH(\"Central Mix Loading\",$J$147:$J$156,0),1)),0))),((IFERROR((OFFSET($J$164,MATCH(\"Central Mix Loading\",$J$165:$J$174,0),1)),0))),((IFERROR((OFFSET($J$181,MATCH(\"Central Mix Loading\",$J$183:$J$192,0),1)),0))),)","v":0},{"$f":"SUM((IFERROR(OFFSET($J$20,MATCH(\"Central Mix Loading\",$J$21:$J$30,0),2),0)),((IFERROR((OFFSET($J$38,MATCH(\"Central Mix Loading\",$J$39:$J$48,0),2)),0))),((IFERROR((OFFSET($J$56,MATCH(\"Central Mix Loading\",$J$57:$J$66,0),2)),0))),((IFERROR((OFFSET($J$74,MATCH(\"Central Mix Loading\",$J$75:$J$84,0),2)),0))),((IFERROR((OFFSET($J$92,MATCH(\"Central Mix Loading\",$J$93:$J$102,0),2)),0))),((IFERROR((OFFSET($J$110,MATCH(\"Central Mix Loading\",$J$111:$J$120,0),2)),0))),((IFERROR((OFFSET($J$128,MATCH(\"Central Mix Loading\",$J$129:$J$138,0),2)),0))),((IFERROR((OFFSET($J$146,MATCH(\"Central Mix Loading\",$J$147:$J$156,0),2)),0))),((IFERROR((OFFSET($J$164,MATCH(\"Central Mix Loading\",$J$165:$J$174,0),2)),0))),((IFERROR((OFFSET($J$181,MATCH(\"Central Mix Loading\",$J$183:$J$192,0),2)),0))))","v":0}]
[null,null,null,null,null,null,null,"NOx",null,null,null,null,null,null,null,"Truck Mix Loading",{"$f":"MAX((IFERROR(OFFSET($J$20,MATCH(\"Truck Mix Loading\",$J$21:$J$30,0),1),0)),((IFERROR((OFFSET($J$38,MATCH(\"Truck Mix Loading\",$J$39:$J$48,0),1)),0))),((IFERROR((OFFSET($J$56,MATCH(\"Truck Mix Loading\",$J$57:$J$66,0),1)),0))),((IFERROR((OFFSET($J$74,MATCH(\"Truck Mix Loading\",$J$75:$J$84,0),1)),0))),((IFERROR((OFFSET($J$92,MATCH(\"Truck Mix Loading\",$J$93:$J$102,0),1)),0))),((IFERROR((OFFSET($J$110,MATCH(\"Truck Mix Loading\",$J$111:$J$120,0),1)),0))),((IFERROR((OFFSET($J$128,MATCH(\"Truck Mix Loading\",$J$129:$J$138,0),1)),0))),((IFERROR((OFFSET($J$146,MATCH(\"Truck Mix Loading\",$J$147:$J$156,0),1)),0))),((IFERROR((OFFSET($J$164,MATCH(\"Truck Mix Loading\",$J$165:$J$174,0),1)),0))),((IFERROR((OFFSET($J$181,MATCH(\"Truck Mix Loading\",$J$183:$J$192,0),1)),0))),)","v":0},{"$f":"SUM((IFERROR(OFFSET($J$20,MATCH(\"Truck Mix Loading\",$J$21:$J$30,0),2),0)),((IFERROR((OFFSET($J$38,MATCH(\"Truck Mix Loading\",$J$39:$J$48,0),2)),0))),((IFERROR((OFFSET($J$56,MATCH(\"Truck Mix Loading\",$J$57:$J$66,0),2)),0))),((IFERROR((OFFSET($J$74,MATCH(\"Truck Mix Loading\",$J$75:$J$84,0),2)),0))),((IFERROR((OFFSET($J$92,MATCH(\"Truck Mix Loading\",$J$93:$J$102,0),2)),0))),((IFERROR((OFFSET($J$110,MATCH(\"Truck Mix Loading\",$J$111:$J$120,0),2)),0))),((IFERROR((OFFSET($J$128,MATCH(\"Truck Mix Loading\",$J$129:$J$138,0),2)),0))),((IFERROR((OFFSET($J$146,MATCH(\"Truck Mix Loading\",$J$147:$J$156,0),2)),0))),((IFERROR((OFFSET($J$164,MATCH(\"Truck Mix Loading\",$J$165:$J$174,0),2)),0))),((IFERROR((OFFSET($J$181,MATCH(\"Truck Mix Loading\",$J$183:$J$192,0),2)),0))))","v":0}]
[null,null,null,null,null,null,null,"VOC",null,null,null,null,null,null,null,"Cement Delivery to Silo",{"$f":"MAX((IFERROR(OFFSET($J$20,MATCH(\"Cement Delivery to Silo\",$J$21:$J$30,0),1),0)),((IFERROR((OFFSET($J$38,MATCH(\"Cement Delivery to Silo\",$J$39:$J$48,0),1)),0))),((IFERROR((OFFSET($J$56,MATCH(\"Cement Delivery to Silo\",$J$57:$J$66,0),1)),0))),((IFERROR((OFFSET($J$74,MATCH(\"Cement Delivery to Silo\",$J$75:$J$84,0),1)),0))),((IFERROR((OFFSET($J$92,MATCH(\"Cement Delivery to Silo\",$J$93:$J$102,0),1)),0))),((IFERROR((OFFSET($J$110,MATCH(\"Cement Delivery to Silo\",$J$111:$J$120,0),1)),0))),((IFERROR((OFFSET($J$128,MATCH(\"Cement Delivery to Silo\",$J$129:$J$138,0),1)),0))),((IFERROR((OFFSET($J$146,MATCH(\"Cement Delivery to Silo\",$J$147:$J$156,0),1)),0))),((IFERROR((OFFSET($J$164,MATCH(\"Cement Delivery to Silo\",$J$165:$J$174,0),1)),0))),((IFERROR((OFFSET($J$181,MATCH(\"Cement Delivery to Silo\",$J$183:$J$192,0),1)),0))),)","v":0},{"$f":"SUM((IFERROR(OFFSET($J$20,MATCH(\"Cement Delivery to Silo\",$J$21:$J$30,0),2),0)),((IFERROR((OFFSET($J$38,MATCH(\"Cement Delivery to Silo\",$J$39:$J$48,0),2)),0))),((IFERROR((OFFSET($J$56,MATCH(\"Cement Delivery to Silo\",$J$57:$J$66,0),2)),0))),((IFERROR((OFFSET($J$74,MATCH(\"Cement Delivery to Silo\",$J$75:$J$84,0),2)),0))),((IFERROR((OFFSET($J$92,MATCH(\"Cement Delivery to Silo\",$J$93:$J$102,0),2)),0))),((IFERROR((OFFSET($J$110,MATCH(\"Cement Delivery to Silo\",$J$111:$J$120,0),2)),0))),((IFERROR((OFFSET($J$128,MATCH(\"Cement Delivery to Silo\",$J$129:$J$138,0),2)),0))),((IFERROR((OFFSET($J$146,MATCH(\"Cement Delivery to Silo\",$J$147:$J$156,0),2)),0))),((IFERROR((OFFSET($J$164,MATCH(\"Cement Delivery to Silo\",$J$165:$J$174,0),2)),0))),((IFERROR((OFFSET($J$181,MATCH(\"Cement Delivery to Silo\",$J$183:$J$192,0),2)),0))))","v":0}]
[null,null,null,null,null,null,null,"CO",null,null,null,null,null,null,null,"Cement Supplement Delivery to Silo",{"$f":"MAX((IFERROR(OFFSET($J$20,MATCH(\"Cement Supplement Delivery to Silo\",$J$21:$J$30,0),1),0)),((IFERROR((OFFSET($J$38,MATCH(\"Cement Supplement Delivery to Silo\",$J$39:$J$48,0),1)),0))),((IFERROR((OFFSET($J$56,MATCH(\"Cement Supplement Delivery to Silo\",$J$57:$J$66,0),1)),0))),((IFERROR((OFFSET($J$74,MATCH(\"Cement Supplement Delivery to Silo\",$J$75:$J$84,0),1)),0))),((IFERROR((OFFSET($J$92,MATCH(\"Cement Supplement Delivery to Silo\",$J$93:$J$102,0),1)),0))),((IFERROR((OFFSET($J$110,MATCH(\"Cement Supplement Delivery to Silo\",$J$111:$J$120,0),1)),0))),((IFERROR((OFFSET($J$128,MATCH(\"Cement Supplement Delivery to Silo\",$J$129:$J$138,0),1)),0))),((IFERROR((OFFSET($J$146,MATCH(\"Cement Supplement Delivery to Silo\",$J$147:$J$156,0),1)),0))),((IFERROR((OFFSET($J$164,MATCH(\"Cement Supplement Delivery to Silo\",$J$165:$J$174,0),1)),0))),((IFERROR((OFFSET($J$181,MATCH(\"Cement Supplement Delivery to Silo\",$J$183:$J$192,0),1)),0))),)","v":0},{"$f":"SUM((IFERROR(OFFSET($J$20,MATCH(\"Cement Supplement Delivery to Silo\",$J$21:$J$30,0),2),0)),((IFERROR((OFFSET($J$38,MATCH(\"Cement Supplement Delivery to Silo\",$J$39:$J$48,0),2)),0))),((IFERROR((OFFSET($J$56,MATCH(\"Cement Supplement Delivery to Silo\",$J$57:$J$66,0),2)),0))),((IFERROR((OFFSET($J$74,MATCH(\"Cement Supplement Delivery to Silo\",$J$75:$J$84,0),2)),0))),((IFERROR((OFFSET($J$92,MATCH(\"Cement Supplement Delivery to Silo\",$J$93:$J$102,0),2)),0))),((IFERROR((OFFSET($J$110,MATCH(\"Cement Supplement Delivery to Silo\",$J$111:$J$120,0),2)),0))),((IFERROR((OFFSET($J$128,MATCH(\"Cement Supplement Delivery to Silo\",$J$129:$J$138,0),2)),0))),((IFERROR((OFFSET($J$146,MATCH(\"Cement Supplement Delivery to Silo\",$J$147:$J$156,0),2)),0))),((IFERROR((OFFSET($J$164,MATCH(\"Cement Supplement Delivery to Silo\",$J$165:$J$174,0),2)),0))),((IFERROR((OFFSET($J$181,MATCH(\"Cement Supplement Delivery to Silo\",$J$183:$J$192,0),2)),0))))","v":0}]
[null,null,null,null,null,null,null,null,null,null,null,null,null,null,null,null,"Maximum (acres/day)","Actual (acres-day/yr)"]
[null,null,null,null,null,null,null,null,null,null,null,null,null,null,null,"Storage Pile",{"$f":"SUM(J34,J52,J70,J88,J106,J124,J142,J160,J178,J196)","v":0},{"$f":"SUM(K34*L34,K52*L52,K70*L70,K88*L88,K106*L106,K124*L124,K142*L142,K160*L160,K178*L178,K196*L196)","v":0}]
[]
[null,"Batch Plant","Site 1",null,null,null,null,"Emission Point #","Emission     Unit #","Processes","Combined Maximum Hourly Design Rate for all Like Processes (cubic yard/hr)",{"$f":"('Facility Information'!G5&\" Annual Throughput (cubic yards)\")","v":" Annual Throughput (cubic yards)"}]
[null,null,null,null,null,null,null,null,null,null,null,null,"Truck","Central",null,"Potential and Actual Emissions for the Listed Processes at this Plant"]
["YES","Site Name:",null,null,null,null,null,{"$f":"IF(J21=\"cement delivery to silo\",\"CP-1 EP-2\",IF(J21=\"cement supplement delivery to silo\",\"CP-1 EP-3\",IF(J21=\"weigh hopper loading\",\"CP-1 EP-4\",IF(J21=\"truck mix loading\",\"CP-1 EP-5\",IF(J21=\"central mix loading\",\"CP-1 EP-6\",IF(J21=\"\",\"\",\"CP-1 EP-1\"))))))","v":""},{"$f":"IF(J21=\"\",\"\",IF(J21=\"aggregate delivery to ground storage\",\"CP-8 EU-1\",IF(J21=\"sand delivery to ground storage\",\"CP-8 EU-2\",IF(J21=\"aggregate transfer to conveyor\",\"CP-8 EU-3\",IF(J21=\"sand transfer to conveyor\",\"CP-8 EU-4\",IF(J21=\"aggregate transfer to elevated storage\",\"CP-8 EU-5\",IF(J21=\"sand transfer to elevated storage\",\"CP-8 EU-6\",IF(J21=\"weigh hopper loading\",\"CP-8 EU-7\",IF(J21=\"central mix loading\",\"CP-8 EU-8\",IF(J21=\"truck mix loading\",\"CP-8 EU-9\",IF(J21=\"cement delivery to silo\",\"CP-8 EU-10\",IF(J21=\"cement supplement delivery to silo\",\"CP-8 EU-11\"))))))))))))","v":""},null,null,null,{"$f":"IF(J21=\"truck mix loading\",IF($F$24=\"yes\",L21*0.05/2000,L21/2000),\"\")","v":""},{"$f":"IF(J21=\"central mix loading\",IF($F$24=\"yes\",L21*0.05/2000,L21/2000),\"\")","v":""},null,null,"Maximum Design Rate (cubic yards/hr)","Emission Factor (lb/cubic yard)","Potential Uncontrolled Emissions (lb/hr)","Potential Controlled Emissions (lb/hr)","Potential Annual Emissions (tons/yr)","Actual Annual Emissions (tons/yr)"]
["NO","County:",null,null,null,null,null,{"$f":"IF(J22=\"cement delivery to silo\",\"CP-1 EP-2\",IF(J22=\"cement supplement delivery to silo\",\"CP-1 EP-3\",IF(J22=\"weigh hopper loading\",\"CP-1 EP-4\",IF(J22=\"truck mix loading\",\"CP-1 EP-5\",IF(J22=\"central mix loading\",\"CP-1 EP-6\",IF(J22=\"\",\"\",\"CP-1 EP-1\"))))))","v":""},"",null,null,null,{"$f":"IF(J22=\"truck mix loading\",IF($F$24=\"yes\",L22*0.05/2000,L22/2000),\"\")","v":""},{"$f":"IF(J22=\"central mix loading\",IF($F$24=\"yes\",L22*0.05/2000,L22/2000),\"\")","v":""},null,"PM2.5"]
[null,"Batching Period (Dates):",null,null,null,null,null,"","",null,null,null,"","",null,"Aggregate Delivery to Ground Storage",{"$f":"Q5","v":0},{"$f":"IF(Q23=0,0,LOOKUP(P23,'Emission Factors'!$A$5:$A$16,'Emission Factors'!$D$5:$D$16))","v":0},{"$f":"Q23*R23","v":0},{"$f":"IF(Q23=0,\"\",IF($I$10>0,$I$10,\"\"))","v":""},{"$f":"IF($J$10>0,$J$10,IF($D$9>0,$D$9*R23/2000,IF($D$10>0,$D$10*365*R23/2000,IF($D$11>0,$D$11*365*R23*Q23/2000,IF(T23=\"\",S23*8760/2000,T23*8760/2000)))))","v":0},{"$f":"(R5*R23/2000)","v":0}]
["Aggregate Delivery to Ground Storage",{"$f":"IF(OR(COUNTIF(J21:J30,\"Truck Mix Loading\")>0,(COUNTIF(J21:J30,\"Central Mix Loading\")>0)),\"Is the Central/Truck Mix Loading process controlled by a baghouse?\",\"\")","v":""},null,null,null,null,null,"","",null,null,null,"","",null,"Sand Delivery to Ground Storage",{"$f":"Q6","v":0},{"$f":"IF(Q24=0,0,LOOKUP(P24,'Emission Factors'!$A$5:$A$16,'Emission Factors'!$D$5:$D$16))","v":0},{"$f":"Q24*R24","v":0},{"$f":"IF(Q24=0,\"\",IF($I$10>0,$I$10,\"\"))","v":""},{"$f":"IF($J$10>0,\"\",IF($D$9>0,$D$9*R24/2000,IF($D$10>0,$D$10*365*R24/2000,IF($D$11>0,$D$11*365*R24*Q24/2000,IF(T24=\"\",S24*8760/2000,T24*8760/2000)))))","v":0},{"$f":"(R6*R24/2000)","v":0}]
["Sand Delivery to Ground Storage",null,null,null,null,null,null,"","",null,null,null,"","",null,"Aggregate Transfer to Conveyor",0,{"$f":"IF(Q25=0,0,LOOKUP(P25,'Emission Factors'!$A$5:$A$16,'Emission Factors'!$D$5:$D$16))","v":0},0,"",0,0]
["Aggregate Transfer to Conveyor",{"$f":"IF(AND(B28=\"\",B29=\"\",B32=\"\",B31=\"\",B30=\"\"),\"\",\"Process (complete stack information if applicable):\")","v":""},{"$f":"IF(AND(B28=\"\",B29=\"\",B32=\"\",B31=\"\",B30=\"\"),\"\",\"Stack Height (ft):\")","v":""},{"$f":"IF(AND(B28=\"\",B29=\"\",B32=\"\",B31=\"\",B30=\"\"),\"\",\"Stack Diameter (inches):\")","v":""},{"$f":"IF(AND(B28=\"\",B29=\"\",B32=\"\",B31=\"\",B30=\"\"),\"\",\"Flow Rate (acfm):\")","v":""},{"$f":"IF(AND(B28=\"\",B29=\"\",B32=\"\",B31=\"\",B30=\"\"),\"\",\"Temperature (Deg F):\")","v":""},null,"","",null,null,null,"","",null,"Sand Transfer to Conveyor",0,{"$f":"IF(Q26=0,0,LOOKUP(P26,'Emission Factors'!$A$5:$A$16,'Emission Factors'!$D$5:$D$16))","v":0},0,"",0,0]
["Sand Transfer to Conveyor",null,null,null,null,null,null,"","",null,null,null,"","",null,"Aggregate Transfer to Elevated Storage",0,{"$f":"IF(Q27=0,0,LOOKUP(P27,'Emission Factors'!$A$5:$A$16,'Emission Factors'!$D$5:$D$16))","v":0},0,"",0,0]
["Aggregate Transfer to Elevated Storage",{"$f":"IF(COUNTIF(J21:J30,\"Cement Delivery to Silo\")>0,\"EP-2 Cement Silo Stack:\",\"\")","v":""},null,null,null,null,null,"","",null,null,null,"","",null,"Sand Transfer to Elevated Storage",0,{"$f":"IF(Q28=0,0,LOOKUP(P28,'Emission Factors'!$A$5:$A$16,'Emission Factors'!$D$5:$D$16))","v":0},0,"",0,0]
["Sand Transfer to Elevated Storage",{"$f":"IF(COUNTIF(J21:J30,\"Cement Supplement Delivery to Silo\")>0,\"EP-3 Cement Supplement Silo Stack:\",\"\")","v":""},null,null,null,null,null,"","",null,null,null,"","",null,"Weigh Hopper Loading",0,{"$f":"IF(Q29=0,0,LOOKUP(P29,'Emission Factors'!$A$5:$A$16,'Emission Factors'!$D$5:$D$16))","v":0},0,"",0,0]
["Weigh Hopper Loading",{"$f":"IF(COUNTIF(J21:J30,\"Weigh Hopper Loading\")>0,\"EP-4 Weigh Hopper Loading Stack:\",\"\")","v":""},null,null,null,null,null,"","",null,null,null,"","",null,"Central Mix Loading",0,{"$f":"IF(Q30=0,0,LOOKUP(P30,'Emission Factors'!$A$5:$A$16,'Emission Factors'!$D$5:$D$16))","v":0},0,{"$f":"IF(Q30=0,\"\",IF($I$10>0,$I$10,IF(COUNTIF($F$24:$F$186,\"no\")>0,\"\",S30*(1-0.95))))","v":""},{"$f":"IF($J$10>0,\"\",IF($D$9>0,$D$9*R30*((100-$W$30)/100)/2000,IF($D$10>0,$D$10*365*R30*((100-$W$30)/100)/2000,IF($D$11>0,$D$11*365*R30*((100-$W$30)/100)*Q30/2000,IF(T30=\"\",S30*8760/2000,T30*8760/2000)))))","v":0},{"$f":"(R30*N198)","v":0},{"$f":"IF(COUNTIF($F$24:$F$186,\"no\")>0,0,95)","v":95}]
["Central Mix Loading",{"$f":"IF(COUNTIF(J21:J30,\"Truck Mix Loading\")>0,\"EP-5 Truck Mix Loading Stack:\",\"\")","v":""},null,null,null,null,null,null,null,null,null,null,null,null,null,"Truck Mix Loading",0,{"$f":"IF(Q31=0,0,LOOKUP(P31,'Emission Factors'!$A$5:$A$16,'Emission Factors'!$D$5:$D$16))","v":0},0,{"$f":"IF(Q31=0,\"\",IF($I$10>0,$I$10,IF(COUNTIF($F$24:$F$186,\"no\")>0,\"\",S31*(1-0.95))))","v":""},{"$f":"IF($J$10>0,\"\",IF($D$9>0,$D$9*R31*((100-$W$30)/100)/2000,IF($D$10>0,$D$10*365*R31*((100-$W$30)/100)/2000,IF($D$11>0,$D$11*365*R31*((100-$W$30)/100)*Q31/2000,IF(T31=\"\",S31*8760/2000,T31*8760/2000)))))","v":0},{"$f":"(R31*M198)","v":0}]
["Truck Mix Loading",{"$f":"IF(COUNTIF(J21:J30,\"Central Mix Loading\")>0,\"EP-6 Central Mix Loading Stack:\",\"\")","v":""},null,null,null,null,null,"Stock Pile Area",null,null,null,null,null,null,null,"Cement Delivery to Silo",0,{"$f":"IF(Q32=0,0,LOOKUP(P32,'Emission Factors'!$A$5:$A$16,'Emission Factors'!$D$5:$D$16))","v":0},null,{"$f":"IF(Q32=0,0,IF($I$10>0,$I$10,Q32*R32))","v":0},{"$f":"IF($J$10>0,\"\",IF($D$9>0,$D$9*R32/2000,IF($D$10>0,$D$10*365*R32/2000,IF($D$11>0,$D$11*365*R32*Q32/2000,IF($I$10>0,0,T32*8760/2000)))))","v":0},0]
["Cement Delivery to Silo",null,null,null,null,null,null,null,"Emission Unit #","Maximum Storage Area (acres)","Actual Storage Area (acres)","Actual Days in Existence (days)",null,null,null,"Cement Supplement Delivery to Silo",0,{"$f":"IF(Q33=0,0,LOOKUP(P33,'Emission Factors'!$A$5:$A$16,'Emission Factors'!$D$5:$D$16))","v":0},null,{"$f":"IF(Q33=0,0,IF($I$10>0,$I$10,Q33*R33))","v":0},{"$f":"IF($J$10>0,\"\",IF($D$9>0,$D$9*R33/2000,IF($D$10>0,$D$10*365*R33/2000,IF($D$11>0,$D$11*365*R33*Q33/2000,IF($I$10>0,0,T33*8760/2000)))))","v":0},0]
["Cement Supplement Delivery to Silo",null,null,null,null,null,null,null,null,null,null,null,null,null,null,"PM10"]
[null,null,null,null,null,null,null,null,null,null,null,null,null,null,null,"Aggregate Delivery to Ground Storage",{"$f":"Q5","v":0},{"$f":"IF(Q35=0,0,LOOKUP(P35,'Emission Factors'!$A$5:$A$16,'Emission Factors'!$H$5:$H$16))","v":0},0,{"$f":"IF(Q35=0,\"\",IF($I$11>0,$I$11,\"\"))","v":""},{"$f":"IF($J$11>0,$J$11,IF($D$9>0,$D$9*R35/2000,IF($D$10>0,$D$10*365*R35/2000,IF($D$11>0,$D$11*365*R35*Q35/2000,IF(T35=\"\",S35*8760/2000,T35*8760/2000)))))","v":0},{"$f":"(R5*R35/2000)","v":0}]
[null,null,null,null,null,null,null,null,null,null,null,null,null,null,null,"Sand Delivery to Ground Storage",{"$f":"Q6","v":0},{"$f":"IF(Q36=0,0,LOOKUP(P36,'Emission Factors'!$A$5:$A$16,'Emission Factors'!$H$5:$H$16))","v":0},0,{"$f":"IF(Q36=0,\"\",IF($I$11>0,$I$11,\"\"))","v":""},{"$f":"IF($J$11>0,\"\",IF($D$9>0,$D$9*R36/2000,IF($D$10>0,$D$10*365*R36/2000,IF($D$11>0,$D$11*365*R36*Q36/2000,IF(T36=\"\",S36*8760/2000,T36*8760/2000)))))","v":0},{"$f":"(R6*R36/2000)","v":0}]
[null,{"$f":"IF('Concrete Plant (CP-8)'!$D$4>1,\"Batch Plant\",\"\")","v":""},{"$f":"IF('Concrete Plant (CP-8)'!$D$4>1,\"Site 2\",\"\")","v":""},null,null,null,null,{"$f":"IF('Concrete Plant (CP-8)'!$D$4>1,\"Emission Point #\",\"\")","v":""},{"$f":"IF('Concrete Plant (CP-8)'!$D$4>1,\"Emission     Unit #\",\"\")","v":""},{"$f":"IF('Concrete Plant (CP-8)'!$D$4>1,\"Processes\",\"\")","v":""},{"$f":"IF('Concrete Plant (CP-8)'!$D$4>1,\"Combined Maximum Hourly Design Rate for all Like Processes (cubic yard/hr)\",\"\")","v":""},{"$f":"IF('Concrete Plant (CP-8)'!$D$4>1,('Facility Information'!G5&\" Annual Throughput (cubic yards)\"),\"\")","v":""},null,null,null,"Aggregate Transfer to Conveyor",0,{"$f":"IF(Q37=0,0,LOOKUP(P37,'Emission Factors'!$A$5:$A$16,'Emission Factors'!$H$5:$H$16))","v":0},0,"",0,0]
[null,null,null,null,null,null,null,null,null,null,null,null,"Truck","Central",null,"Sand Transfer to Conveyor",0,{"$f":"IF(Q38=0,0,LOOKUP(P38,'Emission Factors'!$A$5:$A$16,'Emission Factors'!$H$5:$H$16))","v":0},0,"",0,0]
[null,{"$f":"IF('Concrete Plant (CP-8)'!$D$4>1,\"Site Name:\",\"\")","v":""},null,null,null,null,null,{"$f":"IF(J39=\"cement delivery to silo\",\"CP-1 EP-2\",IF(J39=\"cement supplement delivery to silo\",\"CP-1 EP-3\",IF(J39=\"weigh hopper loading\",\"CP-1 EP-4\",IF(J39=\"truck mix loading\",\"CP-1 EP-5\",IF(J39=\"central mix loading\",\"CP-1 EP-6\",IF(J39=\"\",\"\",\"CP-1 EP-1\"))))))","v":""},{"$f":"IF(J39=\"\",\"\",IF(J39=\"aggregate delivery to ground storage\",\"CP-8 EU-1\",IF(J39=\"sand delivery to ground storage\",\"CP-8 EU-2\",IF(J39=\"aggregate transfer to conveyor\",\"CP-8 EU-3\",IF(J39=\"sand transfer to conveyor\",\"CP-8 EU-4\",IF(J39=\"aggregate transfer to elevated storage\",\"CP-8 EU-5\",IF(J39=\"sand transfer to elevated storage\",\"CP-8 EU-6\",IF(J39=\"weigh hopper loading\",\"CP-8 EU-7\",IF(J39=\"central mix loading\",\"CP-8 EU-8\",IF(J39=\"truck mix loading\",\"CP-8 EU-9\",IF(J39=\"cement delivery to silo\",\"CP-8 EU-10\",IF(J39=\"cement supplement delivery to silo\",\"CP-8 EU-11\"))))))))))))","v":""},null,null,null,{"$f":"IF(J39=\"truck mix loading\",IF($F$42=\"yes\",L39*0.05/2000,L39/2000),\"\")","v":""},{"$f":"IF(J39=\"central mix loading\",IF($F$42=\"yes\",L39*0.05/2000,L39/2000),\"\")","v":""},null,"Aggregate Transfer to Elevated Storage",0,{"$f":"IF(Q39=0,0,LOOKUP(P39,'Emission Factors'!$A$5:$A$16,'Emission Factors'!$H$5:$H$16))","v":0},0,"",0,0]
[null,{"$f":"IF('Concrete Plant (CP-8)'!$D$4>1,\"County:\",\"\")","v":""},null,null,null,null,null,{"$f":"IF(J40=\"cement delivery to silo\",\"CP-1 EP-2\",IF(J40=\"cement supplement delivery to silo\",\"CP-1 EP-3\",IF(J40=\"weigh hopper loading\",\"CP-1 EP-4\",IF(J40=\"truck mix loading\",\"CP-1 EP-5\",IF(J40=\"central mix loading\",\"CP-1 EP-6\",IF(J40=\"\",\"\",\"CP-1 EP-1\"))))))","v":""},"",null,null,null,{"$f":"IF(J40=\"truck mix loading\",IF($F$42=\"yes\",L40*0.05/2000,L40/2000),\"\")","v":""},{"$f":"IF(J40=\"central mix loading\",IF($F$42=\"yes\",L40*0.05/2000,L40/2000),\"\")","v":""},null,"Sand Transfer to Elevated Storage",0,{"$f":"IF(Q40=0,0,LOOKUP(P40,'Emission Factors'!$A$5:$A$16,'Emission Factors'!$H$5:$H$16))","v":0},0,"",0,0]
[null,{"$f":"IF('Concrete Plant (CP-8)'!$D$4>1,\"Batching Period (Dates):\",\"\")","v":""},null,null,null,null,null,"","",null,null,null,"","",null,"Weigh Hopper Loading",0,{"$f":"IF(Q41=0,0,LOOKUP(P41,'Emission Factors'!$A$5:$A$16,'Emission Factors'!$H$5:$H$16))","v":0},0,"",0,0]
[null,{"$f":"IF(OR(COUNTIF(J39:J48,\"Truck Mix Loading\")>0,(COUNTIF(J39:J48,\"Central Mix Loading\")>0)),\"Is the Central/Truck Mix Loading process controlled by a baghouse?\",\"\")","v":""},null,null,null,null,null,"","",null,null,null,"","",null,"Central Mix Loading",0,{"$f":"IF(Q42=0,0,LOOKUP(P42,'Emission Factors'!$A$5:$A$16,'Emission Factors'!$H$5:$H$16))","v":0},0,{"$f":"IF(Q42=0,\"\",IF($I$11>0,$I$11,IF(COUNTIF($F$24:$F$186,\"no\")>0,\"\",S42*(1-0.95))))","v":""},{"$f":"IF($J$11>0,\"\",IF($D$9>0,$D$9*R42*((100-$W$30)/100)/2000,IF($D$10>0,$D$10*365*R42*((100-$W$30)/100)/2000,IF($D$11>0,$D$11*365*R42*((100-$W$30)/100)*Q42/2000,IF(T42=\"\",S42*8760/2000,T42*8760/2000)))))","v":0},{"$f":"(N198*R42)","v":0},{"$f":"IF(COUNTIF($F$24:$F$186,\"no\")>0,0,95)","v":95}]
[null,null,null,null,null,null,null,"","",null,null,null,"","",null,"Truck Mix Loading",0,{"$f":"IF(Q43=0,0,LOOKUP(P43,'Emission Factors'!$A$5:$A$16,'Emission Factors'!$H$5:$H$16))","v":0},0,{"$f":"IF(Q43=0,\"\",IF($I$11>0,$I$11,IF(COUNTIF($F$24:$F$186,\"no\")>0,\"\",S43*(1-0.95))))","v":""},{"$f":"IF($J$11>0,\"\",IF($D$9>0,$D$9*R43*((100-$W$30)/100)/2000,IF($D$10>0,$D$10*365*R43*((100-$W$30)/100)/2000,IF($D$11>0,$D$11*365*R43*((100-$W$30)/100)*Q43/2000,IF(T43=\"\",S43*8760/2000,T43*8760/2000)))))","v":0},{"$f":"(M198*R43)","v":0}]
[null,{"$f":"IF(AND(B46=\"\",B47=\"\",B48=\"\",B49=\"\",B50=\"\"),\"\",\"Process (complete stack information if applicable):\")","v":""},{"$f":"IF(AND(B46=\"\",B47=\"\",B48=\"\",B49=\"\",B50=\"\"),\"\",\"Stack Height (ft):\")","v":""},{"$f":"IF(AND(B46=\"\",B47=\"\",B48=\"\",B49=\"\",B50=\"\"),\"\",\"Stack Diameter (inches):\")","v":""},{"$f":"IF(AND(B46=\"\",B47=\"\",B48=\"\",B49=\"\",B50=\"\"),\"\",\"Flow Rate (acfm):\")","v":""},{"$f":"IF(AND(B46=\"\",B47=\"\",B48=\"\",B49=\"\",B50=\"\"),\"\",\"Temperature (Deg F):\")","v":""},null,"","",null,null,null,"","",null,"Cement Delivery to Silo",0,{"$f":"IF(Q44=0,0,LOOKUP(P44,'Emission Factors'!$A$5:$A$16,'Emission Factors'!$H$5:$H$16))","v":0},null,{"$f":"IF(Q44=0,0,IF($I$10>0,$I$10,Q44*R44))","v":0},{"$f":"IF($J$11>0,\"\",IF($D$9>0,$D$9*R44/2000,IF($D$10>0,$D$10*365*R44/2000,IF($D$11>0,$D$11*365*R44*Q44/2000,IF($I$11>0,0,T44*8760/2000)))))","v":0},0]
[null,null,null,null,null,null,null,"","",null,null,null,"","",null,"Cement Supplement Delivery to Silo",0,{"$f":"IF(Q45=0,0,LOOKUP(P45,'Emission Factors'!$A$5:$A$16,'Emission Factors'!$H$5:$H$16))","v":0},null,{"$f":"IF(Q45=0,0,IF($I$10>0,$I$10,Q45*R45))","v":0},{"$f":"IF($J$11>0,\"\",IF($D$9>0,$D$9*R45/2000,IF($D$10>0,$D$10*365*R45/2000,IF($D$11>0,$D$11*365*R45*Q45/2000,IF($I$11>0,0,T45*8760/2000)))))","v":0},0]
[null,{"$f":"IF(COUNTIF(J39:J48,\"Cement Delivery to Silo\")>0,\"EP-2 Cement Silo Stack:\",\"\")","v":""},null,null,null,null,null,"","",null,null,null,"",""]
[null,{"$f":"IF(COUNTIF(J39:J48,\"Cement Supplement Delivery to Silo\")>0,\"EP-3 Cement Supplement Silo Stack:\",\"\")","v":""},null,null,null,null,null,"","",null,null,null,"","",null,null,"Max Design Rate (acres/day)","Emission Factor   (lb/acre-day)","Potential Uncontrolled Emissions (lb/hr)","Potential Controlled Emissions (lb/hr)","Potential Annual Emissions (tons/yr)","Actual Annual Emissions (tons/yr)"]
[null,{"$f":"IF(COUNTIF(J39:J48,\"Weigh Hopper Loading\")>0,\"EP-4 Weigh Hopper Loading Stack:\",\"\")","v":""},null,null,null,null,null,"","",null,null,null,"","",null,"Storage Pile"]
[null,{"$f":"IF(COUNTIF(J39:J48,\"Truck Mix Loading\")>0,\"EP-5 Truck Mix Loading Stack:\",\"\")","v":""},null,null,null,null,null,null,null,null,null,null,null,null,null,"PM2.5/PM10",{"$f":"Q17","v":0},3.64,{"$f":"Q49*R49*(1/24)","v":0},null,{"$f":"Q49*R49*365/2000","v":0},{"$f":"R17*R49/2000","v":0}]
[null,{"$f":"IF(COUNTIF(J39:J48,\"Central Mix Loading\")>0,\"EP-6 Central Mix Loading Stack:\",\"\")","v":""},null,null,null,null,null,{"$f":"IF('Concrete Plant (CP-8)'!$D$4>1,\"Stock Pile Area\",\"\")","v":""}]
[null,null,null,null,null,null,null,null,{"$f":"IF('Concrete Plant (CP-8)'!$D$4>1,\"Emission Unit #\",\"\")","v":""},{"$f":"IF('Concrete Plant (CP-8)'!$D$4>1,\"Maximum Storage Area (acres)\",\"\")","v":""},{"$f":"IF('Concrete Plant (CP-8)'!$D$4>1,\"Actual Storage Area (acres)\",\"\")","v":""},{"$f":"IF('Concrete Plant (CP-8)'!$D$4>1,\"Actual Days in Existence (days)\",\"\")","v":""}]
[]
[]
[]
[null,{"$f":"IF('Concrete Plant (CP-8)'!$D$4>2,\"Batch Plant\",\"\")","v":""},{"$f":"IF('Concrete Plant (CP-8)'!$D$4>2,\"Site 3\",\"\")","v":""},null,null,null,null,{"$f":"IF('Concrete Plant (CP-8)'!$D$4>2,\"Emission Point #\",\"\")","v":""},{"$f":"IF('Concrete Plant (CP-8)'!$D$4>2,\"Emission     Unit #\",\"\")","v":""},{"$f":"IF('Concrete Plant (CP-8)'!$D$4>2,\"Processes\",\"\")","v":""},{"$f":"IF('Concrete Plant (CP-8)'!$D$4>2,\"Combined Maximum Hourly Design Rate for all Like Processes (cubic yard/hr)\",\"\")","v":""},{"$f":"IF('Concrete Plant (CP-8)'!$D$4>2,('Facility Information'!G5&\" Annual Throughput (cubic yards)\"),\"\")","v":""}]
[null,null,null,null,null,null,null,null,null,null,null,null,"Truck","Central"]
[null,{"$f":"IF('Concrete Plant (CP-8)'!$D$4>2,\"Site Name:\",\"\")","v":""},null,null,null,null,null,{"$f":"IF(J57=\"cement delivery to silo\",\"CP-1 EP-2\",IF(J57=\"cement supplement delivery to silo\",\"CP-1 EP-3\",IF(J57=\"weigh hopper loading\",\"CP-1 EP-4\",IF(J57=\"truck mix loading\",\"CP-1 EP-5\",IF(J57=\"central mix loading\",\"CP-1 EP-6\",IF(J57=\"\",\"\",\"CP-1 EP-1\"))))))","v":""},{"$f":"IF(J57=\"\",\"\",IF(J57=\"aggregate delivery to ground storage\",\"CP-8 EU-1\",IF(J57=\"sand delivery to ground storage\",\"CP-8 EU-2\",IF(J57=\"aggregate transfer to conveyor\",\"CP-8 EU-3\",IF(J57=\"sand transfer to conveyor\",\"CP-8 EU-4\",IF(J57=\"aggregate transfer to elevated storage\",\"CP-8 EU-5\",IF(J57=\"sand transfer to elevated storage\",\"CP-8 EU-6\",IF(J57=\"weigh hopper loading\",\"CP-8 EU-7\",IF(J57=\"central mix loading\",\"CP-8 EU-8\",IF(J57=\"truck mix loading\",\"CP-8 EU-9\",IF(J57=\"cement delivery to silo\",\"CP-8 EU-10\",IF(J57=\"cement supplement delivery to silo\",\"CP-8 EU-11\"))))))))))))","v":""},null,null,null,{"$f":"IF(J57=\"truck mix loading\",IF($F$60=\"yes\",L57*0.05/2000,L57/2000),\"\")","v":""},{"$f":"IF(J57=\"central mix loading\",IF($F$60=\"yes\",L57*0.05/2000,L57/2000),\"\")","v":""}]
[null,{"$f":"IF('Concrete Plant (CP-8)'!$D$4>2,\"County:\",\"\")","v":""},null,null,null,null,null,{"$f":"IF(J58=\"cement delivery to silo\",\"CP-1 EP-2\",IF(J58=\"cement supplement delivery to silo\",\"CP-1 EP-3\",IF(J58=\"weigh hopper loading\",\"CP-1 EP-4\",IF(J58=\"truck mix loading\",\"CP-1 EP-5\",IF(J58=\"central mix loading\",\"CP-1 EP-6\",IF(J58=\"\",\"\",\"CP-1 EP-1\"))))))","v":""},"",null,null,null,{"$f":"IF(J58=\"truck mix loading\",IF($F$60=\"yes\",L58*0.05/2000,L58/2000),\"\")","v":""},{"$f":"IF(J58=\"central mix loading\",IF($F$60=\"yes\",L58*0.05/2000,L58/2000),\"\")","v":""}]
[null,{"$f":"IF('Concrete Plant (CP-8)'!$D$4>2,\"Batching Period (Dates):\",\"\")","v":""},null,null,null,null,null,"","",null,null,null,"",""]
[null,{"$f":"IF(OR(COUNTIF(J57:J66,\"Truck Mix Loading\")>0,(COUNTIF(J57:J66,\"Central Mix Loading\")>0)),\"Is the Central/Truck Mix Loading process controlled by a baghouse?\",\"\")","v":""},null,null,null,null,null,"","",null,null,null,"",""]
[null,null,null,null,null,null,null,"","",null,null,null,"",""]
[null,{"$f":"IF(AND(B64=\"\",B65=\"\",B66=\"\",B67=\"\",B68=\"\"),\"\",\"Process (complete stack information if applicable):\")","v":""},{"$f":"IF(AND(B64=\"\",B65=\"\",B66=\"\",B67=\"\",B68=\"\"),\"\",\"Stack Height (ft):\")","v":""},{"$f":"IF(AND(B64=\"\",B65=\"\",B66=\"\",B67=\"\",B68=\"\"),\"\",\"Stack Diameter (inches):\")","v":""},{"$f":"IF(AND(B64=\"\",B65=\"\",B66=\"\",B67=\"\",B68=\"\"),\"\",\"Flow Rate (acfm):\")","v":""},{"$f":"IF(AND(B64=\"\",B65=\"\",B66=\"\",B67=\"\",B68=\"\"),\"\",\"Temperature (Deg F):\")","v":""},null,"","",null,null,null,"",""]
[null,null,null,null,null,null,null,"","",null,null,null,"",""]
[null,{"$f":"IF(COUNTIF(J57:J66,\"Cement Delivery to Silo\")>0,\"EP-2 Cement Silo Stack:\",\"\")","v":""},null,null,null,null,null,"","",null,null,null,"",""]
[null,{"$f":"IF(COUNTIF(J57:J66,\"Cement Supplement Delivery to Silo\")>0,\"EP-3 Cement Supplement Silo Stack:\",\"\")","v":""},null,null,null,null,null,"","",null,null,null,"",""]
[null,{"$f":"IF(COUNTIF(J57:J66,\"Weigh Hopper Loading\")>0,\"EP-4 Weigh Hopper Loading Stack:\",\"\")","v":""},null,null,null,null,null,"","",null,null,null,"",""]
[null,{"$f":"IF(COUNTIF(J57:J66,\"Truck Mix Loading\")>0,\"EP-5 Truck Mix Loading Stack:\",\"\")","v":""}]
[null,{"$f":"IF(COUNTIF(J57:J66,\"Central Mix Loading\")>0,\"EP-6 Central Mix Loading Stack:\",\"\")","v":""},null,null,null,null,null,{"$f":"IF('Concrete Plant (CP-8)'!$D$4>2,\"Stock Pile Area\",\"\")","v":""}]
[null,null,null,null,null,null,null,null,{"$f":"IF('Concrete Plant (CP-8)'!$D$4>2,\"Emission Unit #\",\"\")","v":""},{"$f":"IF('Concrete Plant (CP-8)'!$D$4>2,\"Maximum Storage Area (acres)\",\"\")","v":""},{"$f":"IF('Concrete Plant (CP-8)'!$D$4>2,\"Actual Storage Area (acres)\",\"\")","v":""},{"$f":"IF('Concrete Plant (CP-8)'!$D$4>2,\"Actual Days in Existence (days)\",\"\")","v":""}]
[]
[]
[]
[null,{"$f":"IF('Concrete Plant (CP-8)'!$D$4>3,\"Batch Plant\",\"\")","v":""},{"$f":"IF('Concrete Plant (CP-8)'!$D$4>3,\"Site 4\",\"\")","v":""},null,null,null,null,{"$f":"IF('Concrete Plant (CP-8)'!$D$4>3,\"Emission Point #\",\"\")","v":""},{"$f":"IF('Concrete Plant (CP-8)'!$D$4>3,\"Emission     Unit #\",\"\")","v":""},{"$f":"IF('Concrete Plant (CP-8)'!$D$4>3,\"Processes\",\"\")","v":""},{"$f":"IF('Concrete Plant (CP-8)'!$D$4>3,\"Combined Maximum Hourly Design Rate for all Like Processes (cubic yard/hr)\",\"\")","v":""},{"$f":"IF('Concrete Plant (CP-8)'!$D$4>3,('Facility Information'!G5&\" Annual Throughput (cubic yards)\"),\"\")","v":""}]
[null,null,null,null,null,null,null,null,null,null,null,null,"Truck","Central"]
[null,{"$f":"IF('Concrete Plant (CP-8)'!$D$4>3,\"Site Name:\",\"\")","v":""},null,null,null,null,null,{"$f":"IF(J75=\"cement delivery to silo\",\"CP-1 EP-2\",IF(J75=\"cement supplement delivery to silo\",\"CP-1 EP-3\",IF(J75=\"weigh hopper loading\",\"CP-1 EP-4\",IF(J75=\"truck mix loading\",\"CP-1 EP-5\",IF(J75=\"central mix loading\",\"CP-1 EP-6\",IF(J75=\"\",\"\",\"CP-1 EP-1\"))))))","v":""},{"$f":"IF(J75=\"\",\"\",IF(J75=\"aggregate delivery to ground storage\",\"CP-8 EU-1\",IF(J75=\"sand delivery to ground storage\",\"CP-8 EU-2\",IF(J75=\"aggregate transfer to conveyor\",\"CP-8 EU-3\",IF(J75=\"sand transfer to conveyor\",\"CP-8 EU-4\",IF(J75=\"aggregate transfer to elevated storage\",\"CP-8 EU-5\",IF(J75=\"sand transfer to elevated storage\",\"CP-8 EU-6\",IF(J75=\"weigh hopper loading\",\"CP-8 EU-7\",IF(J75=\"central mix loading\",\"CP-8 EU-8\",IF(J75=\"truck mix loading\",\"CP-8 EU-9\",IF(J75=\"cement delivery to silo\",\"CP-8 EU-10\",IF(J75=\"cement supplement delivery to silo\",\"CP-8 EU-11\"))))))))))))","v":""},null,null,null,{"$f":"IF(J75=\"truck mix loading\",IF($F$78=\"yes\",L75*0.05/2000,L75/2000),\"\")","v":""},{"$f":"IF(J75=\"central mix loading\",IF($F$78=\"yes\",L75*0.05/2000,L75/2000),\"\")","v":""}]
[null,{"$f":"IF('Concrete Plant (CP-8)'!$D$4>3,\"County:\",\"\")","v":""},null,null,null,null,null,{"$f":"IF(J76=\"cement delivery to silo\",\"CP-1 EP-2\",IF(J76=\"cement supplement delivery to silo\",\"CP-1 EP-3\",IF(J76=\"weigh hopper loading\",\"CP-1 EP-4\",IF(J76=\"truck mix loading\",\"CP-1 EP-5\",IF(J76=\"central mix loading\",\"CP-1 EP-6\",IF(J76=\"\",\"\",\"CP-1 EP-1\"))))))","v":""},"",null,null,null,{"$f":"IF(J76=\"truck mix loading\",IF($F$78=\"yes\",L76*0.05/2000,L76/2000),\"\")","v":""},{"$f":"IF(J76=\"central mix loading\",IF($F$78=\"yes\",L76*0.05/2000,L76/2000),\"\")","v":""}]
[null,{"$f":"IF('Concrete Plant (CP-8)'!$D$4>3,\"Batching Period (Dates):\",\"\")","v":""},null,null,null,null,null,"","",null,null,null,"",""]
[null,{"$f":"IF(OR(COUNTIF(J75:J84,\"Truck Mix Loading\")>0,(COUNTIF(J75:J84,\"Central Mix Loading\")>0)),\"Is the Central/Truck Mix Loading process controlled by a baghouse?\",\"\")","v":""},null,null,null,null,null,"","",null,null,null,"",""]
[null,null,null,null,null,null,null,"","",null,null,null,"",""]
[null,{"$f":"IF(AND(B82=\"\",B83=\"\",B84=\"\",B85=\"\",B86=\"\"),\"\",\"Process (complete stack information if applicable):\")","v":""},{"$f":"IF(AND(B82=\"\",B83=\"\",B84=\"\",B85=\"\",B86=\"\"),\"\",\"Stack Height (ft):\")","v":""},{"$f":"IF(AND(B82=\"\",B83=\"\",B84=\"\",B85=\"\",B86=\"\"),\"\",\"Stack Diameter (inches):\")","v":""},{"$f":"IF(AND(B82=\"\",B83=\"\",B84=\"\",B85=\"\",B86=\"\"),\"\",\"Flow Rate (acfm):\")","v":""},{"$f":"IF(AND(B82=\"\",B83=\"\",B84=\"\",B85=\"\",B86=\"\"),\"\",\"Temperature (Deg F):\")","v":""},null,"","",null,null,null,"",""]
[null,null,null,null,null,null,null,"","",null,null,null,"",""]
[null,{"$f":"IF(COUNTIF(J75:J84,\"Cement Delivery to Silo\")>0,\"EP-2 Cement Silo Stack:\",\"\")","v":""},null,null,null,null,null,"","",null,null,null,"",""]
[null,{"$f":"IF(COUNTIF(J75:J84,\"Cement Supplement Delivery to Silo\")>0,\"EP-3 Cement Supplement Silo Stack:\",\"\")","v":""},null,null,null,null,null,"","",null,null,null,"",""]
[null,{"$f":"IF(COUNTIF(J75:J84,\"Weigh Hopper Loading\")>0,\"EP-4 Weigh Hopper Loading Stack:\",\"\")","v":""},null,null,null,null,null,"","",null,null,null,"",""]
[null,{"$f":"IF(COUNTIF(J75:J84,\"Truck Mix Loading\")>0,\"EP-5 Truck Mix Loading Stack:\",\"\")","v":""}]
[null,{"$f":"IF(COUNTIF(J75:J84,\"Central Mix Loading\")>0,\"EP-6 Central Mix Loading Stack:\",\"\")","v":""},null,null,null,null,null,{"$f":"IF('Concrete Plant (CP-8)'!$D$4>3,\"Stock Pile Area\",\"\")","v":""}]
[null,null,null,null,null,null,null,null,{"$f":"IF('Concrete Plant (CP-8)'!$D$4>3,\"Emission Unit #\",\"\")","v":""},{"$f":"IF('Concrete Plant (CP-8)'!$D$4>3,\"Maximum Storage Area (acres)\",\"\")","v":""},{"$f":"IF('Concrete Plant (CP-8)'!$D$4>3,\"Actual Storage Area (acres)\",\"\")","v":""},{"$f":"IF('Concrete Plant (CP-8)'!$D$4>3,\"Actual Days in Existence (days)\",\"\")","v":""}]
[]
[]
[]
[null,{"$f":"IF('Concrete Plant (CP-8)'!$D$4>4,\"Batch Plant\",\"\")","v":""},{"$f":"IF('Concrete Plant (CP-8)'!$D$4>4,\"Site 5\",\"\")","v":""},null,null,null,null,{"$f":"IF('Concrete Plant (CP-8)'!$D$4>4,\"Emission Point #\",\"\")","v":""},{"$f":"IF('Concrete Plant (CP-8)'!$D$4>4,\"Emission     Unit #\",\"\")","v":""},{"$f":"IF('Concrete Plant (CP-8)'!$D$4>4,\"Processes\",\"\")","v":""},{"$f":"IF('Concrete Plant (CP-8)'!$D$4>4,\"Combined Maximum Hourly Design Rate for all Like Processes (cubic yard/hr)\",\"\")","v":""},{"$f":"IF('Concrete Plant (CP-8)'!$D$4>4,('Facility Information'!G5&\" Annual Throughput (cubic yards)\"),\"\")","v":""}]
[null,null,null,null,null,null,null,null,null,null,null,null,"Truck","Central"]
[null,{"$f":"IF('Concrete Plant (CP-8)'!$D$4>4,\"Site Name:\",\"\")","v":""},null,null,null,null,null,{"$f":"IF(J93=\"cement delivery to silo\",\"CP-1 EP-2\",IF(J93=\"cement supplement delivery to silo\",\"CP-1 EP-3\",IF(J93=\"weigh hopper loading\",\"CP-1 EP-4\",IF(J93=\"truck mix loading\",\"CP-1 EP-5\",IF(J93=\"central mix loading\",\"CP-1 EP-6\",IF(J93=\"\",\"\",\"CP-1 EP-1\"))))))","v":""},{"$f":"IF(J93=\"\",\"\",IF(J93=\"aggregate delivery to ground storage\",\"CP-8 EU-1\",IF(J93=\"sand delivery to ground storage\",\"CP-8 EU-2\",IF(J93=\"aggregate transfer to conveyor\",\"CP-8 EU-3\",IF(J93=\"sand transfer to conveyor\",\"CP-8 EU-4\",IF(J93=\"aggregate transfer to elevated storage\",\"CP-8 EU-5\",IF(J93=\"sand transfer to elevated storage\",\"CP-8 EU-6\",IF(J93=\"weigh hopper loading\",\"CP-8 EU-7\",IF(J93=\"central mix loading\",\"CP-8 EU-8\",IF(J93=\"truck mix loading\",\"CP-8 EU-9\",IF(J93=\"cement delivery to silo\",\"CP-8 EU-10\",IF(J93=\"cement supplement delivery to silo\",\"CP-8 EU-11\"))))))))))))","v":""},null,null,null,{"$f":"IF(J93=\"truck mix loading\",IF($F$96=\"yes\",L93*0.05/2000,L93/2000),\"\")","v":""},{"$f":"IF(J93=\"central mix loading\",IF($F$96=\"yes\",L93*0.05/2000,L93/2000),\"\")","v":""}]
[null,{"$f":"IF('Concrete Plant (CP-8)'!$D$4>4,\"County:\",\"\")","v":""},null,null,null,null,null,{"$f":"IF(J94=\"cement delivery to silo\",\"CP-1 EP-2\",IF(J94=\"cement supplement delivery to silo\",\"CP-1 EP-3\",IF(J94=\"weigh hopper loading\",\"CP-1 EP-4\",IF(J94=\"truck mix loading\",\"CP-1 EP-5\",IF(J94=\"central mix loading\",\"CP-1 EP-6\",IF(J94=\"\",\"\",\"CP-1 EP-1\"))))))","v":""},"",null,null,null,{"$f":"IF(J94=\"truck mix loading\",IF($F$96=\"yes\",L94*0.05/2000,L94/2000),\"\")","v":""},{"$f":"IF(J94=\"central mix loading\",IF($F$96=\"yes\",L94*0.05/2000,L94/2000),\"\")","v":""}]
[null,{"$f":"IF('Concrete Plant (CP-8)'!$D$4>4,\"Batching Period (Dates):\",\"\")","v":""},null,null,null,null,null,"","",null,null,null,"",""]
[null,{"$f":"IF(OR(COUNTIF(J93:J102,\"Truck Mix Loading\")>0,(COUNTIF(J93:J102,\"Central Mix Loading\")>0)),\"Is the Central/Truck Mix Loading process controlled by a baghouse?\",\"\")","v":""},null,null,null,null,null,"","",null,null,null,"",""]
[null,null,null,null,null,null,null,"","",null,null,null,"",""]
[null,{"$f":"IF(AND(B100=\"\",B101=\"\",B102=\"\",B103=\"\",B104=\"\"),\"\",\"Process (complete stack information if applicable):\")","v":""},{"$f":"IF(AND(B100=\"\",B101=\"\",B102=\"\",B103=\"\",B104=\"\"),\"\",\"Stack Height (ft):\")","v":""},{"$f":"IF(AND(B100=\"\",B101=\"\",B102=\"\",B103=\"\",B104=\"\"),\"\",\"Stack Diameter (inches):\")","v":""},{"$f":"IF(AND(B100=\"\",B101=\"\",B102=\"\",B103=\"\",B104=\"\"),\"\",\"Flow Rate (acfm):\")","v":""},{"$f":"IF(AND(B100=\"\",B101=\"\",B102=\"\",B103=\"\",B104=\"\"),\"\",\"Temperature (Deg F):\")","v":""},null,"","",null,null,null,"",""]
[null,null,null,null,null,null,null,"","",null,null,null,"",""]
[null,{"$f":"IF(COUNTIF(J93:J102,\"Cement Delivery to Silo\")>0,\"EP-2 Cement Silo Stack:\",\"\")","v":""},null,null,null,null,null,"","",null,null,null,"",""]
[null,{"$f":"IF(COUNTIF(J93:J102,\"Cement Supplement Delivery to Silo\")>0,\"EP-3 Cement Supplement Silo Stack:\",\"\")","v":""},null,null,null,null,null,"","",null,null,null,"",""]
[null,{"$f":"IF(COUNTIF(J93:J102,\"Weigh Hopper Loading\")>0,\"EP-4 Weigh Hopper Loading Stack:\",\"\")","v":""},null,null,null,null,null,"","",null,null,null,"",""]
[null,{"$f":"IF(COUNTIF(J93:J102,\"Truck Mix Loading\")>0,\"EP-5 Truck Mix Loading Stack:\",\"\")","v":""}]
[null,{"$f":"IF(COUNTIF(J93:J102,\"Central Mix Loading\")>0,\"EP-6 Central Mix Loading Stack:\",\"\")","v":""},null,null,null,null,null,{"$f":"IF('Concrete Plant (CP-8)'!$D$4>4,\"Stock Pile Area\",\"\")","v":""}]
[null,null,null,null,null,null,null,null,{"$f":"IF('Concrete Plant (CP-8)'!$D$4>4,\"Emission Unit #\",\"\")","v":""},{"$f":"IF('Concrete Plant (CP-8)'!$D$4>4,\"Maximum Storage Area (acres)\",\"\")","v":""},{"$f":"IF('Concrete Plant (CP-8)'!$D$4>4,\"Actual Storage Area (acres)\",\"\")","v":""},{"$f":"IF('Concrete Plant (CP-8)'!$D$4>4,\"Actual Days in Existence (days)\",\"\")","v":""}]
[]
[]
[]
[null,{"$f":"IF('Concrete Plant (CP-8)'!$D$4>5,\"Batch Plant\",\"\")","v":""},{"$f":"IF('Concrete Plant (CP-8)'!$D$4>5,\"Site 6\",\"\")","v":""},null,null,null,null,{"$f":"IF('Concrete Plant (CP-8)'!$D$4>5,\"Emission Point #\",\"\")","v":""},{"$f":"IF('Concrete Plant (CP-8)'!$D$4>5,\"Emission     Unit #\",\"\")","v":""},{"$f":"IF('Concrete Plant (CP-8)'!$D$4>5,\"Processes\",\"\")","v":""},{"$f":"IF('Concrete Plant (CP-8)'!$D$4>5,\"Combined Maximum Hourly Design Rate for all Like Processes (cubic yard/hr)\",\"\")","v":""},{"$f":"IF('Concrete Plant (CP-8)'!$D$4>5,('Facility Information'!G5&\" Annual Throughput (cubic yards)\"),\"\")","v":""}]
[null,null,null,null,null,null,null,null,null,null,null,null,"Truck","Central"]
[null,{"$f":"IF('Concrete Plant (CP-8)'!$D$4>5,\"Site Name:\",\"\")","v":""},null,null,null,null,null,{"$f":"IF(J111=\"cement delivery to silo\",\"CP-1 EP-2\",IF(J111=\"cement supplement delivery to silo\",\"CP-1 EP-3\",IF(J111=\"weigh hopper loading\",\"CP-1 EP-4\",IF(J111=\"truck mix loading\",\"CP-1 EP-5\",IF(J111=\"central mix loading\",\"CP-1 EP-6\",IF(J111=\"\",\"\",\"CP-1 EP-1\"))))))","v":""},{"$f":"IF(J111=\"\",\"\",IF(J111=\"aggregate delivery to ground storage\",\"CP-8 EU-1\",IF(J111=\"sand delivery to ground storage\",\"CP-8 EU-2\",IF(J111=\"aggregate transfer to conveyor\",\"CP-8 EU-3\",IF(J111=\"sand transfer to conveyor\",\"CP-8 EU-4\",IF(J111=\"aggregate transfer to elevated storage\",\"CP-8 EU-5\",IF(J111=\"sand transfer to elevated storage\",\"CP-8 EU-6\",IF(J111=\"weigh hopper loading\",\"CP-8 EU-7\",IF(J111=\"central mix loading\",\"CP-8 EU-8\",IF(J111=\"truck mix loading\",\"CP-8 EU-9\",IF(J111=\"cement delivery to silo\",\"CP-8 EU-10\",IF(J111=\"cement supplement delivery to silo\",\"CP-8 EU-11\"))))))))))))","v":""},null,null,null,{"$f":"IF(J111=\"truck mix loading\",IF($F$114=\"yes\",L111*0.05/2000,L111/2000),\"\")","v":""},{"$f":"IF(J111=\"central mix loading\",IF($F$114=\"yes\",L111*0.05/2000,L111/2000),\"\")","v":""}]
[null,{"$f":"IF('Concrete Plant (CP-8)'!$D$4>5,\"County:\",\"\")","v":""},null,null,null,null,null,{"$f":"IF(J112=\"cement delivery to silo\",\"CP-1 EP-2\",IF(J112=\"cement supplement delivery to silo\",\"CP-1 EP-3\",IF(J112=\"weigh hopper loading\",\"CP-1 EP-4\",IF(J112=\"truck mix loading\",\"CP-1 EP-5\",IF(J112=\"central mix loading\",\"CP-1 EP-6\",IF(J112=\"\",\"\",\"CP-1 EP-1\"))))))","v":""},"",null,null,null,{"$f":"IF(J112=\"truck mix loading\",IF($F$114=\"yes\",L112*0.05/2000,L112/2000),\"\")","v":""},{"$f":"IF(J112=\"central mix loading\",IF($F$114=\"yes\",L112*0.05/2000,L112/2000),\"\")","v":""}]
[null,{"$f":"IF('Concrete Plant (CP-8)'!$D$4>5,\"Batching Period (Dates):\",\"\")","v":""},null,null,null,null,null,"","",null,null,null,"",""]
[null,{"$f":"IF(OR(COUNTIF(J111:J120,\"Truck Mix Loading\")>0,(COUNTIF(J111:J120,\"Central Mix Loading\")>0)),\"Is the Central/Truck Mix Loading process controlled by a baghouse?\",\"\")","v":""},null,null,null,null,null,"","",null,null,null,"",""]
[null,null,null,null,null,null,null,"","",null,null,null,"",""]
[null,{"$f":"IF(AND(B118=\"\",B119=\"\",B120=\"\",B121=\"\",B122=\"\"),\"\",\"Process (complete stack information if applicable):\")","v":""},{"$f":"IF(AND(B118=\"\",B119=\"\",B120=\"\",B121=\"\",B122=\"\"),\"\",\"Stack Height (ft):\")","v":""},{"$f":"IF(AND(B118=\"\",B119=\"\",B120=\"\",B121=\"\",B122=\"\"),\"\",\"Stack Diameter (inches):\")","v":""},{"$f":"IF(AND(B118=\"\",B119=\"\",B120=\"\",B121=\"\",B122=\"\"),\"\",\"Flow Rate (acfm):\")","v":""},{"$f":"IF(AND(B118=\"\",B119=\"\",B120=\"\",B121=\"\",B122=\"\"),\"\",\"Temperature (Deg F):\")","v":""},null,"","",null,null,null,"",""]
[null,null,null,null,null,null,null,"","",null,null,null,"",""]
[null,{"$f":"IF(COUNTIF(J111:J120,\"Cement Delivery to Silo\")>0,\"EP-2 Cement Silo Stack:\",\"\")","v":""},null,null,null,null,null,"","",null,null,null,"",""]
[null,{"$f":"IF(COUNTIF(J111:J120,\"Cement Supplement Delivery to Silo\")>0,\"EP-3 Cement Supplement Silo Stack:\",\"\")","v":""},null,null,null,null,null,"","",null,null,null,"",""]
[null,{"$f":"IF(COUNTIF(J111:J120,\"Weigh Hopper Loading\")>0,\"EP-4 Weigh Hopper Loading Stack:\",\"\")","v":""},null,null,null,null,null,"","",null,null,null,"",""]
[null,{"$f":"IF(COUNTIF(J111:J120,\"Truck Mix Loading\")>0,\"EP-5 Truck Mix Loading Stack:\",\"\")","v":""}]
[null,{"$f":"IF(COUNTIF(J111:J120,\"Central Mix Loading\")>0,\"EP-6 Central Mix Loading Stack:\",\"\")","v":""},null,null,null,null,null,{"$f":"IF('Concrete Plant (CP-8)'!$D$4>5,\"Stock Pile Area\",\"\")","v":""}]
[null,null,null,null,null,null,null,null,{"$f":"IF('Concrete Plant (CP-8)'!$D$4>5,\"Emission Unit #\",\"\")","v":""},{"$f":"IF('Concrete Plant (CP-8)'!$D$4>5,\"Maximum Storage Area (acres)\",\"\")","v":""},{"$f":"IF('Concrete Plant (CP-8)'!$D$4>5,\"Actual Storage Area (acres)\",\"\")","v":""},{"$f":"IF('Concrete Plant (CP-8)'!$D$4>5,\"Actual Days in Existence (days)\",\"\")","v":""}]
[]
[]
[]
[null,{"$f":"IF('Concrete Plant (CP-8)'!$D$4>6,\"Batch Plant\",\"\")","v":""},{"$f":"IF('Concrete Plant (CP-8)'!$D$4>6,\"Site 7\",\"\")","v":""},null,null,null,null,{"$f":"IF('Concrete Plant (CP-8)'!$D$4>6,\"Emission Point #\",\"\")","v":""},{"$f":"IF('Concrete Plant (CP-8)'!$D$4>6,\"Emission     Unit #\",\"\")","v":""},{"$f":"IF('Concrete Plant (CP-8)'!$D$4>6,\"Processes\",\"\")","v":""},{"$f":"IF('Concrete Plant (CP-8)'!$D$4>6,\"Combined Maximum Hourly Design Rate for all Like Processes (cubic yard/hr)\",\"\")","v":""},{"$f":"IF('Concrete Plant (CP-8)'!$D$4>6,('Facility Information'!G5&\" Annual Throughput (cubic yards)\"),\"\")","v":""}]
[null,null,null,null,null,null,null,null,null,null,null,null,"Truck","Central"]
[null,{"$f":"IF('Concrete Plant (CP-8)'!$D$4>6,\"Site Name:\",\"\")","v":""},null,null,null,null,null,{"$f":"IF(J129=\"cement delivery to silo\",\"CP-1 EP-2\",IF(J129=\"cement supplement delivery to silo\",\"CP-1 EP-3\",IF(J129=\"weigh hopper loading\",\"CP-1 EP-4\",IF(J129=\"truck mix loading\",\"CP-1 EP-5\",IF(J129=\"central mix loading\",\"CP-1 EP-6\",IF(J129=\"\",\"\",\"CP-1 EP-1\"))))))","v":""},{"$f":"IF(J129=\"\",\"\",IF(J129=\"aggregate delivery to ground storage\",\"CP-8 EU-1\",IF(J129=\"sand delivery to ground storage\",\"CP-8 EU-2\",IF(J129=\"aggregate transfer to conveyor\",\"CP-8 EU-3\",IF(J129=\"sand transfer to conveyor\",\"CP-8 EU-4\",IF(J129=\"aggregate transfer to elevated storage\",\"CP-8 EU-5\",IF(J129=\"sand transfer to elevated storage\",\"CP-8 EU-6\",IF(J129=\"weigh hopper loading\",\"CP-8 EU-7\",IF(J129=\"central mix loading\",\"CP-8 EU-8\",IF(J129=\"truck mix loading\",\"CP-8 EU-9\",IF(J129=\"cement delivery to silo\",\"CP-8 EU-10\",IF(J129=\"cement supplement delivery to silo\",\"CP-8 EU-11\"))))))))))))","v":""},null,null,null,{"$f":"IF(J129=\"truck mix loading\",IF($F$132=\"yes\",L129*0.05/2000,L129/2000),\"\")","v":""},{"$f":"IF(J129=\"central mix loading\",IF($F$132=\"yes\",L129*0.05/2000,L129/2000),\"\")","v":""}]
[null,{"$f":"IF('Concrete Plant (CP-8)'!$D$4>6,\"County:\",\"\")","v":""},null,null,null,null,null,{"$f":"IF(J130=\"cement delivery to silo\",\"CP-1 EP-2\",IF(J130=\"cement supplement delivery to silo\",\"CP-1 EP-3\",IF(J130=\"weigh hopper loading\",\"CP-1 EP-4\",IF(J130=\"truck mix loading\",\"CP-1 EP-5\",IF(J130=\"central mix loading\",\"CP-1 EP-6\",IF(J130=\"\",\"\",\"CP-1 EP-1\"))))))","v":""},"",null,null,null,{"$f":"IF(J130=\"truck mix loading\",IF($F$132=\"yes\",L130*0.05/2000,L130/2000),\"\")","v":""},{"$f":"IF(J130=\"central mix loading\",IF($F$132=\"yes\",L130*0.05/2000,L130/2000),\"\")","v":""}]
[null,{"$f":"IF('Concrete Plant (CP-8)'!$D$4>6,\"Batching Period (Dates):\",\"\")","v":""},null,null,null,null,null,"","",null,null,null,"",""]
[null,{"$f":"IF(OR(COUNTIF(J129:J138,\"Truck Mix Loading\")>0,(COUNTIF(J129:J138,\"Central Mix Loading\")>0)),\"Is the Central/Truck Mix Loading process controlled by a baghouse?\",\"\")","v":""},null,null,null,null,null,"","",null,null,null,"",""]
[null,null,null,null,null,null,null,"","",null,null,null,"",""]
[null,{"$f":"IF(AND(B136=\"\",B137=\"\",B138=\"\",B139=\"\",B140=\"\"),\"\",\"Process (complete stack information if applicable):\")","v":""},{"$f":"IF(AND(B136=\"\",B137=\"\",B138=\"\",B139=\"\",B140=\"\"),\"\",\"Stack Height (ft):\")","v":""},{"$f":"IF(AND(B136=\"\",B137=\"\",B138=\"\",B139=\"\",B140=\"\"),\"\",\"Stack Diameter (inches):\")","v":""},{"$f":"IF(AND(B136=\"\",B137=\"\",B138=\"\",B139=\"\",B140=\"\"),\"\",\"Flow Rate (acfm):\")","v":""},{"$f":"IF(AND(B136=\"\",B137=\"\",B138=\"\",B139=\"\",B140=\"\"),\"\",\"Temperature (Deg F):\")","v":""},null,"","",null,null,null,"",""]
[null,null,null,null,null,null,null,"","",null,null,null,"",""]
[null,{"$f":"IF(COUNTIF(J129:J138,\"Cement Delivery to Silo\")>0,\"EP-2 Cement Silo Stack:\",\"\")","v":""},null,null,null,null,null,"","",null,null,null,"",""]
[null,{"$f":"IF(COUNTIF(J129:J138,\"Cement Supplement Delivery to Silo\")>0,\"EP-3 Cement Supplement Silo Stack:\",\"\")","v":""},null,null,null,null,null,"","",null,null,null,"",""]
[null,{"$f":"IF(COUNTIF(J129:J138,\"Weigh Hopper Loading\")>0,\"EP-4 Weigh Hopper Loading Stack:\",\"\")","v":""},null,null,null,null,null,"","",null,null,null,"",""]
[null,{"$f":"IF(COUNTIF(J129:J138,\"Truck Mix Loading\")>0,\"EP-5 Truck Mix Loading Stack:\",\"\")","v":""}]
[null,{"$f":"IF(COUNTIF(J129:J138,\"Central Mix Loading\")>0,\"EP-6 Central Mix Loading Stack:\",\"\")","v":""},null,null,null,null,null,{"$f":"IF('Concrete Plant (CP-8)'!$D$4>6,\"Stock Pile Area\",\"\")","v":""}]
[null,null,null,null,null,null,null,null,{"$f":"IF('Concrete Plant (CP-8)'!$D$4>6,\"Emission Unit #\",\"\")","v":""},{"$f":"IF('Concrete Plant (CP-8)'!$D$4>6,\"Maximum Storage Area (acres)\",\"\")","v":""},{"$f":"IF('Concrete Plant (CP-8)'!$D$4>6,\"Actual Storage Area (acres)\",\"\")","v":""},{"$f":"IF('Concrete Plant (CP-8)'!$D$4>6,\"Actual Days in Existence (days)\",\"\")","v":""}]
[]
[]
[]
[null,{"$f":"IF('Concrete Plant (CP-8)'!$D$4>7,\"Batch Plant\",\"\")","v":""},{"$f":"IF('Concrete Plant (CP-8)'!$D$4>7,\"Site 8\",\"\")","v":""},null,null,null,null,{"$f":"IF('Concrete Plant (CP-8)'!$D$4>7,\"Emission Point #\",\"\")","v":""},{"$f":"IF('Concrete Plant (CP-8)'!$D$4>7,\"Emission     Unit #\",\"\")","v":""},{"$f":"IF('Concrete Plant (CP-8)'!$D$4>7,\"Processes\",\"\")","v":""},{"$f":"IF('Concrete Plant (CP-8)'!$D$4>7,\"Combined Maximum Hourly Design Rate for all Like Processes (cubic yard/hr)\",\"\")","v":""},{"$f":"IF('Concrete Plant (CP-8)'!$D$4>7,('Facility Information'!G5&\" Annual Throughput (cubic yards)\"),\"\")","v":""}]
[null,null,null,null,null,null,null,null,null,null,null,null,"Truck","Central"]
[null,{"$f":"IF('Concrete Plant (CP-8)'!$D$4>7,\"Site Name:\",\"\")","v":""},null,null,null,null,null,{"$f":"IF(J147=\"cement delivery to silo\",\"CP-1 EP-2\",IF(J147=\"cement supplement delivery to silo\",\"CP-1 EP-3\",IF(J147=\"weigh hopper loading\",\"CP-1 EP-4\",IF(J147=\"truck mix loading\",\"CP-1 EP-5\",IF(J147=\"central mix loading\",\"CP-1 EP-6\",IF(J147=\"\",\"\",\"CP-1 EP-1\"))))))","v":""},{"$f":"IF(J147=\"\",\"\",IF(J147=\"aggregate delivery to ground storage\",\"CP-8 EU-1\",IF(J147=\"sand delivery to ground storage\",\"CP-8 EU-2\",IF(J147=\"aggregate transfer to conveyor\",\"CP-8 EU-3\",IF(J147=\"sand transfer to conveyor\",\"CP-8 EU-4\",IF(J147=\"aggregate transfer to elevated storage\",\"CP-8 EU-5\",IF(J147=\"sand transfer to elevated storage\",\"CP-8 EU-6\",IF(J147=\"weigh hopper loading\",\"CP-8 EU-7\",IF(J147=\"central mix loading\",\"CP-8 EU-8\",IF(J147=\"truck mix loading\",\"CP-8 EU-9\",IF(J147=\"cement delivery to silo\",\"CP-8 EU-10\",IF(J147=\"cement supplement delivery to silo\",\"CP-8 EU-11\"))))))))))))","v":""},null,null,null,{"$f":"IF(J147=\"truck mix loading\",IF($F$150=\"yes\",L147*0.05/2000,L147/2000),\"\")","v":""},{"$f":"IF(J147=\"central mix loading\",IF($F$150=\"yes\",L147*0.05/2000,L147/2000),\"\")","v":""}]
[null,{"$f":"IF('Concrete Plant (CP-8)'!$D$4>7,\"County:\",\"\")","v":""},null,null,null,null,null,{"$f":"IF(J148=\"cement delivery to silo\",\"CP-1 EP-2\",IF(J148=\"cement supplement delivery to silo\",\"CP-1 EP-3\",IF(J148=\"weigh hopper loading\",\"CP-1 EP-4\",IF(J148=\"truck mix loading\",\"CP-1 EP-5\",IF(J148=\"central mix loading\",\"CP-1 EP-6\",IF(J148=\"\",\"\",\"CP-1 EP-1\"))))))","v":""},"",null,null,null,{"$f":"IF(J148=\"truck mix loading\",IF($F$150=\"yes\",L148*0.05/2000,L148/2000),\"\")","v":""},{"$f":"IF(J148=\"central mix loading\",IF($F$150=\"yes\",L148*0.05/2000,L148/2000),\"\")","v":""}]
[null,{"$f":"IF('Concrete Plant (CP-8)'!$D$4>7,\"Batching Period (Dates):\",\"\")","v":""},null,null,null,null,null,"","",null,null,null,"",""]
[null,{"$f":"IF(OR(COUNTIF(J147:J156,\"Truck Mix Loading\")>0,(COUNTIF(J147:J156,\"Central Mix Loading\")>0)),\"Is the Central/Truck Mix Loading process controlled by a baghouse?\",\"\")","v":""},null,null,null,null,null,"","",null,null,null,"",""]
[null,null,null,null,null,null,null,"","",null,null,null,"",""]
[null,{"$f":"IF(AND(B154=\"\",B155=\"\",B156=\"\",B157=\"\",B158=\"\"),\"\",\"Process (complete stack information if applicable):\")","v":""},{"$f":"IF(AND(B154=\"\",B155=\"\",B156=\"\",B157=\"\",B158=\"\"),\"\",\"Stack Height (ft):\")","v":""},{"$f":"IF(AND(B154=\"\",B155=\"\",B156=\"\",B157=\"\",B158=\"\"),\"\",\"Stack Diameter (inches):\")","v":""},{"$f":"IF(AND(B154=\"\",B155=\"\",B156=\"\",B157=\"\",B158=\"\"),\"\",\"Flow Rate (acfm):\")","v":""},{"$f":"IF(AND(B154=\"\",B155=\"\",B156=\"\",B157=\"\",B158=\"\"),\"\",\"Temperature (Deg F):\")","v":""},null,"","",null,null,null,"",""]
[null,null,null,null,null,null,null,"","",null,null,null,"",""]
[null,{"$f":"IF(COUNTIF(J147:J156,\"Cement Delivery to Silo\")>0,\"EP-2 Cement Silo Stack:\",\"\")","v":""},null,null,null,null,null,"","",null,null,null,"",""]
[null,{"$f":"IF(COUNTIF(J147:J156,\"Cement Supplement Delivery to Silo\")>0,\"EP-3 Cement Supplement Silo Stack:\",\"\")","v":""},null,null,null,null,null,"","",null,null,null,"",""]
[null,{"$f":"IF(COUNTIF(J147:J156,\"Weigh Hopper Loading\")>0,\"EP-4 Weigh Hopper Loading Stack:\",\"\")","v":""},null,null,null,null,null,"","",null,null,null,"",""]
[null,{"$f":"IF(COUNTIF(J147:J156,\"Truck Mix Loading\")>0,\"EP-5 Truck Mix Loading Stack:\",\"\")","v":""}]
[null,{"$f":"IF(COUNTIF(J147:J156,\"Central Mix Loading\")>0,\"EP-6 Central Mix Loading Stack:\",\"\")","v":""},null,null,null,null,null,{"$f":"IF('Concrete Plant (CP-8)'!$D$4>7,\"Stock Pile Area\",\"\")","v":""}]
[null,null,null,null,null,null,null,null,{"$f":"IF('Concrete Plant (CP-8)'!$D$4>7,\"Emission Unit #\",\"\")","v":""},{"$f":"IF('Concrete Plant (CP-8)'!$D$4>7,\"Maximum Storage Area (acres)\",\"\")","v":""},{"$f":"IF('Concrete Plant (CP-8)'!$D$4>7,\"Actual Storage Area (acres)\",\"\")","v":""},{"$f":"IF('Concrete Plant (CP-8)'!$D$4>7,\"Actual Days in Existence (days)\",\"\")","v":""}]
[]
[]
[]
[null,{"$f":"IF('Concrete Plant (CP-8)'!$D$4>8,\"Batch Plant\",\"\")","v":""},{"$f":"IF('Concrete Plant (CP-8)'!$D$4>8,\"Site 9\",\"\")","v":""},null,null,null,null,{"$f":"IF('Concrete Plant (CP-8)'!$D$4>8,\"Emission Point #\",\"\")","v":""},{"$f":"IF('Concrete Plant (CP-8)'!$D$4>8,\"Emission     Unit #\",\"\")","v":""},{"$f":"IF('Concrete Plant (CP-8)'!$D$4>8,\"Processes\",\"\")","v":""},{"$f":"IF('Concrete Plant (CP-8)'!$D$4>8,\"Combined Maximum Hourly Design Rate for all Like Processes (cubic yard/hr)\",\"\")","v":""},{"$f":"IF('Concrete Plant (CP-8)'!$D$4>8,('Facility Information'!G5&\" Annual Throughput (cubic yards)\"),\"\")","v":""}]
[null,null,null,null,null,null,null,null,null,null,null,null,"Truck","Central"]
[null,{"$f":"IF('Concrete Plant (CP-8)'!$D$4>8,\"Site Name:\",\"\")","v":""},null,null,null,null,null,{"$f":"IF(J165=\"cement delivery to silo\",\"CP-1 EP-2\",IF(J165=\"cement supplement delivery to silo\",\"CP-1 EP-3\",IF(J165=\"weigh hopper loading\",\"CP-1 EP-4\",IF(J165=\"truck mix loading\",\"CP-1 EP-5\",IF(J165=\"central mix loading\",\"CP-1 EP-6\",IF(J165=\"\",\"\",\"CP-1 EP-1\"))))))","v":""},{"$f":"IF(J165=\"\",\"\",IF(J165=\"aggregate delivery to ground storage\",\"CP-8 EU-1\",IF(J165=\"sand delivery to ground storage\",\"CP-8 EU-2\",IF(J165=\"aggregate transfer to conveyor\",\"CP-8 EU-3\",IF(J165=\"sand transfer to conveyor\",\"CP-8 EU-4\",IF(J165=\"aggregate transfer to elevated storage\",\"CP-8 EU-5\",IF(J165=\"sand transfer to elevated storage\",\"CP-8 EU-6\",IF(J165=\"weigh hopper loading\",\"CP-8 EU-7\",IF(J165=\"central mix loading\",\"CP-8 EU-8\",IF(J165=\"truck mix loading\",\"CP-8 EU-9\",IF(J165=\"cement delivery to silo\",\"CP-8 EU-10\",IF(J165=\"cement supplement delivery to silo\",\"CP-8 EU-11\"))))))))))))","v":""},null,null,null,{"$f":"IF(J165=\"truck mix loading\",IF($F$168=\"yes\",L165*0.05/2000,L165/2000),\"\")","v":""},{"$f":"IF(J165=\"central mix loading\",IF($F$168=\"yes\",L165*0.05/2000,L165/2000),\"\")","v":""}]
[null,{"$f":"IF('Concrete Plant (CP-8)'!$D$4>8,\"County:\",\"\")","v":""},null,null,null,null,null,{"$f":"IF(J166=\"cement delivery to silo\",\"CP-1 EP-2\",IF(J166=\"cement supplement delivery to silo\",\"CP-1 EP-3\",IF(J166=\"weigh hopper loading\",\"CP-1 EP-4\",IF(J166=\"truck mix loading\",\"CP-1 EP-5\",IF(J166=\"central mix loading\",\"CP-1 EP-6\",IF(J166=\"\",\"\",\"CP-1 EP-1\"))))))","v":""},"",null,null,null,{"$f":"IF(J166=\"truck mix loading\",IF($F$168=\"yes\",L166*0.05/2000,L166/2000),\"\")","v":""},{"$f":"IF(J166=\"central mix loading\",IF($F$168=\"yes\",L166*0.05/2000,L166/2000),\"\")","v":""}]
[null,{"$f":"IF('Concrete Plant (CP-8)'!$D$4>8,\"Batching Period (Dates):\",\"\")","v":""},null,null,null,null,null,"","",null,null,null,"",""]
[null,{"$f":"IF(OR(COUNTIF(J165:J174,\"Truck Mix Loading\")>0,(COUNTIF(J165:J174,\"Central Mix Loading\")>0)),\"Is the Central/Truck Mix Loading process controlled by a baghouse?\",\"\")","v":""},null,null,null,null,null,"","",null,null,null,"",""]
[null,null,null,null,null,null,null,"","",null,null,null,"",""]
[null,{"$f":"IF(AND(B172=\"\",B173=\"\",B174=\"\",B175=\"\",B176=\"\"),\"\",\"Process (complete stack information if applicable):\")","v":""},{"$f":"IF(AND(B172=\"\",B173=\"\",B174=\"\",B175=\"\",B176=\"\"),\"\",\"Stack Height (ft):\")","v":""},{"$f":"IF(AND(B172=\"\",B173=\"\",B174=\"\",B175=\"\",B176=\"\"),\"\",\"Stack Diameter (inches):\")","v":""},{"$f":"IF(AND(B172=\"\",B173=\"\",B174=\"\",B175=\"\",B176=\"\"),\"\",\"Flow Rate (acfm):\")","v":""},{"$f":"IF(AND(B172=\"\",B173=\"\",B174=\"\",B175=\"\",B176=\"\"),\"\",\"Temperature (Deg F):\")","v":""},null,"","",null,null,null,"",""]
[null,null,null,null,null,null,null,"","",null,null,null,"",""]
[null,{"$f":"IF(COUNTIF(J165:J174,\"Cement Delivery to Silo\")>0,\"EP-2 Cement Silo Stack:\",\"\")","v":""},null,null,null,null,null,"","",null,null,null,"",""]
[null,{"$f":"IF(COUNTIF(J165:J174,\"Cement Supplement Delivery to Silo\")>0,\"EP-3 Cement Supplement Silo Stack:\",\"\")","v":""},null,null,null,null,null,"","",null,null,null,"",""]
[null,{"$f":"IF(COUNTIF(J165:J174,\"Weigh Hopper Loading\")>0,\"EP-4 Weigh Hopper Loading Stack:\",\"\")","v":""},null,null,null,null,null,"","",null,null,null,"",""]
[null,{"$f":"IF(COUNTIF(J165:J174,\"Truck Mix Loading\")>0,\"EP-5 Truck Mix Loading Stack:\",\"\")","v":""}]
[null,{"$f":"IF(COUNTIF(J165:J174,\"Central Mix Loading\")>0,\"EP-6 Central Mix Loading Stack:\",\"\")","v":""},null,null,null,null,null,{"$f":"IF('Concrete Plant (CP-8)'!$D$4>8,\"Stock Pile Area\",\"\")","v":""}]
[null,null,null,null,null,null,null,null,{"$f":"IF('Concrete Plant (CP-8)'!$D$4>8,\"Emission Unit #\",\"\")","v":""},{"$f":"IF('Concrete Plant (CP-8)'!$D$4>8,\"Maximum Storage Area (acres)\",\"\")","v":""},{"$f":"IF('Concrete Plant (CP-8)'!$D$4>8,\"Actual Storage Area (acres)\",\"\")","v":""},{"$f":"IF('Concrete Plant (CP-8)'!$D$4>8,\"Actual Days in Existence (days)\",\"\")","v":""}]
[]
[]
[]
[null,{"$f":"IF('Concrete Plant (CP-8)'!$D$4>9,\"Batch Plant\",\"\")","v":""},{"$f":"IF('Concrete Plant (CP-8)'!$D$4>9,\"Site 10\",\"\")","v":""},null,null,null,null,{"$f":"IF('Concrete Plant (CP-8)'!$D$4>9,\"Emission Point #\",\"\")","v":""},{"$f":"IF('Concrete Plant (CP-8)'!$D$4>9,\"Emission     Unit #\",\"\")","v":""},{"$f":"IF('Concrete Plant (CP-8)'!$D$4>9,\"Processes\",\"\")","v":""},{"$f":"IF('Concrete Plant (CP-8)'!$D$4>9,\"Combined Maximum Hourly Design Rate for all Like Processes (cubic yard/hr)\",\"\")","v":""},{"$f":"IF('Concrete Plant (CP-8)'!$D$4>9,('Facility Information'!G5&\" Annual Throughput (cubic yards)\"),\"\")","v":""}]
[null,null,null,null,null,null,null,null,null,null,null,null,"Truck","Central"]
[null,{"$f":"IF('Concrete Plant (CP-8)'!$D$4>9,\"Site Name:\",\"\")","v":""},null,null,null,null,null,{"$f":"IF(J183=\"cement delivery to silo\",\"CP-1 EP-2\",IF(J183=\"cement supplement delivery to silo\",\"CP-1 EP-3\",IF(J183=\"weigh hopper loading\",\"CP-1 EP-4\",IF(J183=\"truck mix loading\",\"CP-1 EP-5\",IF(J183=\"central mix loading\",\"CP-1 EP-6\",IF(J183=\"\",\"\",\"CP-1 EP-1\"))))))","v":""},{"$f":"IF(J183=\"\",\"\",IF(J183=\"aggregate delivery to ground storage\",\"CP-8 EU-1\",IF(J183=\"sand delivery to ground storage\",\"CP-8 EU-2\",IF(J183=\"aggregate transfer to conveyor\",\"CP-8 EU-3\",IF(J183=\"sand transfer to conveyor\",\"CP-8 EU-4\",IF(J183=\"aggregate transfer to elevated storage\",\"CP-8 EU-5\",IF(J183=\"sand transfer to elevated storage\",\"CP-8 EU-6\",IF(J183=\"weigh hopper loading\",\"CP-8 EU-7\",IF(J183=\"central mix loading\",\"CP-8 EU-8\",IF(J183=\"truck mix loading\",\"CP-8 EU-9\",IF(J183=\"cement delivery to silo\",\"CP-8 EU-10\",IF(J183=\"cement supplement delivery to silo\",\"CP-8 EU-11\"))))))))))))","v":""},null,null,null,{"$f":"IF(J183=\"truck mix loading\",IF($F$186=\"yes\",L183*0.05/2000,L183/2000),\"\")","v":""},{"$f":"IF(J183=\"central mix loading\",IF($F$186=\"yes\",L183*0.05/2000,L183/2000),\"\")","v":""}]
[null,{"$f":"IF('Concrete Plant (CP-8)'!$D$4>9,\"County:\",\"\")","v":""},null,null,null,null,null,{"$f":"IF(J184=\"cement delivery to silo\",\"CP-1 EP-2\",IF(J184=\"cement supplement delivery to silo\",\"CP-1 EP-3\",IF(J184=\"weigh hopper loading\",\"CP-1 EP-4\",IF(J184=\"truck mix loading\",\"CP-1 EP-5\",IF(J184=\"central mix loading\",\"CP-1 EP-6\",IF(J184=\"\",\"\",\"CP-1 EP-1\"))))))","v":""},"",null,null,null,{"$f":"IF(J184=\"truck mix loading\",IF($F$186=\"yes\",L184*0.05/2000,L184/2000),\"\")","v":""},{"$f":"IF(J184=\"central mix loading\",IF($F$186=\"yes\",L184*0.05/2000,L184/2000),\"\")","v":""}]
[null,{"$f":"IF('Concrete Plant (CP-8)'!$D$4>9,\"Batching Period (Dates):\",\"\")","v":""},null,null,null,null,null,"","",null,null,null,"",""]
[null,{"$f":"IF(OR(COUNTIF(J183:J192,\"Truck Mix Loading\")>0,(COUNTIF(J183:J192,\"Central Mix Loading\")>0)),\"Is the Central/Truck Mix Loading process controlled by a baghouse?\",\"\")","v":""},null,null,null,null,null,"","",null,null,null,"",""]
[null,null,null,null,null,null,null,"","",null,null,null,"",""]
[null,{"$f":"IF(AND(B190=\"\",B191=\"\",B192=\"\",B193=\"\",B194=\"\"),\"\",\"Process (complete stack information if applicable):\")","v":""},{"$f":"IF(AND(B190=\"\",B191=\"\",B192=\"\",B193=\"\",B194=\"\"),\"\",\"Stack Height (ft):\")","v":""},{"$f":"IF(AND(B190=\"\",B191=\"\",B192=\"\",B193=\"\",B194=\"\"),\"\",\"Stack Diameter (inches):\")","v":""},{"$f":"IF(AND(B190=\"\",B191=\"\",B192=\"\",B193=\"\",B194=\"\"),\"\",\"Flow Rate (acfm):\")","v":""},{"$f":"IF(AND(B190=\"\",B191=\"\",B192=\"\",B193=\"\",B194=\"\"),\"\",\"Temperature (Deg F):\")","v":""},null,"","",null,null,null,"",""]
[null,null,null,null,null,null,null,"","",null,null,null,"",""]
[null,{"$f":"IF(COUNTIF(J183:J192,\"Cement Delivery to Silo\")>0,\"EP-2 Cement Silo Stack:\",\"\")","v":""},null,null,null,null,null,"","",null,null,null,"",""]
[null,{"$f":"IF(COUNTIF(J183:J192,\"Cement Supplement Delivery to Silo\")>0,\"EP-3 Cement Supplement Silo Stack:\",\"\")","v":""},null,null,null,null,null,"","",null,null,null,"",""]
[null,{"$f":"IF(COUNTIF(J183:J192,\"Weigh Hopper Loading\")>0,\"EP-4 Weigh Hopper Loading Stack:\",\"\")","v":""},null,null,null,null,null,"","",null,null,null,"",""]
[null,{"$f":"IF(COUNTIF(J183:J192,\"Truck Mix Loading\")>0,\"EP-5 Truck Mix Loading Stack:\",\"\")","v":""}]
[null,{"$f":"IF(COUNTIF(J183:J192,\"Central Mix Loading\")>0,\"EP-6 Central Mix Loading Stack:\",\"\")","v":""},null,null,null,null,null,{"$f":"IF('Concrete Plant (CP-8)'!$D$4>9,\"Stock Pile Area\",\"\")","v":""}]
[null,null,null,null,null,null,null,null,{"$f":"IF('Concrete Plant (CP-8)'!$D$4>9,\"Emission Unit #\",\"\")","v":""},{"$f":"IF('Concrete Plant (CP-8)'!$D$4>9,\"Maximum Storage Area (acres)\",\"\")","v":""},{"$f":"IF('Concrete Plant (CP-8)'!$D$4>9,\"Actual Storage Area (acres)\",\"\")","v":""},{"$f":"IF('Concrete Plant (CP-8)'!$D$4>9,\"Actual Days in Existence (days)\",\"\")","v":""}]
[]
[]
[null,null,null,null,null,null,null,null,null,null,null,null,{"$f":"SUM(M183:M192,M165:M174,M147:M156,M129:M138,M111:M120,M93:M102,M75:M84,M57:M66,M39:M48,M21:M30)","v":0},{"$f":"SUM(N183:N192,N165:N174,N147:N156,N129:N138,N111:N120,N93:N102,N75:N84,N57:N66,N39:N48,N21:N30)","v":0}]

{"sheet":"Concrete Plant (CP-9)","index":9,"n_rows":198,"n_cols":23,"rows_kept":198,"cut":false,"hidden":true,"merged":[[3,18,4,20],[23,1,23,4],[41,1,41,4],[59,1,59,4],[77,1,77,4],[95,1,95,4],[113,1,113,4],[131,1,131,4],[149,1,149,4],[92,2,92,4],[76,2,76,4],[75,2,75,4],[43,1,44,1],[43,2,44,2],[43,3,44,3],[43,4,44,4],[97,5,98,5],[43,5,44,5],[25,1,26,1],[25,2,26,2],[25,3,26,3],[25,4,26,4],[25,5,26,5],[39,2,39,4],[167,1,167,4],[151,1,152,1],[151,2,152,2],[151,3,152,3],[151,4,152,4],[97,1,98,1],[97,2,98,2],[97,3,98,3],[97,4,98,4],[187,1,188,1],[187,2,188,2],[187,3,188,3],[187,4,188,4],[187,5,188,5],[169,1,170,1],[169,2,170,2],[169,3,170,3],[169,4,170,4],[169,5,170,5],[185,1,185,4],[151,5,152,5],[133,1,134,1],[133,2,134,2],[133,3,134,3],[133,4,134,4],[133,5,134,5],[115,1,116,1],[115,2,116,2],[115,3,116,3],[115,4,116,4],[115,5,116,5],[38,2,38,4],[79,1,80,1],[79,2,80,2],[79,3,80,3],[79,4,80,4],[79,5,80,5],[61,1,62,1],[61,2,62,2],[61,3,62,3],[61,4,62,4],[61,5,62,5],[57,2,57,4],[56,2,56,4],[40,2,40,4],[74,2,74,4],[58,2,58,4],[94,2,94,4],[93,2,93,4],[2,17,3,17],[3,1,3,2],[20,16,21,16],[11,1,13,4],[184,2,184,4],[183,2,183,4],[182,2,182,4],[166,2,166,4],[165,2,165,4],[164,2,164,4],[148,2,148,4],[147,2,147,4],[146,2,146,4],[130,2,130,4],[129,2,129,4],[128,2,128,4],[112,2,112,4],[111,2,111,4],[110,2,110,4],[22,2,22,4],[21,2,21,4],[20,2,20,4],[0,1,0,2],[1,10,1,11],[2,15,3,15],[2,16,3,16],[18,7,19,7],[18,8,19,8],[18,9,19,9],[18,10,19,10],[18,11,19,11],[1,1,1,4],[5,2,5,3],[10,3,10,4],[9,3,9,4],[8,3,8,4],[10,1,10,2],[9,1,9,2],[8,1,8,2],[36,7,37,7],[36,8,37,8],[36,9,37,9],[36,10,37,10],[36,11,37,11],[46,21,47,21],[20,17,21,17],[20,18,21,18],[20,19,21,19],[20,20,21,20],[20,21,21,21],[46,16,47,16],[46,17,47,17],[46,18,47,18],[46,19,47,19],[46,20,47,20],[72,7,73,7],[72,8,73,8],[72,9,73,9],[72,10,73,10],[72,11,73,11],[54,7,55,7],[54,8,55,8],[54,9,55,9],[54,10,55,10],[54,11,55,11],[108,7,109,7],[108,8,109,8],[108,9,109,9],[108,10,109,10],[108,11,109,11],[90,7,91,7],[90,8,91,8],[90,9,91,9],[90,10,91,10],[90,11,91,11],[144,7,145,7],[144,8,145,8],[144,9,145,9],[144,10,145,10],[144,11,145,11],[126,7,127,7],[126,8,127,8],[126,9,127,9],[126,10,127,10],[126,11,127,11],[180,7,181,7],[180,8,181,8],[180,9,181,9],[180,10,181,10],[180,11,181,11],[162,7,163,7],[162,8,163,8],[162,9,163,9],[162,10,163,10],[162,11,163,11]]}
[null,"CONCRETE BATCH PLANT (CP-9)"]
[null,"Please fill in the yellow boxes as applicable for your facility. ",null,null,null,null,null,null,null,null,"Values used for calculating emissions →",null,null,null,null,"Values Used to Calculate Potential and Actual Emissions for the Listed Processes at this Plant"]
[null,null,null,null,null,null,null,null,null,null,null,null,null,null,null,"Process","Maximum Design Rate (cubic yards/hr)","Actual throughput (cubic yards/yr)"]
[null,{"$f":"\"Number of Sites this Plant operated at in \"&'Facility Information'!G5&\":\"","v":"Number of Sites this Plant operated at in :"},null,null,null,null,null,null,null,null,null,null,null,null,null,null,null,null,"** As of 2016 Potential Emissions are no longer required to be reported in the Minor Source Emissions Inventory**"]
[null,null,null,null,null,null,null,null,null,null,null,null,null,null,null,"Aggregate Delivery to Ground Storage",{"$f":"MAX((IFERROR(OFFSET($J$20,MATCH(\"Aggregate Delivery to Ground Storage\",$J$21:$J$30,0),1),0)),((IFERROR((OFFSET($J$38,MATCH(\"Aggregate Delivery to Ground Storage\",$J$39:$J$48,0),1)),0))),((IFERROR((OFFSET($J$56,MATCH(\"Aggregate Delivery to Ground Storage\",$J$57:$J$66,0),1)),0))),((IFERROR((OFFSET($J$74,MATCH(\"Aggregate Delivery to Ground Storage\",$J$75:$J$84,0),1)),0))),((IFERROR((OFFSET($J$92,MATCH(\"Aggregate Delivery to Ground Storage\",$J$93:$J$102,0),1)),0))),((IFERROR((OFFSET($J$110,MATCH(\"Aggregate Delivery to Ground Storage\",$J$111:$J$120,0),1)),0))),((IFERROR((OFFSET($J$128,MATCH(\"Aggregate Delivery to Ground Storage\",$J$129:$J$138,0),1)),0))),((IFERROR((OFFSET($J$146,MATCH(\"Aggregate Delivery to Ground Storage\",$J$147:$J$156,0),1)),0))),((IFERROR((OFFSET($J$164,MATCH(\"Aggregate Delivery to Ground Storage\",$J$165:$J$174,0),1)),0))),((IFERROR((OFFSET($J$181,MATCH(\"Aggregate Delivery to Ground Storage\",$J$183:$J$192,0),1)),0))),)","v":0},{"$f":"SUM((IFERROR(OFFSET($J$20,MATCH(\"Aggregate Delivery to Ground Storage\",$J$21:$J$30,0),2),0)),((IFERROR((OFFSET($J$38,MATCH(\"Aggregate Delivery to Ground Storage\",$J$39:$J$48,0),2)),0))),((IFERROR((OFFSET($J$56,MATCH(\"Aggregate Delivery to Ground Storage\",$J$57:$J$66,0),2)),0))),((IFERROR((OFFSET($J$74,MATCH(\"Aggregate Delivery to Ground Storage\",$J$75:$J$84,0),2)),0))),((IFERROR((OFFSET($J$92,MATCH(\"Aggregate Delivery to Ground Storage\",$J$93:$J$102,0),2)),0))),((IFERROR((OFFSET($J$110,MATCH(\"Aggregate Delivery to Ground Storage\",$J$111:$J$120,0),2)),0))),((IFERROR((OFFSET($J$128,MATCH(\"Aggregate Delivery to Ground Storage\",$J$129:$J$138,0),2)),0))),((IFERROR((OFFSET($J$146,MATCH(\"Aggregate Delivery to Ground Storage\",$J$147:$J$156,0),2)),0))),((IFERROR((OFFSET($J$164,MATCH(\"Aggregate Delivery to Ground Storage\",$J$165:$J$174,0),2)),0))),((IFERROR((OFFSET($J$181,MATCH(\"Aggregate Delivery to Ground Storage\",$J$183:$J$192,0),2)),0))))","v":0}]
[null,"Plant Specific Permit Number: ",null,null,null,null,null,null,null,null,null,null,null,null,null,"Sand Delivery to Ground Storage",{"$f":"MAX((IFERROR(OFFSET($J$20,MATCH(\"Sand Delivery to Ground Storage\",$J$21:$J$30,0),1),0)),((IFERROR((OFFSET($J$38,MATCH(\"Sand Delivery to Ground Storage\",$J$39:$J$48,0),1)),0))),((IFERROR((OFFSET($J$56,MATCH(\"Sand Delivery to Ground Storage\",$J$57:$J$66,0),1)),0))),((IFERROR((OFFSET($J$74,MATCH(\"Sand Delivery to Ground Storage\",$J$75:$J$84,0),1)),0))),((IFERROR((OFFSET($J$92,MATCH(\"Sand Delivery to Ground Storage\",$J$93:$J$102,0),1)),0))),((IFERROR((OFFSET($J$110,MATCH(\"Sand Delivery to Ground Storage\",$J$111:$J$120,0),1)),0))),((IFERROR((OFFSET($J$128,MATCH(\"Sand Delivery to Ground Storage\",$J$129:$J$138,0),1)),0))),((IFERROR((OFFSET($J$146,MATCH(\"Sand Delivery to Ground Storage\",$J$147:$J$156,0),1)),0))),((IFERROR((OFFSET($J$164,MATCH(\"Sand Delivery to Ground Storage\",$J$165:$J$174,0),1)),0))),((IFERROR((OFFSET($J$181,MATCH(\"Sand Delivery to Ground Storage\",$J$183:$J$192,0),1)),0))),)","v":0},{"$f":"SUM((IFERROR(OFFSET($J$20,MATCH(\"Sand Delivery to Ground Storage\",$J$21:$J$30,0),2),0)),((IFERROR((OFFSET($J$38,MATCH(\"Sand Delivery to Ground Storage\",$J$39:$J$48,0),2)),0))),((IFERROR((OFFSET($J$56,MATCH(\"Sand Delivery to Ground Storage\",$J$57:$J$66,0),2)),0))),((IFERROR((OFFSET($J$74,MATCH(\"Sand Delivery to Ground Storage\",$J$75:$J$84,0),2)),0))),((IFERROR((OFFSET($J$92,MATCH(\"Sand Delivery to Ground Storage\",$J$93:$J$102,0),2)),0))),((IFERROR((OFFSET($J$110,MATCH(\"Sand Delivery to Ground Storage\",$J$111:$J$120,0),2)),0))),((IFERROR((OFFSET($J$128,MATCH(\"Sand Delivery to Ground Storage\",$J$129:$J$138,0),2)),0))),((IFERROR((OFFSET($J$146,MATCH(\"Sand Delivery to Ground Storage\",$J$147:$J$156,0),2)),0))),((IFERROR((OFFSET($J$164,MATCH(\"Sand Delivery to Ground Storage\",$J$165:$J$174,0),2)),0))),((IFERROR((OFFSET($J$181,MATCH(\"Sand Delivery to Ground Storage\",$J$183:$J$192,0),2)),0))))","v":0}]
[null,null,null,null,null,null,null,null,null,null,null,null,null,null,null,"Aggregate Transfer to Conveyor",{"$f":"MAX((IFERROR(OFFSET($J$20,MATCH(\"Aggregate Transfer to Conveyor\",$J$21:$J$30,0),1),0)),((IFERROR((OFFSET($J$38,MATCH(\"Aggregate Transfer to Conveyor\",$J$39:$J$48,0),1)),0))),((IFERROR((OFFSET($J$56,MATCH(\"Aggregate Transfer to Conveyor\",$J$57:$J$66,0),1)),0))),((IFERROR((OFFSET($J$74,MATCH(\"Aggregate Transfer to Conveyor\",$J$75:$J$84,0),1)),0))),((IFERROR((OFFSET($J$92,MATCH(\"Aggregate Transfer to Conveyor\",$J$93:$J$102,0),1)),0))),((IFERROR((OFFSET($J$110,MATCH(\"Aggregate Transfer to Conveyor\",$J$111:$J$120,0),1)),0))),((IFERROR((OFFSET($J$128,MATCH(\"Aggregate Transfer to Conveyor\",$J$129:$J$138,0),1)),0))),((IFERROR((OFFSET($J$146,MATCH(\"Aggregate Transfer to Conveyor\",$J$147:$J$156,0),1)),0))),((IFERROR((OFFSET($J$164,MATCH(\"Aggregate Transfer to Conveyor\",$J$165:$J$174,0),1)),0))),((IFERROR((OFFSET($J$181,MATCH(\"Aggregate Transfer to Conveyor\",$J$183:$J$192,0),1)),0))),)","v":0},{"$f":"SUM((IFERROR(OFFSET($J$20,MATCH(\"Aggregate Transfer to Conveyor\",$J$21:$J$30,0),2),0)),((IFERROR((OFFSET($J$38,MATCH(\"Aggregate Transfer to Conveyor\",$J$39:$J$48,0),2)),0))),((IFERROR((OFFSET($J$56,MATCH(\"Aggregate Transfer to Conveyor\",$J$57:$J$66,0),2)),0))),((IFERROR((OFFSET($J$74,MATCH(\"Aggregate Transfer to Conveyor\",$J$75:$J$84,0),2)),0))),((IFERROR((OFFSET($J$92,MATCH(\"Aggregate Transfer to Conveyor\",$J$93:$J$102,0),2)),0))),((IFERROR((OFFSET($J$110,MATCH(\"Aggregate Transfer to Conveyor\",$J$111:$J$120,0),2)),0))),((IFERROR((OFFSET($J$128,MATCH(\"Aggregate Transfer to Conveyor\",$J$129:$J$138,0),2)),0))),((IFERROR((OFFSET($J$146,MATCH(\"Aggregate Transfer to Conveyor\",$J$147:$J$156,0),2)),0))),((IFERROR((OFFSET($J$164,MATCH(\"Aggregate Transfer to Conveyor\",$J$165:$J$174,0),2)),0))),((IFERROR((OFFSET($J$181,MATCH(\"Aggregate Transfer to Conveyor\",$J$183:$J$192,0),2)),0))))","v":0}]
[null,"Plant Specific Operating Limits:",null,null,null,null,null,"Plant Specific Emission Limits:",null,null,null,null,null,null,null,"Sand Transfer to Conveyor",{"$f":"MAX((IFERROR(OFFSET($J$20,MATCH(\"Sand Transfer to Conveyor\",$J$21:$J$30,0),1),0)),((IFERROR((OFFSET($J$38,MATCH(\"Sand Transfer to Conveyor\",$J$39:$J$48,0),1)),0))),((IFERROR((OFFSET($J$56,MATCH(\"Sand Transfer to Conveyor\",$J$57:$J$66,0),1)),0))),((IFERROR((OFFSET($J$74,MATCH(\"Sand Transfer to Conveyor\",$J$75:$J$84,0),1)),0))),((IFERROR((OFFSET($J$92,MATCH(\"Sand Transfer to Conveyor\",$J$93:$J$102,0),1)),0))),((IFERROR((OFFSET($J$110,MATCH(\"Sand Transfer to Conveyor\",$J$111:$J$120,0),1)),0))),((IFERROR((OFFSET($J$128,MATCH(\"Sand Transfer to Conveyor\",$J$129:$J$138,0),1)),0))),((IFERROR((OFFSET($J$146,MATCH(\"Sand Transfer to Conveyor\",$J$147:$J$156,0),1)),0))),((IFERROR((OFFSET($J$164,MATCH(\"Sand Transfer to Conveyor\",$J$165:$J$174,0),1)),0))),((IFERROR((OFFSET($J$181,MATCH(\"Sand Transfer to Conveyor\",$J$183:$J$192,0),1)),0))),)","v":0},{"$f":"SUM((IFERROR(OFFSET($J$20,MATCH(\"Sand Transfer to Conveyor\",$J$21:$J$30,0),2),0)),((IFERROR((OFFSET($J$38,MATCH(\"Sand Transfer to Conveyor\",$J$39:$J$48,0),2)),0))),((IFERROR((OFFSET($J$56,MATCH(\"Sand Transfer to Conveyor\",$J$57:$J$66,0),2)),0))),((IFERROR((OFFSET($J$74,MATCH(\"Sand Transfer to Conveyor\",$J$75:$J$84,0),2)),0))),((IFERROR((OFFSET($J$92,MATCH(\"Sand Transfer to Conveyor\",$J$93:$J$102,0),2)),0))),((IFERROR((OFFSET($J$110,MATCH(\"Sand Transfer to Conveyor\",$J$111:$J$120,0),2)),0))),((IFERROR((OFFSET($J$128,MATCH(\"Sand Transfer to Conveyor\",$J$129:$J$138,0),2)),0))),((IFERROR((OFFSET($J$146,MATCH(\"Sand Transfer to Conveyor\",$J$147:$J$156,0),2)),0))),((IFERROR((OFFSET($J$164,MATCH(\"Sand Transfer to Conveyor\",$J$165:$J$174,0),2)),0))),((IFERROR((OFFSET($J$181,MATCH(\"Sand Transfer to Conveyor\",$J$183:$J$192,0),2)),0))))","v":0}]
[null,"Throughput Limit (cubic yards/yr):",null,null,null,null,null,"Pollutant","lb/hr","tons/yr",null,null,null,null,null,"Aggregate Transfer to Elevated Storage",{"$f":"MAX((IFERROR(OFFSET($J$20,MATCH(\"Aggregate Transfer to Elevated Storage\",$J$21:$J$30,0),1),0)),((IFERROR((OFFSET($J$38,MATCH(\"Aggregate Transfer to Elevated Storage\",$J$39:$J$48,0),1)),0))),((IFERROR((OFFSET($J$56,MATCH(\"Aggregate Transfer to Elevated Storage\",$J$57:$J$66,0),1)),0))),((IFERROR((OFFSET($J$74,MATCH(\"Aggregate Transfer to Elevated Storage\",$J$75:$J$84,0),1)),0))),((IFERROR((OFFSET($J$92,MATCH(\"Aggregate Transfer to Elevated Storage\",$J$93:$J$102,0),1)),0))),((IFERROR((OFFSET($J$110,MATCH(\"Aggregate Transfer to Elevated Storage\",$J$111:$J$120,0),1)),0))),((IFERROR((OFFSET($J$128,MATCH(\"Aggregate Transfer to Elevated Storage\",$J$129:$J$138,0),1)),0))),((IFERROR((OFFSET($J$146,MATCH(\"Aggregate Transfer to Elevated Storage\",$J$147:$J$156,0),1)),0))),((IFERROR((OFFSET($J$164,MATCH(\"Aggregate Transfer to Elevated Storage\",$J$165:$J$174,0),1)),0))),((IFERROR((OFFSET($J$181,MATCH(\"Aggregate Transfer to Elevated Storage\",$J$183:$J$192,0),1)),0))),)","v":0},{"$f":"SUM((IFERROR(OFFSET($J$20,MATCH(\"Aggregate Transfer to Elevated Storage\",$J$21:$J$30,0),2),0)),((IFERROR((OFFSET($J$38,MATCH(\"Aggregate Transfer to Elevated Storage\",$J$39:$J$48,0),2)),0))),((IFERROR((OFFSET($J$56,MATCH(\"Aggregate Transfer to Elevated Storage\",$J$57:$J$66,0),2)),0))),((IFERROR((OFFSET($J$74,MATCH(\"Aggregate Transfer to Elevated Storage\",$J$75:$J$84,0),2)),0))),((IFERROR((OFFSET($J$92,MATCH(\"Aggregate Transfer to Elevated Storage\",$J$93:$J$102,0),2)),0))),((IFERROR((OFFSET($J$110,MATCH(\"Aggregate Transfer to Elevated Storage\",$J$111:$J$120,0),2)),0))),((IFERROR((OFFSET($J$128,MATCH(\"Aggregate Transfer to Elevated Storage\",$J$129:$J$138,0),2)),0))),((IFERROR((OFFSET($J$146,MATCH(\"Aggregate Transfer to Elevated Storage\",$J$147:$J$156,0),2)),0))),((IFERROR((OFFSET($J$164,MATCH(\"Aggregate Transfer to Elevated Storage\",$J$165:$J$174,0),2)),0))),((IFERROR((OFFSET($J$181,MATCH(\"Aggregate Transfer to Elevated Storage\",$J$183:$J$192,0),2)),0))))","v":0}]
[null,"Daily Throughput Limit (cubic yards/day):",null,null,null,null,null,"PM2.5",null,null,null,null,null,null,null,"Sand Transfer to Elevated Storage",{"$f":"MAX((IFERROR(OFFSET($J$20,MATCH(\"Sand Transfer to Elevated Storage\",$J$21:$J$30,0),1),0)),((IFERROR((OFFSET($J$38,MATCH(\"Sand Transfer to Elevated Storage\",$J$39:$J$48,0),1)),0))),((IFERROR((OFFSET($J$56,MATCH(\"Sand Transfer to Elevated Storage\",$J$57:$J$66,0),1)),0))),((IFERROR((OFFSET($J$74,MATCH(\"Sand Transfer to Elevated Storage\",$J$75:$J$84,0),1)),0))),((IFERROR((OFFSET($J$92,MATCH(\"Sand Transfer to Elevated Storage\",$J$93:$J$102,0),1)),0))),((IFERROR((OFFSET($J$110,MATCH(\"Sand Transfer to Elevated Storage\",$J$111:$J$120,0),1)),0))),((IFERROR((OFFSET($J$128,MATCH(\"Sand Transfer to Elevated Storage\",$J$129:$J$138,0),1)),0))),((IFERROR((OFFSET($J$146,MATCH(\"Sand Transfer to Elevated Storage\",$J$147:$J$156,0),1)),0))),((IFERROR((OFFSET($J$164,MATCH(\"Sand Transfer to Elevated Storage\",$J$165:$J$174,0),1)),0))),((IFERROR((OFFSET($J$181,MATCH(\"Sand Transfer to Elevated Storage\",$J$183:$J$192,0),1)),0))),)","v":0},{"$f":"SUM((IFERROR(OFFSET($J$20,MATCH(\"Sand Transfer to Elevated Storage\",$J$21:$J$30,0),2),0)),((IFERROR((OFFSET($J$38,MATCH(\"Sand Transfer to Elevated Storage\",$J$39:$J$48,0),2)),0))),((IFERROR((OFFSET($J$56,MATCH(\"Sand Transfer to Elevated Storage\",$J$57:$J$66,0),2)),0))),((IFERROR((OFFSET($J$74,MATCH(\"Sand Transfer to Elevated Storage\",$J$75:$J$84,0),2)),0))),((IFERROR((OFFSET($J$92,MATCH(\"Sand Transfer to Elevated Storage\",$J$93:$J$102,0),2)),0))),((IFERROR((OFFSET($J$110,MATCH(\"Sand Transfer to Elevated Storage\",$J$111:$J$120,0),2)),0))),((IFERROR((OFFSET($J$128,MATCH(\"Sand Transfer to Elevated Storage\",$J$129:$J$138,0),2)),0))),((IFERROR((OFFSET($J$146,MATCH(\"Sand Transfer to Elevated Storage\",$J$147:$J$156,0),2)),0))),((IFERROR((OFFSET($J$164,MATCH(\"Sand Transfer to Elevated Storage\",$J$165:$J$174,0),2)),0))),((IFERROR((OFFSET($J$181,MATCH(\"Sand Transfer to Elevated Storage\",$J$183:$J$192,0),2)),0))))","v":0}]
[null,"Hours of Operation Limit (hours/day):",null,null,null,null,null,"PM10",null,null,null,null,null,null,null,"Weigh Hopper Loading",{"$f":"MAX((IFERROR(OFFSET($J$20,MATCH(\"Weigh Hopper Loading\",$J$21:$J$30,0),1),0)),((IFERROR((OFFSET($J$38,MATCH(\"Weigh Hopper Loading\",$J$39:$J$48,0),1)),0))),((IFERROR((OFFSET($J$56,MATCH(\"Weigh Hopper Loading\",$J$57:$J$66,0),1)),0))),((IFERROR((OFFSET($J$74,MATCH(\"Weigh Hopper Loading\",$J$75:$J$84,0),1)),0))),((IFERROR((OFFSET($J$92,MATCH(\"Weigh Hopper Loading\",$J$93:$J$102,0),1)),0))),((IFERROR((OFFSET($J$110,MATCH(\"Weigh Hopper Loading\",$J$111:$J$120,0),1)),0))),((IFERROR((OFFSET($J$128,MATCH(\"Weigh Hopper Loading\",$J$129:$J$138,0),1)),0))),((IFERROR((OFFSET($J$146,MATCH(\"Weigh Hopper Loading\",$J$147:$J$156,0),1)),0))),((IFERROR((OFFSET($J$164,MATCH(\"Weigh Hopper Loading\",$J$165:$J$174,0),1)),0))),((IFERROR((OFFSET($J$181,MATCH(\"Weigh Hopper Loading\",$J$183:$J$192,0),1)),0))),)","v":0},{"$f":"SUM((IFERROR(OFFSET($J$20,MATCH(\"Weigh Hopper Loading\",$J$21:$J$30,0),2),0)),((IFERROR((OFFSET($J$38,MATCH(\"Weigh Hopper Loading\",$J$39:$J$48,0),2)),0))),((IFERROR((OFFSET($J$56,MATCH(\"Weigh Hopper Loading\",$J$57:$J$66,0),2)),0))),((IFERROR((OFFSET($J$74,MATCH(\"Weigh Hopper Loading\",$J$75:$J$84,0),2)),0))),((IFERROR((OFFSET($J$92,MATCH(\"Weigh Hopper Loading\",$J$93:$J$102,0),2)),0))),((IFERROR((OFFSET($J$110,MATCH(\"Weigh Hopper Loading\",$J$111:$J$120,0),2)),0))),((IFERROR((OFFSET($J$128,MATCH(\"Weigh Hopper Loading\",$J$129:$J$138,0),2)),0))),((IFERROR((OFFSET($J$146,MATCH(\"Weigh Hopper Loading\",$J$147:$J$156,0),2)),0))),((IFERROR((OFFSET($J$164,MATCH(\"Weigh Hopper Loading\",$J$165:$J$174,0),2)),0))),((IFERROR((OFFSET($J$181,MATCH(\"Weigh Hopper Loading\",$J$183:$J$192,0),2)),0))))","v":0}]
[null,"Note: if the plant has an hrs/day and a cubic yards/hr permit limit, those values should be multiplied together to calculate a cubic yards/day limit and that value should be placed in cell C10.",null,null,null,null,null,"SO2",null,null,null,null,null,null,null,"Central Mix Loading",{"$f":"MAX((IFERROR(OFFSET($J$20,MATCH(\"Central Mix Loading\",$J$21:$J$30,0),1),0)),((IFERROR((OFFSET($J$38,MATCH(\"Central Mix Loading\",$J$39:$J$48,0),1)),0))),((IFERROR((OFFSET($J$56,MATCH(\"Central Mix Loading\",$J$57:$J$66,0),1)),0))),((IFERROR((OFFSET($J$74,MATCH(\"Central Mix Loading\",$J$75:$J$84,0),1)),0))),((IFERROR((OFFSET($J$92,MATCH(\"Central Mix Loading\",$J$93:$J$102,0),1)),0))),((IFERROR((OFFSET($J$110,MATCH(\"Central Mix Loading\",$J$111:$J$120,0),1)),0))),((IFERROR((OFFSET($J$128,MATCH(\"Central Mix Loading\",$J$129:$J$138,0),1)),0))),((IFERROR((OFFSET($J$146,MATCH(\"Central Mix Loading\",$J$147:$J$156,0),1)),0))),((IFERROR((OFFSET($J$164,MATCH(\"Central Mix Loading\",$J$165:$J$174,0),1)),0))),((IFERROR((OFFSET($J$181,MATCH(\"Central Mix Loading\",$J$183:$J$192,0),1)),0))),)","v":0},{"$f":"SUM((IFERROR(OFFSET($J$20,MATCH(\"Central Mix Loading\",$J$21:$J$30,0),2),0)),((IFERROR((OFFSET($J$38,MATCH(\"Central Mix Loading\",$J$39:$J$48,0),2)),0))),((IFERROR((OFFSET($J$56,MATCH(\"Central Mix Loading\",$J$57:$J$66,0),2)),0))),((IFERROR((OFFSET($J$74,MATCH(\"Central Mix Loading\",$J$75:$J$84,0),2)),0))),((IFERROR((OFFSET($J$92,MATCH(\"Central Mix Loading\",$J$93:$J$102,0),2)),0))),((IFERROR((OFFSET($J$110,MATCH(\"Central Mix Loading\",$J$111:$J$120,0),2)),0))),((IFERROR((OFFSET($J$128,MATCH(\"Central Mix Loading\",$J$129:$J$138,0),2)),0))),((IFERROR((OFFSET($J$146,MATCH(\"Central Mix Loading\",$J$147:$J$156,0),2)),0))),((IFERROR((OFFSET($J$164,MATCH(\"Central Mix Loading\",$J$165:$J$174,0),2)),0))),((IFERROR((OFFSET($J$181,MATCH(\"Central Mix Loading\",$J$183:$J$192,0),2)),0))))","v":0}]
[null,null,null,null,null,null,null,"NOx",null,null,null,null,null,null,null,"Truck Mix Loading",{"$f":"MAX((IFERROR(OFFSET($J$20,MATCH(\"Truck Mix Loading\",$J$21:$J$30,0),1),0)),((IFERROR((OFFSET($J$38,MATCH(\"Truck Mix Loading\",$J$39:$J$48,0),1)),0))),((IFERROR((OFFSET($J$56,MATCH(\"Truck Mix Loading\",$J$57:$J$66,0),1)),0))),((IFERROR((OFFSET($J$74,MATCH(\"Truck Mix Loading\",$J$75:$J$84,0),1)),0))),((IFERROR((OFFSET($J$92,MATCH(\"Truck Mix Loading\",$J$93:$J$102,0),1)),0))),((IFERROR((OFFSET($J$110,MATCH(\"Truck Mix Loading\",$J$111:$J$120,0),1)),0))),((IFERROR((OFFSET($J$128,MATCH(\"Truck Mix Loading\",$J$129:$J$138,0),1)),0))),((IFERROR((OFFSET($J$146,MATCH(\"Truck Mix Loading\",$J$147:$J$156,0),1)),0))),((IFERROR((OFFSET($J$164,MATCH(\"Truck Mix Loading\",$J$165:$J$174,0),1)),0))),((IFERROR((OFFSET($J$181,MATCH(\"Truck Mix Loading\",$J$183:$J$192,0),1)),0))),)","v":0},{"$f":"SUM((IFERROR(OFFSET($J$20,MATCH(\"Truck Mix Loading\",$J$21:$J$30,0),2),0)),((IFERROR((OFFSET($J$38,MATCH(\"Truck Mix Loading\",$J$39:$J$48,0),2)),0))),((IFERROR((OFFSET($J$56,MATCH(\"Truck Mix Loading\",$J$57:$J$66,0),2)),0))),((IFERROR((OFFSET($J$74,MATCH(\"Truck Mix Loading\",$J$75:$J$84,0),2)),0))),((IFERROR((OFFSET($J$92,MATCH(\"Truck Mix Loading\",$J$93:$J$102,0),2)),0))),((IFERROR((OFFSET($J$110,MATCH(\"Truck Mix Loading\",$J$111:$J$120,0),2)),0))),((IFERROR((OFFSET($J$128,MATCH(\"Truck Mix Loading\",$J$129:$J$138,0),2)),0))),((IFERROR((OFFSET($J$146,MATCH(\"Truck Mix Loading\",$J$147:$J$156,0),2)),0))),((IFERROR((OFFSET($J$164,MATCH(\"Truck Mix Loading\",$J$165:$J$174,0),2)),0))),((IFERROR((OFFSET($J$181,MATCH(\"Truck Mix Loading\",$J$183:$J$192,0),2)),0))))","v":0}]
[null,null,null,null,null,null,null,"VOC",null,null,null,null,null,null,null,"Cement Delivery to Silo",{"$f":"MAX((IFERROR(OFFSET($J$20,MATCH(\"Cement Delivery to Silo\",$J$21:$J$30,0),1),0)),((IFERROR((OFFSET($J$38,MATCH(\"Cement Delivery to Silo\",$J$39:$J$48,0),1)),0))),((IFERROR((OFFSET($J$56,MATCH(\"Cement Delivery to Silo\",$J$57:$J$66,0),1)),0))),((IFERROR((OFFSET($J$74,MATCH(\"Cement Delivery to Silo\",$J$75:$J$84,0),1)),0))),((IFERROR((OFFSET($J$92,MATCH(\"Cement Delivery to Silo\",$J$93:$J$102,0),1)),0))),((IFERROR((OFFSET($J$110,MATCH(\"Cement Delivery to Silo\",$J$111:$J$120,0),1)),0))),((IFERROR((OFFSET($J$128,MATCH(\"Cement Delivery to Silo\",$J$129:$J$138,0),1)),0))),((IFERROR((OFFSET($J$146,MATCH(\"Cement Delivery to Silo\",$J$147:$J$156,0),1)),0))),((IFERROR((OFFSET($J$164,MATCH(\"Cement Delivery to Silo\",$J$165:$J$174,0),1)),0))),((IFERROR((OFFSET($J$181,MATCH(\"Cement Delivery to Silo\",$J$183:$J$192,0),1)),0))),)","v":0},{"$f":"SUM((IFERROR(OFFSET($J$20,MATCH(\"Cement Delivery to Silo\",$J$21:$J$30,0),2),0)),((IFERROR((OFFSET($J$38,MATCH(\"Cement Delivery to Silo\",$J$39:$J$48,0),2)),0))),((IFERROR((OFFSET($J$56,MATCH(\"Cement Delivery to Silo\",$J$57:$J$66,0),2)),0))),((IFERROR((OFFSET($J$74,MATCH(\"Cement Delivery to Silo\",$J$75:$J$84,0),2)),0))),((IFERROR((OFFSET($J$92,MATCH(\"Cement Delivery to Silo\",$J$93:$J$102,0),2)),0))),((IFERROR((OFFSET($J$110,MATCH(\"Cement Delivery to Silo\",$J$111:$J$120,0),2)),0))),((IFERROR((OFFSET($J$128,MATCH(\"Cement Delivery to Silo\",$J$129:$J$138,0),2)),0))),((IFERROR((OFFSET($J$146,MATCH(\"Cement Delivery to Silo\",$J$147:$J$156,0),2)),0))),((IFERROR((OFFSET($J$164,MATCH(\"Cement Delivery to Silo\",$J$165:$J$174,0),2)),0))),((IFERROR((OFFSET($J$181,MATCH(\"Cement Delivery to Silo\",$J$183:$J$192,0),2)),0))))","v":0}]
[null,null,null,null,null,null,null,"CO",null,null,null,null,null,null,null,"Cement Supplement Delivery to Silo",{"$f":"MAX((IFERROR(OFFSET($J$20,MATCH(\"Cement Supplement Delivery to Silo\",$J$21:$J$30,0),1),0)),((IFERROR((OFFSET($J$38,MATCH(\"Cement Supplement Delivery to Silo\",$J$39:$J$48,0),1)),0))),((IFERROR((OFFSET($J$56,MATCH(\"Cement Supplement Delivery to Silo\",$J$57:$J$66,0),1)),0))),((IFERROR((OFFSET($J$74,MATCH(\"Cement Supplement Delivery to Silo\",$J$75:$J$84,0),1)),0))),((IFERROR((OFFSET($J$92,MATCH(\"Cement Supplement Delivery to Silo\",$J$93:$J$102,0),1)),0))),((IFERROR((OFFSET($J$110,MATCH(\"Cement Supplement Delivery to Silo\",$J$111:$J$120,0),1)),0))),((IFERROR((OFFSET($J$128,MATCH(\"Cement Supplement Delivery to Silo\",$J$129:$J$138,0),1)),0))),((IFERROR((OFFSET($J$146,MATCH(\"Cement Supplement Delivery to Silo\",$J$147:$J$156,0),1)),0))),((IFERROR((OFFSET($J$164,MATCH(\"Cement Supplement Delivery to Silo\",$J$165:$J$174,0),1)),0))),((IFERROR((OFFSET($J$181,MATCH(\"Cement Supplement Delivery to Silo\",$J$183:$J$192,0),1)),0))),)","v":0},{"$f":"SUM((IFERROR(OFFSET($J$20,MATCH(\"Cement Supplement Delivery to Silo\",$J$21:$J$30,0),2),0)),((IFERROR((OFFSET($J$38,MATCH(\"Cement Supplement Delivery to Silo\",$J$39:$J$48,0),2)),0))),((IFERROR((OFFSET($J$56,MATCH(\"Cement Supplement Delivery to Silo\",$J$57:$J$66,0),2)),0))),((IFERROR((OFFSET($J$74,MATCH(\"Cement Supplement Delivery to Silo\",$J$75:$J$84,0),2)),0))),((IFERROR((OFFSET($J$92,MATCH(\"Cement Supplement Delivery to Silo\",$J$93:$J$102,0),2)),0))),((IFERROR((OFFSET($J$110,MATCH(\"Cement Supplement Delivery to Silo\",$J$111:$J$120,0),2)),0))),((IFERROR((OFFSET($J$128,MATCH(\"Cement Supplement Delivery to Silo\",$J$129:$J$138,0),2)),0))),((IFERROR((OFFSET($J$146,MATCH(\"Cement Supplement Delivery to Silo\",$J$147:$J$156,0),2)),0))),((IFERROR((OFFSET($J$164,MATCH(\"Cement Supplement Delivery to Silo\",$J$165:$J$174,0),2)),0))),((IFERROR((OFFSET($J$181,MATCH(\"Cement Supplement Delivery to Silo\",$J$183:$J$192,0),2)),0))))","v":0}]
[null,null,null,null,null,null,null,null,null,null,null,null,null,null,null,null,"Maximum (acres/day)","Actual (acres-day/yr)"]
[null,null,null,null,null,null,null,null,null,null,null,null,null,null,null,"Storage Pile",{"$f":"SUM(J34,J52,J70,J88,J106,J124,J142,J160,J178,J196)","v":0},{"$f":"SUM(K34*L34,K52*L52,K70*L70,K88*L88,K106*L106,K124*L124,K142*L142,K160*L160,K178*L178,K196*L196)","v":0}]
[]
[null,"Batch Plant","Site 1",null,null,null,null,"Emission Point #","Emission     Unit #","Processes","Combined Maximum Hourly Design Rate for all Like Processes (cubic yard/hr)",{"$f":"('Facility Information'!G5&\" Annual Throughput (cubic yards)\")","v":" Annual Throughput (cubic yards)"}]
[null,null,null,null,null,null,null,null,null,null,null,null,"Truck","Central",null,"Potential and Actual Emissions for the Listed Processes at this Plant"]
["YES","Site Name:",null,null,null,null,null,{"$f":"IF(J21=\"cement delivery to silo\",\"CP-1 EP-2\",IF(J21=\"cement supplement delivery to silo\",\"CP-1 EP-3\",IF(J21=\"weigh hopper loading\",\"CP-1 EP-4\",IF(J21=\"truck mix loading\",\"CP-1 EP-5\",IF(J21=\"central mix loading\",\"CP-1 EP-6\",IF(J21=\"\",\"\",\"CP-1 EP-1\"))))))","v":""},{"$f":"IF(J21=\"\",\"\",IF(J21=\"aggregate delivery to ground storage\",\"CP-9 EU-1\",IF(J21=\"sand delivery to ground storage\",\"CP-9 EU-2\",IF(J21=\"aggregate transfer to conveyor\",\"CP-9 EU-3\",IF(J21=\"sand transfer to conveyor\",\"CP-9 EU-4\",IF(J21=\"aggregate transfer to elevated storage\",\"CP-9 EU-5\",IF(J21=\"sand transfer to elevated storage\",\"CP-9 EU-6\",IF(J21=\"weigh hopper loading\",\"CP-9 EU-7\",IF(J21=\"central mix loading\",\"CP-9 EU-8\",IF(J21=\"truck mix loading\",\"CP-9 EU-9\",IF(J21=\"cement delivery to silo\",\"CP-9 EU-10\",IF(J21=\"cement supplement delivery to silo\",\"CP-9 EU-11\"))))))))))))","v":""},null,null,null,{"$f":"IF(J21=\"truck mix loading\",IF($F$24=\"yes\",L21*0.05/2000,L21/2000),\"\")","v":""},{"$f":"IF(J21=\"central mix loading\",IF($F$24=\"yes\",L21*0.05/2000,L21/2000),\"\")","v":""},null,null,"Maximum Design Rate (cubic yards/hr)","Emission Factor (lb/cubic yard)","Potential Uncontrolled Emissions (lb/hr)","Potential Controlled Emissions (lb/hr)","Potential Annual Emissions (tons/yr)","Actual Annual Emissions (tons/yr)"]
["NO","County:",null,null,null,null,null,{"$f":"IF(J22=\"cement delivery to silo\",\"CP-1 EP-2\",IF(J22=\"cement supplement delivery to silo\",\"CP-1 EP-3\",IF(J22=\"weigh hopper loading\",\"CP-1 EP-4\",IF(J22=\"truck mix loading\",\"CP-1 EP-5\",IF(J22=\"central mix loading\",\"CP-1 EP-6\",IF(J22=\"\",\"\",\"CP-1 EP-1\"))))))","v":""},"",null,null,null,{"$f":"IF(J22=\"truck mix loading\",IF($F$24=\"yes\",L22*0.05/2000,L22/2000),\"\")","v":""},{"$f":"IF(J22=\"central mix loading\",IF($F$24=\"yes\",L22*0.05/2000,L22/2000),\"\")","v":""},null,"PM2.5"]
[null,"Batching Period (Dates):",null,null,null,null,null,"","",null,null,null,"","",null,"Aggregate Delivery to Ground Storage",{"$f":"Q5","v":0},{"$f":"IF(Q23=0,0,LOOKUP(P23,'Emission Factors'!$A$5:$A$16,'Emission Factors'!$D$5:$D$16))","v":0},{"$f":"Q23*R23","v":0},{"$f":"IF(Q23=0,\"\",IF($I$10>0,$I$10,\"\"))","v":""},{"$f":"IF($J$10>0,$J$10,IF($D$9>0,$D$9*R23/2000,IF($D$10>0,$D$10*365*R23/2000,IF($D$11>0,$D$11*365*R23*Q23/2000,IF(T23=\"\",S23*8760/2000,T23*8760/2000)))))","v":0},{"$f":"(R5*R23/2000)","v":0}]
["Aggregate Delivery to Ground Storage",{"$f":"IF(OR(COUNTIF(J21:J30,\"Truck Mix Loading\")>0,(COUNTIF(J21:J30,\"Central Mix Loading\")>0)),\"Is the Central/Truck Mix Loading process controlled by a baghouse?\",\"\")","v":""},null,null,null,null,null,"","",null,null,null,"","",null,"Sand Delivery to Ground Storage",{"$f":"Q6","v":0},{"$f":"IF(Q24=0,0,LOOKUP(P24,'Emission Factors'!$A$5:$A$16,'Emission Factors'!$D$5:$D$16))","v":0},{"$f":"Q24*R24","v":0},{"$f":"IF(Q24=0,\"\",IF($I$10>0,$I$10,\"\"))","v":""},{"$f":"IF($J$10>0,\"\",IF($D$9>0,$D$9*R24/2000,IF($D$10>0,$D$10*365*R24/2000,IF($D$11>0,$D$11*365*R24*Q24/2000,IF(T24=\"\",S24*8760/2000,T24*8760/2000)))))","v":0},{"$f":"(R6*R24/2000)","v":0}]
["Sand Delivery to Ground Storage",null,null,null,null,null,null,"","",null,null,null,"","",null,"Aggregate Transfer to Conveyor",0,{"$f":"IF(Q25=0,0,LOOKUP(P25,'Emission Factors'!$A$5:$A$16,'Emission Factors'!$D$5:$D$16))","v":0},0,"",0,0]
["Aggregate Transfer to Conveyor",{"$f":"IF(AND(B28=\"\",B29=\"\",B32=\"\",B31=\"\",B30=\"\"),\"\",\"Process (complete stack information if applicable):\")","v":""},{"$f":"IF(AND(B28=\"\",B29=\"\",B32=\"\",B31=\"\",B30=\"\"),\"\",\"Stack Height (ft):\")","v":""},{"$f":"IF(AND(B28=\"\",B29=\"\",B32=\"\",B31=\"\",B30=\"\"),\"\",\"Stack Diameter (inches):\")","v":""},{"$f":"IF(AND(B28=\"\",B29=\"\",B32=\"\",B31=\"\",B30=\"\"),\"\",\"Flow Rate (acfm):\")","v":""},{"$f":"IF(AND(B28=\"\",B29=\"\",B32=\"\",B31=\"\",B30=\"\"),\"\",\"Temperature (Deg F):\")","v":""},null,"","",null,null,null,"","",null,"Sand Transfer to Conveyor",0,{"$f":"IF(Q26=0,0,LOOKUP(P26,'Emission Factors'!$A$5:$A$16,'Emission Factors'!$D$5:$D$16))","v":0},0,"",0,0]
["Sand Transfer to Conveyor",null,null,null,null,null,null,"","",null,null,null,"","",null,"Aggregate Transfer to Elevated Storage",0,{"$f":"IF(Q27=0,0,LOOKUP(P27,'Emission Factors'!$A$5:$A$16,'Emission Factors'!$D$5:$D$16))","v":0},0,"",0,0]
["Aggregate Transfer to Elevated Storage",{"$f":"IF(COUNTIF(J21:J30,\"Cement Delivery to Silo\")>0,\"EP-2 Cement Silo Stack:\",\"\")","v":""},null,null,null,null,null,"","",null,null,null,"","",null,"Sand Transfer to Elevated Storage",0,{"$f":"IF(Q28=0,0,LOOKUP(P28,'Emission Factors'!$A$5:$A$16,'Emission Factors'!$D$5:$D$16))","v":0},0,"",0,0]
["Sand Transfer to Elevated Storage",{"$f":"IF(COUNTIF(J21:J30,\"Cement Supplement Delivery to Silo\")>0,\"EP-3 Cement Supplement Silo Stack:\",\"\")","v":""},null,null,null,null,null,"","",null,null,null,"","",null,"Weigh Hopper Loading",0,{"$f":"IF(Q29=0,0,LOOKUP(P29,'Emission Factors'!$A$5:$A$16,'Emission Factors'!$D$5:$D$16))","v":0},0,"",0,0]
["Weigh Hopper Loading",{"$f":"IF(COUNTIF(J21:J30,\"Weigh Hopper Loading\")>0,\"EP-4 Weigh Hopper Loading Stack:\",\"\")","v":""},null,null,null,null,null,"","",null,null,null,"","",null,"Central Mix Loading",0,{"$f":"IF(Q30=0,0,LOOKUP(P30,'Emission Factors'!$A$5:$A$16,'Emission Factors'!$D$5:$D$16))","v":0},0,{"$f":"IF(Q30=0,\"\",IF($I$10>0,$I$10,IF(COUNTIF($F$24:$F$186,\"no\")>0,\"\",S30*(1-0.95))))","v":""},{"$f":"IF($J$10>0,\"\",IF($D$9>0,$D$9*R30*((100-$W$30)/100)/2000,IF($D$10>0,$D$10*365*R30*((100-$W$30)/100)/2000,IF($D$11>0,$D$11*365*R30*((100-$W$30)/100)*Q30/2000,IF(T30=\"\",S30*8760/2000,T30*8760/2000)))))","v":0},{"$f":"(R30*N198)","v":0},{"$f":"IF(COUNTIF($F$24:$F$186,\"no\")>0,0,95)","v":95}]
["Central Mix Loading",{"$f":"IF(COUNTIF(J21:J30,\"Truck Mix Loading\")>0,\"EP-5 Truck Mix Loading Stack:\",\"\")","v":""},null,null,null,null,null,null,null,null,null,null,null,null,null,"Truck Mix Loading",0,{"$f":"IF(Q31=0,0,LOOKUP(P31,'Emission Factors'!$A$5:$A$16,'Emission Factors'!$D$5:$D$16))","v":0},0,{"$f":"IF(Q31=0,\"\",IF($I$10>0,$I$10,IF(COUNTIF($F$24:$F$186,\"no\")>0,\"\",S31*(1-0.95))))","v":""},{"$f":"IF($J$10>0,\"\",IF($D$9>0,$D$9*R31*((100-$W$30)/100)/2000,IF($D$10>0,$D$10*365*R31*((100-$W$30)/100)/2000,IF($D$11>0,$D$11*365*R31*((100-$W$30)/100)*Q31/2000,IF(T31=\"\",S31*8760/2000,T31*8760/2000)))))","v":0},{"$f":"(R31*M198)","v":0}]
["Truck Mix Loading",{"$f":"IF(COUNTIF(J21:J30,\"Central Mix Loading\")>0,\"EP-6 Central Mix Loading Stack:\",\"\")","v":""},null,null,null,null,null,"Stock Pile Area",null,null,null,null,null,null,null,"Cement Delivery to Silo",0,{"$f":"IF(Q32=0,0,LOOKUP(P32,'Emission Factors'!$A$5:$A$16,'Emission Factors'!$D$5:$D$16))","v":0},null,{"$f":"IF(Q32=0,0,IF($I$10>0,$I$10,Q32*R32))","v":0},{"$f":"IF($J$10>0,\"\",IF($D$9>0,$D$9*R32/2000,IF($D$10>0,$D$10*365*R32/2000,IF($D$11>0,$D$11*365*R32*Q32/2000,IF($I$10>0,0,T32*8760/2000)))))","v":0},0]
["Cement Delivery to Silo",null,null,null,null,null,null,null,"Emission Unit #","Maximum Storage Area (acres)","Actual Storage Area (acres)","Actual Days in Existence (days)",null,null,null,"Cement Supplement Delivery to Silo",0,{"$f":"IF(Q33=0,0,LOOKUP(P33,'Emission Factors'!$A$5:$A$16,'Emission Factors'!$D$5:$D$16))","v":0},null,{"$f":"IF(Q33=0,0,IF($I$10>0,$I$10,Q33*R33))","v":0},{"$f":"IF($J$10>0,\"\",IF($D$9>0,$D$9*R33/2000,IF($D$10>0,$D$10*365*R33/2000,IF($D$11>0,$D$11*365*R33*Q33/2000,IF($I$10>0,0,T33*8760/2000)))))","v":0},0]
["Cement Supplement Delivery to Silo",null,null,null,null,null,null,null,null,null,null,null,null,null,null,"PM10"]
[null,null,null,null,null,null,null,null,null,null,null,null,null,null,null,"Aggregate Delivery to Ground Storage",{"$f":"Q5","v":0},{"$f":"IF(Q35=0,0,LOOKUP(P35,'Emission Factors'!$A$5:$A$16,'Emission Factors'!$H$5:$H$16))","v":0},0,{"$f":"IF(Q35=0,\"\",IF($I$11>0,$I$11,\"\"))","v":""},{"$f":"IF($J$11>0,$J$11,IF($D$9>0,$D$9*R35/2000,IF($D$10>0,$D$10*365*R35/2000,IF($D$11>0,$D$11*365*R35*Q35/2000,IF(T35=\"\",S35*8760/2000,T35*8760/2000)))))","v":0},{"$f":"(R5*R35/2000)","v":0}]
[null,null,null,null,null,null,null,null,null,null,null,null,null,null,null,"Sand Delivery to Ground Storage",{"$f":"Q6","v":0},{"$f":"IF(Q36=0,0,LOOKUP(P36,'Emission Factors'!$A$5:$A$16,'Emission Factors'!$H$5:$H$16))","v":0},0,{"$f":"IF(Q36=0,\"\",IF($I$11>0,$I$11,\"\"))","v":""},{"$f":"IF($J$11>0,\"\",IF($D$9>0,$D$9*R36/2000,IF($D$10>0,$D$10*365*R36/2000,IF($D$11>0,$D$11*365*R36*Q36/2000,IF(T36=\"\",S36*8760/2000,T36*8760/2000)))))","v":0},{"$f":"(R6*R36/2000)","v":0}]
[null,{"$f":"IF('Concrete Plant (CP-9)'!$D$4>1,\"Batch Plant\",\"\")","v":""},{"$f":"IF('Concrete Plant (CP-9)'!$D$4>1,\"Site 2\",\"\")","v":""},null,null,null,null,{"$f":"IF('Concrete Plant (CP-9)'!$D$4>1,\"Emission Point #\",\"\")","v":""},{"$f":"IF('Concrete Plant (CP-9)'!$D$4>1,\"Emission     Unit #\",\"\")","v":""},{"$f":"IF('Concrete Plant (CP-9)'!$D$4>1,\"Processes\",\"\")","v":""},{"$f":"IF('Concrete Plant (CP-9)'!$D$4>1,\"Combined Maximum Hourly Design Rate for all Like Processes (cubic yard/hr)\",\"\")","v":""},{"$f":"IF('Concrete Plant (CP-9)'!$D$4>1,('Facility Information'!G5&\" Annual Throughput (cubic yards)\"),\"\")","v":""},null,null,null,"Aggregate Transfer to Conveyor",0,{"$f":"IF(Q37=0,0,LOOKUP(P37,'Emission Factors'!$A$5:$A$16,'Emission Factors'!$H$5:$H$16))","v":0},0,"",0,0]
[null,null,null,null,null,null,null,null,null,null,null,null,"Truck","Central",null,"Sand Transfer to Conveyor",0,{"$f":"IF(Q38=0,0,LOOKUP(P38,'Emission Factors'!$A$5:$A$16,'Emission Factors'!$H$5:$H$16))","v":0},0,"",0,0]
[null,{"$f":"IF('Concrete Plant (CP-9)'!$D$4>1,\"Site Name:\",\"\")","v":""},null,null,null,null,null,{"$f":"IF(J39=\"cement delivery to silo\",\"CP-1 EP-2\",IF(J39=\"cement supplement delivery to silo\",\"CP-1 EP-3\",IF(J39=\"weigh hopper loading\",\"CP-1 EP-4\",IF(J39=\"truck mix loading\",\"CP-1 EP-5\",IF(J39=\"central mix loading\",\"CP-1 EP-6\",IF(J39=\"\",\"\",\"CP-1 EP-1\"))))))","v":""},{"$f":"IF(J39=\"\",\"\",IF(J39=\"aggregate delivery to ground storage\",\"CP-9 EU-1\",IF(J39=\"sand delivery to ground storage\",\"CP-9 EU-2\",IF(J39=\"aggregate transfer to conveyor\",\"CP-9 EU-3\",IF(J39=\"sand transfer to conveyor\",\"CP-9 EU-4\",IF(J39=\"aggregate transfer to elevated storage\",\"CP-9 EU-5\",IF(J39=\"sand transfer to elevated storage\",\"CP-9 EU-6\",IF(J39=\"weigh hopper loading\",\"CP-9 EU-7\",IF(J39=\"central mix loading\",\"CP-9 EU-8\",IF(J39=\"truck mix loading\",\"CP-9 EU-9\",IF(J39=\"cement delivery to silo\",\"CP-9 EU-10\",IF(J39=\"cement supplement delivery to silo\",\"CP-9 EU-11\"))))))))))))","v":""},null,null,null,{"$f":"IF(J39=\"truck mix loading\",IF($F$42=\"yes\",L39*0.05/2000,L39/2000),\"\")","v":""},{"$f":"IF(J39=\"central mix loading\",IF($F$42=\"yes\",L39*0.05/2000,L39/2000),\"\")","v":""},null,"Aggregate Transfer to Elevated Storage",0,{"$f":"IF(Q39=0,0,LOOKUP(P39,'Emission Factors'!$A$5:$A$16,'Emission Factors'!$H$5:$H$16))","v":0},0,"",0,0]
[null,{"$f":"IF('Concrete Plant (CP-9)'!$D$4>1,\"County:\",\"\")","v":""},null,null,null,null,null,{"$f":"IF(J40=\"cement delivery to silo\",\"CP-1 EP-2\",IF(J40=\"cement supplement delivery to silo\",\"CP-1 EP-3\",IF(J40=\"weigh hopper loading\",\"CP-1 EP-4\",IF(J40=\"truck mix loading\",\"CP-1 EP-5\",IF(J40=\"central mix loading\",\"CP-1 EP-6\",IF(J40=\"\",\"\",\"CP-1 EP-1\"))))))","v":""},"",null,null,null,{"$f":"IF(J40=\"truck mix loading\",IF($F$42=\"yes\",L40*0.05/2000,L40/2000),\"\")","v":""},{"$f":"IF(J40=\"central mix loading\",IF($F$42=\"yes\",L40*0.05/2000,L40/2000),\"\")","v":""},null,"Sand Transfer to Elevated Storage",0,{"$f":"IF(Q40=0,0,LOOKUP(P40,'Emission Factors'!$A$5:$A$16,'Emission Factors'!$H$5:$H$16))","v":0},0,"",0,0]
[null,{"$f":"IF('Concrete Plant (CP-9)'!$D$4>1,\"Batching Period (Dates):\",\"\")","v":""},null,null,null,null,null,"","",null,null,null,"","",null,"Weigh Hopper Loading",0,{"$f":"IF(Q41=0,0,LOOKUP(P41,'Emission Factors'!$A$5:$A$16,'Emission Factors'!$H$5:$H$16))","v":0},0,"",0,0]
[null,{"$f":"IF(OR(COUNTIF(J39:J48,\"Truck Mix Loading\")>0,(COUNTIF(J39:J48,\"Central Mix Loading\")>0)),\"Is the Central/Truck Mix Loading process controlled by a baghouse?\",\"\")","v":""},null,null,null,null,null,"","",null,null,null,"","",null,"Central Mix Loading",0,{"$f":"IF(Q42=0,0,LOOKUP(P42,'Emission Factors'!$A$5:$A$16,'Emission Factors'!$H$5:$H$16))","v":0},0,{"$f":"IF(Q42=0,\"\",IF($I$11>0,$I$11,IF(COUNTIF($F$24:$F$186,\"no\")>0,\"\",S42*(1-0.95))))","v":""},{"$f":"IF($J$11>0,\"\",IF($D$9>0,$D$9*R42*((100-$W$30)/100)/2000,IF($D$10>0,$D$10*365*R42*((100-$W$30)/100)/2000,IF($D$11>0,$D$11*365*R42*((100-$W$30)/100)*Q42/2000,IF(T42=\"\",S42*8760/2000,T42*8760/2000)))))","v":0},{"$f":"(N198*R42)","v":0},{"$f":"IF(COUNTIF($F$24:$F$186,\"no\")>0,0,95)","v":95}]
[null,null,null,null,null,null,null,"","",null,null,null,"","",null,"Truck Mix Loading",0,{"$f":"IF(Q43=0,0,LOOKUP(P43,'Emission Factors'!$A$5:$A$16,'Emission Factors'!$H$5:$H$16))","v":0},0,{"$f":"IF(Q43=0,\"\",IF($I$11>0,$I$11,IF(COUNTIF($F$24:$F$186,\"no\")>0,\"\",S43*(1-0.95))))","v":""},{"$f":"IF($J$11>0,\"\",IF($D$9>0,$D$9*R43*((100-$W$30)/100)/2000,IF($D$10>0,$D$10*365*R43*((100-$W$30)/100)/2000,IF($D$11>0,$D$11*365*R43*((100-$W$30)/100)*Q43/2000,IF(T43=\"\",S43*8760/2000,T43*8760/2000)))))","v":0},{"$f":"(M198*R43)","v":0}]
[null,{"$f":"IF(AND(B46=\"\",B47=\"\",B48=\"\",B49=\"\",B50=\"\"),\"\",\"Process (complete stack information if applicable):\")","v":""},{"$f":"IF(AND(B46=\"\",B47=\"\",B48=\"\",B49=\"\",B50=\"\"),\"\",\"Stack Height (ft):\")","v":""},{"$f":"IF(AND(B46=\"\",B47=\"\",B48=\"\",B49=\"\",B50=\"\"),\"\",\"Stack Diameter (inches):\")","v":""},{"$f":"IF(AND(B46=\"\",B47=\"\",B48=\"\",B49=\"\",B50=\"\"),\"\",\"Flow Rate (acfm):\")","v":""},{"$f":"IF(AND(B46=\"\",B47=\"\",B48=\"\",B49=\"\",B50=\"\"),\"\",\"Temperature (Deg F):\")","v":""},null,"","",null,null,null,"","",null,"Cement Delivery to Silo",0,{"$f":"IF(Q44=0,0,LOOKUP(P44,'Emission Factors'!$A$5:$A$16,'Emission Factors'!$H$5:$H$16))","v":0},null,{"$f":"IF(Q44=0,0,IF($I$10>0,$I$10,Q44*R44))","v":0},{"$f":"IF($J$11>0,\"\",IF($D$9>0,$D$9*R44/2000,IF($D$10>0,$D$10*365*R44/2000,IF($D$11>0,$D$11*365*R44*Q44/2000,IF($I$11>0,0,T44*8760/2000)))))","v":0},0]
[null,null,null,null,null,null,null,"","",null,null,null,"","",null,"Cement Supplement Delivery to Silo",0,{"$f":"IF(Q45=0,0,LOOKUP(P45,'Emission Factors'!$A$5:$A$16,'Emission Factors'!$H$5:$H$16))","v":0},null,{"$f":"IF(Q45=0,0,IF($I$10>0,$I$10,Q45*R45))","v":0},{"$f":"IF($J$11>0,\"\",IF($D$9>0,$D$9*R45/2000,IF($D$10>0,$D$10*365*R45/2000,IF($D$11>0,$D$11*365*R45*Q45/2000,IF($I$11>0,0,T45*8760/2000)))))","v":0},0]
[null,{"$f":"IF(COUNTIF(J39:J48,\"Cement Delivery to Silo\")>0,\"EP-2 Cement Silo Stack:\",\"\")","v":""},null,null,null,null,null,"","",null,null,null,"",""]
[null,{"$f":"IF(COUNTIF(J39:J48,\"Cement Supplement Delivery to Silo\")>0,\"EP-3 Cement Supplement Silo Stack:\",\"\")","v":""},null,null,null,null,null,"","",null,null,null,"","",null,null,"Max Design Rate (acres/day)","Emission Factor   (lb/acre-day)","Potential Uncontrolled Emissions (lb/hr)","Potential Controlled Emissions (lb/hr)","Potential Annual Emissions (tons/yr)","Actual Annual Emissions (tons/yr)"]
[null,{"$f":"IF(COUNTIF(J39:J48,\"Weigh Hopper Loading\")>0,\"EP-4 Weigh Hopper Loading Stack:\",\"\")","v":""},null,null,null,null,null,"","",null,null,null,"","",null,"Storage Pile"]
[null,{"$f":"IF(COUNTIF(J39:J48,\"Truck Mix Loading\")>0,\"EP-5 Truck Mix Loading Stack:\",\"\")","v":""},null,null,null,null,null,null,null,null,null,null,null,null,null,"PM2.5/PM10",{"$f":"Q17","v":0},3.64,{"$f":"Q49*R49*(1/24)","v":0},null,{"$f":"Q49*R49*365/2000","v":0},{"$f":"R17*R49/2000","v":0}]
[null,{"$f":"IF(COUNTIF(J39:J48,\"Central Mix Loading\")>0,\"EP-6 Central Mix Loading Stack:\",\"\")","v":""},null,null,null,null,null,{"$f":"IF('Concrete Plant (CP-9)'!$D$4>1,\"Stock Pile Area\",\"\")","v":""}]
[null,null,null,null,null,null,null,null,{"$f":"IF('Concrete Plant (CP-9)'!$D$4>1,\"Emission Unit #\",\"\")","v":""},{"$f":"IF('Concrete Plant (CP-9)'!$D$4>1,\"Maximum Storage Area (acres)\",\"\")","v":""},{"$f":"IF('Concrete Plant (CP-9)'!$D$4>1,\"Actual Storage Area (acres)\",\"\")","v":""},{"$f":"IF('Concrete Plant (CP-9)'!$D$4>1,\"Actual Days in Existence (days)\",\"\")","v":""}]
[]
[]
[]
[null,{"$f":"IF('Concrete Plant (CP-9)'!$D$4>2,\"Batch Plant\",\"\")","v":""},{"$f":"IF('Concrete Plant (CP-9)'!$D$4>2,\"Site 3\",\"\")","v":""},null,null,null,null,{"$f":"IF('Concrete Plant (CP-9)'!$D$4>2,\"Emission Point #\",\"\")","v":""},{"$f":"IF('Concrete Plant (CP-9)'!$D$4>2,\"Emission     Unit #\",\"\")","v":""},{"$f":"IF('Concrete Plant (CP-9)'!$D$4>2,\"Processes\",\"\")","v":""},{"$f":"IF('Concrete Plant (CP-9)'!$D$4>2,\"Combined Maximum Hourly Design Rate for all Like Processes (cubic yard/hr)\",\"\")","v":""},{"$f":"IF('Concrete Plant (CP-9)'!$D$4>2,('Facility Information'!G5&\" Annual Throughput (cubic yards)\"),\"\")","v":""}]
[null,null,null,null,null,null,null,null,null,null,null,null,"Truck","Central"]
[null,{"$f":"IF('Concrete Plant (CP-9)'!$D$4>2,\"Site Name:\",\"\")","v":""},null,null,null,null,null,{"$f":"IF(J57=\"cement delivery to silo\",\"CP-1 EP-2\",IF(J57=\"cement supplement delivery to silo\",\"CP-1 EP-3\",IF(J57=\"weigh hopper loading\",\"CP-1 EP-4\",IF(J57=\"truck mix loading\",\"CP-1 EP-5\",IF(J57=\"central mix loading\",\"CP-1 EP-6\",IF(J57=\"\",\"\",\"CP-1 EP-1\"))))))","v":""},{"$f":"IF(J57=\"\",\"\",IF(J57=\"aggregate delivery to ground storage\",\"CP-9 EU-1\",IF(J57=\"sand delivery to ground storage\",\"CP-9 EU-2\",IF(J57=\"aggregate transfer to conveyor\",\"CP-9 EU-3\",IF(J57=\"sand transfer to conveyor\",\"CP-9 EU-4\",IF(J57=\"aggregate transfer to elevated storage\",\"CP-9 EU-5\",IF(J57=\"sand transfer to elevated storage\",\"CP-9 EU-6\",IF(J57=\"weigh hopper loading\",\"CP-9 EU-7\",IF(J57=\"central mix loading\",\"CP-9 EU-8\",IF(J57=\"truck mix loading\",\"CP-9 EU-9\",IF(J57=\"cement delivery to silo\",\"CP-9 EU-10\",IF(J57=\"cement supplement delivery to silo\",\"CP-9 EU-11\"))))))))))))","v":""},null,null,null,{"$f":"IF(J57=\"truck mix loading\",IF($F$60=\"yes\",L57*0.05/2000,L57/2000),\"\")","v":""},{"$f":"IF(J57=\"central mix loading\",IF($F$60=\"yes\",L57*0.05/2000,L57/2000),\"\")","v":""}]
[null,{"$f":"IF('Concrete Plant (CP-9)'!$D$4>2,\"County:\",\"\")","v":""},null,null,null,null,null,{"$f":"IF(J58=\"cement delivery to silo\",\"CP-1 EP-2\",IF(J58=\"cement supplement delivery to silo\",\"CP-1 EP-3\",IF(J58=\"weigh hopper loading\",\"CP-1 EP-4\",IF(J58=\"truck mix loading\",\"CP-1 EP-5\",IF(J58=\"central mix loading\",\"CP-1 EP-6\",IF(J58=\"\",\"\",\"CP-1 EP-1\"))))))","v":""},"",null,null,null,{"$f":"IF(J58=\"truck mix loading\",IF($F$60=\"yes\",L58*0.05/2000,L58/2000),\"\")","v":""},{"$f":"IF(J58=\"central mix loading\",IF($F$60=\"yes\",L58*0.05/2000,L58/2000),\"\")","v":""}]
[null,{"$f":"IF('Concrete Plant (CP-9)'!$D$4>2,\"Batching Period (Dates):\",\"\")","v":""},null,null,null,null,null,"","",null,null,null,"",""]
[null,{"$f":"IF(OR(COUNTIF(J57:J66,\"Truck Mix Loading\")>0,(COUNTIF(J57:J66,\"Central Mix Loading\")>0)),\"Is the Central/Truck Mix Loading process controlled by a baghouse?\",\"\")","v":""},null,null,null,null,null,"","",null,null,null,"",""]
[null,null,null,null,null,null,null,"","",null,null,null,"",""]
[null,{"$f":"IF(AND(B64=\"\",B65=\"\",B66=\"\",B67=\"\",B68=\"\"),\"\",\"Process (complete stack information if applicable):\")","v":""},{"$f":"IF(AND(B64=\"\",B65=\"\",B66=\"\",B67=\"\",B68=\"\"),\"\",\"Stack Height (ft):\")","v":""},{"$f":"IF(AND(B64=\"\",B65=\"\",B66=\"\",B67=\"\",B68=\"\"),\"\",\"Stack Diameter (inches):\")","v":""},{"$f":"IF(AND(B64=\"\",B65=\"\",B66=\"\",B67=\"\",B68=\"\"),\"\",\"Flow Rate (acfm):\")","v":""},{"$f":"IF(AND(B64=\"\",B65=\"\",B66=\"\",B67=\"\",B68=\"\"),\"\",\"Temperature (Deg F):\")","v":""},null,"","",null,null,null,"",""]
[null,null,null,null,null,null,null,"","",null,null,null,"",""]
[null,{"$f":"IF(COUNTIF(J57:J66,\"Cement Delivery to Silo\")>0,\"EP-2 Cement Silo Stack:\",\"\")","v":""},null,null,null,null,null,"","",null,null,null,"",""]
[null,{"$f":"IF(COUNTIF(J57:J66,\"Cement Supplement Delivery to Silo\")>0,\"EP-3 Cement Supplement Silo Stack:\",\"\")","v":""},null,null,null,null,null,"","",null,null,null,"",""]
[null,{"$f":"IF(COUNTIF(J57:J66,\"Weigh Hopper Loading\")>0,\"EP-4 Weigh Hopper Loading Stack:\",\"\")","v":""},null,null,null,null,null,"","",null,null,null,"",""]
[null,{"$f":"IF(COUNTIF(J57:J66,\"Truck Mix Loading\")>0,\"EP-5 Truck Mix Loading Stack:\",\"\")","v":""}]
[null,{"$f":"IF(COUNTIF(J57:J66,\"Central Mix Loading\")>0,\"EP-6 Central Mix Loading Stack:\",\"\")","v":""},null,null,null,null,null,{"$f":"IF('Concrete Plant (CP-9)'!$D$4>2,\"Stock Pile Area\",\"\")","v":""}]
[null,null,null,null,null,null,null,null,{"$f":"IF('Concrete Plant (CP-9)'!$D$4>2,\"Emission Unit #\",\"\")","v":""},{"$f":"IF('Concrete Plant (CP-9)'!$D$4>2,\"Maximum Storage Area (acres)\",\"\")","v":""},{"$f":"IF('Concrete Plant (CP-9)'!$D$4>2,\"Actual Storage Area (acres)\",\"\")","v":""},{"$f":"IF('Concrete Plant (CP-9)'!$D$4>2,\"Actual Days in Existence (days)\",\"\")","v":""}]
[]
[]
[]
[null,{"$f":"IF('Concrete Plant (CP-9)'!$D$4>3,\"Batch Plant\",\"\")","v":""},{"$f":"IF('Concrete Plant (CP-9)'!$D$4>3,\"Site 4\",\"\")","v":""},null,null,null,null,{"$f":"IF('Concrete Plant (CP-9)'!$D$4>3,\"Emission Point #\",\"\")","v":""},{"$f":"IF('Concrete Plant (CP-9)'!$D$4>3,\"Emission     Unit #\",\"\")","v":""},{"$f":"IF('Concrete Plant (CP-9)'!$D$4>3,\"Processes\",\"\")","v":""},{"$f":"IF('Concrete Plant (CP-9)'!$D$4>3,\"Combined Maximum Hourly Design Rate for all Like Processes (cubic yard/hr)\",\"\")","v":""},{"$f":"IF('Concrete Plant (CP-9)'!$D$4>3,('Facility Information'!G5&\" Annual Throughput (cubic yards)\"),\"\")","v":""}]
[null,null,null,null,null,null,null,null,null,null,null,null,"Truck","Central"]
[null,{"$f":"IF('Concrete Plant (CP-9)'!$D$4>3,\"Site Name:\",\"\")","v":""},null,null,null,null,null,{"$f":"IF(J75=\"cement delivery to silo\",\"CP-1 EP-2\",IF(J75=\"cement supplement delivery to silo\",\"CP-1 EP-3\",IF(J75=\"weigh hopper loading\",\"CP-1 EP-4\",IF(J75=\"truck mix loading\",\"CP-1 EP-5\",IF(J75=\"central mix loading\",\"CP-1 EP-6\",IF(J75=\"\",\"\",\"CP-1 EP-1\"))))))","v":""},{"$f":"IF(J75=\"\",\"\",IF(J75=\"aggregate delivery to ground storage\",\"CP-9 EU-1\",IF(J75=\"sand delivery to ground storage\",\"CP-9 EU-2\",IF(J75=\"aggregate transfer to conveyor\",\"CP-9 EU-3\",IF(J75=\"sand transfer to conveyor\",\"CP-9 EU-4\",IF(J75=\"aggregate transfer to elevated storage\",\"CP-9 EU-5\",IF(J75=\"sand transfer to elevated storage\",\"CP-9 EU-6\",IF(J75=\"weigh hopper loading\",\"CP-9 EU-7\",IF(J75=\"central mix loading\",\"CP-9 EU-8\",IF(J75=\"truck mix loading\",\"CP-9 EU-9\",IF(J75=\"cement delivery to silo\",\"CP-9 EU-10\",IF(J75=\"cement supplement delivery to silo\",\"CP-9 EU-11\"))))))))))))","v":""},null,null,null,{"$f":"IF(J75=\"truck mix loading\",IF($F$78=\"yes\",L75*0.05/2000,L75/2000),\"\")","v":""},{"$f":"IF(J75=\"central mix loading\",IF($F$78=\"yes\",L75*0.05/2000,L75/2000),\"\")","v":""}]
[null,{"$f":"IF('Concrete Plant (CP-9)'!$D$4>3,\"County:\",\"\")","v":""},null,null,null,null,null,{"$f":"IF(J76=\"cement delivery to silo\",\"CP-1 EP-2\",IF(J76=\"cement supplement delivery to silo\",\"CP-1 EP-3\",IF(J76=\"weigh hopper loading\",\"CP-1 EP-4\",IF(J76=\"truck mix loading\",\"CP-1 EP-5\",IF(J76=\"central mix loading\",\"CP-1 EP-6\",IF(J76=\"\",\"\",\"CP-1 EP-1\"))))))","v":""},"",null,null,null,{"$f":"IF(J76=\"truck mix loading\",IF($F$78=\"yes\",L76*0.05/2000,L76/2000),\"\")","v":""},{"$f":"IF(J76=\"central mix loading\",IF($F$78=\"yes\",L76*0.05/2000,L76/2000),\"\")","v":""}]
[null,{"$f":"IF('Concrete Plant (CP-9)'!$D$4>3,\"Batching Period (Dates):\",\"\")","v":""},null,null,null,null,null,"","",null,null,null,"",""]
[null,{"$f":"IF(OR(COUNTIF(J75:J84,\"Truck Mix Loading\")>0,(COUNTIF(J75:J84,\"Central Mix Loading\")>0)),\"Is the Central/Truck Mix Loading process controlled by a baghouse?\",\"\")","v":""},null,null,null,null,null,"","",null,null,null,"",""]
[null,null,null,null,null,null,null,"","",null,null,null,"",""]
[null,{"$f":"IF(AND(B82=\"\",B83=\"\",B84=\"\",B85=\"\",B86=\"\"),\"\",\"Process (complete stack information if applicable):\")","v":""},{"$f":"IF(AND(B82=\"\",B83=\"\",B84=\"\",B85=\"\",B86=\"\"),\"\",\"Stack Height (ft):\")","v":""},{"$f":"IF(AND(B82=\"\",B83=\"\",B84=\"\",B85=\"\",B86=\"\"),\"\",\"Stack Diameter (inches):\")","v":""},{"$f":"IF(AND(B82=\"\",B83=\"\",B84=\"\",B85=\"\",B86=\"\"),\"\",\"Flow Rate (acfm):\")","v":""},{"$f":"IF(AND(B82=\"\",B83=\"\",B84=\"\",B85=\"\",B86=\"\"),\"\",\"Temperature (Deg F):\")","v":""},null,"","",null,null,null,"",""]
[null,null,null,null,null,null,null,"","",null,null,null,"",""]
[null,{"$f":"IF(COUNTIF(J75:J84,\"Cement Delivery to Silo\")>0,\"EP-2 Cement Silo Stack:\",\"\")","v":""},null,null,null,null,null,"","",null,null,null,"",""]
[null,{"$f":"IF(COUNTIF(J75:J84,\"Cement Supplement Delivery to Silo\")>0,\"EP-3 Cement Supplement Silo Stack:\",\"\")","v":""},null,null,null,null,null,"","",null,null,null,"",""]
[null,{"$f":"IF(COUNTIF(J75:J84,\"Weigh Hopper Loading\")>0,\"EP-4 Weigh Hopper Loading Stack:\",\"\")","v":""},null,null,null,null,null,"","",null,null,null,"",""]
[null,{"$f":"IF(COUNTIF(J75:J84,\"Truck Mix Loading\")>0,\"EP-5 Truck Mix Loading Stack:\",\"\")","v":""}]
[null,{"$f":"IF(COUNTIF(J75:J84,\"Central Mix Loading\")>0,\"EP-6 Central Mix Loading Stack:\",\"\")","v":""},null,null,null,null,null,{"$f":"IF('Concrete Plant (CP-9)'!$D$4>3,\"Stock Pile Area\",\"\")","v":""}]
[null,null,null,null,null,null,null,null,{"$f":"IF('Concrete Plant (CP-9)'!$D$4>3,\"Emission Unit #\",\"\")","v":""},{"$f":"IF('Concrete Plant (CP-9)'!$D$4>3,\"Maximum Storage Area (acres)\",\"\")","v":""},{"$f":"IF('Concrete Plant (CP-9)'!$D$4>3,\"Actual Storage Area (acres)\",\"\")","v":""},{"$f":"IF('Concrete Plant (CP-9)'!$D$4>3,\"Actual Days in Existence (days)\",\"\")","v":""}]
[]
[]
[]
[null,{"$f":"IF('Concrete Plant (CP-9)'!$D$4>4,\"Batch Plant\",\"\")","v":""},{"$f":"IF('Concrete Plant (CP-9)'!$D$4>4,\"Site 5\",\"\")","v":""},null,null,null,null,{"$f":"IF('Concrete Plant (CP-9)'!$D$4>4,\"Emission Point #\",\"\")","v":""},{"$f":"IF('Concrete Plant (CP-9)'!$D$4>4,\"Emission     Unit #\",\"\")","v":""},{"$f":"IF('Concrete Plant (CP-9)'!$D$4>4,\"Processes\",\"\")","v":""},{"$f":"IF('Concrete Plant (CP-9)'!$D$4>4,\"Combined Maximum Hourly Design Rate for all Like Processes (cubic yard/hr)\",\"\")","v":""},{"$f":"IF('Concrete Plant (CP-9)'!$D$4>4,('Facility Information'!G5&\" Annual Throughput (cubic yards)\"),\"\")","v":""}]
[null,null,null,null,null,null,null,null,null,null,null,null,"Truck","Central"]
[null,{"$f":"IF('Concrete Plant (CP-9)'!$D$4>4,\"Site Name:\",\"\")","v":""},null,null,null,null,null,{"$f":"IF(J93=\"cement delivery to silo\",\"CP-1 EP-2\",IF(J93=\"cement supplement delivery to silo\",\"CP-1 EP-3\",IF(J93=\"weigh hopper loading\",\"CP-1 EP-4\",IF(J93=\"truck mix loading\",\"CP-1 EP-5\",IF(J93=\"central mix loading\",\"CP-1 EP-6\",IF(J93=\"\",\"\",\"CP-1 EP-1\"))))))","v":""},{"$f":"IF(J93=\"\",\"\",IF(J93=\"aggregate delivery to ground storage\",\"CP-9 EU-1\",IF(J93=\"sand delivery to ground storage\",\"CP-9 EU-2\",IF(J93=\"aggregate transfer to conveyor\",\"CP-9 EU-3\",IF(J93=\"sand transfer to conveyor\",\"CP-9 EU-4\",IF(J93=\"aggregate transfer to elevated storage\",\"CP-9 EU-5\",IF(J93=\"sand transfer to elevated storage\",\"CP-9 EU-6\",IF(J93=\"weigh hopper loading\",\"CP-9 EU-7\",IF(J93=\"central mix loading\",\"CP-9 EU-8\",IF(J93=\"truck mix loading\",\"CP-9 EU-9\",IF(J93=\"cement delivery to silo\",\"CP-9 EU-10\",IF(J93=\"cement supplement delivery to silo\",\"CP-9 EU-11\"))))))))))))","v":""},null,null,null,{"$f":"IF(J93=\"truck mix loading\",IF($F$96=\"yes\",L93*0.05/2000,L93/2000),\"\")","v":""},{"$f":"IF(J93=\"central mix loading\",IF($F$96=\"yes\",L93*0.05/2000,L93/2000),\"\")","v":""}]
[null,{"$f":"IF('Concrete Plant (CP-9)'!$D$4>4,\"County:\",\"\")","v":""},null,null,null,null,null,{"$f":"IF(J94=\"cement delivery to silo\",\"CP-1 EP-2\",IF(J94=\"cement supplement delivery to silo\",\"CP-1 EP-3\",IF(J94=\"weigh hopper loading\",\"CP-1 EP-4\",IF(J94=\"truck mix loading\",\"CP-1 EP-5\",IF(J94=\"central mix loading\",\"CP-1 EP-6\",IF(J94=\"\",\"\",\"CP-1 EP-1\"))))))","v":""},"",null,null,null,{"$f":"IF(J94=\"truck mix loading\",IF($F$96=\"yes\",L94*0.05/2000,L94/2000),\"\")","v":""},{"$f":"IF(J94=\"central mix loading\",IF($F$96=\"yes\",L94*0.05/2000,L94/2000),\"\")","v":""}]
[null,{"$f":"IF('Concrete Plant (CP-9)'!$D$4>4,\"Batching Period (Dates):\",\"\")","v":""},null,null,null,null,null,"","",null,null,null,"",""]
[null,{"$f":"IF(OR(COUNTIF(J93:J102,\"Truck Mix Loading\")>0,(COUNTIF(J93:J102,\"Central Mix Loading\")>0)),\"Is the Central/Truck Mix Loading process controlled by a baghouse?\",\"\")","v":""},null,null,null,null,null,"","",null,null,null,"",""]
[null,null,null,null,null,null,null,"","",null,null,null,"",""]
[null,{"$f":"IF(AND(B100=\"\",B101=\"\",B102=\"\",B103=\"\",B104=\"\"),\"\",\"Process (complete stack information if applicable):\")","v":""},{"$f":"IF(AND(B100=\"\",B101=\"\",B102=\"\",B103=\"\",B104=\"\"),\"\",\"Stack Height (ft):\")","v":""},{"$f":"IF(AND(B100=\"\",B101=\"\",B102=\"\",B103=\"\",B104=\"\"),\"\",\"Stack Diameter (inches):\")","v":""},{"$f":"IF(AND(B100=\"\",B101=\"\",B102=\"\",B103=\"\",B104=\"\"),\"\",\"Flow Rate (acfm):\")","v":""},{"$f":"IF(AND(B100=\"\",B101=\"\",B102=\"\",B103=\"\",B104=\"\"),\"\",\"Temperature (Deg F):\")","v":""},null,"","",null,null,null,"",""]
[null,null,null,null,null,null,null,"","",null,null,null,"",""]
[null,{"$f":"IF(COUNTIF(J93:J102,\"Cement Delivery to Silo\")>0,\"EP-2 Cement Silo Stack:\",\"\")","v":""},null,null,null,null,null,"","",null,null,null,"",""]
[null,{"$f":"IF(COUNTIF(J93:J102,\"Cement Supplement Delivery to Silo\")>0,\"EP-3 Cement Supplement Silo Stack:\",\"\")","v":""},null,null,null,null,null,"","",null,null,null,"",""]
[null,{"$f":"IF(COUNTIF(J93:J102,\"Weigh Hopper Loading\")>0,\"EP-4 Weigh Hopper Loading Stack:\",\"\")","v":""},null,null,null,null,null,"","",null,null,null,"",""]
[null,{"$f":"IF(COUNTIF(J93:J102,\"Truck Mix Loading\")>0,\"EP-5 Truck Mix Loading Stack:\",\"\")","v":""}]
[null,{"$f":"IF(COUNTIF(J93:J102,\"Central Mix Loading\")>0,\"EP-6 Central Mix Loading Stack:\",\"\")","v":""},null,null,null,null,null,{"$f":"IF('Concrete Plant (CP-9)'!$D$4>4,\"Stock Pile Area\",\"\")","v":""}]
[null,null,null,null,null,null,null,null,{"$f":"IF('Concrete Plant (CP-9)'!$D$4>4,\"Emission Unit #\",\"\")","v":""},{"$f":"IF('Concrete Plant (CP-9)'!$D$4>4,\"Maximum Storage Area (acres)\",\"\")","v":""},{"$f":"IF('Concrete Plant (CP-9)'!$D$4>4,\"Actual Storage Area (acres)\",\"\")","v":""},{"$f":"IF('Concrete Plant (CP-9)'!$D$4>4,\"Actual Days in Existence (days)\",\"\")","v":""}]
[]
[]
[]
[null,{"$f":"IF('Concrete Plant (CP-9)'!$D$4>5,\"Batch Plant\",\"\")","v":""},{"$f":"IF('Concrete Plant (CP-9)'!$D$4>5,\"Site 6\",\"\")","v":""},null,null,null,null,{"$f":"IF('Concrete Plant (CP-9)'!$D$4>5,\"Emission Point #\",\"\")","v":""},{"$f":"IF('Concrete Plant (CP-9)'!$D$4>5,\"Emission     Unit #\",\"\")","v":""},{"$f":"IF('Concrete Plant (CP-9)'!$D$4>5,\"Processes\",\"\")","v":""},{"$f":"IF('Concrete Plant (CP-9)'!$D$4>5,\"Combined Maximum Hourly Design Rate for all Like Processes (cubic yard/hr)\",\"\")","v":""},{"$f":"IF('Concrete Plant (CP-9)'!$D$4>5,('Facility Information'!G5&\" Annual Throughput (cubic yards)\"),\"\")","v":""}]
[null,null,null,null,null,null,null,null,null,null,null,null,"Truck","Central"]
[null,{"$f":"IF('Concrete Plant (CP-9)'!$D$4>5,\"Site Name:\",\"\")","v":""},null,null,null,null,null,{"$f":"IF(J111=\"cement delivery to silo\",\"CP-1 EP-2\",IF(J111=\"cement supplement delivery to silo\",\"CP-1 EP-3\",IF(J111=\"weigh hopper loading\",\"CP-1 EP-4\",IF(J111=\"truck mix loading\",\"CP-1 EP-5\",IF(J111=\"central mix loading\",\"CP-1 EP-6\",IF(J111=\"\",\"\",\"CP-1 EP-1\"))))))","v":""},{"$f":"IF(J111=\"\",\"\",IF(J111=\"aggregate delivery to ground storage\",\"CP-9 EU-1\",IF(J111=\"sand delivery to ground storage\",\"CP-9 EU-2\",IF(J111=\"aggregate transfer to conveyor\",\"CP-9 EU-3\",IF(J111=\"sand transfer to conveyor\",\"CP-9 EU-4\",IF(J111=\"aggregate transfer to elevated storage\",\"CP-9 EU-5\",IF(J111=\"sand transfer to elevated storage\",\"CP-9 EU-6\",IF(J111=\"weigh hopper loading\",\"CP-9 EU-7\",IF(J111=\"central mix loading\",\"CP-9 EU-8\",IF(J111=\"truck mix loading\",\"CP-9 EU-9\",IF(J111=\"cement delivery to silo\",\"CP-9 EU-10\",IF(J111=\"cement supplement delivery to silo\",\"CP-9 EU-11\"))))))))))))","v":""},null,null,null,{"$f":"IF(J111=\"truck mix loading\",IF($F$114=\"yes\",L111*0.05/2000,L111/2000),\"\")","v":""},{"$f":"IF(J111=\"central mix loading\",IF($F$114=\"yes\",L111*0.05/2000,L111/2000),\"\")","v":""}]
[null,{"$f":"IF('Concrete Plant (CP-9)'!$D$4>5,\"County:\",\"\")","v":""},null,null,null,null,null,{"$f":"IF(J112=\"cement delivery to silo\",\"CP-1 EP-2\",IF(J112=\"cement supplement delivery to silo\",\"CP-1 EP-3\",IF(J112=\"weigh hopper loading\",\"CP-1 EP-4\",IF(J112=\"truck mix loading\",\"CP-1 EP-5\",IF(J112=\"central mix loading\",\"CP-1 EP-6\",IF(J112=\"\",\"\",\"CP-1 EP-1\"))))))","v":""},"",null,null,null,{"$f":"IF(J112=\"truck mix loading\",IF($F$114=\"yes\",L112*0.05/2000,L112/2000),\"\")","v":""},{"$f":"IF(J112=\"central mix loading\",IF($F$114=\"yes\",L112*0.05/2000,L112/2000),\"\")","v":""}]
[null,{"$f":"IF('Concrete Plant (CP-9)'!$D$4>5,\"Batching Period (Dates):\",\"\")","v":""},null,null,null,null,null,"","",null,null,null,"",""]
[null,{"$f":"IF(OR(COUNTIF(J111:J120,\"Truck Mix Loading\")>0,(COUNTIF(J111:J120,\"Central Mix Loading\")>0)),\"Is the Central/Truck Mix Loading process controlled by a baghouse?\",\"\")","v":""},null,null,null,null,null,"","",null,null,null,"",""]
[null,null,null,null,null,null,null,"","",null,null,null,"",""]
[null,{"$f":"IF(AND(B118=\"\",B119=\"\",B120=\"\",B121=\"\",B122=\"\"),\"\",\"Process (complete stack information if applicable):\")","v":""},{"$f":"IF(AND(B118=\"\",B119=\"\",B120=\"\",B121=\"\",B122=\"\"),\"\",\"Stack Height (ft):\")","v":""},{"$f":"IF(AND(B118=\"\",B119=\"\",B120=\"\",B121=\"\",B122=\"\"),\"\",\"Stack Diameter (inches):\")","v":""},{"$f":"IF(AND(B118=\"\",B119=\"\",B120=\"\",B121=\"\",B122=\"\"),\"\",\"Flow Rate (acfm):\")","v":""},{"$f":"IF(AND(B118=\"\",B119=\"\",B120=\"\",B121=\"\",B122=\"\"),\"\",\"Temperature (Deg F):\")","v":""},null,"","",null,null,null,"",""]
[null,null,null,null,null,null,null,"","",null,null,null,"",""]
[null,{"$f":"IF(COUNTIF(J111:J120,\"Cement Delivery to Silo\")>0,\"EP-2 Cement Silo Stack:\",\"\")","v":""},null,null,null,null,null,"","",null,null,null,"",""]
[null,{"$f":"IF(COUNTIF(J111:J120,\"Cement Supplement Delivery to Silo\")>0,\"EP-3 Cement Supplement Silo Stack:\",\"\")","v":""},null,null,null,null,null,"","",null,null,null,"",""]
[null,{"$f":"IF(COUNTIF(J111:J120,\"Weigh Hopper Loading\")>0,\"EP-4 Weigh Hopper Loading Stack:\",\"\")","v":""},null,null,null,null,null,"","",null,null,null,"",""]
[null,{"$f":"IF(COUNTIF(J111:J120,\"Truck Mix Loading\")>0,\"EP-5 Truck Mix Loading Stack:\",\"\")","v":""}]
[null,{"$f":"IF(COUNTIF(J111:J120,\"Central Mix Loading\")>0,\"EP-6 Central Mix Loading Stack:\",\"\")","v":""},null,null,null,null,null,{"$f":"IF('Concrete Plant (CP-9)'!$D$4>5,\"Stock Pile Area\",\"\")","v":""}]
[null,null,null,null,null,null,null,null,{"$f":"IF('Concrete Plant (CP-9)'!$D$4>5,\"Emission Unit #\",\"\")","v":""},{"$f":"IF('Concrete Plant (CP-9)'!$D$4>5,\"Maximum Storage Area (acres)\",\"\")","v":""},{"$f":"IF('Concrete Plant (CP-9)'!$D$4>5,\"Actual Storage Area (acres)\",\"\")","v":""},{"$f":"IF('Concrete Plant (CP-9)'!$D$4>5,\"Actual Days in Existence (days)\",\"\")","v":""}]
[]
[]
[]
[null,{"$f":"IF('Concrete Plant (CP-9)'!$D$4>6,\"Batch Plant\",\"\")","v":""},{"$f":"IF('Concrete Plant (CP-9)'!$D$4>6,\"Site 7\",\"\")","v":""},null,null,null,null,{"$f":"IF('Concrete Plant (CP-9)'!$D$4>6,\"Emission Point #\",\"\")","v":""},{"$f":"IF('Concrete Plant (CP-9)'!$D$4>6,\"Emission     Unit #\",\"\")","v":""},{"$f":"IF('Concrete Plant (CP-9)'!$D$4>6,\"Processes\",\"\")","v":""},{"$f":"IF('Concrete Plant (CP-9)'!$D$4>6,\"Combined Maximum Hourly Design Rate for all Like Processes (cubic yard/hr)\",\"\")","v":""},{"$f":"IF('Concrete Plant (CP-9)'!$D$4>6,('Facility Information'!G5&\" Annual Throughput (cubic yards)\"),\"\")","v":""}]
[null,null,null,null,null,null,null,null,null,null,null,null,"Truck","Central"]
[null,{"$f":"IF('Concrete Plant (CP-9)'!$D$4>6,\"Site Name:\",\"\")","v":""},null,null,null,null,null,{"$f":"IF(J129=\"cement delivery to silo\",\"CP-1 EP-2\",IF(J129=\"cement supplement delivery to silo\",\"CP-1 EP-3\",IF(J129=\"weigh hopper loading\",\"CP-1 EP-4\",IF(J129=\"truck mix loading\",\"CP-1 EP-5\",IF(J129=\"central mix loading\",\"CP-1 EP-6\",IF(J129=\"\",\"\",\"CP-1 EP-1\"))))))","v":""},{"$f":"IF(J129=\"\",\"\",IF(J129=\"aggregate delivery to ground storage\",\"CP-9 EU-1\",IF(J129=\"sand delivery to ground storage\",\"CP-9 EU-2\",IF(J129=\"aggregate transfer to conveyor\",\"CP-9 EU-3\",IF(J129=\"sand transfer to conveyor\",\"CP-9 EU-4\",IF(J129=\"aggregate transfer to elevated storage\",\"CP-9 EU-5\",IF(J129=\"sand transfer to elevated storage\",\"CP-9 EU-6\",IF(J129=\"weigh hopper loading\",\"CP-9 EU-7\",IF(J129=\"central mix loading\",\"CP-9 EU-8\",IF(J129=\"truck mix loading\",\"CP-9 EU-9\",IF(J129=\"cement delivery to silo\",\"CP-9 EU-10\",IF(J129=\"cement supplement delivery to silo\",\"CP-9 EU-11\"))))))))))))","v":""},null,null,null,{"$f":"IF(J129=\"truck mix loading\",IF($F$132=\"yes\",L129*0.05/2000,L129/2000),\"\")","v":""},{"$f":"IF(J129=\"central mix loading\",IF($F$132=\"yes\",L129*0.05/2000,L129/2000),\"\")","v":""}]
[null,{"$f":"IF('Concrete Plant (CP-9)'!$D$4>6,\"County:\",\"\")","v":""},null,null,null,null,null,{"$f":"IF(J130=\"cement delivery to silo\",\"CP-1 EP-2\",IF(J130=\"cement supplement delivery to silo\",\"CP-1 EP-3\",IF(J130=\"weigh hopper loading\",\"CP-1 EP-4\",IF(J130=\"truck mix loading\",\"CP-1 EP-5\",IF(J130=\"central mix loading\",\"CP-1 EP-6\",IF(J130=\"\",\"\",\"CP-1 EP-1\"))))))","v":""},"",null,null,null,{"$f":"IF(J130=\"truck mix loading\",IF($F$132=\"yes\",L130*0.05/2000,L130/2000),\"\")","v":""},{"$f":"IF(J130=\"central mix loading\",IF($F$132=\"yes\",L130*0.05/2000,L130/2000),\"\")","v":""}]
[null,{"$f":"IF('Concrete Plant (CP-9)'!$D$4>6,\"Batching Period (Dates):\",\"\")","v":""},null,null,null,null,null,"","",null,null,null,"",""]
[null,{"$f":"IF(OR(COUNTIF(J129:J138,\"Truck Mix Loading\")>0,(COUNTIF(J129:J138,\"Central Mix Loading\")>0)),\"Is the Central/Truck Mix Loading process controlled by a baghouse?\",\"\")","v":""},null,null,null,null,null,"","",null,null,null,"",""]
[null,null,null,null,null,null,null,"","",null,null,null,"",""]
[null,{"$f":"IF(AND(B136=\"\",B137=\"\",B138=\"\",B139=\"\",B140=\"\"),\"\",\"Process (complete stack information if applicable):\")","v":""},{"$f":"IF(AND(B136=\"\",B137=\"\",B138=\"\",B139=\"\",B140=\"\"),\"\",\"Stack Height (ft):\")","v":""},{"$f":"IF(AND(B136=\"\",B137=\"\",B138=\"\",B139=\"\",B140=\"\"),\"\",\"Stack Diameter (inches):\")","v":""},{"$f":"IF(AND(B136=\"\",B137=\"\",B138=\"\",B139=\"\",B140=\"\"),\"\",\"Flow Rate (acfm):\")","v":""},{"$f":"IF(AND(B136=\"\",B137=\"\",B138=\"\",B139=\"\",B140=\"\"),\"\",\"Temperature (Deg F):\")","v":""},null,"","",null,null,null,"",""]
[null,null,null,null,null,null,null,"","",null,null,null,"",""]
[null,{"$f":"IF(COUNTIF(J129:J138,\"Cement Delivery to Silo\")>0,\"EP-2 Cement Silo Stack:\",\"\")","v":""},null,null,null,null,null,"","",null,null,null,"",""]
[null,{"$f":"IF(COUNTIF(J129:J138,\"Cement Supplement Delivery to Silo\")>0,\"EP-3 Cement Supplement Silo Stack:\",\"\")","v":""},null,null,null,null,null,"","",null,null,null,"",""]
[null,{"$f":"IF(COUNTIF(J129:J138,\"Weigh Hopper Loading\")>0,\"EP-4 Weigh Hopper Loading Stack:\",\"\")","v":""},null,null,null,null,null,"","",null,null,null,"",""]
[null,{"$f":"IF(COUNTIF(J129:J138,\"Truck Mix Loading\")>0,\"EP-5 Truck Mix Loading Stack:\",\"\")","v":""}]
[null,{"$f":"IF(COUNTIF(J129:J138,\"Central Mix Loading\")>0,\"EP-6 Central Mix Loading Stack:\",\"\")","v":""},null,null,null,null,null,{"$f":"IF('Concrete Plant (CP-9)'!$D$4>6,\"Stock Pile Area\",\"\")","v":""}]
[null,null,null,null,null,null,null,null,{"$f":"IF('Concrete Plant (CP-9)'!$D$4>6,\"Emission Unit #\",\"\")","v":""},{"$f":"IF('Concrete Plant (CP-9)'!$D$4>6,\"Maximum Storage Area (acres)\",\"\")","v":""},{"$f":"IF('Concrete Plant (CP-9)'!$D$4>6,\"Actual Storage Area (acres)\",\"\")","v":""},{"$f":"IF('Concrete Plant (CP-9)'!$D$4>6,\"Actual Days in Existence (days)\",\"\")","v":""}]
[]
[]
[]
[null,{"$f":"IF('Concrete Plant (CP-9)'!$D$4>7,\"Batch Plant\",\"\")","v":""},{"$f":"IF('Concrete Plant (CP-9)'!$D$4>7,\"Site 8\",\"\")","v":""},null,null,null,null,{"$f":"IF('Concrete Plant (CP-9)'!$D$4>7,\"Emission Point #\",\"\")","v":""},{"$f":"IF('Concrete Plant (CP-9)'!$D$4>7,\"Emission     Unit #\",\"\")","v":""},{"$f":"IF('Concrete Plant (CP-9)'!$D$4>7,\"Processes\",\"\")","v":""},{"$f":"IF('Concrete Plant (CP-9)'!$D$4>7,\"Combined Maximum Hourly Design Rate for all Like Processes (cubic yard/hr)\",\"\")","v":""},{"$f":"IF('Concrete Plant (CP-9)'!$D$4>7,('Facility Information'!G5&\" Annual Throughput (cubic yards)\"),\"\")","v":""}]
[null,null,null,null,null,null,null,null,null,null,null,null,"Truck","Central"]
[null,{"$f":"IF('Concrete Plant (CP-9)'!$D$4>7,\"Site Name:\",\"\")","v":""},null,null,null,null,null,{"$f":"IF(J147=\"cement delivery to silo\",\"CP-1 EP-2\",IF(J147=\"cement supplement delivery to silo\",\"CP-1 EP-3\",IF(J147=\"weigh hopper loading\",\"CP-1 EP-4\",IF(J147=\"truck mix loading\",\"CP-1 EP-5\",IF(J147=\"central mix loading\",\"CP-1 EP-6\",IF(J147=\"\",\"\",\"CP-1 EP-1\"))))))","v":""},{"$f":"IF(J147=\"\",\"\",IF(J147=\"aggregate delivery to ground storage\",\"CP-9 EU-1\",IF(J147=\"sand delivery to ground storage\",\"CP-9 EU-2\",IF(J147=\"aggregate transfer to conveyor\",\"CP-9 EU-3\",IF(J147=\"sand transfer to conveyor\",\"CP-9 EU-4\",IF(J147=\"aggregate transfer to elevated storage\",\"CP-9 EU-5\",IF(J147=\"sand transfer to elevated storage\",\"CP-9 EU-6\",IF(J147=\"weigh hopper loading\",\"CP-9 EU-7\",IF(J147=\"central mix loading\",\"CP-9 EU-8\",IF(J147=\"truck mix loading\",\"CP-9 EU-9\",IF(J147=\"cement delivery to silo\",\"CP-9 EU-10\",IF(J147=\"cement supplement delivery to silo\",\"CP-9 EU-11\"))))))))))))","v":""},null,null,null,{"$f":"IF(J147=\"truck mix loading\",IF($F$150=\"yes\",L147*0.05/2000,L147/2000),\"\")","v":""},{"$f":"IF(J147=\"central mix loading\",IF($F$150=\"yes\",L147*0.05/2000,L147/2000),\"\")","v":""}]
[null,{"$f":"IF('Concrete Plant (CP-9)'!$D$4>7,\"County:\",\"\")","v":""},null,null,null,null,null,{"$f":"IF(J148=\"cement delivery to silo\",\"CP-1 EP-2\",IF(J148=\"cement supplement delivery to silo\",\"CP-1 EP-3\",IF(J148=\"weigh hopper loading\",\"CP-1 EP-4\",IF(J148=\"truck mix loading\",\"CP-1 EP-5\",IF(J148=\"central mix loading\",\"CP-1 EP-6\",IF(J148=\"\",\"\",\"CP-1 EP-1\"))))))","v":""},"",null,null,null,{"$f":"IF(J148=\"truck mix loading\",IF($F$150=\"yes\",L148*0.05/2000,L148/2000),\"\")","v":""},{"$f":"IF(J148=\"central mix loading\",IF($F$150=\"yes\",L148*0.05/2000,L148/2000),\"\")","v":""}]
[null,{"$f":"IF('Concrete Plant (CP-9)'!$D$4>7,\"Batching Period (Dates):\",\"\")","v":""},null,null,null,null,null,"","",null,null,null,"",""]
[null,{"$f":"IF(OR(COUNTIF(J147:J156,\"Truck Mix Loading\")>0,(COUNTIF(J147:J156,\"Central Mix Loading\")>0)),\"Is the Central/Truck Mix Loading process controlled by a baghouse?\",\"\")","v":""},null,null,null,null,null,"","",null,null,null,"",""]
[null,null,null,null,null,null,null,"","",null,null,null,"",""]
[null,{"$f":"IF(AND(B154=\"\",B155=\"\",B156=\"\",B157=\"\",B158=\"\"),\"\",\"Process (complete stack information if applicable):\")","v":""},{"$f":"IF(AND(B154=\"\",B155=\"\",B156=\"\",B157=\"\",B158=\"\"),\"\",\"Stack Height (ft):\")","v":""},{"$f":"IF(AND(B154=\"\",B155=\"\",B156=\"\",B157=\"\",B158=\"\"),\"\",\"Stack Diameter (inches):\")","v":""},{"$f":"IF(AND(B154=\"\",B155=\"\",B156=\"\",B157=\"\",B158=\"\"),\"\",\"Flow Rate (acfm):\")","v":""},{"$f":"IF(AND(B154=\"\",B155=\"\",B156=\"\",B157=\"\",B158=\"\"),\"\",\"Temperature (Deg F):\")","v":""},null,"","",null,null,null,"",""]
[null,null,null,null,null,null,null,"","",null,null,null,"",""]
[null,{"$f":"IF(COUNTIF(J147:J156,\"Cement Delivery to Silo\")>0,\"EP-2 Cement Silo Stack:\",\"\")","v":""},null,null,null,null,null,"","",null,null,null,"",""]
[null,{"$f":"IF(COUNTIF(J147:J156,\"Cement Supplement Delivery to Silo\")>0,\"EP-3 Cement Supplement Silo Stack:\",\"\")","v":""},null,null,null,null,null,"","",null,null,null,"",""]
[null,{"$f":"IF(COUNTIF(J147:J156,\"Weigh Hopper Loading\")>0,\"EP-4 Weigh Hopper Loading Stack:\",\"\")","v":""},null,null,null,null,null,"","",null,null,null,"",""]
[null,{"$f":"IF(COUNTIF(J147:J156,\"Truck Mix Loading\")>0,\"EP-5 Truck Mix Loading Stack:\",\"\")","v":""}]
[null,{"$f":"IF(COUNTIF(J147:J156,\"Central Mix Loading\")>0,\"EP-6 Central Mix Loading Stack:\",\"\")","v":""},null,null,null,null,null,{"$f":"IF('Concrete Plant (CP-9)'!$D$4>7,\"Stock Pile Area\",\"\")","v":""}]
[null,null,null,null,null,null,null,null,{"$f":"IF('Concrete Plant (CP-9)'!$D$4>7,\"Emission Unit #\",\"\")","v":""},{"$f":"IF('Concrete Plant (CP-9)'!$D$4>7,\"Maximum Storage Area (acres)\",\"\")","v":""},{"$f":"IF('Concrete Plant (CP-9)'!$D$4>7,\"Actual Storage Area (acres)\",\"\")","v":""},{"$f":"IF('Concrete Plant (CP-9)'!$D$4>7,\"Actual Days in Existence (days)\",\"\")","v":""}]
[]
[]
[]
[null,{"$f":"IF('Concrete Plant (CP-9)'!$D$4>8,\"Batch Plant\",\"\")","v":""},{"$f":"IF('Concrete Plant (CP-9)'!$D$4>8,\"Site 9\",\"\")","v":""},null,null,null,null,{"$f":"IF('Concrete Plant (CP-9)'!$D$4>8,\"Emission Point #\",\"\")","v":""},{"$f":"IF('Concrete Plant (CP-9)'!$D$4>8,\"Emission     Unit #\",\"\")","v":""},{"$f":"IF('Concrete Plant (CP-9)'!$D$4>8,\"Processes\",\"\")","v":""},{"$f":"IF('Concrete Plant (CP-9)'!$D$4>8,\"Combined Maximum Hourly Design Rate for all Like Processes (cubic yard/hr)\",\"\")","v":""},{"$f":"IF('Concrete Plant (CP-9)'!$D$4>8,('Facility Information'!G5&\" Annual Throughput (cubic yards)\"),\"\")","v":""}]
[null,null,null,null,null,null,null,null,null,null,null,null,"Truck","Central"]
[null,{"$f":"IF('Concrete Plant (CP-9)'!$D$4>8,\"Site Name:\",\"\")","v":""},null,null,null,null,null,{"$f":"IF(J165=\"cement delivery to silo\",\"CP-1 EP-2\",IF(J165=\"cement supplement delivery to silo\",\"CP-1 EP-3\",IF(J165=\"weigh hopper loading\",\"CP-1 EP-4\",IF(J165=\"truck mix loading\",\"CP-1 EP-5\",IF(J165=\"central mix loading\",\"CP-1 EP-6\",IF(J165=\"\",\"\",\"CP-1 EP-1\"))))))","v":""},{"$f":"IF(J165=\"\",\"\",IF(J165=\"aggregate delivery to ground storage\",\"CP-9 EU-1\",IF(J165=\"sand delivery to ground storage\",\"CP-9 EU-2\",IF(J165=\"aggregate transfer to conveyor\",\"CP-9 EU-3\",IF(J165=\"sand transfer to conveyor\",\"CP-9 EU-4\",IF(J165=\"aggregate transfer to elevated storage\",\"CP-9 EU-5\",IF(J165=\"sand transfer to elevated storage\",\"CP-9 EU-6\",IF(J165=\"weigh hopper loading\",\"CP-9 EU-7\",IF(J165=\"central mix loading\",\"CP-9 EU-8\",IF(J165=\"truck mix loading\",\"CP-9 EU-9\",IF(J165=\"cement delivery to silo\",\"CP-9 EU-10\",IF(J165=\"cement supplement delivery to silo\",\"CP-9 EU-11\"))))))))))))","v":""},null,null,null,{"$f":"IF(J165=\"truck mix loading\",IF($F$168=\"yes\",L165*0.05/2000,L165/2000),\"\")","v":""},{"$f":"IF(J165=\"central mix loading\",IF($F$168=\"yes\",L165*0.05/2000,L165/2000),\"\")","v":""}]
[null,{"$f":"IF('Concrete Plant (CP-9)'!$D$4>8,\"County:\",\"\")","v":""},null,null,null,null,null,{"$f":"IF(J166=\"cement delivery to silo\",\"CP-1 EP-2\",IF(J166=\"cement supplement delivery to silo\",\"CP-1 EP-3\",IF(J166=\"weigh hopper loading\",\"CP-1 EP-4\",IF(J166=\"truck mix loading\",\"CP-1 EP-5\",IF(J166=\"central mix loading\",\"CP-1 EP-6\",IF(J166=\"\",\"\",\"CP-1 EP-1\"))))))","v":""},"",null,null,null,{"$f":"IF(J166=\"truck mix loading\",IF($F$168=\"yes\",L166*0.05/2000,L166/2000),\"\")","v":""},{"$f":"IF(J166=\"central mix loading\",IF($F$168=\"yes\",L166*0.05/2000,L166/2000),\"\")","v":""}]
[null,{"$f":"IF('Concrete Plant (CP-9)'!$D$4>8,\"Batching Period (Dates):\",\"\")","v":""},null,null,null,null,null,"","",null,null,null,"",""]
[null,{"$f":"IF(OR(COUNTIF(J165:J174,\"Truck Mix Loading\")>0,(COUNTIF(J165:J174,\"Central Mix Loading\")>0)),\"Is the Central/Truck Mix Loading process controlled by a baghouse?\",\"\")","v":""},null,null,null,null,null,"","",null,null,null,"",""]
[null,null,null,null,null,null,null,"","",null,null,null,"",""]
[null,{"$f":"IF(AND(B172=\"\",B173=\"\",B174=\"\",B175=\"\",B176=\"\"),\"\",\"Process (complete stack information if applicable):\")","v":""},{"$f":"IF(AND(B172=\"\",B173=\"\",B174=\"\",B175=\"\",B176=\"\"),\"\",\"Stack Height (ft):\")","v":""},{"$f":"IF(AND(B172=\"\",B173=\"\",B174=\"\",B175=\"\",B176=\"\"),\"\",\"Stack Diameter (inches):\")","v":""},{"$f":"IF(AND(B172=\"\",B173=\"\",B174=\"\",B175=\"\",B176=\"\"),\"\",\"Flow Rate (acfm):\")","v":""},{"$f":"IF(AND(B172=\"\",B173=\"\",B174=\"\",B175=\"\",B176=\"\"),\"\",\"Temperature (Deg F):\")","v":""},null,"","",null,null,null,"",""]
[null,null,null,null,null,null,null,"","",null,null,null,"",""]
[null,{"$f":"IF(COUNTIF(J165:J174,\"Cement Delivery to Silo\")>0,\"EP-2 Cement Silo Stack:\",\"\")","v":""},null,null,null,null,null,"","",null,null,null,"",""]
[null,{"$f":"IF(COUNTIF(J165:J174,\"Cement Supplement Delivery to Silo\")>0,\"EP-3 Cement Supplement Silo Stack:\",\"\")","v":""},null,null,null,null,null,"","",null,null,null,"",""]
[null,{"$f":"IF(COUNTIF(J165:J174,\"Weigh Hopper Loading\")>0,\"EP-4 Weigh Hopper Loading Stack:\",\"\")","v":""},null,null,null,null,null,"","",null,null,null,"",""]
[null,{"$f":"IF(COUNTIF(J165:J174,\"Truck Mix Loading\")>0,\"EP-5 Truck Mix Loading Stack:\",\"\")","v":""}]
[null,{"$f":"IF(COUNTIF(J165:J174,\"Central Mix Loading\")>0,\"EP-6 Central Mix Loading Stack:\",\"\")","v":""},null,null,null,null,null,{"$f":"IF('Concrete Plant (CP-9)'!$D$4>8,\"Stock Pile Area\",\"\")","v":""}]
[null,null,null,null,null,null,null,null,{"$f":"IF('Concrete Plant (CP-9)'!$D$4>8,\"Emission Unit #\",\"\")","v":""},{"$f":"IF('Concrete Plant (CP-9)'!$D$4>8,\"Maximum Storage Area (acres)\",\"\")","v":""},{"$f":"IF('Concrete Plant (CP-9)'!$D$4>8,\"Actual Storage Area (acres)\",\"\")","v":""},{"$f":"IF('Concrete Plant (CP-9)'!$D$4>8,\"Actual Days in Existence (days)\",\"\")","v":""}]
[]
[]
[]
[null,{"$f":"IF('Concrete Plant (CP-9)'!$D$4>9,\"Batch Plant\",\"\")","v":""},{"$f":"IF('Concrete Plant (CP-9)'!$D$4>9,\"Site 10\",\"\")","v":""},null,null,null,null,{"$f":"IF('Concrete Plant (CP-9)'!$D$4>9,\"Emission Point #\",\"\")","v":""},{"$f":"IF('Concrete Plant (CP-9)'!$D$4>9,\"Emission     Unit #\",\"\")","v":""},{"$f":"IF('Concrete Plant (CP-9)'!$D$4>9,\"Processes\",\"\")","v":""},{"$f":"IF('Concrete Plant (CP-9)'!$D$4>9,\"Combined Maximum Hourly Design Rate for all Like Processes (cubic yard/hr)\",\"\")","v":""},{"$f":"IF('Concrete Plant (CP-9)'!$D$4>9,('Facility Information'!G5&\" Annual Throughput (cubic yards)\"),\"\")","v":""}]
[null,null,null,null,null,null,null,null,null,null,null,null,"Truck","Central"]
[null,{"$f":"IF('Concrete Plant (CP-9)'!$D$4>9,\"Site Name:\",\"\")","v":""},null,null,null,null,null,{"$f":"IF(J183=\"cement delivery to silo\",\"CP-1 EP-2\",IF(J183=\"cement supplement delivery to silo\",\"CP-1 EP-3\",IF(J183=\"weigh hopper loading\",\"CP-1 EP-4\",IF(J183=\"truck mix loading\",\"CP-1 EP-5\",IF(J183=\"central mix loading\",\"CP-1 EP-6\",IF(J183=\"\",\"\",\"CP-1 EP-1\"))))))","v":""},{"$f":"IF(J183=\"\",\"\",IF(J183=\"aggregate delivery to ground storage\",\"CP-9 EU-1\",IF(J183=\"sand delivery to ground storage\",\"CP-9 EU-2\",IF(J183=\"aggregate transfer to conveyor\",\"CP-9 EU-3\",IF(J183=\"sand transfer to conveyor\",\"CP-9 EU-4\",IF(J183=\"aggregate transfer to elevated storage\",\"CP-9 EU-5\",IF(J183=\"sand transfer to elevated storage\",\"CP-9 EU-6\",IF(J183=\"weigh hopper loading\",\"CP-9 EU-7\",IF(J183=\"central mix loading\",\"CP-9 EU-8\",IF(J183=\"truck mix loading\",\"CP-9 EU-9\",IF(J183=\"cement delivery to silo\",\"CP-9 EU-10\",IF(J183=\"cement supplement delivery to silo\",\"CP-9 EU-11\"))))))))))))","v":""},null,null,null,{"$f":"IF(J183=\"truck mix loading\",IF($F$186=\"yes\",L183*0.05/2000,L183/2000),\"\")","v":""},{"$f":"IF(J183=\"central mix loading\",IF($F$186=\"yes\",L183*0.05/2000,L183/2000),\"\")","v":""}]
[null,{"$f":"IF('Concrete Plant (CP-9)'!$D$4>9,\"County:\",\"\")","v":""},null,null,null,null,null,{"$f":"IF(J184=\"cement delivery to silo\",\"CP-1 EP-2\",IF(J184=\"cement supplement delivery to silo\",\"CP-1 EP-3\",IF(J184=\"weigh hopper loading\",\"CP-1 EP-4\",IF(J184=\"truck mix loading\",\"CP-1 EP-5\",IF(J184=\"central mix loading\",\"CP-1 EP-6\",IF(J184=\"\",\"\",\"CP-1 EP-1\"))))))","v":""},"",null,null,null,{"$f":"IF(J184=\"truck mix loading\",IF($F$186=\"yes\",L184*0.05/2000,L184/2000),\"\")","v":""},{"$f":"IF(J184=\"central mix loading\",IF($F$186=\"yes\",L184*0.05/2000,L184/2000),\"\")","v":""}]
[null,{"$f":"IF('Concrete Plant (CP-9)'!$D$4>9,\"Batching Period (Dates):\",\"\")","v":""},null,null,null,null,null,"","",null,null,null,"",""]
[null,{"$f":"IF(OR(COUNTIF(J183:J192,\"Truck Mix Loading\")>0,(COUNTIF(J183:J192,\"Central Mix Loading\")>0)),\"Is the Central/Truck Mix Loading process controlled by a baghouse?\",\"\")","v":""},null,null,null,null,null,"","",null,null,null,"",""]
[null,null,null,null,null,null,null,"","",null,null,null,"",""]
[null,{"$f":"IF(AND(B190=\"\",B191=\"\",B192=\"\",B193=\"\",B194=\"\"),\"\",\"Process (complete stack information if applicable):\")","v":""},{"$f":"IF(AND(B190=\"\",B191=\"\",B192=\"\",B193=\"\",B194=\"\"),\"\",\"Stack Height (ft):\")","v":""},{"$f":"IF(AND(B190=\"\",B191=\"\",B192=\"\",B193=\"\",B194=\"\"),\"\",\"Stack Diameter (inches):\")","v":""},{"$f":"IF(AND(B190=\"\",B191=\"\",B192=\"\",B193=\"\",B194=\"\"),\"\",\"Flow Rate (acfm):\")","v":""},{"$f":"IF(AND(B190=\"\",B191=\"\",B192=\"\",B193=\"\",B194=\"\"),\"\",\"Temperature (Deg F):\")","v":""},null,"","",null,null,null,"",""]
[null,null,null,null,null,null,null,"","",null,null,null,"",""]
[null,{"$f":"IF(COUNTIF(J183:J192,\"Cement Delivery to Silo\")>0,\"EP-2 Cement Silo Stack:\",\"\")","v":""},null,null,null,null,null,"","",null,null,null,"",""]
[null,{"$f":"IF(COUNTIF(J183:J192,\"Cement Supplement Delivery to Silo\")>0,\"EP-3 Cement Supplement Silo Stack:\",\"\")","v":""},null,null,null,null,null,"","",null,null,null,"",""]
[null,{"$f":"IF(COUNTIF(J183:J192,\"Weigh Hopper Loading\")>0,\"EP-4 Weigh Hopper Loading Stack:\",\"\")","v":""},null,null,null,null,null,"","",null,null,null,"",""]
[null,{"$f":"IF(COUNTIF(J183:J192,\"Truck Mix Loading\")>0,\"EP-5 Truck Mix Loading Stack:\",\"\")","v":""}]
[null,{"$f":"IF(COUNTIF(J183:J192,\"Central Mix Loading\")>0,\"EP-6 Central Mix Loading Stack:\",\"\")","v":""},null,null,null,null,null,{"$f":"IF('Concrete Plant (CP-9)'!$D$4>9,\"Stock Pile Area\",\"\")","v":""}]
[null,null,null,null,null,null,null,null,{"$f":"IF('Concrete Plant (CP-9)'!$D$4>9,\"Emission Unit #\",\"\")","v":""},{"$f":"IF('Concrete Plant (CP-9)'!$D$4>9,\"Maximum Storage Area (acres)\",\"\")","v":""},{"$f":"IF('Concrete Plant (CP-9)'!$D$4>9,\"Actual Storage Area (acres)\",\"\")","v":""},{"$f":"IF('Concrete Plant (CP-9)'!$D$4>9,\"Actual Days in Existence (days)\",\"\")","v":""}]
[]
[]
[null,null,null,null,null,null,null,null,null,null,null,null,{"$f":"SUM(M183:M192,M165:M174,M147:M156,M129:M138,M111:M120,M93:M102,M75:M84,M57:M66,M39:M48,M21:M30)","v":0},{"$f":"SUM(N183:N192,N165:N174,N147:N156,N129:N138,N111:N120,N93:N102,N75:N84,N57:N66,N39:N48,N21:N30)","v":0}]

{"sheet":"Concrete Plant (CP-10)","index":10,"n_rows":198,"n_cols":23,"rows_kept":198,"cut":false,"hidden":true,"merged":[[3,18,4,20],[112,2,112,4],[111,2,111,4],[110,2,110,4],[164,2,164,4],[166,2,166,4],[165,2,165,4],[113,1,113,4],[131,1,131,4],[149,1,149,4],[151,5,152,5],[133,1,134,1],[133,2,134,2],[133,3,134,3],[133,4,134,4],[133,5,134,5],[115,1,116,1],[115,2,116,2],[115,3,116,3],[115,4,116,4],[115,5,116,5],[129,2,129,4],[128,2,128,4],[148,2,148,4],[167,1,167,4],[185,1,185,4],[187,1,188,1],[187,2,188,2],[187,3,188,3],[187,4,188,4],[151,1,152,1],[151,2,152,2],[151,3,152,3],[151,4,152,4],[187,5,188,5],[169,1,170,1],[169,2,170,2],[169,3,170,3],[169,4,170,4],[169,5,170,5],[184,2,184,4],[183,2,183,4],[182,2,182,4],[61,5,62,5],[74,2,74,4],[77,1,77,4],[95,1,95,4],[97,1,98,1],[97,2,98,2],[97,3,98,3],[97,4,98,4],[147,2,147,4],[146,2,146,4],[130,2,130,4],[97,5,98,5],[79,1,80,1],[79,2,80,2],[79,3,80,3],[79,4,80,4],[79,5,80,5],[39,2,39,4],[38,2,38,4],[22,2,22,4],[21,2,21,4],[20,2,20,4],[25,5,26,5],[43,1,44,1],[43,2,44,2],[43,3,44,3],[43,4,44,4],[43,5,44,5],[25,1,26,1],[25,2,26,2],[25,3,26,3],[25,4,26,4],[23,1,23,4],[41,1,41,4],[58,2,58,4],[57,2,57,4],[56,2,56,4],[40,2,40,4],[94,2,94,4],[93,2,93,4],[92,2,92,4],[76,2,76,4],[75,2,75,4],[59,1,59,4],[61,1,62,1],[61,2,62,2],[61,3,62,3],[61,4,62,4],[2,17,3,17],[3,1,3,2],[20,16,21,16],[0,1,0,2],[1,10,1,11],[2,15,3,15],[2,16,3,16],[18,7,19,7],[18,8,19,8],[18,9,19,9],[18,10,19,10],[18,11,19,11],[1,1,1,4],[5,2,5,3],[20,17,21,17],[10,3,10,4],[9,3,9,4],[8,3,8,4],[10,1,10,2],[9,1,9,2],[8,1,8,2],[11,1,13,4],[36,7,37,7],[36,8,37,8],[36,9,37,9],[36,10,37,10],[36,11,37,11],[72,7,73,7],[72,8,73,8],[72,9,73,9],[46,21,47,21],[72,10,73,10],[72,11,73,11],[54,7,55,7],[54,8,55,8],[54,9,55,9],[54,10,55,10],[54,11,55,11],[20,18,21,18],[20,19,21,19],[20,20,21,20],[20,21,21,21],[46,16,47,16],[46,17,47,17],[46,18,47,18],[46,19,47,19],[46,20,47,20],[108,7,109,7],[108,8,109,8],[108,9,109,9],[108,10,109,10],[108,11,109,11],[90,7,91,7],[90,8,91,8],[90,9,91,9],[90,10,91,10],[90,11,91,11],[144,7,145,7],[144,8,145,8],[144,9,145,9],[144,10,145,10],[144,11,145,11],[126,7,127,7],[126,8,127,8],[126,9,127,9],[126,10,127,10],[126,11,127,11],[180,7,181,7],[180,8,181,8],[180,9,181,9],[180,10,181,10],[180,11,181,11],[162,7,163,7],[162,8,163,8],[162,9,163,9],[162,10,163,10],[162,11,163,11]]}
[null,"CONCRETE BATCH PLANT (CP-10)"]
[null,"Please fill in the yellow boxes as applicable for your facility. ",null,null,null,null,null,null,null,null,"Values used for calculating emissions →",null,null,null,null,"Values Used to Calculate Potential and Actual Emissions for the Listed Processes at this Plant"]
[null,null,null,null,null,null,null,null,null,null,null,null,null,null,null,"Process","Maximum Design Rate (cubic yards/hr)","Actual throughput (cubic yards/yr)"]
[null,{"$f":"\"Number of Sites this Plant operated at in \"&'Facility Information'!G5&\":\"","v":"Number of Sites this Plant operated at in :"},null,null,null,null,null,null,null,null,null,null,null,null,null,null,null,null,"** As of 2016 Potential Emissions are no longer required to be reported in the Minor Source Emissions Inventory**"]
[null,null,null,null,null,null,null,null,null,null,null,null,null,null,null,"Aggregate Delivery to Ground Storage",{"$f":"MAX((IFERROR(OFFSET($J$20,MATCH(\"Aggregate Delivery to Ground Storage\",$J$21:$J$30,0),1),0)),((IFERROR((OFFSET($J$38,MATCH(\"Aggregate Delivery to Ground Storage\",$J$39:$J$48,0),1)),0))),((IFERROR((OFFSET($J$56,MATCH(\"Aggregate Delivery to Ground Storage\",$J$57:$J$66,0),1)),0))),((IFERROR((OFFSET($J$74,MATCH(\"Aggregate Delivery to Ground Storage\",$J$75:$J$84,0),1)),0))),((IFERROR((OFFSET($J$92,MATCH(\"Aggregate Delivery to Ground Storage\",$J$93:$J$102,0),1)),0))),((IFERROR((OFFSET($J$110,MATCH(\"Aggregate Delivery to Ground Storage\",$J$111:$J$120,0),1)),0))),((IFERROR((OFFSET($J$128,MATCH(\"Aggregate Delivery to Ground Storage\",$J$129:$J$138,0),1)),0))),((IFERROR((OFFSET($J$146,MATCH(\"Aggregate Delivery to Ground Storage\",$J$147:$J$156,0),1)),0))),((IFERROR((OFFSET($J$164,MATCH(\"Aggregate Delivery to Ground Storage\",$J$165:$J$174,0),1)),0))),((IFERROR((OFFSET($J$181,MATCH(\"Aggregate Delivery to Ground Storage\",$J$183:$J$192,0),1)),0))),)","v":0},{"$f":"SUM((IFERROR(OFFSET($J$20,MATCH(\"Aggregate Delivery to Ground Storage\",$J$21:$J$30,0),2),0)),((IFERROR((OFFSET($J$38,MATCH(\"Aggregate Delivery to Ground Storage\",$J$39:$J$48,0),2)),0))),((IFERROR((OFFSET($J$56,MATCH(\"Aggregate Delivery to Ground Storage\",$J$57:$J$66,0),2)),0))),((IFERROR((OFFSET($J$74,MATCH(\"Aggregate Delivery to Ground Storage\",$J$75:$J$84,0),2)),0))),((IFERROR((OFFSET($J$92,MATCH(\"Aggregate Delivery to Ground Storage\",$J$93:$J$102,0),2)),0))),((IFERROR((OFFSET($J$110,MATCH(\"Aggregate Delivery to Ground Storage\",$J$111:$J$120,0),2)),0))),((IFERROR((OFFSET($J$128,MATCH(\"Aggregate Delivery to Ground Storage\",$J$129:$J$138,0),2)),0))),((IFERROR((OFFSET($J$146,MATCH(\"Aggregate Delivery to Ground Storage\",$J$147:$J$156,0),2)),0))),((IFERROR((OFFSET($J$164,MATCH(\"Aggregate Delivery to Ground Storage\",$J$165:$J$174,0),2)),0))),((IFERROR((OFFSET($J$181,MATCH(\"Aggregate Delivery to Ground Storage\",$J$183:$J$192,0),2)),0))))","v":0}]
[null,"Plant Specific Permit Number: ",null,null,null,null,null,null,null,null,null,null,null,null,null,"Sand Delivery to Ground Storage",{"$f":"MAX((IFERROR(OFFSET($J$20,MATCH(\"Sand Delivery to Ground Storage\",$J$21:$J$30,0),1),0)),((IFERROR((OFFSET($J$38,MATCH(\"Sand Delivery to Ground Storage\",$J$39:$J$48,0),1)),0))),((IFERROR((OFFSET($J$56,MATCH(\"Sand Delivery to Ground Storage\",$J$57:$J$66,0),1)),0))),((IFERROR((OFFSET($J$74,MATCH(\"Sand Delivery to Ground Storage\",$J$75:$J$84,0),1)),0))),((IFERROR((OFFSET($J$92,MATCH(\"Sand Delivery to Ground Storage\",$J$93:$J$102,0),1)),0))),((IFERROR((OFFSET($J$110,MATCH(\"Sand Delivery to Ground Storage\",$J$111:$J$120,0),1)),0))),((IFERROR((OFFSET($J$128,MATCH(\"Sand Delivery to Ground Storage\",$J$129:$J$138,0),1)),0))),((IFERROR((OFFSET($J$146,MATCH(\"Sand Delivery to Ground Storage\",$J$147:$J$156,0),1)),0))),((IFERROR((OFFSET($J$164,MATCH(\"Sand Delivery to Ground Storage\",$J$165:$J$174,0),1)),0))),((IFERROR((OFFSET($J$181,MATCH(\"Sand Delivery to Ground Storage\",$J$183:$J$192,0),1)),0))),)","v":0},{"$f":"SUM((IFERROR(OFFSET($J$20,MATCH(\"Sand Delivery to Ground Storage\",$J$21:$J$30,0),2),0)),((IFERROR((OFFSET($J$38,MATCH(\"Sand Delivery to Ground Storage\",$J$39:$J$48,0),2)),0))),((IFERROR((OFFSET($J$56,MATCH(\"Sand Delivery to Ground Storage\",$J$57:$J$66,0),2)),0))),((IFERROR((OFFSET($J$74,MATCH(\"Sand Delivery to Ground Storage\",$J$75:$J$84,0),2)),0))),((IFERROR((OFFSET($J$92,MATCH(\"Sand Delivery to Ground Storage\",$J$93:$J$102,0),2)),0))),((IFERROR((OFFSET($J$110,MATCH(\"Sand Delivery to Ground Storage\",$J$111:$J$120,0),2)),0))),((IFERROR((OFFSET($J$128,MATCH(\"Sand Delivery to Ground Storage\",$J$129:$J$138,0),2)),0))),((IFERROR((OFFSET($J$146,MATCH(\"Sand Delivery to Ground Storage\",$J$147:$J$156,0),2)),0))),((IFERROR((OFFSET($J$164,MATCH(\"Sand Delivery to Ground Storage\",$J$165:$J$174,0),2)),0))),((IFERROR((OFFSET($J$181,MATCH(\"Sand Delivery to Ground Storage\",$J$183:$J$192,0),2)),0))))","v":0}]
[null,null,null,null,null,null,null,null,null,null,null,null,null,null,null,"Aggregate Transfer to Conveyor",{"$f":"MAX((IFERROR(OFFSET($J$20,MATCH(\"Aggregate Transfer to Conveyor\",$J$21:$J$30,0),1),0)),((IFERROR((OFFSET($J$38,MATCH(\"Aggregate Transfer to Conveyor\",$J$39:$J$48,0),1)),0))),((IFERROR((OFFSET($J$56,MATCH(\"Aggregate Transfer to Conveyor\",$J$57:$J$66,0),1)),0))),((IFERROR((OFFSET($J$74,MATCH(\"Aggregate Transfer to Conveyor\",$J$75:$J$84,0),1)),0))),((IFERROR((OFFSET($J$92,MATCH(\"Aggregate Transfer to Conveyor\",$J$93:$J$102,0),1)),0))),((IFERROR((OFFSET($J$110,MATCH(\"Aggregate Transfer to Conveyor\",$J$111:$J$120,0),1)),0))),((IFERROR((OFFSET($J$128,MATCH(\"Aggregate Transfer to Conveyor\",$J$129:$J$138,0),1)),0))),((IFERROR((OFFSET($J$146,MATCH(\"Aggregate Transfer to Conveyor\",$J$147:$J$156,0),1)),0))),((IFERROR((OFFSET($J$164,MATCH(\"Aggregate Transfer to Conveyor\",$J$165:$J$174,0),1)),0))),((IFERROR((OFFSET($J$181,MATCH(\"Aggregate Transfer to Conveyor\",$J$183:$J$192,0),1)),0))),)","v":0},{"$f":"SUM((IFERROR(OFFSET($J$20,MATCH(\"Aggregate Transfer to Conveyor\",$J$21:$J$30,0),2),0)),((IFERROR((OFFSET($J$38,MATCH(\"Aggregate Transfer to Conveyor\",$J$39:$J$48,0),2)),0))),((IFERROR((OFFSET($J$56,MATCH(\"Aggregate Transfer to Conveyor\",$J$57:$J$66,0),2)),0))),((IFERROR((OFFSET($J$74,MATCH(\"Aggregate Transfer to Conveyor\",$J$75:$J$84,0),2)),0))),((IFERROR((OFFSET($J$92,MATCH(\"Aggregate Transfer to Conveyor\",$J$93:$J$102,0),2)),0))),((IFERROR((OFFSET($J$110,MATCH(\"Aggregate Transfer to Conveyor\",$J$111:$J$120,0),2)),0))),((IFERROR((OFFSET($J$128,MATCH(\"Aggregate Transfer to Conveyor\",$J$129:$J$138,0),2)),0))),((IFERROR((OFFSET($J$146,MATCH(\"Aggregate Transfer to Conveyor\",$J$147:$J$156,0),2)),0))),((IFERROR((OFFSET($J$164,MATCH(\"Aggregate Transfer to Conveyor\",$J$165:$J$174,0),2)),0))),((IFERROR((OFFSET($J$181,MATCH(\"Aggregate Transfer to Conveyor\",$J$183:$J$192,0),2)),0))))","v":0}]
[null,"Plant Specific Operating Limits:",null,null,null,null,null,"Plant Specific Emission Limits:",null,null,null,null,null,null,null,"Sand Transfer to Conveyor",{"$f":"MAX((IFERROR(OFFSET($J$20,MATCH(\"Sand Transfer to Conveyor\",$J$21:$J$30,0),1),0)),((IFERROR((OFFSET($J$38,MATCH(\"Sand Transfer to Conveyor\",$J$39:$J$48,0),1)),0))),((IFERROR((OFFSET($J$56,MATCH(\"Sand Transfer to Conveyor\",$J$57:$J$66,0),1)),0))),((IFERROR((OFFSET($J$74,MATCH(\"Sand Transfer to Conveyor\",$J$75:$J$84,0),1)),0))),((IFERROR((OFFSET($J$92,MATCH(\"Sand Transfer to Conveyor\",$J$93:$J$102,0),1)),0))),((IFERROR((OFFSET($J$110,MATCH(\"Sand Transfer to Conveyor\",$J$111:$J$120,0),1)),0))),((IFERROR((OFFSET($J$128,MATCH(\"Sand Transfer to Conveyor\",$J$129:$J$138,0),1)),0))),((IFERROR((OFFSET($J$146,MATCH(\"Sand Transfer to Conveyor\",$J$147:$J$156,0),1)),0))),((IFERROR((OFFSET($J$164,MATCH(\"Sand Transfer to Conveyor\",$J$165:$J$174,0),1)),0))),((IFERROR((OFFSET($J$181,MATCH(\"Sand Transfer to Conveyor\",$J$183:$J$192,0),1)),0))),)","v":0},{"$f":"SUM((IFERROR(OFFSET($J$20,MATCH(\"Sand Transfer to Conveyor\",$J$21:$J$30,0),2),0)),((IFERROR((OFFSET($J$38,MATCH(\"Sand Transfer to Conveyor\",$J$39:$J$48,0),2)),0))),((IFERROR((OFFSET($J$56,MATCH(\"Sand Transfer to Conveyor\",$J$57:$J$66,0),2)),0))),((IFERROR((OFFSET($J$74,MATCH(\"Sand Transfer to Conveyor\",$J$75:$J$84,0),2)),0))),((IFERROR((OFFSET($J$92,MATCH(\"Sand Transfer to Conveyor\",$J$93:$J$102,0),2)),0))),((IFERROR((OFFSET($J$110,MATCH(\"Sand Transfer to Conveyor\",$J$111:$J$120,0),2)),0))),((IFERROR((OFFSET($J$128,MATCH(\"Sand Transfer to Conveyor\",$J$129:$J$138,0),2)),0))),((IFERROR((OFFSET($J$146,MATCH(\"Sand Transfer to Conveyor\",$J$147:$J$156,0),2)),0))),((IFERROR((OFFSET($J$164,MATCH(\"Sand Transfer to Conveyor\",$J$165:$J$174,0),2)),0))),((IFERROR((OFFSET($J$181,MATCH(\"Sand Transfer to Conveyor\",$J$183:$J$192,0),2)),0))))","v":0}]
[null,"Throughput Limit (cubic yards/yr):",null,null,null,null,null,"Pollutant","lb/hr","tons/yr",null,null,null,null,null,"Aggregate Transfer to Elevated Storage",{"$f":"MAX((IFERROR(OFFSET($J$20,MATCH(\"Aggregate Transfer to Elevated Storage\",$J$21:$J$30,0),1),0)),((IFERROR((OFFSET($J$38,MATCH(\"Aggregate Transfer to Elevated Storage\",$J$39:$J$48,0),1)),0))),((IFERROR((OFFSET($J$56,MATCH(\"Aggregate Transfer to Elevated Storage\",$J$57:$J$66,0),1)),0))),((IFERROR((OFFSET($J$74,MATCH(\"Aggregate Transfer to Elevated Storage\",$J$75:$J$84,0),1)),0))),((IFERROR((OFFSET($J$92,MATCH(\"Aggregate Transfer to Elevated Storage\",$J$93:$J$102,0),1)),0))),((IFERROR((OFFSET($J$110,MATCH(\"Aggregate Transfer to Elevated Storage\",$J$111:$J$120,0),1)),0))),((IFERROR((OFFSET($J$128,MATCH(\"Aggregate Transfer to Elevated Storage\",$J$129:$J$138,0),1)),0))),((IFERROR((OFFSET($J$146,MATCH(\"Aggregate Transfer to Elevated Storage\",$J$147:$J$156,0),1)),0))),((IFERROR((OFFSET($J$164,MATCH(\"Aggregate Transfer to Elevated Storage\",$J$165:$J$174,0),1)),0))),((IFERROR((OFFSET($J$181,MATCH(\"Aggregate Transfer to Elevated Storage\",$J$183:$J$192,0),1)),0))),)","v":0},{"$f":"SUM((IFERROR(OFFSET($J$20,MATCH(\"Aggregate Transfer to Elevated Storage\",$J$21:$J$30,0),2),0)),((IFERROR((OFFSET($J$38,MATCH(\"Aggregate Transfer to Elevated Storage\",$J$39:$J$48,0),2)),0))),((IFERROR((OFFSET($J$56,MATCH(\"Aggregate Transfer to Elevated Storage\",$J$57:$J$66,0),2)),0))),((IFERROR((OFFSET($J$74,MATCH(\"Aggregate Transfer to Elevated Storage\",$J$75:$J$84,0),2)),0))),((IFERROR((OFFSET($J$92,MATCH(\"Aggregate Transfer to Elevated Storage\",$J$93:$J$102,0),2)),0))),((IFERROR((OFFSET($J$110,MATCH(\"Aggregate Transfer to Elevated Storage\",$J$111:$J$120,0),2)),0))),((IFERROR((OFFSET($J$128,MATCH(\"Aggregate Transfer to Elevated Storage\",$J$129:$J$138,0),2)),0))),((IFERROR((OFFSET($J$146,MATCH(\"Aggregate Transfer to Elevated Storage\",$J$147:$J$156,0),2)),0))),((IFERROR((OFFSET($J$164,MATCH(\"Aggregate Transfer to Elevated Storage\",$J$165:$J$174,0),2)),0))),((IFERROR((OFFSET($J$181,MATCH(\"Aggregate Transfer to Elevated Storage\",$J$183:$J$192,0),2)),0))))","v":0}]
[null,"Daily Throughput Limit (cubic yards/day):",null,null,null,null,null,"PM2.5",null,null,null,null,null,null,null,"Sand Transfer to Elevated Storage",{"$f":"MAX((IFERROR(OFFSET($J$20,MATCH(\"Sand Transfer to Elevated Storage\",$J$21:$J$30,0),1),0)),((IFERROR((OFFSET($J$38,MATCH(\"Sand Transfer to Elevated Storage\",$J$39:$J$48,0),1)),0))),((IFERROR((OFFSET($J$56,MATCH(\"Sand Transfer to Elevated Storage\",$J$57:$J$66,0),1)),0))),((IFERROR((OFFSET($J$74,MATCH(\"Sand Transfer to Elevated Storage\",$J$75:$J$84,0),1)),0))),((IFERROR((OFFSET($J$92,MATCH(\"Sand Transfer to Elevated Storage\",$J$93:$J$102,0),1)),0))),((IFERROR((OFFSET($J$110,MATCH(\"Sand Transfer to Elevated Storage\",$J$111:$J$120,0),1)),0))),((IFERROR((OFFSET($J$128,MATCH(\"Sand Transfer to Elevated Storage\",$J$129:$J$138,0),1)),0))),((IFERROR((OFFSET($J$146,MATCH(\"Sand Transfer to Elevated Storage\",$J$147:$J$156,0),1)),0))),((IFERROR((OFFSET($J$164,MATCH(\"Sand Transfer to Elevated Storage\",$J$165:$J$174,0),1)),0))),((IFERROR((OFFSET($J$181,MATCH(\"Sand Transfer to Elevated Storage\",$J$183:$J$192,0),1)),0))),)","v":0},{"$f":"SUM((IFERROR(OFFSET($J$20,MATCH(\"Sand Transfer to Elevated Storage\",$J$21:$J$30,0),2),0)),((IFERROR((OFFSET($J$38,MATCH(\"Sand Transfer to Elevated Storage\",$J$39:$J$48,0),2)),0))),((IFERROR((OFFSET($J$56,MATCH(\"Sand Transfer to Elevated Storage\",$J$57:$J$66,0),2)),0))),((IFERROR((OFFSET($J$74,MATCH(\"Sand Transfer to Elevated Storage\",$J$75:$J$84,0),2)),0))),((IFERROR((OFFSET($J$92,MATCH(\"Sand Transfer to Elevated Storage\",$J$93:$J$102,0),2)),0))),((IFERROR((OFFSET($J$110,MATCH(\"Sand Transfer to Elevated Storage\",$J$111:$J$120,0),2)),0))),((IFERROR((OFFSET($J$128,MATCH(\"Sand Transfer to Elevated Storage\",$J$129:$J$138,0),2)),0))),((IFERROR((OFFSET($J$146,MATCH(\"Sand Transfer to Elevated Storage\",$J$147:$J$156,0),2)),0))),((IFERROR((OFFSET($J$164,MATCH(\"Sand Transfer to Elevated Storage\",$J$165:$J$174,0),2)),0))),((IFERROR((OFFSET($J$181,MATCH(\"Sand Transfer to Elevated Storage\",$J$183:$J$192,0),2)),0))))","v":0}]
[null,"Hours of Operation Limit (hours/day):",null,null,null,null,null,"PM10",null,null,null,null,null,null,null,"Weigh Hopper Loading",{"$f":"MAX((IFERROR(OFFSET($J$20,MATCH(\"Weigh Hopper Loading\",$J$21:$J$30,0),1),0)),((IFERROR((OFFSET($J$38,MATCH(\"Weigh Hopper Loading\",$J$39:$J$48,0),1)),0))),((IFERROR((OFFSET($J$56,MATCH(\"Weigh Hopper Loading\",$J$57:$J$66,0),1)),0))),((IFERROR((OFFSET($J$74,MATCH(\"Weigh Hopper Loading\",$J$75:$J$84,0),1)),0))),((IFERROR((OFFSET($J$92,MATCH(\"Weigh Hopper Loading\",$J$93:$J$102,0),1)),0))),((IFERROR((OFFSET($J$110,MATCH(\"Weigh Hopper Loading\",$J$111:$J$120,0),1)),0))),((IFERROR((OFFSET($J$128,MATCH(\"Weigh Hopper Loading\",$J$129:$J$138,0),1)),0))),((IFERROR((OFFSET($J$146,MATCH(\"Weigh Hopper Loading\",$J$147:$J$156,0),1)),0))),((IFERROR((OFFSET($J$164,MATCH(\"Weigh Hopper Loading\",$J$165:$J$174,0),1)),0))),((IFERROR((OFFSET($J$181,MATCH(\"Weigh Hopper Loading\",$J$183:$J$192,0),1)),0))),)","v":0},{"$f":"SUM((IFERROR(OFFSET($J$20,MATCH(\"Weigh Hopper Loading\",$J$21:$J$30,0),2),0)),((IFERROR((OFFSET($J$38,MATCH(\"Weigh Hopper Loading\",$J$39:$J$48,0),2)),0))),((IFERROR((OFFSET($J$56,MATCH(\"Weigh Hopper Loading\",$J$57:$J$66,0),2)),0))),((IFERROR((OFFSET($J$74,MATCH(\"Weigh Hopper Loading\",$J$75:$J$84,0),2)),0))),((IFERROR((OFFSET($J$92,MATCH(\"Weigh Hopper Loading\",$J$93:$J$102,0),2)),0))),((IFERROR((OFFSET($J$110,MATCH(\"Weigh Hopper Loading\",$J$111:$J$120,0),2)),0))),((IFERROR((OFFSET($J$128,MATCH(\"Weigh Hopper Loading\",$J$129:$J$138,0),2)),0))),((IFERROR((OFFSET($J$146,MATCH(\"Weigh Hopper Loading\",$J$147:$J$156,0),2)),0))),((IFERROR((OFFSET($J$164,MATCH(\"Weigh Hopper Loading\",$J$165:$J$174,0),2)),0))),((IFERROR((OFFSET($J$181,MATCH(\"Weigh Hopper Loading\",$J$183:$J$192,0),2)),0))))","v":0}]
[null,"Note: if the plant has an hrs/day and a cubic yards/hr permit limit, those values should be multiplied together to calculate a cubic yards/day limit and that value should be placed in cell C10.",null,null,null,null,null,"SO2",null,null,null,null,null,null,null,"Central Mix Loading",{"$f":"MAX((IFERROR(OFFSET($J$20,MATCH(\"Central Mix Loading\",$J$21:$J$30,0),1),0)),((IFERROR((OFFSET($J$38,MATCH(\"Central Mix Loading\",$J$39:$J$48,0),1)),0))),((IFERROR((OFFSET($J$56,MATCH(\"Central Mix Loading\",$J$57:$J$66,0),1)),0))),((IFERROR((OFFSET($J$74,MATCH(\"Central Mix Loading\",$J$75:$J$84,0),1)),0))),((IFERROR((OFFSET($J$92,MATCH(\"Central Mix Loading\",$J$93:$J$102,0),1)),0))),((IFERROR((OFFSET($J$110,MATCH(\"Central Mix Loading\",$J$111:$J$120,0),1)),0))),((IFERROR((OFFSET($J$128,MATCH(\"Central Mix Loading\",$J$129:$J$138,0),1)),0))),((IFERROR((OFFSET($J$146,MATCH(\"Central Mix Loading\",$J$147:$J$156,0),1)),0))),((IFERROR((OFFSET($J$164,MATCH(\"Central Mix Loading\",$J$165:$J$174,0),1)),0))),((IFERROR((OFFSET($J$181,MATCH(\"Central Mix Loading\",$J$183:$J$192,0),1)),0))),)","v":0},{"$f":"SUM((IFERROR(OFFSET($J$20,MATCH(\"Central Mix Loading\",$J$21:$J$30,0),2),0)),((IFERROR((OFFSET($J$38,MATCH(\"Central Mix Loading\",$J$39:$J$48,0),2)),0))),((IFERROR((OFFSET($J$56,MATCH(\"Central Mix Loading\",$J$57:$J$66,0),2)),0))),((IFERROR((OFFSET($J$74,MATCH(\"Central Mix Loading\",$J$75:$J$84,0),2)),0))),((IFERROR((OFFSET($J$92,MATCH(\"Central Mix Loading\",$J$93:$J$102,0),2)),0))),((IFERROR((OFFSET($J$110,MATCH(\"Central Mix Loading\",$J$111:$J$120,0),2)),0))),((IFERROR((OFFSET($J$128,MATCH(\"Central Mix Loading\",$J$129:$J$138,0),2)),0))),((IFERROR((OFFSET($J$146,MATCH(\"Central Mix Loading\",$J$147:$J$156,0),2)),0))),((IFERROR((OFFSET($J$164,MATCH(\"Central Mix Loading\",$J$165:$J$174,0),2)),0))),((IFERROR((OFFSET($J$181,MATCH(\"Central Mix Loading\",$J$183:$J$192,0),2)),0))))","v":0}]
[null,null,null,null,null,null,null,"NOx",null,null,null,null,null,null,null,"Truck Mix Loading",{"$f":"MAX((IFERROR(OFFSET($J$20,MATCH(\"Truck Mix Loading\",$J$21:$J$30,0),1),0)),((IFERROR((OFFSET($J$38,MATCH(\"Truck Mix Loading\",$J$39:$J$48,0),1)),0))),((IFERROR((OFFSET($J$56,MATCH(\"Truck Mix Loading\",$J$57:$J$66,0),1)),0))),((IFERROR((OFFSET($J$74,MATCH(\"Truck Mix Loading\",$J$75:$J$84,0),1)),0))),((IFERROR((OFFSET($J$92,MATCH(\"Truck Mix Loading\",$J$93:$J$102,0),1)),0))),((IFERROR((OFFSET($J$110,MATCH(\"Truck Mix Loading\",$J$111:$J$120,0),1)),0))),((IFERROR((OFFSET($J$128,MATCH(\"Truck Mix Loading\",$J$129:$J$138,0),1)),0))),((IFERROR((OFFSET($J$146,MATCH(\"Truck Mix Loading\",$J$147:$J$156,0),1)),0))),((IFERROR((OFFSET($J$164,MATCH(\"Truck Mix Loading\",$J$165:$J$174,0),1)),0))),((IFERROR((OFFSET($J$181,MATCH(\"Truck Mix Loading\",$J$183:$J$192,0),1)),0))),)","v":0},{"$f":"SUM((IFERROR(OFFSET($J$20,MATCH(\"Truck Mix Loading\",$J$21:$J$30,0),2),0)),((IFERROR((OFFSET($J$38,MATCH(\"Truck Mix Loading\",$J$39:$J$48,0),2)),0))),((IFERROR((OFFSET($J$56,MATCH(\"Truck Mix Loading\",$J$57:$J$66,0),2)),0))),((IFERROR((OFFSET($J$74,MATCH(\"Truck Mix Loading\",$J$75:$J$84,0),2)),0))),((IFERROR((OFFSET($J$92,MATCH(\"Truck Mix Loading\",$J$93:$J$102,0),2)),0))),((IFERROR((OFFSET($J$110,MATCH(\"Truck Mix Loading\",$J$111:$J$120,0),2)),0))),((IFERROR((OFFSET($J$128,MATCH(\"Truck Mix Loading\",$J$129:$J$138,0),2)),0))),((IFERROR((OFFSET($J$146,MATCH(\"Truck Mix Loading\",$J$147:$J$156,0),2)),0))),((IFERROR((OFFSET($J$164,MATCH(\"Truck Mix Loading\",$J$165:$J$174,0),2)),0))),((IFERROR((OFFSET($J$181,MATCH(\"Truck Mix Loading\",$J$183:$J$192,0),2)),0))))","v":0}]
[null,null,null,null,null,null,null,"VOC",null,null,null,null,null,null,null,"Cement Delivery to Silo",{"$f":"MAX((IFERROR(OFFSET($J$20,MATCH(\"Cement Delivery to Silo\",$J$21:$J$30,0),1),0)),((IFERROR((OFFSET($J$38,MATCH(\"Cement Delivery to Silo\",$J$39:$J$48,0),1)),0))),((IFERROR((OFFSET($J$56,MATCH(\"Cement Delivery to Silo\",$J$57:$J$66,0),1)),0))),((IFERROR((OFFSET($J$74,MATCH(\"Cement Delivery to Silo\",$J$75:$J$84,0),1)),0))),((IFERROR((OFFSET($J$92,MATCH(\"Cement Delivery to Silo\",$J$93:$J$102,0),1)),0))),((IFERROR((OFFSET($J$110,MATCH(\"Cement Delivery to Silo\",$J$111:$J$120,0),1)),0))),((IFERROR((OFFSET($J$128,MATCH(\"Cement Delivery to Silo\",$J$129:$J$138,0),1)),0))),((IFERROR((OFFSET($J$146,MATCH(\"Cement Delivery to Silo\",$J$147:$J$156,0),1)),0))),((IFERROR((OFFSET($J$164,MATCH(\"Cement Delivery to Silo\",$J$165:$J$174,0),1)),0))),((IFERROR((OFFSET($J$181,MATCH(\"Cement Delivery to Silo\",$J$183:$J$192,0),1)),0))),)","v":0},{"$f":"SUM((IFERROR(OFFSET($J$20,MATCH(\"Cement Delivery to Silo\",$J$21:$J$30,0),2),0)),((IFERROR((OFFSET($J$38,MATCH(\"Cement Delivery to Silo\",$J$39:$J$48,0),2)),0))),((IFERROR((OFFSET($J$56,MATCH(\"Cement Delivery to Silo\",$J$57:$J$66,0),2)),0))),((IFERROR((OFFSET($J$74,MATCH(\"Cement Delivery to Silo\",$J$75:$J$84,0),2)),0))),((IFERROR((OFFSET($J$92,MATCH(\"Cement Delivery to Silo\",$J$93:$J$102,0),2)),0))),((IFERROR((OFFSET($J$110,MATCH(\"Cement Delivery to Silo\",$J$111:$J$120,0),2)),0))),((IFERROR((OFFSET($J$128,MATCH(\"Cement Delivery to Silo\",$J$129:$J$138,0),2)),0))),((IFERROR((OFFSET($J$146,MATCH(\"Cement Delivery to Silo\",$J$147:$J$156,0),2)),0))),((IFERROR((OFFSET($J$164,MATCH(\"Cement Delivery to Silo\",$J$165:$J$174,0),2)),0))),((IFERROR((OFFSET($J$181,MATCH(\"Cement Delivery to Silo\",$J$183:$J$192,0),2)),0))))","v":0}]
[null,null,null,null,null,null,null,"CO",null,null,null,null,null,null,null,"Cement Supplement Delivery to Silo",{"$f":"MAX((IFERROR(OFFSET($J$20,MATCH(\"Cement Supplement Delivery to Silo\",$J$21:$J$30,0),1),0)),((IFERROR((OFFSET($J$38,MATCH(\"Cement Supplement Delivery to Silo\",$J$39:$J$48,0),1)),0))),((IFERROR((OFFSET($J$56,MATCH(\"Cement Supplement Delivery to Silo\",$J$57:$J$66,0),1)),0))),((IFERROR((OFFSET($J$74,MATCH(\"Cement Supplement Delivery to Silo\",$J$75:$J$84,0),1)),0))),((IFERROR((OFFSET($J$92,MATCH(\"Cement Supplement Delivery to Silo\",$J$93:$J$102,0),1)),0))),((IFERROR((OFFSET($J$110,MATCH(\"Cement Supplement Delivery to Silo\",$J$111:$J$120,0),1)),0))),((IFERROR((OFFSET($J$128,MATCH(\"Cement Supplement Delivery to Silo\",$J$129:$J$138,0),1)),0))),((IFERROR((OFFSET($J$146,MATCH(\"Cement Supplement Delivery to Silo\",$J$147:$J$156,0),1)),0))),((IFERROR((OFFSET($J$164,MATCH(\"Cement Supplement Delivery to Silo\",$J$165:$J$174,0),1)),0))),((IFERROR((OFFSET($J$181,MATCH(\"Cement Supplement Delivery to Silo\",$J$183:$J$192,0),1)),0))),)","v":0},{"$f":"SUM((IFERROR(OFFSET($J$20,MATCH(\"Cement Supplement Delivery to Silo\",$J$21:$J$30,0),2),0)),((IFERROR((OFFSET($J$38,MATCH(\"Cement Supplement Delivery to Silo\",$J$39:$J$48,0),2)),0))),((IFERROR((OFFSET($J$56,MATCH(\"Cement Supplement Delivery to Silo\",$J$57:$J$66,0),2)),0))),((IFERROR((OFFSET($J$74,MATCH(\"Cement Supplement Delivery to Silo\",$J$75:$J$84,0),2)),0))),((IFERROR((OFFSET($J$92,MATCH(\"Cement Supplement Delivery to Silo\",$J$93:$J$102,0),2)),0))),((IFERROR((OFFSET($J$110,MATCH(\"Cement Supplement Delivery to Silo\",$J$111:$J$120,0),2)),0))),((IFERROR((OFFSET($J$128,MATCH(\"Cement Supplement Delivery to Silo\",$J$129:$J$138,0),2)),0))),((IFERROR((OFFSET($J$146,MATCH(\"Cement Supplement Delivery to Silo\",$J$147:$J$156,0),2)),0))),((IFERROR((OFFSET($J$164,MATCH(\"Cement Supplement Delivery to Silo\",$J$165:$J$174,0),2)),0))),((IFERROR((OFFSET($J$181,MATCH(\"Cement Supplement Delivery to Silo\",$J$183:$J$192,0),2)),0))))","v":0}]
[null,null,null,null,null,null,null,null,null,null,null,null,null,null,null,null,"Maximum (acres/day)","Actual (acres-day/yr)"]
[null,null,null,null,null,null,null,null,null,null,null,null,null,null,null,"Storage Pile",{"$f":"SUM(J34,J52,J70,J88,J106,J124,J142,J160,J178,J196)","v":0},{"$f":"SUM(K34*L34,K52*L52,K70*L70,K88*L88,K106*L106,K124*L124,K142*L142,K160*L160,K178*L178,K196*L196)","v":0}]
[]
[null,"Batch Plant","Site 1",null,null,null,null,"Emission Point #","Emission     Unit #","Processes","Combined Maximum Hourly Design Rate for all Like Processes (cubic yard/hr)",{"$f":"('Facility Information'!G5&\" Annual Throughput (cubic yards)\")","v":" Annual Throughput (cubic yards)"}]
[null,null,null,null,null,null,null,null,null,null,null,null,"Truck","Central",null,"Potential and Actual Emissions for the Listed Processes at this Plant"]
["YES","Site Name:",null,null,null,null,null,{"$f":"IF(J21=\"cement delivery to silo\",\"CP-1 EP-2\",IF(J21=\"cement supplement delivery to silo\",\"CP-1 EP-3\",IF(J21=\"weigh hopper loading\",\"CP-1 EP-4\",IF(J21=\"truck mix loading\",\"CP-1 EP-5\",IF(J21=\"central mix loading\",\"CP-1 EP-6\",IF(J21=\"\",\"\",\"CP-1 EP-1\"))))))","v":""},{"$f":"IF(J21=\"\",\"\",IF(J21=\"aggregate delivery to ground storage\",\"CP-10 EU-1\",IF(J21=\"sand delivery to ground storage\",\"CP-10 EU-2\",IF(J21=\"aggregate transfer to conveyor\",\"CP-10 EU-3\",IF(J21=\"sand transfer to conveyor\",\"CP-10 EU-4\",IF(J21=\"aggregate transfer to elevated storage\",\"CP-10 EU-5\",IF(J21=\"sand transfer to elevated storage\",\"CP-10 EU-6\",IF(J21=\"weigh hopper loading\",\"CP-10 EU-7\",IF(J21=\"central mix loading\",\"CP-10 EU-8\",IF(J21=\"truck mix loading\",\"CP-10 EU-9\",IF(J21=\"cement delivery to silo\",\"CP-10 EU-10\",IF(J21=\"cement supplement delivery to silo\",\"CP-10 EU-11\"))))))))))))","v":""},null,null,null,{"$f":"IF(J21=\"truck mix loading\",IF($F$24=\"yes\",L21*0.05/2000,L21/2000),\"\")","v":""},{"$f":"IF(J21=\"central mix loading\",IF($F$24=\"yes\",L21*0.05/2000,L21/2000),\"\")","v":""},null,null,"Maximum Design Rate (cubic yards/hr)","Emission Factor (lb/cubic yard)","Potential Uncontrolled Emissions (lb/hr)","Potential Controlled Emissions (lb/hr)","Potential Annual Emissions (tons/yr)","Actual Annual Emissions (tons/yr)"]
["NO","County:",null,null,null,null,null,{"$f":"IF(J22=\"cement delivery to silo\",\"CP-1 EP-2\",IF(J22=\"cement supplement delivery to silo\",\"CP-1 EP-3\",IF(J22=\"weigh hopper loading\",\"CP-1 EP-4\",IF(J22=\"truck mix loading\",\"CP-1 EP-5\",IF(J22=\"central mix loading\",\"CP-1 EP-6\",IF(J22=\"\",\"\",\"CP-1 EP-1\"))))))","v":""},"",null,null,null,{"$f":"IF(J22=\"truck mix loading\",IF($F$24=\"yes\",L22*0.05/2000,L22/2000),\"\")","v":""},{"$f":"IF(J22=\"central mix loading\",IF($F$24=\"yes\",L22*0.05/2000,L22/2000),\"\")","v":""},null,"PM2.5"]
[null,"Batching Period (Dates):",null,null,null,null,null,"","",null,null,null,"","",null,"Aggregate Delivery to Ground Storage",{"$f":"Q5","v":0},{"$f":"IF(Q23=0,0,LOOKUP(P23,'Emission Factors'!$A$5:$A$16,'Emission Factors'!$D$5:$D$16))","v":0},{"$f":"Q23*R23","v":0},{"$f":"IF(Q23=0,\"\",IF($I$10>0,$I$10,\"\"))","v":""},{"$f":"IF($J$10>0,$J$10,IF($D$9>0,$D$9*R23/2000,IF($D$10>0,$D$10*365*R23/2000,IF($D$11>0,$D$11*365*R23*Q23/2000,IF(T23=\"\",S23*8760/2000,T23*8760/2000)))))","v":0},{"$f":"(R5*R23/2000)","v":0}]
["Aggregate Delivery to Ground Storage",{"$f":"IF(OR(COUNTIF(J21:J30,\"Truck Mix Loading\")>0,(COUNTIF(J21:J30,\"Central Mix Loading\")>0)),\"Is the Central/Truck Mix Loading process controlled by a baghouse?\",\"\")","v":""},null,null,null,null,null,"","",null,null,null,"","",null,"Sand Delivery to Ground Storage",{"$f":"Q6","v":0},{"$f":"IF(Q24=0,0,LOOKUP(P24,'Emission Factors'!$A$5:$A$16,'Emission Factors'!$D$5:$D$16))","v":0},{"$f":"Q24*R24","v":0},{"$f":"IF(Q24=0,\"\",IF($I$10>0,$I$10,\"\"))","v":""},{"$f":"IF($J$10>0,\"\",IF($D$9>0,$D$9*R24/2000,IF($D$10>0,$D$10*365*R24/2000,IF($D$11>0,$D$11*365*R24*Q24/2000,IF(T24=\"\",S24*8760/2000,T24*8760/2000)))))","v":0},{"$f":"(R6*R24/2000)","v":0}]
["Sand Delivery to Ground Storage",null,null,null,null,null,null,"","",null,null,null,"","",null,"Aggregate Transfer to Conveyor",0,{"$f":"IF(Q25=0,0,LOOKUP(P25,'Emission Factors'!$A$5:$A$16,'Emission Factors'!$D$5:$D$16))","v":0},0,"",0,0]
["Aggregate Transfer to Conveyor",{"$f":"IF(AND(B28=\"\",B29=\"\",B32=\"\",B31=\"\",B30=\"\"),\"\",\"Process (complete stack information if applicable):\")","v":""},{"$f":"IF(AND(B28=\"\",B29=\"\",B32=\"\",B31=\"\",B30=\"\"),\"\",\"Stack Height (ft):\")","v":""},{"$f":"IF(AND(B28=\"\",B29=\"\",B32=\"\",B31=\"\",B30=\"\"),\"\",\"Stack Diameter (inches):\")","v":""},{"$f":"IF(AND(B28=\"\",B29=\"\",B32=\"\",B31=\"\",B30=\"\"),\"\",\"Flow Rate (acfm):\")","v":""},{"$f":"IF(AND(B28=\"\",B29=\"\",B32=\"\",B31=\"\",B30=\"\"),\"\",\"Temperature (Deg F):\")","v":""},null,"","",null,null,null,"","",null,"Sand Transfer to Conveyor",0,{"$f":"IF(Q26=0,0,LOOKUP(P26,'Emission Factors'!$A$5:$A$16,'Emission Factors'!$D$5:$D$16))","v":0},0,"",0,0]
["Sand Transfer to Conveyor",null,null,null,null,null,null,"","",null,null,null,"","",null,"Aggregate Transfer to Elevated Storage",0,{"$f":"IF(Q27=0,0,LOOKUP(P27,'Emission Factors'!$A$5:$A$16,'Emission Factors'!$D$5:$D$16))","v":0},0,"",0,0]
["Aggregate Transfer to Elevated Storage",{"$f":"IF(COUNTIF(J21:J30,\"Cement Delivery to Silo\")>0,\"EP-2 Cement Silo Stack:\",\"\")","v":""},null,null,null,null,null,"","",null,null,null,"","",null,"Sand Transfer to Elevated Storage",0,{"$f":"IF(Q28=0,0,LOOKUP(P28,'Emission Factors'!$A$5:$A$16,'Emission Factors'!$D$5:$D$16))","v":0},0,"",0,0]
["Sand Transfer to Elevated Storage",{"$f":"IF(COUNTIF(J21:J30,\"Cement Supplement Delivery to Silo\")>0,\"EP-3 Cement Supplement Silo Stack:\",\"\")","v":""},null,null,null,null,null,"","",null,null,null,"","",null,"Weigh Hopper Loading",0,{"$f":"IF(Q29=0,0,LOOKUP(P29,'Emission Factors'!$A$5:$A$16,'Emission Factors'!$D$5:$D$16))","v":0},0,"",0,0]
["Weigh Hopper Loading",{"$f":"IF(COUNTIF(J21:J30,\"Weigh Hopper Loading\")>0,\"EP-4 Weigh Hopper Loading Stack:\",\"\")","v":""},null,null,null,null,null,"","",null,null,null,"","",null,"Central Mix Loading",0,{"$f":"IF(Q30=0,0,LOOKUP(P30,'Emission Factors'!$A$5:$A$16,'Emission Factors'!$D$5:$D$16))","v":0},0,{"$f":"IF(Q30=0,\"\",IF($I$10>0,$I$10,IF(COUNTIF($F$24:$F$186,\"no\")>0,\"\",S30*(1-0.95))))","v":""},{"$f":"IF($J$10>0,\"\",IF($D$9>0,$D$9*R30*((100-$W$30)/100)/2000,IF($D$10>0,$D$10*365*R30*((100-$W$30)/100)/2000,IF($D$11>0,$D$11*365*R30*((100-$W$30)/100)*Q30/2000,IF(T30=\"\",S30*8760/2000,T30*8760/2000)))))","v":0},{"$f":"(R30*N198)","v":0},{"$f":"IF(COUNTIF($F$24:$F$186,\"no\")>0,0,95)","v":95}]
["Central Mix Loading",{"$f":"IF(COUNTIF(J21:J30,\"Truck Mix Loading\")>0,\"EP-5 Truck Mix Loading Stack:\",\"\")","v":""},null,null,null,null,null,null,null,null,null,null,null,null,null,"Truck Mix Loading",0,{"$f":"IF(Q31=0,0,LOOKUP(P31,'Emission Factors'!$A$5:$A$16,'Emission Factors'!$D$5:$D$16))","v":0},0,{"$f":"IF(Q31=0,\"\",IF($I$10>0,$I$10,IF(COUNTIF($F$24:$F$186,\"no\")>0,\"\",S31*(1-0.95))))","v":""},{"$f":"IF($J$10>0,\"\",IF($D$9>0,$D$9*R31*((100-$W$30)/100)/2000,IF($D$10>0,$D$10*365*R31*((100-$W$30)/100)/2000,IF($D$11>0,$D$11*365*R31*((100-$W$30)/100)*Q31/2000,IF(T31=\"\",S31*8760/2000,T31*8760/2000)))))","v":0},{"$f":"(R31*M198)","v":0}]
["Truck Mix Loading",{"$f":"IF(COUNTIF(J21:J30,\"Central Mix Loading\")>0,\"EP-6 Central Mix Loading Stack:\",\"\")","v":""},null,null,null,null,null,"Stock Pile Area",null,null,null,null,null,null,null,"Cement Delivery to Silo",0,{"$f":"IF(Q32=0,0,LOOKUP(P32,'Emission Factors'!$A$5:$A$16,'Emission Factors'!$D$5:$D$16))","v":0},null,{"$f":"IF(Q32=0,0,IF($I$10>0,$I$10,Q32*R32))","v":0},{"$f":"IF($J$10>0,\"\",IF($D$9>0,$D$9*R32/2000,IF($D$10>0,$D$10*365*R32/2000,IF($D$11>0,$D$11*365*R32*Q32/2000,IF($I$10>0,0,T32*8760/2000)))))","v":0},0]
["Cement Delivery to Silo",null,null,null,null,null,null,null,"Emission Unit #","Maximum Storage Area (acres)","Actual Storage Area (acres)","Actual Days in Existence (days)",null,null,null,"Cement Supplement Delivery to Silo",0,{"$f":"IF(Q33=0,0,LOOKUP(P33,'Emission Factors'!$A$5:$A$16,'Emission Factors'!$D$5:$D$16))","v":0},null,{"$f":"IF(Q33=0,0,IF($I$10>0,$I$10,Q33*R33))","v":0},{"$f":"IF($J$10>0,\"\",IF($D$9>0,$D$9*R33/2000,IF($D$10>0,$D$10*365*R33/2000,IF($D$11>0,$D$11*365*R33*Q33/2000,IF($I$10>0,0,T33*8760/2000)))))","v":0},0]
["Cement Supplement Delivery to Silo",null,null,null,null,null,null,null,null,null,null,null,null,null,null,"PM10"]
[null,null,null,null,null,null,null,null,null,null,null,null,null,null,null,"Aggregate Delivery to Ground Storage",{"$f":"Q5","v":0},{"$f":"IF(Q35=0,0,LOOKUP(P35,'Emission Factors'!$A$5:$A$16,'Emission Factors'!$H$5:$H$16))","v":0},0,{"$f":"IF(Q35=0,\"\",IF($I$11>0,$I$11,\"\"))","v":""},{"$f":"IF($J$11>0,$J$11,IF($D$9>0,$D$9*R35/2000,IF($D$10>0,$D$10*365*R35/2000,IF($D$11>0,$D$11*365*R35*Q35/2000,IF(T35=\"\",S35*8760/2000,T35*8760/2000)))))","v":0},{"$f":"(R5*R35/2000)","v":0}]
[null,null,null,null,null,null,null,null,null,null,null,null,null,null,null,"Sand Delivery to Ground Storage",{"$f":"Q6","v":0},{"$f":"IF(Q36=0,0,LOOKUP(P36,'Emission Factors'!$A$5:$A$16,'Emission Factors'!$H$5:$H$16))","v":0},0,{"$f":"IF(Q36=0,\"\",IF($I$11>0,$I$11,\"\"))","v":""},{"$f":"IF($J$11>0,\"\",IF($D$9>0,$D$9*R36/2000,IF($D$10>0,$D$10*365*R36/2000,IF($D$11>0,$D$11*365*R36*Q36/2000,IF(T36=\"\",S36*8760/2000,T36*8760/2000)))))","v":0},{"$f":"(R6*R36/2000)","v":0}]
[null,{"$f":"IF('Concrete Plant (CP-10)'!$D$4>1,\"Batch Plant\",\"\")","v":""},{"$f":"IF('Concrete Plant (CP-10)'!$D$4>1,\"Site 2\",\"\")","v":""},null,null,null,null,{"$f":"IF('Concrete Plant (CP-10)'!$D$4>1,\"Emission Point #\",\"\")","v":""},{"$f":"IF('Concrete Plant (CP-10)'!$D$4>1,\"Emission     Unit #\",\"\")","v":""},{"$f":"IF('Concrete Plant (CP-10)'!$D$4>1,\"Processes\",\"\")","v":""},{"$f":"IF('Concrete Plant (CP-10)'!$D$4>1,\"Combined Maximum Hourly Design Rate for all Like Processes (cubic yard/hr)\",\"\")","v":""},{"$f":"IF('Concrete Plant (CP-10)'!$D$4>1,('Facility Information'!G5&\" Annual Throughput (cubic yards)\"),\"\")","v":""},null,null,null,"Aggregate Transfer to Conveyor",0,{"$f":"IF(Q37=0,0,LOOKUP(P37,'Emission Factors'!$A$5:$A$16,'Emission Factors'!$H$5:$H$16))","v":0},0,"",0,0]
[null,null,null,null,null,null,null,null,null,null,null,null,"Truck","Central",null,"Sand Transfer to Conveyor",0,{"$f":"IF(Q38=0,0,LOOKUP(P38,'Emission Factors'!$A$5:$A$16,'Emission Factors'!$H$5:$H$16))","v":0},0,"",0,0]
[null,{"$f":"IF('Concrete Plant (CP-10)'!$D$4>1,\"Site Name:\",\"\")","v":""},null,null,null,null,null,{"$f":"IF(J39=\"cement delivery to silo\",\"CP-1 EP-2\",IF(J39=\"cement supplement delivery to silo\",\"CP-1 EP-3\",IF(J39=\"weigh hopper loading\",\"CP-1 EP-4\",IF(J39=\"truck mix loading\",\"CP-1 EP-5\",IF(J39=\"central mix loading\",\"CP-1 EP-6\",IF(J39=\"\",\"\",\"CP-1 EP-1\"))))))","v":""},{"$f":"IF(J39=\"\",\"\",IF(J39=\"aggregate delivery to ground storage\",\"CP-10 EU-1\",IF(J39=\"sand delivery to ground storage\",\"CP-10 EU-2\",IF(J39=\"aggregate transfer to conveyor\",\"CP-10 EU-3\",IF(J39=\"sand transfer to conveyor\",\"CP-10 EU-4\",IF(J39=\"aggregate transfer to elevated storage\",\"CP-10 EU-5\",IF(J39=\"sand transfer to elevated storage\",\"CP-10 EU-6\",IF(J39=\"weigh hopper loading\",\"CP-10 EU-7\",IF(J39=\"central mix loading\",\"CP-10 EU-8\",IF(J39=\"truck mix loading\",\"CP-10 EU-9\",IF(J39=\"cement delivery to silo\",\"CP-10 EU-10\",IF(J39=\"cement supplement delivery to silo\",\"CP-10 EU-11\"))))))))))))","v":""},null,null,null,{"$f":"IF(J39=\"truck mix loading\",IF($F$42=\"yes\",L39*0.05/2000,L39/2000),\"\")","v":""},{"$f":"IF(J39=\"central mix loading\",IF($F$42=\"yes\",L39*0.05/2000,L39/2000),\"\")","v":""},null,"Aggregate Transfer to Elevated Storage",0,{"$f":"IF(Q39=0,0,LOOKUP(P39,'Emission Factors'!$A$5:$A$16,'Emission Factors'!$H$5:$H$16))","v":0},0,"",0,0]
[null,{"$f":"IF('Concrete Plant (CP-10)'!$D$4>1,\"County:\",\"\")","v":""},null,null,null,null,null,{"$f":"IF(J40=\"cement delivery to silo\",\"CP-1 EP-2\",IF(J40=\"cement supplement delivery to silo\",\"CP-1 EP-3\",IF(J40=\"weigh hopper loading\",\"CP-1 EP-4\",IF(J40=\"truck mix loading\",\"CP-1 EP-5\",IF(J40=\"central mix loading\",\"CP-1 EP-6\",IF(J40=\"\",\"\",\"CP-1 EP-1\"))))))","v":""},"",null,null,null,{"$f":"IF(J40=\"truck mix loading\",IF($F$42=\"yes\",L40*0.05/2000,L40/2000),\"\")","v":""},{"$f":"IF(J40=\"central mix loading\",IF($F$42=\"yes\",L40*0.05/2000,L40/2000),\"\")","v":""},null,"Sand Transfer to Elevated Storage",0,{"$f":"IF(Q40=0,0,LOOKUP(P40,'Emission Factors'!$A$5:$A$16,'Emission Factors'!$H$5:$H$16))","v":0},0,"",0,0]
[null,{"$f":"IF('Concrete Plant (CP-10)'!$D$4>1,\"Batching Period (Dates):\",\"\")","v":""},null,null,null,null,null,"","",null,null,null,"","",null,"Weigh Hopper Loading",0,{"$f":"IF(Q41=0,0,LOOKUP(P41,'Emission Factors'!$A$5:$A$16,'Emission Factors'!$H$5:$H$16))","v":0},0,"",0,0]
[null,{"$f":"IF(OR(COUNTIF(J39:J48,\"Truck Mix Loading\")>0,(COUNTIF(J39:J48,\"Central Mix Loading\")>0)),\"Is the Central/Truck Mix Loading process controlled by a baghouse?\",\"\")","v":""},null,null,null,null,null,"","",null,null,null,"","",null,"Central Mix Loading",0,{"$f":"IF(Q42=0,0,LOOKUP(P42,'Emission Factors'!$A$5:$A$16,'Emission Factors'!$H$5:$H$16))","v":0},0,{"$f":"IF(Q42=0,\"\",IF($I$11>0,$I$11,IF(COUNTIF($F$24:$F$186,\"no\")>0,\"\",S42*(1-0.95))))","v":""},{"$f":"IF($J$11>0,\"\",IF($D$9>0,$D$9*R42*((100-$W$30)/100)/2000,IF($D$10>0,$D$10*365*R42*((100-$W$30)/100)/2000,IF($D$11>0,$D$11*365*R42*((100-$W$30)/100)*Q42/2000,IF(T42=\"\",S42*8760/2000,T42*8760/2000)))))","v":0},{"$f":"(N198*R42)","v":0},{"$f":"IF(COUNTIF($F$24:$F$186,\"no\")>0,0,95)","v":95}]
[null,null,null,null,null,null,null,"","",null,null,null,"","",null,"Truck Mix Loading",0,{"$f":"IF(Q43=0,0,LOOKUP(P43,'Emission Factors'!$A$5:$A$16,'Emission Factors'!$H$5:$H$16))","v":0},0,{"$f":"IF(Q43=0,\"\",IF($I$11>0,$I$11,IF(COUNTIF($F$24:$F$186,\"no\")>0,\"\",S43*(1-0.95))))","v":""},{"$f":"IF($J$11>0,\"\",IF($D$9>0,$D$9*R43*((100-$W$30)/100)/2000,IF($D$10>0,$D$10*365*R43*((100-$W$30)/100)/2000,IF($D$11>0,$D$11*365*R43*((100-$W$30)/100)*Q43/2000,IF(T43=\"\",S43*8760/2000,T43*8760/2000)))))","v":0},{"$f":"(M198*R43)","v":0}]
[null,{"$f":"IF(AND(B46=\"\",B47=\"\",B48=\"\",B49=\"\",B50=\"\"),\"\",\"Process (complete stack information if applicable):\")","v":""},{"$f":"IF(AND(B46=\"\",B47=\"\",B48=\"\",B49=\"\",B50=\"\"),\"\",\"Stack Height (ft):\")","v":""},{"$f":"IF(AND(B46=\"\",B47=\"\",B48=\"\",B49=\"\",B50=\"\"),\"\",\"Stack Diameter (inches):\")","v":""},{"$f":"IF(AND(B46=\"\",B47=\"\",B48=\"\",B49=\"\",B50=\"\"),\"\",\"Flow Rate (acfm):\")","v":""},{"$f":"IF(AND(B46=\"\",B47=\"\",B48=\"\",B49=\"\",B50=\"\"),\"\",\"Temperature (Deg F):\")","v":""},null,"","",null,null,null,"","",null,"Cement Delivery to Silo",0,{"$f":"IF(Q44=0,0,LOOKUP(P44,'Emission Factors'!$A$5:$A$16,'Emission Factors'!$H$5:$H$16))","v":0},null,{"$f":"IF(Q44=0,0,IF($I$10>0,$I$10,Q44*R44))","v":0},{"$f":"IF($J$11>0,\"\",IF($D$9>0,$D$9*R44/2000,IF($D$10>0,$D$10*365*R44/2000,IF($D$11>0,$D$11*365*R44*Q44/2000,IF($I$11>0,0,T44*8760/2000)))))","v":0},0]
[null,null,null,null,null,null,null,"","",null,null,null,"","",null,"Cement Supplement Delivery to Silo",0,{"$f":"IF(Q45=0,0,LOOKUP(P45,'Emission Factors'!$A$5:$A$16,'Emission Factors'!$H$5:$H$16))","v":0},null,{"$f":"IF(Q45=0,0,IF($I$10>0,$I$10,Q45*R45))","v":0},{"$f":"IF($J$11>0,\"\",IF($D$9>0,$D$9*R45/2000,IF($D$10>0,$D$10*365*R45/2000,IF($D$11>0,$D$11*365*R45*Q45/2000,IF($I$11>0,0,T45*8760/2000)))))","v":0},0]
[null,{"$f":"IF(COUNTIF(J39:J48,\"Cement Delivery to Silo\")>0,\"EP-2 Cement Silo Stack:\",\"\")","v":""},null,null,null,null,null,"","",null,null,null,"",""]
[null,{"$f":"IF(COUNTIF(J39:J48,\"Cement Supplement Delivery to Silo\")>0,\"EP-3 Cement Supplement Silo Stack:\",\"\")","v":""},null,null,null,null,null,"","",null,null,null,"","",null,null,"Max Design Rate (acres/day)","Emission Factor   (lb/acre-day)","Potential Uncontrolled Emissions (lb/hr)","Potential Controlled Emissions (lb/hr)","Potential Annual Emissions (tons/yr)","Actual Annual Emissions (tons/yr)"]
[null,{"$f":"IF(COUNTIF(J39:J48,\"Weigh Hopper Loading\")>0,\"EP-4 Weigh Hopper Loading Stack:\",\"\")","v":""},null,null,null,null,null,"","",null,null,null,"","",null,"Storage Pile"]
[null,{"$f":"IF(COUNTIF(J39:J48,\"Truck Mix Loading\")>0,\"EP-5 Truck Mix Loading Stack:\",\"\")","v":""},null,null,null,null,null,null,null,null,null,null,null,null,null,"PM2.5/PM10",{"$f":"Q17","v":0},3.64,{"$f":"Q49*R49*(1/24)","v":0},null,{"$f":"Q49*R49*365/2000","v":0},{"$f":"R17*R49/2000","v":0}]
[null,{"$f":"IF(COUNTIF(J39:J48,\"Central Mix Loading\")>0,\"EP-6 Central Mix Loading Stack:\",\"\")","v":""},null,null,null,null,null,{"$f":"IF('Concrete Plant (CP-10)'!$D$4>1,\"Stock Pile Area\",\"\")","v":""}]
[null,null,null,null,null,null,null,null,{"$f":"IF('Concrete Plant (CP-10)'!$D$4>1,\"Emission Unit #\",\"\")","v":""},{"$f":"IF('Concrete Plant (CP-10)'!$D$4>1,\"Maximum Storage Area (acres)\",\"\")","v":""},{"$f":"IF('Concrete Plant (CP-10)'!$D$4>1,\"Actual Storage Area (acres)\",\"\")","v":""},{"$f":"IF('Concrete Plant (CP-10)'!$D$4>1,\"Actual Days in Existence (days)\",\"\")","v":""}]
[]
[]
[]
[null,{"$f":"IF('Concrete Plant (CP-10)'!$D$4>2,\"Batch Plant\",\"\")","v":""},{"$f":"IF('Concrete Plant (CP-10)'!$D$4>2,\"Site 3\",\"\")","v":""},null,null,null,null,{"$f":"IF('Concrete Plant (CP-10)'!$D$4>2,\"Emission Point #\",\"\")","v":""},{"$f":"IF('Concrete Plant (CP-10)'!$D$4>2,\"Emission     Unit #\",\"\")","v":""},{"$f":"IF('Concrete Plant (CP-10)'!$D$4>2,\"Processes\",\"\")","v":""},{"$f":"IF('Concrete Plant (CP-10)'!$D$4>2,\"Combined Maximum Hourly Design Rate for all Like Processes (cubic yard/hr)\",\"\")","v":""},{"$f":"IF('Concrete Plant (CP-10)'!$D$4>2,('Facility Information'!G5&\" Annual Throughput (cubic yards)\"),\"\")","v":""}]
[null,null,null,null,null,null,null,null,null,null,null,null,"Truck","Central"]
[null,{"$f":"IF('Concrete Plant (CP-10)'!$D$4>2,\"Site Name:\",\"\")","v":""},null,null,null,null,null,{"$f":"IF(J57=\"cement delivery to silo\",\"CP-1 EP-2\",IF(J57=\"cement supplement delivery to silo\",\"CP-1 EP-3\",IF(J57=\"weigh hopper loading\",\"CP-1 EP-4\",IF(J57=\"truck mix loading\",\"CP-1 EP-5\",IF(J57=\"central mix loading\",\"CP-1 EP-6\",IF(J57=\"\",\"\",\"CP-1 EP-1\"))))))","v":""},{"$f":"IF(J57=\"\",\"\",IF(J57=\"aggregate delivery to ground storage\",\"CP-10 EU-1\",IF(J57=\"sand delivery to ground storage\",\"CP-10 EU-2\",IF(J57=\"aggregate transfer to conveyor\",\"CP-10 EU-3\",IF(J57=\"sand transfer to conveyor\",\"CP-10 EU-4\",IF(J57=\"aggregate transfer to elevated storage\",\"CP-10 EU-5\",IF(J57=\"sand transfer to elevated storage\",\"CP-10 EU-6\",IF(J57=\"weigh hopper loading\",\"CP-10 EU-7\",IF(J57=\"central mix loading\",\"CP-10 EU-8\",IF(J57=\"truck mix loading\",\"CP-10 EU-9\",IF(J57=\"cement delivery to silo\",\"CP-10 EU-10\",IF(J57=\"cement supplement delivery to silo\",\"CP-10 EU-11\"))))))))))))","v":""},null,null,null,{"$f":"IF(J57=\"truck mix loading\",IF($F$60=\"yes\",L57*0.05/2000,L57/2000),\"\")","v":""},{"$f":"IF(J57=\"central mix loading\",IF($F$60=\"yes\",L57*0.05/2000,L57/2000),\"\")","v":""}]
[null,{"$f":"IF('Concrete Plant (CP-10)'!$D$4>2,\"County:\",\"\")","v":""},null,null,null,null,null,{"$f":"IF(J58=\"cement delivery to silo\",\"CP-1 EP-2\",IF(J58=\"cement supplement delivery to silo\",\"CP-1 EP-3\",IF(J58=\"weigh hopper loading\",\"CP-1 EP-4\",IF(J58=\"truck mix loading\",\"CP-1 EP-5\",IF(J58=\"central mix loading\",\"CP-1 EP-6\",IF(J58=\"\",\"\",\"CP-1 EP-1\"))))))","v":""},"",null,null,null,{"$f":"IF(J58=\"truck mix loading\",IF($F$60=\"yes\",L58*0.05/2000,L58/2000),\"\")","v":""},{"$f":"IF(J58=\"central mix loading\",IF($F$60=\"yes\",L58*0.05/2000,L58/2000),\"\")","v":""}]
[null,{"$f":"IF('Concrete Plant (CP-10)'!$D$4>2,\"Batching Period (Dates):\",\"\")","v":""},null,null,null,null,null,"","",null,null,null,"",""]
[null,{"$f":"IF(OR(COUNTIF(J57:J66,\"Truck Mix Loading\")>0,(COUNTIF(J57:J66,\"Central Mix Loading\")>0)),\"Is the Central/Truck Mix Loading process controlled by a baghouse?\",\"\")","v":""},null,null,null,null,null,"","",null,null,null,"",""]
[null,null,null,null,null,null,null,"","",null,null,null,"",""]
[null,{"$f":"IF(AND(B64=\"\",B65=\"\",B66=\"\",B67=\"\",B68=\"\"),\"\",\"Process (complete stack information if applicable):\")","v":""},{"$f":"IF(AND(B64=\"\",B65=\"\",B66=\"\",B67=\"\",B68=\"\"),\"\",\"Stack Height (ft):\")","v":""},{"$f":"IF(AND(B64=\"\",B65=\"\",B66=\"\",B67=\"\",B68=\"\"),\"\",\"Stack Diameter (inches):\")","v":""},{"$f":"IF(AND(B64=\"\",B65=\"\",B66=\"\",B67=\"\",B68=\"\"),\"\",\"Flow Rate (acfm):\")","v":""},{"$f":"IF(AND(B64=\"\",B65=\"\",B66=\"\",B67=\"\",B68=\"\"),\"\",\"Temperature (Deg F):\")","v":""},null,"","",null,null,null,"",""]
[null,null,null,null,null,null,null,"","",null,null,null,"",""]
[null,{"$f":"IF(COUNTIF(J57:J66,\"Cement Delivery to Silo\")>0,\"EP-2 Cement Silo Stack:\",\"\")","v":""},null,null,null,null,null,"","",null,null,null,"",""]
[null,{"$f":"IF(COUNTIF(J57:J66,\"Cement Supplement Delivery to Silo\")>0,\"EP-3 Cement Supplement Silo Stack:\",\"\")","v":""},null,null,null,null,null,"","",null,null,null,"",""]
[null,{"$f":"IF(COUNTIF(J57:J66,\"Weigh Hopper Loading\")>0,\"EP-4 Weigh Hopper Loading Stack:\",\"\")","v":""},null,null,null,null,null,"","",null,null,null,"",""]
[null,{"$f":"IF(COUNTIF(J57:J66,\"Truck Mix Loading\")>0,\"EP-5 Truck Mix Loading Stack:\",\"\")","v":""}]
[null,{"$f":"IF(COUNTIF(J57:J66,\"Central Mix Loading\")>0,\"EP-6 Central Mix Loading Stack:\",\"\")","v":""},null,null,null,null,null,{"$f":"IF('Concrete Plant (CP-10)'!$D$4>2,\"Stock Pile Area\",\"\")","v":""}]
[null,null,null,null,null,null,null,null,{"$f":"IF('Concrete Plant (CP-10)'!$D$4>2,\"Emission Unit #\",\"\")","v":""},{"$f":"IF('Concrete Plant (CP-10)'!$D$4>2,\"Maximum Storage Area (acres)\",\"\")","v":""},{"$f":"IF('Concrete Plant (CP-10)'!$D$4>2,\"Actual Storage Area (acres)\",\"\")","v":""},{"$f":"IF('Concrete Plant (CP-10)'!$D$4>2,\"Actual Days in Existence (days)\",\"\")","v":""}]
[]
[]
[]
[null,{"$f":"IF('Concrete Plant (CP-10)'!$D$4>3,\"Batch Plant\",\"\")","v":""},{"$f":"IF('Concrete Plant (CP-10)'!$D$4>3,\"Site 4\",\"\")","v":""},null,null,null,null,{"$f":"IF('Concrete Plant (CP-10)'!$D$4>3,\"Emission Point #\",\"\")","v":""},{"$f":"IF('Concrete Plant (CP-10)'!$D$4>3,\"Emission     Unit #\",\"\")","v":""},{"$f":"IF('Concrete Plant (CP-10)'!$D$4>3,\"Processes\",\"\")","v":""},{"$f":"IF('Concrete Plant (CP-10)'!$D$4>3,\"Combined Maximum Hourly Design Rate for all Like Processes (cubic yard/hr)\",\"\")","v":""},{"$f":"IF('Concrete Plant (CP-10)'!$D$4>3,('Facility Information'!G5&\" Annual Throughput (cubic yards)\"),\"\")","v":""}]
[null,null,null,null,null,null,null,null,null,null,null,null,"Truck","Central"]
[null,{"$f":"IF('Concrete Plant (CP-10)'!$D$4>3,\"Site Name:\",\"\")","v":""},null,null,null,null,null,{"$f":"IF(J75=\"cement delivery to silo\",\"CP-1 EP-2\",IF(J75=\"cement supplement delivery to silo\",\"CP-1 EP-3\",IF(J75=\"weigh hopper loading\",\"CP-1 EP-4\",IF(J75=\"truck mix loading\",\"CP-1 EP-5\",IF(J75=\"central mix loading\",\"CP-1 EP-6\",IF(J75=\"\",\"\",\"CP-1 EP-1\"))))))","v":""},{"$f":"IF(J75=\"\",\"\",IF(J75=\"aggregate delivery to ground storage\",\"CP-10 EU-1\",IF(J75=\"sand delivery to ground storage\",\"CP-10 EU-2\",IF(J75=\"aggregate transfer to conveyor\",\"CP-10 EU-3\",IF(J75=\"sand transfer to conveyor\",\"CP-10 EU-4\",IF(J75=\"aggregate transfer to elevated storage\",\"CP-10 EU-5\",IF(J75=\"sand transfer to elevated storage\",\"CP-10 EU-6\",IF(J75=\"weigh hopper loading\",\"CP-10 EU-7\",IF(J75=\"central mix loading\",\"CP-10 EU-8\",IF(J75=\"truck mix loading\",\"CP-10 EU-9\",IF(J75=\"cement delivery to silo\",\"CP-10 EU-10\",IF(J75=\"cement supplement delivery to silo\",\"CP-10 EU-11\"))))))))))))","v":""},null,null,null,{"$f":"IF(J75=\"truck mix loading\",IF($F$78=\"yes\",L75*0.05/2000,L75/2000),\"\")","v":""},{"$f":"IF(J75=\"central mix loading\",IF($F$78=\"yes\",L75*0.05/2000,L75/2000),\"\")","v":""}]
[null,{"$f":"IF('Concrete Plant (CP-10)'!$D$4>3,\"County:\",\"\")","v":""},null,null,null,null,null,{"$f":"IF(J76=\"cement delivery to silo\",\"CP-1 EP-2\",IF(J76=\"cement supplement delivery to silo\",\"CP-1 EP-3\",IF(J76=\"weigh hopper loading\",\"CP-1 EP-4\",IF(J76=\"truck mix loading\",\"CP-1 EP-5\",IF(J76=\"central mix loading\",\"CP-1 EP-6\",IF(J76=\"\",\"\",\"CP-1 EP-1\"))))))","v":""},"",null,null,null,{"$f":"IF(J76=\"truck mix loading\",IF($F$78=\"yes\",L76*0.05/2000,L76/2000),\"\")","v":""},{"$f":"IF(J76=\"central mix loading\",IF($F$78=\"yes\",L76*0.05/2000,L76/2000),\"\")","v":""}]
[null,{"$f":"IF('Concrete Plant (CP-10)'!$D$4>3,\"Batching Period (Dates):\",\"\")","v":""},null,null,null,null,null,"","",null,null,null,"",""]
[null,{"$f":"IF(OR(COUNTIF(J75:J84,\"Truck Mix Loading\")>0,(COUNTIF(J75:J84,\"Central Mix Loading\")>0)),\"Is the Central/Truck Mix Loading process controlled by a baghouse?\",\"\")","v":""},null,null,null,null,null,"","",null,null,null,"",""]
[null,null,null,null,null,null,null,"","",null,null,null,"",""]
[null,{"$f":"IF(AND(B82=\"\",B83=\"\",B84=\"\",B85=\"\",B86=\"\"),\"\",\"Process (complete stack information if applicable):\")","v":""},{"$f":"IF(AND(B82=\"\",B83=\"\",B84=\"\",B85=\"\",B86=\"\"),\"\",\"Stack Height (ft):\")","v":""},{"$f":"IF(AND(B82=\"\",B83=\"\",B84=\"\",B85=\"\",B86=\"\"),\"\",\"Stack Diameter (inches):\")","v":""},{"$f":"IF(AND(B82=\"\",B83=\"\",B84=\"\",B85=\"\",B86=\"\"),\"\",\"Flow Rate (acfm):\")","v":""},{"$f":"IF(AND(B82=\"\",B83=\"\",B84=\"\",B85=\"\",B86=\"\"),\"\",\"Temperature (Deg F):\")","v":""},null,"","",null,null,null,"",""]
[null,null,null,null,null,null,null,"","",null,null,null,"",""]
[null,{"$f":"IF(COUNTIF(J75:J84,\"Cement Delivery to Silo\")>0,\"EP-2 Cement Silo Stack:\",\"\")","v":""},null,null,null,null,null,"","",null,null,null,"",""]
[null,{"$f":"IF(COUNTIF(J75:J84,\"Cement Supplement Delivery to Silo\")>0,\"EP-3 Cement Supplement Silo Stack:\",\"\")","v":""},null,null,null,null,null,"","",null,null,null,"",""]
[null,{"$f":"IF(COUNTIF(J75:J84,\"Weigh Hopper Loading\")>0,\"EP-4 Weigh Hopper Loading Stack:\",\"\")","v":""},null,null,null,null,null,"","",null,null,null,"",""]
[null,{"$f":"IF(COUNTIF(J75:J84,\"Truck Mix Loading\")>0,\"EP-5 Truck Mix Loading Stack:\",\"\")","v":""}]
[null,{"$f":"IF(COUNTIF(J75:J84,\"Central Mix Loading\")>0,\"EP-6 Central Mix Loading Stack:\",\"\")","v":""},null,null,null,null,null,{"$f":"IF('Concrete Plant (CP-10)'!$D$4>3,\"Stock Pile Area\",\"\")","v":""}]
[null,null,null,null,null,null,null,null,{"$f":"IF('Concrete Plant (CP-10)'!$D$4>3,\"Emission Unit #\",\"\")","v":""},{"$f":"IF('Concrete Plant (CP-10)'!$D$4>3,\"Maximum Storage Area (acres)\",\"\")","v":""},{"$f":"IF('Concrete Plant (CP-10)'!$D$4>3,\"Actual Storage Area (acres)\",\"\")","v":""},{"$f":"IF('Concrete Plant (CP-10)'!$D$4>3,\"Actual Days in Existence (days)\",\"\")","v":""}]
[]
[]
[]
[null,{"$f":"IF('Concrete Plant (CP-10)'!$D$4>4,\"Batch Plant\",\"\")","v":""},{"$f":"IF('Concrete Plant (CP-10)'!$D$4>4,\"Site 5\",\"\")","v":""},null,null,null,null,{"$f":"IF('Concrete Plant (CP-10)'!$D$4>4,\"Emission Point #\",\"\")","v":""},{"$f":"IF('Concrete Plant (CP-10)'!$D$4>4,\"Emission     Unit #\",\"\")","v":""},{"$f":"IF('Concrete Plant (CP-10)'!$D$4>4,\"Processes\",\"\")","v":""},{"$f":"IF('Concrete Plant (CP-10)'!$D$4>4,\"Combined Maximum Hourly Design Rate for all Like Processes (cubic yard/hr)\",\"\")","v":""},{"$f":"IF('Concrete Plant (CP-10)'!$D$4>4,('Facility Information'!G5&\" Annual Throughput (cubic yards)\"),\"\")","v":""}]
[null,null,null,null,null,null,null,null,null,null,null,null,"Truck","Central"]
[null,{"$f":"IF('Concrete Plant (CP-10)'!$D$4>4,\"Site Name:\",\"\")","v":""},null,null,null,null,null,{"$f":"IF(J93=\"cement delivery to silo\",\"CP-1 EP-2\",IF(J93=\"cement supplement delivery to silo\",\"CP-1 EP-3\",IF(J93=\"weigh hopper loading\",\"CP-1 EP-4\",IF(J93=\"truck mix loading\",\"CP-1 EP-5\",IF(J93=\"central mix loading\",\"CP-1 EP-6\",IF(J93=\"\",\"\",\"CP-1 EP-1\"))))))","v":""},{"$f":"IF(J93=\"\",\"\",IF(J93=\"aggregate delivery to ground storage\",\"CP-10 EU-1\",IF(J93=\"sand delivery to ground storage\",\"CP-10 EU-2\",IF(J93=\"aggregate transfer to conveyor\",\"CP-10 EU-3\",IF(J93=\"sand transfer to conveyor\",\"CP-10 EU-4\",IF(J93=\"aggregate transfer to elevated storage\",\"CP-10 EU-5\",IF(J93=\"sand transfer to elevated storage\",\"CP-10 EU-6\",IF(J93=\"weigh hopper loading\",\"CP-10 EU-7\",IF(J93=\"central mix loading\",\"CP-10 EU-8\",IF(J93=\"truck mix loading\",\"CP-10 EU-9\",IF(J93=\"cement delivery to silo\",\"CP-10 EU-10\",IF(J93=\"cement supplement delivery to silo\",\"CP-10 EU-11\"))))))))))))","v":""},null,null,null,{"$f":"IF(J93=\"truck mix loading\",IF($F$96=\"yes\",L93*0.05/2000,L93/2000),\"\")","v":""},{"$f":"IF(J93=\"central mix loading\",IF($F$96=\"yes\",L93*0.05/2000,L93/2000),\"\")","v":""}]
[null,{"$f":"IF('Concrete Plant (CP-10)'!$D$4>4,\"County:\",\"\")","v":""},null,null,null,null,null,{"$f":"IF(J94=\"cement delivery to silo\",\"CP-1 EP-2\",IF(J94=\"cement supplement delivery to silo\",\"CP-1 EP-3\",IF(J94=\"weigh hopper loading\",\"CP-1 EP-4\",IF(J94=\"truck mix loading\",\"CP-1 EP-5\",IF(J94=\"central mix loading\",\"CP-1 EP-6\",IF(J94=\"\",\"\",\"CP-1 EP-1\"))))))","v":""},"",null,null,null,{"$f":"IF(J94=\"truck mix loading\",IF($F$96=\"yes\",L94*0.05/2000,L94/2000),\"\")","v":""},{"$f":"IF(J94=\"central mix loading\",IF($F$96=\"yes\",L94*0.05/2000,L94/2000),\"\")","v":""}]
[null,{"$f":"IF('Concrete Plant (CP-10)'!$D$4>4,\"Batching Period (Dates):\",\"\")","v":""},null,null,null,null,null,"","",null,null,null,"",""]
[null,{"$f":"IF(OR(COUNTIF(J93:J102,\"Truck Mix Loading\")>0,(COUNTIF(J93:J102,\"Central Mix Loading\")>0)),\"Is the Central/Truck Mix Loading process controlled by a baghouse?\",\"\")","v":""},null,null,null,null,null,"","",null,null,null,"",""]
[null,null,null,null,null,null,null,"","",null,null,null,"",""]
[null,{"$f":"IF(AND(B100=\"\",B101=\"\",B102=\"\",B103=\"\",B104=\"\"),\"\",\"Process (complete stack information if applicable):\")","v":""},{"$f":"IF(AND(B100=\"\",B101=\"\",B102=\"\",B103=\"\",B104=\"\"),\"\",\"Stack Height (ft):\")","v":""},{"$f":"IF(AND(B100=\"\",B101=\"\",B102=\"\",B103=\"\",B104=\"\"),\"\",\"Stack Diameter (inches):\")","v":""},{"$f":"IF(AND(B100=\"\",B101=\"\",B102=\"\",B103=\"\",B104=\"\"),\"\",\"Flow Rate (acfm):\")","v":""},{"$f":"IF(AND(B100=\"\",B101=\"\",B102=\"\",B103=\"\",B104=\"\"),\"\",\"Temperature (Deg F):\")","v":""},null,"","",null,null,null,"",""]
[null,null,null,null,null,null,null,"","",null,null,null,"",""]
[null,{"$f":"IF(COUNTIF(J93:J102,\"Cement Delivery to Silo\")>0,\"EP-2 Cement Silo Stack:\",\"\")","v":""},null,null,null,null,null,"","",null,null,null,"",""]
[null,{"$f":"IF(COUNTIF(J93:J102,\"Cement Supplement Delivery to Silo\")>0,\"EP-3 Cement Supplement Silo Stack:\",\"\")","v":""},null,null,null,null,null,"","",null,null,null,"",""]
[null,{"$f":"IF(COUNTIF(J93:J102,\"Weigh Hopper Loading\")>0,\"EP-4 Weigh Hopper Loading Stack:\",\"\")","v":""},null,null,null,null,null,"","",null,null,null,"",""]
[null,{"$f":"IF(COUNTIF(J93:J102,\"Truck Mix Loading\")>0,\"EP-5 Truck Mix Loading Stack:\",\"\")","v":""}]
[null,{"$f":"IF(COUNTIF(J93:J102,\"Central Mix Loading\")>0,\"EP-6 Central Mix Loading Stack:\",\"\")","v":""},null,null,null,null,null,{"$f":"IF('Concrete Plant (CP-10)'!$D$4>4,\"Stock Pile Area\",\"\")","v":""}]
[null,null,null,null,null,null,null,null,{"$f":"IF('Concrete Plant (CP-10)'!$D$4>4,\"Emission Unit #\",\"\")","v":""},{"$f":"IF('Concrete Plant (CP-10)'!$D$4>4,\"Maximum Storage Area (acres)\",\"\")","v":""},{"$f":"IF('Concrete Plant (CP-10)'!$D$4>4,\"Actual Storage Area (acres)\",\"\")","v":""},{"$f":"IF('Concrete Plant (CP-10)'!$D$4>4,\"Actual Days in Existence (days)\",\"\")","v":""}]
[]
[]
[]
[null,{"$f":"IF('Concrete Plant (CP-10)'!$D$4>5,\"Batch Plant\",\"\")","v":""},{"$f":"IF('Concrete Plant (CP-10)'!$D$4>5,\"Site 6\",\"\")","v":""},null,null,null,null,{"$f":"IF('Concrete Plant (CP-10)'!$D$4>5,\"Emission Point #\",\"\")","v":""},{"$f":"IF('Concrete Plant (CP-10)'!$D$4>5,\"Emission     Unit #\",\"\")","v":""},{"$f":"IF('Concrete Plant (CP-10)'!$D$4>5,\"Processes\",\"\")","v":""},{"$f":"IF('Concrete Plant (CP-10)'!$D$4>5,\"Combined Maximum Hourly Design Rate for all Like Processes (cubic yard/hr)\",\"\")","v":""},{"$f":"IF('Concrete Plant (CP-10)'!$D$4>5,('Facility Information'!G5&\" Annual Throughput (cubic yards)\"),\"\")","v":""}]
[null,null,null,null,null,null,null,null,null,null,null,null,"Truck","Central"]
[null,{"$f":"IF('Concrete Plant (CP-10)'!$D$4>5,\"Site Name:\",\"\")","v":""},null,null,null,null,null,{"$f":"IF(J111=\"cement delivery to silo\",\"CP-1 EP-2\",IF(J111=\"cement supplement delivery to silo\",\"CP-1 EP-3\",IF(J111=\"weigh hopper loading\",\"CP-1 EP-4\",IF(J111=\"truck mix loading\",\"CP-1 EP-5\",IF(J111=\"central mix loading\",\"CP-1 EP-6\",IF(J111=\"\",\"\",\"CP-1 EP-1\"))))))","v":""},{"$f":"IF(J111=\"\",\"\",IF(J111=\"aggregate delivery to ground storage\",\"CP-10 EU-1\",IF(J111=\"sand delivery to ground storage\",\"CP-10 EU-2\",IF(J111=\"aggregate transfer to conveyor\",\"CP-10 EU-3\",IF(J111=\"sand transfer to conveyor\",\"CP-10 EU-4\",IF(J111=\"aggregate transfer to elevated storage\",\"CP-10 EU-5\",IF(J111=\"sand transfer to elevated storage\",\"CP-10 EU-6\",IF(J111=\"weigh hopper loading\",\"CP-10 EU-7\",IF(J111=\"central mix loading\",\"CP-10 EU-8\",IF(J111=\"truck mix loading\",\"CP-10 EU-9\",IF(J111=\"cement delivery to silo\",\"CP-10 EU-10\",IF(J111=\"cement supplement delivery to silo\",\"CP-10 EU-11\"))))))))))))","v":""},null,null,null,{"$f":"IF(J111=\"truck mix loading\",IF($F$114=\"yes\",L111*0.05/2000,L111/2000),\"\")","v":""},{"$f":"IF(J111=\"central mix loading\",IF($F$114=\"yes\",L111*0.05/2000,L111/2000),\"\")","v":""}]
[null,{"$f":"IF('Concrete Plant (CP-10)'!$D$4>5,\"County:\",\"\")","v":""},null,null,null,null,null,{"$f":"IF(J112=\"cement delivery to silo\",\"CP-1 EP-2\",IF(J112=\"cement supplement delivery to silo\",\"CP-1 EP-3\",IF(J112=\"weigh hopper loading\",\"CP-1 EP-4\",IF(J112=\"truck mix loading\",\"CP-1 EP-5\",IF(J112=\"central mix loading\",\"CP-1 EP-6\",IF(J112=\"\",\"\",\"CP-1 EP-1\"))))))","v":""},"",null,null,null,{"$f":"IF(J112=\"truck mix loading\",IF($F$114=\"yes\",L112*0.05/2000,L112/2000),\"\")","v":""},{"$f":"IF(J112=\"central mix loading\",IF($F$114=\"yes\",L112*0.05/2000,L112/2000),\"\")","v":""}]
[null,{"$f":"IF('Concrete Plant (CP-10)'!$D$4>5,\"Batching Period (Dates):\",\"\")","v":""},null,null,null,null,null,"","",null,null,null,"",""]
[null,{"$f":"IF(OR(COUNTIF(J111:J120,\"Truck Mix Loading\")>0,(COUNTIF(J111:J120,\"Central Mix Loading\")>0)),\"Is the Central/Truck Mix Loading process controlled by a baghouse?\",\"\")","v":""},null,null,null,null,null,"","",null,null,null,"",""]
[null,null,null,null,null,null,null,"","",null,null,null,"",""]
[null,{"$f":"IF(AND(B118=\"\",B119=\"\",B120=\"\",B121=\"\",B122=\"\"),\"\",\"Process (complete stack information if applicable):\")","v":""},{"$f":"IF(AND(B118=\"\",B119=\"\",B120=\"\",B121=\"\",B122=\"\"),\"\",\"Stack Height (ft):\")","v":""},{"$f":"IF(AND(B118=\"\",B119=\"\",B120=\"\",B121=\"\",B122=\"\"),\"\",\"Stack Diameter (inches):\")","v":""},{"$f":"IF(AND(B118=\"\",B119=\"\",B120=\"\",B121=\"\",B122=\"\"),\"\",\"Flow Rate (acfm):\")","v":""},{"$f":"IF(AND(B118=\"\",B119=\"\",B120=\"\",B121=\"\",B122=\"\"),\"\",\"Temperature (Deg F):\")","v":""},null,"","",null,null,null,"",""]
[null,null,null,null,null,null,null,"","",null,null,null,"",""]
[null,{"$f":"IF(COUNTIF(J111:J120,\"Cement Delivery to Silo\")>0,\"EP-2 Cement Silo Stack:\",\"\")","v":""},null,null,null,null,null,"","",null,null,null,"",""]
[null,{"$f":"IF(COUNTIF(J111:J120,\"Cement Supplement Delivery to Silo\")>0,\"EP-3 Cement Supplement Silo Stack:\",\"\")","v":""},null,null,null,null,null,"","",null,null,null,"",""]
[null,{"$f":"IF(COUNTIF(J111:J120,\"Weigh Hopper Loading\")>0,\"EP-4 Weigh Hopper Loading Stack:\",\"\")","v":""},null,null,null,null,null,"","",null,null,null,"",""]
[null,{"$f":"IF(COUNTIF(J111:J120,\"Truck Mix Loading\")>0,\"EP-5 Truck Mix Loading Stack:\",\"\")","v":""}]
[null,{"$f":"IF(COUNTIF(J111:J120,\"Central Mix Loading\")>0,\"EP-6 Central Mix Loading Stack:\",\"\")","v":""},null,null,null,null,null,{"$f":"IF('Concrete Plant (CP-10)'!$D$4>5,\"Stock Pile Area\",\"\")","v":""}]
[null,null,null,null,null,null,null,null,{"$f":"IF('Concrete Plant (CP-10)'!$D$4>5,\"Emission Unit #\",\"\")","v":""},{"$f":"IF('Concrete Plant (CP-10)'!$D$4>5,\"Maximum Storage Area (acres)\",\"\")","v":""},{"$f":"IF('Concrete Plant (CP-10)'!$D$4>5,\"Actual Storage Area (acres)\",\"\")","v":""},{"$f":"IF('Concrete Plant (CP-10)'!$D$4>5,\"Actual Days in Existence (days)\",\"\")","v":""}]
[]
[]
[]
[null,{"$f":"IF('Concrete Plant (CP-10)'!$D$4>6,\"Batch Plant\",\"\")","v":""},{"$f":"IF('Concrete Plant (CP-10)'!$D$4>6,\"Site 7\",\"\")","v":""},null,null,null,null,{"$f":"IF('Concrete Plant (CP-10)'!$D$4>6,\"Emission Point #\",\"\")","v":""},{"$f":"IF('Concrete Plant (CP-10)'!$D$4>6,\"Emission     Unit #\",\"\")","v":""},{"$f":"IF('Concrete Plant (CP-10)'!$D$4>6,\"Processes\",\"\")","v":""},{"$f":"IF('Concrete Plant (CP-10)'!$D$4>6,\"Combined Maximum Hourly Design Rate for all Like Processes (cubic yard/hr)\",\"\")","v":""},{"$f":"IF('Concrete Plant (CP-10)'!$D$4>6,('Facility Information'!G5&\" Annual Throughput (cubic yards)\"),\"\")","v":""}]
[null,null,null,null,null,null,null,null,null,null,null,null,"Truck","Central"]
[null,{"$f":"IF('Concrete Plant (CP-10)'!$D$4>6,\"Site Name:\",\"\")","v":""},null,null,null,null,null,{"$f":"IF(J129=\"cement delivery to silo\",\"CP-1 EP-2\",IF(J129=\"cement supplement delivery to silo\",\"CP-1 EP-3\",IF(J129=\"weigh hopper loading\",\"CP-1 EP-4\",IF(J129=\"truck mix loading\",\"CP-1 EP-5\",IF(J129=\"central mix loading\",\"CP-1 EP-6\",IF(J129=\"\",\"\",\"CP-1 EP-1\"))))))","v":""},{"$f":"IF(J129=\"\",\"\",IF(J129=\"aggregate delivery to ground storage\",\"CP-10 EU-1\",IF(J129=\"sand delivery to ground storage\",\"CP-10 EU-2\",IF(J129=\"aggregate transfer to conveyor\",\"CP-10 EU-3\",IF(J129=\"sand transfer to conveyor\",\"CP-10 EU-4\",IF(J129=\"aggregate transfer to elevated storage\",\"CP-10 EU-5\",IF(J129=\"sand transfer to elevated storage\",\"CP-10 EU-6\",IF(J129=\"weigh hopper loading\",\"CP-10 EU-7\",IF(J129=\"central mix loading\",\"CP-10 EU-8\",IF(J129=\"truck mix loading\",\"CP-10 EU-9\",IF(J129=\"cement delivery to silo\",\"CP-10 EU-10\",IF(J129=\"cement supplement delivery to silo\",\"CP-10 EU-11\"))))))))))))","v":""},null,null,null,{"$f":"IF(J129=\"truck mix loading\",IF($F$132=\"yes\",L129*0.05/2000,L129/2000),\"\")","v":""},{"$f":"IF(J129=\"central mix loading\",IF($F$132=\"yes\",L129*0.05/2000,L129/2000),\"\")","v":""}]
[null,{"$f":"IF('Concrete Plant (CP-10)'!$D$4>6,\"County:\",\"\")","v":""},null,null,null,null,null,{"$f":"IF(J130=\"cement delivery to silo\",\"CP-1 EP-2\",IF(J130=\"cement supplement delivery to silo\",\"CP-1 EP-3\",IF(J130=\"weigh hopper loading\",\"CP-1 EP-4\",IF(J130=\"truck mix loading\",\"CP-1 EP-5\",IF(J130=\"central mix loading\",\"CP-1 EP-6\",IF(J130=\"\",\"\",\"CP-1 EP-1\"))))))","v":""},"",null,null,null,{"$f":"IF(J130=\"truck mix loading\",IF($F$132=\"yes\",L130*0.05/2000,L130/2000),\"\")","v":""},{"$f":"IF(J130=\"central mix loading\",IF($F$132=\"yes\",L130*0.05/2000,L130/2000),\"\")","v":""}]
[null,{"$f":"IF('Concrete Plant (CP-10)'!$D$4>6,\"Batching Period (Dates):\",\"\")","v":""},null,null,null,null,null,"","",null,null,null,"",""]
[null,{"$f":"IF(OR(COUNTIF(J129:J138,\"Truck Mix Loading\")>0,(COUNTIF(J129:J138,\"Central Mix Loading\")>0)),\"Is the Central/Truck Mix Loading process controlled by a baghouse?\",\"\")","v":""},null,null,null,null,null,"","",null,null,null,"",""]
[null,null,null,null,null,null,null,"","",null,null,null,"",""]
[null,{"$f":"IF(AND(B136=\"\",B137=\"\",B138=\"\",B139=\"\",B140=\"\"),\"\",\"Process (complete stack information if applicable):\")","v":""},{"$f":"IF(AND(B136=\"\",B137=\"\",B138=\"\",B139=\"\",B140=\"\"),\"\",\"Stack Height (ft):\")","v":""},{"$f":"IF(AND(B136=\"\",B137=\"\",B138=\"\",B139=\"\",B140=\"\"),\"\",\"Stack Diameter (inches):\")","v":""},{"$f":"IF(AND(B136=\"\",B137=\"\",B138=\"\",B139=\"\",B140=\"\"),\"\",\"Flow Rate (acfm):\")","v":""},{"$f":"IF(AND(B136=\"\",B137=\"\",B138=\"\",B139=\"\",B140=\"\"),\"\",\"Temperature (Deg F):\")","v":""},null,"","",null,null,null,"",""]
[null,null,null,null,null,null,null,"","",null,null,null,"",""]
[null,{"$f":"IF(COUNTIF(J129:J138,\"Cement Delivery to Silo\")>0,\"EP-2 Cement Silo Stack:\",\"\")","v":""},null,null,null,null,null,"","",null,null,null,"",""]
[null,{"$f":"IF(COUNTIF(J129:J138,\"Cement Supplement Delivery to Silo\")>0,\"EP-3 Cement Supplement Silo Stack:\",\"\")","v":""},null,null,null,null,null,"","",null,null,null,"",""]
[null,{"$f":"IF(COUNTIF(J129:J138,\"Weigh Hopper Loading\")>0,\"EP-4 Weigh Hopper Loading Stack:\",\"\")","v":""},null,null,null,null,null,"","",null,null,null,"",""]
[null,{"$f":"IF(COUNTIF(J129:J138,\"Truck Mix Loading\")>0,\"EP-5 Truck Mix Loading Stack:\",\"\")","v":""}]
[null,{"$f":"IF(COUNTIF(J129:J138,\"Central Mix Loading\")>0,\"EP-6 Central Mix Loading Stack:\",\"\")","v":""},null,null,null,null,null,{"$f":"IF('Concrete Plant (CP-10)'!$D$4>6,\"Stock Pile Area\",\"\")","v":""}]
[null,null,null,null,null,null,null,null,{"$f":"IF('Concrete Plant (CP-10)'!$D$4>6,\"Emission Unit #\",\"\")","v":""},{"$f":"IF('Concrete Plant (CP-10)'!$D$4>6,\"Maximum Storage Area (acres)\",\"\")","v":""},{"$f":"IF('Concrete Plant (CP-10)'!$D$4>6,\"Actual Storage Area (acres)\",\"\")","v":""},{"$f":"IF('Concrete Plant (CP-10)'!$D$4>6,\"Actual Days in Existence (days)\",\"\")","v":""}]
[]
[]
[]
[null,{"$f":"IF('Concrete Plant (CP-10)'!$D$4>7,\"Batch Plant\",\"\")","v":""},{"$f":"IF('Concrete Plant (CP-10)'!$D$4>7,\"Site 8\",\"\")","v":""},null,null,null,null,{"$f":"IF('Concrete Plant (CP-10)'!$D$4>7,\"Emission Point #\",\"\")","v":""},{"$f":"IF('Concrete Plant (CP-10)'!$D$4>7,\"Emission     Unit #\",\"\")","v":""},{"$f":"IF('Concrete Plant (CP-10)'!$D$4>7,\"Processes\",\"\")","v":""},{"$f":"IF('Concrete Plant (CP-10)'!$D$4>7,\"Combined Maximum Hourly Design Rate for all Like Processes (cubic yard/hr)\",\"\")","v":""},{"$f":"IF('Concrete Plant (CP-10)'!$D$4>7,('Facility Information'!G5&\" Annual Throughput (cubic yards)\"),\"\")","v":""}]
[null,null,null,null,null,null,null,null,null,null,null,null,"Truck","Central"]
[null,{"$f":"IF('Concrete Plant (CP-10)'!$D$4>7,\"Site Name:\",\"\")","v":""},null,null,null,null,null,{"$f":"IF(J147=\"cement delivery to silo\",\"CP-1 EP-2\",IF(J147=\"cement supplement delivery to silo\",\"CP-1 EP-3\",IF(J147=\"weigh hopper loading\",\"CP-1 EP-4\",IF(J147=\"truck mix loading\",\"CP-1 EP-5\",IF(J147=\"central mix loading\",\"CP-1 EP-6\",IF(J147=\"\",\"\",\"CP-1 EP-1\"))))))","v":""},{"$f":"IF(J147=\"\",\"\",IF(J147=\"aggregate delivery to ground storage\",\"CP-10 EU-1\",IF(J147=\"sand delivery to ground storage\",\"CP-10 EU-2\",IF(J147=\"aggregate transfer to conveyor\",\"CP-10 EU-3\",IF(J147=\"sand transfer to conveyor\",\"CP-10 EU-4\",IF(J147=\"aggregate transfer to elevated storage\",\"CP-10 EU-5\",IF(J147=\"sand transfer to elevated storage\",\"CP-10 EU-6\",IF(J147=\"weigh hopper loading\",\"CP-10 EU-7\",IF(J147=\"central mix loading\",\"CP-10 EU-8\",IF(J147=\"truck mix loading\",\"CP-10 EU-9\",IF(J147=\"cement delivery to silo\",\"CP-10 EU-10\",IF(J147=\"cement supplement delivery to silo\",\"CP-10 EU-11\"))))))))))))","v":""},null,null,null,{"$f":"IF(J147=\"truck mix loading\",IF($F$150=\"yes\",L147*0.05/2000,L147/2000),\"\")","v":""},{"$f":"IF(J147=\"central mix loading\",IF($F$150=\"yes\",L147*0.05/2000,L147/2000),\"\")","v":""}]
[null,{"$f":"IF('Concrete Plant (CP-10)'!$D$4>7,\"County:\",\"\")","v":""},null,null,null,null,null,{"$f":"IF(J148=\"cement delivery to silo\",\"CP-1 EP-2\",IF(J148=\"cement supplement delivery to silo\",\"CP-1 EP-3\",IF(J148=\"weigh hopper loading\",\"CP-1 EP-4\",IF(J148=\"truck mix loading\",\"CP-1 EP-5\",IF(J148=\"central mix loading\",\"CP-1 EP-6\",IF(J148=\"\",\"\",\"CP-1 EP-1\"))))))","v":""},"",null,null,null,{"$f":"IF(J148=\"truck mix loading\",IF($F$150=\"yes\",L148*0.05/2000,L148/2000),\"\")","v":""},{"$f":"IF(J148=\"central mix loading\",IF($F$150=\"yes\",L148*0.05/2000,L148/2000),\"\")","v":""}]
[null,{"$f":"IF('Concrete Plant (CP-10)'!$D$4>7,\"Batching Period (Dates):\",\"\")","v":""},null,null,null,null,null,"","",null,null,null,"",""]
[null,{"$f":"IF(OR(COUNTIF(J147:J156,\"Truck Mix Loading\")>0,(COUNTIF(J147:J156,\"Central Mix Loading\")>0)),\"Is the Central/Truck Mix Loading process controlled by a baghouse?\",\"\")","v":""},null,null,null,null,null,"","",null,null,null,"",""]
[null,null,null,null,null,null,null,"","",null,null,null,"",""]
[null,{"$f":"IF(AND(B154=\"\",B155=\"\",B156=\"\",B157=\"\",B158=\"\"),\"\",\"Process (complete stack information if applicable):\")","v":""},{"$f":"IF(AND(B154=\"\",B155=\"\",B156=\"\",B157=\"\",B158=\"\"),\"\",\"Stack Height (ft):\")","v":""},{"$f":"IF(AND(B154=\"\",B155=\"\",B156=\"\",B157=\"\",B158=\"\"),\"\",\"Stack Diameter (inches):\")","v":""},{"$f":"IF(AND(B154=\"\",B155=\"\",B156=\"\",B157=\"\",B158=\"\"),\"\",\"Flow Rate (acfm):\")","v":""},{"$f":"IF(AND(B154=\"\",B155=\"\",B156=\"\",B157=\"\",B158=\"\"),\"\",\"Temperature (Deg F):\")","v":""},null,"","",null,null,null,"",""]
[null,null,null,null,null,null,null,"","",null,null,null,"",""]
[null,{"$f":"IF(COUNTIF(J147:J156,\"Cement Delivery to Silo\")>0,\"EP-2 Cement Silo Stack:\",\"\")","v":""},null,null,null,null,null,"","",null,null,null,"",""]
[null,{"$f":"IF(COUNTIF(J147:J156,\"Cement Supplement Delivery to Silo\")>0,\"EP-3 Cement Supplement Silo Stack:\",\"\")","v":""},null,null,null,null,null,"","",null,null,null,"",""]
[null,{"$f":"IF(COUNTIF(J147:J156,\"Weigh Hopper Loading\")>0,\"EP-4 Weigh Hopper Loading Stack:\",\"\")","v":""},null,null,null,null,null,"","",null,null,null,"",""]
[null,{"$f":"IF(COUNTIF(J147:J156,\"Truck Mix Loading\")>0,\"EP-5 Truck Mix Loading Stack:\",\"\")","v":""}]
[null,{"$f":"IF(COUNTIF(J147:J156,\"Central Mix Loading\")>0,\"EP-6 Central Mix Loading Stack:\",\"\")","v":""},null,null,null,null,null,{"$f":"IF('Concrete Plant (CP-10)'!$D$4>7,\"Stock Pile Area\",\"\")","v":""}]
[null,null,null,null,null,null,null,null,{"$f":"IF('Concrete Plant (CP-10)'!$D$4>7,\"Emission Unit #\",\"\")","v":""},{"$f":"IF('Concrete Plant (CP-10)'!$D$4>7,\"Maximum Storage Area (acres)\",\"\")","v":""},{"$f":"IF('Concrete Plant (CP-10)'!$D$4>7,\"Actual Storage Area (acres)\",\"\")","v":""},{"$f":"IF('Concrete Plant (CP-10)'!$D$4>7,\"Actual Days in Existence (days)\",\"\")","v":""}]
[]
[]
[]
[null,{"$f":"IF('Concrete Plant (CP-10)'!$D$4>8,\"Batch Plant\",\"\")","v":""},{"$f":"IF('Concrete Plant (CP-10)'!$D$4>8,\"Site 9\",\"\")","v":""},null,null,null,null,{"$f":"IF('Concrete Plant (CP-10)'!$D$4>8,\"Emission Point #\",\"\")","v":""},{"$f":"IF('Concrete Plant (CP-10)'!$D$4>8,\"Emission     Unit #\",\"\")","v":""},{"$f":"IF('Concrete Plant (CP-10)'!$D$4>8,\"Processes\",\"\")","v":""},{"$f":"IF('Concrete Plant (CP-10)'!$D$4>8,\"Combined Maximum Hourly Design Rate for all Like Processes (cubic yard/hr)\",\"\")","v":""},{"$f":"IF('Concrete Plant (CP-10)'!$D$4>8,('Facility Information'!G5&\" Annual Throughput (cubic yards)\"),\"\")","v":""}]
[null,null,null,null,null,null,null,null,null,null,null,null,"Truck","Central"]
[null,{"$f":"IF('Concrete Plant (CP-10)'!$D$4>8,\"Site Name:\",\"\")","v":""},null,null,null,null,null,{"$f":"IF(J165=\"cement delivery to silo\",\"CP-1 EP-2\",IF(J165=\"cement supplement delivery to silo\",\"CP-1 EP-3\",IF(J165=\"weigh hopper loading\",\"CP-1 EP-4\",IF(J165=\"truck mix loading\",\"CP-1 EP-5\",IF(J165=\"central mix loading\",\"CP-1 EP-6\",IF(J165=\"\",\"\",\"CP-1 EP-1\"))))))","v":""},{"$f":"IF(J165=\"\",\"\",IF(J165=\"aggregate delivery to ground storage\",\"CP-10 EU-1\",IF(J165=\"sand delivery to ground storage\",\"CP-10 EU-2\",IF(J165=\"aggregate transfer to conveyor\",\"CP-10 EU-3\",IF(J165=\"sand transfer to conveyor\",\"CP-10 EU-4\",IF(J165=\"aggregate transfer to elevated storage\",\"CP-10 EU-5\",IF(J165=\"sand transfer to elevated storage\",\"CP-10 EU-6\",IF(J165=\"weigh hopper loading\",\"CP-10 EU-7\",IF(J165=\"central mix loading\",\"CP-10 EU-8\",IF(J165=\"truck mix loading\",\"CP-10 EU-9\",IF(J165=\"cement delivery to silo\",\"CP-10 EU-10\",IF(J165=\"cement supplement delivery to silo\",\"CP-10 EU-11\"))))))))))))","v":""},null,null,null,{"$f":"IF(J165=\"truck mix loading\",IF($F$168=\"yes\",L165*0.05/2000,L165/2000),\"\")","v":""},{"$f":"IF(J165=\"central mix loading\",IF($F$168=\"yes\",L165*0.05/2000,L165/2000),\"\")","v":""}]
[null,{"$f":"IF('Concrete Plant (CP-10)'!$D$4>8,\"County:\",\"\")","v":""},null,null,null,null,null,{"$f":"IF(J166=\"cement delivery to silo\",\"CP-1 EP-2\",IF(J166=\"cement supplement delivery to silo\",\"CP-1 EP-3\",IF(J166=\"weigh hopper loading\",\"CP-1 EP-4\",IF(J166=\"truck mix loading\",\"CP-1 EP-5\",IF(J166=\"central mix loading\",\"CP-1 EP-6\",IF(J166=\"\",\"\",\"CP-1 EP-1\"))))))","v":""},"",null,null,null,{"$f":"IF(J166=\"truck mix loading\",IF($F$168=\"yes\",L166*0.05/2000,L166/2000),\"\")","v":""},{"$f":"IF(J166=\"central mix loading\",IF($F$168=\"yes\",L166*0.05/2000,L166/2000),\"\")","v":""}]
[null,{"$f":"IF('Concrete Plant (CP-10)'!$D$4>8,\"Batching Period (Dates):\",\"\")","v":""},null,null,null,null,null,"","",null,null,null,"",""]
[null,{"$f":"IF(OR(COUNTIF(J165:J174,\"Truck Mix Loading\")>0,(COUNTIF(J165:J174,\"Central Mix Loading\")>0)),\"Is the Central/Truck Mix Loading process controlled by a baghouse?\",\"\")","v":""},null,null,null,null,null,"","",null,null,null,"",""]
[null,null,null,null,null,null,null,"","",null,null,null,"",""]
[null,{"$f":"IF(AND(B172=\"\",B173=\"\",B174=\"\",B175=\"\",B176=\"\"),\"\",\"Process (complete stack information if applicable):\")","v":""},{"$f":"IF(AND(B172=\"\",B173=\"\",B174=\"\",B175=\"\",B176=\"\"),\"\",\"Stack Height (ft):\")","v":""},{"$f":"IF(AND(B172=\"\",B173=\"\",B174=\"\",B175=\"\",B176=\"\"),\"\",\"Stack Diameter (inches):\")","v":""},{"$f":"IF(AND(B172=\"\",B173=\"\",B174=\"\",B175=\"\",B176=\"\"),\"\",\"Flow Rate (acfm):\")","v":""},{"$f":"IF(AND(B172=\"\",B173=\"\",B174=\"\",B175=\"\",B176=\"\"),\"\",\"Temperature (Deg F):\")","v":""},null,"","",null,null,null,"",""]
[null,null,null,null,null,null,null,"","",null,null,null,"",""]
[null,{"$f":"IF(COUNTIF(J165:J174,\"Cement Delivery to Silo\")>0,\"EP-2 Cement Silo Stack:\",\"\")","v":""},null,null,null,null,null,"","",null,null,null,"",""]
[null,{"$f":"IF(COUNTIF(J165:J174,\"Cement Supplement Delivery to Silo\")>0,\"EP-3 Cement Supplement Silo Stack:\",\"\")","v":""},null,null,null,null,null,"","",null,null,null,"",""]
[null,{"$f":"IF(COUNTIF(J165:J174,\"Weigh Hopper Loading\")>0,\"EP-4 Weigh Hopper Loading Stack:\",\"\")","v":""},null,null,null,null,null,"","",null,null,null,"",""]
[null,{"$f":"IF(COUNTIF(J165:J174,\"Truck Mix Loading\")>0,\"EP-5 Truck Mix Loading Stack:\",\"\")","v":""}]
[null,{"$f":"IF(COUNTIF(J165:J174,\"Central Mix Loading\")>0,\"EP-6 Central Mix Loading Stack:\",\"\")","v":""},null,null,null,null,null,{"$f":"IF('Concrete Plant (CP-10)'!$D$4>8,\"Stock Pile Area\",\"\")","v":""}]
[null,null,null,null,null,null,null,null,{"$f":"IF('Concrete Plant (CP-10)'!$D$4>8,\"Emission Unit #\",\"\")","v":""},{"$f":"IF('Concrete Plant (CP-10)'!$D$4>8,\"Maximum Storage Area (acres)\",\"\")","v":""},{"$f":"IF('Concrete Plant (CP-10)'!$D$4>8,\"Actual Storage Area (acres)\",\"\")","v":""},{"$f":"IF('Concrete Plant (CP-10)'!$D$4>8,\"Actual Days in Existence (days)\",\"\")","v":""}]
[]
[]
[]
[null,{"$f":"IF('Concrete Plant (CP-10)'!$D$4>9,\"Batch Plant\",\"\")","v":""},{"$f":"IF('Concrete Plant (CP-10)'!$D$4>9,\"Site 10\",\"\")","v":""},null,null,null,null,{"$f":"IF('Concrete Plant (CP-10)'!$D$4>9,\"Emission Point #\",\"\")","v":""},{"$f":"IF('Concrete Plant (CP-10)'!$D$4>9,\"Emission     Unit #\",\"\")","v":""},{"$f":"IF('Concrete Plant (CP-10)'!$D$4>9,\"Processes\",\"\")","v":""},{"$f":"IF('Concrete Plant (CP-10)'!$D$4>9,\"Combined Maximum Hourly Design Rate for all Like Processes (cubic yard/hr)\",\"\")","v":""},{"$f":"IF('Concrete Plant (CP-10)'!$D$4>9,('Facility Information'!G5&\" Annual Throughput (cubic yards)\"),\"\")","v":""}]
[null,null,null,null,null,null,null,null,null,null,null,null,"Truck","Central"]
[null,{"$f":"IF('Concrete Plant (CP-10)'!$D$4>9,\"Site Name:\",\"\")","v":""},null,null,null,null,null,{"$f":"IF(J183=\"cement delivery to silo\",\"CP-1 EP-2\",IF(J183=\"cement supplement delivery to silo\",\"CP-1 EP-3\",IF(J183=\"weigh hopper loading\",\"CP-1 EP-4\",IF(J183=\"truck mix loading\",\"CP-1 EP-5\",IF(J183=\"central mix loading\",\"CP-1 EP-6\",IF(J183=\"\",\"\",\"CP-1 EP-1\"))))))","v":""},{"$f":"IF(J183=\"\",\"\",IF(J183=\"aggregate delivery to ground storage\",\"CP-10 EU-1\",IF(J183=\"sand delivery to ground storage\",\"CP-10 EU-2\",IF(J183=\"aggregate transfer to conveyor\",\"CP-10 EU-3\",IF(J183=\"sand transfer to conveyor\",\"CP-10 EU-4\",IF(J183=\"aggregate transfer to elevated storage\",\"CP-10 EU-5\",IF(J183=\"sand transfer to elevated storage\",\"CP-10 EU-6\",IF(J183=\"weigh hopper loading\",\"CP-10 EU-7\",IF(J183=\"central mix loading\",\"CP-10 EU-8\",IF(J183=\"truck mix loading\",\"CP-10 EU-9\",IF(J183=\"cement delivery to silo\",\"CP-10 EU-10\",IF(J183=\"cement supplement delivery to silo\",\"CP-10 EU-11\"))))))))))))","v":""},null,null,null,{"$f":"IF(J183=\"truck mix loading\",IF($F$186=\"yes\",L183*0.05/2000,L183/2000),\"\")","v":""},{"$f":"IF(J183=\"central mix loading\",IF($F$186=\"yes\",L183*0.05/2000,L183/2000),\"\")","v":""}]
[null,{"$f":"IF('Concrete Plant (CP-10)'!$D$4>9,\"County:\",\"\")","v":""},null,null,null,null,null,{"$f":"IF(J184=\"cement delivery to silo\",\"CP-1 EP-2\",IF(J184=\"cement supplement delivery to silo\",\"CP-1 EP-3\",IF(J184=\"weigh hopper loading\",\"CP-1 EP-4\",IF(J184=\"truck mix loading\",\"CP-1 EP-5\",IF(J184=\"central mix loading\",\"CP-1 EP-6\",IF(J184=\"\",\"\",\"CP-1 EP-1\"))))))","v":""},"",null,null,null,{"$f":"IF(J184=\"truck mix loading\",IF($F$186=\"yes\",L184*0.05/2000,L184/2000),\"\")","v":""},{"$f":"IF(J184=\"central mix loading\",IF($F$186=\"yes\",L184*0.05/2000,L184/2000),\"\")","v":""}]
[null,{"$f":"IF('Concrete Plant (CP-10)'!$D$4>9,\"Batching Period (Dates):\",\"\")","v":""},null,null,null,null,null,"","",null,null,null,"",""]
[null,{"$f":"IF(OR(COUNTIF(J183:J192,\"Truck Mix Loading\")>0,(COUNTIF(J183:J192,\"Central Mix Loading\")>0)),\"Is the Central/Truck Mix Loading process controlled by a baghouse?\",\"\")","v":""},null,null,null,null,null,"","",null,null,null,"",""]
[null,null,null,null,null,null,null,"","",null,null,null,"",""]
[null,{"$f":"IF(AND(B190=\"\",B191=\"\",B192=\"\",B193=\"\",B194=\"\"),\"\",\"Process (complete stack information if applicable):\")","v":""},{"$f":"IF(AND(B190=\"\",B191=\"\",B192=\"\",B193=\"\",B194=\"\"),\"\",\"Stack Height (ft):\")","v":""},{"$f":"IF(AND(B190=\"\",B191=\"\",B192=\"\",B193=\"\",B194=\"\"),\"\",\"Stack Diameter (inches):\")","v":""},{"$f":"IF(AND(B190=\"\",B191=\"\",B192=\"\",B193=\"\",B194=\"\"),\"\",\"Flow Rate (acfm):\")","v":""},{"$f":"IF(AND(B190=\"\",B191=\"\",B192=\"\",B193=\"\",B194=\"\"),\"\",\"Temperature (Deg F):\")","v":""},null,"","",null,null,null,"",""]
[null,null,null,null,null,null,null,"","",null,null,null,"",""]
[null,{"$f":"IF(COUNTIF(J183:J192,\"Cement Delivery to Silo\")>0,\"EP-2 Cement Silo Stack:\",\"\")","v":""},null,null,null,null,null,"","",null,null,null,"",""]
[null,{"$f":"IF(COUNTIF(J183:J192,\"Cement Supplement Delivery to Silo\")>0,\"EP-3 Cement Supplement Silo Stack:\",\"\")","v":""},null,null,null,null,null,"","",null,null,null,"",""]
[null,{"$f":"IF(COUNTIF(J183:J192,\"Weigh Hopper Loading\")>0,\"EP-4 Weigh Hopper Loading Stack:\",\"\")","v":""},null,null,null,null,null,"","",null,null,null,"",""]
[null,{"$f":"IF(COUNTIF(J183:J192,\"Truck Mix Loading\")>0,\"EP-5 Truck Mix Loading Stack:\",\"\")","v":""}]
[null,{"$f":"IF(COUNTIF(J183:J192,\"Central Mix Loading\")>0,\"EP-6 Central Mix Loading Stack:\",\"\")","v":""},null,null,null,null,null,{"$f":"IF('Concrete Plant (CP-10)'!$D$4>9,\"Stock Pile Area\",\"\")","v":""}]
[null,null,null,null,null,null,null,null,{"$f":"IF('Concrete Plant (CP-10)'!$D$4>9,\"Emission Unit #\",\"\")","v":""},{"$f":"IF('Concrete Plant (CP-10)'!$D$4>9,\"Maximum Storage Area (acres)\",\"\")","v":""},{"$f":"IF('Concrete Plant (CP-10)'!$D$4>9,\"Actual Storage Area (acres)\",\"\")","v":""},{"$f":"IF('Concrete Plant (CP-10)'!$D$4>9,\"Actual Days in Existence (days)\",\"\")","v":""}]
[]
[]
[null,null,null,null,null,null,null,null,null,null,null,null,{"$f":"SUM(M183:M192,M165:M174,M147:M156,M129:M138,M111:M120,M93:M102,M75:M84,M57:M66,M39:M48,M21:M30)","v":0},{"$f":"SUM(N183:N192,N165:N174,N147:N156,N129:N138,N111:N120,N93:N102,N75:N84,N57:N66,N39:N48,N21:N30)","v":0}]

{"sheet":"Haul Roads","index":11,"n_rows":51,"n_cols":41,"rows_kept":51,"cut":false,"hidden":false,"merged":[[7,37,7,38],[7,39,7,40],[5,28,8,28],[5,29,8,29],[5,4,8,4],[5,23,8,23],[5,22,8,22],[5,21,8,21],[5,26,8,26],[5,27,8,27],[5,24,8,24],[5,6,6,7],[5,5,8,5],[5,11,8,11],[5,8,8,8],[5,9,8,9],[5,25,8,25],[5,17,8,17],[5,18,8,18],[5,19,8,19],[7,13,8,13],[5,20,8,20],[5,15,8,15],[5,16,8,16],[7,14,8,14],[5,3,8,3],[5,12,6,14],[7,12,8,12],[5,1,8,1],[1,1,1,5],[5,10,8,10],[7,6,8,6],[7,7,8,7],[5,2,8,2]]}
[null,"HAUL ROADS"]
[null,"Please fill in the yellow boxes as applicable for your facility. "]
[null,"** As of 2016 Potential Emissions are no longer required to be reported in the Minor Source Emissions Inventory**",null,null,null,null,null,null,null,null,null,null,"Convert:",null,"yd3/day","=",{"$f":"IF(N3=0,\"\",N3*4024*365/2000)","v":""},"ton/yr"]
[null,null,null,null,null,null,null,null,null,null,null,null,"Convert:",null,"yd3/yr","=",{"$f":"IF(N4=0,\"\",N4*4024/2000)","v":""},"ton/yr"]
[]
[null,"Paved or Unpaved Haul Road","Emission Point Number","Emission Unit Number","Concrete Plant Number              (i.e., CP-1)","Site Name","Average Vehicle     Weight (tons)",null,"Percent of Miles Vehicles Travel While Empty (%)","Average Vehicle Weight (tons) W","Average Load Weight (tons)","Round Trip Length of Haul Road (miles)","Annual Throughput (tons/yr)",null,null,"Potential One-Way Trips Taken","Actual One-Way Trips Taken","Road Surface Silt Loading (g/m2) S/sL","Days/Year with at least 0.01 inches of Precipitation P","Is dust supressant used to control emissions?","PM2.5 Emission Factor (lb/vmt)","Potential Emissions (lb/hr)","Potential Controlled Emissions (lb/hr)","Potential Emissions (tons/yr)","Actual Emissions (tons/yr)","PM10 Emission Factor (lb/vmt)","Potential Emissions (lb/hr)","Potential Controlled Emissions (lb/hr)","Potential Emissions (tons/yr)","Actual Emissions (tons/yr)"]
[]
[null,null,null,null,null,null,"Empty (unloaded)","Full (loaded)",null,null,null,null,"Permit Limit","Maximum ","Annual",null,null,null,null,null,null,null,null,null,null,null,null,null,null,null,null,"PM2.5",null,"PM10",null,null,null,"PM2.5",null,"PM10"]
[null,null,null,null,null,null,null,null,null,null,null,null,null,null,null,null,null,null,null,null,null,null,null,null,null,null,null,null,null,null,null,"Unpaved","Paved","Unpaved","Paved",null,null,"Potential tpy","Actual tpy","Potential tpy","Actual tpy"]
["Paved Haul Road",null,null,null,null,null,null,null,null,{"$f":"IF(G10=\"\",\"\",(G10*(I10/100)+H10*(1-(I10/100))))","v":""},{"$f":"IF(G10=\"\",\"\",H10-G10)","v":""},null,{"$f":"IF(E10=\"\",\"\",IF(E10=\"CP-1\",IF('Concrete Plant (CP-1)'!$D$9>0,'Concrete Plant (CP-1)'!$D$9*4024/2000,IF('Concrete Plant (CP-1)'!$D$10>0,'Concrete Plant (CP-1)'!$D$10*365*4024/2000,\"\")),IF(E10=\"CP-2\",IF('Concrete Plant (CP-2)'!$D$9>0,'Concrete Plant (CP-2)'!$D$9*4024/2000,IF('Concrete Plant (CP-2)'!$C$10>0,'Concrete Plant (CP-2)'!$C$10*365*4024/2000,\"\")),IF(E10=\"CP-3\",IF('Concrete Plant (CP-3)'!$D$9>0,'Concrete Plant (CP-3)'!$D$9*4024/2000,IF('Concrete Plant (CP-3)'!$D$10>0,'Concrete Plant (CP-3)'!$D$10*365*4024/2000,\"\")),IF(E10=\"CP-4\",IF('Concrete Plant (CP-4)'!$D$9>0,'Concrete Plant (CP-4)'!$D$9*4024/2000,IF('Concrete Plant (CP-4)'!$D$10>0,'Concrete Plant (CP-4)'!$D$10*365*4024/2000,\"\")),IF(E10=\"CP-5\",IF('Concrete Plant (CP-5)'!$D$9>0,'Concrete Plant (CP-5)'!$D$9*4024/2000,IF('Concrete Plant (CP-5)'!$D$10>0,'Concrete Plant (CP-5)'!$D$10*365*4024/2000,\"\")),IF(E10=\"CP-6\",IF('Concrete Plant (CP-6)'!$D$9>0,'Concrete Plant (CP-6)'!$D$9*4024/2000,IF('Concrete Plant (CP-6)'!$D$10>0,'Concrete Plant (CP-6)'!$D$10*365*4024/2000,\"\")),IF(E10=\"CP-7\",IF('Concrete Plant (CP-7)'!$D$9>0,'Concrete Plant (CP-7)'!$D$9*4024/2000,IF('Concrete Plant (CP-7)'!$D$10>0,'Concrete Plant (CP-7)'!$D$10*365*4024/2000,\"\")),IF(E10=\"CP-8\",IF('Concrete Plant (CP-8)'!$D$9>0,'Concrete Plant (CP-8)'!$D$9*4024/2000,IF('Concrete Plant (CP-8)'!$D$10>0,'Concrete Plant (CP-8)'!$D$10*365*4024/2000,\"\")),IF(E10=\"CP-9\",IF('Concrete Plant (CP-9)'!$D$9>0,'Concrete Plant (CP-9)'!$D$9*4024/2000,IF('Concrete Plant (CP-9)'!$D$10>0,'Concrete Plant (CP-9)'!$D$10*365*4024/2000,\"\")),IF(E10=\"CP-10\",IF('Concrete Plant (CP-10)'!$D$9>0,'Concrete Plant (CP-10)'!$D$9*4024/2000,IF('Concrete Plant (CP-10)'!$D$10>0,'Concrete Plant (CP-10)'!$D$10*365*4024/2000,\"\")))))))))))))","v":""},null,null,{"$f":"IF(B10=\"\",\"\",IF(M10=\"\",N10/K10,M10/K10))","v":""},{"$f":"IF(O10=\"\",\"\",O10/K10)","v":""},{"$f":"IF(B10=\"\",\"\",IF(B10=\"Unpaved Haul Road\",4.8,12))","v":""},{"$f":"IF(B10=\"\",\"\",100)","v":""},null,{"$f":"IF(B10=\"\",\"\",IF(B10=\"unpaved haul road\",(0.15*((R10/12)^0.9)*((J10/3)^0.45)*((365-S10)/365)),((0.00054*(R10^0.91)*(J10^1.02))*(1-S10/1460))))","v":""},{"$f":"IF(B10=\"\",\"\",U10*P10*L10/8760)","v":""},{"$f":"IF(B10=\"\",\"\",IF(T10=\"yes\",V10*((100-40)/100),\"\"))","v":""},{"$f":"IF(B10=\"\",\"\",IF(W10=\"\",V10*8760/2000,W10*8760/2000))","v":""},{"$f":"IF(B10=\"\",\"\",IF(T10=\"yes\",Q10*L10*U10/2000*((100-40)/100),Q10*L10*U10/2000))","v":""},{"$f":"IF(B10=\"\",\"\",IF(B10=\"unpaved haul road\",(1.5*((R10/12)^0.9)*((J10/3)^0.45)*((365-S10)/365)),((0.0022*(R10^0.91)*(J10^1.02))*(1-S10/1460))))","v":""},{"$f":"IF(B10=\"\",\"\",Z10*P10*L10/8760)","v":""},{"$f":"IF(B10=\"\",\"\",IF(T10=\"yes\",AA10*((100-40)/100),\"\"))","v":""},{"$f":"IF(B10=\"\",\"\",IF(AB10=\"\",AA10*8760/2000,AB10*8760/2000))","v":""},{"$f":"IF(B10=\"\",\"\",IF(T10=\"yes\",Q10*L10*Z10/2000*((100-40)/100),Q10*L10*Z10/2000))","v":""},{"$f":"IF(B10=\"unpaved haul road\",\"x\",\"\")","v":""},{"$f":"IF(AND('Concrete Plant (CP-1)'!$D$10=\"\",'Concrete Plant (CP-1)'!$D$9=\"\"),SUMIFS($X$10:$X$39,$E$10:$E$39,\"CP-1\",$AE$10:$AE$39,\"x\"),MAX(IF($E$10:$E$39=\"CP-1\",IF($AE$10:$AE$39=\"x\",$X$10:$X$39))))","v":0},{"$f":"IF(AND('Concrete Plant (CP-1)'!$D$10=\"\",'Concrete Plant (CP-1)'!$D$9=\"\"),SUMIFS($X$10:$X$39,$E$10:$E$39,\"CP-1\",AE10:AE39,\"\"),MAX(IF($E$10:$E$39=\"CP-1\",IF($AE$10:$AE$39=\"\",$X$10:$X$39))))","v":0},{"$f":"IF(AND('Concrete Plant (CP-1)'!$D$10=\"\",'Concrete Plant (CP-1)'!$D$9=\"\"),SUMIFS($AC$10:$AC$39,$E$10:$E$39,\"CP-1\",$AE$10:$AE$39,\"x\"),MAX(IF($E$10:$E$39=\"CP-1\",IF($AE$10:$AE$39=\"x\",$AC$10:$AC$39))))","v":0},{"$f":"IF(AND('Concrete Plant (CP-1)'!$D$10=\"\",'Concrete Plant (CP-1)'!$D$9=\"\"),SUMIFS($AC$10:$AC$39,$E$10:$E$39,\"CP-1\",$AE$10:$AE$39,\"\"),MAX(IF($E$10:$E$39=\"CP-1\",IF($AE$10:$AE$39=\"\",$AC$10:$AC$39))))","v":0},null,"CP-1",{"$f":"IF(AND('Concrete Plant (CP-1)'!$D$10=\"\",'Concrete Plant (CP-1)'!$D$9=\"\"),SUMIF($E$10:$E$39,\"CP-1\",$X$10:$X$39),MAX(IF($E$10:$E$39=\"CP-1\",$X$10:$X$39)))","v":0},{"$f":"SUMIF($E$10:$E$39,\"CP-1\",$Y$10:$Y$39)","v":0},{"$f":"IF(AND('Concrete Plant (CP-1)'!$D$10=\"\",'Concrete Plant (CP-1)'!$D$9=\"\"),SUMIF($E$10:$E$39,\"CP-1\",$AC$10:$AC$39),MAX(IF($E$10:$E$39=\"CP-1\",$AC$10:$AC$39)))","v":0},{"$f":"SUMIF($E$10:$E439,\"CP-1\",$AD$10:$AD$39)","v":0}]
["Unpaved Haul Road",null,null,null,null,null,null,null,null,{"$f":"IF(G11=\"\",\"\",(G11*(I11/100)+H11*(1-(I11/100))))","v":""},{"$f":"IF(G11=\"\",\"\",H11-G11)","v":""},null,{"$f":"IF(E11=\"\",\"\",IF(E11=\"CP-1\",IF('Concrete Plant (CP-1)'!$D$9>0,'Concrete Plant (CP-1)'!$D$9*4024/2000,IF('Concrete Plant (CP-1)'!$D$10>0,'Concrete Plant (CP-1)'!$D$10*365*4024/2000,\"\")),IF(E11=\"CP-2\",IF('Concrete Plant (CP-2)'!$D$9>0,'Concrete Plant (CP-2)'!$D$9*4024/2000,IF('Concrete Plant (CP-2)'!$C$10>0,'Concrete Plant (CP-2)'!$C$10*365*4024/2000,\"\")),IF(E11=\"CP-3\",IF('Concrete Plant (CP-3)'!$D$9>0,'Concrete Plant (CP-3)'!$D$9*4024/2000,IF('Concrete Plant (CP-3)'!$D$10>0,'Concrete Plant (CP-3)'!$D$10*365*4024/2000,\"\")),IF(E11=\"CP-4\",IF('Concrete Plant (CP-4)'!$D$9>0,'Concrete Plant (CP-4)'!$D$9*4024/2000,IF('Concrete Plant (CP-4)'!$D$10>0,'Concrete Plant (CP-4)'!$D$10*365*4024/2000,\"\")),IF(E11=\"CP-5\",IF('Concrete Plant (CP-5)'!$D$9>0,'Concrete Plant (CP-5)'!$D$9*4024/2000,IF('Concrete Plant (CP-5)'!$D$10>0,'Concrete Plant (CP-5)'!$D$10*365*4024/2000,\"\")),IF(E11=\"CP-6\",IF('Concrete Plant (CP-6)'!$D$9>0,'Concrete Plant (CP-6)'!$D$9*4024/2000,IF('Concrete Plant (CP-6)'!$D$10>0,'Concrete Plant (CP-6)'!$D$10*365*4024/2000,\"\")),IF(E11=\"CP-7\",IF('Concrete Plant (CP-7)'!$D$9>0,'Concrete Plant (CP-7)'!$D$9*4024/2000,IF('Concrete Plant (CP-7)'!$D$10>0,'Concrete Plant (CP-7)'!$D$10*365*4024/2000,\"\")),IF(E11=\"CP-8\",IF('Concrete Plant (CP-8)'!$D$9>0,'Concrete Plant (CP-8)'!$D$9*4024/2000,IF('Concrete Plant (CP-8)'!$D$10>0,'Concrete Plant (CP-8)'!$D$10*365*4024/2000,\"\")),IF(E11=\"CP-9\",IF('Concrete Plant (CP-9)'!$D$9>0,'Concrete Plant (CP-9)'!$D$9*4024/2000,IF('Concrete Plant (CP-9)'!$D$10>0,'Concrete Plant (CP-9)'!$D$10*365*4024/2000,\"\")),IF(E11=\"CP-10\",IF('Concrete Plant (CP-10)'!$D$9>0,'Concrete Plant (CP-10)'!$D$9*4024/2000,IF('Concrete Plant (CP-10)'!$D$10>0,'Concrete Plant (CP-10)'!$D$10*365*4024/2000,\"\")))))))))))))","v":""},null,null,"",{"$f":"IF(O11=\"\",\"\",O11/K11)","v":""},{"$f":"IF(B11=\"\",\"\",IF(B11=\"Unpaved Haul Road\",4.8,12))","v":""},"",null,"","","","","","","","","","",{"$f":"IF(B11=\"unpaved haul road\",\"x\",\"\")","v":""},{"$f":"IF(AND('Concrete Plant (CP-2)'!$C$10=\"\",'Concrete Plant (CP-2)'!$C$9=\"\"),SUMIFS($X$10:$X$39,$E$10:$E$39,\"CP-2\",$AE$10:$AE$39,\"x\"),MAX(IF($E$10:$E$39=\"CP-2\",IF($AE$10:$AE$39=\"x\",$X$10:$X$39))))","v":0},{"$f":"IF(AND('Concrete Plant (CP-2)'!$C$10=\"\",'Concrete Plant (CP-2)'!$C$9=\"\"),SUMIFS($X$10:$X$39,$E$10:$E$39,\"CP-2\",AE11:AE40,\"\"),MAX(IF($E$10:$E$39=\"CP-2\",IF($AE$10:$AE$39=\"\",$X$10:$X$39))))","v":0},{"$f":"IF(AND('Concrete Plant (CP-2)'!$C$10=\"\",'Concrete Plant (CP-2)'!$C$9=\"\"),SUMIFS($AC$10:$AC$39,$E$10:$E$39,\"CP-2\",$AE$10:$AE$39,\"x\"),MAX(IF($E$10:$E$39=\"CP-2\",IF($AE$10:$AE$39=\"x\",$AC$10:$AC$39))))","v":0},{"$f":"IF(AND('Concrete Plant (CP-2)'!$C$10=\"\",'Concrete Plant (CP-2)'!$C$9=\"\"),SUMIFS($AC$10:$AC$39,$E$10:$E$39,\"CP-2\",$AE$10:$AE$39,\"\"),MAX(IF($E$10:$E$39=\"CP-2\",IF($AE$10:$AE$39=\"\",$AC$10:$AC$39))))","v":0},null,"CP-2",{"$f":"IF(AND('Concrete Plant (CP-2)'!$D$10=\"\",'Concrete Plant (CP-2)'!$D$9=\"\"),SUMIF($E$10:$E$39,\"CP-2\",$X$10:$X$39),MAX(IF($E$10:$E$39=\"CP-2\",$X$10:$X$39)))","v":0},{"$f":"SUMIF($E$10:$E$39,\"CP-2\",$Y$10:$Y$39)","v":0},{"$f":"IF(AND('Concrete Plant (CP-2)'!$D$10=\"\",'Concrete Plant (CP-2)'!$D$9=\"\"),SUMIF($E$10:$E$39,\"CP-2\",$AC$10:$AC$39),MAX(IF($E$10:$E$39=\"CP-2\",$AC$10:$AC$39)))","v":0},{"$f":"SUMIF($E$10:$E440,\"CP-2\",$AD$10:$AD$39)","v":0}]
[null,null,null,null,null,null,null,null,null,"","",null,{"$f":"IF(E12=\"\",\"\",IF(E12=\"CP-1\",IF('Concrete Plant (CP-1)'!$D$9>0,'Concrete Plant (CP-1)'!$D$9*4024/2000,IF('Concrete Plant (CP-1)'!$D$10>0,'Concrete Plant (CP-1)'!$D$10*365*4024/2000,\"\")),IF(E12=\"CP-2\",IF('Concrete Plant (CP-2)'!$D$9>0,'Concrete Plant (CP-2)'!$D$9*4024/2000,IF('Concrete Plant (CP-2)'!$C$10>0,'Concrete Plant (CP-2)'!$C$10*365*4024/2000,\"\")),IF(E12=\"CP-3\",IF('Concrete Plant (CP-3)'!$D$9>0,'Concrete Plant (CP-3)'!$D$9*4024/2000,IF('Concrete Plant (CP-3)'!$D$10>0,'Concrete Plant (CP-3)'!$D$10*365*4024/2000,\"\")),IF(E12=\"CP-4\",IF('Concrete Plant (CP-4)'!$D$9>0,'Concrete Plant (CP-4)'!$D$9*4024/2000,IF('Concrete Plant (CP-4)'!$D$10>0,'Concrete Plant (CP-4)'!$D$10*365*4024/2000,\"\")),IF(E12=\"CP-5\",IF('Concrete Plant (CP-5)'!$D$9>0,'Concrete Plant (CP-5)'!$D$9*4024/2000,IF('Concrete Plant (CP-5)'!$D$10>0,'Concrete Plant (CP-5)'!$D$10*365*4024/2000,\"\")),IF(E12=\"CP-6\",IF('Concrete Plant (CP-6)'!$D$9>0,'Concrete Plant (CP-6)'!$D$9*4024/2000,IF('Concrete Plant (CP-6)'!$D$10>0,'Concrete Plant (CP-6)'!$D$10*365*4024/2000,\"\")),IF(E12=\"CP-7\",IF('Concrete Plant (CP-7)'!$D$9>0,'Concrete Plant (CP-7)'!$D$9*4024/2000,IF('Concrete Plant (CP-7)'!$D$10>0,'Concrete Plant (CP-7)'!$D$10*365*4024/2000,\"\")),IF(E12=\"CP-8\",IF('Concrete Plant (CP-8)'!$D$9>0,'Concrete Plant (CP-8)'!$D$9*4024/2000,IF('Concrete Plant (CP-8)'!$D$10>0,'Concrete Plant (CP-8)'!$D$10*365*4024/2000,\"\")),IF(E12=\"CP-9\",IF('Concrete Plant (CP-9)'!$D$9>0,'Concrete Plant (CP-9)'!$D$9*4024/2000,IF('Concrete Plant (CP-9)'!$D$10>0,'Concrete Plant (CP-9)'!$D$10*365*4024/2000,\"\")),IF(E12=\"CP-10\",IF('Concrete Plant (CP-10)'!$D$9>0,'Concrete Plant (CP-10)'!$D$9*4024/2000,IF('Concrete Plant (CP-10)'!$D$10>0,'Concrete Plant (CP-10)'!$D$10*365*4024/2000,\"\")))))))))))))","v":""},null,null,"","","","",null,"","","","","","","","","","","",{"$f":"IF(AND('Concrete Plant (CP-3)'!$D$10=\"\",'Concrete Plant (CP-3)'!$D$9=\"\"),SUMIFS($X$10:$X$39,$E$10:$E$39,\"CP-3\",$AE$10:$AE$39,\"x\"),MAX(IF($E$10:$E$39=\"CP-3\",IF($AE$10:$AE$39=\"x\",$X$10:$X$39))))","v":0},{"$f":"IF(AND('Concrete Plant (CP-3)'!$D$10=\"\",'Concrete Plant (CP-3)'!$D$9=\"\"),SUMIFS($X$10:$X$39,$E$10:$E$39,\"CP-3\",AE12:AE41,\"\"),MAX(IF($E$10:$E$39=\"CP-3\",IF($AE$10:$AE$39=\"\",$X$10:$X$39))))","v":0},{"$f":"IF(AND('Concrete Plant (CP-3)'!$D$10=\"\",'Concrete Plant (CP-3)'!$D$9=\"\"),SUMIFS($AC$10:$AC$39,$E$10:$E$39,\"CP-3\",$AE$10:$AE$39,\"x\"),MAX(IF($E$10:$E$39=\"CP-3\",IF($AE$10:$AE$39=\"x\",$AC$10:$AC$39))))","v":0},{"$f":"IF(AND('Concrete Plant (CP-3)'!$D$10=\"\",'Concrete Plant (CP-3)'!$D$9=\"\"),SUMIFS($AC$10:$AC$39,$E$10:$E$39,\"CP-3\",$AE$10:$AE$39,\"\"),MAX(IF($E$10:$E$39=\"CP-3\",IF($AE$10:$AE$39=\"\",$AC$10:$AC$39))))","v":0},null,"CP-3",{"$f":"IF(AND('Concrete Plant (CP-3)'!$D$10=\"\",'Concrete Plant (CP-3)'!$D$9=\"\"),SUMIF($E$10:$E$39,\"CP-3\",$X$10:$X$39),MAX(IF($E$10:$E$39=\"CP-3\",$X$10:$X$39)))","v":0},{"$f":"SUMIF($E$10:$E$39,\"CP-3\",$Y$10:$Y$39)","v":0},{"$f":"IF(AND('Concrete Plant (CP-3)'!$D$10=\"\",'Concrete Plant (CP-3)'!$D$9=\"\"),SUMIF($E$10:$E$39,\"CP-3\",$AC$10:$AC$39),MAX(IF($E$10:$E$39=\"CP-3\",$AC$10:$AC$39)))","v":0},{"$f":"SUMIF($E$10:$E441,\"CP-3\",$AD$10:$AD$39)","v":0}]
["yes",null,null,null,null,null,null,null,null,"","",null,{"$f":"IF(E13=\"\",\"\",IF(E13=\"CP-1\",IF('Concrete Plant (CP-1)'!$D$9>0,'Concrete Plant (CP-1)'!$D$9*4024/2000,IF('Concrete Plant (CP-1)'!$D$10>0,'Concrete Plant (CP-1)'!$D$10*365*4024/2000,\"\")),IF(E13=\"CP-2\",IF('Concrete Plant (CP-2)'!$D$9>0,'Concrete Plant (CP-2)'!$D$9*4024/2000,IF('Concrete Plant (CP-2)'!$C$10>0,'Concrete Plant (CP-2)'!$C$10*365*4024/2000,\"\")),IF(E13=\"CP-3\",IF('Concrete Plant (CP-3)'!$D$9>0,'Concrete Plant (CP-3)'!$D$9*4024/2000,IF('Concrete Plant (CP-3)'!$D$10>0,'Concrete Plant (CP-3)'!$D$10*365*4024/2000,\"\")),IF(E13=\"CP-4\",IF('Concrete Plant (CP-4)'!$D$9>0,'Concrete Plant (CP-4)'!$D$9*4024/2000,IF('Concrete Plant (CP-4)'!$D$10>0,'Concrete Plant (CP-4)'!$D$10*365*4024/2000,\"\")),IF(E13=\"CP-5\",IF('Concrete Plant (CP-5)'!$D$9>0,'Concrete Plant (CP-5)'!$D$9*4024/2000,IF('Concrete Plant (CP-5)'!$D$10>0,'Concrete Plant (CP-5)'!$D$10*365*4024/2000,\"\")),IF(E13=\"CP-6\",IF('Concrete Plant (CP-6)'!$D$9>0,'Concrete Plant (CP-6)'!$D$9*4024/2000,IF('Concrete Plant (CP-6)'!$D$10>0,'Concrete Plant (CP-6)'!$D$10*365*4024/2000,\"\")),IF(E13=\"CP-7\",IF('Concrete Plant (CP-7)'!$D$9>0,'Concrete Plant (CP-7)'!$D$9*4024/2000,IF('Concrete Plant (CP-7)'!$D$10>0,'Concrete Plant (CP-7)'!$D$10*365*4024/2000,\"\")),IF(E13=\"CP-8\",IF('Concrete Plant (CP-8)'!$D$9>0,'Concrete Plant (CP-8)'!$D$9*4024/2000,IF('Concrete Plant (CP-8)'!$D$10>0,'Concrete Plant (CP-8)'!$D$10*365*4024/2000,\"\")),IF(E13=\"CP-9\",IF('Concrete Plant (CP-9)'!$D$9>0,'Concrete Plant (CP-9)'!$D$9*4024/2000,IF('Concrete Plant (CP-9)'!$D$10>0,'Concrete Plant (CP-9)'!$D$10*365*4024/2000,\"\")),IF(E13=\"CP-10\",IF('Concrete Plant (CP-10)'!$D$9>0,'Concrete Plant (CP-10)'!$D$9*4024/2000,IF('Concrete Plant (CP-10)'!$D$10>0,'Concrete Plant (CP-10)'!$D$10*365*4024/2000,\"\")))))))))))))","v":""},null,null,"","","","",null,"","","","","","","","","","","",{"$f":"IF(AND('Concrete Plant (CP-4)'!$D$10=\"\",'Concrete Plant (CP-4)'!$D$9=\"\"),SUMIFS($X$10:$X$39,$E$10:$E$39,\"CP-4\",$AE$10:$AE$39,\"x\"),MAX(IF($E$10:$E$39=\"CP-4\",IF($AE$10:$AE$39=\"x\",$X$10:$X$39))))","v":0},{"$f":"IF(AND('Concrete Plant (CP-4)'!$D$10=\"\",'Concrete Plant (CP-4)'!$D$9=\"\"),SUMIFS($X$10:$X$39,$E$10:$E$39,\"CP-4\",AE13:AE42,\"\"),MAX(IF($E$10:$E$39=\"CP-4\",IF($AE$10:$AE$39=\"\",$X$10:$X$39))))","v":0},{"$f":"IF(AND('Concrete Plant (CP-4)'!$D$10=\"\",'Concrete Plant (CP-4)'!$D$9=\"\"),SUMIFS($AC$10:$AC$39,$E$10:$E$39,\"CP-4\",$AE$10:$AE$39,\"x\"),MAX(IF($E$10:$E$39=\"CP-4\",IF($AE$10:$AE$39=\"x\",$AC$10:$AC$39))))","v":0},{"$f":"IF(AND('Concrete Plant (CP-4)'!$D$10=\"\",'Concrete Plant (CP-4)'!$D$9=\"\"),SUMIFS($AC$10:$AC$39,$E$10:$E$39,\"CP-4\",$AE$10:$AE$39,\"\"),MAX(IF($E$10:$E$39=\"CP-4\",IF($AE$10:$AE$39=\"\",$AC$10:$AC$39))))","v":0},null,"CP-4",{"$f":"IF(AND('Concrete Plant (CP-4)'!$D$10=\"\",'Concrete Plant (CP-4)'!$D$9=\"\"),SUMIF($E$10:$E$39,\"CP-4\",$X$10:$X$39),MAX(IF($E$10:$E$39=\"CP-4\",$X$10:$X$39)))","v":0},{"$f":"SUMIF($E$10:$E$39,\"CP-4\",$Y$10:$Y$39)","v":0},{"$f":"IF(AND('Concrete Plant (CP-4)'!$D$10=\"\",'Concrete Plant (CP-4)'!$D$9=\"\"),SUMIF($E$10:$E$39,\"CP-4\",$AC$10:$AC$39),MAX(IF($E$10:$E$39=\"CP-4\",$AC$10:$AC$39)))","v":0},{"$f":"SUMIF($E$10:$E442,\"CP-4\",$AD$10:$AD$39)","v":0}]
["no",null,null,null,null,null,null,null,null,"","",null,{"$f":"IF(E14=\"\",\"\",IF(E14=\"CP-1\",IF('Concrete Plant (CP-1)'!$D$9>0,'Concrete Plant (CP-1)'!$D$9*4024/2000,IF('Concrete Plant (CP-1)'!$D$10>0,'Concrete Plant (CP-1)'!$D$10*365*4024/2000,\"\")),IF(E14=\"CP-2\",IF('Concrete Plant (CP-2)'!$D$9>0,'Concrete Plant (CP-2)'!$D$9*4024/2000,IF('Concrete Plant (CP-2)'!$C$10>0,'Concrete Plant (CP-2)'!$C$10*365*4024/2000,\"\")),IF(E14=\"CP-3\",IF('Concrete Plant (CP-3)'!$D$9>0,'Concrete Plant (CP-3)'!$D$9*4024/2000,IF('Concrete Plant (CP-3)'!$D$10>0,'Concrete Plant (CP-3)'!$D$10*365*4024/2000,\"\")),IF(E14=\"CP-4\",IF('Concrete Plant (CP-4)'!$D$9>0,'Concrete Plant (CP-4)'!$D$9*4024/2000,IF('Concrete Plant (CP-4)'!$D$10>0,'Concrete Plant (CP-4)'!$D$10*365*4024/2000,\"\")),IF(E14=\"CP-5\",IF('Concrete Plant (CP-5)'!$D$9>0,'Concrete Plant (CP-5)'!$D$9*4024/2000,IF('Concrete Plant (CP-5)'!$D$10>0,'Concrete Plant (CP-5)'!$D$10*365*4024/2000,\"\")),IF(E14=\"CP-6\",IF('Concrete Plant (CP-6)'!$D$9>0,'Concrete Plant (CP-6)'!$D$9*4024/2000,IF('Concrete Plant (CP-6)'!$D$10>0,'Concrete Plant (CP-6)'!$D$10*365*4024/2000,\"\")),IF(E14=\"CP-7\",IF('Concrete Plant (CP-7)'!$D$9>0,'Concrete Plant (CP-7)'!$D$9*4024/2000,IF('Concrete Plant (CP-7)'!$D$10>0,'Concrete Plant (CP-7)'!$D$10*365*4024/2000,\"\")),IF(E14=\"CP-8\",IF('Concrete Plant (CP-8)'!$D$9>0,'Concrete Plant (CP-8)'!$D$9*4024/2000,IF('Concrete Plant (CP-8)'!$D$10>0,'Concrete Plant (CP-8)'!$D$10*365*4024/2000,\"\")),IF(E14=\"CP-9\",IF('Concrete Plant (CP-9)'!$D$9>0,'Concrete Plant (CP-9)'!$D$9*4024/2000,IF('Concrete Plant (CP-9)'!$D$10>0,'Concrete Plant (CP-9)'!$D$10*365*4024/2000,\"\")),IF(E14=\"CP-10\",IF('Concrete Plant (CP-10)'!$D$9>0,'Concrete Plant (CP-10)'!$D$9*4024/2000,IF('Concrete Plant (CP-10)'!$D$10>0,'Concrete Plant (CP-10)'!$D$10*365*4024/2000,\"\")))))))))))))","v":""},null,null,"","","","",null,"","","","","","","","","","","",{"$f":"IF(AND('Concrete Plant (CP-5)'!$D$10=\"\",'Concrete Plant (CP-5)'!$D$9=\"\"),SUMIFS($X$10:$X$39,$E$10:$E$39,\"CP-5\",$AE$10:$AE$39,\"x\"),MAX(IF($E$10:$E$39=\"CP-5\",IF($AE$10:$AE$39=\"x\",$X$10:$X$39))))","v":0},{"$f":"IF(AND('Concrete Plant (CP-5)'!$D$10=\"\",'Concrete Plant (CP-5)'!$D$9=\"\"),SUMIFS($X$10:$X$39,$E$10:$E$39,\"CP-5\",AE14:AE43,\"\"),MAX(IF($E$10:$E$39=\"CP-5\",IF($AE$10:$AE$39=\"\",$X$10:$X$39))))","v":0},{"$f":"IF(AND('Concrete Plant (CP-5)'!$D$10=\"\",'Concrete Plant (CP-5)'!$D$9=\"\"),SUMIFS($AC$10:$AC$39,$E$10:$E$39,\"CP-5\",$AE$10:$AE$39,\"x\"),MAX(IF($E$10:$E$39=\"CP-5\",IF($AE$10:$AE$39=\"x\",$AC$10:$AC$39))))","v":0},{"$f":"IF(AND('Concrete Plant (CP-5)'!$D$10=\"\",'Concrete Plant (CP-5)'!$D$9=\"\"),SUMIFS($AC$10:$AC$39,$E$10:$E$39,\"CP-5\",$AE$10:$AE$39,\"\"),MAX(IF($E$10:$E$39=\"CP-5\",IF($AE$10:$AE$39=\"\",$AC$10:$AC$39))))","v":0},null,"CP-5",{"$f":"IF(AND('Concrete Plant (CP-5)'!$D$10=\"\",'Concrete Plant (CP-5)'!$D$9=\"\"),SUMIF($E$10:$E$39,\"CP-5\",$X$10:$X$39),MAX(IF($E$10:$E$39=\"CP-5\",$X$10:$X$39)))","v":0},{"$f":"SUMIF($E$10:$E$39,\"CP-5\",$Y$10:$Y$39)","v":0},{"$f":"IF(AND('Concrete Plant (CP-5)'!$D$10=\"\",'Concrete Plant (CP-5)'!$D$9=\"\"),SUMIF($E$10:$E$39,\"CP-5\",$AC$10:$AC$39),MAX(IF($E$10:$E$39=\"CP-5\",$AC$10:$AC$39)))","v":0},{"$f":"SUMIF($E$10:$E443,\"CP-5\",$AD$10:$AD$39)","v":0}]
[null,null,null,null,null,null,null,null,null,"","",null,{"$f":"IF(E15=\"\",\"\",IF(E15=\"CP-1\",IF('Concrete Plant (CP-1)'!$D$9>0,'Concrete Plant (CP-1)'!$D$9*4024/2000,IF('Concrete Plant (CP-1)'!$D$10>0,'Concrete Plant (CP-1)'!$D$10*365*4024/2000,\"\")),IF(E15=\"CP-2\",IF('Concrete Plant (CP-2)'!$D$9>0,'Concrete Plant (CP-2)'!$D$9*4024/2000,IF('Concrete Plant (CP-2)'!$C$10>0,'Concrete Plant (CP-2)'!$C$10*365*4024/2000,\"\")),IF(E15=\"CP-3\",IF('Concrete Plant (CP-3)'!$D$9>0,'Concrete Plant (CP-3)'!$D$9*4024/2000,IF('Concrete Plant (CP-3)'!$D$10>0,'Concrete Plant (CP-3)'!$D$10*365*4024/2000,\"\")),IF(E15=\"CP-4\",IF('Concrete Plant (CP-4)'!$D$9>0,'Concrete Plant (CP-4)'!$D$9*4024/2000,IF('Concrete Plant (CP-4)'!$D$10>0,'Concrete Plant (CP-4)'!$D$10*365*4024/2000,\"\")),IF(E15=\"CP-5\",IF('Concrete Plant (CP-5)'!$D$9>0,'Concrete Plant (CP-5)'!$D$9*4024/2000,IF('Concrete Plant (CP-5)'!$D$10>0,'Concrete Plant (CP-5)'!$D$10*365*4024/2000,\"\")),IF(E15=\"CP-6\",IF('Concrete Plant (CP-6)'!$D$9>0,'Concrete Plant (CP-6)'!$D$9*4024/2000,IF('Concrete Plant (CP-6)'!$D$10>0,'Concrete Plant (CP-6)'!$D$10*365*4024/2000,\"\")),IF(E15=\"CP-7\",IF('Concrete Plant (CP-7)'!$D$9>0,'Concrete Plant (CP-7)'!$D$9*4024/2000,IF('Concrete Plant (CP-7)'!$D$10>0,'Concrete Plant (CP-7)'!$D$10*365*4024/2000,\"\")),IF(E15=\"CP-8\",IF('Concrete Plant (CP-8)'!$D$9>0,'Concrete Plant (CP-8)'!$D$9*4024/2000,IF('Concrete Plant (CP-8)'!$D$10>0,'Concrete Plant (CP-8)'!$D$10*365*4024/2000,\"\")),IF(E15=\"CP-9\",IF('Concrete Plant (CP-9)'!$D$9>0,'Concrete Plant (CP-9)'!$D$9*4024/2000,IF('Concrete Plant (CP-9)'!$D$10>0,'Concrete Plant (CP-9)'!$D$10*365*4024/2000,\"\")),IF(E15=\"CP-10\",IF('Concrete Plant (CP-10)'!$D$9>0,'Concrete Plant (CP-10)'!$D$9*4024/2000,IF('Concrete Plant (CP-10)'!$D$10>0,'Concrete Plant (CP-10)'!$D$10*365*4024/2000,\"\")))))))))))))","v":""},null,null,"","","","",null,"","","","","","","","","","","",{"$f":"IF(AND('Concrete Plant (CP-6)'!$D$10=\"\",'Concrete Plant (CP-6)'!$D$9=\"\"),SUMIFS($X$10:$X$39,$E$10:$E$39,\"CP-6\",$AE$10:$AE$39,\"x\"),MAX(IF($E$10:$E$39=\"CP-6\",IF($AE$10:$AE$39=\"x\",$X$10:$X$39))))","v":0},{"$f":"IF(AND('Concrete Plant (CP-6)'!$D$10=\"\",'Concrete Plant (CP-6)'!$D$9=\"\"),SUMIFS($X$10:$X$39,$E$10:$E$39,\"CP-6\",AE15:AE44,\"\"),MAX(IF($E$10:$E$39=\"CP-6\",IF($AE$10:$AE$39=\"\",$X$10:$X$39))))","v":0},{"$f":"IF(AND('Concrete Plant (CP-6)'!$D$10=\"\",'Concrete Plant (CP-6)'!$D$9=\"\"),SUMIFS($AC$10:$AC$39,$E$10:$E$39,\"CP-6\",$AE$10:$AE$39,\"x\"),MAX(IF($E$10:$E$39=\"CP-6\",IF($AE$10:$AE$39=\"x\",$AC$10:$AC$39))))","v":0},{"$f":"IF(AND('Concrete Plant (CP-6)'!$D$10=\"\",'Concrete Plant (CP-6)'!$D$9=\"\"),SUMIFS($AC$10:$AC$39,$E$10:$E$39,\"CP-6\",$AE$10:$AE$39,\"\"),MAX(IF($E$10:$E$39=\"CP-6\",IF($AE$10:$AE$39=\"\",$AC$10:$AC$39))))","v":0},null,"CP-6",{"$f":"IF(AND('Concrete Plant (CP-6)'!$D$10=\"\",'Concrete Plant (CP-6)'!$D$9=\"\"),SUMIF($E$10:$E$39,\"CP-6\",$X$10:$X$39),MAX(IF($E$10:$E$39=\"CP-6\",$X$10:$X$39)))","v":0},{"$f":"SUMIF($E$10:$E$39,\"CP-6\",$Y$10:$Y$39)","v":0},{"$f":"IF(AND('Concrete Plant (CP-6)'!$D$10=\"\",'Concrete Plant (CP-6)'!$D$9=\"\"),SUMIF($E$10:$E$39,\"CP-6\",$AC$10:$AC$39),MAX(IF($E$10:$E$39=\"CP-6\",$AC$10:$AC$39)))","v":0},{"$f":"SUMIF($E$10:$E444,\"CP-6\",$AD$10:$AD$39)","v":0}]
[{"$f":"IF('Facility Information'!$C$21>0,\"CP-1\",\"\")","v":""},null,null,null,null,null,null,null,null,"","",null,{"$f":"IF(E16=\"\",\"\",IF(E16=\"CP-1\",IF('Concrete Plant (CP-1)'!$D$9>0,'Concrete Plant (CP-1)'!$D$9*4024/2000,IF('Concrete Plant (CP-1)'!$D$10>0,'Concrete Plant (CP-1)'!$D$10*365*4024/2000,\"\")),IF(E16=\"CP-2\",IF('Concrete Plant (CP-2)'!$D$9>0,'Concrete Plant (CP-2)'!$D$9*4024/2000,IF('Concrete Plant (CP-2)'!$C$10>0,'Concrete Plant (CP-2)'!$C$10*365*4024/2000,\"\")),IF(E16=\"CP-3\",IF('Concrete Plant (CP-3)'!$D$9>0,'Concrete Plant (CP-3)'!$D$9*4024/2000,IF('Concrete Plant (CP-3)'!$D$10>0,'Concrete Plant (CP-3)'!$D$10*365*4024/2000,\"\")),IF(E16=\"CP-4\",IF('Concrete Plant (CP-4)'!$D$9>0,'Concrete Plant (CP-4)'!$D$9*4024/2000,IF('Concrete Plant (CP-4)'!$D$10>0,'Concrete Plant (CP-4)'!$D$10*365*4024/2000,\"\")),IF(E16=\"CP-5\",IF('Concrete Plant (CP-5)'!$D$9>0,'Concrete Plant (CP-5)'!$D$9*4024/2000,IF('Concrete Plant (CP-5)'!$D$10>0,'Concrete Plant (CP-5)'!$D$10*365*4024/2000,\"\")),IF(E16=\"CP-6\",IF('Concrete Plant (CP-6)'!$D$9>0,'Concrete Plant (CP-6)'!$D$9*4024/2000,IF('Concrete Plant (CP-6)'!$D$10>0,'Concrete Plant (CP-6)'!$D$10*365*4024/2000,\"\")),IF(E16=\"CP-7\",IF('Concrete Plant (CP-7)'!$D$9>0,'Concrete Plant (CP-7)'!$D$9*4024/2000,IF('Concrete Plant (CP-7)'!$D$10>0,'Concrete Plant (CP-7)'!$D$10*365*4024/2000,\"\")),IF(E16=\"CP-8\",IF('Concrete Plant (CP-8)'!$D$9>0,'Concrete Plant (CP-8)'!$D$9*4024/2000,IF('Concrete Plant (CP-8)'!$D$10>0,'Concrete Plant (CP-8)'!$D$10*365*4024/2000,\"\")),IF(E16=\"CP-9\",IF('Concrete Plant (CP-9)'!$D$9>0,'Concrete Plant (CP-9)'!$D$9*4024/2000,IF('Concrete Plant (CP-9)'!$D$10>0,'Concrete Plant (CP-9)'!$D$10*365*4024/2000,\"\")),IF(E16=\"CP-10\",IF('Concrete Plant (CP-10)'!$D$9>0,'Concrete Plant (CP-10)'!$D$9*4024/2000,IF('Concrete Plant (CP-10)'!$D$10>0,'Concrete Plant (CP-10)'!$D$10*365*4024/2000,\"\")))))))))))))","v":""},null,null,"","","","",null,"","","","","","","","","","","",{"$f":"IF(AND('Concrete Plant (CP-7)'!$D$10=\"\",'Concrete Plant (CP-7)'!$D$9=\"\"),SUMIFS($X$10:$X$39,$E$10:$E$39,\"CP-7\",$AE$10:$AE$39,\"x\"),MAX(IF($E$10:$E$39=\"CP-7\",IF($AE$10:$AE$39=\"x\",$X$10:$X$39))))","v":0},{"$f":"IF(AND('Concrete Plant (CP-7)'!$D$10=\"\",'Concrete Plant (CP-7)'!$D$9=\"\"),SUMIFS($X$10:$X$39,$E$10:$E$39,\"CP-7\",AE16:AE45,\"\"),MAX(IF($E$10:$E$39=\"CP-7\",IF($AE$10:$AE$39=\"\",$X$10:$X$39))))","v":0},{"$f":"IF(AND('Concrete Plant (CP-7)'!$D$10=\"\",'Concrete Plant (CP-7)'!$D$9=\"\"),SUMIFS($AC$10:$AC$39,$E$10:$E$39,\"CP-7\",$AE$10:$AE$39,\"x\"),MAX(IF($E$10:$E$39=\"CP-7\",IF($AE$10:$AE$39=\"x\",$AC$10:$AC$39))))","v":0},{"$f":"IF(AND('Concrete Plant (CP-7)'!$D$10=\"\",'Concrete Plant (CP-7)'!$D$9=\"\"),SUMIFS($AC$10:$AC$39,$E$10:$E$39,\"CP-7\",$AE$10:$AE$39,\"\"),MAX(IF($E$10:$E$39=\"CP-7\",IF($AE$10:$AE$39=\"\",$AC$10:$AC$39))))","v":0},null,"CP-7",{"$f":"IF(AND('Concrete Plant (CP-7)'!$D$10=\"\",'Concrete Plant (CP-7)'!$D$9=\"\"),SUMIF($E$10:$E$39,\"CP-7\",$X$10:$X$39),MAX(IF($E$10:$E$39=\"CP-7\",$X$10:$X$39)))","v":0},{"$f":"SUMIF($E$10:$E$39,\"CP-7\",$Y$10:$Y$39)","v":0},{"$f":"IF(AND('Concrete Plant (CP-7)'!$D$10=\"\",'Concrete Plant (CP-7)'!$D$9=\"\"),SUMIF($E$10:$E$39,\"CP-7\",$AC$10:$AC$39),MAX(IF($E$10:$E$39=\"CP-7\",$AC$10:$AC$39)))","v":0},{"$f":"SUMIF($E$10:$E445,\"CP-7\",$AD$10:$AD$39)","v":0}]
[{"$f":"IF('Facility Information'!$C$21>1,\"CP-2\",\"\")","v":""},null,null,null,null,null,null,null,null,"","",null,{"$f":"IF(E17=\"\",\"\",IF(E17=\"CP-1\",IF('Concrete Plant (CP-1)'!$D$9>0,'Concrete Plant (CP-1)'!$D$9*4024/2000,IF('Concrete Plant (CP-1)'!$D$10>0,'Concrete Plant (CP-1)'!$D$10*365*4024/2000,\"\")),IF(E17=\"CP-2\",IF('Concrete Plant (CP-2)'!$D$9>0,'Concrete Plant (CP-2)'!$D$9*4024/2000,IF('Concrete Plant (CP-2)'!$C$10>0,'Concrete Plant (CP-2)'!$C$10*365*4024/2000,\"\")),IF(E17=\"CP-3\",IF('Concrete Plant (CP-3)'!$D$9>0,'Concrete Plant (CP-3)'!$D$9*4024/2000,IF('Concrete Plant (CP-3)'!$D$10>0,'Concrete Plant (CP-3)'!$D$10*365*4024/2000,\"\")),IF(E17=\"CP-4\",IF('Concrete Plant (CP-4)'!$D$9>0,'Concrete Plant (CP-4)'!$D$9*4024/2000,IF('Concrete Plant (CP-4)'!$D$10>0,'Concrete Plant (CP-4)'!$D$10*365*4024/2000,\"\")),IF(E17=\"CP-5\",IF('Concrete Plant (CP-5)'!$D$9>0,'Concrete Plant (CP-5)'!$D$9*4024/2000,IF('Concrete Plant (CP-5)'!$D$10>0,'Concrete Plant (CP-5)'!$D$10*365*4024/2000,\"\")),IF(E17=\"CP-6\",IF('Concrete Plant (CP-6)'!$D$9>0,'Concrete Plant (CP-6)'!$D$9*4024/2000,IF('Concrete Plant (CP-6)'!$D$10>0,'Concrete Plant (CP-6)'!$D$10*365*4024/2000,\"\")),IF(E17=\"CP-7\",IF('Concrete Plant (CP-7)'!$D$9>0,'Concrete Plant (CP-7)'!$D$9*4024/2000,IF('Concrete Plant (CP-7)'!$D$10>0,'Concrete Plant (CP-7)'!$D$10*365*4024/2000,\"\")),IF(E17=\"CP-8\",IF('Concrete Plant (CP-8)'!$D$9>0,'Concrete Plant (CP-8)'!$D$9*4024/2000,IF('Concrete Plant (CP-8)'!$D$10>0,'Concrete Plant (CP-8)'!$D$10*365*4024/2000,\"\")),IF(E17=\"CP-9\",IF('Concrete Plant (CP-9)'!$D$9>0,'Concrete Plant (CP-9)'!$D$9*4024/2000,IF('Concrete Plant (CP-9)'!$D$10>0,'Concrete Plant (CP-9)'!$D$10*365*4024/2000,\"\")),IF(E17=\"CP-10\",IF('Concrete Plant (CP-10)'!$D$9>0,'Concrete Plant (CP-10)'!$D$9*4024/2000,IF('Concrete Plant (CP-10)'!$D$10>0,'Concrete Plant (CP-10)'!$D$10*365*4024/2000,\"\")))))))))))))","v":""},null,null,"","","","",null,"","","","","","","","","","","",{"$f":"IF(AND('Concrete Plant (CP-8)'!$D$10=\"\",'Concrete Plant (CP-8)'!$D$9=\"\"),SUMIFS($X$10:$X$39,$E$10:$E$39,\"CP-8\",$AE$10:$AE$39,\"x\"),MAX(IF($E$10:$E$39=\"CP-8\",IF($AE$10:$AE$39=\"x\",$X$10:$X$39))))","v":0},{"$f":"IF(AND('Concrete Plant (CP-8)'!$D$10=\"\",'Concrete Plant (CP-8)'!$D$9=\"\"),SUMIFS($X$10:$X$39,$E$10:$E$39,\"CP-8\",AE17:AE46,\"\"),MAX(IF($E$10:$E$39=\"CP-8\",IF($AE$10:$AE$39=\"\",$X$10:$X$39))))","v":0},{"$f":"IF(AND('Concrete Plant (CP-8)'!$D$10=\"\",'Concrete Plant (CP-8)'!$D$9=\"\"),SUMIFS($AC$10:$AC$39,$E$10:$E$39,\"CP-8\",$AE$10:$AE$39,\"x\"),MAX(IF($E$10:$E$39=\"CP-8\",IF($AE$10:$AE$39=\"x\",$AC$10:$AC$39))))","v":0},{"$f":"IF(AND('Concrete Plant (CP-8)'!$D$10=\"\",'Concrete Plant (CP-8)'!$D$9=\"\"),SUMIFS($AC$10:$AC$39,$E$10:$E$39,\"CP-8\",$AE$10:$AE$39,\"\"),MAX(IF($E$10:$E$39=\"CP-8\",IF($AE$10:$AE$39=\"\",$AC$10:$AC$39))))","v":0},null,"CP-8",{"$f":"IF(AND('Concrete Plant (CP-8)'!$D$10=\"\",'Concrete Plant (CP-8)'!$D$9=\"\"),SUMIF($E$10:$E$39,\"CP-8\",$X$10:$X$39),MAX(IF($E$10:$E$39=\"CP-8\",$X$10:$X$39)))","v":0},{"$f":"SUMIF($E$10:$E$39,\"CP-8\",$Y$10:$Y$39)","v":0},{"$f":"IF(AND('Concrete Plant (CP-8)'!$D$10=\"\",'Concrete Plant (CP-8)'!$D$9=\"\"),SUMIF($E$10:$E$39,\"CP-8\",$AC$10:$AC$39),MAX(IF($E$10:$E$39=\"CP-8\",$AC$10:$AC$39)))","v":0},{"$f":"SUMIF($E$10:$E446,\"CP-8\",$AD$10:$AD$39)","v":0}]
[{"$f":"IF('Facility Information'!$C$21>2,\"CP-3\",\"\")","v":""},null,null,null,null,null,null,null,null,"","",null,{"$f":"IF(E18=\"\",\"\",IF(E18=\"CP-1\",IF('Concrete Plant (CP-1)'!$D$9>0,'Concrete Plant (CP-1)'!$D$9*4024/2000,IF('Concrete Plant (CP-1)'!$D$10>0,'Concrete Plant (CP-1)'!$D$10*365*4024/2000,\"\")),IF(E18=\"CP-2\",IF('Concrete Plant (CP-2)'!$D$9>0,'Concrete Plant (CP-2)'!$D$9*4024/2000,IF('Concrete Plant (CP-2)'!$C$10>0,'Concrete Plant (CP-2)'!$C$10*365*4024/2000,\"\")),IF(E18=\"CP-3\",IF('Concrete Plant (CP-3)'!$D$9>0,'Concrete Plant (CP-3)'!$D$9*4024/2000,IF('Concrete Plant (CP-3)'!$D$10>0,'Concrete Plant (CP-3)'!$D$10*365*4024/2000,\"\")),IF(E18=\"CP-4\",IF('Concrete Plant (CP-4)'!$D$9>0,'Concrete Plant (CP-4)'!$D$9*4024/2000,IF('Concrete Plant (CP-4)'!$D$10>0,'Concrete Plant (CP-4)'!$D$10*365*4024/2000,\"\")),IF(E18=\"CP-5\",IF('Concrete Plant (CP-5)'!$D$9>0,'Concrete Plant (CP-5)'!$D$9*4024/2000,IF('Concrete Plant (CP-5)'!$D$10>0,'Concrete Plant (CP-5)'!$D$10*365*4024/2000,\"\")),IF(E18=\"CP-6\",IF('Concrete Plant (CP-6)'!$D$9>0,'Concrete Plant (CP-6)'!$D$9*4024/2000,IF('Concrete Plant (CP-6)'!$D$10>0,'Concrete Plant (CP-6)'!$D$10*365*4024/2000,\"\")),IF(E18=\"CP-7\",IF('Concrete Plant (CP-7)'!$D$9>0,'Concrete Plant (CP-7)'!$D$9*4024/2000,IF('Concrete Plant (CP-7)'!$D$10>0,'Concrete Plant (CP-7)'!$D$10*365*4024/2000,\"\")),IF(E18=\"CP-8\",IF('Concrete Plant (CP-8)'!$D$9>0,'Concrete Plant (CP-8)'!$D$9*4024/2000,IF('Concrete Plant (CP-8)'!$D$10>0,'Concrete Plant (CP-8)'!$D$10*365*4024/2000,\"\")),IF(E18=\"CP-9\",IF('Concrete Plant (CP-9)'!$D$9>0,'Concrete Plant (CP-9)'!$D$9*4024/2000,IF('Concrete Plant (CP-9)'!$D$10>0,'Concrete Plant (CP-9)'!$D$10*365*4024/2000,\"\")),IF(E18=\"CP-10\",IF('Concrete Plant (CP-10)'!$D$9>0,'Concrete Plant (CP-10)'!$D$9*4024/2000,IF('Concrete Plant (CP-10)'!$D$10>0,'Concrete Plant (CP-10)'!$D$10*365*4024/2000,\"\")))))))))))))","v":""},null,null,"","","","",null,"","","","","","","","","","","",{"$f":"IF(AND('Concrete Plant (CP-9)'!$D$10=\"\",'Concrete Plant (CP-9)'!$D$9=\"\"),SUMIFS($X$10:$X$39,$E$10:$E$39,\"CP-9\",$AE$10:$AE$39,\"x\"),MAX(IF($E$10:$E$39=\"CP-9\",IF($AE$10:$AE$39=\"x\",$X$10:$X$39))))","v":0},{"$f":"IF(AND('Concrete Plant (CP-9)'!$D$10=\"\",'Concrete Plant (CP-9)'!$D$9=\"\"),SUMIFS($X$10:$X$39,$E$10:$E$39,\"CP-9\",AE18:AE47,\"\"),MAX(IF($E$10:$E$39=\"CP-9\",IF($AE$10:$AE$39=\"\",$X$10:$X$39))))","v":0},{"$f":"IF(AND('Concrete Plant (CP-9)'!$D$10=\"\",'Concrete Plant (CP-9)'!$D$9=\"\"),SUMIFS($AC$10:$AC$39,$E$10:$E$39,\"CP-9\",$AE$10:$AE$39,\"x\"),MAX(IF($E$10:$E$39=\"CP-9\",IF($AE$10:$AE$39=\"x\",$AC$10:$AC$39))))","v":0},{"$f":"IF(AND('Concrete Plant (CP-9)'!$D$10=\"\",'Concrete Plant (CP-9)'!$D$9=\"\"),SUMIFS($AC$10:$AC$39,$E$10:$E$39,\"CP-9\",$AE$10:$AE$39,\"\"),MAX(IF($E$10:$E$39=\"CP-9\",IF($AE$10:$AE$39=\"\",$AC$10:$AC$39))))","v":0},null,"CP-9",{"$f":"IF(AND('Concrete Plant (CP-9)'!$D$10=\"\",'Concrete Plant (CP-9)'!$D$9=\"\"),SUMIF($E$10:$E$39,\"CP-9\",$X$10:$X$39),MAX(IF($E$10:$E$39=\"CP-9\",$X$10:$X$39)))","v":0},{"$f":"SUMIF($E$10:$E$39,\"CP-9\",$Y$10:$Y$39)","v":0},{"$f":"IF(AND('Concrete Plant (CP-9)'!$D$10=\"\",'Concrete Plant (CP-9)'!$D$9=\"\"),SUMIF($E$10:$E$39,\"CP-9\",$AC$10:$AC$39),MAX(IF($E$10:$E$39=\"CP-9\",$AC$10:$AC$39)))","v":0},{"$f":"SUMIF($E$10:$E447,\"CP-9\",$AD$10:$AD$39)","v":0}]
[{"$f":"IF('Facility Information'!$C$21>3,\"CP-4\",\"\")","v":""},null,null,null,null,null,null,null,null,"","",null,{"$f":"IF(E19=\"\",\"\",IF(E19=\"CP-1\",IF('Concrete Plant (CP-1)'!$D$9>0,'Concrete Plant (CP-1)'!$D$9*4024/2000,IF('Concrete Plant (CP-1)'!$D$10>0,'Concrete Plant (CP-1)'!$D$10*365*4024/2000,\"\")),IF(E19=\"CP-2\",IF('Concrete Plant (CP-2)'!$D$9>0,'Concrete Plant (CP-2)'!$D$9*4024/2000,IF('Concrete Plant (CP-2)'!$C$10>0,'Concrete Plant (CP-2)'!$C$10*365*4024/2000,\"\")),IF(E19=\"CP-3\",IF('Concrete Plant (CP-3)'!$D$9>0,'Concrete Plant (CP-3)'!$D$9*4024/2000,IF('Concrete Plant (CP-3)'!$D$10>0,'Concrete Plant (CP-3)'!$D$10*365*4024/2000,\"\")),IF(E19=\"CP-4\",IF('Concrete Plant (CP-4)'!$D$9>0,'Concrete Plant (CP-4)'!$D$9*4024/2000,IF('Concrete Plant (CP-4)'!$D$10>0,'Concrete Plant (CP-4)'!$D$10*365*4024/2000,\"\")),IF(E19=\"CP-5\",IF('Concrete Plant (CP-5)'!$D$9>0,'Concrete Plant (CP-5)'!$D$9*4024/2000,IF('Concrete Plant (CP-5)'!$D$10>0,'Concrete Plant (CP-5)'!$D$10*365*4024/2000,\"\")),IF(E19=\"CP-6\",IF('Concrete Plant (CP-6)'!$D$9>0,'Concrete Plant (CP-6)'!$D$9*4024/2000,IF('Concrete Plant (CP-6)'!$D$10>0,'Concrete Plant (CP-6)'!$D$10*365*4024/2000,\"\")),IF(E19=\"CP-7\",IF('Concrete Plant (CP-7)'!$D$9>0,'Concrete Plant (CP-7)'!$D$9*4024/2000,IF('Concrete Plant (CP-7)'!$D$10>0,'Concrete Plant (CP-7)'!$D$10*365*4024/2000,\"\")),IF(E19=\"CP-8\",IF('Concrete Plant (CP-8)'!$D$9>0,'Concrete Plant (CP-8)'!$D$9*4024/2000,IF('Concrete Plant (CP-8)'!$D$10>0,'Concrete Plant (CP-8)'!$D$10*365*4024/2000,\"\")),IF(E19=\"CP-9\",IF('Concrete Plant (CP-9)'!$D$9>0,'Concrete Plant (CP-9)'!$D$9*4024/2000,IF('Concrete Plant (CP-9)'!$D$10>0,'Concrete Plant (CP-9)'!$D$10*365*4024/2000,\"\")),IF(E19=\"CP-10\",IF('Concrete Plant (CP-10)'!$D$9>0,'Concrete Plant (CP-10)'!$D$9*4024/2000,IF('Concrete Plant (CP-10)'!$D$10>0,'Concrete Plant (CP-10)'!$D$10*365*4024/2000,\"\")))))))))))))","v":""},null,null,"","","","",null,"","","","","","","","","","","",{"$f":"IF(AND('Concrete Plant (CP-10)'!$D$10=\"\",'Concrete Plant (CP-10)'!$D$9=\"\"),SUMIFS($X$10:$X$39,$E$10:$E$39,\"CP-10\",$AE$10:$AE$39,\"x\"),MAX(IF($E$10:$E$39=\"CP-10\",IF($AE$10:$AE$39=\"x\",$X$10:$X$39))))","v":0},{"$f":"IF(AND('Concrete Plant (CP-10)'!$D$10=\"\",'Concrete Plant (CP-10)'!$D$9=\"\"),SUMIFS($X$10:$X$39,$E$10:$E$39,\"CP-10\",AE19:AE48,\"\"),MAX(IF($E$10:$E$39=\"CP-10\",IF($AE$10:$AE$39=\"\",$X$10:$X$39))))","v":0},{"$f":"IF(AND('Concrete Plant (CP-10)'!$D$10=\"\",'Concrete Plant (CP-10)'!$D$9=\"\"),SUMIFS($AC$10:$AC$39,$E$10:$E$39,\"CP-10\",$AE$10:$AE$39,\"x\"),MAX(IF($E$10:$E$39=\"CP-10\",IF($AE$10:$AE$39=\"x\",$AC$10:$AC$39))))","v":0},{"$f":"IF(AND('Concrete Plant (CP-10)'!$D$10=\"\",'Concrete Plant (CP-10)'!$D$9=\"\"),SUMIFS($AC$10:$AC$39,$E$10:$E$39,\"CP-10\",$AE$10:$AE$39,\"\"),MAX(IF($E$10:$E$39=\"CP-10\",IF($AE$10:$AE$39=\"\",$AC$10:$AC$39))))","v":0},null,"CP-10",{"$f":"IF(AND('Concrete Plant (CP-10)'!$D$10=\"\",'Concrete Plant (CP-10)'!$D$9=\"\"),SUMIF($E$10:$E$39,\"CP-10\",$X$10:$X$39),MAX(IF($E$10:$E$39=\"CP-10\",$X$10:$X$39)))","v":0},{"$f":"SUMIF($E$10:$E$39,\"CP-10\",$Y$10:$Y$39)","v":0},{"$f":"IF(AND('Concrete Plant (CP-10)'!$D$10=\"\",'Concrete Plant (CP-10)'!$D$9=\"\"),SUMIF($E$10:$E$39,\"CP-10\",$AC$10:$AC$39),MAX(IF($E$10:$E$39=\"CP-10\",$AC$10:$AC$39)))","v":0},{"$f":"SUMIF($E$10:$E448,\"CP-10\",$AD$10:$AD$39)","v":0}]
[{"$f":"IF('Facility Information'!$C$21>4,\"CP-5\",\"\")","v":""},null,null,null,null,null,null,null,null,{"$f":"IF(G20=\"\",\"\",(G20*(I20/100)+H20*(1-(I20/100))))","v":""},{"$f":"IF(G20=\"\",\"\",H20-G20)","v":""},null,{"$f":"IF(E20=\"\",\"\",IF(E20=\"CP-1\",IF('Concrete Plant (CP-1)'!$D$9>0,'Concrete Plant (CP-1)'!$D$9*4024/2000,IF('Concrete Plant (CP-1)'!$D$10>0,'Concrete Plant (CP-1)'!$D$10*365*4024/2000,\"\")),IF(E20=\"CP-2\",IF('Concrete Plant (CP-2)'!$D$9>0,'Concrete Plant (CP-2)'!$D$9*4024/2000,IF('Concrete Plant (CP-2)'!$C$10>0,'Concrete Plant (CP-2)'!$C$10*365*4024/2000,\"\")),IF(E20=\"CP-3\",IF('Concrete Plant (CP-3)'!$D$9>0,'Concrete Plant (CP-3)'!$D$9*4024/2000,IF('Concrete Plant (CP-3)'!$D$10>0,'Concrete Plant (CP-3)'!$D$10*365*4024/2000,\"\")),IF(E20=\"CP-4\",IF('Concrete Plant (CP-4)'!$D$9>0,'Concrete Plant (CP-4)'!$D$9*4024/2000,IF('Concrete Plant (CP-4)'!$D$10>0,'Concrete Plant (CP-4)'!$D$10*365*4024/2000,\"\")),IF(E20=\"CP-5\",IF('Concrete Plant (CP-5)'!$D$9>0,'Concrete Plant (CP-5)'!$D$9*4024/2000,IF('Concrete Plant (CP-5)'!$D$10>0,'Concrete Plant (CP-5)'!$D$10*365*4024/2000,\"\")),IF(E20=\"CP-6\",IF('Concrete Plant (CP-6)'!$D$9>0,'Concrete Plant (CP-6)'!$D$9*4024/2000,IF('Concrete Plant (CP-6)'!$D$10>0,'Concrete Plant (CP-6)'!$D$10*365*4024/2000,\"\")),IF(E20=\"CP-7\",IF('Concrete Plant (CP-7)'!$D$9>0,'Concrete Plant (CP-7)'!$D$9*4024/2000,IF('Concrete Plant (CP-7)'!$D$10>0,'Concrete Plant (CP-7)'!$D$10*365*4024/2000,\"\")),IF(E20=\"CP-8\",IF('Concrete Plant (CP-8)'!$D$9>0,'Concrete Plant (CP-8)'!$D$9*4024/2000,IF('Concrete Plant (CP-8)'!$D$10>0,'Concrete Plant (CP-8)'!$D$10*365*4024/2000,\"\")),IF(E20=\"CP-9\",IF('Concrete Plant (CP-9)'!$D$9>0,'Concrete Plant (CP-9)'!$D$9*4024/2000,IF('Concrete Plant (CP-9)'!$D$10>0,'Concrete Plant (CP-9)'!$D$10*365*4024/2000,\"\")),IF(E20=\"CP-10\",IF('Concrete Plant (CP-10)'!$D$9>0,'Concrete Plant (CP-10)'!$D$9*4024/2000,IF('Concrete Plant (CP-10)'!$D$10>0,'Concrete Plant (CP-10)'!$D$10*365*4024/2000,\"\")))))))))))))","v":""},null,null,"",{"$f":"IF(O20=\"\",\"\",O20/K20)","v":""},"","",null,"","","","","","","","","","",{"$f":"IF(B20=\"unpaved haul road\",\"x\",\"\")","v":""}]
[{"$f":"IF('Facility Information'!$C$21>5,\"CP-6\",\"\")","v":""},null,null,null,null,null,null,null,null,"","",null,{"$f":"IF(E21=\"\",\"\",IF(E21=\"CP-1\",IF('Concrete Plant (CP-1)'!$D$9>0,'Concrete Plant (CP-1)'!$D$9*4024/2000,IF('Concrete Plant (CP-1)'!$D$10>0,'Concrete Plant (CP-1)'!$D$10*365*4024/2000,\"\")),IF(E21=\"CP-2\",IF('Concrete Plant (CP-2)'!$D$9>0,'Concrete Plant (CP-2)'!$D$9*4024/2000,IF('Concrete Plant (CP-2)'!$C$10>0,'Concrete Plant (CP-2)'!$C$10*365*4024/2000,\"\")),IF(E21=\"CP-3\",IF('Concrete Plant (CP-3)'!$D$9>0,'Concrete Plant (CP-3)'!$D$9*4024/2000,IF('Concrete Plant (CP-3)'!$D$10>0,'Concrete Plant (CP-3)'!$D$10*365*4024/2000,\"\")),IF(E21=\"CP-4\",IF('Concrete Plant (CP-4)'!$D$9>0,'Concrete Plant (CP-4)'!$D$9*4024/2000,IF('Concrete Plant (CP-4)'!$D$10>0,'Concrete Plant (CP-4)'!$D$10*365*4024/2000,\"\")),IF(E21=\"CP-5\",IF('Concrete Plant (CP-5)'!$D$9>0,'Concrete Plant (CP-5)'!$D$9*4024/2000,IF('Concrete Plant (CP-5)'!$D$10>0,'Concrete Plant (CP-5)'!$D$10*365*4024/2000,\"\")),IF(E21=\"CP-6\",IF('Concrete Plant (CP-6)'!$D$9>0,'Concrete Plant (CP-6)'!$D$9*4024/2000,IF('Concrete Plant (CP-6)'!$D$10>0,'Concrete Plant (CP-6)'!$D$10*365*4024/2000,\"\")),IF(E21=\"CP-7\",IF('Concrete Plant (CP-7)'!$D$9>0,'Concrete Plant (CP-7)'!$D$9*4024/2000,IF('Concrete Plant (CP-7)'!$D$10>0,'Concrete Plant (CP-7)'!$D$10*365*4024/2000,\"\")),IF(E21=\"CP-8\",IF('Concrete Plant (CP-8)'!$D$9>0,'Concrete Plant (CP-8)'!$D$9*4024/2000,IF('Concrete Plant (CP-8)'!$D$10>0,'Concrete Plant (CP-8)'!$D$10*365*4024/2000,\"\")),IF(E21=\"CP-9\",IF('Concrete Plant (CP-9)'!$D$9>0,'Concrete Plant (CP-9)'!$D$9*4024/2000,IF('Concrete Plant (CP-9)'!$D$10>0,'Concrete Plant (CP-9)'!$D$10*365*4024/2000,\"\")),IF(E21=\"CP-10\",IF('Concrete Plant (CP-10)'!$D$9>0,'Concrete Plant (CP-10)'!$D$9*4024/2000,IF('Concrete Plant (CP-10)'!$D$10>0,'Concrete Plant (CP-10)'!$D$10*365*4024/2000,\"\")))))))))))))","v":""},null,null,"","","","",null,"","","","","","","","","","","","CP-1",{"$f":"IF('Concrete Plant (CP-1)'!$D$9>0,'Concrete Plant (CP-1)'!$D$9,IF('Concrete Plant (CP-1)'!$D$10>0,'Concrete Plant (CP-1)'!$D$10*365,\"\"))","v":""}]
[{"$f":"IF('Facility Information'!$C$21>6,\"CP-7\",\"\")","v":""},null,null,null,null,null,null,null,null,"","",null,{"$f":"IF(E22=\"\",\"\",IF(E22=\"CP-1\",IF('Concrete Plant (CP-1)'!$D$9>0,'Concrete Plant (CP-1)'!$D$9*4024/2000,IF('Concrete Plant (CP-1)'!$D$10>0,'Concrete Plant (CP-1)'!$D$10*365*4024/2000,\"\")),IF(E22=\"CP-2\",IF('Concrete Plant (CP-2)'!$D$9>0,'Concrete Plant (CP-2)'!$D$9*4024/2000,IF('Concrete Plant (CP-2)'!$C$10>0,'Concrete Plant (CP-2)'!$C$10*365*4024/2000,\"\")),IF(E22=\"CP-3\",IF('Concrete Plant (CP-3)'!$D$9>0,'Concrete Plant (CP-3)'!$D$9*4024/2000,IF('Concrete Plant (CP-3)'!$D$10>0,'Concrete Plant (CP-3)'!$D$10*365*4024/2000,\"\")),IF(E22=\"CP-4\",IF('Concrete Plant (CP-4)'!$D$9>0,'Concrete Plant (CP-4)'!$D$9*4024/2000,IF('Concrete Plant (CP-4)'!$D$10>0,'Concrete Plant (CP-4)'!$D$10*365*4024/2000,\"\")),IF(E22=\"CP-5\",IF('Concrete Plant (CP-5)'!$D$9>0,'Concrete Plant (CP-5)'!$D$9*4024/2000,IF('Concrete Plant (CP-5)'!$D$10>0,'Concrete Plant (CP-5)'!$D$10*365*4024/2000,\"\")),IF(E22=\"CP-6\",IF('Concrete Plant (CP-6)'!$D$9>0,'Concrete Plant (CP-6)'!$D$9*4024/2000,IF('Concrete Plant (CP-6)'!$D$10>0,'Concrete Plant (CP-6)'!$D$10*365*4024/2000,\"\")),IF(E22=\"CP-7\",IF('Concrete Plant (CP-7)'!$D$9>0,'Concrete Plant (CP-7)'!$D$9*4024/2000,IF('Concrete Plant (CP-7)'!$D$10>0,'Concrete Plant (CP-7)'!$D$10*365*4024/2000,\"\")),IF(E22=\"CP-8\",IF('Concrete Plant (CP-8)'!$D$9>0,'Concrete Plant (CP-8)'!$D$9*4024/2000,IF('Concrete Plant (CP-8)'!$D$10>0,'Concrete Plant (CP-8)'!$D$10*365*4024/2000,\"\")),IF(E22=\"CP-9\",IF('Concrete Plant (CP-9)'!$D$9>0,'Concrete Plant (CP-9)'!$D$9*4024/2000,IF('Concrete Plant (CP-9)'!$D$10>0,'Concrete Plant (CP-9)'!$D$10*365*4024/2000,\"\")),IF(E22=\"CP-10\",IF('Concrete Plant (CP-10)'!$D$9>0,'Concrete Plant (CP-10)'!$D$9*4024/2000,IF('Concrete Plant (CP-10)'!$D$10>0,'Concrete Plant (CP-10)'!$D$10*365*4024/2000,\"\")))))))))))))","v":""},null,null,"","","","",null,"","","","","","","","","","","","CP-2",{"$f":"IF('Concrete Plant (CP-2)'!$C$9>0,'Concrete Plant (CP-2)'!$C$9,IF('Concrete Plant (CP-2)'!$C$10>0,'Concrete Plant (CP-2)'!$C$10*365,\"\"))","v":""}]
[{"$f":"IF('Facility Information'!$C$21>7,\"CP-8\",\"\")","v":""},null,null,null,null,null,null,null,null,"","",null,{"$f":"IF(E23=\"\",\"\",IF(E23=\"CP-1\",IF('Concrete Plant (CP-1)'!$D$9>0,'Concrete Plant (CP-1)'!$D$9*4024/2000,IF('Concrete Plant (CP-1)'!$D$10>0,'Concrete Plant (CP-1)'!$D$10*365*4024/2000,\"\")),IF(E23=\"CP-2\",IF('Concrete Plant (CP-2)'!$D$9>0,'Concrete Plant (CP-2)'!$D$9*4024/2000,IF('Concrete Plant (CP-2)'!$C$10>0,'Concrete Plant (CP-2)'!$C$10*365*4024/2000,\"\")),IF(E23=\"CP-3\",IF('Concrete Plant (CP-3)'!$D$9>0,'Concrete Plant (CP-3)'!$D$9*4024/2000,IF('Concrete Plant (CP-3)'!$D$10>0,'Concrete Plant (CP-3)'!$D$10*365*4024/2000,\"\")),IF(E23=\"CP-4\",IF('Concrete Plant (CP-4)'!$D$9>0,'Concrete Plant (CP-4)'!$D$9*4024/2000,IF('Concrete Plant (CP-4)'!$D$10>0,'Concrete Plant (CP-4)'!$D$10*365*4024/2000,\"\")),IF(E23=\"CP-5\",IF('Concrete Plant (CP-5)'!$D$9>0,'Concrete Plant (CP-5)'!$D$9*4024/2000,IF('Concrete Plant (CP-5)'!$D$10>0,'Concrete Plant (CP-5)'!$D$10*365*4024/2000,\"\")),IF(E23=\"CP-6\",IF('Concrete Plant (CP-6)'!$D$9>0,'Concrete Plant (CP-6)'!$D$9*4024/2000,IF('Concrete Plant (CP-6)'!$D$10>0,'Concrete Plant (CP-6)'!$D$10*365*4024/2000,\"\")),IF(E23=\"CP-7\",IF('Concrete Plant (CP-7)'!$D$9>0,'Concrete Plant (CP-7)'!$D$9*4024/2000,IF('Concrete Plant (CP-7)'!$D$10>0,'Concrete Plant (CP-7)'!$D$10*365*4024/2000,\"\")),IF(E23=\"CP-8\",IF('Concrete Plant (CP-8)'!$D$9>0,'Concrete Plant (CP-8)'!$D$9*4024/2000,IF('Concrete Plant (CP-8)'!$D$10>0,'Concrete Plant (CP-8)'!$D$10*365*4024/2000,\"\")),IF(E23=\"CP-9\",IF('Concrete Plant (CP-9)'!$D$9>0,'Concrete Plant (CP-9)'!$D$9*4024/2000,IF('Concrete Plant (CP-9)'!$D$10>0,'Concrete Plant (CP-9)'!$D$10*365*4024/2000,\"\")),IF(E23=\"CP-10\",IF('Concrete Plant (CP-10)'!$D$9>0,'Concrete Plant (CP-10)'!$D$9*4024/2000,IF('Concrete Plant (CP-10)'!$D$10>0,'Concrete Plant (CP-10)'!$D$10*365*4024/2000,\"\")))))))))))))","v":""},null,null,"","","","",null,"","","","","","","","","","","","CP-3",{"$f":"IF('Concrete Plant (CP-3)'!$D$9>0,'Concrete Plant (CP-3)'!$D$9,IF('Concrete Plant (CP-3)'!$D$10>0,'Concrete Plant (CP-3)'!$D$10*365,\"\"))","v":""}]
[{"$f":"IF('Facility Information'!$C$21>8,\"CP-9\",\"\")","v":""},null,null,null,null,null,null,null,null,"","",null,{"$f":"IF(E24=\"\",\"\",IF(E24=\"CP-1\",IF('Concrete Plant (CP-1)'!$D$9>0,'Concrete Plant (CP-1)'!$D$9*4024/2000,IF('Concrete Plant (CP-1)'!$D$10>0,'Concrete Plant (CP-1)'!$D$10*365*4024/2000,\"\")),IF(E24=\"CP-2\",IF('Concrete Plant (CP-2)'!$D$9>0,'Concrete Plant (CP-2)'!$D$9*4024/2000,IF('Concrete Plant (CP-2)'!$C$10>0,'Concrete Plant (CP-2)'!$C$10*365*4024/2000,\"\")),IF(E24=\"CP-3\",IF('Concrete Plant (CP-3)'!$D$9>0,'Concrete Plant (CP-3)'!$D$9*4024/2000,IF('Concrete Plant (CP-3)'!$D$10>0,'Concrete Plant (CP-3)'!$D$10*365*4024/2000,\"\")),IF(E24=\"CP-4\",IF('Concrete Plant (CP-4)'!$D$9>0,'Concrete Plant (CP-4)'!$D$9*4024/2000,IF('Concrete Plant (CP-4)'!$D$10>0,'Concrete Plant (CP-4)'!$D$10*365*4024/2000,\"\")),IF(E24=\"CP-5\",IF('Concrete Plant (CP-5)'!$D$9>0,'Concrete Plant (CP-5)'!$D$9*4024/2000,IF('Concrete Plant (CP-5)'!$D$10>0,'Concrete Plant (CP-5)'!$D$10*365*4024/2000,\"\")),IF(E24=\"CP-6\",IF('Concrete Plant (CP-6)'!$D$9>0,'Concrete Plant (CP-6)'!$D$9*4024/2000,IF('Concrete Plant (CP-6)'!$D$10>0,'Concrete Plant (CP-6)'!$D$10*365*4024/2000,\"\")),IF(E24=\"CP-7\",IF('Concrete Plant (CP-7)'!$D$9>0,'Concrete Plant (CP-7)'!$D$9*4024/2000,IF('Concrete Plant (CP-7)'!$D$10>0,'Concrete Plant (CP-7)'!$D$10*365*4024/2000,\"\")),IF(E24=\"CP-8\",IF('Concrete Plant (CP-8)'!$D$9>0,'Concrete Plant (CP-8)'!$D$9*4024/2000,IF('Concrete Plant (CP-8)'!$D$10>0,'Concrete Plant (CP-8)'!$D$10*365*4024/2000,\"\")),IF(E24=\"CP-9\",IF('Concrete Plant (CP-9)'!$D$9>0,'Concrete Plant (CP-9)'!$D$9*4024/2000,IF('Concrete Plant (CP-9)'!$D$10>0,'Concrete Plant (CP-9)'!$D$10*365*4024/2000,\"\")),IF(E24=\"CP-10\",IF('Concrete Plant (CP-10)'!$D$9>0,'Concrete Plant (CP-10)'!$D$9*4024/2000,IF('Concrete Plant (CP-10)'!$D$10>0,'Concrete Plant (CP-10)'!$D$10*365*4024/2000,\"\")))))))))))))","v":""},null,null,"","","","",null,"","","","","","","","","","","","CP-4",{"$f":"IF('Concrete Plant (CP-4)'!$D$9>0,'Concrete Plant (CP-4)'!$D$9,IF('Concrete Plant (CP-4)'!$D$10>0,'Concrete Plant (CP-4)'!$D$10*365,\"\"))","v":""}]
[{"$f":"IF('Facility Information'!$C$21>9,\"CP-10\",\"\")","v":""},null,null,null,null,null,null,null,null,"","",null,{"$f":"IF(E25=\"\",\"\",IF(E25=\"CP-1\",IF('Concrete Plant (CP-1)'!$D$9>0,'Concrete Plant (CP-1)'!$D$9*4024/2000,IF('Concrete Plant (CP-1)'!$D$10>0,'Concrete Plant (CP-1)'!$D$10*365*4024/2000,\"\")),IF(E25=\"CP-2\",IF('Concrete Plant (CP-2)'!$D$9>0,'Concrete Plant (CP-2)'!$D$9*4024/2000,IF('Concrete Plant (CP-2)'!$C$10>0,'Concrete Plant (CP-2)'!$C$10*365*4024/2000,\"\")),IF(E25=\"CP-3\",IF('Concrete Plant (CP-3)'!$D$9>0,'Concrete Plant (CP-3)'!$D$9*4024/2000,IF('Concrete Plant (CP-3)'!$D$10>0,'Concrete Plant (CP-3)'!$D$10*365*4024/2000,\"\")),IF(E25=\"CP-4\",IF('Concrete Plant (CP-4)'!$D$9>0,'Concrete Plant (CP-4)'!$D$9*4024/2000,IF('Concrete Plant (CP-4)'!$D$10>0,'Concrete Plant (CP-4)'!$D$10*365*4024/2000,\"\")),IF(E25=\"CP-5\",IF('Concrete Plant (CP-5)'!$D$9>0,'Concrete Plant (CP-5)'!$D$9*4024/2000,IF('Concrete Plant (CP-5)'!$D$10>0,'Concrete Plant (CP-5)'!$D$10*365*4024/2000,\"\")),IF(E25=\"CP-6\",IF('Concrete Plant (CP-6)'!$D$9>0,'Concrete Plant (CP-6)'!$D$9*4024/2000,IF('Concrete Plant (CP-6)'!$D$10>0,'Concrete Plant (CP-6)'!$D$10*365*4024/2000,\"\")),IF(E25=\"CP-7\",IF('Concrete Plant (CP-7)'!$D$9>0,'Concrete Plant (CP-7)'!$D$9*4024/2000,IF('Concrete Plant (CP-7)'!$D$10>0,'Concrete Plant (CP-7)'!$D$10*365*4024/2000,\"\")),IF(E25=\"CP-8\",IF('Concrete Plant (CP-8)'!$D$9>0,'Concrete Plant (CP-8)'!$D$9*4024/2000,IF('Concrete Plant (CP-8)'!$D$10>0,'Concrete Plant (CP-8)'!$D$10*365*4024/2000,\"\")),IF(E25=\"CP-9\",IF('Concrete Plant (CP-9)'!$D$9>0,'Concrete Plant (CP-9)'!$D$9*4024/2000,IF('Concrete Plant (CP-9)'!$D$10>0,'Concrete Plant (CP-9)'!$D$10*365*4024/2000,\"\")),IF(E25=\"CP-10\",IF('Concrete Plant (CP-10)'!$D$9>0,'Concrete Plant (CP-10)'!$D$9*4024/2000,IF('Concrete Plant (CP-10)'!$D$10>0,'Concrete Plant (CP-10)'!$D$10*365*4024/2000,\"\")))))))))))))","v":""},null,null,"","","","",null,"","","","","","","","","","","","CP-5",{"$f":"IF('Concrete Plant (CP-5)'!$D$9>0,'Concrete Plant (CP-5)'!$D$9,IF('Concrete Plant (CP-5)'!$D$10>0,'Concrete Plant (CP-5)'!$D$10*365,\"\"))","v":""}]
[null,null,null,null,null,null,null,null,null,"","",null,{"$f":"IF(E26=\"\",\"\",IF(E26=\"CP-1\",IF('Concrete Plant (CP-1)'!$D$9>0,'Concrete Plant (CP-1)'!$D$9*4024/2000,IF('Concrete Plant (CP-1)'!$D$10>0,'Concrete Plant (CP-1)'!$D$10*365*4024/2000,\"\")),IF(E26=\"CP-2\",IF('Concrete Plant (CP-2)'!$D$9>0,'Concrete Plant (CP-2)'!$D$9*4024/2000,IF('Concrete Plant (CP-2)'!$C$10>0,'Concrete Plant (CP-2)'!$C$10*365*4024/2000,\"\")),IF(E26=\"CP-3\",IF('Concrete Plant (CP-3)'!$D$9>0,'Concrete Plant (CP-3)'!$D$9*4024/2000,IF('Concrete Plant (CP-3)'!$D$10>0,'Concrete Plant (CP-3)'!$D$10*365*4024/2000,\"\")),IF(E26=\"CP-4\",IF('Concrete Plant (CP-4)'!$D$9>0,'Concrete Plant (CP-4)'!$D$9*4024/2000,IF('Concrete Plant (CP-4)'!$D$10>0,'Concrete Plant (CP-4)'!$D$10*365*4024/2000,\"\")),IF(E26=\"CP-5\",IF('Concrete Plant (CP-5)'!$D$9>0,'Concrete Plant (CP-5)'!$D$9*4024/2000,IF('Concrete Plant (CP-5)'!$D$10>0,'Concrete Plant (CP-5)'!$D$10*365*4024/2000,\"\")),IF(E26=\"CP-6\",IF('Concrete Plant (CP-6)'!$D$9>0,'Concrete Plant (CP-6)'!$D$9*4024/2000,IF('Concrete Plant (CP-6)'!$D$10>0,'Concrete Plant (CP-6)'!$D$10*365*4024/2000,\"\")),IF(E26=\"CP-7\",IF('Concrete Plant (CP-7)'!$D$9>0,'Concrete Plant (CP-7)'!$D$9*4024/2000,IF('Concrete Plant (CP-7)'!$D$10>0,'Concrete Plant (CP-7)'!$D$10*365*4024/2000,\"\")),IF(E26=\"CP-8\",IF('Concrete Plant (CP-8)'!$D$9>0,'Concrete Plant (CP-8)'!$D$9*4024/2000,IF('Concrete Plant (CP-8)'!$D$10>0,'Concrete Plant (CP-8)'!$D$10*365*4024/2000,\"\")),IF(E26=\"CP-9\",IF('Concrete Plant (CP-9)'!$D$9>0,'Concrete Plant (CP-9)'!$D$9*4024/2000,IF('Concrete Plant (CP-9)'!$D$10>0,'Concrete Plant (CP-9)'!$D$10*365*4024/2000,\"\")),IF(E26=\"CP-10\",IF('Concrete Plant (CP-10)'!$D$9>0,'Concrete Plant (CP-10)'!$D$9*4024/2000,IF('Concrete Plant (CP-10)'!$D$10>0,'Concrete Plant (CP-10)'!$D$10*365*4024/2000,\"\")))))))))))))","v":""},null,null,"","","","",null,"","","","","","","","","","","","CP-6",{"$f":"IF('Concrete Plant (CP-6)'!$D$9>0,'Concrete Plant (CP-6)'!$D$9,IF('Concrete Plant (CP-6)'!$D$10>0,'Concrete Plant (CP-6)'!$D$10*365,\"\"))","v":""}]
[null,null,null,null,null,null,null,null,null,"","",null,{"$f":"IF(E27=\"\",\"\",IF(E27=\"CP-1\",IF('Concrete Plant (CP-1)'!$D$9>0,'Concrete Plant (CP-1)'!$D$9*4024/2000,IF('Concrete Plant (CP-1)'!$D$10>0,'Concrete Plant (CP-1)'!$D$10*365*4024/2000,\"\")),IF(E27=\"CP-2\",IF('Concrete Plant (CP-2)'!$D$9>0,'Concrete Plant (CP-2)'!$D$9*4024/2000,IF('Concrete Plant (CP-2)'!$C$10>0,'Concrete Plant (CP-2)'!$C$10*365*4024/2000,\"\")),IF(E27=\"CP-3\",IF('Concrete Plant (CP-3)'!$D$9>0,'Concrete Plant (CP-3)'!$D$9*4024/2000,IF('Concrete Plant (CP-3)'!$D$10>0,'Concrete Plant (CP-3)'!$D$10*365*4024/2000,\"\")),IF(E27=\"CP-4\",IF('Concrete Plant (CP-4)'!$D$9>0,'Concrete Plant (CP-4)'!$D$9*4024/2000,IF('Concrete Plant (CP-4)'!$D$10>0,'Concrete Plant (CP-4)'!$D$10*365*4024/2000,\"\")),IF(E27=\"CP-5\",IF('Concrete Plant (CP-5)'!$D$9>0,'Concrete Plant (CP-5)'!$D$9*4024/2000,IF('Concrete Plant (CP-5)'!$D$10>0,'Concrete Plant (CP-5)'!$D$10*365*4024/2000,\"\")),IF(E27=\"CP-6\",IF('Concrete Plant (CP-6)'!$D$9>0,'Concrete Plant (CP-6)'!$D$9*4024/2000,IF('Concrete Plant (CP-6)'!$D$10>0,'Concrete Plant (CP-6)'!$D$10*365*4024/2000,\"\")),IF(E27=\"CP-7\",IF('Concrete Plant (CP-7)'!$D$9>0,'Concrete Plant (CP-7)'!$D$9*4024/2000,IF('Concrete Plant (CP-7)'!$D$10>0,'Concrete Plant (CP-7)'!$D$10*365*4024/2000,\"\")),IF(E27=\"CP-8\",IF('Concrete Plant (CP-8)'!$D$9>0,'Concrete Plant (CP-8)'!$D$9*4024/2000,IF('Concrete Plant (CP-8)'!$D$10>0,'Concrete Plant (CP-8)'!$D$10*365*4024/2000,\"\")),IF(E27=\"CP-9\",IF('Concrete Plant (CP-9)'!$D$9>0,'Concrete Plant (CP-9)'!$D$9*4024/2000,IF('Concrete Plant (CP-9)'!$D$10>0,'Concrete Plant (CP-9)'!$D$10*365*4024/2000,\"\")),IF(E27=\"CP-10\",IF('Concrete Plant (CP-10)'!$D$9>0,'Concrete Plant (CP-10)'!$D$9*4024/2000,IF('Concrete Plant (CP-10)'!$D$10>0,'Concrete Plant (CP-10)'!$D$10*365*4024/2000,\"\")))))))))))))","v":""},null,null,"","","","",null,"","","","","","","","","","","","CP-7",{"$f":"IF('Concrete Plant (CP-7)'!$D$9>0,'Concrete Plant (CP-7)'!$D$9,IF('Concrete Plant (CP-7)'!$D$10>0,'Concrete Plant (CP-7)'!$D$10*365,\"\"))","v":""}]
[null,null,null,null,null,null,null,null,null,"","",null,{"$f":"IF(E28=\"\",\"\",IF(E28=\"CP-1\",IF('Concrete Plant (CP-1)'!$D$9>0,'Concrete Plant (CP-1)'!$D$9*4024/2000,IF('Concrete Plant (CP-1)'!$D$10>0,'Concrete Plant (CP-1)'!$D$10*365*4024/2000,\"\")),IF(E28=\"CP-2\",IF('Concrete Plant (CP-2)'!$D$9>0,'Concrete Plant (CP-2)'!$D$9*4024/2000,IF('Concrete Plant (CP-2)'!$C$10>0,'Concrete Plant (CP-2)'!$C$10*365*4024/2000,\"\")),IF(E28=\"CP-3\",IF('Concrete Plant (CP-3)'!$D$9>0,'Concrete Plant (CP-3)'!$D$9*4024/2000,IF('Concrete Plant (CP-3)'!$D$10>0,'Concrete Plant (CP-3)'!$D$10*365*4024/2000,\"\")),IF(E28=\"CP-4\",IF('Concrete Plant (CP-4)'!$D$9>0,'Concrete Plant (CP-4)'!$D$9*4024/2000,IF('Concrete Plant (CP-4)'!$D$10>0,'Concrete Plant (CP-4)'!$D$10*365*4024/2000,\"\")),IF(E28=\"CP-5\",IF('Concrete Plant (CP-5)'!$D$9>0,'Concrete Plant (CP-5)'!$D$9*4024/2000,IF('Concrete Plant (CP-5)'!$D$10>0,'Concrete Plant (CP-5)'!$D$10*365*4024/2000,\"\")),IF(E28=\"CP-6\",IF('Concrete Plant (CP-6)'!$D$9>0,'Concrete Plant (CP-6)'!$D$9*4024/2000,IF('Concrete Plant (CP-6)'!$D$10>0,'Concrete Plant (CP-6)'!$D$10*365*4024/2000,\"\")),IF(E28=\"CP-7\",IF('Concrete Plant (CP-7)'!$D$9>0,'Concrete Plant (CP-7)'!$D$9*4024/2000,IF('Concrete Plant (CP-7)'!$D$10>0,'Concrete Plant (CP-7)'!$D$10*365*4024/2000,\"\")),IF(E28=\"CP-8\",IF('Concrete Plant (CP-8)'!$D$9>0,'Concrete Plant (CP-8)'!$D$9*4024/2000,IF('Concrete Plant (CP-8)'!$D$10>0,'Concrete Plant (CP-8)'!$D$10*365*4024/2000,\"\")),IF(E28=\"CP-9\",IF('Concrete Plant (CP-9)'!$D$9>0,'Concrete Plant (CP-9)'!$D$9*4024/2000,IF('Concrete Plant (CP-9)'!$D$10>0,'Concrete Plant (CP-9)'!$D$10*365*4024/2000,\"\")),IF(E28=\"CP-10\",IF('Concrete Plant (CP-10)'!$D$9>0,'Concrete Plant (CP-10)'!$D$9*4024/2000,IF('Concrete Plant (CP-10)'!$D$10>0,'Concrete Plant (CP-10)'!$D$10*365*4024/2000,\"\")))))))))))))","v":""},null,null,"","","","",null,"","","","","","","","","","","","CP-8",{"$f":"IF('Concrete Plant (CP-8)'!$D$9>0,'Concrete Plant (CP-8)'!$D$9,IF('Concrete Plant (CP-8)'!$D$10>0,'Concrete Plant (CP-8)'!$D$10*365,\"\"))","v":""}]
[null,null,null,null,null,null,null,null,null,"","",null,{"$f":"IF(E29=\"\",\"\",IF(E29=\"CP-1\",IF('Concrete Plant (CP-1)'!$D$9>0,'Concrete Plant (CP-1)'!$D$9*4024/2000,IF('Concrete Plant (CP-1)'!$D$10>0,'Concrete Plant (CP-1)'!$D$10*365*4024/2000,\"\")),IF(E29=\"CP-2\",IF('Concrete Plant (CP-2)'!$D$9>0,'Concrete Plant (CP-2)'!$D$9*4024/2000,IF('Concrete Plant (CP-2)'!$C$10>0,'Concrete Plant (CP-2)'!$C$10*365*4024/2000,\"\")),IF(E29=\"CP-3\",IF('Concrete Plant (CP-3)'!$D$9>0,'Concrete Plant (CP-3)'!$D$9*4024/2000,IF('Concrete Plant (CP-3)'!$D$10>0,'Concrete Plant (CP-3)'!$D$10*365*4024/2000,\"\")),IF(E29=\"CP-4\",IF('Concrete Plant (CP-4)'!$D$9>0,'Concrete Plant (CP-4)'!$D$9*4024/2000,IF('Concrete Plant (CP-4)'!$D$10>0,'Concrete Plant (CP-4)'!$D$10*365*4024/2000,\"\")),IF(E29=\"CP-5\",IF('Concrete Plant (CP-5)'!$D$9>0,'Concrete Plant (CP-5)'!$D$9*4024/2000,IF('Concrete Plant (CP-5)'!$D$10>0,'Concrete Plant (CP-5)'!$D$10*365*4024/2000,\"\")),IF(E29=\"CP-6\",IF('Concrete Plant (CP-6)'!$D$9>0,'Concrete Plant (CP-6)'!$D$9*4024/2000,IF('Concrete Plant (CP-6)'!$D$10>0,'Concrete Plant (CP-6)'!$D$10*365*4024/2000,\"\")),IF(E29=\"CP-7\",IF('Concrete Plant (CP-7)'!$D$9>0,'Concrete Plant (CP-7)'!$D$9*4024/2000,IF('Concrete Plant (CP-7)'!$D$10>0,'Concrete Plant (CP-7)'!$D$10*365*4024/2000,\"\")),IF(E29=\"CP-8\",IF('Concrete Plant (CP-8)'!$D$9>0,'Concrete Plant (CP-8)'!$D$9*4024/2000,IF('Concrete Plant (CP-8)'!$D$10>0,'Concrete Plant (CP-8)'!$D$10*365*4024/2000,\"\")),IF(E29=\"CP-9\",IF('Concrete Plant (CP-9)'!$D$9>0,'Concrete Plant (CP-9)'!$D$9*4024/2000,IF('Concrete Plant (CP-9)'!$D$10>0,'Concrete Plant (CP-9)'!$D$10*365*4024/2000,\"\")),IF(E29=\"CP-10\",IF('Concrete Plant (CP-10)'!$D$9>0,'Concrete Plant (CP-10)'!$D$9*4024/2000,IF('Concrete Plant (CP-10)'!$D$10>0,'Concrete Plant (CP-10)'!$D$10*365*4024/2000,\"\")))))))))))))","v":""},null,null,"","","","",null,"","","","","","","","","","","","CP-9",{"$f":"IF('Concrete Plant (CP-9)'!$D$9>0,'Concrete Plant (CP-9)'!$D$9,IF('Concrete Plant (CP-9)'!$D$10>0,'Concrete Plant (CP-9)'!$D$10*365,\"\"))","v":""}]
[null,null,null,null,null,null,null,null,null,"","",null,{"$f":"IF(E30=\"\",\"\",IF(E30=\"CP-1\",IF('Concrete Plant (CP-1)'!$D$9>0,'Concrete Plant (CP-1)'!$D$9*4024/2000,IF('Concrete Plant (CP-1)'!$D$10>0,'Concrete Plant (CP-1)'!$D$10*365*4024/2000,\"\")),IF(E30=\"CP-2\",IF('Concrete Plant (CP-2)'!$D$9>0,'Concrete Plant (CP-2)'!$D$9*4024/2000,IF('Concrete Plant (CP-2)'!$C$10>0,'Concrete Plant (CP-2)'!$C$10*365*4024/2000,\"\")),IF(E30=\"CP-3\",IF('Concrete Plant (CP-3)'!$D$9>0,'Concrete Plant (CP-3)'!$D$9*4024/2000,IF('Concrete Plant (CP-3)'!$D$10>0,'Concrete Plant (CP-3)'!$D$10*365*4024/2000,\"\")),IF(E30=\"CP-4\",IF('Concrete Plant (CP-4)'!$D$9>0,'Concrete Plant (CP-4)'!$D$9*4024/2000,IF('Concrete Plant (CP-4)'!$D$10>0,'Concrete Plant (CP-4)'!$D$10*365*4024/2000,\"\")),IF(E30=\"CP-5\",IF('Concrete Plant (CP-5)'!$D$9>0,'Concrete Plant (CP-5)'!$D$9*4024/2000,IF('Concrete Plant (CP-5)'!$D$10>0,'Concrete Plant (CP-5)'!$D$10*365*4024/2000,\"\")),IF(E30=\"CP-6\",IF('Concrete Plant (CP-6)'!$D$9>0,'Concrete Plant (CP-6)'!$D$9*4024/2000,IF('Concrete Plant (CP-6)'!$D$10>0,'Concrete Plant (CP-6)'!$D$10*365*4024/2000,\"\")),IF(E30=\"CP-7\",IF('Concrete Plant (CP-7)'!$D$9>0,'Concrete Plant (CP-7)'!$D$9*4024/2000,IF('Concrete Plant (CP-7)'!$D$10>0,'Concrete Plant (CP-7)'!$D$10*365*4024/2000,\"\")),IF(E30=\"CP-8\",IF('Concrete Plant (CP-8)'!$D$9>0,'Concrete Plant (CP-8)'!$D$9*4024/2000,IF('Concrete Plant (CP-8)'!$D$10>0,'Concrete Plant (CP-8)'!$D$10*365*4024/2000,\"\")),IF(E30=\"CP-9\",IF('Concrete Plant (CP-9)'!$D$9>0,'Concrete Plant (CP-9)'!$D$9*4024/2000,IF('Concrete Plant (CP-9)'!$D$10>0,'Concrete Plant (CP-9)'!$D$10*365*4024/2000,\"\")),IF(E30=\"CP-10\",IF('Concrete Plant (CP-10)'!$D$9>0,'Concrete Plant (CP-10)'!$D$9*4024/2000,IF('Concrete Plant (CP-10)'!$D$10>0,'Concrete Plant (CP-10)'!$D$10*365*4024/2000,\"\")))))))))))))","v":""},null,null,"","","","",null,"","","","","","","","","","",{"$f":"IF(B30=\"unpaved haul road\",\"x\",\"\")","v":""},"CP-10",{"$f":"IF('Concrete Plant (CP-10)'!$D$9>0,'Concrete Plant (CP-10)'!$D$9,IF('Concrete Plant (CP-10)'!$D$10>0,'Concrete Plant (CP-10)'!$D$10*365,\"\"))","v":""}]
[null,null,null,null,null,null,null,null,null,"","",null,{"$f":"IF(E31=\"\",\"\",IF(E31=\"CP-1\",IF('Concrete Plant (CP-1)'!$D$9>0,'Concrete Plant (CP-1)'!$D$9*4024/2000,IF('Concrete Plant (CP-1)'!$D$10>0,'Concrete Plant (CP-1)'!$D$10*365*4024/2000,\"\")),IF(E31=\"CP-2\",IF('Concrete Plant (CP-2)'!$D$9>0,'Concrete Plant (CP-2)'!$D$9*4024/2000,IF('Concrete Plant (CP-2)'!$C$10>0,'Concrete Plant (CP-2)'!$C$10*365*4024/2000,\"\")),IF(E31=\"CP-3\",IF('Concrete Plant (CP-3)'!$D$9>0,'Concrete Plant (CP-3)'!$D$9*4024/2000,IF('Concrete Plant (CP-3)'!$D$10>0,'Concrete Plant (CP-3)'!$D$10*365*4024/2000,\"\")),IF(E31=\"CP-4\",IF('Concrete Plant (CP-4)'!$D$9>0,'Concrete Plant (CP-4)'!$D$9*4024/2000,IF('Concrete Plant (CP-4)'!$D$10>0,'Concrete Plant (CP-4)'!$D$10*365*4024/2000,\"\")),IF(E31=\"CP-5\",IF('Concrete Plant (CP-5)'!$D$9>0,'Concrete Plant (CP-5)'!$D$9*4024/2000,IF('Concrete Plant (CP-5)'!$D$10>0,'Concrete Plant (CP-5)'!$D$10*365*4024/2000,\"\")),IF(E31=\"CP-6\",IF('Concrete Plant (CP-6)'!$D$9>0,'Concrete Plant (CP-6)'!$D$9*4024/2000,IF('Concrete Plant (CP-6)'!$D$10>0,'Concrete Plant (CP-6)'!$D$10*365*4024/2000,\"\")),IF(E31=\"CP-7\",IF('Concrete Plant (CP-7)'!$D$9>0,'Concrete Plant (CP-7)'!$D$9*4024/2000,IF('Concrete Plant (CP-7)'!$D$10>0,'Concrete Plant (CP-7)'!$D$10*365*4024/2000,\"\")),IF(E31=\"CP-8\",IF('Concrete Plant (CP-8)'!$D$9>0,'Concrete Plant (CP-8)'!$D$9*4024/2000,IF('Concrete Plant (CP-8)'!$D$10>0,'Concrete Plant (CP-8)'!$D$10*365*4024/2000,\"\")),IF(E31=\"CP-9\",IF('Concrete Plant (CP-9)'!$D$9>0,'Concrete Plant (CP-9)'!$D$9*4024/2000,IF('Concrete Plant (CP-9)'!$D$10>0,'Concrete Plant (CP-9)'!$D$10*365*4024/2000,\"\")),IF(E31=\"CP-10\",IF('Concrete Plant (CP-10)'!$D$9>0,'Concrete Plant (CP-10)'!$D$9*4024/2000,IF('Concrete Plant (CP-10)'!$D$10>0,'Concrete Plant (CP-10)'!$D$10*365*4024/2000,\"\")))))))))))))","v":""},null,null,"","","","",null,"","","","","","","","","","",""]
[null,null,null,null,null,null,null,null,null,"","",null,{"$f":"IF(E32=\"\",\"\",IF(E32=\"CP-1\",IF('Concrete Plant (CP-1)'!$D$9>0,'Concrete Plant (CP-1)'!$D$9*4024/2000,IF('Concrete Plant (CP-1)'!$D$10>0,'Concrete Plant (CP-1)'!$D$10*365*4024/2000,\"\")),IF(E32=\"CP-2\",IF('Concrete Plant (CP-2)'!$D$9>0,'Concrete Plant (CP-2)'!$D$9*4024/2000,IF('Concrete Plant (CP-2)'!$C$10>0,'Concrete Plant (CP-2)'!$C$10*365*4024/2000,\"\")),IF(E32=\"CP-3\",IF('Concrete Plant (CP-3)'!$D$9>0,'Concrete Plant (CP-3)'!$D$9*4024/2000,IF('Concrete Plant (CP-3)'!$D$10>0,'Concrete Plant (CP-3)'!$D$10*365*4024/2000,\"\")),IF(E32=\"CP-4\",IF('Concrete Plant (CP-4)'!$D$9>0,'Concrete Plant (CP-4)'!$D$9*4024/2000,IF('Concrete Plant (CP-4)'!$D$10>0,'Concrete Plant (CP-4)'!$D$10*365*4024/2000,\"\")),IF(E32=\"CP-5\",IF('Concrete Plant (CP-5)'!$D$9>0,'Concrete Plant (CP-5)'!$D$9*4024/2000,IF('Concrete Plant (CP-5)'!$D$10>0,'Concrete Plant (CP-5)'!$D$10*365*4024/2000,\"\")),IF(E32=\"CP-6\",IF('Concrete Plant (CP-6)'!$D$9>0,'Concrete Plant (CP-6)'!$D$9*4024/2000,IF('Concrete Plant (CP-6)'!$D$10>0,'Concrete Plant (CP-6)'!$D$10*365*4024/2000,\"\")),IF(E32=\"CP-7\",IF('Concrete Plant (CP-7)'!$D$9>0,'Concrete Plant (CP-7)'!$D$9*4024/2000,IF('Concrete Plant (CP-7)'!$D$10>0,'Concrete Plant (CP-7)'!$D$10*365*4024/2000,\"\")),IF(E32=\"CP-8\",IF('Concrete Plant (CP-8)'!$D$9>0,'Concrete Plant (CP-8)'!$D$9*4024/2000,IF('Concrete Plant (CP-8)'!$D$10>0,'Concrete Plant (CP-8)'!$D$10*365*4024/2000,\"\")),IF(E32=\"CP-9\",IF('Concrete Plant (CP-9)'!$D$9>0,'Concrete Plant (CP-9)'!$D$9*4024/2000,IF('Concrete Plant (CP-9)'!$D$10>0,'Concrete Plant (CP-9)'!$D$10*365*4024/2000,\"\")),IF(E32=\"CP-10\",IF('Concrete Plant (CP-10)'!$D$9>0,'Concrete Plant (CP-10)'!$D$9*4024/2000,IF('Concrete Plant (CP-10)'!$D$10>0,'Concrete Plant (CP-10)'!$D$10*365*4024/2000,\"\")))))))))))))","v":""},null,null,"","","","",null,"","","","","","","","","","",""]
[null,null,null,null,null,null,null,null,null,"","",null,{"$f":"IF(E33=\"\",\"\",IF(E33=\"CP-1\",IF('Concrete Plant (CP-1)'!$D$9>0,'Concrete Plant (CP-1)'!$D$9*4024/2000,IF('Concrete Plant (CP-1)'!$D$10>0,'Concrete Plant (CP-1)'!$D$10*365*4024/2000,\"\")),IF(E33=\"CP-2\",IF('Concrete Plant (CP-2)'!$D$9>0,'Concrete Plant (CP-2)'!$D$9*4024/2000,IF('Concrete Plant (CP-2)'!$C$10>0,'Concrete Plant (CP-2)'!$C$10*365*4024/2000,\"\")),IF(E33=\"CP-3\",IF('Concrete Plant (CP-3)'!$D$9>0,'Concrete Plant (CP-3)'!$D$9*4024/2000,IF('Concrete Plant (CP-3)'!$D$10>0,'Concrete Plant (CP-3)'!$D$10*365*4024/2000,\"\")),IF(E33=\"CP-4\",IF('Concrete Plant (CP-4)'!$D$9>0,'Concrete Plant (CP-4)'!$D$9*4024/2000,IF('Concrete Plant (CP-4)'!$D$10>0,'Concrete Plant (CP-4)'!$D$10*365*4024/2000,\"\")),IF(E33=\"CP-5\",IF('Concrete Plant (CP-5)'!$D$9>0,'Concrete Plant (CP-5)'!$D$9*4024/2000,IF('Concrete Plant (CP-5)'!$D$10>0,'Concrete Plant (CP-5)'!$D$10*365*4024/2000,\"\")),IF(E33=\"CP-6\",IF('Concrete Plant (CP-6)'!$D$9>0,'Concrete Plant (CP-6)'!$D$9*4024/2000,IF('Concrete Plant (CP-6)'!$D$10>0,'Concrete Plant (CP-6)'!$D$10*365*4024/2000,\"\")),IF(E33=\"CP-7\",IF('Concrete Plant (CP-7)'!$D$9>0,'Concrete Plant (CP-7)'!$D$9*4024/2000,IF('Concrete Plant (CP-7)'!$D$10>0,'Concrete Plant (CP-7)'!$D$10*365*4024/2000,\"\")),IF(E33=\"CP-8\",IF('Concrete Plant (CP-8)'!$D$9>0,'Concrete Plant (CP-8)'!$D$9*4024/2000,IF('Concrete Plant (CP-8)'!$D$10>0,'Concrete Plant (CP-8)'!$D$10*365*4024/2000,\"\")),IF(E33=\"CP-9\",IF('Concrete Plant (CP-9)'!$D$9>0,'Concrete Plant (CP-9)'!$D$9*4024/2000,IF('Concrete Plant (CP-9)'!$D$10>0,'Concrete Plant (CP-9)'!$D$10*365*4024/2000,\"\")),IF(E33=\"CP-10\",IF('Concrete Plant (CP-10)'!$D$9>0,'Concrete Plant (CP-10)'!$D$9*4024/2000,IF('Concrete Plant (CP-10)'!$D$10>0,'Concrete Plant (CP-10)'!$D$10*365*4024/2000,\"\")))))))))))))","v":""},null,null,"","","","",null,"","","","","","","","","","",""]
[null,null,null,null,null,null,null,null,null,"","",null,{"$f":"IF(E34=\"\",\"\",IF(E34=\"CP-1\",IF('Concrete Plant (CP-1)'!$D$9>0,'Concrete Plant (CP-1)'!$D$9*4024/2000,IF('Concrete Plant (CP-1)'!$D$10>0,'Concrete Plant (CP-1)'!$D$10*365*4024/2000,\"\")),IF(E34=\"CP-2\",IF('Concrete Plant (CP-2)'!$D$9>0,'Concrete Plant (CP-2)'!$D$9*4024/2000,IF('Concrete Plant (CP-2)'!$C$10>0,'Concrete Plant (CP-2)'!$C$10*365*4024/2000,\"\")),IF(E34=\"CP-3\",IF('Concrete Plant (CP-3)'!$D$9>0,'Concrete Plant (CP-3)'!$D$9*4024/2000,IF('Concrete Plant (CP-3)'!$D$10>0,'Concrete Plant (CP-3)'!$D$10*365*4024/2000,\"\")),IF(E34=\"CP-4\",IF('Concrete Plant (CP-4)'!$D$9>0,'Concrete Plant (CP-4)'!$D$9*4024/2000,IF('Concrete Plant (CP-4)'!$D$10>0,'Concrete Plant (CP-4)'!$D$10*365*4024/2000,\"\")),IF(E34=\"CP-5\",IF('Concrete Plant (CP-5)'!$D$9>0,'Concrete Plant (CP-5)'!$D$9*4024/2000,IF('Concrete Plant (CP-5)'!$D$10>0,'Concrete Plant (CP-5)'!$D$10*365*4024/2000,\"\")),IF(E34=\"CP-6\",IF('Concrete Plant (CP-6)'!$D$9>0,'Concrete Plant (CP-6)'!$D$9*4024/2000,IF('Concrete Plant (CP-6)'!$D$10>0,'Concrete Plant (CP-6)'!$D$10*365*4024/2000,\"\")),IF(E34=\"CP-7\",IF('Concrete Plant (CP-7)'!$D$9>0,'Concrete Plant (CP-7)'!$D$9*4024/2000,IF('Concrete Plant (CP-7)'!$D$10>0,'Concrete Plant (CP-7)'!$D$10*365*4024/2000,\"\")),IF(E34=\"CP-8\",IF('Concrete Plant (CP-8)'!$D$9>0,'Concrete Plant (CP-8)'!$D$9*4024/2000,IF('Concrete Plant (CP-8)'!$D$10>0,'Concrete Plant (CP-8)'!$D$10*365*4024/2000,\"\")),IF(E34=\"CP-9\",IF('Concrete Plant (CP-9)'!$D$9>0,'Concrete Plant (CP-9)'!$D$9*4024/2000,IF('Concrete Plant (CP-9)'!$D$10>0,'Concrete Plant (CP-9)'!$D$10*365*4024/2000,\"\")),IF(E34=\"CP-10\",IF('Concrete Plant (CP-10)'!$D$9>0,'Concrete Plant (CP-10)'!$D$9*4024/2000,IF('Concrete Plant (CP-10)'!$D$10>0,'Concrete Plant (CP-10)'!$D$10*365*4024/2000,\"\")))))))))))))","v":""},null,null,"","","","",null,"","","","","","","","","","",""]
[null,null,null,null,null,null,null,null,null,"","",null,{"$f":"IF(E35=\"\",\"\",IF(E35=\"CP-1\",IF('Concrete Plant (CP-1)'!$D$9>0,'Concrete Plant (CP-1)'!$D$9*4024/2000,IF('Concrete Plant (CP-1)'!$D$10>0,'Concrete Plant (CP-1)'!$D$10*365*4024/2000,\"\")),IF(E35=\"CP-2\",IF('Concrete Plant (CP-2)'!$D$9>0,'Concrete Plant (CP-2)'!$D$9*4024/2000,IF('Concrete Plant (CP-2)'!$C$10>0,'Concrete Plant (CP-2)'!$C$10*365*4024/2000,\"\")),IF(E35=\"CP-3\",IF('Concrete Plant (CP-3)'!$D$9>0,'Concrete Plant (CP-3)'!$D$9*4024/2000,IF('Concrete Plant (CP-3)'!$D$10>0,'Concrete Plant (CP-3)'!$D$10*365*4024/2000,\"\")),IF(E35=\"CP-4\",IF('Concrete Plant (CP-4)'!$D$9>0,'Concrete Plant (CP-4)'!$D$9*4024/2000,IF('Concrete Plant (CP-4)'!$D$10>0,'Concrete Plant (CP-4)'!$D$10*365*4024/2000,\"\")),IF(E35=\"CP-5\",IF('Concrete Plant (CP-5)'!$D$9>0,'Concrete Plant (CP-5)'!$D$9*4024/2000,IF('Concrete Plant (CP-5)'!$D$10>0,'Concrete Plant (CP-5)'!$D$10*365*4024/2000,\"\")),IF(E35=\"CP-6\",IF('Concrete Plant (CP-6)'!$D$9>0,'Concrete Plant (CP-6)'!$D$9*4024/2000,IF('Concrete Plant (CP-6)'!$D$10>0,'Concrete Plant (CP-6)'!$D$10*365*4024/2000,\"\")),IF(E35=\"CP-7\",IF('Concrete Plant (CP-7)'!$D$9>0,'Concrete Plant (CP-7)'!$D$9*4024/2000,IF('Concrete Plant (CP-7)'!$D$10>0,'Concrete Plant (CP-7)'!$D$10*365*4024/2000,\"\")),IF(E35=\"CP-8\",IF('Concrete Plant (CP-8)'!$D$9>0,'Concrete Plant (CP-8)'!$D$9*4024/2000,IF('Concrete Plant (CP-8)'!$D$10>0,'Concrete Plant (CP-8)'!$D$10*365*4024/2000,\"\")),IF(E35=\"CP-9\",IF('Concrete Plant (CP-9)'!$D$9>0,'Concrete Plant (CP-9)'!$D$9*4024/2000,IF('Concrete Plant (CP-9)'!$D$10>0,'Concrete Plant (CP-9)'!$D$10*365*4024/2000,\"\")),IF(E35=\"CP-10\",IF('Concrete Plant (CP-10)'!$D$9>0,'Concrete Plant (CP-10)'!$D$9*4024/2000,IF('Concrete Plant (CP-10)'!$D$10>0,'Concrete Plant (CP-10)'!$D$10*365*4024/2000,\"\")))))))))))))","v":""},null,null,"","","","",null,"","","","","","","","","","",""]
[null,null,null,null,null,null,null,null,null,"","",null,{"$f":"IF(E36=\"\",\"\",IF(E36=\"CP-1\",IF('Concrete Plant (CP-1)'!$D$9>0,'Concrete Plant (CP-1)'!$D$9*4024/2000,IF('Concrete Plant (CP-1)'!$D$10>0,'Concrete Plant (CP-1)'!$D$10*365*4024/2000,\"\")),IF(E36=\"CP-2\",IF('Concrete Plant (CP-2)'!$D$9>0,'Concrete Plant (CP-2)'!$D$9*4024/2000,IF('Concrete Plant (CP-2)'!$C$10>0,'Concrete Plant (CP-2)'!$C$10*365*4024/2000,\"\")),IF(E36=\"CP-3\",IF('Concrete Plant (CP-3)'!$D$9>0,'Concrete Plant (CP-3)'!$D$9*4024/2000,IF('Concrete Plant (CP-3)'!$D$10>0,'Concrete Plant (CP-3)'!$D$10*365*4024/2000,\"\")),IF(E36=\"CP-4\",IF('Concrete Plant (CP-4)'!$D$9>0,'Concrete Plant (CP-4)'!$D$9*4024/2000,IF('Concrete Plant (CP-4)'!$D$10>0,'Concrete Plant (CP-4)'!$D$10*365*4024/2000,\"\")),IF(E36=\"CP-5\",IF('Concrete Plant (CP-5)'!$D$9>0,'Concrete Plant (CP-5)'!$D$9*4024/2000,IF('Concrete Plant (CP-5)'!$D$10>0,'Concrete Plant (CP-5)'!$D$10*365*4024/2000,\"\")),IF(E36=\"CP-6\",IF('Concrete Plant (CP-6)'!$D$9>0,'Concrete Plant (CP-6)'!$D$9*4024/2000,IF('Concrete Plant (CP-6)'!$D$10>0,'Concrete Plant (CP-6)'!$D$10*365*4024/2000,\"\")),IF(E36=\"CP-7\",IF('Concrete Plant (CP-7)'!$D$9>0,'Concrete Plant (CP-7)'!$D$9*4024/2000,IF('Concrete Plant (CP-7)'!$D$10>0,'Concrete Plant (CP-7)'!$D$10*365*4024/2000,\"\")),IF(E36=\"CP-8\",IF('Concrete Plant (CP-8)'!$D$9>0,'Concrete Plant (CP-8)'!$D$9*4024/2000,IF('Concrete Plant (CP-8)'!$D$10>0,'Concrete Plant (CP-8)'!$D$10*365*4024/2000,\"\")),IF(E36=\"CP-9\",IF('Concrete Plant (CP-9)'!$D$9>0,'Concrete Plant (CP-9)'!$D$9*4024/2000,IF('Concrete Plant (CP-9)'!$D$10>0,'Concrete Plant (CP-9)'!$D$10*365*4024/2000,\"\")),IF(E36=\"CP-10\",IF('Concrete Plant (CP-10)'!$D$9>0,'Concrete Plant (CP-10)'!$D$9*4024/2000,IF('Concrete Plant (CP-10)'!$D$10>0,'Concrete Plant (CP-10)'!$D$10*365*4024/2000,\"\")))))))))))))","v":""},null,null,"","","","",null,"","","","","","","","","","",""]
[null,null,null,null,null,null,null,null,null,"","",null,{"$f":"IF(E37=\"\",\"\",IF(E37=\"CP-1\",IF('Concrete Plant (CP-1)'!$D$9>0,'Concrete Plant (CP-1)'!$D$9*4024/2000,IF('Concrete Plant (CP-1)'!$D$10>0,'Concrete Plant (CP-1)'!$D$10*365*4024/2000,\"\")),IF(E37=\"CP-2\",IF('Concrete Plant (CP-2)'!$D$9>0,'Concrete Plant (CP-2)'!$D$9*4024/2000,IF('Concrete Plant (CP-2)'!$C$10>0,'Concrete Plant (CP-2)'!$C$10*365*4024/2000,\"\")),IF(E37=\"CP-3\",IF('Concrete Plant (CP-3)'!$D$9>0,'Concrete Plant (CP-3)'!$D$9*4024/2000,IF('Concrete Plant (CP-3)'!$D$10>0,'Concrete Plant (CP-3)'!$D$10*365*4024/2000,\"\")),IF(E37=\"CP-4\",IF('Concrete Plant (CP-4)'!$D$9>0,'Concrete Plant (CP-4)'!$D$9*4024/2000,IF('Concrete Plant (CP-4)'!$D$10>0,'Concrete Plant (CP-4)'!$D$10*365*4024/2000,\"\")),IF(E37=\"CP-5\",IF('Concrete Plant (CP-5)'!$D$9>0,'Concrete Plant (CP-5)'!$D$9*4024/2000,IF('Concrete Plant (CP-5)'!$D$10>0,'Concrete Plant (CP-5)'!$D$10*365*4024/2000,\"\")),IF(E37=\"CP-6\",IF('Concrete Plant (CP-6)'!$D$9>0,'Concrete Plant (CP-6)'!$D$9*4024/2000,IF('Concrete Plant (CP-6)'!$D$10>0,'Concrete Plant (CP-6)'!$D$10*365*4024/2000,\"\")),IF(E37=\"CP-7\",IF('Concrete Plant (CP-7)'!$D$9>0,'Concrete Plant (CP-7)'!$D$9*4024/2000,IF('Concrete Plant (CP-7)'!$D$10>0,'Concrete Plant (CP-7)'!$D$10*365*4024/2000,\"\")),IF(E37=\"CP-8\",IF('Concrete Plant (CP-8)'!$D$9>0,'Concrete Plant (CP-8)'!$D$9*4024/2000,IF('Concrete Plant (CP-8)'!$D$10>0,'Concrete Plant (CP-8)'!$D$10*365*4024/2000,\"\")),IF(E37=\"CP-9\",IF('Concrete Plant (CP-9)'!$D$9>0,'Concrete Plant (CP-9)'!$D$9*4024/2000,IF('Concrete Plant (CP-9)'!$D$10>0,'Concrete Plant (CP-9)'!$D$10*365*4024/2000,\"\")),IF(E37=\"CP-10\",IF('Concrete Plant (CP-10)'!$D$9>0,'Concrete Plant (CP-10)'!$D$9*4024/2000,IF('Concrete Plant (CP-10)'!$D$10>0,'Concrete Plant (CP-10)'!$D$10*365*4024/2000,\"\")))))))))))))","v":""},null,null,"","","","",null,"","","","","","","","","","",""]
[null,null,null,null,null,null,null,null,null,"","",null,{"$f":"IF(E38=\"\",\"\",IF(E38=\"CP-1\",IF('Concrete Plant (CP-1)'!$D$9>0,'Concrete Plant (CP-1)'!$D$9*4024/2000,IF('Concrete Plant (CP-1)'!$D$10>0,'Concrete Plant (CP-1)'!$D$10*365*4024/2000,\"\")),IF(E38=\"CP-2\",IF('Concrete Plant (CP-2)'!$D$9>0,'Concrete Plant (CP-2)'!$D$9*4024/2000,IF('Concrete Plant (CP-2)'!$C$10>0,'Concrete Plant (CP-2)'!$C$10*365*4024/2000,\"\")),IF(E38=\"CP-3\",IF('Concrete Plant (CP-3)'!$D$9>0,'Concrete Plant (CP-3)'!$D$9*4024/2000,IF('Concrete Plant (CP-3)'!$D$10>0,'Concrete Plant (CP-3)'!$D$10*365*4024/2000,\"\")),IF(E38=\"CP-4\",IF('Concrete Plant (CP-4)'!$D$9>0,'Concrete Plant (CP-4)'!$D$9*4024/2000,IF('Concrete Plant (CP-4)'!$D$10>0,'Concrete Plant (CP-4)'!$D$10*365*4024/2000,\"\")),IF(E38=\"CP-5\",IF('Concrete Plant (CP-5)'!$D$9>0,'Concrete Plant (CP-5)'!$D$9*4024/2000,IF('Concrete Plant (CP-5)'!$D$10>0,'Concrete Plant (CP-5)'!$D$10*365*4024/2000,\"\")),IF(E38=\"CP-6\",IF('Concrete Plant (CP-6)'!$D$9>0,'Concrete Plant (CP-6)'!$D$9*4024/2000,IF('Concrete Plant (CP-6)'!$D$10>0,'Concrete Plant (CP-6)'!$D$10*365*4024/2000,\"\")),IF(E38=\"CP-7\",IF('Concrete Plant (CP-7)'!$D$9>0,'Concrete Plant (CP-7)'!$D$9*4024/2000,IF('Concrete Plant (CP-7)'!$D$10>0,'Concrete Plant (CP-7)'!$D$10*365*4024/2000,\"\")),IF(E38=\"CP-8\",IF('Concrete Plant (CP-8)'!$D$9>0,'Concrete Plant (CP-8)'!$D$9*4024/2000,IF('Concrete Plant (CP-8)'!$D$10>0,'Concrete Plant (CP-8)'!$D$10*365*4024/2000,\"\")),IF(E38=\"CP-9\",IF('Concrete Plant (CP-9)'!$D$9>0,'Concrete Plant (CP-9)'!$D$9*4024/2000,IF('Concrete Plant (CP-9)'!$D$10>0,'Concrete Plant (CP-9)'!$D$10*365*4024/2000,\"\")),IF(E38=\"CP-10\",IF('Concrete Plant (CP-10)'!$D$9>0,'Concrete Plant (CP-10)'!$D$9*4024/2000,IF('Concrete Plant (CP-10)'!$D$10>0,'Concrete Plant (CP-10)'!$D$10*365*4024/2000,\"\")))))))))))))","v":""},null,null,"","","","",null,"","","","","","","","","","",""]
[null,null,null,null,null,null,null,null,null,"","",null,{"$f":"IF(E39=\"\",\"\",IF(E39=\"CP-1\",IF('Concrete Plant (CP-1)'!$D$9>0,'Concrete Plant (CP-1)'!$D$9*4024/2000,IF('Concrete Plant (CP-1)'!$D$10>0,'Concrete Plant (CP-1)'!$D$10*365*4024/2000,\"\")),IF(E39=\"CP-2\",IF('Concrete Plant (CP-2)'!$D$9>0,'Concrete Plant (CP-2)'!$D$9*4024/2000,IF('Concrete Plant (CP-2)'!$C$10>0,'Concrete Plant (CP-2)'!$C$10*365*4024/2000,\"\")),IF(E39=\"CP-3\",IF('Concrete Plant (CP-3)'!$D$9>0,'Concrete Plant (CP-3)'!$D$9*4024/2000,IF('Concrete Plant (CP-3)'!$D$10>0,'Concrete Plant (CP-3)'!$D$10*365*4024/2000,\"\")),IF(E39=\"CP-4\",IF('Concrete Plant (CP-4)'!$D$9>0,'Concrete Plant (CP-4)'!$D$9*4024/2000,IF('Concrete Plant (CP-4)'!$D$10>0,'Concrete Plant (CP-4)'!$D$10*365*4024/2000,\"\")),IF(E39=\"CP-5\",IF('Concrete Plant (CP-5)'!$D$9>0,'Concrete Plant (CP-5)'!$D$9*4024/2000,IF('Concrete Plant (CP-5)'!$D$10>0,'Concrete Plant (CP-5)'!$D$10*365*4024/2000,\"\")),IF(E39=\"CP-6\",IF('Concrete Plant (CP-6)'!$D$9>0,'Concrete Plant (CP-6)'!$D$9*4024/2000,IF('Concrete Plant (CP-6)'!$D$10>0,'Concrete Plant (CP-6)'!$D$10*365*4024/2000,\"\")),IF(E39=\"CP-7\",IF('Concrete Plant (CP-7)'!$D$9>0,'Concrete Plant (CP-7)'!$D$9*4024/2000,IF('Concrete Plant (CP-7)'!$D$10>0,'Concrete Plant (CP-7)'!$D$10*365*4024/2000,\"\")),IF(E39=\"CP-8\",IF('Concrete Plant (CP-8)'!$D$9>0,'Concrete Plant (CP-8)'!$D$9*4024/2000,IF('Concrete Plant (CP-8)'!$D$10>0,'Concrete Plant (CP-8)'!$D$10*365*4024/2000,\"\")),IF(E39=\"CP-9\",IF('Concrete Plant (CP-9)'!$D$9>0,'Concrete Plant (CP-9)'!$D$9*4024/2000,IF('Concrete Plant (CP-9)'!$D$10>0,'Concrete Plant (CP-9)'!$D$10*365*4024/2000,\"\")),IF(E39=\"CP-10\",IF('Concrete Plant (CP-10)'!$D$9>0,'Concrete Plant (CP-10)'!$D$9*4024/2000,IF('Concrete Plant (CP-10)'!$D$10>0,'Concrete Plant (CP-10)'!$D$10*365*4024/2000,\"\")))))))))))))","v":""},null,null,"","","","",null,"","","","","","","","","","",""]
[null,null,null,null,null,null,null,null,null,null,null,{"$f":"(SUM(IF(AE10=\"x\",L10,0),IF(AE11=\"x\",L11,0),IF(AE12=\"x\",L12,0),IF(AE13=\"x\",L13,0),IF(AE14=\"x\",L14,0),IF(AE15=\"x\",L15,0),IF(AE16=\"x\",L16,0),IF(AE17=\"x\",L17,0),IF(AE18=\"x\",L18,0),IF(AE19=\"x\",L19,0),IF(AE20=\"x\",L20,0),IF(AE21=\"x\",L21,0),IF(AE22=\"x\",L22,0),IF(AE23=\"x\",L23,0),IF(AE24=\"x\",L24,0),IF(AE25=\"x\",L25,0),IF(AE26=\"x\",L26,0),IF(AE27=\"x\",L27,0),IF(AE28=\"x\",L28,0),IF(AE29=\"x\",L29,0),IF(AE30=\"x\",L30,0),IF(AE31=\"x\",L31,0),IF(AE32=\"x\",L32,0),IF(AE33=\"x\",L33,0),IF(AE34=\"x\",L34,0),IF(AE35=\"x\",L35,0),IF(AE36=\"x\",L36,0),IF(AE37=\"x\",L37,0),IF(AE38=\"x\",L38,0),IF(AE39=\"x\",L39,0)))","v":0},{"$f":"IF(E40=\"\",\"\",IF(E40=\"CP-1\",IF('Concrete Plant (CP-1)'!$D$9>0,'Concrete Plant (CP-1)'!$D$9,IF('Concrete Plant (CP-1)'!$D$10>0,'Concrete Plant (CP-1)'!$D$10*365,\"\")),IF(E40=\"CP-2\",IF('Concrete Plant (CP-2)'!$C$9>0,'Concrete Plant (CP-2)'!$C$9,IF('Concrete Plant (CP-2)'!$C$10>0,'Concrete Plant (CP-2)'!$C$10*365,\"\")),IF(E40=\"CP-3\",IF('Concrete Plant (CP-3)'!$D$9>0,'Concrete Plant (CP-3)'!$D$9,IF('Concrete Plant (CP-3)'!$D$10>0,'Concrete Plant (CP-3)'!$D$10*365,\"\")),IF(E40=\"CP-4\",IF('Concrete Plant (CP-4)'!$D$9>0,'Concrete Plant (CP-4)'!$D$9,IF('Concrete Plant (CP-4)'!$D$10>0,'Concrete Plant (CP-4)'!$D$10*365,\"\")),IF(E40=\"CP-5\",IF('Concrete Plant (CP-5)'!$D$9>0,'Concrete Plant (CP-5)'!$D$9,IF('Concrete Plant (CP-5)'!$D$10>0,'Concrete Plant (CP-5)'!$D$10*365,\"\")),IF(E40=\"CP-6\",IF('Concrete Plant (CP-6)'!$D$9>0,'Concrete Plant (CP-6)'!$D$9,IF('Concrete Plant (CP-6)'!$D$10>0,'Concrete Plant (CP-6)'!$D$10*365,\"\")),IF(E40=\"CP-7\",IF('Concrete Plant (CP-7)'!$D$9>0,'Concrete Plant (CP-7)'!$D$9,IF('Concrete Plant (CP-7)'!$D$10>0,'Concrete Plant (CP-7)'!$D$10*365,\"\")),IF(E40=\"CP-8\",IF('Concrete Plant (CP-8)'!$D$9>0,'Concrete Plant (CP-8)'!$D$9,IF('Concrete Plant (CP-8)'!$D$10>0,'Concrete Plant (CP-8)'!$D$10*365,\"\")),IF(E40=\"CP-9\",IF('Concrete Plant (CP-9)'!$D$9>0,'Concrete Plant (CP-9)'!$D$9,IF('Concrete Plant (CP-9)'!$D$10>0,'Concrete Plant (CP-9)'!$D$10*365,\"\")),IF(E40=\"CP-10\",IF('Concrete Plant (CP-10)'!$D$9>0,'Concrete Plant (CP-10)'!$D$9,IF('Concrete Plant (CP-10)'!$D$10>0,'Concrete Plant (CP-10)'!$D$10*365,\"\")))))))))))))","v":""},null,null,{"$f":"(SUM(IF(AE10=\"x\",P10,0),IF(AE11=\"x\",P11,0),IF(AE12=\"x\",P12,0),IF(AE13=\"x\",P13,0),IF(AE14=\"x\",P14,0),IF(AE15=\"x\",P15,0),IF(AE16=\"x\",P16,0),IF(AE17=\"x\",P17,0),IF(AE18=\"x\",P18,0),IF(AE19=\"x\",P19,0),IF(AE20=\"x\",P20,0),IF(AE21=\"x\",P21,0),IF(AE22=\"x\",P22,0),IF(AE23=\"x\",P23,0),IF(AE24=\"x\",P24,0),IF(AE25=\"x\",P25,0),IF(AE26=\"x\",P26,0),IF(AE27=\"x\",P27,0),IF(AE28=\"x\",P28,0),IF(AE29=\"x\",P29,0),IF(AE30=\"x\",P30,0),IF(AE31=\"x\",P31,0),IF(AE32=\"x\",P32,0),IF(AE33=\"x\",P33,0),IF(AE34=\"x\",P34,0),IF(AE35=\"x\",P35,0),IF(AE36=\"x\",P36,0),IF(AE37=\"x\",P37,0),IF(AE38=\"x\",P38,0),IF(AE39=\"x\",P39,0)))","v":0},null,"",null,"Unpaved",{"$f":"(MAX(IF(AE10=\"x\",U10,0),IF(AE11=\"x\",U11,0),IF(AE12=\"x\",U12,0),IF(AE13=\"x\",U13,0),IF(AE14=\"x\",U14,0),IF(AE15=\"x\",U15,0),IF(AE16=\"x\",U16,0),IF(AE17=\"x\",U17,0),IF(AE18=\"x\",U18,0),IF(AE19=\"x\",U19,0),IF(AE30=\"x\",U30,0),IF(AE31=\"x\",U31,0),IF(AE32=\"x\",U32,0),IF(AE33=\"x\",U33,0),IF(AE34=\"x\",U34,0),IF(AE35=\"x\",U35,0),IF(AE36=\"x\",U36,0),IF(AE37=\"x\",U37,0),IF(AE38=\"x\",U38,0),IF(AE39=\"x\",U39,0)))","v":0},{"$f":"(SUM(IF(AE10=\"x\",V10,0),IF(AE11=\"x\",V11,0),IF(AE12=\"x\",V12,0),IF(AE13=\"x\",V13,0),IF(AE14=\"x\",V14,0),IF(AE15=\"x\",V15,0),IF(AE16=\"x\",V16,0),IF(AE17=\"x\",V17,0),IF(AE18=\"x\",V18,0),IF(AE19=\"x\",V19,0),IF(AE30=\"x\",V30,0),IF(AE31=\"x\",V31,0),IF(AE32=\"x\",V32,0),IF(AE33=\"x\",V33,0),IF(AE34=\"x\",V34,0),IF(AE35=\"x\",V35,0),IF(AE36=\"x\",V36,0),IF(AE37=\"x\",V37,0),IF(AE38=\"x\",V38,0),IF(AE39=\"x\",V39,0)))","v":0},{"$f":"SUM(W10:W39)","v":0},"",null,{"$f":"(MAX(IF(AE10=\"x\",Z10,0),IF(AE11=\"x\",Z11,0),IF(AE12=\"x\",Z12,0),IF(AE13=\"x\",Z13,0),IF(AE14=\"x\",Z14,0),IF(AE15=\"x\",Z15,0),IF(AE16=\"x\",Z16,0),IF(AE17=\"x\",Z17,0),IF(AE18=\"x\",Z18,0),IF(AE19=\"x\",Z19,0),IF(AE30=\"x\",Z30,0),IF(AE31=\"x\",Z31,0),IF(AE32=\"x\",Z32,0),IF(AE33=\"x\",Z33,0),IF(AE34=\"x\",Z34,0),IF(AE35=\"x\",Z35,0),IF(AE36=\"x\",Z36,0),IF(AE37=\"x\",Z37,0),IF(AE38=\"x\",Z38,0),IF(AE39=\"x\",Z39,0)))","v":0},{"$f":"(SUM(IF(AE10=\"x\",AA10,0),IF(AE11=\"x\",AA11,0),IF(AE12=\"x\",AA12,0),IF(AE13=\"x\",AA13,0),IF(AE14=\"x\",AA14,0),IF(AE15=\"x\",AA15,0),IF(AE16=\"x\",AA16,0),IF(AE17=\"x\",AA17,0),IF(AE18=\"x\",AA18,0),IF(AE19=\"x\",AA19,0),IF(AE30=\"x\",AA30,0),IF(AE31=\"x\",AA31,0),IF(AE32=\"x\",AA32,0),IF(AE33=\"x\",AA33,0),IF(AE34=\"x\",AA34,0),IF(AE35=\"x\",AA35,0),IF(AE36=\"x\",AA36,0),IF(AE37=\"x\",AA37,0),IF(AE38=\"x\",AA38,0),IF(AE39=\"x\",AA39,0)))","v":0},{"$f":"SUM(AB10:AB39)","v":0},""]
[null,null,null,null,null,null,null,null,null,null,null,{"$f":"(SUM(IF(AE10=\"x\",0,L10),IF(AE11=\"x\",0,L11),IF(AE12=\"x\",0,L12),IF(AE13=\"x\",0,L13),IF(AE14=\"x\",0,L14),IF(AE15=\"x\",0,L15),IF(AE16=\"x\",0,L16),IF(AE17=\"x\",0,L17),IF(AE18=\"x\",0,L18),IF(AE19=\"x\",0,L19),IF(AE20=\"x\",0,L20),IF(AE21=\"x\",0,L21),IF(AE22=\"x\",0,L22),IF(AE23=\"x\",0,L23),IF(AE24=\"x\",0,L24),IF(AE25=\"x\",0,L25),IF(AE26=\"x\",0,L26),IF(AE27=\"x\",0,L27),IF(AE28=\"x\",0,L28),IF(AE29=\"x\",0,L29),IF(AE30=\"x\",0,L30),IF(AE31=\"x\",0,L31),IF(AE32=\"x\",0,L32),IF(AE33=\"x\",0,L33),IF(AE34=\"x\",0,L34),IF(AE35=\"x\",0,L35),IF(AE36=\"x\",0,L36),IF(AE37=\"x\",0,L37),IF(AE38=\"x\",0,L38),IF(AE39=\"x\",0,L39)))","v":0},{"$f":"IF(E41=\"\",\"\",IF(E41=\"CP-1\",IF('Concrete Plant (CP-1)'!$D$9>0,'Concrete Plant (CP-1)'!$D$9,IF('Concrete Plant (CP-1)'!$D$10>0,'Concrete Plant (CP-1)'!$D$10*365,\"\")),IF(E41=\"CP-2\",IF('Concrete Plant (CP-2)'!$C$9>0,'Concrete Plant (CP-2)'!$C$9,IF('Concrete Plant (CP-2)'!$C$10>0,'Concrete Plant (CP-2)'!$C$10*365,\"\")),IF(E41=\"CP-3\",IF('Concrete Plant (CP-3)'!$D$9>0,'Concrete Plant (CP-3)'!$D$9,IF('Concrete Plant (CP-3)'!$D$10>0,'Concrete Plant (CP-3)'!$D$10*365,\"\")),IF(E41=\"CP-4\",IF('Concrete Plant (CP-4)'!$D$9>0,'Concrete Plant (CP-4)'!$D$9,IF('Concrete Plant (CP-4)'!$D$10>0,'Concrete Plant (CP-4)'!$D$10*365,\"\")),IF(E41=\"CP-5\",IF('Concrete Plant (CP-5)'!$D$9>0,'Concrete Plant (CP-5)'!$D$9,IF('Concrete Plant (CP-5)'!$D$10>0,'Concrete Plant (CP-5)'!$D$10*365,\"\")),IF(E41=\"CP-6\",IF('Concrete Plant (CP-6)'!$D$9>0,'Concrete Plant (CP-6)'!$D$9,IF('Concrete Plant (CP-6)'!$D$10>0,'Concrete Plant (CP-6)'!$D$10*365,\"\")),IF(E41=\"CP-7\",IF('Concrete Plant (CP-7)'!$D$9>0,'Concrete Plant (CP-7)'!$D$9,IF('Concrete Plant (CP-7)'!$D$10>0,'Concrete Plant (CP-7)'!$D$10*365,\"\")),IF(E41=\"CP-8\",IF('Concrete Plant (CP-8)'!$D$9>0,'Concrete Plant (CP-8)'!$D$9,IF('Concrete Plant (CP-8)'!$D$10>0,'Concrete Plant (CP-8)'!$D$10*365,\"\")),IF(E41=\"CP-9\",IF('Concrete Plant (CP-9)'!$D$9>0,'Concrete Plant (CP-9)'!$D$9,IF('Concrete Plant (CP-9)'!$D$10>0,'Concrete Plant (CP-9)'!$D$10*365,\"\")),IF(E41=\"CP-10\",IF('Concrete Plant (CP-10)'!$D$9>0,'Concrete Plant (CP-10)'!$D$9,IF('Concrete Plant (CP-10)'!$D$10>0,'Concrete Plant (CP-10)'!$D$10*365,\"\")))))))))))))","v":""},null,null,{"$f":"(SUM(IF(AE10=\"x\",0,P10),IF(AE11=\"x\",0,P11),IF(AE12=\"x\",0,P12),IF(AE13=\"x\",0,P13),IF(AE14=\"x\",0,P14),IF(AE15=\"x\",0,P15),IF(AE16=\"x\",0,P16),IF(AE17=\"x\",0,P17),IF(AE18=\"x\",0,P18),IF(AE19=\"x\",0,P19),IF(AE20=\"x\",0,P20),IF(AE21=\"x\",0,P21),IF(AE22=\"x\",0,P22),IF(AE23=\"x\",0,P23),IF(AE24=\"x\",0,P24),IF(AE25=\"x\",0,P25),IF(AE26=\"x\",0,P26),IF(AE27=\"x\",0,P27),IF(AE28=\"x\",0,P28),IF(AE29=\"x\",0,P29),IF(AE30=\"x\",0,P30),IF(AE31=\"x\",0,P31),IF(AE32=\"x\",0,P32),IF(AE33=\"x\",0,P33),IF(AE34=\"x\",0,P34),IF(AE35=\"x\",0,P35),IF(AE36=\"x\",0,P36),IF(AE37=\"x\",0,P37),IF(AE38=\"x\",0,P38),IF(AE39=\"x\",0,P39)))","v":0},null,"",null,"Paved",{"$f":"(SUM(IF(AE10=\"x\",0,U10),IF(AE11=\"x\",0,U11),IF(AE12=\"x\",0,U12),IF(AE13=\"x\",0,U13),IF(AE14=\"x\",0,U14),IF(AE15=\"x\",0,U15),IF(AE16=\"x\",0,U16),IF(AE17=\"x\",0,U17),IF(AE18=\"x\",0,U18),IF(AE19=\"x\",0,U19),IF(AE30=\"x\",0,U30),IF(AE31=\"x\",0,U31),IF(AE32=\"x\",0,U32),IF(AE33=\"x\",0,U33),IF(AE34=\"x\",0,U34),IF(AE35=\"x\",0,U35),IF(AE36=\"x\",0,U36),IF(AE37=\"x\",0,U37),IF(AE38=\"x\",0,U38),IF(AE39=\"x\",0,U39)))","v":0},{"$f":"(SUM(IF(AE10=\"x\",0,V10),IF(AE11=\"x\",0,V11),IF(AE12=\"x\",0,V12),IF(AE13=\"x\",0,V13),IF(AE14=\"x\",0,V14),IF(AE15=\"x\",0,V15),IF(AE16=\"x\",0,V16),IF(AE17=\"x\",0,V17),IF(AE18=\"x\",0,V18),IF(AE19=\"x\",0,V19),IF(AE30=\"x\",0,V30),IF(AE31=\"x\",0,V31),IF(AE32=\"x\",0,V32),IF(AE33=\"x\",0,V33),IF(AE34=\"x\",0,V34),IF(AE35=\"x\",0,V35),IF(AE36=\"x\",0,V36),IF(AE37=\"x\",0,V37),IF(AE38=\"x\",0,V38),IF(AE39=\"x\",0,V39)))","v":0},null,null,null,{"$f":"(SUM(IF(AE10=\"x\",0,Z10),IF(AE11=\"x\",0,Z11),IF(AE12=\"x\",0,Z12),IF(AE13=\"x\",0,Z13),IF(AE14=\"x\",0,Z14),IF(AE15=\"x\",0,Z15),IF(AE16=\"x\",0,Z16),IF(AE17=\"x\",0,Z17),IF(AE18=\"x\",0,Z18),IF(AE19=\"x\",0,Z19),IF(AE30=\"x\",0,Z30),IF(AE31=\"x\",0,Z31),IF(AE32=\"x\",0,Z32),IF(AE33=\"x\",0,Z33),IF(AE34=\"x\",0,Z34),IF(AE35=\"x\",0,Z35),IF(AE36=\"x\",0,Z36),IF(AE37=\"x\",0,Z37),IF(AE38=\"x\",0,Z38),IF(AE39=\"x\",0,Z39)))","v":0},{"$f":"(SUM(IF(AE10=\"x\",0,AA10),IF(AE11=\"x\",0,AA11),IF(AE12=\"x\",0,AA12),IF(AE13=\"x\",0,AA13),IF(AE14=\"x\",0,AA14),IF(AE15=\"x\",0,AA15),IF(AE16=\"x\",0,AA16),IF(AE17=\"x\",0,AA17),IF(AE18=\"x\",0,AA18),IF(AE19=\"x\",0,AA19),IF(AE30=\"x\",0,AA30),IF(AE31=\"x\",0,AA31),IF(AE32=\"x\",0,AA32),IF(AE33=\"x\",0,AA33),IF(AE34=\"x\",0,AA34),IF(AE35=\"x\",0,AA35),IF(AE36=\"x\",0,AA36),IF(AE37=\"x\",0,AA37),IF(AE38=\"x\",0,AA38),IF(AE39=\"x\",0,AA39)))","v":0}]
[]
[null,null,null,"Total potential PM2.5 emissions (tons/yr) from all unpaved haul roads used by the facility:",null,null,null,null,null,null,null,{"$f":"(SUM(IF(AE10=\"x\",X10,0),IF(AE11=\"x\",X11,0),IF(AE12=\"x\",X12,0),IF(AE13=\"x\",X13,0),IF(AE14=\"x\",X14,0),IF(AE15=\"x\",X15,0),IF(AE16=\"x\",X16,0),IF(AE17=\"x\",X17,0),IF(AE18=\"x\",X18,0),IF(AE19=\"x\",X19,0),IF(AE20=\"x\",X20,0),IF(AE21=\"x\",X21,0),IF(AE22=\"x\",X22,0),IF(AE23=\"x\",X23,0),IF(AE24=\"x\",X24,0),IF(AE25=\"x\",X25,0),IF(AE26=\"x\",X26,0),IF(AE27=\"x\",X27,0),IF(AE28=\"x\",X28,0),IF(AE29=\"x\",X29,0),IF(AE30=\"x\",X30,0),IF(AE31=\"x\",X31,0),IF(AE32=\"x\",X32,0),IF(AE33=\"x\",X33,0),IF(AE34=\"x\",X34,0),IF(AE35=\"x\",X35,0),IF(AE36=\"x\",X36,0),IF(AE37=\"x\",X37,0),IF(AE38=\"x\",X38,0),IF(AE39=\"x\",X39,0)))","v":0}]
[null,null,null,"Total potential PM2.5 emissions (tons/yr) from all paved haul roads used by the facility:",null,null,null,null,null,null,null,{"$f":"(SUM(IF(AE10=\"x\",0,X10),IF(AE11=\"x\",0,X11),IF(AE12=\"x\",0,X12),IF(AE13=\"x\",0,X13),IF(AE14=\"x\",0,X14),IF(AE15=\"x\",0,X15),IF(AE16=\"x\",0,X16),IF(AE17=\"x\",0,X17),IF(AE18=\"x\",0,X18),IF(AE19=\"x\",0,X19),IF(AE20=\"x\",0,X20),IF(AE21=\"x\",0,X21),IF(AE22=\"x\",0,X22),IF(AE23=\"x\",0,X23),IF(AE24=\"x\",0,X24),IF(AE25=\"x\",0,X25),IF(AE26=\"x\",0,X26),IF(AE27=\"x\",0,X27),IF(AE28=\"x\",0,X28),IF(AE29=\"x\",0,X29),IF(AE30=\"x\",0,X30),IF(AE31=\"x\",0,X31),IF(AE32=\"x\",0,X32),IF(AE33=\"x\",0,X33),IF(AE34=\"x\",0,X34),IF(AE35=\"x\",0,X35),IF(AE36=\"x\",0,X36),IF(AE37=\"x\",0,X37),IF(AE38=\"x\",0,X38),IF(AE39=\"x\",0,X39)))","v":0}]
[null,null,null,"Total potential PM10 emissions (tons/yr) from all unpaved haul roads used by the facility:",null,null,null,null,null,null,null,{"$f":"(SUM(IF(AE10=\"x\",AC10,0),IF(AE11=\"x\",AC11,0),IF(AE12=\"x\",AC12,0),IF(AE13=\"x\",AC13,0),IF(AE14=\"x\",AC14,0),IF(AE15=\"x\",AC15,0),IF(AE16=\"x\",AC16,0),IF(AE17=\"x\",AC17,0),IF(AE18=\"x\",AC18,0),IF(AE19=\"x\",AC19,0),IF(AE20=\"x\",AC20,0),IF(AE21=\"x\",AC21,0),IF(AE22=\"x\",AC22,0),IF(AE23=\"x\",AC23,0),IF(AE24=\"x\",AC24,0),IF(AE25=\"x\",AC25,0),IF(AE26=\"x\",AC26,0),IF(AE27=\"x\",AC27,0),IF(AE28=\"x\",AC28,0),IF(AE29=\"x\",AC29,0),IF(AE30=\"x\",AC30,0),IF(AE31=\"x\",AC31,0),IF(AE32=\"x\",AC32,0),IF(AE33=\"x\",AC33,0),IF(AE34=\"x\",AC34,0),IF(AE35=\"x\",AC35,0),IF(AE36=\"x\",AC36,0),IF(AE37=\"x\",AC37,0),IF(AE38=\"x\",AC38,0),IF(AE39=\"x\",AC39,0)))","v":0}]
[null,null,null,"Total potential PM10 emissions (tons/yr) from all paved haul roads used by the facility:",null,null,null,null,null,null,null,{"$f":"(SUM(IF(AE10=\"x\",0,AC10),IF(AE11=\"x\",0,AC11),IF(AE12=\"x\",0,AC12),IF(AE13=\"x\",0,AC13),IF(AE14=\"x\",0,AC14),IF(AE15=\"x\",0,AC15),IF(AE16=\"x\",0,AC16),IF(AE17=\"x\",0,AC17),IF(AE18=\"x\",0,AC18),IF(AE19=\"x\",0,AC19),IF(AE20=\"x\",0,AC20),IF(AE21=\"x\",0,AC21),IF(AE22=\"x\",0,AC22),IF(AE23=\"x\",0,AC23),IF(AE24=\"x\",0,AC24),IF(AE25=\"x\",0,AC25),IF(AE26=\"x\",0,AC26),IF(AE27=\"x\",0,AC27),IF(AE28=\"x\",0,AC28),IF(AE29=\"x\",0,AC29),IF(AE30=\"x\",0,AC30),IF(AE31=\"x\",0,AC31),IF(AE32=\"x\",0,AC32),IF(AE33=\"x\",0,AC33),IF(AE34=\"x\",0,AC34),IF(AE35=\"x\",0,AC35),IF(AE36=\"x\",0,AC36),IF(AE37=\"x\",0,AC37),IF(AE38=\"x\",0,AC38),IF(AE39=\"x\",0,AC39)))","v":0}]
[]
[null,null,null,"Total actual PM2.5 emissions (tons/yr) from all unpaved haul roads used by the facility:",null,null,null,null,null,null,null,{"$f":"(SUM(IF(AE10=\"x\",Y10,0),IF(AE11=\"x\",Y11,0),IF(AE12=\"x\",Y12,0),IF(AE13=\"x\",Y13,0),IF(AE14=\"x\",Y14,0),IF(AE15=\"x\",Y15,0),IF(AE16=\"x\",Y16,0),IF(AE17=\"x\",Y17,0),IF(AE18=\"x\",Y18,0),IF(AE19=\"x\",Y19,0),IF(AE20=\"x\",Y20,0),IF(AE21=\"x\",Y21,0),IF(AE22=\"x\",Y22,0),IF(AE23=\"x\",Y23,0),IF(AE24=\"x\",Y24,0),IF(AE25=\"x\",Y25,0),IF(AE26=\"x\",Y26,0),IF(AE27=\"x\",Y27,0),IF(AE28=\"x\",Y28,0),IF(AE29=\"x\",Y29,0),IF(AE30=\"x\",Y30,0),IF(AE31=\"x\",Y31,0),IF(AE32=\"x\",Y32,0),IF(AE33=\"x\",Y33,0),IF(AE34=\"x\",Y34,0),IF(AE35=\"x\",Y35,0),IF(AE36=\"x\",Y36,0),IF(AE37=\"x\",Y37,0),IF(AE38=\"x\",Y38,0),IF(AE39=\"x\",Y39,0)))","v":0}]
[null,null,null,"Total actual PM2.5 emissions (tons/yr) from all paved haul roads used by the facility:",null,null,null,null,null,null,null,{"$f":"(SUM(IF(AE10=\"x\",0,Y10),IF(AE11=\"x\",0,Y11),IF(AE12=\"x\",0,Y12),IF(AE13=\"x\",0,Y13),IF(AE14=\"x\",0,Y14),IF(AE15=\"x\",0,Y15),IF(AE16=\"x\",0,Y16),IF(AE17=\"x\",0,Y17),IF(AE18=\"x\",0,Y18),IF(AE19=\"x\",0,Y19),IF(AE20=\"x\",0,Y20),IF(AE21=\"x\",0,Y21),IF(AE22=\"x\",0,Y22),IF(AE23=\"x\",0,Y23),IF(AE24=\"x\",0,Y24),IF(AE25=\"x\",0,Y25),IF(AE26=\"x\",0,Y26),IF(AE27=\"x\",0,Y27),IF(AE28=\"x\",0,Y28),IF(AE29=\"x\",0,Y29),IF(AE30=\"x\",0,Y30),IF(AE31=\"x\",0,Y31),IF(AE32=\"x\",0,Y32),IF(AE33=\"x\",0,Y33),IF(AE34=\"x\",0,Y34),IF(AE35=\"x\",0,Y35),IF(AE36=\"x\",0,Y36),IF(AE37=\"x\",0,Y37),IF(AE38=\"x\",0,Y38),IF(AE39=\"x\",0,Y39)))","v":0}]
[null,null,null,"Total actual PM10 emissions (tons/yr) from all unpaved haul roads used by the facility:",null,null,null,null,null,null,null,{"$f":"(SUM(IF(AE10=\"x\",AD10,0),IF(AE11=\"x\",AD11,0),IF(AE12=\"x\",AD12,0),IF(AE13=\"x\",AD13,0),IF(AE14=\"x\",AD14,0),IF(AE15=\"x\",AD15,0),IF(AE16=\"x\",AD16,0),IF(AE17=\"x\",AD17,0),IF(AE18=\"x\",AD18,0),IF(AE19=\"x\",AD19,0),IF(AE20=\"x\",AD20,0),IF(AE21=\"x\",AD21,0),IF(AE22=\"x\",AD22,0),IF(AE23=\"x\",AD23,0),IF(AE24=\"x\",AD24,0),IF(AE25=\"x\",AD25,0),IF(AE26=\"x\",AD26,0),IF(AE27=\"x\",AD27,0),IF(AE28=\"x\",AD28,0),IF(AE29=\"x\",AD29,0),IF(AE30=\"x\",AD30,0),IF(AE31=\"x\",AD31,0),IF(AE32=\"x\",AD32,0),IF(AE33=\"x\",AD33,0),IF(AE34=\"x\",AD34,0),IF(AE35=\"x\",AD35,0),IF(AE36=\"x\",AD36,0),IF(AE37=\"x\",AD37,0),IF(AE38=\"x\",AD38,0),IF(AE39=\"x\",AD39,0)))","v":0}]
[null,null,null,"Total actual PM10 emissions (tons/yr) from all paved haul roads used by the facility:",null,null,null,null,null,null,null,{"$f":"(SUM(IF(AE10=\"x\",0,AD10),IF(AE11=\"x\",0,AD11),IF(AE12=\"x\",0,AD12),IF(AE13=\"x\",0,AD13),IF(AE14=\"x\",0,AD14),IF(AE15=\"x\",0,AD15),IF(AE16=\"x\",0,AD16),IF(AE17=\"x\",0,AD17),IF(AE18=\"x\",0,AD18),IF(AE19=\"x\",0,AD19),IF(AE20=\"x\",0,AD20),IF(AE21=\"x\",0,AD21),IF(AE22=\"x\",0,AD22),IF(AE23=\"x\",0,AD23),IF(AE24=\"x\",0,AD24),IF(AE25=\"x\",0,AD25),IF(AE26=\"x\",0,AD26),IF(AE27=\"x\",0,AD27),IF(AE28=\"x\",0,AD28),IF(AE29=\"x\",0,AD29),IF(AE30=\"x\",0,AD30),IF(AE31=\"x\",0,AD31),IF(AE32=\"x\",0,AD32),IF(AE33=\"x\",0,AD33),IF(AE34=\"x\",0,AD34),IF(AE35=\"x\",0,AD35),IF(AE36=\"x\",0,AD36),IF(AE37=\"x\",0,AD37),IF(AE38=\"x\",0,AD38),IF(AE39=\"x\",0,AD39)))","v":0}]

{"sheet":"Permitted Diesel Engines","index":12,"n_rows":77,"n_cols":55,"rows_kept":77,"cut":false,"hidden":false,"merged":[[51,25,51,26],[51,27,51,28],[5,2,6,2],[5,16,6,16],[5,19,6,19],[5,17,6,17],[5,14,6,14],[5,12,6,12],[5,15,6,15],[5,18,6,18],[5,7,6,7],[5,11,6,11],[5,8,6,8],[5,9,6,9],[5,10,6,10],[3,23,6,23],[0,2,0,5],[5,6,6,6],[5,3,6,3],[5,5,6,5],[5,4,6,4],[1,2,1,6],[51,29,51,30],[51,33,51,34],[3,28,6,28],[3,29,6,29],[3,30,6,30],[3,31,6,31],[51,31,51,32],[51,35,51,36],[51,37,51,38],[51,39,51,40],[3,32,6,32],[3,33,6,33],[3,34,6,34],[3,38,6,38],[3,39,6,39],[3,40,6,40],[3,35,6,35],[3,36,6,36],[3,37,6,37],[50,12,50,15],[49,12,49,15],[3,54,6,54],[3,48,6,48],[3,49,6,49],[3,50,6,50],[3,51,6,51],[3,52,6,52],[3,53,6,53],[5,13,6,13],[3,46,6,46],[3,47,6,47],[3,41,6,41],[3,42,6,42],[3,43,6,43],[3,44,6,44],[3,45,6,45],[3,24,6,24],[3,25,6,25],[3,26,6,26],[3,27,6,27]]}
[null,null,"PERMITTED DIESEL ENGINES"]
[null,null,"Please fill in the yellow boxes as applicable for your facility. ",null,null,null,null,"**As of 2016 Potential Emissions are no longer required to be reported in the Minor Source Emissions Inventory**"]
[]
[null,null,null,null,null,"Actual Sulfur Content of Fuel:",null,"%",null,null,null,null,null,null,null,null,null,null,null,null,null,null,null,"PM2.5 Emission Factor (lb/MMBtu)","Potential Emissions (lb/hr)","Potential Emissions (tons/yr)","Actual Emissions (tons/yr)","PM10 Emission Factor (lb/MMBtu)","Potential Emissions (lb/hr)","Potential Emissions (tons/yr)","Actual Emissions (tons/yr)","SO2 Emission Factor (lb/MMBtu)","Potential Emissions (lb/hr)","Potential Emissions (tons/yr)","Actual Emissions (tons/yr)","NOx Emission Factor (lb/MMBtu)","Potential Emissions (lb/hr)","Potential Emissions (tons/yr)","Actual Emissions (tons/yr)","VOC Emission Factor (lb/MMBtu)","Potential Emissions (lb/hr)","Potential Emissions (tons/yr)","Actual Emissions (tons/yr)","CO Emission Factor (lb/MMBtu)","Potential Emissions (lb/hr)","Potential Emissions (tons/yr)","Actual Emissions (tons/yr)","Formaldehyde Emission Factor (lb/MMBtu)","Potential Emissions (lb/hr)","Potential Emissions (tons/yr)","Actual Emissions (tons/yr)","Benzene Emission Factor (lb/MMBtu)","Potential Emissions (lb/hr)","Potential Emissions (tons/yr)","Actual Emissions (tons/yr)"]
[]
[null,null,"Concrete Plant #","Emission Point #","Emission Unit #","Emission Unit Description     (>600 bhp / ≤ 600 bhp)","Permit Number","Hours/Yr Plant Wide Limit","Gal/Yr Plant Wide Limit","Sulfur Content Limit (%)","Sulfur Content","Stack Height (ft)","Stack Diameter (inches)","Stack Type","Exhaust Flowrate (acfm)","Exhaust Temp (Degree F)","Max Hourly Rate (gal/hr)","Max Hourly Rate (MMBtu/hr)",{"$f":"'Facility Information'!A53&\" Annual Throughput (gallons/yr)\"","v":" Annual Throughput (gallons/yr)"},"Annual Throughput (MMBtu/yr)"]
[null,null,null,null,null,null,null,null,null,null,null,null,null,null,null,null,null,null,null,null,"Diesel Generator> 600 bhp","<= 600 bhp",">600 bhp"]
[">600 bhp",{"$f":"IF(F8=\"Diesel Generator> 600 bhp\",\"yes\",\"no\")","v":"no"},null,null,null,null,null,null,null,null,{"$f":"IF(J8=\"\",0.5,J8)","v":0.5},null,null,null,null,null,null,{"$f":"IF(Q8=\"\",\"\",Q8*0.14)","v":""},null,{"$f":"IF(S8=\"\",\"\",S8*0.14)","v":""},"Diesel Generator ≤ 600 bhp",{"$f":"IF(B8=\"no\",H8*Q8*0.14,\"\")","v":0},{"$f":"IF(B8=\"yes\",H8*Q8*0.14,\"\")","v":""},{"$f":"IF(F8=\"\",\"\",IF(B8=\"no\",'Emission Factors'!$D$33,'Emission Factors'!$D$34))","v":""},{"$f":"IF(F8=\"\",\"\",X8*R8)","v":""},{"$f":"IF(F8=\"\",\"\",IF(I8>0,I8*0.14*X8/2000,IF(H8>0,X8*R8*H8/2000,Y8*8760/2000)))","v":""},{"$f":"IF(F8=\"\",\"\",T8*X8/2000)","v":""},{"$f":"IF(F8=\"\",\"\",IF(B8=\"no\",'Emission Factors'!$F$33,'Emission Factors'!$F$34))","v":""},{"$f":"IF(F8=\"\",\"\",AB8*R8)","v":""},{"$f":"IF(F8=\"\",\"\",IF(I8>0,I8*0.14*AB8/2000,IF(H8>0,AB8*R8*H8/2000,AC8*8760/2000)))","v":""},{"$f":"IF(F8=\"\",\"\",T8*AB8/2000)","v":""},{"$f":"IF(F8=\"\",\"\",IF(B8=\"no\",'Emission Factors'!$H$33,'Emission Factors'!$H$34))","v":""},{"$f":"IF(F8=\"\",\"\",IF(C8=\"CP-1\",IF('Concrete Plant (CP-1)'!$I$12>0,'Concrete Plant (CP-1)'!$I$12,AF8*R8*K8),IF(C8=\"CP-2\",IF('Concrete Plant (CP-2)'!$I$12>0,'Concrete Plant (CP-2)'!$I$12,AF8*R8*K8),IF(C8=\"CP-3\",IF('Concrete Plant (CP-3)'!$I$12>0,'Concrete Plant (CP-3)'!$I$12,AF8*R8*K8),IF(C8=\"CP-4\",IF('Concrete Plant (CP-4)'!$I$12>0,'Concrete Plant (CP-4)'!$I$12,AF8*R8*K8),IF(C8=\"CP-5\",IF('Concrete Plant (CP-5)'!$I$12>0,'Concrete Plant (CP-5)'!$I$12,AF8*R8*K8),IF(C8=\"CP-6\",IF('Concrete Plant (CP-6)'!$I$12>0,'Concrete Plant (CP-6)'!$I$12,AF8*R8*K8),IF(C8=\"CP-7\",IF('Concrete Plant (CP-7)'!$I$12>0,'Concrete Plant (CP-7)'!$I$12,AF8*R8*K8),IF(C8=\"CP-8\",IF('Concrete Plant (CP-8)'!$I$12>0,'Concrete Plant (CP-8)'!$I$12,AF8*R8*K8),IF(C8=\"CP-9\",IF('Concrete Plant (CP-9)'!$I$12>0,'Concrete Plant (CP-9)'!$I$12,AF8*R8*K8),IF(C8=\"CP-10\",IF('Concrete Plant (CP-10)'!$I$12>0,'Concrete Plant (CP-10)'!$I$12,AF8*R8*K8))))))))))))","v":""},{"$f":"IF(F8=\"\",\"\",IF(AF8=1.01,IF(I8>0,I8*0.14*AF8*K8/2000,IF(H8>0,AF8*K8*R8*H8/2000,AG8*8760/2000)),IF(I8>0,I8*0.14*AF8/2000,IF(H8>0,AF8*R8*H8/2000,AG8*8760/2000))))","v":""},{"$f":"IF(F8=\"\",\"\",IF(AF8=1.01,IF($G$4=\"\",T8*AF8*K8/2000,T8*AF8*$G$4/2000),AF8*T8/2000))","v":""},{"$f":"IF(F8=\"\",\"\",IF(B8=\"no\",'Emission Factors'!$J$33,'Emission Factors'!$J$34))","v":""},{"$f":"IF(F8=\"\",\"\",IF(C8=\"CP-1\",IF('Concrete Plant (CP-1)'!$I$13>0,'Concrete Plant (CP-1)'!$I$13,AJ8*R8),IF(C8=\"CP-2\",IF('Concrete Plant (CP-2)'!$I$13>0,'Concrete Plant (CP-2)'!$I$13,AJ8*R8),IF(C8=\"CP-3\",IF('Concrete Plant (CP-3)'!$I$13>0,'Concrete Plant (CP-3)'!$I$13,AJ8*R8),IF(C8=\"CP-4\",IF('Concrete Plant (CP-4)'!$I$13>0,'Concrete Plant (CP-4)'!$I$13,AJ8*R8),IF(C8=\"CP-5\",IF('Concrete Plant (CP-5)'!$I$13>0,'Concrete Plant (CP-5)'!$I$13,AJ8*R8),IF(C8=\"CP-6\",IF('Concrete Plant (CP-6)'!$I$13>0,'Concrete Plant (CP-6)'!$I$13,AJ8*R8),IF(C8=\"CP-7\",IF('Concrete Plant (CP-7)'!$I$13>0,'Concrete Plant (CP-7)'!$I$13,AJ8*R8),IF(C8=\"CP-8\",IF('Concrete Plant (CP-8)'!$I$13>0,'Concrete Plant (CP-8)'!$I$13,AJ8*R8),IF(C8=\"CP-9\",IF('Concrete Plant (CP-9)'!$I$13>0,'Concrete Plant (CP-9)'!$I$13,AJ8*R8),IF(C8=\"CP-10\",IF('Concrete Plant (CP-10)'!$I$13>0,'Concrete Plant (CP-10)'!$I$13,AJ8*R8))))))))))))","v":""},{"$f":"IF(F8=\"\",\"\",IF(I8>0,I8*0.14*AJ8/2000,IF(H8>0,AJ8*R8*H8/2000,AK8*8760/2000)))","v":""},{"$f":"IF(F8=\"\",\"\",T8*AJ8/2000)","v":""},{"$f":"IF(F8=\"\",\"\",IF(B8=\"no\",'Emission Factors'!$L$33,'Emission Factors'!$L$34))","v":""},{"$f":"IF(F8=\"\",\"\",IF(C8=\"CP-1\",IF('Concrete Plant (CP-1)'!$I$14>0,'Concrete Plant (CP-1)'!$I$14,AN8*R8),IF(C8=\"CP-2\",IF('Concrete Plant (CP-2)'!$I$14>0,'Concrete Plant (CP-2)'!$I$14,AN8*R8),IF(C8=\"CP-3\",IF('Concrete Plant (CP-3)'!$I$14>0,'Concrete Plant (CP-3)'!$I$14,AN8*R8),IF(C8=\"CP-4\",IF('Concrete Plant (CP-4)'!$I$14>0,'Concrete Plant (CP-4)'!$I$14,AN8*R8),IF(C8=\"CP-5\",IF('Concrete Plant (CP-5)'!$I$14>0,'Concrete Plant (CP-5)'!$I$14,AN8*R8),IF(C8=\"CP-6\",IF('Concrete Plant (CP-6)'!$I$14>0,'Concrete Plant (CP-6)'!$I$14,AN8*R8),IF(C8=\"CP-7\",IF('Concrete Plant (CP-7)'!$I$14>0,'Concrete Plant (CP-7)'!$I$14,AN8*R8),IF(C8=\"CP-8\",IF('Concrete Plant (CP-8)'!$I$14>0,'Concrete Plant (CP-8)'!$I$14,AN8*R8),IF(C8=\"CP-9\",IF('Concrete Plant (CP-9)'!$I$14>0,'Concrete Plant (CP-9)'!$I$14,AN8*R8),IF(C8=\"CP-10\",IF('Concrete Plant (CP-10)'!$I$14>0,'Concrete Plant (CP-10)'!$I$14,AN8*R8))))))))))))","v":""},{"$f":"IF(F8=\"\",\"\",IF(I8>0,I8*0.14*AN8/2000,IF(H8>0,AN8*R8*H8/2000,AO8*8760/2000)))","v":""},{"$f":"IF(F8=\"\",\"\",T8*AN8/2000)","v":""},{"$f":"IF(F8=\"\",\"\",IF(B8=\"no\",'Emission Factors'!$N$33,'Emission Factors'!$N$34))","v":""},{"$f":"IF(F8=\"\",\"\",IF(C8=\"CP-1\",IF('Concrete Plant (CP-1)'!$I$15>0,'Concrete Plant (CP-1)'!$I$15,AR8*R8),IF(C8=\"CP-2\",IF('Concrete Plant (CP-2)'!$I$15>0,'Concrete Plant (CP-2)'!$I$15,AR8*R8),IF(C8=\"CP-3\",IF('Concrete Plant (CP-3)'!$I$15>0,'Concrete Plant (CP-3)'!$I$15,AR8*R8),IF(C8=\"CP-4\",IF('Concrete Plant (CP-4)'!$I$15>0,'Concrete Plant (CP-4)'!$I$15,AR8*R8),IF(C8=\"CP-5\",IF('Concrete Plant (CP-5)'!$I$15>0,'Concrete Plant (CP-5)'!$I$15,AR8*R8),IF(C8=\"CP-6\",IF('Concrete Plant (CP-6)'!$I$15>0,'Concrete Plant (CP-6)'!$I$15,AR8*R8),IF(C8=\"CP-7\",IF('Concrete Plant (CP-7)'!$I$15>0,'Concrete Plant (CP-7)'!$I$15,AR8*R8),IF(C8=\"CP-8\",IF('Concrete Plant (CP-8)'!$I$15>0,'Concrete Plant (CP-8)'!$I$15,AR8*R8),IF(C8=\"CP-9\",IF('Concrete Plant (CP-9)'!$I$15>0,'Concrete Plant (CP-9)'!$I$15,AR8*R8),IF(C8=\"CP-10\",IF('Concrete Plant (CP-10)'!$I$15>0,'Concrete Plant (CP-10)'!$I$15,AR8*R8))))))))))))","v":""},{"$f":"IF(F8=\"\",\"\",IF(I8>0,I8*0.14*AR8/2000,IF(H8>0,AR8*R8*H8/2000,AS8*8760/2000)))","v":""},{"$f":"IF(F8=\"\",\"\",T8*AR8/2000)","v":""},{"$f":"IF(F8=\"\",\"\",IF(B8=\"no\",'Emission Factors'!$P$33,'Emission Factors'!$P$34))","v":""},{"$f":"IF(F8=\"\",\"\",AV8*R8)","v":""},{"$f":"IF(F8=\"\",\"\",IF(I8>0,I8*0.14*AV8/2000,IF(H8>0,AV8*R8*H8/2000,AW8*8760/2000)))","v":""},{"$f":"IF(F8=\"\",\"\",T8*AV8/2000)","v":""},{"$f":"IF(F8=\"\",\"\",IF(B8=\"no\",'Emission Factors'!$R$33,'Emission Factors'!$R$34))","v":""},{"$f":"IF(F8=\"\",\"\",AZ8*R8)","v":""},{"$f":"IF(F8=\"\",\"\",IF(I8>0,I8*0.14*AZ8/2000,IF(H8>0,AZ8*R8*H8/2000,BA8*8760/2000)))","v":""},{"$f":"IF(F8=\"\",\"\",T8*AZ8/2000)","v":""}]
[null,"no",null,null,null,null,null,null,null,null,0.5,null,null,null,null,null,null,"",null,"",null,0,"",{"$f":"IF(F9=\"\",\"\",IF(B9=\"no\",'Emission Factors'!$D$33,'Emission Factors'!$D$34))","v":""},{"$f":"IF(F9=\"\",\"\",X9*R9)","v":""},{"$f":"IF(F9=\"\",\"\",IF(I9>0,I9*0.14*X9/2000,IF(H9>0,X9*R9*H9/2000,Y9*8760/2000)))","v":""},{"$f":"IF(F9=\"\",\"\",T9*X9/2000)","v":""},{"$f":"IF(F9=\"\",\"\",IF(B9=\"no\",'Emission Factors'!$F$33,'Emission Factors'!$F$34))","v":""},{"$f":"IF(F9=\"\",\"\",AB9*R9)","v":""},{"$f":"IF(F9=\"\",\"\",IF(I9>0,I9*0.14*AB9/2000,IF(H9>0,AB9*R9*H9/2000,AC9*8760/2000)))","v":""},{"$f":"IF(F9=\"\",\"\",T9*AB9/2000)","v":""},{"$f":"IF(F9=\"\",\"\",IF(B9=\"no\",'Emission Factors'!$H$33,'Emission Factors'!$H$34))","v":""},{"$f":"IF(F9=\"\",\"\",IF(C9=\"CP-1\",IF('Concrete Plant (CP-1)'!$I$12>0,'Concrete Plant (CP-1)'!$I$12,AF9*R9*K9),IF(C9=\"CP-2\",IF('Concrete Plant (CP-2)'!$I$12>0,'Concrete Plant (CP-2)'!$I$12,AF9*R9*K9),IF(C9=\"CP-3\",IF('Concrete Plant (CP-3)'!$I$12>0,'Concrete Plant (CP-3)'!$I$12,AF9*R9*K9),IF(C9=\"CP-4\",IF('Concrete Plant (CP-4)'!$I$12>0,'Concrete Plant (CP-4)'!$I$12,AF9*R9*K9),IF(C9=\"CP-5\",IF('Concrete Plant (CP-5)'!$I$12>0,'Concrete Plant (CP-5)'!$I$12,AF9*R9*K9),IF(C9=\"CP-6\",IF('Concrete Plant (CP-6)'!$I$12>0,'Concrete Plant (CP-6)'!$I$12,AF9*R9*K9),IF(C9=\"CP-7\",IF('Concrete Plant (CP-7)'!$I$12>0,'Concrete Plant (CP-7)'!$I$12,AF9*R9*K9),IF(C9=\"CP-8\",IF('Concrete Plant (CP-8)'!$I$12>0,'Concrete Plant (CP-8)'!$I$12,AF9*R9*K9),IF(C9=\"CP-9\",IF('Concrete Plant (CP-9)'!$I$12>0,'Concrete Plant (CP-9)'!$I$12,AF9*R9*K9),IF(C9=\"CP-10\",IF('Concrete Plant (CP-10)'!$I$12>0,'Concrete Plant (CP-10)'!$I$12,AF9*R9*K9))))))))))))","v":""},{"$f":"IF(F9=\"\",\"\",IF(AF9=1.01,IF(I9>0,I9*0.14*AF9*K9/2000,IF(H9>0,AF9*K9*R9*H9/2000,AG9*8760/2000)),IF(I9>0,I9*0.14*AF9/2000,IF(H9>0,AF9*R9*H9/2000,AG9*8760/2000))))","v":""},{"$f":"IF(F9=\"\",\"\",IF(AF9=1.01,IF($G$4=\"\",T9*AF9*K9/2000,T9*AF9*$G$4/2000),AF9*T9/2000))","v":""},{"$f":"IF(F9=\"\",\"\",IF(B9=\"no\",'Emission Factors'!$J$33,'Emission Factors'!$J$34))","v":""},{"$f":"IF(F9=\"\",\"\",IF(C9=\"CP-1\",IF('Concrete Plant (CP-1)'!$I$13>0,'Concrete Plant (CP-1)'!$I$13,AJ9*R9),IF(C9=\"CP-2\",IF('Concrete Plant (CP-2)'!$I$13>0,'Concrete Plant (CP-2)'!$I$13,AJ9*R9),IF(C9=\"CP-3\",IF('Concrete Plant (CP-3)'!$I$13>0,'Concrete Plant (CP-3)'!$I$13,AJ9*R9),IF(C9=\"CP-4\",IF('Concrete Plant (CP-4)'!$I$13>0,'Concrete Plant (CP-4)'!$I$13,AJ9*R9),IF(C9=\"CP-5\",IF('Concrete Plant (CP-5)'!$I$13>0,'Concrete Plant (CP-5)'!$I$13,AJ9*R9),IF(C9=\"CP-6\",IF('Concrete Plant (CP-6)'!$I$13>0,'Concrete Plant (CP-6)'!$I$13,AJ9*R9),IF(C9=\"CP-7\",IF('Concrete Plant (CP-7)'!$I$13>0,'Concrete Plant (CP-7)'!$I$13,AJ9*R9),IF(C9=\"CP-8\",IF('Concrete Plant (CP-8)'!$I$13>0,'Concrete Plant (CP-8)'!$I$13,AJ9*R9),IF(C9=\"CP-9\",IF('Concrete Plant (CP-9)'!$I$13>0,'Concrete Plant (CP-9)'!$I$13,AJ9*R9),IF(C9=\"CP-10\",IF('Concrete Plant (CP-10)'!$I$13>0,'Concrete Plant (CP-10)'!$I$13,AJ9*R9))))))))))))","v":""},{"$f":"IF(F9=\"\",\"\",IF(I9>0,I9*0.14*AJ9/2000,IF(H9>0,AJ9*R9*H9/2000,AK9*8760/2000)))","v":""},{"$f":"IF(F9=\"\",\"\",T9*AJ9/2000)","v":""},{"$f":"IF(F9=\"\",\"\",IF(B9=\"no\",'Emission Factors'!$L$33,'Emission Factors'!$L$34))","v":""},{"$f":"IF(F9=\"\",\"\",IF(C9=\"CP-1\",IF('Concrete Plant (CP-1)'!$I$14>0,'Concrete Plant (CP-1)'!$I$14,AN9*R9),IF(C9=\"CP-2\",IF('Concrete Plant (CP-2)'!$I$14>0,'Concrete Plant (CP-2)'!$I$14,AN9*R9),IF(C9=\"CP-3\",IF('Concrete Plant (CP-3)'!$I$14>0,'Concrete Plant (CP-3)'!$I$14,AN9*R9),IF(C9=\"CP-4\",IF('Concrete Plant (CP-4)'!$I$14>0,'Concrete Plant (CP-4)'!$I$14,AN9*R9),IF(C9=\"CP-5\",IF('Concrete Plant (CP-5)'!$I$14>0,'Concrete Plant (CP-5)'!$I$14,AN9*R9),IF(C9=\"CP-6\",IF('Concrete Plant (CP-6)'!$I$14>0,'Concrete Plant (CP-6)'!$I$14,AN9*R9),IF(C9=\"CP-7\",IF('Concrete Plant (CP-7)'!$I$14>0,'Concrete Plant (CP-7)'!$I$14,AN9*R9),IF(C9=\"CP-8\",IF('Concrete Plant (CP-8)'!$I$14>0,'Concrete Plant (CP-8)'!$I$14,AN9*R9),IF(C9=\"CP-9\",IF('Concrete Plant (CP-9)'!$I$14>0,'Concrete Plant (CP-9)'!$I$14,AN9*R9),IF(C9=\"CP-10\",IF('Concrete Plant (CP-10)'!$I$14>0,'Concrete Plant (CP-10)'!$I$14,AN9*R9))))))))))))","v":""},{"$f":"IF(F9=\"\",\"\",IF(I9>0,I9*0.14*AN9/2000,IF(H9>0,AN9*R9*H9/2000,AO9*8760/2000)))","v":""},{"$f":"IF(F9=\"\",\"\",T9*AN9/2000)","v":""},{"$f":"IF(F9=\"\",\"\",IF(B9=\"no\",'Emission Factors'!$N$33,'Emission Factors'!$N$34))","v":""},{"$f":"IF(F9=\"\",\"\",IF(C9=\"CP-1\",IF('Concrete Plant (CP-1)'!$I$15>0,'Concrete Plant (CP-1)'!$I$15,AR9*R9),IF(C9=\"CP-2\",IF('Concrete Plant (CP-2)'!$I$15>0,'Concrete Plant (CP-2)'!$I$15,AR9*R9),IF(C9=\"CP-3\",IF('Concrete Plant (CP-3)'!$I$15>0,'Concrete Plant (CP-3)'!$I$15,AR9*R9),IF(C9=\"CP-4\",IF('Concrete Plant (CP-4)'!$I$15>0,'Concrete Plant (CP-4)'!$I$15,AR9*R9),IF(C9=\"CP-5\",IF('Concrete Plant (CP-5)'!$I$15>0,'Concrete Plant (CP-5)'!$I$15,AR9*R9),IF(C9=\"CP-6\",IF('Concrete Plant (CP-6)'!$I$15>0,'Concrete Plant (CP-6)'!$I$15,AR9*R9),IF(C9=\"CP-7\",IF('Concrete Plant (CP-7)'!$I$15>0,'Concrete Plant (CP-7)'!$I$15,AR9*R9),IF(C9=\"CP-8\",IF('Concrete Plant (CP-8)'!$I$15>0,'Concrete Plant (CP-8)'!$I$15,AR9*R9),IF(C9=\"CP-9\",IF('Concrete Plant (CP-9)'!$I$15>0,'Concrete Plant (CP-9)'!$I$15,AR9*R9),IF(C9=\"CP-10\",IF('Concrete Plant (CP-10)'!$I$15>0,'Concrete Plant (CP-10)'!$I$15,AR9*R9))))))))))))","v":""},{"$f":"IF(F9=\"\",\"\",IF(I9>0,I9*0.14*AR9/2000,IF(H9>0,AR9*R9*H9/2000,AS9*8760/2000)))","v":""},{"$f":"IF(F9=\"\",\"\",T9*AR9/2000)","v":""},{"$f":"IF(F9=\"\",\"\",IF(B9=\"no\",'Emission Factors'!$P$33,'Emission Factors'!$P$34))","v":""},{"$f":"IF(F9=\"\",\"\",AV9*R9)","v":""},{"$f":"IF(F9=\"\",\"\",IF(I9>0,I9*0.14*AV9/2000,IF(H9>0,AV9*R9*H9/2000,AW9*8760/2000)))","v":""},{"$f":"IF(F9=\"\",\"\",T9*AV9/2000)","v":""},{"$f":"IF(F9=\"\",\"\",IF(B9=\"no\",'Emission Factors'!$R$33,'Emission Factors'!$R$34))","v":""},{"$f":"IF(F9=\"\",\"\",AZ9*R9)","v":""},{"$f":"IF(F9=\"\",\"\",IF(I9>0,I9*0.14*AZ9/2000,IF(H9>0,AZ9*R9*H9/2000,BA9*8760/2000)))","v":""},{"$f":"IF(F9=\"\",\"\",T9*AZ9/2000)","v":""}]
[{"$f":"IF('Facility Information'!$C$21>0,\"CP-1\",\"\")","v":""},"no",null,null,null,null,null,null,null,null,0.5,null,null,null,null,null,null,"",null,"",null,0,"",{"$f":"IF(F10=\"\",\"\",IF(B10=\"no\",'Emission Factors'!$D$33,'Emission Factors'!$D$34))","v":""},"","","",{"$f":"IF(F10=\"\",\"\",IF(B10=\"no\",'Emission Factors'!$F$33,'Emission Factors'!$F$34))","v":""},"","","",{"$f":"IF(F10=\"\",\"\",IF(B10=\"no\",'Emission Factors'!$H$33,'Emission Factors'!$H$34))","v":""},{"$f":"IF(F10=\"\",\"\",IF(C10=\"CP-1\",IF('Concrete Plant (CP-1)'!$I$12>0,'Concrete Plant (CP-1)'!$I$12,AF10*R10*K10),IF(C10=\"CP-2\",IF('Concrete Plant (CP-2)'!$I$12>0,'Concrete Plant (CP-2)'!$I$12,AF10*R10*K10),IF(C10=\"CP-3\",IF('Concrete Plant (CP-3)'!$I$12>0,'Concrete Plant (CP-3)'!$I$12,AF10*R10*K10),IF(C10=\"CP-4\",IF('Concrete Plant (CP-4)'!$I$12>0,'Concrete Plant (CP-4)'!$I$12,AF10*R10*K10),IF(C10=\"CP-5\",IF('Concrete Plant (CP-5)'!$I$12>0,'Concrete Plant (CP-5)'!$I$12,AF10*R10*K10),IF(C10=\"CP-6\",IF('Concrete Plant (CP-6)'!$I$12>0,'Concrete Plant (CP-6)'!$I$12,AF10*R10*K10),IF(C10=\"CP-7\",IF('Concrete Plant (CP-7)'!$I$12>0,'Concrete Plant (CP-7)'!$I$12,AF10*R10*K10),IF(C10=\"CP-8\",IF('Concrete Plant (CP-8)'!$I$12>0,'Concrete Plant (CP-8)'!$I$12,AF10*R10*K10),IF(C10=\"CP-9\",IF('Concrete Plant (CP-9)'!$I$12>0,'Concrete Plant (CP-9)'!$I$12,AF10*R10*K10),IF(C10=\"CP-10\",IF('Concrete Plant (CP-10)'!$I$12>0,'Concrete Plant (CP-10)'!$I$12,AF10*R10*K10))))))))))))","v":""},"","",{"$f":"IF(F10=\"\",\"\",IF(B10=\"no\",'Emission Factors'!$J$33,'Emission Factors'!$J$34))","v":""},{"$f":"IF(F10=\"\",\"\",IF(C10=\"CP-1\",IF('Concrete Plant (CP-1)'!$I$13>0,'Concrete Plant (CP-1)'!$I$13,AJ10*R10),IF(C10=\"CP-2\",IF('Concrete Plant (CP-2)'!$I$13>0,'Concrete Plant (CP-2)'!$I$13,AJ10*R10),IF(C10=\"CP-3\",IF('Concrete Plant (CP-3)'!$I$13>0,'Concrete Plant (CP-3)'!$I$13,AJ10*R10),IF(C10=\"CP-4\",IF('Concrete Plant (CP-4)'!$I$13>0,'Concrete Plant (CP-4)'!$I$13,AJ10*R10),IF(C10=\"CP-5\",IF('Concrete Plant (CP-5)'!$I$13>0,'Concrete Plant (CP-5)'!$I$13,AJ10*R10),IF(C10=\"CP-6\",IF('Concrete Plant (CP-6)'!$I$13>0,'Concrete Plant (CP-6)'!$I$13,AJ10*R10),IF(C10=\"CP-7\",IF('Concrete Plant (CP-7)'!$I$13>0,'Concrete Plant (CP-7)'!$I$13,AJ10*R10),IF(C10=\"CP-8\",IF('Concrete Plant (CP-8)'!$I$13>0,'Concrete Plant (CP-8)'!$I$13,AJ10*R10),IF(C10=\"CP-9\",IF('Concrete Plant (CP-9)'!$I$13>0,'Concrete Plant (CP-9)'!$I$13,AJ10*R10),IF(C10=\"CP-10\",IF('Concrete Plant (CP-10)'!$I$13>0,'Concrete Plant (CP-10)'!$I$13,AJ10*R10))))))))))))","v":""},"","",{"$f":"IF(F10=\"\",\"\",IF(B10=\"no\",'Emission Factors'!$L$33,'Emission Factors'!$L$34))","v":""},{"$f":"IF(F10=\"\",\"\",IF(C10=\"CP-1\",IF('Concrete Plant (CP-1)'!$I$14>0,'Concrete Plant (CP-1)'!$I$14,AN10*R10),IF(C10=\"CP-2\",IF('Concrete Plant (CP-2)'!$I$14>0,'Concrete Plant (CP-2)'!$I$14,AN10*R10),IF(C10=\"CP-3\",IF('Concrete Plant (CP-3)'!$I$14>0,'Concrete Plant (CP-3)'!$I$14,AN10*R10),IF(C10=\"CP-4\",IF('Concrete Plant (CP-4)'!$I$14>0,'Concrete Plant (CP-4)'!$I$14,AN10*R10),IF(C10=\"CP-5\",IF('Concrete Plant (CP-5)'!$I$14>0,'Concrete Plant (CP-5)'!$I$14,AN10*R10),IF(C10=\"CP-6\",IF('Concrete Plant (CP-6)'!$I$14>0,'Concrete Plant (CP-6)'!$I$14,AN10*R10),IF(C10=\"CP-7\",IF('Concrete Plant (CP-7)'!$I$14>0,'Concrete Plant (CP-7)'!$I$14,AN10*R10),IF(C10=\"CP-8\",IF('Concrete Plant (CP-8)'!$I$14>0,'Concrete Plant (CP-8)'!$I$14,AN10*R10),IF(C10=\"CP-9\",IF('Concrete Plant (CP-9)'!$I$14>0,'Concrete Plant (CP-9)'!$I$14,AN10*R10),IF(C10=\"CP-10\",IF('Concrete Plant (CP-10)'!$I$14>0,'Concrete Plant (CP-10)'!$I$14,AN10*R10))))))))))))","v":""},"","",{"$f":"IF(F10=\"\",\"\",IF(B10=\"no\",'Emission Factors'!$N$33,'Emission Factors'!$N$34))","v":""},{"$f":"IF(F10=\"\",\"\",IF(C10=\"CP-1\",IF('Concrete Plant (CP-1)'!$I$15>0,'Concrete Plant (CP-1)'!$I$15,AR10*R10),IF(C10=\"CP-2\",IF('Concrete Plant (CP-2)'!$I$15>0,'Concrete Plant (CP-2)'!$I$15,AR10*R10),IF(C10=\"CP-3\",IF('Concrete Plant (CP-3)'!$I$15>0,'Concrete Plant (CP-3)'!$I$15,AR10*R10),IF(C10=\"CP-4\",IF('Concrete Plant (CP-4)'!$I$15>0,'Concrete Plant (CP-4)'!$I$15,AR10*R10),IF(C10=\"CP-5\",IF('Concrete Plant (CP-5)'!$I$15>0,'Concrete Plant (CP-5)'!$I$15,AR10*R10),IF(C10=\"CP-6\",IF('Concrete Plant (CP-6)'!$I$15>0,'Concrete Plant (CP-6)'!$I$15,AR10*R10),IF(C10=\"CP-7\",IF('Concrete Plant (CP-7)'!$I$15>0,'Concrete Plant (CP-7)'!$I$15,AR10*R10),IF(C10=\"CP-8\",IF('Concrete Plant (CP-8)'!$I$15>0,'Concrete Plant (CP-8)'!$I$15,AR10*R10),IF(C10=\"CP-9\",IF('Concrete Plant (CP-9)'!$I$15>0,'Concrete Plant (CP-9)'!$I$15,AR10*R10),IF(C10=\"CP-10\",IF('Concrete Plant (CP-10)'!$I$15>0,'Concrete Plant (CP-10)'!$I$15,AR10*R10))))))))))))","v":""},"","",{"$f":"IF(F10=\"\",\"\",IF(B10=\"no\",'Emission Factors'!$P$33,'Emission Factors'!$P$34))","v":""},"","","",{"$f":"IF(F10=\"\",\"\",IF(B10=\"no\",'Emission Factors'!$R$33,'Emission Factors'!$R$34))","v":""},"","",""]
[{"$f":"IF('Facility Information'!$C$21>1,\"CP-2\",\"\")","v":""},"no",null,null,null,null,null,null,null,null,0.5,null,null,null,null,null,null,"",null,"",null,0,"",{"$f":"IF(F11=\"\",\"\",IF(B11=\"no\",'Emission Factors'!$D$33,'Emission Factors'!$D$34))","v":""},"","","",{"$f":"IF(F11=\"\",\"\",IF(B11=\"no\",'Emission Factors'!$F$33,'Emission Factors'!$F$34))","v":""},"","","",{"$f":"IF(F11=\"\",\"\",IF(B11=\"no\",'Emission Factors'!$H$33,'Emission Factors'!$H$34))","v":""},{"$f":"IF(F11=\"\",\"\",IF(C11=\"CP-1\",IF('Concrete Plant (CP-1)'!$I$12>0,'Concrete Plant (CP-1)'!$I$12,AF11*R11*K11),IF(C11=\"CP-2\",IF('Concrete Plant (CP-2)'!$I$12>0,'Concrete Plant (CP-2)'!$I$12,AF11*R11*K11),IF(C11=\"CP-3\",IF('Concrete Plant (CP-3)'!$I$12>0,'Concrete Plant (CP-3)'!$I$12,AF11*R11*K11),IF(C11=\"CP-4\",IF('Concrete Plant (CP-4)'!$I$12>0,'Concrete Plant (CP-4)'!$I$12,AF11*R11*K11),IF(C11=\"CP-5\",IF('Concrete Plant (CP-5)'!$I$12>0,'Concrete Plant (CP-5)'!$I$12,AF11*R11*K11),IF(C11=\"CP-6\",IF('Concrete Plant (CP-6)'!$I$12>0,'Concrete Plant (CP-6)'!$I$12,AF11*R11*K11),IF(C11=\"CP-7\",IF('Concrete Plant (CP-7)'!$I$12>0,'Concrete Plant (CP-7)'!$I$12,AF11*R11*K11),IF(C11=\"CP-8\",IF('Concrete Plant (CP-8)'!$I$12>0,'Concrete Plant (CP-8)'!$I$12,AF11*R11*K11),IF(C11=\"CP-9\",IF('Concrete Plant (CP-9)'!$I$12>0,'Concrete Plant (CP-9)'!$I$12,AF11*R11*K11),IF(C11=\"CP-10\",IF('Concrete Plant (CP-10)'!$I$12>0,'Concrete Plant (CP-10)'!$I$12,AF11*R11*K11))))))))))))","v":""},"","",{"$f":"IF(F11=\"\",\"\",IF(B11=\"no\",'Emission Factors'!$J$33,'Emission Factors'!$J$34))","v":""},{"$f":"IF(F11=\"\",\"\",IF(C11=\"CP-1\",IF('Concrete Plant (CP-1)'!$I$13>0,'Concrete Plant (CP-1)'!$I$13,AJ11*R11),IF(C11=\"CP-2\",IF('Concrete Plant (CP-2)'!$I$13>0,'Concrete Plant (CP-2)'!$I$13,AJ11*R11),IF(C11=\"CP-3\",IF('Concrete Plant (CP-3)'!$I$13>0,'Concrete Plant (CP-3)'!$I$13,AJ11*R11),IF(C11=\"CP-4\",IF('Concrete Plant (CP-4)'!$I$13>0,'Concrete Plant (CP-4)'!$I$13,AJ11*R11),IF(C11=\"CP-5\",IF('Concrete Plant (CP-5)'!$I$13>0,'Concrete Plant (CP-5)'!$I$13,AJ11*R11),IF(C11=\"CP-6\",IF('Concrete Plant (CP-6)'!$I$13>0,'Concrete Plant (CP-6)'!$I$13,AJ11*R11),IF(C11=\"CP-7\",IF('Concrete Plant (CP-7)'!$I$13>0,'Concrete Plant (CP-7)'!$I$13,AJ11*R11),IF(C11=\"CP-8\",IF('Concrete Plant (CP-8)'!$I$13>0,'Concrete Plant (CP-8)'!$I$13,AJ11*R11),IF(C11=\"CP-9\",IF('Concrete Plant (CP-9)'!$I$13>0,'Concrete Plant (CP-9)'!$I$13,AJ11*R11),IF(C11=\"CP-10\",IF('Concrete Plant (CP-10)'!$I$13>0,'Concrete Plant (CP-10)'!$I$13,AJ11*R11))))))))))))","v":""},"","",{"$f":"IF(F11=\"\",\"\",IF(B11=\"no\",'Emission Factors'!$L$33,'Emission Factors'!$L$34))","v":""},{"$f":"IF(F11=\"\",\"\",IF(C11=\"CP-1\",IF('Concrete Plant (CP-1)'!$I$14>0,'Concrete Plant (CP-1)'!$I$14,AN11*R11),IF(C11=\"CP-2\",IF('Concrete Plant (CP-2)'!$I$14>0,'Concrete Plant (CP-2)'!$I$14,AN11*R11),IF(C11=\"CP-3\",IF('Concrete Plant (CP-3)'!$I$14>0,'Concrete Plant (CP-3)'!$I$14,AN11*R11),IF(C11=\"CP-4\",IF('Concrete Plant (CP-4)'!$I$14>0,'Concrete Plant (CP-4)'!$I$14,AN11*R11),IF(C11=\"CP-5\",IF('Concrete Plant (CP-5)'!$I$14>0,'Concrete Plant (CP-5)'!$I$14,AN11*R11),IF(C11=\"CP-6\",IF('Concrete Plant (CP-6)'!$I$14>0,'Concrete Plant (CP-6)'!$I$14,AN11*R11),IF(C11=\"CP-7\",IF('Concrete Plant (CP-7)'!$I$14>0,'Concrete Plant (CP-7)'!$I$14,AN11*R11),IF(C11=\"CP-8\",IF('Concrete Plant (CP-8)'!$I$14>0,'Concrete Plant (CP-8)'!$I$14,AN11*R11),IF(C11=\"CP-9\",IF('Concrete Plant (CP-9)'!$I$14>0,'Concrete Plant (CP-9)'!$I$14,AN11*R11),IF(C11=\"CP-10\",IF('Concrete Plant (CP-10)'!$I$14>0,'Concrete Plant (CP-10)'!$I$14,AN11*R11))))))))))))","v":""},"","",{"$f":"IF(F11=\"\",\"\",IF(B11=\"no\",'Emission Factors'!$N$33,'Emission Factors'!$N$34))","v":""},{"$f":"IF(F11=\"\",\"\",IF(C11=\"CP-1\",IF('Concrete Plant (CP-1)'!$I$15>0,'Concrete Plant (CP-1)'!$I$15,AR11*R11),IF(C11=\"CP-2\",IF('Concrete Plant (CP-2)'!$I$15>0,'Concrete Plant (CP-2)'!$I$15,AR11*R11),IF(C11=\"CP-3\",IF('Concrete Plant (CP-3)'!$I$15>0,'Concrete Plant (CP-3)'!$I$15,AR11*R11),IF(C11=\"CP-4\",IF('Concrete Plant (CP-4)'!$I$15>0,'Concrete Plant (CP-4)'!$I$15,AR11*R11),IF(C11=\"CP-5\",IF('Concrete Plant (CP-5)'!$I$15>0,'Concrete Plant (CP-5)'!$I$15,AR11*R11),IF(C11=\"CP-6\",IF('Concrete Plant (CP-6)'!$I$15>0,'Concrete Plant (CP-6)'!$I$15,AR11*R11),IF(C11=\"CP-7\",IF('Concrete Plant (CP-7)'!$I$15>0,'Concrete Plant (CP-7)'!$I$15,AR11*R11),IF(C11=\"CP-8\",IF('Concrete Plant (CP-8)'!$I$15>0,'Concrete Plant (CP-8)'!$I$15,AR11*R11),IF(C11=\"CP-9\",IF('Concrete Plant (CP-9)'!$I$15>0,'Concrete Plant (CP-9)'!$I$15,AR11*R11),IF(C11=\"CP-10\",IF('Concrete Plant (CP-10)'!$I$15>0,'Concrete Plant (CP-10)'!$I$15,AR11*R11))))))))))))","v":""},"","",{"$f":"IF(F11=\"\",\"\",IF(B11=\"no\",'Emission Factors'!$P$33,'Emission Factors'!$P$34))","v":""},"","","",{"$f":"IF(F11=\"\",\"\",IF(B11=\"no\",'Emission Factors'!$R$33,'Emission Factors'!$R$34))","v":""},"","",""]
[{"$f":"IF('Facility Information'!$C$21>2,\"CP-3\",\"\")","v":""},"no",null,null,null,null,null,null,null,null,0.5,null,null,null,null,null,null,"",null,"",null,0,"",{"$f":"IF(F12=\"\",\"\",IF(B12=\"no\",'Emission Factors'!$D$33,'Emission Factors'!$D$34))","v":""},"","","",{"$f":"IF(F12=\"\",\"\",IF(B12=\"no\",'Emission Factors'!$F$33,'Emission Factors'!$F$34))","v":""},"","","",{"$f":"IF(F12=\"\",\"\",IF(B12=\"no\",'Emission Factors'!$H$33,'Emission Factors'!$H$34))","v":""},{"$f":"IF(F12=\"\",\"\",IF(C12=\"CP-1\",IF('Concrete Plant (CP-1)'!$I$12>0,'Concrete Plant (CP-1)'!$I$12,AF12*R12*K12),IF(C12=\"CP-2\",IF('Concrete Plant (CP-2)'!$I$12>0,'Concrete Plant (CP-2)'!$I$12,AF12*R12*K12),IF(C12=\"CP-3\",IF('Concrete Plant (CP-3)'!$I$12>0,'Concrete Plant (CP-3)'!$I$12,AF12*R12*K12),IF(C12=\"CP-4\",IF('Concrete Plant (CP-4)'!$I$12>0,'Concrete Plant (CP-4)'!$I$12,AF12*R12*K12),IF(C12=\"CP-5\",IF('Concrete Plant (CP-5)'!$I$12>0,'Concrete Plant (CP-5)'!$I$12,AF12*R12*K12),IF(C12=\"CP-6\",IF('Concrete Plant (CP-6)'!$I$12>0,'Concrete Plant (CP-6)'!$I$12,AF12*R12*K12),IF(C12=\"CP-7\",IF('Concrete Plant (CP-7)'!$I$12>0,'Concrete Plant (CP-7)'!$I$12,AF12*R12*K12),IF(C12=\"CP-8\",IF('Concrete Plant (CP-8)'!$I$12>0,'Concrete Plant (CP-8)'!$I$12,AF12*R12*K12),IF(C12=\"CP-9\",IF('Concrete Plant (CP-9)'!$I$12>0,'Concrete Plant (CP-9)'!$I$12,AF12*R12*K12),IF(C12=\"CP-10\",IF('Concrete Plant (CP-10)'!$I$12>0,'Concrete Plant (CP-10)'!$I$12,AF12*R12*K12))))))))))))","v":""},"","",{"$f":"IF(F12=\"\",\"\",IF(B12=\"no\",'Emission Factors'!$J$33,'Emission Factors'!$J$34))","v":""},{"$f":"IF(F12=\"\",\"\",IF(C12=\"CP-1\",IF('Concrete Plant (CP-1)'!$I$13>0,'Concrete Plant (CP-1)'!$I$13,AJ12*R12),IF(C12=\"CP-2\",IF('Concrete Plant (CP-2)'!$I$13>0,'Concrete Plant (CP-2)'!$I$13,AJ12*R12),IF(C12=\"CP-3\",IF('Concrete Plant (CP-3)'!$I$13>0,'Concrete Plant (CP-3)'!$I$13,AJ12*R12),IF(C12=\"CP-4\",IF('Concrete Plant (CP-4)'!$I$13>0,'Concrete Plant (CP-4)'!$I$13,AJ12*R12),IF(C12=\"CP-5\",IF('Concrete Plant (CP-5)'!$I$13>0,'Concrete Plant (CP-5)'!$I$13,AJ12*R12),IF(C12=\"CP-6\",IF('Concrete Plant (CP-6)'!$I$13>0,'Concrete Plant (CP-6)'!$I$13,AJ12*R12),IF(C12=\"CP-7\",IF('Concrete Plant (CP-7)'!$I$13>0,'Concrete Plant (CP-7)'!$I$13,AJ12*R12),IF(C12=\"CP-8\",IF('Concrete Plant (CP-8)'!$I$13>0,'Concrete Plant (CP-8)'!$I$13,AJ12*R12),IF(C12=\"CP-9\",IF('Concrete Plant (CP-9)'!$I$13>0,'Concrete Plant (CP-9)'!$I$13,AJ12*R12),IF(C12=\"CP-10\",IF('Concrete Plant (CP-10)'!$I$13>0,'Concrete Plant (CP-10)'!$I$13,AJ12*R12))))))))))))","v":""},"","",{"$f":"IF(F12=\"\",\"\",IF(B12=\"no\",'Emission Factors'!$L$33,'Emission Factors'!$L$34))","v":""},{"$f":"IF(F12=\"\",\"\",IF(C12=\"CP-1\",IF('Concrete Plant (CP-1)'!$I$14>0,'Concrete Plant (CP-1)'!$I$14,AN12*R12),IF(C12=\"CP-2\",IF('Concrete Plant (CP-2)'!$I$14>0,'Concrete Plant (CP-2)'!$I$14,AN12*R12),IF(C12=\"CP-3\",IF('Concrete Plant (CP-3)'!$I$14>0,'Concrete Plant (CP-3)'!$I$14,AN12*R12),IF(C12=\"CP-4\",IF('Concrete Plant (CP-4)'!$I$14>0,'Concrete Plant (CP-4)'!$I$14,AN12*R12),IF(C12=\"CP-5\",IF('Concrete Plant (CP-5)'!$I$14>0,'Concrete Plant (CP-5)'!$I$14,AN12*R12),IF(C12=\"CP-6\",IF('Concrete Plant (CP-6)'!$I$14>0,'Concrete Plant (CP-6)'!$I$14,AN12*R12),IF(C12=\"CP-7\",IF('Concrete Plant (CP-7)'!$I$14>0,'Concrete Plant (CP-7)'!$I$14,AN12*R12),IF(C12=\"CP-8\",IF('Concrete Plant (CP-8)'!$I$14>0,'Concrete Plant (CP-8)'!$I$14,AN12*R12),IF(C12=\"CP-9\",IF('Concrete Plant (CP-9)'!$I$14>0,'Concrete Plant (CP-9)'!$I$14,AN12*R12),IF(C12=\"CP-10\",IF('Concrete Plant (CP-10)'!$I$14>0,'Concrete Plant (CP-10)'!$I$14,AN12*R12))))))))))))","v":""},"","",{"$f":"IF(F12=\"\",\"\",IF(B12=\"no\",'Emission Factors'!$N$33,'Emission Factors'!$N$34))","v":""},{"$f":"IF(F12=\"\",\"\",IF(C12=\"CP-1\",IF('Concrete Plant (CP-1)'!$I$15>0,'Concrete Plant (CP-1)'!$I$15,AR12*R12),IF(C12=\"CP-2\",IF('Concrete Plant (CP-2)'!$I$15>0,'Concrete Plant (CP-2)'!$I$15,AR12*R12),IF(C12=\"CP-3\",IF('Concrete Plant (CP-3)'!$I$15>0,'Concrete Plant (CP-3)'!$I$15,AR12*R12),IF(C12=\"CP-4\",IF('Concrete Plant (CP-4)'!$I$15>0,'Concrete Plant (CP-4)'!$I$15,AR12*R12),IF(C12=\"CP-5\",IF('Concrete Plant (CP-5)'!$I$15>0,'Concrete Plant (CP-5)'!$I$15,AR12*R12),IF(C12=\"CP-6\",IF('Concrete Plant (CP-6)'!$I$15>0,'Concrete Plant (CP-6)'!$I$15,AR12*R12),IF(C12=\"CP-7\",IF('Concrete Plant (CP-7)'!$I$15>0,'Concrete Plant (CP-7)'!$I$15,AR12*R12),IF(C12=\"CP-8\",IF('Concrete Plant (CP-8)'!$I$15>0,'Concrete Plant (CP-8)'!$I$15,AR12*R12),IF(C12=\"CP-9\",IF('Concrete Plant (CP-9)'!$I$15>0,'Concrete Plant (CP-9)'!$I$15,AR12*R12),IF(C12=\"CP-10\",IF('Concrete Plant (CP-10)'!$I$15>0,'Concrete Plant (CP-10)'!$I$15,AR12*R12))))))))))))","v":""},"","",{"$f":"IF(F12=\"\",\"\",IF(B12=\"no\",'Emission Factors'!$P$33,'Emission Factors'!$P$34))","v":""},"","","",{"$f":"IF(F12=\"\",\"\",IF(B12=\"no\",'Emission Factors'!$R$33,'Emission Factors'!$R$34))","v":""},"","",""]
[{"$f":"IF('Facility Information'!$C$21>3,\"CP-4\",\"\")","v":""},"no",null,null,null,null,null,null,null,null,0.5,null,null,null,null,null,null,"",null,"",null,0,"",{"$f":"IF(F13=\"\",\"\",IF(B13=\"no\",'Emission Factors'!$D$33,'Emission Factors'!$D$34))","v":""},"","","",{"$f":"IF(F13=\"\",\"\",IF(B13=\"no\",'Emission Factors'!$F$33,'Emission Factors'!$F$34))","v":""},"","","",{"$f":"IF(F13=\"\",\"\",IF(B13=\"no\",'Emission Factors'!$H$33,'Emission Factors'!$H$34))","v":""},{"$f":"IF(F13=\"\",\"\",IF(C13=\"CP-1\",IF('Concrete Plant (CP-1)'!$I$12>0,'Concrete Plant (CP-1)'!$I$12,AF13*R13*K13),IF(C13=\"CP-2\",IF('Concrete Plant (CP-2)'!$I$12>0,'Concrete Plant (CP-2)'!$I$12,AF13*R13*K13),IF(C13=\"CP-3\",IF('Concrete Plant (CP-3)'!$I$12>0,'Concrete Plant (CP-3)'!$I$12,AF13*R13*K13),IF(C13=\"CP-4\",IF('Concrete Plant (CP-4)'!$I$12>0,'Concrete Plant (CP-4)'!$I$12,AF13*R13*K13),IF(C13=\"CP-5\",IF('Concrete Plant (CP-5)'!$I$12>0,'Concrete Plant (CP-5)'!$I$12,AF13*R13*K13),IF(C13=\"CP-6\",IF('Concrete Plant (CP-6)'!$I$12>0,'Concrete Plant (CP-6)'!$I$12,AF13*R13*K13),IF(C13=\"CP-7\",IF('Concrete Plant (CP-7)'!$I$12>0,'Concrete Plant (CP-7)'!$I$12,AF13*R13*K13),IF(C13=\"CP-8\",IF('Concrete Plant (CP-8)'!$I$12>0,'Concrete Plant (CP-8)'!$I$12,AF13*R13*K13),IF(C13=\"CP-9\",IF('Concrete Plant (CP-9)'!$I$12>0,'Concrete Plant (CP-9)'!$I$12,AF13*R13*K13),IF(C13=\"CP-10\",IF('Concrete Plant (CP-10)'!$I$12>0,'Concrete Plant (CP-10)'!$I$12,AF13*R13*K13))))))))))))","v":""},"","",{"$f":"IF(F13=\"\",\"\",IF(B13=\"no\",'Emission Factors'!$J$33,'Emission Factors'!$J$34))","v":""},{"$f":"IF(F13=\"\",\"\",IF(C13=\"CP-1\",IF('Concrete Plant (CP-1)'!$I$13>0,'Concrete Plant (CP-1)'!$I$13,AJ13*R13),IF(C13=\"CP-2\",IF('Concrete Plant (CP-2)'!$I$13>0,'Concrete Plant (CP-2)'!$I$13,AJ13*R13),IF(C13=\"CP-3\",IF('Concrete Plant (CP-3)'!$I$13>0,'Concrete Plant (CP-3)'!$I$13,AJ13*R13),IF(C13=\"CP-4\",IF('Concrete Plant (CP-4)'!$I$13>0,'Concrete Plant (CP-4)'!$I$13,AJ13*R13),IF(C13=\"CP-5\",IF('Concrete Plant (CP-5)'!$I$13>0,'Concrete Plant (CP-5)'!$I$13,AJ13*R13),IF(C13=\"CP-6\",IF('Concrete Plant (CP-6)'!$I$13>0,'Concrete Plant (CP-6)'!$I$13,AJ13*R13),IF(C13=\"CP-7\",IF('Concrete Plant (CP-7)'!$I$13>0,'Concrete Plant (CP-7)'!$I$13,AJ13*R13),IF(C13=\"CP-8\",IF('Concrete Plant (CP-8)'!$I$13>0,'Concrete Plant (CP-8)'!$I$13,AJ13*R13),IF(C13=\"CP-9\",IF('Concrete Plant (CP-9)'!$I$13>0,'Concrete Plant (CP-9)'!$I$13,AJ13*R13),IF(C13=\"CP-10\",IF('Concrete Plant (CP-10)'!$I$13>0,'Concrete Plant (CP-10)'!$I$13,AJ13*R13))))))))))))","v":""},"","",{"$f":"IF(F13=\"\",\"\",IF(B13=\"no\",'Emission Factors'!$L$33,'Emission Factors'!$L$34))","v":""},{"$f":"IF(F13=\"\",\"\",IF(C13=\"CP-1\",IF('Concrete Plant (CP-1)'!$I$14>0,'Concrete Plant (CP-1)'!$I$14,AN13*R13),IF(C13=\"CP-2\",IF('Concrete Plant (CP-2)'!$I$14>0,'Concrete Plant (CP-2)'!$I$14,AN13*R13),IF(C13=\"CP-3\",IF('Concrete Plant (CP-3)'!$I$14>0,'Concrete Plant (CP-3)'!$I$14,AN13*R13),IF(C13=\"CP-4\",IF('Concrete Plant (CP-4)'!$I$14>0,'Concrete Plant (CP-4)'!$I$14,AN13*R13),IF(C13=\"CP-5\",IF('Concrete Plant (CP-5)'!$I$14>0,'Concrete Plant (CP-5)'!$I$14,AN13*R13),IF(C13=\"CP-6\",IF('Concrete Plant (CP-6)'!$I$14>0,'Concrete Plant (CP-6)'!$I$14,AN13*R13),IF(C13=\"CP-7\",IF('Concrete Plant (CP-7)'!$I$14>0,'Concrete Plant (CP-7)'!$I$14,AN13*R13),IF(C13=\"CP-8\",IF('Concrete Plant (CP-8)'!$I$14>0,'Concrete Plant (CP-8)'!$I$14,AN13*R13),IF(C13=\"CP-9\",IF('Concrete Plant (CP-9)'!$I$14>0,'Concrete Plant (CP-9)'!$I$14,AN13*R13),IF(C13=\"CP-10\",IF('Concrete Plant (CP-10)'!$I$14>0,'Concrete Plant (CP-10)'!$I$14,AN13*R13))))))))))))","v":""},"","",{"$f":"IF(F13=\"\",\"\",IF(B13=\"no\",'Emission Factors'!$N$33,'Emission Factors'!$N$34))","v":""},{"$f":"IF(F13=\"\",\"\",IF(C13=\"CP-1\",IF('Concrete Plant (CP-1)'!$I$15>0,'Concrete Plant (CP-1)'!$I$15,AR13*R13),IF(C13=\"CP-2\",IF('Concrete Plant (CP-2)'!$I$15>0,'Concrete Plant (CP-2)'!$I$15,AR13*R13),IF(C13=\"CP-3\",IF('Concrete Plant (CP-3)'!$I$15>0,'Concrete Plant (CP-3)'!$I$15,AR13*R13),IF(C13=\"CP-4\",IF('Concrete Plant (CP-4)'!$I$15>0,'Concrete Plant (CP-4)'!$I$15,AR13*R13),IF(C13=\"CP-5\",IF('Concrete Plant (CP-5)'!$I$15>0,'Concrete Plant (CP-5)'!$I$15,AR13*R13),IF(C13=\"CP-6\",IF('Concrete Plant (CP-6)'!$I$15>0,'Concrete Plant (CP-6)'!$I$15,AR13*R13),IF(C13=\"CP-7\",IF('Concrete Plant (CP-7)'!$I$15>0,'Concrete Plant (CP-7)'!$I$15,AR13*R13),IF(C13=\"CP-8\",IF('Concrete Plant (CP-8)'!$I$15>0,'Concrete Plant (CP-8)'!$I$15,AR13*R13),IF(C13=\"CP-9\",IF('Concrete Plant (CP-9)'!$I$15>0,'Concrete Plant (CP-9)'!$I$15,AR13*R13),IF(C13=\"CP-10\",IF('Concrete Plant (CP-10)'!$I$15>0,'Concrete Plant (CP-10)'!$I$15,AR13*R13))))))))))))","v":""},"","",{"$f":"IF(F13=\"\",\"\",IF(B13=\"no\",'Emission Factors'!$P$33,'Emission Factors'!$P$34))","v":""},"","","",{"$f":"IF(F13=\"\",\"\",IF(B13=\"no\",'Emission Factors'!$R$33,'Emission Factors'!$R$34))","v":""},"","",""]
[{"$f":"IF('Facility Information'!$C$21>4,\"CP-5\",\"\")","v":""},{"$f":"IF(F14=\"Diesel Generator> 600 bhp\",\"yes\",\"no\")","v":"no"},null,null,null,null,null,null,null,null,0.5,null,null,null,null,null,null,{"$f":"IF(Q14=\"\",\"\",Q14*0.14)","v":""},null,{"$f":"IF(S14=\"\",\"\",S14*0.14)","v":""},null,0,"",{"$f":"IF(F14=\"\",\"\",IF(B14=\"no\",'Emission Factors'!$D$33,'Emission Factors'!$D$34))","v":""},"","","",{"$f":"IF(F14=\"\",\"\",IF(B14=\"no\",'Emission Factors'!$F$33,'Emission Factors'!$F$34))","v":""},"","","",{"$f":"IF(F14=\"\",\"\",IF(B14=\"no\",'Emission Factors'!$H$33,'Emission Factors'!$H$34))","v":""},{"$f":"IF(F14=\"\",\"\",IF(C14=\"CP-1\",IF('Concrete Plant (CP-1)'!$I$12>0,'Concrete Plant (CP-1)'!$I$12,AF14*R14*K14),IF(C14=\"CP-2\",IF('Concrete Plant (CP-2)'!$I$12>0,'Concrete Plant (CP-2)'!$I$12,AF14*R14*K14),IF(C14=\"CP-3\",IF('Concrete Plant (CP-3)'!$I$12>0,'Concrete Plant (CP-3)'!$I$12,AF14*R14*K14),IF(C14=\"CP-4\",IF('Concrete Plant (CP-4)'!$I$12>0,'Concrete Plant (CP-4)'!$I$12,AF14*R14*K14),IF(C14=\"CP-5\",IF('Concrete Plant (CP-5)'!$I$12>0,'Concrete Plant (CP-5)'!$I$12,AF14*R14*K14),IF(C14=\"CP-6\",IF('Concrete Plant (CP-6)'!$I$12>0,'Concrete Plant (CP-6)'!$I$12,AF14*R14*K14),IF(C14=\"CP-7\",IF('Concrete Plant (CP-7)'!$I$12>0,'Concrete Plant (CP-7)'!$I$12,AF14*R14*K14),IF(C14=\"CP-8\",IF('Concrete Plant (CP-8)'!$I$12>0,'Concrete Plant (CP-8)'!$I$12,AF14*R14*K14),IF(C14=\"CP-9\",IF('Concrete Plant (CP-9)'!$I$12>0,'Concrete Plant (CP-9)'!$I$12,AF14*R14*K14),IF(C14=\"CP-10\",IF('Concrete Plant (CP-10)'!$I$12>0,'Concrete Plant (CP-10)'!$I$12,AF14*R14*K14))))))))))))","v":""},"","",{"$f":"IF(F14=\"\",\"\",IF(B14=\"no\",'Emission Factors'!$J$33,'Emission Factors'!$J$34))","v":""},{"$f":"IF(F14=\"\",\"\",IF(C14=\"CP-1\",IF('Concrete Plant (CP-1)'!$I$13>0,'Concrete Plant (CP-1)'!$I$13,AJ14*R14),IF(C14=\"CP-2\",IF('Concrete Plant (CP-2)'!$I$13>0,'Concrete Plant (CP-2)'!$I$13,AJ14*R14),IF(C14=\"CP-3\",IF('Concrete Plant (CP-3)'!$I$13>0,'Concrete Plant (CP-3)'!$I$13,AJ14*R14),IF(C14=\"CP-4\",IF('Concrete Plant (CP-4)'!$I$13>0,'Concrete Plant (CP-4)'!$I$13,AJ14*R14),IF(C14=\"CP-5\",IF('Concrete Plant (CP-5)'!$I$13>0,'Concrete Plant (CP-5)'!$I$13,AJ14*R14),IF(C14=\"CP-6\",IF('Concrete Plant (CP-6)'!$I$13>0,'Concrete Plant (CP-6)'!$I$13,AJ14*R14),IF(C14=\"CP-7\",IF('Concrete Plant (CP-7)'!$I$13>0,'Concrete Plant (CP-7)'!$I$13,AJ14*R14),IF(C14=\"CP-8\",IF('Concrete Plant (CP-8)'!$I$13>0,'Concrete Plant (CP-8)'!$I$13,AJ14*R14),IF(C14=\"CP-9\",IF('Concrete Plant (CP-9)'!$I$13>0,'Concrete Plant (CP-9)'!$I$13,AJ14*R14),IF(C14=\"CP-10\",IF('Concrete Plant (CP-10)'!$I$13>0,'Concrete Plant (CP-10)'!$I$13,AJ14*R14))))))))))))","v":""},"","",{"$f":"IF(F14=\"\",\"\",IF(B14=\"no\",'Emission Factors'!$L$33,'Emission Factors'!$L$34))","v":""},{"$f":"IF(F14=\"\",\"\",IF(C14=\"CP-1\",IF('Concrete Plant (CP-1)'!$I$14>0,'Concrete Plant (CP-1)'!$I$14,AN14*R14),IF(C14=\"CP-2\",IF('Concrete Plant (CP-2)'!$I$14>0,'Concrete Plant (CP-2)'!$I$14,AN14*R14),IF(C14=\"CP-3\",IF('Concrete Plant (CP-3)'!$I$14>0,'Concrete Plant (CP-3)'!$I$14,AN14*R14),IF(C14=\"CP-4\",IF('Concrete Plant (CP-4)'!$I$14>0,'Concrete Plant (CP-4)'!$I$14,AN14*R14),IF(C14=\"CP-5\",IF('Concrete Plant (CP-5)'!$I$14>0,'Concrete Plant (CP-5)'!$I$14,AN14*R14),IF(C14=\"CP-6\",IF('Concrete Plant (CP-6)'!$I$14>0,'Concrete Plant (CP-6)'!$I$14,AN14*R14),IF(C14=\"CP-7\",IF('Concrete Plant (CP-7)'!$I$14>0,'Concrete Plant (CP-7)'!$I$14,AN14*R14),IF(C14=\"CP-8\",IF('Concrete Plant (CP-8)'!$I$14>0,'Concrete Plant (CP-8)'!$I$14,AN14*R14),IF(C14=\"CP-9\",IF('Concrete Plant (CP-9)'!$I$14>0,'Concrete Plant (CP-9)'!$I$14,AN14*R14),IF(C14=\"CP-10\",IF('Concrete Plant (CP-10)'!$I$14>0,'Concrete Plant (CP-10)'!$I$14,AN14*R14))))))))))))","v":""},"","",{"$f":"IF(F14=\"\",\"\",IF(B14=\"no\",'Emission Factors'!$N$33,'Emission Factors'!$N$34))","v":""},{"$f":"IF(F14=\"\",\"\",IF(C14=\"CP-1\",IF('Concrete Plant (CP-1)'!$I$15>0,'Concrete Plant (CP-1)'!$I$15,AR14*R14),IF(C14=\"CP-2\",IF('Concrete Plant (CP-2)'!$I$15>0,'Concrete Plant (CP-2)'!$I$15,AR14*R14),IF(C14=\"CP-3\",IF('Concrete Plant (CP-3)'!$I$15>0,'Concrete Plant (CP-3)'!$I$15,AR14*R14),IF(C14=\"CP-4\",IF('Concrete Plant (CP-4)'!$I$15>0,'Concrete Plant (CP-4)'!$I$15,AR14*R14),IF(C14=\"CP-5\",IF('Concrete Plant (CP-5)'!$I$15>0,'Concrete Plant (CP-5)'!$I$15,AR14*R14),IF(C14=\"CP-6\",IF('Concrete Plant (CP-6)'!$I$15>0,'Concrete Plant (CP-6)'!$I$15,AR14*R14),IF(C14=\"CP-7\",IF('Concrete Plant (CP-7)'!$I$15>0,'Concrete Plant (CP-7)'!$I$15,AR14*R14),IF(C14=\"CP-8\",IF('Concrete Plant (CP-8)'!$I$15>0,'Concrete Plant (CP-8)'!$I$15,AR14*R14),IF(C14=\"CP-9\",IF('Concrete Plant (CP-9)'!$I$15>0,'Concrete Plant (CP-9)'!$I$15,AR14*R14),IF(C14=\"CP-10\",IF('Concrete Plant (CP-10)'!$I$15>0,'Concrete Plant (CP-10)'!$I$15,AR14*R14))))))))))))","v":""},"","",{"$f":"IF(F14=\"\",\"\",IF(B14=\"no\",'Emission Factors'!$P$33,'Emission Factors'!$P$34))","v":""},"","","",{"$f":"IF(F14=\"\",\"\",IF(B14=\"no\",'Emission Factors'!$R$33,'Emission Factors'!$R$34))","v":""},"","",""]
[{"$f":"IF('Facility Information'!$C$21>5,\"CP-6\",\"\")","v":""},"no",null,null,null,null,null,null,null,null,0.5,null,null,null,null,null,null,"",null,"",null,0,"",{"$f":"IF(F15=\"\",\"\",IF(B15=\"no\",'Emission Factors'!$D$33,'Emission Factors'!$D$34))","v":""},"","","",{"$f":"IF(F15=\"\",\"\",IF(B15=\"no\",'Emission Factors'!$F$33,'Emission Factors'!$F$34))","v":""},"","","",{"$f":"IF(F15=\"\",\"\",IF(B15=\"no\",'Emission Factors'!$H$33,'Emission Factors'!$H$34))","v":""},{"$f":"IF(F15=\"\",\"\",IF(C15=\"CP-1\",IF('Concrete Plant (CP-1)'!$I$12>0,'Concrete Plant (CP-1)'!$I$12,AF15*R15*K15),IF(C15=\"CP-2\",IF('Concrete Plant (CP-2)'!$I$12>0,'Concrete Plant (CP-2)'!$I$12,AF15*R15*K15),IF(C15=\"CP-3\",IF('Concrete Plant (CP-3)'!$I$12>0,'Concrete Plant (CP-3)'!$I$12,AF15*R15*K15),IF(C15=\"CP-4\",IF('Concrete Plant (CP-4)'!$I$12>0,'Concrete Plant (CP-4)'!$I$12,AF15*R15*K15),IF(C15=\"CP-5\",IF('Concrete Plant (CP-5)'!$I$12>0,'Concrete Plant (CP-5)'!$I$12,AF15*R15*K15),IF(C15=\"CP-6\",IF('Concrete Plant (CP-6)'!$I$12>0,'Concrete Plant (CP-6)'!$I$12,AF15*R15*K15),IF(C15=\"CP-7\",IF('Concrete Plant (CP-7)'!$I$12>0,'Concrete Plant (CP-7)'!$I$12,AF15*R15*K15),IF(C15=\"CP-8\",IF('Concrete Plant (CP-8)'!$I$12>0,'Concrete Plant (CP-8)'!$I$12,AF15*R15*K15),IF(C15=\"CP-9\",IF('Concrete Plant (CP-9)'!$I$12>0,'Concrete Plant (CP-9)'!$I$12,AF15*R15*K15),IF(C15=\"CP-10\",IF('Concrete Plant (CP-10)'!$I$12>0,'Concrete Plant (CP-10)'!$I$12,AF15*R15*K15))))))))))))","v":""},"","",{"$f":"IF(F15=\"\",\"\",IF(B15=\"no\",'Emission Factors'!$J$33,'Emission Factors'!$J$34))","v":""},{"$f":"IF(F15=\"\",\"\",IF(C15=\"CP-1\",IF('Concrete Plant (CP-1)'!$I$13>0,'Concrete Plant (CP-1)'!$I$13,AJ15*R15),IF(C15=\"CP-2\",IF('Concrete Plant (CP-2)'!$I$13>0,'Concrete Plant (CP-2)'!$I$13,AJ15*R15),IF(C15=\"CP-3\",IF('Concrete Plant (CP-3)'!$I$13>0,'Concrete Plant (CP-3)'!$I$13,AJ15*R15),IF(C15=\"CP-4\",IF('Concrete Plant (CP-4)'!$I$13>0,'Concrete Plant (CP-4)'!$I$13,AJ15*R15),IF(C15=\"CP-5\",IF('Concrete Plant (CP-5)'!$I$13>0,'Concrete Plant (CP-5)'!$I$13,AJ15*R15),IF(C15=\"CP-6\",IF('Concrete Plant (CP-6)'!$I$13>0,'Concrete Plant (CP-6)'!$I$13,AJ15*R15),IF(C15=\"CP-7\",IF('Concrete Plant (CP-7)'!$I$13>0,'Concrete Plant (CP-7)'!$I$13,AJ15*R15),IF(C15=\"CP-8\",IF('Concrete Plant (CP-8)'!$I$13>0,'Concrete Plant (CP-8)'!$I$13,AJ15*R15),IF(C15=\"CP-9\",IF('Concrete Plant (CP-9)'!$I$13>0,'Concrete Plant (CP-9)'!$I$13,AJ15*R15),IF(C15=\"CP-10\",IF('Concrete Plant (CP-10)'!$I$13>0,'Concrete Plant (CP-10)'!$I$13,AJ15*R15))))))))))))","v":""},"","",{"$f":"IF(F15=\"\",\"\",IF(B15=\"no\",'Emission Factors'!$L$33,'Emission Factors'!$L$34))","v":""},{"$f":"IF(F15=\"\",\"\",IF(C15=\"CP-1\",IF('Concrete Plant (CP-1)'!$I$14>0,'Concrete Plant (CP-1)'!$I$14,AN15*R15),IF(C15=\"CP-2\",IF('Concrete Plant (CP-2)'!$I$14>0,'Concrete Plant (CP-2)'!$I$14,AN15*R15),IF(C15=\"CP-3\",IF('Concrete Plant (CP-3)'!$I$14>0,'Concrete Plant (CP-3)'!$I$14,AN15*R15),IF(C15=\"CP-4\",IF('Concrete Plant (CP-4)'!$I$14>0,'Concrete Plant (CP-4)'!$I$14,AN15*R15),IF(C15=\"CP-5\",IF('Concrete Plant (CP-5)'!$I$14>0,'Concrete Plant (CP-5)'!$I$14,AN15*R15),IF(C15=\"CP-6\",IF('Concrete Plant (CP-6)'!$I$14>0,'Concrete Plant (CP-6)'!$I$14,AN15*R15),IF(C15=\"CP-7\",IF('Concrete Plant (CP-7)'!$I$14>0,'Concrete Plant (CP-7)'!$I$14,AN15*R15),IF(C15=\"CP-8\",IF('Concrete Plant (CP-8)'!$I$14>0,'Concrete Plant (CP-8)'!$I$14,AN15*R15),IF(C15=\"CP-9\",IF('Concrete Plant (CP-9)'!$I$14>0,'Concrete Plant (CP-9)'!$I$14,AN15*R15),IF(C15=\"CP-10\",IF('Concrete Plant (CP-10)'!$I$14>0,'Concrete Plant (CP-10)'!$I$14,AN15*R15))))))))))))","v":""},"","",{"$f":"IF(F15=\"\",\"\",IF(B15=\"no\",'Emission Factors'!$N$33,'Emission Factors'!$N$34))","v":""},{"$f":"IF(F15=\"\",\"\",IF(C15=\"CP-1\",IF('Concrete Plant (CP-1)'!$I$15>0,'Concrete Plant (CP-1)'!$I$15,AR15*R15),IF(C15=\"CP-2\",IF('Concrete Plant (CP-2)'!$I$15>0,'Concrete Plant (CP-2)'!$I$15,AR15*R15),IF(C15=\"CP-3\",IF('Concrete Plant (CP-3)'!$I$15>0,'Concrete Plant (CP-3)'!$I$15,AR15*R15),IF(C15=\"CP-4\",IF('Concrete Plant (CP-4)'!$I$15>0,'Concrete Plant (CP-4)'!$I$15,AR15*R15),IF(C15=\"CP-5\",IF('Concrete Plant (CP-5)'!$I$15>0,'Concrete Plant (CP-5)'!$I$15,AR15*R15),IF(C15=\"CP-6\",IF('Concrete Plant (CP-6)'!$I$15>0,'Concrete Plant (CP-6)'!$I$15,AR15*R15),IF(C15=\"CP-7\",IF('Concrete Plant (CP-7)'!$I$15>0,'Concrete Plant (CP-7)'!$I$15,AR15*R15),IF(C15=\"CP-8\",IF('Concrete Plant (CP-8)'!$I$15>0,'Concrete Plant (CP-8)'!$I$15,AR15*R15),IF(C15=\"CP-9\",IF('Concrete Plant (CP-9)'!$I$15>0,'Concrete Plant (CP-9)'!$I$15,AR15*R15),IF(C15=\"CP-10\",IF('Concrete Plant (CP-10)'!$I$15>0,'Concrete Plant (CP-10)'!$I$15,AR15*R15))))))))))))","v":""},"","",{"$f":"IF(F15=\"\",\"\",IF(B15=\"no\",'Emission Factors'!$P$33,'Emission Factors'!$P$34))","v":""},"","","",{"$f":"IF(F15=\"\",\"\",IF(B15=\"no\",'Emission Factors'!$R$33,'Emission Factors'!$R$34))","v":""},"","",""]
[{"$f":"IF('Facility Information'!$C$21>6,\"CP-7\",\"\")","v":""},"no",null,null,null,null,null,null,null,null,0.5,null,null,null,null,null,null,"",null,"",null,0,"",{"$f":"IF(F16=\"\",\"\",IF(B16=\"no\",'Emission Factors'!$D$33,'Emission Factors'!$D$34))","v":""},"","","",{"$f":"IF(F16=\"\",\"\",IF(B16=\"no\",'Emission Factors'!$F$33,'Emission Factors'!$F$34))","v":""},"","","",{"$f":"IF(F16=\"\",\"\",IF(B16=\"no\",'Emission Factors'!$H$33,'Emission Factors'!$H$34))","v":""},{"$f":"IF(F16=\"\",\"\",IF(C16=\"CP-1\",IF('Concrete Plant (CP-1)'!$I$12>0,'Concrete Plant (CP-1)'!$I$12,AF16*R16*K16),IF(C16=\"CP-2\",IF('Concrete Plant (CP-2)'!$I$12>0,'Concrete Plant (CP-2)'!$I$12,AF16*R16*K16),IF(C16=\"CP-3\",IF('Concrete Plant (CP-3)'!$I$12>0,'Concrete Plant (CP-3)'!$I$12,AF16*R16*K16),IF(C16=\"CP-4\",IF('Concrete Plant (CP-4)'!$I$12>0,'Concrete Plant (CP-4)'!$I$12,AF16*R16*K16),IF(C16=\"CP-5\",IF('Concrete Plant (CP-5)'!$I$12>0,'Concrete Plant (CP-5)'!$I$12,AF16*R16*K16),IF(C16=\"CP-6\",IF('Concrete Plant (CP-6)'!$I$12>0,'Concrete Plant (CP-6)'!$I$12,AF16*R16*K16),IF(C16=\"CP-7\",IF('Concrete Plant (CP-7)'!$I$12>0,'Concrete Plant (CP-7)'!$I$12,AF16*R16*K16),IF(C16=\"CP-8\",IF('Concrete Plant (CP-8)'!$I$12>0,'Concrete Plant (CP-8)'!$I$12,AF16*R16*K16),IF(C16=\"CP-9\",IF('Concrete Plant (CP-9)'!$I$12>0,'Concrete Plant (CP-9)'!$I$12,AF16*R16*K16),IF(C16=\"CP-10\",IF('Concrete Plant (CP-10)'!$I$12>0,'Concrete Plant (CP-10)'!$I$12,AF16*R16*K16))))))))))))","v":""},"","",{"$f":"IF(F16=\"\",\"\",IF(B16=\"no\",'Emission Factors'!$J$33,'Emission Factors'!$J$34))","v":""},{"$f":"IF(F16=\"\",\"\",IF(C16=\"CP-1\",IF('Concrete Plant (CP-1)'!$I$13>0,'Concrete Plant (CP-1)'!$I$13,AJ16*R16),IF(C16=\"CP-2\",IF('Concrete Plant (CP-2)'!$I$13>0,'Concrete Plant (CP-2)'!$I$13,AJ16*R16),IF(C16=\"CP-3\",IF('Concrete Plant (CP-3)'!$I$13>0,'Concrete Plant (CP-3)'!$I$13,AJ16*R16),IF(C16=\"CP-4\",IF('Concrete Plant (CP-4)'!$I$13>0,'Concrete Plant (CP-4)'!$I$13,AJ16*R16),IF(C16=\"CP-5\",IF('Concrete Plant (CP-5)'!$I$13>0,'Concrete Plant (CP-5)'!$I$13,AJ16*R16),IF(C16=\"CP-6\",IF('Concrete Plant (CP-6)'!$I$13>0,'Concrete Plant (CP-6)'!$I$13,AJ16*R16),IF(C16=\"CP-7\",IF('Concrete Plant (CP-7)'!$I$13>0,'Concrete Plant (CP-7)'!$I$13,AJ16*R16),IF(C16=\"CP-8\",IF('Concrete Plant (CP-8)'!$I$13>0,'Concrete Plant (CP-8)'!$I$13,AJ16*R16),IF(C16=\"CP-9\",IF('Concrete Plant (CP-9)'!$I$13>0,'Concrete Plant (CP-9)'!$I$13,AJ16*R16),IF(C16=\"CP-10\",IF('Concrete Plant (CP-10)'!$I$13>0,'Concrete Plant (CP-10)'!$I$13,AJ16*R16))))))))))))","v":""},"","",{"$f":"IF(F16=\"\",\"\",IF(B16=\"no\",'Emission Factors'!$L$33,'Emission Factors'!$L$34))","v":""},{"$f":"IF(F16=\"\",\"\",IF(C16=\"CP-1\",IF('Concrete Plant (CP-1)'!$I$14>0,'Concrete Plant (CP-1)'!$I$14,AN16*R16),IF(C16=\"CP-2\",IF('Concrete Plant (CP-2)'!$I$14>0,'Concrete Plant (CP-2)'!$I$14,AN16*R16),IF(C16=\"CP-3\",IF('Concrete Plant (CP-3)'!$I$14>0,'Concrete Plant (CP-3)'!$I$14,AN16*R16),IF(C16=\"CP-4\",IF('Concrete Plant (CP-4)'!$I$14>0,'Concrete Plant (CP-4)'!$I$14,AN16*R16),IF(C16=\"CP-5\",IF('Concrete Plant (CP-5)'!$I$14>0,'Concrete Plant (CP-5)'!$I$14,AN16*R16),IF(C16=\"CP-6\",IF('Concrete Plant (CP-6)'!$I$14>0,'Concrete Plant (CP-6)'!$I$14,AN16*R16),IF(C16=\"CP-7\",IF('Concrete Plant (CP-7)'!$I$14>0,'Concrete Plant (CP-7)'!$I$14,AN16*R16),IF(C16=\"CP-8\",IF('Concrete Plant (CP-8)'!$I$14>0,'Concrete Plant (CP-8)'!$I$14,AN16*R16),IF(C16=\"CP-9\",IF('Concrete Plant (CP-9)'!$I$14>0,'Concrete Plant (CP-9)'!$I$14,AN16*R16),IF(C16=\"CP-10\",IF('Concrete Plant (CP-10)'!$I$14>0,'Concrete Plant (CP-10)'!$I$14,AN16*R16))))))))))))","v":""},"","",{"$f":"IF(F16=\"\",\"\",IF(B16=\"no\",'Emission Factors'!$N$33,'Emission Factors'!$N$34))","v":""},{"$f":"IF(F16=\"\",\"\",IF(C16=\"CP-1\",IF('Concrete Plant (CP-1)'!$I$15>0,'Concrete Plant (CP-1)'!$I$15,AR16*R16),IF(C16=\"CP-2\",IF('Concrete Plant (CP-2)'!$I$15>0,'Concrete Plant (CP-2)'!$I$15,AR16*R16),IF(C16=\"CP-3\",IF('Concrete Plant (CP-3)'!$I$15>0,'Concrete Plant (CP-3)'!$I$15,AR16*R16),IF(C16=\"CP-4\",IF('Concrete Plant (CP-4)'!$I$15>0,'Concrete Plant (CP-4)'!$I$15,AR16*R16),IF(C16=\"CP-5\",IF('Concrete Plant (CP-5)'!$I$15>0,'Concrete Plant (CP-5)'!$I$15,AR16*R16),IF(C16=\"CP-6\",IF('Concrete Plant (CP-6)'!$I$15>0,'Concrete Plant (CP-6)'!$I$15,AR16*R16),IF(C16=\"CP-7\",IF('Concrete Plant (CP-7)'!$I$15>0,'Concrete Plant (CP-7)'!$I$15,AR16*R16),IF(C16=\"CP-8\",IF('Concrete Plant (CP-8)'!$I$15>0,'Concrete Plant (CP-8)'!$I$15,AR16*R16),IF(C16=\"CP-9\",IF('Concrete Plant (CP-9)'!$I$15>0,'Concrete Plant (CP-9)'!$I$15,AR16*R16),IF(C16=\"CP-10\",IF('Concrete Plant (CP-10)'!$I$15>0,'Concrete Plant (CP-10)'!$I$15,AR16*R16))))))))))))","v":""},"","",{"$f":"IF(F16=\"\",\"\",IF(B16=\"no\",'Emission Factors'!$P$33,'Emission Factors'!$P$34))","v":""},"","","",{"$f":"IF(F16=\"\",\"\",IF(B16=\"no\",'Emission Factors'!$R$33,'Emission Factors'!$R$34))","v":""},"","",""]
[{"$f":"IF('Facility Information'!$C$21>7,\"CP-8\",\"\")","v":""},"no",null,null,null,null,null,null,null,null,0.5,null,null,null,null,null,null,"",null,"",null,0,"",{"$f":"IF(F17=\"\",\"\",IF(B17=\"no\",'Emission Factors'!$D$33,'Emission Factors'!$D$34))","v":""},"","","",{"$f":"IF(F17=\"\",\"\",IF(B17=\"no\",'Emission Factors'!$F$33,'Emission Factors'!$F$34))","v":""},"","","",{"$f":"IF(F17=\"\",\"\",IF(B17=\"no\",'Emission Factors'!$H$33,'Emission Factors'!$H$34))","v":""},{"$f":"IF(F17=\"\",\"\",IF(C17=\"CP-1\",IF('Concrete Plant (CP-1)'!$I$12>0,'Concrete Plant (CP-1)'!$I$12,AF17*R17*K17),IF(C17=\"CP-2\",IF('Concrete Plant (CP-2)'!$I$12>0,'Concrete Plant (CP-2)'!$I$12,AF17*R17*K17),IF(C17=\"CP-3\",IF('Concrete Plant (CP-3)'!$I$12>0,'Concrete Plant (CP-3)'!$I$12,AF17*R17*K17),IF(C17=\"CP-4\",IF('Concrete Plant (CP-4)'!$I$12>0,'Concrete Plant (CP-4)'!$I$12,AF17*R17*K17),IF(C17=\"CP-5\",IF('Concrete Plant (CP-5)'!$I$12>0,'Concrete Plant (CP-5)'!$I$12,AF17*R17*K17),IF(C17=\"CP-6\",IF('Concrete Plant (CP-6)'!$I$12>0,'Concrete Plant (CP-6)'!$I$12,AF17*R17*K17),IF(C17=\"CP-7\",IF('Concrete Plant (CP-7)'!$I$12>0,'Concrete Plant (CP-7)'!$I$12,AF17*R17*K17),IF(C17=\"CP-8\",IF('Concrete Plant (CP-8)'!$I$12>0,'Concrete Plant (CP-8)'!$I$12,AF17*R17*K17),IF(C17=\"CP-9\",IF('Concrete Plant (CP-9)'!$I$12>0,'Concrete Plant (CP-9)'!$I$12,AF17*R17*K17),IF(C17=\"CP-10\",IF('Concrete Plant (CP-10)'!$I$12>0,'Concrete Plant (CP-10)'!$I$12,AF17*R17*K17))))))))))))","v":""},"","",{"$f":"IF(F17=\"\",\"\",IF(B17=\"no\",'Emission Factors'!$J$33,'Emission Factors'!$J$34))","v":""},{"$f":"IF(F17=\"\",\"\",IF(C17=\"CP-1\",IF('Concrete Plant (CP-1)'!$I$13>0,'Concrete Plant (CP-1)'!$I$13,AJ17*R17),IF(C17=\"CP-2\",IF('Concrete Plant (CP-2)'!$I$13>0,'Concrete Plant (CP-2)'!$I$13,AJ17*R17),IF(C17=\"CP-3\",IF('Concrete Plant (CP-3)'!$I$13>0,'Concrete Plant (CP-3)'!$I$13,AJ17*R17),IF(C17=\"CP-4\",IF('Concrete Plant (CP-4)'!$I$13>0,'Concrete Plant (CP-4)'!$I$13,AJ17*R17),IF(C17=\"CP-5\",IF('Concrete Plant (CP-5)'!$I$13>0,'Concrete Plant (CP-5)'!$I$13,AJ17*R17),IF(C17=\"CP-6\",IF('Concrete Plant (CP-6)'!$I$13>0,'Concrete Plant (CP-6)'!$I$13,AJ17*R17),IF(C17=\"CP-7\",IF('Concrete Plant (CP-7)'!$I$13>0,'Concrete Plant (CP-7)'!$I$13,AJ17*R17),IF(C17=\"CP-8\",IF('Concrete Plant (CP-8)'!$I$13>0,'Concrete Plant (CP-8)'!$I$13,AJ17*R17),IF(C17=\"CP-9\",IF('Concrete Plant (CP-9)'!$I$13>0,'Concrete Plant (CP-9)'!$I$13,AJ17*R17),IF(C17=\"CP-10\",IF('Concrete Plant (CP-10)'!$I$13>0,'Concrete Plant (CP-10)'!$I$13,AJ17*R17))))))))))))","v":""},"","",{"$f":"IF(F17=\"\",\"\",IF(B17=\"no\",'Emission Factors'!$L$33,'Emission Factors'!$L$34))","v":""},{"$f":"IF(F17=\"\",\"\",IF(C17=\"CP-1\",IF('Concrete Plant (CP-1)'!$I$14>0,'Concrete Plant (CP-1)'!$I$14,AN17*R17),IF(C17=\"CP-2\",IF('Concrete Plant (CP-2)'!$I$14>0,'Concrete Plant (CP-2)'!$I$14,AN17*R17),IF(C17=\"CP-3\",IF('Concrete Plant (CP-3)'!$I$14>0,'Concrete Plant (CP-3)'!$I$14,AN17*R17),IF(C17=\"CP-4\",IF('Concrete Plant (CP-4)'!$I$14>0,'Concrete Plant (CP-4)'!$I$14,AN17*R17),IF(C17=\"CP-5\",IF('Concrete Plant (CP-5)'!$I$14>0,'Concrete Plant (CP-5)'!$I$14,AN17*R17),IF(C17=\"CP-6\",IF('Concrete Plant (CP-6)'!$I$14>0,'Concrete Plant (CP-6)'!$I$14,AN17*R17),IF(C17=\"CP-7\",IF('Concrete Plant (CP-7)'!$I$14>0,'Concrete Plant (CP-7)'!$I$14,AN17*R17),IF(C17=\"CP-8\",IF('Concrete Plant (CP-8)'!$I$14>0,'Concrete Plant (CP-8)'!$I$14,AN17*R17),IF(C17=\"CP-9\",IF('Concrete Plant (CP-9)'!$I$14>0,'Concrete Plant (CP-9)'!$I$14,AN17*R17),IF(C17=\"CP-10\",IF('Concrete Plant (CP-10)'!$I$14>0,'Concrete Plant (CP-10)'!$I$14,AN17*R17))))))))))))","v":""},"","",{"$f":"IF(F17=\"\",\"\",IF(B17=\"no\",'Emission Factors'!$N$33,'Emission Factors'!$N$34))","v":""},{"$f":"IF(F17=\"\",\"\",IF(C17=\"CP-1\",IF('Concrete Plant (CP-1)'!$I$15>0,'Concrete Plant (CP-1)'!$I$15,AR17*R17),IF(C17=\"CP-2\",IF('Concrete Plant (CP-2)'!$I$15>0,'Concrete Plant (CP-2)'!$I$15,AR17*R17),IF(C17=\"CP-3\",IF('Concrete Plant (CP-3)'!$I$15>0,'Concrete Plant (CP-3)'!$I$15,AR17*R17),IF(C17=\"CP-4\",IF('Concrete Plant (CP-4)'!$I$15>0,'Concrete Plant (CP-4)'!$I$15,AR17*R17),IF(C17=\"CP-5\",IF('Concrete Plant (CP-5)'!$I$15>0,'Concrete Plant (CP-5)'!$I$15,AR17*R17),IF(C17=\"CP-6\",IF('Concrete Plant (CP-6)'!$I$15>0,'Concrete Plant (CP-6)'!$I$15,AR17*R17),IF(C17=\"CP-7\",IF('Concrete Plant (CP-7)'!$I$15>0,'Concrete Plant (CP-7)'!$I$15,AR17*R17),IF(C17=\"CP-8\",IF('Concrete Plant (CP-8)'!$I$15>0,'Concrete Plant (CP-8)'!$I$15,AR17*R17),IF(C17=\"CP-9\",IF('Concrete Plant (CP-9)'!$I$15>0,'Concrete Plant (CP-9)'!$I$15,AR17*R17),IF(C17=\"CP-10\",IF('Concrete Plant (CP-10)'!$I$15>0,'Concrete Plant (CP-10)'!$I$15,AR17*R17))))))))))))","v":""},"","",{"$f":"IF(F17=\"\",\"\",IF(B17=\"no\",'Emission Factors'!$P$33,'Emission Factors'!$P$34))","v":""},"","","",{"$f":"IF(F17=\"\",\"\",IF(B17=\"no\",'Emission Factors'!$R$33,'Emission Factors'!$R$34))","v":""},"","",""]
[{"$f":"IF('Facility Information'!$C$21>8,\"CP-9\",\"\")","v":""},"no",null,null,null,null,null,null,null,null,{"$f":"IF(J18=\"\",0.5,J18)","v":0.5},null,null,null,null,null,null,"",null,"",null,0,"",{"$f":"IF(F18=\"\",\"\",IF(B18=\"no\",'Emission Factors'!$D$33,'Emission Factors'!$D$34))","v":""},"","","",{"$f":"IF(F18=\"\",\"\",IF(B18=\"no\",'Emission Factors'!$F$33,'Emission Factors'!$F$34))","v":""},"","","",{"$f":"IF(F18=\"\",\"\",IF(B18=\"no\",'Emission Factors'!$H$33,'Emission Factors'!$H$34))","v":""},{"$f":"IF(F18=\"\",\"\",IF(C18=\"CP-1\",IF('Concrete Plant (CP-1)'!$I$12>0,'Concrete Plant (CP-1)'!$I$12,AF18*R18*K18),IF(C18=\"CP-2\",IF('Concrete Plant (CP-2)'!$I$12>0,'Concrete Plant (CP-2)'!$I$12,AF18*R18*K18),IF(C18=\"CP-3\",IF('Concrete Plant (CP-3)'!$I$12>0,'Concrete Plant (CP-3)'!$I$12,AF18*R18*K18),IF(C18=\"CP-4\",IF('Concrete Plant (CP-4)'!$I$12>0,'Concrete Plant (CP-4)'!$I$12,AF18*R18*K18),IF(C18=\"CP-5\",IF('Concrete Plant (CP-5)'!$I$12>0,'Concrete Plant (CP-5)'!$I$12,AF18*R18*K18),IF(C18=\"CP-6\",IF('Concrete Plant (CP-6)'!$I$12>0,'Concrete Plant (CP-6)'!$I$12,AF18*R18*K18),IF(C18=\"CP-7\",IF('Concrete Plant (CP-7)'!$I$12>0,'Concrete Plant (CP-7)'!$I$12,AF18*R18*K18),IF(C18=\"CP-8\",IF('Concrete Plant (CP-8)'!$I$12>0,'Concrete Plant (CP-8)'!$I$12,AF18*R18*K18),IF(C18=\"CP-9\",IF('Concrete Plant (CP-9)'!$I$12>0,'Concrete Plant (CP-9)'!$I$12,AF18*R18*K18),IF(C18=\"CP-10\",IF('Concrete Plant (CP-10)'!$I$12>0,'Concrete Plant (CP-10)'!$I$12,AF18*R18*K18))))))))))))","v":""},"","",{"$f":"IF(F18=\"\",\"\",IF(B18=\"no\",'Emission Factors'!$J$33,'Emission Factors'!$J$34))","v":""},{"$f":"IF(F18=\"\",\"\",IF(C18=\"CP-1\",IF('Concrete Plant (CP-1)'!$I$13>0,'Concrete Plant (CP-1)'!$I$13,AJ18*R18),IF(C18=\"CP-2\",IF('Concrete Plant (CP-2)'!$I$13>0,'Concrete Plant (CP-2)'!$I$13,AJ18*R18),IF(C18=\"CP-3\",IF('Concrete Plant (CP-3)'!$I$13>0,'Concrete Plant (CP-3)'!$I$13,AJ18*R18),IF(C18=\"CP-4\",IF('Concrete Plant (CP-4)'!$I$13>0,'Concrete Plant (CP-4)'!$I$13,AJ18*R18),IF(C18=\"CP-5\",IF('Concrete Plant (CP-5)'!$I$13>0,'Concrete Plant (CP-5)'!$I$13,AJ18*R18),IF(C18=\"CP-6\",IF('Concrete Plant (CP-6)'!$I$13>0,'Concrete Plant (CP-6)'!$I$13,AJ18*R18),IF(C18=\"CP-7\",IF('Concrete Plant (CP-7)'!$I$13>0,'Concrete Plant (CP-7)'!$I$13,AJ18*R18),IF(C18=\"CP-8\",IF('Concrete Plant (CP-8)'!$I$13>0,'Concrete Plant (CP-8)'!$I$13,AJ18*R18),IF(C18=\"CP-9\",IF('Concrete Plant (CP-9)'!$I$13>0,'Concrete Plant (CP-9)'!$I$13,AJ18*R18),IF(C18=\"CP-10\",IF('Concrete Plant (CP-10)'!$I$13>0,'Concrete Plant (CP-10)'!$I$13,AJ18*R18))))))))))))","v":""},"","",{"$f":"IF(F18=\"\",\"\",IF(B18=\"no\",'Emission Factors'!$L$33,'Emission Factors'!$L$34))","v":""},{"$f":"IF(F18=\"\",\"\",IF(C18=\"CP-1\",IF('Concrete Plant (CP-1)'!$I$14>0,'Concrete Plant (CP-1)'!$I$14,AN18*R18),IF(C18=\"CP-2\",IF('Concrete Plant (CP-2)'!$I$14>0,'Concrete Plant (CP-2)'!$I$14,AN18*R18),IF(C18=\"CP-3\",IF('Concrete Plant (CP-3)'!$I$14>0,'Concrete Plant (CP-3)'!$I$14,AN18*R18),IF(C18=\"CP-4\",IF('Concrete Plant (CP-4)'!$I$14>0,'Concrete Plant (CP-4)'!$I$14,AN18*R18),IF(C18=\"CP-5\",IF('Concrete Plant (CP-5)'!$I$14>0,'Concrete Plant (CP-5)'!$I$14,AN18*R18),IF(C18=\"CP-6\",IF('Concrete Plant (CP-6)'!$I$14>0,'Concrete Plant (CP-6)'!$I$14,AN18*R18),IF(C18=\"CP-7\",IF('Concrete Plant (CP-7)'!$I$14>0,'Concrete Plant (CP-7)'!$I$14,AN18*R18),IF(C18=\"CP-8\",IF('Concrete Plant (CP-8)'!$I$14>0,'Concrete Plant (CP-8)'!$I$14,AN18*R18),IF(C18=\"CP-9\",IF('Concrete Plant (CP-9)'!$I$14>0,'Concrete Plant (CP-9)'!$I$14,AN18*R18),IF(C18=\"CP-10\",IF('Concrete Plant (CP-10)'!$I$14>0,'Concrete Plant (CP-10)'!$I$14,AN18*R18))))))))))))","v":""},"","",{"$f":"IF(F18=\"\",\"\",IF(B18=\"no\",'Emission Factors'!$N$33,'Emission Factors'!$N$34))","v":""},{"$f":"IF(F18=\"\",\"\",IF(C18=\"CP-1\",IF('Concrete Plant (CP-1)'!$I$15>0,'Concrete Plant (CP-1)'!$I$15,AR18*R18),IF(C18=\"CP-2\",IF('Concrete Plant (CP-2)'!$I$15>0,'Concrete Plant (CP-2)'!$I$15,AR18*R18),IF(C18=\"CP-3\",IF('Concrete Plant (CP-3)'!$I$15>0,'Concrete Plant (CP-3)'!$I$15,AR18*R18),IF(C18=\"CP-4\",IF('Concrete Plant (CP-4)'!$I$15>0,'Concrete Plant (CP-4)'!$I$15,AR18*R18),IF(C18=\"CP-5\",IF('Concrete Plant (CP-5)'!$I$15>0,'Concrete Plant (CP-5)'!$I$15,AR18*R18),IF(C18=\"CP-6\",IF('Concrete Plant (CP-6)'!$I$15>0,'Concrete Plant (CP-6)'!$I$15,AR18*R18),IF(C18=\"CP-7\",IF('Concrete Plant (CP-7)'!$I$15>0,'Concrete Plant (CP-7)'!$I$15,AR18*R18),IF(C18=\"CP-8\",IF('Concrete Plant (CP-8)'!$I$15>0,'Concrete Plant (CP-8)'!$I$15,AR18*R18),IF(C18=\"CP-9\",IF('Concrete Plant (CP-9)'!$I$15>0,'Concrete Plant (CP-9)'!$I$15,AR18*R18),IF(C18=\"CP-10\",IF('Concrete Plant (CP-10)'!$I$15>0,'Concrete Plant (CP-10)'!$I$15,AR18*R18))))))))))))","v":""},"","",{"$f":"IF(F18=\"\",\"\",IF(B18=\"no\",'Emission Factors'!$P$33,'Emission Factors'!$P$34))","v":""},"","","",{"$f":"IF(F18=\"\",\"\",IF(B18=\"no\",'Emission Factors'!$R$33,'Emission Factors'!$R$34))","v":""},"","",""]
[{"$f":"IF('Facility Information'!$C$21>9,\"CP-10\",\"\")","v":""},"no",null,null,null,null,null,null,null,null,0.5,null,null,null,null,null,null,"",null,"",null,0,"",{"$f":"IF(F19=\"\",\"\",IF(B19=\"no\",'Emission Factors'!$D$33,'Emission Factors'!$D$34))","v":""},"","","",{"$f":"IF(F19=\"\",\"\",IF(B19=\"no\",'Emission Factors'!$F$33,'Emission Factors'!$F$34))","v":""},"","","",{"$f":"IF(F19=\"\",\"\",IF(B19=\"no\",'Emission Factors'!$H$33,'Emission Factors'!$H$34))","v":""},{"$f":"IF(F19=\"\",\"\",IF(C19=\"CP-1\",IF('Concrete Plant (CP-1)'!$I$12>0,'Concrete Plant (CP-1)'!$I$12,AF19*R19*K19),IF(C19=\"CP-2\",IF('Concrete Plant (CP-2)'!$I$12>0,'Concrete Plant (CP-2)'!$I$12,AF19*R19*K19),IF(C19=\"CP-3\",IF('Concrete Plant (CP-3)'!$I$12>0,'Concrete Plant (CP-3)'!$I$12,AF19*R19*K19),IF(C19=\"CP-4\",IF('Concrete Plant (CP-4)'!$I$12>0,'Concrete Plant (CP-4)'!$I$12,AF19*R19*K19),IF(C19=\"CP-5\",IF('Concrete Plant (CP-5)'!$I$12>0,'Concrete Plant (CP-5)'!$I$12,AF19*R19*K19),IF(C19=\"CP-6\",IF('Concrete Plant (CP-6)'!$I$12>0,'Concrete Plant (CP-6)'!$I$12,AF19*R19*K19),IF(C19=\"CP-7\",IF('Concrete Plant (CP-7)'!$I$12>0,'Concrete Plant (CP-7)'!$I$12,AF19*R19*K19),IF(C19=\"CP-8\",IF('Concrete Plant (CP-8)'!$I$12>0,'Concrete Plant (CP-8)'!$I$12,AF19*R19*K19),IF(C19=\"CP-9\",IF('Concrete Plant (CP-9)'!$I$12>0,'Concrete Plant (CP-9)'!$I$12,AF19*R19*K19),IF(C19=\"CP-10\",IF('Concrete Plant (CP-10)'!$I$12>0,'Concrete Plant (CP-10)'!$I$12,AF19*R19*K19))))))))))))","v":""},"","",{"$f":"IF(F19=\"\",\"\",IF(B19=\"no\",'Emission Factors'!$J$33,'Emission Factors'!$J$34))","v":""},{"$f":"IF(F19=\"\",\"\",IF(C19=\"CP-1\",IF('Concrete Plant (CP-1)'!$I$13>0,'Concrete Plant (CP-1)'!$I$13,AJ19*R19),IF(C19=\"CP-2\",IF('Concrete Plant (CP-2)'!$I$13>0,'Concrete Plant (CP-2)'!$I$13,AJ19*R19),IF(C19=\"CP-3\",IF('Concrete Plant (CP-3)'!$I$13>0,'Concrete Plant (CP-3)'!$I$13,AJ19*R19),IF(C19=\"CP-4\",IF('Concrete Plant (CP-4)'!$I$13>0,'Concrete Plant (CP-4)'!$I$13,AJ19*R19),IF(C19=\"CP-5\",IF('Concrete Plant (CP-5)'!$I$13>0,'Concrete Plant (CP-5)'!$I$13,AJ19*R19),IF(C19=\"CP-6\",IF('Concrete Plant (CP-6)'!$I$13>0,'Concrete Plant (CP-6)'!$I$13,AJ19*R19),IF(C19=\"CP-7\",IF('Concrete Plant (CP-7)'!$I$13>0,'Concrete Plant (CP-7)'!$I$13,AJ19*R19),IF(C19=\"CP-8\",IF('Concrete Plant (CP-8)'!$I$13>0,'Concrete Plant (CP-8)'!$I$13,AJ19*R19),IF(C19=\"CP-9\",IF('Concrete Plant (CP-9)'!$I$13>0,'Concrete Plant (CP-9)'!$I$13,AJ19*R19),IF(C19=\"CP-10\",IF('Concrete Plant (CP-10)'!$I$13>0,'Concrete Plant (CP-10)'!$I$13,AJ19*R19))))))))))))","v":""},"","",{"$f":"IF(F19=\"\",\"\",IF(B19=\"no\",'Emission Factors'!$L$33,'Emission Factors'!$L$34))","v":""},{"$f":"IF(F19=\"\",\"\",IF(C19=\"CP-1\",IF('Concrete Plant (CP-1)'!$I$14>0,'Concrete Plant (CP-1)'!$I$14,AN19*R19),IF(C19=\"CP-2\",IF('Concrete Plant (CP-2)'!$I$14>0,'Concrete Plant (CP-2)'!$I$14,AN19*R19),IF(C19=\"CP-3\",IF('Concrete Plant (CP-3)'!$I$14>0,'Concrete Plant (CP-3)'!$I$14,AN19*R19),IF(C19=\"CP-4\",IF('Concrete Plant (CP-4)'!$I$14>0,'Concrete Plant (CP-4)'!$I$14,AN19*R19),IF(C19=\"CP-5\",IF('Concrete Plant (CP-5)'!$I$14>0,'Concrete Plant (CP-5)'!$I$14,AN19*R19),IF(C19=\"CP-6\",IF('Concrete Plant (CP-6)'!$I$14>0,'Concrete Plant (CP-6)'!$I$14,AN19*R19),IF(C19=\"CP-7\",IF('Concrete Plant (CP-7)'!$I$14>0,'Concrete Plant (CP-7)'!$I$14,AN19*R19),IF(C19=\"CP-8\",IF('Concrete Plant (CP-8)'!$I$14>0,'Concrete Plant (CP-8)'!$I$14,AN19*R19),IF(C19=\"CP-9\",IF('Concrete Plant (CP-9)'!$I$14>0,'Concrete Plant (CP-9)'!$I$14,AN19*R19),IF(C19=\"CP-10\",IF('Concrete Plant (CP-10)'!$I$14>0,'Concrete Plant (CP-10)'!$I$14,AN19*R19))))))))))))","v":""},"","",{"$f":"IF(F19=\"\",\"\",IF(B19=\"no\",'Emission Factors'!$N$33,'Emission Factors'!$N$34))","v":""},{"$f":"IF(F19=\"\",\"\",IF(C19=\"CP-1\",IF('Concrete Plant (CP-1)'!$I$15>0,'Concrete Plant (CP-1)'!$I$15,AR19*R19),IF(C19=\"CP-2\",IF('Concrete Plant (CP-2)'!$I$15>0,'Concrete Plant (CP-2)'!$I$15,AR19*R19),IF(C19=\"CP-3\",IF('Concrete Plant (CP-3)'!$I$15>0,'Concrete Plant (CP-3)'!$I$15,AR19*R19),IF(C19=\"CP-4\",IF('Concrete Plant (CP-4)'!$I$15>0,'Concrete Plant (CP-4)'!$I$15,AR19*R19),IF(C19=\"CP-5\",IF('Concrete Plant (CP-5)'!$I$15>0,'Concrete Plant (CP-5)'!$I$15,AR19*R19),IF(C19=\"CP-6\",IF('Concrete Plant (CP-6)'!$I$15>0,'Concrete Plant (CP-6)'!$I$15,AR19*R19),IF(C19=\"CP-7\",IF('Concrete Plant (CP-7)'!$I$15>0,'Concrete Plant (CP-7)'!$I$15,AR19*R19),IF(C19=\"CP-8\",IF('Concrete Plant (CP-8)'!$I$15>0,'Concrete Plant (CP-8)'!$I$15,AR19*R19),IF(C19=\"CP-9\",IF('Concrete Plant (CP-9)'!$I$15>0,'Concrete Plant (CP-9)'!$I$15,AR19*R19),IF(C19=\"CP-10\",IF('Concrete Plant (CP-10)'!$I$15>0,'Concrete Plant (CP-10)'!$I$15,AR19*R19))))))))))))","v":""},"","",{"$f":"IF(F19=\"\",\"\",IF(B19=\"no\",'Emission Factors'!$P$33,'Emission Factors'!$P$34))","v":""},"","","",{"$f":"IF(F19=\"\",\"\",IF(B19=\"no\",'Emission Factors'!$R$33,'Emission Factors'!$R$34))","v":""},"","",""]
[null,"no",null,null,null,null,null,null,null,null,0.5,null,null,null,null,null,null,"",null,"",null,0,"",{"$f":"IF(F20=\"\",\"\",IF(B20=\"no\",'Emission Factors'!$D$33,'Emission Factors'!$D$34))","v":""},"","","",{"$f":"IF(F20=\"\",\"\",IF(B20=\"no\",'Emission Factors'!$F$33,'Emission Factors'!$F$34))","v":""},"","","",{"$f":"IF(F20=\"\",\"\",IF(B20=\"no\",'Emission Factors'!$H$33,'Emission Factors'!$H$34))","v":""},{"$f":"IF(F20=\"\",\"\",IF(C20=\"CP-1\",IF('Concrete Plant (CP-1)'!$I$12>0,'Concrete Plant (CP-1)'!$I$12,AF20*R20*K20),IF(C20=\"CP-2\",IF('Concrete Plant (CP-2)'!$I$12>0,'Concrete Plant (CP-2)'!$I$12,AF20*R20*K20),IF(C20=\"CP-3\",IF('Concrete Plant (CP-3)'!$I$12>0,'Concrete Plant (CP-3)'!$I$12,AF20*R20*K20),IF(C20=\"CP-4\",IF('Concrete Plant (CP-4)'!$I$12>0,'Concrete Plant (CP-4)'!$I$12,AF20*R20*K20),IF(C20=\"CP-5\",IF('Concrete Plant (CP-5)'!$I$12>0,'Concrete Plant (CP-5)'!$I$12,AF20*R20*K20),IF(C20=\"CP-6\",IF('Concrete Plant (CP-6)'!$I$12>0,'Concrete Plant (CP-6)'!$I$12,AF20*R20*K20),IF(C20=\"CP-7\",IF('Concrete Plant (CP-7)'!$I$12>0,'Concrete Plant (CP-7)'!$I$12,AF20*R20*K20),IF(C20=\"CP-8\",IF('Concrete Plant (CP-8)'!$I$12>0,'Concrete Plant (CP-8)'!$I$12,AF20*R20*K20),IF(C20=\"CP-9\",IF('Concrete Plant (CP-9)'!$I$12>0,'Concrete Plant (CP-9)'!$I$12,AF20*R20*K20),IF(C20=\"CP-10\",IF('Concrete Plant (CP-10)'!$I$12>0,'Concrete Plant (CP-10)'!$I$12,AF20*R20*K20))))))))))))","v":""},"","",{"$f":"IF(F20=\"\",\"\",IF(B20=\"no\",'Emission Factors'!$J$33,'Emission Factors'!$J$34))","v":""},{"$f":"IF(F20=\"\",\"\",IF(C20=\"CP-1\",IF('Concrete Plant (CP-1)'!$I$13>0,'Concrete Plant (CP-1)'!$I$13,AJ20*R20),IF(C20=\"CP-2\",IF('Concrete Plant (CP-2)'!$I$13>0,'Concrete Plant (CP-2)'!$I$13,AJ20*R20),IF(C20=\"CP-3\",IF('Concrete Plant (CP-3)'!$I$13>0,'Concrete Plant (CP-3)'!$I$13,AJ20*R20),IF(C20=\"CP-4\",IF('Concrete Plant (CP-4)'!$I$13>0,'Concrete Plant (CP-4)'!$I$13,AJ20*R20),IF(C20=\"CP-5\",IF('Concrete Plant (CP-5)'!$I$13>0,'Concrete Plant (CP-5)'!$I$13,AJ20*R20),IF(C20=\"CP-6\",IF('Concrete Plant (CP-6)'!$I$13>0,'Concrete Plant (CP-6)'!$I$13,AJ20*R20),IF(C20=\"CP-7\",IF('Concrete Plant (CP-7)'!$I$13>0,'Concrete Plant (CP-7)'!$I$13,AJ20*R20),IF(C20=\"CP-8\",IF('Concrete Plant (CP-8)'!$I$13>0,'Concrete Plant (CP-8)'!$I$13,AJ20*R20),IF(C20=\"CP-9\",IF('Concrete Plant (CP-9)'!$I$13>0,'Concrete Plant (CP-9)'!$I$13,AJ20*R20),IF(C20=\"CP-10\",IF('Concrete Plant (CP-10)'!$I$13>0,'Concrete Plant (CP-10)'!$I$13,AJ20*R20))))))))))))","v":""},"","",{"$f":"IF(F20=\"\",\"\",IF(B20=\"no\",'Emission Factors'!$L$33,'Emission Factors'!$L$34))","v":""},{"$f":"IF(F20=\"\",\"\",IF(C20=\"CP-1\",IF('Concrete Plant (CP-1)'!$I$14>0,'Concrete Plant (CP-1)'!$I$14,AN20*R20),IF(C20=\"CP-2\",IF('Concrete Plant (CP-2)'!$I$14>0,'Concrete Plant (CP-2)'!$I$14,AN20*R20),IF(C20=\"CP-3\",IF('Concrete Plant (CP-3)'!$I$14>0,'Concrete Plant (CP-3)'!$I$14,AN20*R20),IF(C20=\"CP-4\",IF('Concrete Plant (CP-4)'!$I$14>0,'Concrete Plant (CP-4)'!$I$14,AN20*R20),IF(C20=\"CP-5\",IF('Concrete Plant (CP-5)'!$I$14>0,'Concrete Plant (CP-5)'!$I$14,AN20*R20),IF(C20=\"CP-6\",IF('Concrete Plant (CP-6)'!$I$14>0,'Concrete Plant (CP-6)'!$I$14,AN20*R20),IF(C20=\"CP-7\",IF('Concrete Plant (CP-7)'!$I$14>0,'Concrete Plant (CP-7)'!$I$14,AN20*R20),IF(C20=\"CP-8\",IF('Concrete Plant (CP-8)'!$I$14>0,'Concrete Plant (CP-8)'!$I$14,AN20*R20),IF(C20=\"CP-9\",IF('Concrete Plant (CP-9)'!$I$14>0,'Concrete Plant (CP-9)'!$I$14,AN20*R20),IF(C20=\"CP-10\",IF('Concrete Plant (CP-10)'!$I$14>0,'Concrete Plant (CP-10)'!$I$14,AN20*R20))))))))))))","v":""},"","",{"$f":"IF(F20=\"\",\"\",IF(B20=\"no\",'Emission Factors'!$N$33,'Emission Factors'!$N$34))","v":""},{"$f":"IF(F20=\"\",\"\",IF(C20=\"CP-1\",IF('Concrete Plant (CP-1)'!$I$15>0,'Concrete Plant (CP-1)'!$I$15,AR20*R20),IF(C20=\"CP-2\",IF('Concrete Plant (CP-2)'!$I$15>0,'Concrete Plant (CP-2)'!$I$15,AR20*R20),IF(C20=\"CP-3\",IF('Concrete Plant (CP-3)'!$I$15>0,'Concrete Plant (CP-3)'!$I$15,AR20*R20),IF(C20=\"CP-4\",IF('Concrete Plant (CP-4)'!$I$15>0,'Concrete Plant (CP-4)'!$I$15,AR20*R20),IF(C20=\"CP-5\",IF('Concrete Plant (CP-5)'!$I$15>0,'Concrete Plant (CP-5)'!$I$15,AR20*R20),IF(C20=\"CP-6\",IF('Concrete Plant (CP-6)'!$I$15>0,'Concrete Plant (CP-6)'!$I$15,AR20*R20),IF(C20=\"CP-7\",IF('Concrete Plant (CP-7)'!$I$15>0,'Concrete Plant (CP-7)'!$I$15,AR20*R20),IF(C20=\"CP-8\",IF('Concrete Plant (CP-8)'!$I$15>0,'Concrete Plant (CP-8)'!$I$15,AR20*R20),IF(C20=\"CP-9\",IF('Concrete Plant (CP-9)'!$I$15>0,'Concrete Plant (CP-9)'!$I$15,AR20*R20),IF(C20=\"CP-10\",IF('Concrete Plant (CP-10)'!$I$15>0,'Concrete Plant (CP-10)'!$I$15,AR20*R20))))))))))))","v":""},"","",{"$f":"IF(F20=\"\",\"\",IF(B20=\"no\",'Emission Factors'!$P$33,'Emission Factors'!$P$34))","v":""},"","","",{"$f":"IF(F20=\"\",\"\",IF(B20=\"no\",'Emission Factors'!$R$33,'Emission Factors'!$R$34))","v":""},"","",""]
[null,"no",null,null,null,null,null,null,null,null,0.5,null,null,null,null,null,null,"",null,"",null,0,"",{"$f":"IF(F21=\"\",\"\",IF(B21=\"no\",'Emission Factors'!$D$33,'Emission Factors'!$D$34))","v":""},"","","",{"$f":"IF(F21=\"\",\"\",IF(B21=\"no\",'Emission Factors'!$F$33,'Emission Factors'!$F$34))","v":""},"","","",{"$f":"IF(F21=\"\",\"\",IF(B21=\"no\",'Emission Factors'!$H$33,'Emission Factors'!$H$34))","v":""},{"$f":"IF(F21=\"\",\"\",IF(C21=\"CP-1\",IF('Concrete Plant (CP-1)'!$I$12>0,'Concrete Plant (CP-1)'!$I$12,AF21*R21*K21),IF(C21=\"CP-2\",IF('Concrete Plant (CP-2)'!$I$12>0,'Concrete Plant (CP-2)'!$I$12,AF21*R21*K21),IF(C21=\"CP-3\",IF('Concrete Plant (CP-3)'!$I$12>0,'Concrete Plant (CP-3)'!$I$12,AF21*R21*K21),IF(C21=\"CP-4\",IF('Concrete Plant (CP-4)'!$I$12>0,'Concrete Plant (CP-4)'!$I$12,AF21*R21*K21),IF(C21=\"CP-5\",IF('Concrete Plant (CP-5)'!$I$12>0,'Concrete Plant (CP-5)'!$I$12,AF21*R21*K21),IF(C21=\"CP-6\",IF('Concrete Plant (CP-6)'!$I$12>0,'Concrete Plant (CP-6)'!$I$12,AF21*R21*K21),IF(C21=\"CP-7\",IF('Concrete Plant (CP-7)'!$I$12>0,'Concrete Plant (CP-7)'!$I$12,AF21*R21*K21),IF(C21=\"CP-8\",IF('Concrete Plant (CP-8)'!$I$12>0,'Concrete Plant (CP-8)'!$I$12,AF21*R21*K21),IF(C21=\"CP-9\",IF('Concrete Plant (CP-9)'!$I$12>0,'Concrete Plant (CP-9)'!$I$12,AF21*R21*K21),IF(C21=\"CP-10\",IF('Concrete Plant (CP-10)'!$I$12>0,'Concrete Plant (CP-10)'!$I$12,AF21*R21*K21))))))))))))","v":""},"","",{"$f":"IF(F21=\"\",\"\",IF(B21=\"no\",'Emission Factors'!$J$33,'Emission Factors'!$J$34))","v":""},{"$f":"IF(F21=\"\",\"\",IF(C21=\"CP-1\",IF('Concrete Plant (CP-1)'!$I$13>0,'Concrete Plant (CP-1)'!$I$13,AJ21*R21),IF(C21=\"CP-2\",IF('Concrete Plant (CP-2)'!$I$13>0,'Concrete Plant (CP-2)'!$I$13,AJ21*R21),IF(C21=\"CP-3\",IF('Concrete Plant (CP-3)'!$I$13>0,'Concrete Plant (CP-3)'!$I$13,AJ21*R21),IF(C21=\"CP-4\",IF('Concrete Plant (CP-4)'!$I$13>0,'Concrete Plant (CP-4)'!$I$13,AJ21*R21),IF(C21=\"CP-5\",IF('Concrete Plant (CP-5)'!$I$13>0,'Concrete Plant (CP-5)'!$I$13,AJ21*R21),IF(C21=\"CP-6\",IF('Concrete Plant (CP-6)'!$I$13>0,'Concrete Plant (CP-6)'!$I$13,AJ21*R21),IF(C21=\"CP-7\",IF('Concrete Plant (CP-7)'!$I$13>0,'Concrete Plant (CP-7)'!$I$13,AJ21*R21),IF(C21=\"CP-8\",IF('Concrete Plant (CP-8)'!$I$13>0,'Concrete Plant (CP-8)'!$I$13,AJ21*R21),IF(C21=\"CP-9\",IF('Concrete Plant (CP-9)'!$I$13>0,'Concrete Plant (CP-9)'!$I$13,AJ21*R21),IF(C21=\"CP-10\",IF('Concrete Plant (CP-10)'!$I$13>0,'Concrete Plant (CP-10)'!$I$13,AJ21*R21))))))))))))","v":""},"","",{"$f":"IF(F21=\"\",\"\",IF(B21=\"no\",'Emission Factors'!$L$33,'Emission Factors'!$L$34))","v":""},{"$f":"IF(F21=\"\",\"\",IF(C21=\"CP-1\",IF('Concrete Plant (CP-1)'!$I$14>0,'Concrete Plant (CP-1)'!$I$14,AN21*R21),IF(C21=\"CP-2\",IF('Concrete Plant (CP-2)'!$I$14>0,'Concrete Plant (CP-2)'!$I$14,AN21*R21),IF(C21=\"CP-3\",IF('Concrete Plant (CP-3)'!$I$14>0,'Concrete Plant (CP-3)'!$I$14,AN21*R21),IF(C21=\"CP-4\",IF('Concrete Plant (CP-4)'!$I$14>0,'Concrete Plant (CP-4)'!$I$14,AN21*R21),IF(C21=\"CP-5\",IF('Concrete Plant (CP-5)'!$I$14>0,'Concrete Plant (CP-5)'!$I$14,AN21*R21),IF(C21=\"CP-6\",IF('Concrete Plant (CP-6)'!$I$14>0,'Concrete Plant (CP-6)'!$I$14,AN21*R21),IF(C21=\"CP-7\",IF('Concrete Plant (CP-7)'!$I$14>0,'Concrete Plant (CP-7)'!$I$14,AN21*R21),IF(C21=\"CP-8\",IF('Concrete Plant (CP-8)'!$I$14>0,'Concrete Plant (CP-8)'!$I$14,AN21*R21),IF(C21=\"CP-9\",IF('Concrete Plant (CP-9)'!$I$14>0,'Concrete Plant (CP-9)'!$I$14,AN21*R21),IF(C21=\"CP-10\",IF('Concrete Plant (CP-10)'!$I$14>0,'Concrete Plant (CP-10)'!$I$14,AN21*R21))))))))))))","v":""},"","",{"$f":"IF(F21=\"\",\"\",IF(B21=\"no\",'Emission Factors'!$N$33,'Emission Factors'!$N$34))","v":""},{"$f":"IF(F21=\"\",\"\",IF(C21=\"CP-1\",IF('Concrete Plant (CP-1)'!$I$15>0,'Concrete Plant (CP-1)'!$I$15,AR21*R21),IF(C21=\"CP-2\",IF('Concrete Plant (CP-2)'!$I$15>0,'Concrete Plant (CP-2)'!$I$15,AR21*R21),IF(C21=\"CP-3\",IF('Concrete Plant (CP-3)'!$I$15>0,'Concrete Plant (CP-3)'!$I$15,AR21*R21),IF(C21=\"CP-4\",IF('Concrete Plant (CP-4)'!$I$15>0,'Concrete Plant (CP-4)'!$I$15,AR21*R21),IF(C21=\"CP-5\",IF('Concrete Plant (CP-5)'!$I$15>0,'Concrete Plant (CP-5)'!$I$15,AR21*R21),IF(C21=\"CP-6\",IF('Concrete Plant (CP-6)'!$I$15>0,'Concrete Plant (CP-6)'!$I$15,AR21*R21),IF(C21=\"CP-7\",IF('Concrete Plant (CP-7)'!$I$15>0,'Concrete Plant (CP-7)'!$I$15,AR21*R21),IF(C21=\"CP-8\",IF('Concrete Plant (CP-8)'!$I$15>0,'Concrete Plant (CP-8)'!$I$15,AR21*R21),IF(C21=\"CP-9\",IF('Concrete Plant (CP-9)'!$I$15>0,'Concrete Plant (CP-9)'!$I$15,AR21*R21),IF(C21=\"CP-10\",IF('Concrete Plant (CP-10)'!$I$15>0,'Concrete Plant (CP-10)'!$I$15,AR21*R21))))))))))))","v":""},"","",{"$f":"IF(F21=\"\",\"\",IF(B21=\"no\",'Emission Factors'!$P$33,'Emission Factors'!$P$34))","v":""},"","","",{"$f":"IF(F21=\"\",\"\",IF(B21=\"no\",'Emission Factors'!$R$33,'Emission Factors'!$R$34))","v":""},"","",""]
[null,"no",null,null,null,null,null,null,null,null,0.5,null,null,null,null,null,null,"",null,"",null,0,"",{"$f":"IF(F22=\"\",\"\",IF(B22=\"no\",'Emission Factors'!$D$33,'Emission Factors'!$D$34))","v":""},"","","",{"$f":"IF(F22=\"\",\"\",IF(B22=\"no\",'Emission Factors'!$F$33,'Emission Factors'!$F$34))","v":""},"","","",{"$f":"IF(F22=\"\",\"\",IF(B22=\"no\",'Emission Factors'!$H$33,'Emission Factors'!$H$34))","v":""},{"$f":"IF(F22=\"\",\"\",IF(C22=\"CP-1\",IF('Concrete Plant (CP-1)'!$I$12>0,'Concrete Plant (CP-1)'!$I$12,AF22*R22*K22),IF(C22=\"CP-2\",IF('Concrete Plant (CP-2)'!$I$12>0,'Concrete Plant (CP-2)'!$I$12,AF22*R22*K22),IF(C22=\"CP-3\",IF('Concrete Plant (CP-3)'!$I$12>0,'Concrete Plant (CP-3)'!$I$12,AF22*R22*K22),IF(C22=\"CP-4\",IF('Concrete Plant (CP-4)'!$I$12>0,'Concrete Plant (CP-4)'!$I$12,AF22*R22*K22),IF(C22=\"CP-5\",IF('Concrete Plant (CP-5)'!$I$12>0,'Concrete Plant (CP-5)'!$I$12,AF22*R22*K22),IF(C22=\"CP-6\",IF('Concrete Plant (CP-6)'!$I$12>0,'Concrete Plant (CP-6)'!$I$12,AF22*R22*K22),IF(C22=\"CP-7\",IF('Concrete Plant (CP-7)'!$I$12>0,'Concrete Plant (CP-7)'!$I$12,AF22*R22*K22),IF(C22=\"CP-8\",IF('Concrete Plant (CP-8)'!$I$12>0,'Concrete Plant (CP-8)'!$I$12,AF22*R22*K22),IF(C22=\"CP-9\",IF('Concrete Plant (CP-9)'!$I$12>0,'Concrete Plant (CP-9)'!$I$12,AF22*R22*K22),IF(C22=\"CP-10\",IF('Concrete Plant (CP-10)'!$I$12>0,'Concrete Plant (CP-10)'!$I$12,AF22*R22*K22))))))))))))","v":""},"","",{"$f":"IF(F22=\"\",\"\",IF(B22=\"no\",'Emission Factors'!$J$33,'Emission Factors'!$J$34))","v":""},{"$f":"IF(F22=\"\",\"\",IF(C22=\"CP-1\",IF('Concrete Plant (CP-1)'!$I$13>0,'Concrete Plant (CP-1)'!$I$13,AJ22*R22),IF(C22=\"CP-2\",IF('Concrete Plant (CP-2)'!$I$13>0,'Concrete Plant (CP-2)'!$I$13,AJ22*R22),IF(C22=\"CP-3\",IF('Concrete Plant (CP-3)'!$I$13>0,'Concrete Plant (CP-3)'!$I$13,AJ22*R22),IF(C22=\"CP-4\",IF('Concrete Plant (CP-4)'!$I$13>0,'Concrete Plant (CP-4)'!$I$13,AJ22*R22),IF(C22=\"CP-5\",IF('Concrete Plant (CP-5)'!$I$13>0,'Concrete Plant (CP-5)'!$I$13,AJ22*R22),IF(C22=\"CP-6\",IF('Concrete Plant (CP-6)'!$I$13>0,'Concrete Plant (CP-6)'!$I$13,AJ22*R22),IF(C22=\"CP-7\",IF('Concrete Plant (CP-7)'!$I$13>0,'Concrete Plant (CP-7)'!$I$13,AJ22*R22),IF(C22=\"CP-8\",IF('Concrete Plant (CP-8)'!$I$13>0,'Concrete Plant (CP-8)'!$I$13,AJ22*R22),IF(C22=\"CP-9\",IF('Concrete Plant (CP-9)'!$I$13>0,'Concrete Plant (CP-9)'!$I$13,AJ22*R22),IF(C22=\"CP-10\",IF('Concrete Plant (CP-10)'!$I$13>0,'Concrete Plant (CP-10)'!$I$13,AJ22*R22))))))))))))","v":""},"","",{"$f":"IF(F22=\"\",\"\",IF(B22=\"no\",'Emission Factors'!$L$33,'Emission Factors'!$L$34))","v":""},{"$f":"IF(F22=\"\",\"\",IF(C22=\"CP-1\",IF('Concrete Plant (CP-1)'!$I$14>0,'Concrete Plant (CP-1)'!$I$14,AN22*R22),IF(C22=\"CP-2\",IF('Concrete Plant (CP-2)'!$I$14>0,'Concrete Plant (CP-2)'!$I$14,AN22*R22),IF(C22=\"CP-3\",IF('Concrete Plant (CP-3)'!$I$14>0,'Concrete Plant (CP-3)'!$I$14,AN22*R22),IF(C22=\"CP-4\",IF('Concrete Plant (CP-4)'!$I$14>0,'Concrete Plant (CP-4)'!$I$14,AN22*R22),IF(C22=\"CP-5\",IF('Concrete Plant (CP-5)'!$I$14>0,'Concrete Plant (CP-5)'!$I$14,AN22*R22),IF(C22=\"CP-6\",IF('Concrete Plant (CP-6)'!$I$14>0,'Concrete Plant (CP-6)'!$I$14,AN22*R22),IF(C22=\"CP-7\",IF('Concrete Plant (CP-7)'!$I$14>0,'Concrete Plant (CP-7)'!$I$14,AN22*R22),IF(C22=\"CP-8\",IF('Concrete Plant (CP-8)'!$I$14>0,'Concrete Plant (CP-8)'!$I$14,AN22*R22),IF(C22=\"CP-9\",IF('Concrete Plant (CP-9)'!$I$14>0,'Concrete Plant (CP-9)'!$I$14,AN22*R22),IF(C22=\"CP-10\",IF('Concrete Plant (CP-10)'!$I$14>0,'Concrete Plant (CP-10)'!$I$14,AN22*R22))))))))))))","v":""},"","",{"$f":"IF(F22=\"\",\"\",IF(B22=\"no\",'Emission Factors'!$N$33,'Emission Factors'!$N$34))","v":""},{"$f":"IF(F22=\"\",\"\",IF(C22=\"CP-1\",IF('Concrete Plant (CP-1)'!$I$15>0,'Concrete Plant (CP-1)'!$I$15,AR22*R22),IF(C22=\"CP-2\",IF('Concrete Plant (CP-2)'!$I$15>0,'Concrete Plant (CP-2)'!$I$15,AR22*R22),IF(C22=\"CP-3\",IF('Concrete Plant (CP-3)'!$I$15>0,'Concrete Plant (CP-3)'!$I$15,AR22*R22),IF(C22=\"CP-4\",IF('Concrete Plant (CP-4)'!$I$15>0,'Concrete Plant (CP-4)'!$I$15,AR22*R22),IF(C22=\"CP-5\",IF('Concrete Plant (CP-5)'!$I$15>0,'Concrete Plant (CP-5)'!$I$15,AR22*R22),IF(C22=\"CP-6\",IF('Concrete Plant (CP-6)'!$I$15>0,'Concrete Plant (CP-6)'!$I$15,AR22*R22),IF(C22=\"CP-7\",IF('Concrete Plant (CP-7)'!$I$15>0,'Concrete Plant (CP-7)'!$I$15,AR22*R22),IF(C22=\"CP-8\",IF('Concrete Plant (CP-8)'!$I$15>0,'Concrete Plant (CP-8)'!$I$15,AR22*R22),IF(C22=\"CP-9\",IF('Concrete Plant (CP-9)'!$I$15>0,'Concrete Plant (CP-9)'!$I$15,AR22*R22),IF(C22=\"CP-10\",IF('Concrete Plant (CP-10)'!$I$15>0,'Concrete Plant (CP-10)'!$I$15,AR22*R22))))))))))))","v":""},"","",{"$f":"IF(F22=\"\",\"\",IF(B22=\"no\",'Emission Factors'!$P$33,'Emission Factors'!$P$34))","v":""},"","","",{"$f":"IF(F22=\"\",\"\",IF(B22=\"no\",'Emission Factors'!$R$33,'Emission Factors'!$R$34))","v":""},"","",""]
[null,"no",null,null,null,null,null,null,null,null,0.5,null,null,null,null,null,null,"",null,"",null,0,"",{"$f":"IF(F23=\"\",\"\",IF(B23=\"no\",'Emission Factors'!$D$33,'Emission Factors'!$D$34))","v":""},"","","",{"$f":"IF(F23=\"\",\"\",IF(B23=\"no\",'Emission Factors'!$F$33,'Emission Factors'!$F$34))","v":""},"","","",{"$f":"IF(F23=\"\",\"\",IF(B23=\"no\",'Emission Factors'!$H$33,'Emission Factors'!$H$34))","v":""},{"$f":"IF(F23=\"\",\"\",IF(C23=\"CP-1\",IF('Concrete Plant (CP-1)'!$I$12>0,'Concrete Plant (CP-1)'!$I$12,AF23*R23*K23),IF(C23=\"CP-2\",IF('Concrete Plant (CP-2)'!$I$12>0,'Concrete Plant (CP-2)'!$I$12,AF23*R23*K23),IF(C23=\"CP-3\",IF('Concrete Plant (CP-3)'!$I$12>0,'Concrete Plant (CP-3)'!$I$12,AF23*R23*K23),IF(C23=\"CP-4\",IF('Concrete Plant (CP-4)'!$I$12>0,'Concrete Plant (CP-4)'!$I$12,AF23*R23*K23),IF(C23=\"CP-5\",IF('Concrete Plant (CP-5)'!$I$12>0,'Concrete Plant (CP-5)'!$I$12,AF23*R23*K23),IF(C23=\"CP-6\",IF('Concrete Plant (CP-6)'!$I$12>0,'Concrete Plant (CP-6)'!$I$12,AF23*R23*K23),IF(C23=\"CP-7\",IF('Concrete Plant (CP-7)'!$I$12>0,'Concrete Plant (CP-7)'!$I$12,AF23*R23*K23),IF(C23=\"CP-8\",IF('Concrete Plant (CP-8)'!$I$12>0,'Concrete Plant (CP-8)'!$I$12,AF23*R23*K23),IF(C23=\"CP-9\",IF('Concrete Plant (CP-9)'!$I$12>0,'Concrete Plant (CP-9)'!$I$12,AF23*R23*K23),IF(C23=\"CP-10\",IF('Concrete Plant (CP-10)'!$I$12>0,'Concrete Plant (CP-10)'!$I$12,AF23*R23*K23))))))))))))","v":""},"","",{"$f":"IF(F23=\"\",\"\",IF(B23=\"no\",'Emission Factors'!$J$33,'Emission Factors'!$J$34))","v":""},{"$f":"IF(F23=\"\",\"\",IF(C23=\"CP-1\",IF('Concrete Plant (CP-1)'!$I$13>0,'Concrete Plant (CP-1)'!$I$13,AJ23*R23),IF(C23=\"CP-2\",IF('Concrete Plant (CP-2)'!$I$13>0,'Concrete Plant (CP-2)'!$I$13,AJ23*R23),IF(C23=\"CP-3\",IF('Concrete Plant (CP-3)'!$I$13>0,'Concrete Plant (CP-3)'!$I$13,AJ23*R23),IF(C23=\"CP-4\",IF('Concrete Plant (CP-4)'!$I$13>0,'Concrete Plant (CP-4)'!$I$13,AJ23*R23),IF(C23=\"CP-5\",IF('Concrete Plant (CP-5)'!$I$13>0,'Concrete Plant (CP-5)'!$I$13,AJ23*R23),IF(C23=\"CP-6\",IF('Concrete Plant (CP-6)'!$I$13>0,'Concrete Plant (CP-6)'!$I$13,AJ23*R23),IF(C23=\"CP-7\",IF('Concrete Plant (CP-7)'!$I$13>0,'Concrete Plant (CP-7)'!$I$13,AJ23*R23),IF(C23=\"CP-8\",IF('Concrete Plant (CP-8)'!$I$13>0,'Concrete Plant (CP-8)'!$I$13,AJ23*R23),IF(C23=\"CP-9\",IF('Concrete Plant (CP-9)'!$I$13>0,'Concrete Plant (CP-9)'!$I$13,AJ23*R23),IF(C23=\"CP-10\",IF('Concrete Plant (CP-10)'!$I$13>0,'Concrete Plant (CP-10)'!$I$13,AJ23*R23))))))))))))","v":""},"","",{"$f":"IF(F23=\"\",\"\",IF(B23=\"no\",'Emission Factors'!$L$33,'Emission Factors'!$L$34))","v":""},{"$f":"IF(F23=\"\",\"\",IF(C23=\"CP-1\",IF('Concrete Plant (CP-1)'!$I$14>0,'Concrete Plant (CP-1)'!$I$14,AN23*R23),IF(C23=\"CP-2\",IF('Concrete Plant (CP-2)'!$I$14>0,'Concrete Plant (CP-2)'!$I$14,AN23*R23),IF(C23=\"CP-3\",IF('Concrete Plant (CP-3)'!$I$14>0,'Concrete Plant (CP-3)'!$I$14,AN23*R23),IF(C23=\"CP-4\",IF('Concrete Plant (CP-4)'!$I$14>0,'Concrete Plant (CP-4)'!$I$14,AN23*R23),IF(C23=\"CP-5\",IF('Concrete Plant (CP-5)'!$I$14>0,'Concrete Plant (CP-5)'!$I$14,AN23*R23),IF(C23=\"CP-6\",IF('Concrete Plant (CP-6)'!$I$14>0,'Concrete Plant (CP-6)'!$I$14,AN23*R23),IF(C23=\"CP-7\",IF('Concrete Plant (CP-7)'!$I$14>0,'Concrete Plant (CP-7)'!$I$14,AN23*R23),IF(C23=\"CP-8\",IF('Concrete Plant (CP-8)'!$I$14>0,'Concrete Plant (CP-8)'!$I$14,AN23*R23),IF(C23=\"CP-9\",IF('Concrete Plant (CP-9)'!$I$14>0,'Concrete Plant (CP-9)'!$I$14,AN23*R23),IF(C23=\"CP-10\",IF('Concrete Plant (CP-10)'!$I$14>0,'Concrete Plant (CP-10)'!$I$14,AN23*R23))))))))))))","v":""},"","",{"$f":"IF(F23=\"\",\"\",IF(B23=\"no\",'Emission Factors'!$N$33,'Emission Factors'!$N$34))","v":""},{"$f":"IF(F23=\"\",\"\",IF(C23=\"CP-1\",IF('Concrete Plant (CP-1)'!$I$15>0,'Concrete Plant (CP-1)'!$I$15,AR23*R23),IF(C23=\"CP-2\",IF('Concrete Plant (CP-2)'!$I$15>0,'Concrete Plant (CP-2)'!$I$15,AR23*R23),IF(C23=\"CP-3\",IF('Concrete Plant (CP-3)'!$I$15>0,'Concrete Plant (CP-3)'!$I$15,AR23*R23),IF(C23=\"CP-4\",IF('Concrete Plant (CP-4)'!$I$15>0,'Concrete Plant (CP-4)'!$I$15,AR23*R23),IF(C23=\"CP-5\",IF('Concrete Plant (CP-5)'!$I$15>0,'Concrete Plant (CP-5)'!$I$15,AR23*R23),IF(C23=\"CP-6\",IF('Concrete Plant (CP-6)'!$I$15>0,'Concrete Plant (CP-6)'!$I$15,AR23*R23),IF(C23=\"CP-7\",IF('Concrete Plant (CP-7)'!$I$15>0,'Concrete Plant (CP-7)'!$I$15,AR23*R23),IF(C23=\"CP-8\",IF('Concrete Plant (CP-8)'!$I$15>0,'Concrete Plant (CP-8)'!$I$15,AR23*R23),IF(C23=\"CP-9\",IF('Concrete Plant (CP-9)'!$I$15>0,'Concrete Plant (CP-9)'!$I$15,AR23*R23),IF(C23=\"CP-10\",IF('Concrete Plant (CP-10)'!$I$15>0,'Concrete Plant (CP-10)'!$I$15,AR23*R23))))))))))))","v":""},"","",{"$f":"IF(F23=\"\",\"\",IF(B23=\"no\",'Emission Factors'!$P$33,'Emission Factors'!$P$34))","v":""},"","","",{"$f":"IF(F23=\"\",\"\",IF(B23=\"no\",'Emission Factors'!$R$33,'Emission Factors'!$R$34))","v":""},"","",""]
[null,{"$f":"IF(F24=\"Diesel Generator> 600 bhp\",\"yes\",\"no\")","v":"no"},null,null,null,null,null,null,null,null,0.5,null,null,null,null,null,null,{"$f":"IF(Q24=\"\",\"\",Q24*0.14)","v":""},null,{"$f":"IF(S24=\"\",\"\",S24*0.14)","v":""},null,0,"",{"$f":"IF(F24=\"\",\"\",IF(B24=\"no\",'Emission Factors'!$D$33,'Emission Factors'!$D$34))","v":""},"","","",{"$f":"IF(F24=\"\",\"\",IF(B24=\"no\",'Emission Factors'!$F$33,'Emission Factors'!$F$34))","v":""},"","","",{"$f":"IF(F24=\"\",\"\",IF(B24=\"no\",'Emission Factors'!$H$33,'Emission Factors'!$H$34))","v":""},{"$f":"IF(F24=\"\",\"\",IF(C24=\"CP-1\",IF('Concrete Plant (CP-1)'!$I$12>0,'Concrete Plant (CP-1)'!$I$12,AF24*R24*K24),IF(C24=\"CP-2\",IF('Concrete Plant (CP-2)'!$I$12>0,'Concrete Plant (CP-2)'!$I$12,AF24*R24*K24),IF(C24=\"CP-3\",IF('Concrete Plant (CP-3)'!$I$12>0,'Concrete Plant (CP-3)'!$I$12,AF24*R24*K24),IF(C24=\"CP-4\",IF('Concrete Plant (CP-4)'!$I$12>0,'Concrete Plant (CP-4)'!$I$12,AF24*R24*K24),IF(C24=\"CP-5\",IF('Concrete Plant (CP-5)'!$I$12>0,'Concrete Plant (CP-5)'!$I$12,AF24*R24*K24),IF(C24=\"CP-6\",IF('Concrete Plant (CP-6)'!$I$12>0,'Concrete Plant (CP-6)'!$I$12,AF24*R24*K24),IF(C24=\"CP-7\",IF('Concrete Plant (CP-7)'!$I$12>0,'Concrete Plant (CP-7)'!$I$12,AF24*R24*K24),IF(C24=\"CP-8\",IF('Concrete Plant (CP-8)'!$I$12>0,'Concrete Plant (CP-8)'!$I$12,AF24*R24*K24),IF(C24=\"CP-9\",IF('Concrete Plant (CP-9)'!$I$12>0,'Concrete Plant (CP-9)'!$I$12,AF24*R24*K24),IF(C24=\"CP-10\",IF('Concrete Plant (CP-10)'!$I$12>0,'Concrete Plant (CP-10)'!$I$12,AF24*R24*K24))))))))))))","v":""},"","",{"$f":"IF(F24=\"\",\"\",IF(B24=\"no\",'Emission Factors'!$J$33,'Emission Factors'!$J$34))","v":""},{"$f":"IF(F24=\"\",\"\",IF(C24=\"CP-1\",IF('Concrete Plant (CP-1)'!$I$13>0,'Concrete Plant (CP-1)'!$I$13,AJ24*R24),IF(C24=\"CP-2\",IF('Concrete Plant (CP-2)'!$I$13>0,'Concrete Plant (CP-2)'!$I$13,AJ24*R24),IF(C24=\"CP-3\",IF('Concrete Plant (CP-3)'!$I$13>0,'Concrete Plant (CP-3)'!$I$13,AJ24*R24),IF(C24=\"CP-4\",IF('Concrete Plant (CP-4)'!$I$13>0,'Concrete Plant (CP-4)'!$I$13,AJ24*R24),IF(C24=\"CP-5\",IF('Concrete Plant (CP-5)'!$I$13>0,'Concrete Plant (CP-5)'!$I$13,AJ24*R24),IF(C24=\"CP-6\",IF('Concrete Plant (CP-6)'!$I$13>0,'Concrete Plant (CP-6)'!$I$13,AJ24*R24),IF(C24=\"CP-7\",IF('Concrete Plant (CP-7)'!$I$13>0,'Concrete Plant (CP-7)'!$I$13,AJ24*R24),IF(C24=\"CP-8\",IF('Concrete Plant (CP-8)'!$I$13>0,'Concrete Plant (CP-8)'!$I$13,AJ24*R24),IF(C24=\"CP-9\",IF('Concrete Plant (CP-9)'!$I$13>0,'Concrete Plant (CP-9)'!$I$13,AJ24*R24),IF(C24=\"CP-10\",IF('Concrete Plant (CP-10)'!$I$13>0,'Concrete Plant (CP-10)'!$I$13,AJ24*R24))))))))))))","v":""},"","",{"$f":"IF(F24=\"\",\"\",IF(B24=\"no\",'Emission Factors'!$L$33,'Emission Factors'!$L$34))","v":""},{"$f":"IF(F24=\"\",\"\",IF(C24=\"CP-1\",IF('Concrete Plant (CP-1)'!$I$14>0,'Concrete Plant (CP-1)'!$I$14,AN24*R24),IF(C24=\"CP-2\",IF('Concrete Plant (CP-2)'!$I$14>0,'Concrete Plant (CP-2)'!$I$14,AN24*R24),IF(C24=\"CP-3\",IF('Concrete Plant (CP-3)'!$I$14>0,'Concrete Plant (CP-3)'!$I$14,AN24*R24),IF(C24=\"CP-4\",IF('Concrete Plant (CP-4)'!$I$14>0,'Concrete Plant (CP-4)'!$I$14,AN24*R24),IF(C24=\"CP-5\",IF('Concrete Plant (CP-5)'!$I$14>0,'Concrete Plant (CP-5)'!$I$14,AN24*R24),IF(C24=\"CP-6\",IF('Concrete Plant (CP-6)'!$I$14>0,'Concrete Plant (CP-6)'!$I$14,AN24*R24),IF(C24=\"CP-7\",IF('Concrete Plant (CP-7)'!$I$14>0,'Concrete Plant (CP-7)'!$I$14,AN24*R24),IF(C24=\"CP-8\",IF('Concrete Plant (CP-8)'!$I$14>0,'Concrete Plant (CP-8)'!$I$14,AN24*R24),IF(C24=\"CP-9\",IF('Concrete Plant (CP-9)'!$I$14>0,'Concrete Plant (CP-9)'!$I$14,AN24*R24),IF(C24=\"CP-10\",IF('Concrete Plant (CP-10)'!$I$14>0,'Concrete Plant (CP-10)'!$I$14,AN24*R24))))))))))))","v":""},"","",{"$f":"IF(F24=\"\",\"\",IF(B24=\"no\",'Emission Factors'!$N$33,'Emission Factors'!$N$34))","v":""},{"$f":"IF(F24=\"\",\"\",IF(C24=\"CP-1\",IF('Concrete Plant (CP-1)'!$I$15>0,'Concrete Plant (CP-1)'!$I$15,AR24*R24),IF(C24=\"CP-2\",IF('Concrete Plant (CP-2)'!$I$15>0,'Concrete Plant (CP-2)'!$I$15,AR24*R24),IF(C24=\"CP-3\",IF('Concrete Plant (CP-3)'!$I$15>0,'Concrete Plant (CP-3)'!$I$15,AR24*R24),IF(C24=\"CP-4\",IF('Concrete Plant (CP-4)'!$I$15>0,'Concrete Plant (CP-4)'!$I$15,AR24*R24),IF(C24=\"CP-5\",IF('Concrete Plant (CP-5)'!$I$15>0,'Concrete Plant (CP-5)'!$I$15,AR24*R24),IF(C24=\"CP-6\",IF('Concrete Plant (CP-6)'!$I$15>0,'Concrete Plant (CP-6)'!$I$15,AR24*R24),IF(C24=\"CP-7\",IF('Concrete Plant (CP-7)'!$I$15>0,'Concrete Plant (CP-7)'!$I$15,AR24*R24),IF(C24=\"CP-8\",IF('Concrete Plant (CP-8)'!$I$15>0,'Concrete Plant (CP-8)'!$I$15,AR24*R24),IF(C24=\"CP-9\",IF('Concrete Plant (CP-9)'!$I$15>0,'Concrete Plant (CP-9)'!$I$15,AR24*R24),IF(C24=\"CP-10\",IF('Concrete Plant (CP-10)'!$I$15>0,'Concrete Plant (CP-10)'!$I$15,AR24*R24))))))))))))","v":""},"","",{"$f":"IF(F24=\"\",\"\",IF(B24=\"no\",'Emission Factors'!$P$33,'Emission Factors'!$P$34))","v":""},"","","",{"$f":"IF(F24=\"\",\"\",IF(B24=\"no\",'Emission Factors'!$R$33,'Emission Factors'!$R$34))","v":""},"","",""]
[null,{"$f":"IF(F25=\"Diesel Generator> 600 bhp\",\"yes\",\"no\")","v":"no"},null,null,null,null,null,null,null,null,0.5,null,null,null,null,null,null,{"$f":"IF(Q25=\"\",\"\",Q25*0.14)","v":""},null,{"$f":"IF(S25=\"\",\"\",S25*0.14)","v":""},null,0,"",{"$f":"IF(F25=\"\",\"\",IF(B25=\"no\",'Emission Factors'!$D$33,'Emission Factors'!$D$34))","v":""},"","","",{"$f":"IF(F25=\"\",\"\",IF(B25=\"no\",'Emission Factors'!$F$33,'Emission Factors'!$F$34))","v":""},"","","",{"$f":"IF(F25=\"\",\"\",IF(B25=\"no\",'Emission Factors'!$H$33,'Emission Factors'!$H$34))","v":""},{"$f":"IF(F25=\"\",\"\",IF(C25=\"CP-1\",IF('Concrete Plant (CP-1)'!$I$12>0,'Concrete Plant (CP-1)'!$I$12,AF25*R25*K25),IF(C25=\"CP-2\",IF('Concrete Plant (CP-2)'!$I$12>0,'Concrete Plant (CP-2)'!$I$12,AF25*R25*K25),IF(C25=\"CP-3\",IF('Concrete Plant (CP-3)'!$I$12>0,'Concrete Plant (CP-3)'!$I$12,AF25*R25*K25),IF(C25=\"CP-4\",IF('Concrete Plant (CP-4)'!$I$12>0,'Concrete Plant (CP-4)'!$I$12,AF25*R25*K25),IF(C25=\"CP-5\",IF('Concrete Plant (CP-5)'!$I$12>0,'Concrete Plant (CP-5)'!$I$12,AF25*R25*K25),IF(C25=\"CP-6\",IF('Concrete Plant (CP-6)'!$I$12>0,'Concrete Plant (CP-6)'!$I$12,AF25*R25*K25),IF(C25=\"CP-7\",IF('Concrete Plant (CP-7)'!$I$12>0,'Concrete Plant (CP-7)'!$I$12,AF25*R25*K25),IF(C25=\"CP-8\",IF('Concrete Plant (CP-8)'!$I$12>0,'Concrete Plant (CP-8)'!$I$12,AF25*R25*K25),IF(C25=\"CP-9\",IF('Concrete Plant (CP-9)'!$I$12>0,'Concrete Plant (CP-9)'!$I$12,AF25*R25*K25),IF(C25=\"CP-10\",IF('Concrete Plant (CP-10)'!$I$12>0,'Concrete Plant (CP-10)'!$I$12,AF25*R25*K25))))))))))))","v":""},"","",{"$f":"IF(F25=\"\",\"\",IF(B25=\"no\",'Emission Factors'!$J$33,'Emission Factors'!$J$34))","v":""},{"$f":"IF(F25=\"\",\"\",IF(C25=\"CP-1\",IF('Concrete Plant (CP-1)'!$I$13>0,'Concrete Plant (CP-1)'!$I$13,AJ25*R25),IF(C25=\"CP-2\",IF('Concrete Plant (CP-2)'!$I$13>0,'Concrete Plant (CP-2)'!$I$13,AJ25*R25),IF(C25=\"CP-3\",IF('Concrete Plant (CP-3)'!$I$13>0,'Concrete Plant (CP-3)'!$I$13,AJ25*R25),IF(C25=\"CP-4\",IF('Concrete Plant (CP-4)'!$I$13>0,'Concrete Plant (CP-4)'!$I$13,AJ25*R25),IF(C25=\"CP-5\",IF('Concrete Plant (CP-5)'!$I$13>0,'Concrete Plant (CP-5)'!$I$13,AJ25*R25),IF(C25=\"CP-6\",IF('Concrete Plant (CP-6)'!$I$13>0,'Concrete Plant (CP-6)'!$I$13,AJ25*R25),IF(C25=\"CP-7\",IF('Concrete Plant (CP-7)'!$I$13>0,'Concrete Plant (CP-7)'!$I$13,AJ25*R25),IF(C25=\"CP-8\",IF('Concrete Plant (CP-8)'!$I$13>0,'Concrete Plant (CP-8)'!$I$13,AJ25*R25),IF(C25=\"CP-9\",IF('Concrete Plant (CP-9)'!$I$13>0,'Concrete Plant (CP-9)'!$I$13,AJ25*R25),IF(C25=\"CP-10\",IF('Concrete Plant (CP-10)'!$I$13>0,'Concrete Plant (CP-10)'!$I$13,AJ25*R25))))))))))))","v":""},"","",{"$f":"IF(F25=\"\",\"\",IF(B25=\"no\",'Emission Factors'!$L$33,'Emission Factors'!$L$34))","v":""},{"$f":"IF(F25=\"\",\"\",IF(C25=\"CP-1\",IF('Concrete Plant (CP-1)'!$I$14>0,'Concrete Plant (CP-1)'!$I$14,AN25*R25),IF(C25=\"CP-2\",IF('Concrete Plant (CP-2)'!$I$14>0,'Concrete Plant (CP-2)'!$I$14,AN25*R25),IF(C25=\"CP-3\",IF('Concrete Plant (CP-3)'!$I$14>0,'Concrete Plant (CP-3)'!$I$14,AN25*R25),IF(C25=\"CP-4\",IF('Concrete Plant (CP-4)'!$I$14>0,'Concrete Plant (CP-4)'!$I$14,AN25*R25),IF(C25=\"CP-5\",IF('Concrete Plant (CP-5)'!$I$14>0,'Concrete Plant (CP-5)'!$I$14,AN25*R25),IF(C25=\"CP-6\",IF('Concrete Plant (CP-6)'!$I$14>0,'Concrete Plant (CP-6)'!$I$14,AN25*R25),IF(C25=\"CP-7\",IF('Concrete Plant (CP-7)'!$I$14>0,'Concrete Plant (CP-7)'!$I$14,AN25*R25),IF(C25=\"CP-8\",IF('Concrete Plant (CP-8)'!$I$14>0,'Concrete Plant (CP-8)'!$I$14,AN25*R25),IF(C25=\"CP-9\",IF('Concrete Plant (CP-9)'!$I$14>0,'Concrete Plant (CP-9)'!$I$14,AN25*R25),IF(C25=\"CP-10\",IF('Concrete Plant (CP-10)'!$I$14>0,'Concrete Plant (CP-10)'!$I$14,AN25*R25))))))))))))","v":""},"","",{"$f":"IF(F25=\"\",\"\",IF(B25=\"no\",'Emission Factors'!$N$33,'Emission Factors'!$N$34))","v":""},{"$f":"IF(F25=\"\",\"\",IF(C25=\"CP-1\",IF('Concrete Plant (CP-1)'!$I$15>0,'Concrete Plant (CP-1)'!$I$15,AR25*R25),IF(C25=\"CP-2\",IF('Concrete Plant (CP-2)'!$I$15>0,'Concrete Plant (CP-2)'!$I$15,AR25*R25),IF(C25=\"CP-3\",IF('Concrete Plant (CP-3)'!$I$15>0,'Concrete Plant (CP-3)'!$I$15,AR25*R25),IF(C25=\"CP-4\",IF('Concrete Plant (CP-4)'!$I$15>0,'Concrete Plant (CP-4)'!$I$15,AR25*R25),IF(C25=\"CP-5\",IF('Concrete Plant (CP-5)'!$I$15>0,'Concrete Plant (CP-5)'!$I$15,AR25*R25),IF(C25=\"CP-6\",IF('Concrete Plant (CP-6)'!$I$15>0,'Concrete Plant (CP-6)'!$I$15,AR25*R25),IF(C25=\"CP-7\",IF('Concrete Plant (CP-7)'!$I$15>0,'Concrete Plant (CP-7)'!$I$15,AR25*R25),IF(C25=\"CP-8\",IF('Concrete Plant (CP-8)'!$I$15>0,'Concrete Plant (CP-8)'!$I$15,AR25*R25),IF(C25=\"CP-9\",IF('Concrete Plant (CP-9)'!$I$15>0,'Concrete Plant (CP-9)'!$I$15,AR25*R25),IF(C25=\"CP-10\",IF('Concrete Plant (CP-10)'!$I$15>0,'Concrete Plant (CP-10)'!$I$15,AR25*R25))))))))))))","v":""},"","",{"$f":"IF(F25=\"\",\"\",IF(B25=\"no\",'Emission Factors'!$P$33,'Emission Factors'!$P$34))","v":""},"","","",{"$f":"IF(F25=\"\",\"\",IF(B25=\"no\",'Emission Factors'!$R$33,'Emission Factors'!$R$34))","v":""},"","",""]
[null,{"$f":"IF(F26=\"Diesel Generator> 600 bhp\",\"yes\",\"no\")","v":"no"},null,null,null,null,null,null,null,null,0.5,null,null,null,null,null,null,{"$f":"IF(Q26=\"\",\"\",Q26*0.14)","v":""},null,{"$f":"IF(S26=\"\",\"\",S26*0.14)","v":""},null,0,"",{"$f":"IF(F26=\"\",\"\",IF(B26=\"no\",'Emission Factors'!$D$33,'Emission Factors'!$D$34))","v":""},"","","",{"$f":"IF(F26=\"\",\"\",IF(B26=\"no\",'Emission Factors'!$F$33,'Emission Factors'!$F$34))","v":""},"","","",{"$f":"IF(F26=\"\",\"\",IF(B26=\"no\",'Emission Factors'!$H$33,'Emission Factors'!$H$34))","v":""},{"$f":"IF(F26=\"\",\"\",IF(C26=\"CP-1\",IF('Concrete Plant (CP-1)'!$I$12>0,'Concrete Plant (CP-1)'!$I$12,AF26*R26*K26),IF(C26=\"CP-2\",IF('Concrete Plant (CP-2)'!$I$12>0,'Concrete Plant (CP-2)'!$I$12,AF26*R26*K26),IF(C26=\"CP-3\",IF('Concrete Plant (CP-3)'!$I$12>0,'Concrete Plant (CP-3)'!$I$12,AF26*R26*K26),IF(C26=\"CP-4\",IF('Concrete Plant (CP-4)'!$I$12>0,'Concrete Plant (CP-4)'!$I$12,AF26*R26*K26),IF(C26=\"CP-5\",IF('Concrete Plant (CP-5)'!$I$12>0,'Concrete Plant (CP-5)'!$I$12,AF26*R26*K26),IF(C26=\"CP-6\",IF('Concrete Plant (CP-6)'!$I$12>0,'Concrete Plant (CP-6)'!$I$12,AF26*R26*K26),IF(C26=\"CP-7\",IF('Concrete Plant (CP-7)'!$I$12>0,'Concrete Plant (CP-7)'!$I$12,AF26*R26*K26),IF(C26=\"CP-8\",IF('Concrete Plant (CP-8)'!$I$12>0,'Concrete Plant (CP-8)'!$I$12,AF26*R26*K26),IF(C26=\"CP-9\",IF('Concrete Plant (CP-9)'!$I$12>0,'Concrete Plant (CP-9)'!$I$12,AF26*R26*K26),IF(C26=\"CP-10\",IF('Concrete Plant (CP-10)'!$I$12>0,'Concrete Plant (CP-10)'!$I$12,AF26*R26*K26))))))))))))","v":""},"","",{"$f":"IF(F26=\"\",\"\",IF(B26=\"no\",'Emission Factors'!$J$33,'Emission Factors'!$J$34))","v":""},{"$f":"IF(F26=\"\",\"\",IF(C26=\"CP-1\",IF('Concrete Plant (CP-1)'!$I$13>0,'Concrete Plant (CP-1)'!$I$13,AJ26*R26),IF(C26=\"CP-2\",IF('Concrete Plant (CP-2)'!$I$13>0,'Concrete Plant (CP-2)'!$I$13,AJ26*R26),IF(C26=\"CP-3\",IF('Concrete Plant (CP-3)'!$I$13>0,'Concrete Plant (CP-3)'!$I$13,AJ26*R26),IF(C26=\"CP-4\",IF('Concrete Plant (CP-4)'!$I$13>0,'Concrete Plant (CP-4)'!$I$13,AJ26*R26),IF(C26=\"CP-5\",IF('Concrete Plant (CP-5)'!$I$13>0,'Concrete Plant (CP-5)'!$I$13,AJ26*R26),IF(C26=\"CP-6\",IF('Concrete Plant (CP-6)'!$I$13>0,'Concrete Plant (CP-6)'!$I$13,AJ26*R26),IF(C26=\"CP-7\",IF('Concrete Plant (CP-7)'!$I$13>0,'Concrete Plant (CP-7)'!$I$13,AJ26*R26),IF(C26=\"CP-8\",IF('Concrete Plant (CP-8)'!$I$13>0,'Concrete Plant (CP-8)'!$I$13,AJ26*R26),IF(C26=\"CP-9\",IF('Concrete Plant (CP-9)'!$I$13>0,'Concrete Plant (CP-9)'!$I$13,AJ26*R26),IF(C26=\"CP-10\",IF('Concrete Plant (CP-10)'!$I$13>0,'Concrete Plant (CP-10)'!$I$13,AJ26*R26))))))))))))","v":""},"","",{"$f":"IF(F26=\"\",\"\",IF(B26=\"no\",'Emission Factors'!$L$33,'Emission Factors'!$L$34))","v":""},{"$f":"IF(F26=\"\",\"\",IF(C26=\"CP-1\",IF('Concrete Plant (CP-1)'!$I$14>0,'Concrete Plant (CP-1)'!$I$14,AN26*R26),IF(C26=\"CP-2\",IF('Concrete Plant (CP-2)'!$I$14>0,'Concrete Plant (CP-2)'!$I$14,AN26*R26),IF(C26=\"CP-3\",IF('Concrete Plant (CP-3)'!$I$14>0,'Concrete Plant (CP-3)'!$I$14,AN26*R26),IF(C26=\"CP-4\",IF('Concrete Plant (CP-4)'!$I$14>0,'Concrete Plant (CP-4)'!$I$14,AN26*R26),IF(C26=\"CP-5\",IF('Concrete Plant (CP-5)'!$I$14>0,'Concrete Plant (CP-5)'!$I$14,AN26*R26),IF(C26=\"CP-6\",IF('Concrete Plant (CP-6)'!$I$14>0,'Concrete Plant (CP-6)'!$I$14,AN26*R26),IF(C26=\"CP-7\",IF('Concrete Plant (CP-7)'!$I$14>0,'Concrete Plant (CP-7)'!$I$14,AN26*R26),IF(C26=\"CP-8\",IF('Concrete Plant (CP-8)'!$I$14>0,'Concrete Plant (CP-8)'!$I$14,AN26*R26),IF(C26=\"CP-9\",IF('Concrete Plant (CP-9)'!$I$14>0,'Concrete Plant (CP-9)'!$I$14,AN26*R26),IF(C26=\"CP-10\",IF('Concrete Plant (CP-10)'!$I$14>0,'Concrete Plant (CP-10)'!$I$14,AN26*R26))))))))))))","v":""},"","",{"$f":"IF(F26=\"\",\"\",IF(B26=\"no\",'Emission Factors'!$N$33,'Emission Factors'!$N$34))","v":""},{"$f":"IF(F26=\"\",\"\",IF(C26=\"CP-1\",IF('Concrete Plant (CP-1)'!$I$15>0,'Concrete Plant (CP-1)'!$I$15,AR26*R26),IF(C26=\"CP-2\",IF('Concrete Plant (CP-2)'!$I$15>0,'Concrete Plant (CP-2)'!$I$15,AR26*R26),IF(C26=\"CP-3\",IF('Concrete Plant (CP-3)'!$I$15>0,'Concrete Plant (CP-3)'!$I$15,AR26*R26),IF(C26=\"CP-4\",IF('Concrete Plant (CP-4)'!$I$15>0,'Concrete Plant (CP-4)'!$I$15,AR26*R26),IF(C26=\"CP-5\",IF('Concrete Plant (CP-5)'!$I$15>0,'Concrete Plant (CP-5)'!$I$15,AR26*R26),IF(C26=\"CP-6\",IF('Concrete Plant (CP-6)'!$I$15>0,'Concrete Plant (CP-6)'!$I$15,AR26*R26),IF(C26=\"CP-7\",IF('Concrete Plant (CP-7)'!$I$15>0,'Concrete Plant (CP-7)'!$I$15,AR26*R26),IF(C26=\"CP-8\",IF('Concrete Plant (CP-8)'!$I$15>0,'Concrete Plant (CP-8)'!$I$15,AR26*R26),IF(C26=\"CP-9\",IF('Concrete Plant (CP-9)'!$I$15>0,'Concrete Plant (CP-9)'!$I$15,AR26*R26),IF(C26=\"CP-10\",IF('Concrete Plant (CP-10)'!$I$15>0,'Concrete Plant (CP-10)'!$I$15,AR26*R26))))))))))))","v":""},"","",{"$f":"IF(F26=\"\",\"\",IF(B26=\"no\",'Emission Factors'!$P$33,'Emission Factors'!$P$34))","v":""},"","","",{"$f":"IF(F26=\"\",\"\",IF(B26=\"no\",'Emission Factors'!$R$33,'Emission Factors'!$R$34))","v":""},"","",""]
[null,{"$f":"IF(F27=\"Diesel Generator> 600 bhp\",\"yes\",\"no\")","v":"no"},null,null,null,null,null,null,null,null,0.5,null,null,null,null,null,null,{"$f":"IF(Q27=\"\",\"\",Q27*0.14)","v":""},null,{"$f":"IF(S27=\"\",\"\",S27*0.14)","v":""},null,0,"",{"$f":"IF(F27=\"\",\"\",IF(B27=\"no\",'Emission Factors'!$D$33,'Emission Factors'!$D$34))","v":""},"","","",{"$f":"IF(F27=\"\",\"\",IF(B27=\"no\",'Emission Factors'!$F$33,'Emission Factors'!$F$34))","v":""},"","","",{"$f":"IF(F27=\"\",\"\",IF(B27=\"no\",'Emission Factors'!$H$33,'Emission Factors'!$H$34))","v":""},{"$f":"IF(F27=\"\",\"\",IF(C27=\"CP-1\",IF('Concrete Plant (CP-1)'!$I$12>0,'Concrete Plant (CP-1)'!$I$12,AF27*R27*K27),IF(C27=\"CP-2\",IF('Concrete Plant (CP-2)'!$I$12>0,'Concrete Plant (CP-2)'!$I$12,AF27*R27*K27),IF(C27=\"CP-3\",IF('Concrete Plant (CP-3)'!$I$12>0,'Concrete Plant (CP-3)'!$I$12,AF27*R27*K27),IF(C27=\"CP-4\",IF('Concrete Plant (CP-4)'!$I$12>0,'Concrete Plant (CP-4)'!$I$12,AF27*R27*K27),IF(C27=\"CP-5\",IF('Concrete Plant (CP-5)'!$I$12>0,'Concrete Plant (CP-5)'!$I$12,AF27*R27*K27),IF(C27=\"CP-6\",IF('Concrete Plant (CP-6)'!$I$12>0,'Concrete Plant (CP-6)'!$I$12,AF27*R27*K27),IF(C27=\"CP-7\",IF('Concrete Plant (CP-7)'!$I$12>0,'Concrete Plant (CP-7)'!$I$12,AF27*R27*K27),IF(C27=\"CP-8\",IF('Concrete Plant (CP-8)'!$I$12>0,'Concrete Plant (CP-8)'!$I$12,AF27*R27*K27),IF(C27=\"CP-9\",IF('Concrete Plant (CP-9)'!$I$12>0,'Concrete Plant (CP-9)'!$I$12,AF27*R27*K27),IF(C27=\"CP-10\",IF('Concrete Plant (CP-10)'!$I$12>0,'Concrete Plant (CP-10)'!$I$12,AF27*R27*K27))))))))))))","v":""},"","",{"$f":"IF(F27=\"\",\"\",IF(B27=\"no\",'Emission Factors'!$J$33,'Emission Factors'!$J$34))","v":""},{"$f":"IF(F27=\"\",\"\",IF(C27=\"CP-1\",IF('Concrete Plant (CP-1)'!$I$13>0,'Concrete Plant (CP-1)'!$I$13,AJ27*R27),IF(C27=\"CP-2\",IF('Concrete Plant (CP-2)'!$I$13>0,'Concrete Plant (CP-2)'!$I$13,AJ27*R27),IF(C27=\"CP-3\",IF('Concrete Plant (CP-3)'!$I$13>0,'Concrete Plant (CP-3)'!$I$13,AJ27*R27),IF(C27=\"CP-4\",IF('Concrete Plant (CP-4)'!$I$13>0,'Concrete Plant (CP-4)'!$I$13,AJ27*R27),IF(C27=\"CP-5\",IF('Concrete Plant (CP-5)'!$I$13>0,'Concrete Plant (CP-5)'!$I$13,AJ27*R27),IF(C27=\"CP-6\",IF('Concrete Plant (CP-6)'!$I$13>0,'Concrete Plant (CP-6)'!$I$13,AJ27*R27),IF(C27=\"CP-7\",IF('Concrete Plant (CP-7)'!$I$13>0,'Concrete Plant (CP-7)'!$I$13,AJ27*R27),IF(C27=\"CP-8\",IF('Concrete Plant (CP-8)'!$I$13>0,'Concrete Plant (CP-8)'!$I$13,AJ27*R27),IF(C27=\"CP-9\",IF('Concrete Plant (CP-9)'!$I$13>0,'Concrete Plant (CP-9)'!$I$13,AJ27*R27),IF(C27=\"CP-10\",IF('Concrete Plant (CP-10)'!$I$13>0,'Concrete Plant (CP-10)'!$I$13,AJ27*R27))))))))))))","v":""},"","",{"$f":"IF(F27=\"\",\"\",IF(B27=\"no\",'Emission Factors'!$L$33,'Emission Factors'!$L$34))","v":""},{"$f":"IF(F27=\"\",\"\",IF(C27=\"CP-1\",IF('Concrete Plant (CP-1)'!$I$14>0,'Concrete Plant (CP-1)'!$I$14,AN27*R27),IF(C27=\"CP-2\",IF('Concrete Plant (CP-2)'!$I$14>0,'Concrete Plant (CP-2)'!$I$14,AN27*R27),IF(C27=\"CP-3\",IF('Concrete Plant (CP-3)'!$I$14>0,'Concrete Plant (CP-3)'!$I$14,AN27*R27),IF(C27=\"CP-4\",IF('Concrete Plant (CP-4)'!$I$14>0,'Concrete Plant (CP-4)'!$I$14,AN27*R27),IF(C27=\"CP-5\",IF('Concrete Plant (CP-5)'!$I$14>0,'Concrete Plant (CP-5)'!$I$14,AN27*R27),IF(C27=\"CP-6\",IF('Concrete Plant (CP-6)'!$I$14>0,'Concrete Plant (CP-6)'!$I$14,AN27*R27),IF(C27=\"CP-7\",IF('Concrete Plant (CP-7)'!$I$14>0,'Concrete Plant (CP-7)'!$I$14,AN27*R27),IF(C27=\"CP-8\",IF('Concrete Plant (CP-8)'!$I$14>0,'Concrete Plant (CP-8)'!$I$14,AN27*R27),IF(C27=\"CP-9\",IF('Concrete Plant (CP-9)'!$I$14>0,'Concrete Plant (CP-9)'!$I$14,AN27*R27),IF(C27=\"CP-10\",IF('Concrete Plant (CP-10)'!$I$14>0,'Concrete Plant (CP-10)'!$I$14,AN27*R27))))))))))))","v":""},"","",{"$f":"IF(F27=\"\",\"\",IF(B27=\"no\",'Emission Factors'!$N$33,'Emission Factors'!$N$34))","v":""},{"$f":"IF(F27=\"\",\"\",IF(C27=\"CP-1\",IF('Concrete Plant (CP-1)'!$I$15>0,'Concrete Plant (CP-1)'!$I$15,AR27*R27),IF(C27=\"CP-2\",IF('Concrete Plant (CP-2)'!$I$15>0,'Concrete Plant (CP-2)'!$I$15,AR27*R27),IF(C27=\"CP-3\",IF('Concrete Plant (CP-3)'!$I$15>0,'Concrete Plant (CP-3)'!$I$15,AR27*R27),IF(C27=\"CP-4\",IF('Concrete Plant (CP-4)'!$I$15>0,'Concrete Plant (CP-4)'!$I$15,AR27*R27),IF(C27=\"CP-5\",IF('Concrete Plant (CP-5)'!$I$15>0,'Concrete Plant (CP-5)'!$I$15,AR27*R27),IF(C27=\"CP-6\",IF('Concrete Plant (CP-6)'!$I$15>0,'Concrete Plant (CP-6)'!$I$15,AR27*R27),IF(C27=\"CP-7\",IF('Concrete Plant (CP-7)'!$I$15>0,'Concrete Plant (CP-7)'!$I$15,AR27*R27),IF(C27=\"CP-8\",IF('Concrete Plant (CP-8)'!$I$15>0,'Concrete Plant (CP-8)'!$I$15,AR27*R27),IF(C27=\"CP-9\",IF('Concrete Plant (CP-9)'!$I$15>0,'Concrete Plant (CP-9)'!$I$15,AR27*R27),IF(C27=\"CP-10\",IF('Concrete Plant (CP-10)'!$I$15>0,'Concrete Plant (CP-10)'!$I$15,AR27*R27))))))))))))","v":""},"","",{"$f":"IF(F27=\"\",\"\",IF(B27=\"no\",'Emission Factors'!$P$33,'Emission Factors'!$P$34))","v":""},"","","",{"$f":"IF(F27=\"\",\"\",IF(B27=\"no\",'Emission Factors'!$R$33,'Emission Factors'!$R$34))","v":""},"","",""]
[null,{"$f":"IF(F28=\"Diesel Generator> 600 bhp\",\"yes\",\"no\")","v":"no"},null,null,null,null,null,null,null,null,0.5,null,null,null,null,null,null,{"$f":"IF(Q28=\"\",\"\",Q28*0.14)","v":""},null,{"$f":"IF(S28=\"\",\"\",S28*0.14)","v":""},null,0,"",{"$f":"IF(F28=\"\",\"\",IF(B28=\"no\",'Emission Factors'!$D$33,'Emission Factors'!$D$34))","v":""},"","","",{"$f":"IF(F28=\"\",\"\",IF(B28=\"no\",'Emission Factors'!$F$33,'Emission Factors'!$F$34))","v":""},"","","",{"$f":"IF(F28=\"\",\"\",IF(B28=\"no\",'Emission Factors'!$H$33,'Emission Factors'!$H$34))","v":""},{"$f":"IF(F28=\"\",\"\",IF(C28=\"CP-1\",IF('Concrete Plant (CP-1)'!$I$12>0,'Concrete Plant (CP-1)'!$I$12,AF28*R28*K28),IF(C28=\"CP-2\",IF('Concrete Plant (CP-2)'!$I$12>0,'Concrete Plant (CP-2)'!$I$12,AF28*R28*K28),IF(C28=\"CP-3\",IF('Concrete Plant (CP-3)'!$I$12>0,'Concrete Plant (CP-3)'!$I$12,AF28*R28*K28),IF(C28=\"CP-4\",IF('Concrete Plant (CP-4)'!$I$12>0,'Concrete Plant (CP-4)'!$I$12,AF28*R28*K28),IF(C28=\"CP-5\",IF('Concrete Plant (CP-5)'!$I$12>0,'Concrete Plant (CP-5)'!$I$12,AF28*R28*K28),IF(C28=\"CP-6\",IF('Concrete Plant (CP-6)'!$I$12>0,'Concrete Plant (CP-6)'!$I$12,AF28*R28*K28),IF(C28=\"CP-7\",IF('Concrete Plant (CP-7)'!$I$12>0,'Concrete Plant (CP-7)'!$I$12,AF28*R28*K28),IF(C28=\"CP-8\",IF('Concrete Plant (CP-8)'!$I$12>0,'Concrete Plant (CP-8)'!$I$12,AF28*R28*K28),IF(C28=\"CP-9\",IF('Concrete Plant (CP-9)'!$I$12>0,'Concrete Plant (CP-9)'!$I$12,AF28*R28*K28),IF(C28=\"CP-10\",IF('Concrete Plant (CP-10)'!$I$12>0,'Concrete Plant (CP-10)'!$I$12,AF28*R28*K28))))))))))))","v":""},"","",{"$f":"IF(F28=\"\",\"\",IF(B28=\"no\",'Emission Factors'!$J$33,'Emission Factors'!$J$34))","v":""},{"$f":"IF(F28=\"\",\"\",IF(C28=\"CP-1\",IF('Concrete Plant (CP-1)'!$I$13>0,'Concrete Plant (CP-1)'!$I$13,AJ28*R28),IF(C28=\"CP-2\",IF('Concrete Plant (CP-2)'!$I$13>0,'Concrete Plant (CP-2)'!$I$13,AJ28*R28),IF(C28=\"CP-3\",IF('Concrete Plant (CP-3)'!$I$13>0,'Concrete Plant (CP-3)'!$I$13,AJ28*R28),IF(C28=\"CP-4\",IF('Concrete Plant (CP-4)'!$I$13>0,'Concrete Plant (CP-4)'!$I$13,AJ28*R28),IF(C28=\"CP-5\",IF('Concrete Plant (CP-5)'!$I$13>0,'Concrete Plant (CP-5)'!$I$13,AJ28*R28),IF(C28=\"CP-6\",IF('Concrete Plant (CP-6)'!$I$13>0,'Concrete Plant (CP-6)'!$I$13,AJ28*R28),IF(C28=\"CP-7\",IF('Concrete Plant (CP-7)'!$I$13>0,'Concrete Plant (CP-7)'!$I$13,AJ28*R28),IF(C28=\"CP-8\",IF('Concrete Plant (CP-8)'!$I$13>0,'Concrete Plant (CP-8)'!$I$13,AJ28*R28),IF(C28=\"CP-9\",IF('Concrete Plant (CP-9)'!$I$13>0,'Concrete Plant (CP-9)'!$I$13,AJ28*R28),IF(C28=\"CP-10\",IF('Concrete Plant (CP-10)'!$I$13>0,'Concrete Plant (CP-10)'!$I$13,AJ28*R28))))))))))))","v":""},"","",{"$f":"IF(F28=\"\",\"\",IF(B28=\"no\",'Emission Factors'!$L$33,'Emission Factors'!$L$34))","v":""},{"$f":"IF(F28=\"\",\"\",IF(C28=\"CP-1\",IF('Concrete Plant (CP-1)'!$I$14>0,'Concrete Plant (CP-1)'!$I$14,AN28*R28),IF(C28=\"CP-2\",IF('Concrete Plant (CP-2)'!$I$14>0,'Concrete Plant (CP-2)'!$I$14,AN28*R28),IF(C28=\"CP-3\",IF('Concrete Plant (CP-3)'!$I$14>0,'Concrete Plant (CP-3)'!$I$14,AN28*R28),IF(C28=\"CP-4\",IF('Concrete Plant (CP-4)'!$I$14>0,'Concrete Plant (CP-4)'!$I$14,AN28*R28),IF(C28=\"CP-5\",IF('Concrete Plant (CP-5)'!$I$14>0,'Concrete Plant (CP-5)'!$I$14,AN28*R28),IF(C28=\"CP-6\",IF('Concrete Plant (CP-6)'!$I$14>0,'Concrete Plant (CP-6)'!$I$14,AN28*R28),IF(C28=\"CP-7\",IF('Concrete Plant (CP-7)'!$I$14>0,'Concrete Plant (CP-7)'!$I$14,AN28*R28),IF(C28=\"CP-8\",IF('Concrete Plant (CP-8)'!$I$14>0,'Concrete Plant (CP-8)'!$I$14,AN28*R28),IF(C28=\"CP-9\",IF('Concrete Plant (CP-9)'!$I$14>0,'Concrete Plant (CP-9)'!$I$14,AN28*R28),IF(C28=\"CP-10\",IF('Concrete Plant (CP-10)'!$I$14>0,'Concrete Plant (CP-10)'!$I$14,AN28*R28))))))))))))","v":""},"","",{"$f":"IF(F28=\"\",\"\",IF(B28=\"no\",'Emission Factors'!$N$33,'Emission Factors'!$N$34))","v":""},{"$f":"IF(F28=\"\",\"\",IF(C28=\"CP-1\",IF('Concrete Plant (CP-1)'!$I$15>0,'Concrete Plant (CP-1)'!$I$15,AR28*R28),IF(C28=\"CP-2\",IF('Concrete Plant (CP-2)'!$I$15>0,'Concrete Plant (CP-2)'!$I$15,AR28*R28),IF(C28=\"CP-3\",IF('Concrete Plant (CP-3)'!$I$15>0,'Concrete Plant (CP-3)'!$I$15,AR28*R28),IF(C28=\"CP-4\",IF('Concrete Plant (CP-4)'!$I$15>0,'Concrete Plant (CP-4)'!$I$15,AR28*R28),IF(C28=\"CP-5\",IF('Concrete Plant (CP-5)'!$I$15>0,'Concrete Plant (CP-5)'!$I$15,AR28*R28),IF(C28=\"CP-6\",IF('Concrete Plant (CP-6)'!$I$15>0,'Concrete Plant (CP-6)'!$I$15,AR28*R28),IF(C28=\"CP-7\",IF('Concrete Plant (CP-7)'!$I$15>0,'Concrete Plant (CP-7)'!$I$15,AR28*R28),IF(C28=\"CP-8\",IF('Concrete Plant (CP-8)'!$I$15>0,'Concrete Plant (CP-8)'!$I$15,AR28*R28),IF(C28=\"CP-9\",IF('Concrete Plant (CP-9)'!$I$15>0,'Concrete Plant (CP-9)'!$I$15,AR28*R28),IF(C28=\"CP-10\",IF('Concrete Plant (CP-10)'!$I$15>0,'Concrete Plant (CP-10)'!$I$15,AR28*R28))))))))))))","v":""},"",null,{"$f":"IF(F28=\"\",\"\",IF(B28=\"no\",'Emission Factors'!$P$33,'Emission Factors'!$P$34))","v":""},"","","",{"$f":"IF(F28=\"\",\"\",IF(B28=\"no\",'Emission Factors'!$R$33,'Emission Factors'!$R$34))","v":""},"","",""]
[null,{"$f":"IF(F29=\"Diesel Generator> 600 bhp\",\"yes\",\"no\")","v":"no"},null,null,null,null,null,null,null,null,0.5,null,null,null,null,null,null,{"$f":"IF(Q29=\"\",\"\",Q29*0.14)","v":""},null,{"$f":"IF(S29=\"\",\"\",S29*0.14)","v":""},null,{"$f":"IF(B29=\"no\",H29*Q29*0.14,\"\")","v":0},{"$f":"IF(B29=\"yes\",H29*Q29*0.14,\"\")","v":""},{"$f":"IF(F29=\"\",\"\",IF(B29=\"no\",'Emission Factors'!$D$33,'Emission Factors'!$D$34))","v":""},{"$f":"IF(F29=\"\",\"\",X29*R29)","v":""},{"$f":"IF(F29=\"\",\"\",IF(I29>0,I29*0.14*X29/2000,IF(H29>0,X29*R29*H29/2000,Y29*8760/2000)))","v":""},{"$f":"IF(F29=\"\",\"\",T29*X29/2000)","v":""},{"$f":"IF(F29=\"\",\"\",IF(B29=\"no\",'Emission Factors'!$F$33,'Emission Factors'!$F$34))","v":""},{"$f":"IF(F29=\"\",\"\",AB29*R29)","v":""},{"$f":"IF(F29=\"\",\"\",IF(I29>0,I29*0.14*AB29/2000,IF(H29>0,AB29*R29*H29/2000,AC29*8760/2000)))","v":""},{"$f":"IF(F29=\"\",\"\",T29*AB29/2000)","v":""},{"$f":"IF(F29=\"\",\"\",IF(B29=\"no\",'Emission Factors'!$H$33,'Emission Factors'!$H$34))","v":""},{"$f":"IF(F29=\"\",\"\",IF(C29=\"CP-1\",IF('Concrete Plant (CP-1)'!$I$12>0,'Concrete Plant (CP-1)'!$I$12,AF29*R29*K29),IF(C29=\"CP-2\",IF('Concrete Plant (CP-2)'!$I$12>0,'Concrete Plant (CP-2)'!$I$12,AF29*R29*K29),IF(C29=\"CP-3\",IF('Concrete Plant (CP-3)'!$I$12>0,'Concrete Plant (CP-3)'!$I$12,AF29*R29*K29),IF(C29=\"CP-4\",IF('Concrete Plant (CP-4)'!$I$12>0,'Concrete Plant (CP-4)'!$I$12,AF29*R29*K29),IF(C29=\"CP-5\",IF('Concrete Plant (CP-5)'!$I$12>0,'Concrete Plant (CP-5)'!$I$12,AF29*R29*K29),IF(C29=\"CP-6\",IF('Concrete Plant (CP-6)'!$I$12>0,'Concrete Plant (CP-6)'!$I$12,AF29*R29*K29),IF(C29=\"CP-7\",IF('Concrete Plant (CP-7)'!$I$12>0,'Concrete Plant (CP-7)'!$I$12,AF29*R29*K29),IF(C29=\"CP-8\",IF('Concrete Plant (CP-8)'!$I$12>0,'Concrete Plant (CP-8)'!$I$12,AF29*R29*K29),IF(C29=\"CP-9\",IF('Concrete Plant (CP-9)'!$I$12>0,'Concrete Plant (CP-9)'!$I$12,AF29*R29*K29),IF(C29=\"CP-10\",IF('Concrete Plant (CP-10)'!$I$12>0,'Concrete Plant (CP-10)'!$I$12,AF29*R29*K29))))))))))))","v":""},"","",{"$f":"IF(F29=\"\",\"\",IF(B29=\"no\",'Emission Factors'!$J$33,'Emission Factors'!$J$34))","v":""},{"$f":"IF(F29=\"\",\"\",IF(C29=\"CP-1\",IF('Concrete Plant (CP-1)'!$I$13>0,'Concrete Plant (CP-1)'!$I$13,AJ29*R29),IF(C29=\"CP-2\",IF('Concrete Plant (CP-2)'!$I$13>0,'Concrete Plant (CP-2)'!$I$13,AJ29*R29),IF(C29=\"CP-3\",IF('Concrete Plant (CP-3)'!$I$13>0,'Concrete Plant (CP-3)'!$I$13,AJ29*R29),IF(C29=\"CP-4\",IF('Concrete Plant (CP-4)'!$I$13>0,'Concrete Plant (CP-4)'!$I$13,AJ29*R29),IF(C29=\"CP-5\",IF('Concrete Plant (CP-5)'!$I$13>0,'Concrete Plant (CP-5)'!$I$13,AJ29*R29),IF(C29=\"CP-6\",IF('Concrete Plant (CP-6)'!$I$13>0,'Concrete Plant (CP-6)'!$I$13,AJ29*R29),IF(C29=\"CP-7\",IF('Concrete Plant (CP-7)'!$I$13>0,'Concrete Plant (CP-7)'!$I$13,AJ29*R29),IF(C29=\"CP-8\",IF('Concrete Plant (CP-8)'!$I$13>0,'Concrete Plant (CP-8)'!$I$13,AJ29*R29),IF(C29=\"CP-9\",IF('Concrete Plant (CP-9)'!$I$13>0,'Concrete Plant (CP-9)'!$I$13,AJ29*R29),IF(C29=\"CP-10\",IF('Concrete Plant (CP-10)'!$I$13>0,'Concrete Plant (CP-10)'!$I$13,AJ29*R29))))))))))))","v":""},{"$f":"IF(F29=\"\",\"\",IF(I29>0,I29*0.14*AJ29/2000,IF(H29>0,AJ29*R29*H29/2000,AK29*8760/2000)))","v":""},{"$f":"IF(F29=\"\",\"\",T29*AJ29/2000)","v":""},{"$f":"IF(F29=\"\",\"\",IF(B29=\"no\",'Emission Factors'!$L$33,'Emission Factors'!$L$34))","v":""},{"$f":"IF(F29=\"\",\"\",IF(C29=\"CP-1\",IF('Concrete Plant (CP-1)'!$I$14>0,'Concrete Plant (CP-1)'!$I$14,AN29*R29),IF(C29=\"CP-2\",IF('Concrete Plant (CP-2)'!$I$14>0,'Concrete Plant (CP-2)'!$I$14,AN29*R29),IF(C29=\"CP-3\",IF('Concrete Plant (CP-3)'!$I$14>0,'Concrete Plant (CP-3)'!$I$14,AN29*R29),IF(C29=\"CP-4\",IF('Concrete Plant (CP-4)'!$I$14>0,'Concrete Plant (CP-4)'!$I$14,AN29*R29),IF(C29=\"CP-5\",IF('Concrete Plant (CP-5)'!$I$14>0,'Concrete Plant (CP-5)'!$I$14,AN29*R29),IF(C29=\"CP-6\",IF('Concrete Plant (CP-6)'!$I$14>0,'Concrete Plant (CP-6)'!$I$14,AN29*R29),IF(C29=\"CP-7\",IF('Concrete Plant (CP-7)'!$I$14>0,'Concrete Plant (CP-7)'!$I$14,AN29*R29),IF(C29=\"CP-8\",IF('Concrete Plant (CP-8)'!$I$14>0,'Concrete Plant (CP-8)'!$I$14,AN29*R29),IF(C29=\"CP-9\",IF('Concrete Plant (CP-9)'!$I$14>0,'Concrete Plant (CP-9)'!$I$14,AN29*R29),IF(C29=\"CP-10\",IF('Concrete Plant (CP-10)'!$I$14>0,'Concrete Plant (CP-10)'!$I$14,AN29*R29))))))))))))","v":""},{"$f":"IF(F29=\"\",\"\",IF(I29>0,I29*0.14*AN29/2000,IF(H29>0,AN29*R29*H29/2000,AO29*8760/2000)))","v":""},{"$f":"IF(F29=\"\",\"\",T29*AN29/2000)","v":""},{"$f":"IF(F29=\"\",\"\",IF(B29=\"no\",'Emission Factors'!$N$33,'Emission Factors'!$N$34))","v":""},{"$f":"IF(F29=\"\",\"\",IF(C29=\"CP-1\",IF('Concrete Plant (CP-1)'!$I$15>0,'Concrete Plant (CP-1)'!$I$15,AR29*R29),IF(C29=\"CP-2\",IF('Concrete Plant (CP-2)'!$I$15>0,'Concrete Plant (CP-2)'!$I$15,AR29*R29),IF(C29=\"CP-3\",IF('Concrete Plant (CP-3)'!$I$15>0,'Concrete Plant (CP-3)'!$I$15,AR29*R29),IF(C29=\"CP-4\",IF('Concrete Plant (CP-4)'!$I$15>0,'Concrete Plant (CP-4)'!$I$15,AR29*R29),IF(C29=\"CP-5\",IF('Concrete Plant (CP-5)'!$I$15>0,'Concrete Plant (CP-5)'!$I$15,AR29*R29),IF(C29=\"CP-6\",IF('Concrete Plant (CP-6)'!$I$15>0,'Concrete Plant (CP-6)'!$I$15,AR29*R29),IF(C29=\"CP-7\",IF('Concrete Plant (CP-7)'!$I$15>0,'Concrete Plant (CP-7)'!$I$15,AR29*R29),IF(C29=\"CP-8\",IF('Concrete Plant (CP-8)'!$I$15>0,'Concrete Plant (CP-8)'!$I$15,AR29*R29),IF(C29=\"CP-9\",IF('Concrete Plant (CP-9)'!$I$15>0,'Concrete Plant (CP-9)'!$I$15,AR29*R29),IF(C29=\"CP-10\",IF('Concrete Plant (CP-10)'!$I$15>0,'Concrete Plant (CP-10)'!$I$15,AR29*R29))))))))))))","v":""},{"$f":"IF(F29=\"\",\"\",IF(I29>0,I29*0.14*AR29/2000,IF(H29>0,AR29*R29*H29/2000,AS29*8760/2000)))","v":""},{"$f":"IF(F29=\"\",\"\",T29*AR29/2000)","v":""},{"$f":"IF(F29=\"\",\"\",IF(B29=\"no\",'Emission Factors'!$P$33,'Emission Factors'!$P$34))","v":""},{"$f":"IF(F29=\"\",\"\",AV29*R29)","v":""},{"$f":"IF(F29=\"\",\"\",IF(I29>0,I29*0.14*AV29/2000,IF(H29>0,AV29*R29*H29/2000,AW29*8760/2000)))","v":""},{"$f":"IF(F29=\"\",\"\",T29*AV29/2000)","v":""},{"$f":"IF(F29=\"\",\"\",IF(B29=\"no\",'Emission Factors'!$R$33,'Emission Factors'!$R$34))","v":""},{"$f":"IF(F29=\"\",\"\",AZ29*R29)","v":""},{"$f":"IF(F29=\"\",\"\",IF(I29>0,I29*0.14*AZ29/2000,IF(H29>0,AZ29*R29*H29/2000,BA29*8760/2000)))","v":""},{"$f":"IF(F29=\"\",\"\",T29*AZ29/2000)","v":""}]
[null,"no",null,null,null,null,null,null,null,null,0.5,null,null,null,null,null,null,"",null,"",null,0,"",{"$f":"IF(F30=\"\",\"\",IF(B30=\"no\",'Emission Factors'!$D$33,'Emission Factors'!$D$34))","v":""},{"$f":"IF(F30=\"\",\"\",X30*R30)","v":""},{"$f":"IF(F30=\"\",\"\",IF(I30>0,I30*0.14*X30/2000,IF(H30>0,X30*R30*H30/2000,Y30*8760/2000)))","v":""},{"$f":"IF(F30=\"\",\"\",T30*X30/2000)","v":""},{"$f":"IF(F30=\"\",\"\",IF(B30=\"no\",'Emission Factors'!$F$33,'Emission Factors'!$F$34))","v":""},{"$f":"IF(F30=\"\",\"\",AB30*R30)","v":""},{"$f":"IF(F30=\"\",\"\",IF(I30>0,I30*0.14*AB30/2000,IF(H30>0,AB30*R30*H30/2000,AC30*8760/2000)))","v":""},{"$f":"IF(F30=\"\",\"\",T30*AB30/2000)","v":""},{"$f":"IF(F30=\"\",\"\",IF(B30=\"no\",'Emission Factors'!$H$33,'Emission Factors'!$H$34))","v":""},{"$f":"IF(F30=\"\",\"\",IF(C30=\"CP-1\",IF('Concrete Plant (CP-1)'!$I$12>0,'Concrete Plant (CP-1)'!$I$12,AF30*R30*K30),IF(C30=\"CP-2\",IF('Concrete Plant (CP-2)'!$I$12>0,'Concrete Plant (CP-2)'!$I$12,AF30*R30*K30),IF(C30=\"CP-3\",IF('Concrete Plant (CP-3)'!$I$12>0,'Concrete Plant (CP-3)'!$I$12,AF30*R30*K30),IF(C30=\"CP-4\",IF('Concrete Plant (CP-4)'!$I$12>0,'Concrete Plant (CP-4)'!$I$12,AF30*R30*K30),IF(C30=\"CP-5\",IF('Concrete Plant (CP-5)'!$I$12>0,'Concrete Plant (CP-5)'!$I$12,AF30*R30*K30),IF(C30=\"CP-6\",IF('Concrete Plant (CP-6)'!$I$12>0,'Concrete Plant (CP-6)'!$I$12,AF30*R30*K30),IF(C30=\"CP-7\",IF('Concrete Plant (CP-7)'!$I$12>0,'Concrete Plant (CP-7)'!$I$12,AF30*R30*K30),IF(C30=\"CP-8\",IF('Concrete Plant (CP-8)'!$I$12>0,'Concrete Plant (CP-8)'!$I$12,AF30*R30*K30),IF(C30=\"CP-9\",IF('Concrete Plant (CP-9)'!$I$12>0,'Concrete Plant (CP-9)'!$I$12,AF30*R30*K30),IF(C30=\"CP-10\",IF('Concrete Plant (CP-10)'!$I$12>0,'Concrete Plant (CP-10)'!$I$12,AF30*R30*K30))))))))))))","v":""},"","",{"$f":"IF(F30=\"\",\"\",IF(B30=\"no\",'Emission Factors'!$J$33,'Emission Factors'!$J$34))","v":""},{"$f":"IF(F30=\"\",\"\",IF(C30=\"CP-1\",IF('Concrete Plant (CP-1)'!$I$13>0,'Concrete Plant (CP-1)'!$I$13,AJ30*R30),IF(C30=\"CP-2\",IF('Concrete Plant (CP-2)'!$I$13>0,'Concrete Plant (CP-2)'!$I$13,AJ30*R30),IF(C30=\"CP-3\",IF('Concrete Plant (CP-3)'!$I$13>0,'Concrete Plant (CP-3)'!$I$13,AJ30*R30),IF(C30=\"CP-4\",IF('Concrete Plant (CP-4)'!$I$13>0,'Concrete Plant (CP-4)'!$I$13,AJ30*R30),IF(C30=\"CP-5\",IF('Concrete Plant (CP-5)'!$I$13>0,'Concrete Plant (CP-5)'!$I$13,AJ30*R30),IF(C30=\"CP-6\",IF('Concrete Plant (CP-6)'!$I$13>0,'Concrete Plant (CP-6)'!$I$13,AJ30*R30),IF(C30=\"CP-7\",IF('Concrete Plant (CP-7)'!$I$13>0,'Concrete Plant (CP-7)'!$I$13,AJ30*R30),IF(C30=\"CP-8\",IF('Concrete Plant (CP-8)'!$I$13>0,'Concrete Plant (CP-8)'!$I$13,AJ30*R30),IF(C30=\"CP-9\",IF('Concrete Plant (CP-9)'!$I$13>0,'Concrete Plant (CP-9)'!$I$13,AJ30*R30),IF(C30=\"CP-10\",IF('Concrete Plant (CP-10)'!$I$13>0,'Concrete Plant (CP-10)'!$I$13,AJ30*R30))))))))))))","v":""},{"$f":"IF(F30=\"\",\"\",IF(I30>0,I30*0.14*AJ30/2000,IF(H30>0,AJ30*R30*H30/2000,AK30*8760/2000)))","v":""},{"$f":"IF(F30=\"\",\"\",T30*AJ30/2000)","v":""},{"$f":"IF(F30=\"\",\"\",IF(B30=\"no\",'Emission Factors'!$L$33,'Emission Factors'!$L$34))","v":""},{"$f":"IF(F30=\"\",\"\",IF(C30=\"CP-1\",IF('Concrete Plant (CP-1)'!$I$14>0,'Concrete Plant (CP-1)'!$I$14,AN30*R30),IF(C30=\"CP-2\",IF('Concrete Plant (CP-2)'!$I$14>0,'Concrete Plant (CP-2)'!$I$14,AN30*R30),IF(C30=\"CP-3\",IF('Concrete Plant (CP-3)'!$I$14>0,'Concrete Plant (CP-3)'!$I$14,AN30*R30),IF(C30=\"CP-4\",IF('Concrete Plant (CP-4)'!$I$14>0,'Concrete Plant (CP-4)'!$I$14,AN30*R30),IF(C30=\"CP-5\",IF('Concrete Plant (CP-5)'!$I$14>0,'Concrete Plant (CP-5)'!$I$14,AN30*R30),IF(C30=\"CP-6\",IF('Concrete Plant (CP-6)'!$I$14>0,'Concrete Plant (CP-6)'!$I$14,AN30*R30),IF(C30=\"CP-7\",IF('Concrete Plant (CP-7)'!$I$14>0,'Concrete Plant (CP-7)'!$I$14,AN30*R30),IF(C30=\"CP-8\",IF('Concrete Plant (CP-8)'!$I$14>0,'Concrete Plant (CP-8)'!$I$14,AN30*R30),IF(C30=\"CP-9\",IF('Concrete Plant (CP-9)'!$I$14>0,'Concrete Plant (CP-9)'!$I$14,AN30*R30),IF(C30=\"CP-10\",IF('Concrete Plant (CP-10)'!$I$14>0,'Concrete Plant (CP-10)'!$I$14,AN30*R30))))))))))))","v":""},{"$f":"IF(F30=\"\",\"\",IF(I30>0,I30*0.14*AN30/2000,IF(H30>0,AN30*R30*H30/2000,AO30*8760/2000)))","v":""},{"$f":"IF(F30=\"\",\"\",T30*AN30/2000)","v":""},{"$f":"IF(F30=\"\",\"\",IF(B30=\"no\",'Emission Factors'!$N$33,'Emission Factors'!$N$34))","v":""},{"$f":"IF(F30=\"\",\"\",IF(C30=\"CP-1\",IF('Concrete Plant (CP-1)'!$I$15>0,'Concrete Plant (CP-1)'!$I$15,AR30*R30),IF(C30=\"CP-2\",IF('Concrete Plant (CP-2)'!$I$15>0,'Concrete Plant (CP-2)'!$I$15,AR30*R30),IF(C30=\"CP-3\",IF('Concrete Plant (CP-3)'!$I$15>0,'Concrete Plant (CP-3)'!$I$15,AR30*R30),IF(C30=\"CP-4\",IF('Concrete Plant (CP-4)'!$I$15>0,'Concrete Plant (CP-4)'!$I$15,AR30*R30),IF(C30=\"CP-5\",IF('Concrete Plant (CP-5)'!$I$15>0,'Concrete Plant (CP-5)'!$I$15,AR30*R30),IF(C30=\"CP-6\",IF('Concrete Plant (CP-6)'!$I$15>0,'Concrete Plant (CP-6)'!$I$15,AR30*R30),IF(C30=\"CP-7\",IF('Concrete Plant (CP-7)'!$I$15>0,'Concrete Plant (CP-7)'!$I$15,AR30*R30),IF(C30=\"CP-8\",IF('Concrete Plant (CP-8)'!$I$15>0,'Concrete Plant (CP-8)'!$I$15,AR30*R30),IF(C30=\"CP-9\",IF('Concrete Plant (CP-9)'!$I$15>0,'Concrete Plant (CP-9)'!$I$15,AR30*R30),IF(C30=\"CP-10\",IF('Concrete Plant (CP-10)'!$I$15>0,'Concrete Plant (CP-10)'!$I$15,AR30*R30))))))))))))","v":""},{"$f":"IF(F30=\"\",\"\",IF(I30>0,I30*0.14*AR30/2000,IF(H30>0,AR30*R30*H30/2000,AS30*8760/2000)))","v":""},{"$f":"IF(F30=\"\",\"\",T30*AR30/2000)","v":""},{"$f":"IF(F30=\"\",\"\",IF(B30=\"no\",'Emission Factors'!$P$33,'Emission Factors'!$P$34))","v":""},{"$f":"IF(F30=\"\",\"\",AV30*R30)","v":""},{"$f":"IF(F30=\"\",\"\",IF(I30>0,I30*0.14*AV30/2000,IF(H30>0,AV30*R30*H30/2000,AW30*8760/2000)))","v":""},{"$f":"IF(F30=\"\",\"\",T30*AV30/2000)","v":""},{"$f":"IF(F30=\"\",\"\",IF(B30=\"no\",'Emission Factors'!$R$33,'Emission Factors'!$R$34))","v":""},{"$f":"IF(F30=\"\",\"\",AZ30*R30)","v":""},{"$f":"IF(F30=\"\",\"\",IF(I30>0,I30*0.14*AZ30/2000,IF(H30>0,AZ30*R30*H30/2000,BA30*8760/2000)))","v":""},{"$f":"IF(F30=\"\",\"\",T30*AZ30/2000)","v":""}]
[null,"no",null,null,null,null,null,null,null,null,0.5,null,null,null,null,null,null,"",null,"",null,0,"",{"$f":"IF(F31=\"\",\"\",IF(B31=\"no\",'Emission Factors'!$D$33,'Emission Factors'!$D$34))","v":""},"","","",{"$f":"IF(F31=\"\",\"\",IF(B31=\"no\",'Emission Factors'!$F$33,'Emission Factors'!$F$34))","v":""},"","","",{"$f":"IF(F31=\"\",\"\",IF(B31=\"no\",'Emission Factors'!$H$33,'Emission Factors'!$H$34))","v":""},{"$f":"IF(F31=\"\",\"\",IF(C31=\"CP-1\",IF('Concrete Plant (CP-1)'!$I$12>0,'Concrete Plant (CP-1)'!$I$12,AF31*R31*K31),IF(C31=\"CP-2\",IF('Concrete Plant (CP-2)'!$I$12>0,'Concrete Plant (CP-2)'!$I$12,AF31*R31*K31),IF(C31=\"CP-3\",IF('Concrete Plant (CP-3)'!$I$12>0,'Concrete Plant (CP-3)'!$I$12,AF31*R31*K31),IF(C31=\"CP-4\",IF('Concrete Plant (CP-4)'!$I$12>0,'Concrete Plant (CP-4)'!$I$12,AF31*R31*K31),IF(C31=\"CP-5\",IF('Concrete Plant (CP-5)'!$I$12>0,'Concrete Plant (CP-5)'!$I$12,AF31*R31*K31),IF(C31=\"CP-6\",IF('Concrete Plant (CP-6)'!$I$12>0,'Concrete Plant (CP-6)'!$I$12,AF31*R31*K31),IF(C31=\"CP-7\",IF('Concrete Plant (CP-7)'!$I$12>0,'Concrete Plant (CP-7)'!$I$12,AF31*R31*K31),IF(C31=\"CP-8\",IF('Concrete Plant (CP-8)'!$I$12>0,'Concrete Plant (CP-8)'!$I$12,AF31*R31*K31),IF(C31=\"CP-9\",IF('Concrete Plant (CP-9)'!$I$12>0,'Concrete Plant (CP-9)'!$I$12,AF31*R31*K31),IF(C31=\"CP-10\",IF('Concrete Plant (CP-10)'!$I$12>0,'Concrete Plant (CP-10)'!$I$12,AF31*R31*K31))))))))))))","v":""},"","",{"$f":"IF(F31=\"\",\"\",IF(B31=\"no\",'Emission Factors'!$J$33,'Emission Factors'!$J$34))","v":""},{"$f":"IF(F31=\"\",\"\",IF(C31=\"CP-1\",IF('Concrete Plant (CP-1)'!$I$13>0,'Concrete Plant (CP-1)'!$I$13,AJ31*R31),IF(C31=\"CP-2\",IF('Concrete Plant (CP-2)'!$I$13>0,'Concrete Plant (CP-2)'!$I$13,AJ31*R31),IF(C31=\"CP-3\",IF('Concrete Plant (CP-3)'!$I$13>0,'Concrete Plant (CP-3)'!$I$13,AJ31*R31),IF(C31=\"CP-4\",IF('Concrete Plant (CP-4)'!$I$13>0,'Concrete Plant (CP-4)'!$I$13,AJ31*R31),IF(C31=\"CP-5\",IF('Concrete Plant (CP-5)'!$I$13>0,'Concrete Plant (CP-5)'!$I$13,AJ31*R31),IF(C31=\"CP-6\",IF('Concrete Plant (CP-6)'!$I$13>0,'Concrete Plant (CP-6)'!$I$13,AJ31*R31),IF(C31=\"CP-7\",IF('Concrete Plant (CP-7)'!$I$13>0,'Concrete Plant (CP-7)'!$I$13,AJ31*R31),IF(C31=\"CP-8\",IF('Concrete Plant (CP-8)'!$I$13>0,'Concrete Plant (CP-8)'!$I$13,AJ31*R31),IF(C31=\"CP-9\",IF('Concrete Plant (CP-9)'!$I$13>0,'Concrete Plant (CP-9)'!$I$13,AJ31*R31),IF(C31=\"CP-10\",IF('Concrete Plant (CP-10)'!$I$13>0,'Concrete Plant (CP-10)'!$I$13,AJ31*R31))))))))))))","v":""},"","",{"$f":"IF(F31=\"\",\"\",IF(B31=\"no\",'Emission Factors'!$L$33,'Emission Factors'!$L$34))","v":""},{"$f":"IF(F31=\"\",\"\",IF(C31=\"CP-1\",IF('Concrete Plant (CP-1)'!$I$14>0,'Concrete Plant (CP-1)'!$I$14,AN31*R31),IF(C31=\"CP-2\",IF('Concrete Plant (CP-2)'!$I$14>0,'Concrete Plant (CP-2)'!$I$14,AN31*R31),IF(C31=\"CP-3\",IF('Concrete Plant (CP-3)'!$I$14>0,'Concrete Plant (CP-3)'!$I$14,AN31*R31),IF(C31=\"CP-4\",IF('Concrete Plant (CP-4)'!$I$14>0,'Concrete Plant (CP-4)'!$I$14,AN31*R31),IF(C31=\"CP-5\",IF('Concrete Plant (CP-5)'!$I$14>0,'Concrete Plant (CP-5)'!$I$14,AN31*R31),IF(C31=\"CP-6\",IF('Concrete Plant (CP-6)'!$I$14>0,'Concrete Plant (CP-6)'!$I$14,AN31*R31),IF(C31=\"CP-7\",IF('Concrete Plant (CP-7)'!$I$14>0,'Concrete Plant (CP-7)'!$I$14,AN31*R31),IF(C31=\"CP-8\",IF('Concrete Plant (CP-8)'!$I$14>0,'Concrete Plant (CP-8)'!$I$14,AN31*R31),IF(C31=\"CP-9\",IF('Concrete Plant (CP-9)'!$I$14>0,'Concrete Plant (CP-9)'!$I$14,AN31*R31),IF(C31=\"CP-10\",IF('Concrete Plant (CP-10)'!$I$14>0,'Concrete Plant (CP-10)'!$I$14,AN31*R31))))))))))))","v":""},"","",{"$f":"IF(F31=\"\",\"\",IF(B31=\"no\",'Emission Factors'!$N$33,'Emission Factors'!$N$34))","v":""},{"$f":"IF(F31=\"\",\"\",IF(C31=\"CP-1\",IF('Concrete Plant (CP-1)'!$I$15>0,'Concrete Plant (CP-1)'!$I$15,AR31*R31),IF(C31=\"CP-2\",IF('Concrete Plant (CP-2)'!$I$15>0,'Concrete Plant (CP-2)'!$I$15,AR31*R31),IF(C31=\"CP-3\",IF('Concrete Plant (CP-3)'!$I$15>0,'Concrete Plant (CP-3)'!$I$15,AR31*R31),IF(C31=\"CP-4\",IF('Concrete Plant (CP-4)'!$I$15>0,'Concrete Plant (CP-4)'!$I$15,AR31*R31),IF(C31=\"CP-5\",IF('Concrete Plant (CP-5)'!$I$15>0,'Concrete Plant (CP-5)'!$I$15,AR31*R31),IF(C31=\"CP-6\",IF('Concrete Plant (CP-6)'!$I$15>0,'Concrete Plant (CP-6)'!$I$15,AR31*R31),IF(C31=\"CP-7\",IF('Concrete Plant (CP-7)'!$I$15>0,'Concrete Plant (CP-7)'!$I$15,AR31*R31),IF(C31=\"CP-8\",IF('Concrete Plant (CP-8)'!$I$15>0,'Concrete Plant (CP-8)'!$I$15,AR31*R31),IF(C31=\"CP-9\",IF('Concrete Plant (CP-9)'!$I$15>0,'Concrete Plant (CP-9)'!$I$15,AR31*R31),IF(C31=\"CP-10\",IF('Concrete Plant (CP-10)'!$I$15>0,'Concrete Plant (CP-10)'!$I$15,AR31*R31))))))))))))","v":""},"","",{"$f":"IF(F31=\"\",\"\",IF(B31=\"no\",'Emission Factors'!$P$33,'Emission Factors'!$P$34))","v":""},"","","",{"$f":"IF(F31=\"\",\"\",IF(B31=\"no\",'Emission Factors'!$R$33,'Emission Factors'!$R$34))","v":""},"","",""]
[null,"no",null,null,null,null,null,null,null,null,0.5,null,null,null,null,null,null,"",null,"",null,0,"",{"$f":"IF(F32=\"\",\"\",IF(B32=\"no\",'Emission Factors'!$D$33,'Emission Factors'!$D$34))","v":""},"","","",{"$f":"IF(F32=\"\",\"\",IF(B32=\"no\",'Emission Factors'!$F$33,'Emission Factors'!$F$34))","v":""},"","","",{"$f":"IF(F32=\"\",\"\",IF(B32=\"no\",'Emission Factors'!$H$33,'Emission Factors'!$H$34))","v":""},{"$f":"IF(F32=\"\",\"\",IF(C32=\"CP-1\",IF('Concrete Plant (CP-1)'!$I$12>0,'Concrete Plant (CP-1)'!$I$12,AF32*R32*K32),IF(C32=\"CP-2\",IF('Concrete Plant (CP-2)'!$I$12>0,'Concrete Plant (CP-2)'!$I$12,AF32*R32*K32),IF(C32=\"CP-3\",IF('Concrete Plant (CP-3)'!$I$12>0,'Concrete Plant (CP-3)'!$I$12,AF32*R32*K32),IF(C32=\"CP-4\",IF('Concrete Plant (CP-4)'!$I$12>0,'Concrete Plant (CP-4)'!$I$12,AF32*R32*K32),IF(C32=\"CP-5\",IF('Concrete Plant (CP-5)'!$I$12>0,'Concrete Plant (CP-5)'!$I$12,AF32*R32*K32),IF(C32=\"CP-6\",IF('Concrete Plant (CP-6)'!$I$12>0,'Concrete Plant (CP-6)'!$I$12,AF32*R32*K32),IF(C32=\"CP-7\",IF('Concrete Plant (CP-7)'!$I$12>0,'Concrete Plant (CP-7)'!$I$12,AF32*R32*K32),IF(C32=\"CP-8\",IF('Concrete Plant (CP-8)'!$I$12>0,'Concrete Plant (CP-8)'!$I$12,AF32*R32*K32),IF(C32=\"CP-9\",IF('Concrete Plant (CP-9)'!$I$12>0,'Concrete Plant (CP-9)'!$I$12,AF32*R32*K32),IF(C32=\"CP-10\",IF('Concrete Plant (CP-10)'!$I$12>0,'Concrete Plant (CP-10)'!$I$12,AF32*R32*K32))))))))))))","v":""},"","",{"$f":"IF(F32=\"\",\"\",IF(B32=\"no\",'Emission Factors'!$J$33,'Emission Factors'!$J$34))","v":""},{"$f":"IF(F32=\"\",\"\",IF(C32=\"CP-1\",IF('Concrete Plant (CP-1)'!$I$13>0,'Concrete Plant (CP-1)'!$I$13,AJ32*R32),IF(C32=\"CP-2\",IF('Concrete Plant (CP-2)'!$I$13>0,'Concrete Plant (CP-2)'!$I$13,AJ32*R32),IF(C32=\"CP-3\",IF('Concrete Plant (CP-3)'!$I$13>0,'Concrete Plant (CP-3)'!$I$13,AJ32*R32),IF(C32=\"CP-4\",IF('Concrete Plant (CP-4)'!$I$13>0,'Concrete Plant (CP-4)'!$I$13,AJ32*R32),IF(C32=\"CP-5\",IF('Concrete Plant (CP-5)'!$I$13>0,'Concrete Plant (CP-5)'!$I$13,AJ32*R32),IF(C32=\"CP-6\",IF('Concrete Plant (CP-6)'!$I$13>0,'Concrete Plant (CP-6)'!$I$13,AJ32*R32),IF(C32=\"CP-7\",IF('Concrete Plant (CP-7)'!$I$13>0,'Concrete Plant (CP-7)'!$I$13,AJ32*R32),IF(C32=\"CP-8\",IF('Concrete Plant (CP-8)'!$I$13>0,'Concrete Plant (CP-8)'!$I$13,AJ32*R32),IF(C32=\"CP-9\",IF('Concrete Plant (CP-9)'!$I$13>0,'Concrete Plant (CP-9)'!$I$13,AJ32*R32),IF(C32=\"CP-10\",IF('Concrete Plant (CP-10)'!$I$13>0,'Concrete Plant (CP-10)'!$I$13,AJ32*R32))))))))))))","v":""},"","",{"$f":"IF(F32=\"\",\"\",IF(B32=\"no\",'Emission Factors'!$L$33,'Emission Factors'!$L$34))","v":""},{"$f":"IF(F32=\"\",\"\",IF(C32=\"CP-1\",IF('Concrete Plant (CP-1)'!$I$14>0,'Concrete Plant (CP-1)'!$I$14,AN32*R32),IF(C32=\"CP-2\",IF('Concrete Plant (CP-2)'!$I$14>0,'Concrete Plant (CP-2)'!$I$14,AN32*R32),IF(C32=\"CP-3\",IF('Concrete Plant (CP-3)'!$I$14>0,'Concrete Plant (CP-3)'!$I$14,AN32*R32),IF(C32=\"CP-4\",IF('Concrete Plant (CP-4)'!$I$14>0,'Concrete Plant (CP-4)'!$I$14,AN32*R32),IF(C32=\"CP-5\",IF('Concrete Plant (CP-5)'!$I$14>0,'Concrete Plant (CP-5)'!$I$14,AN32*R32),IF(C32=\"CP-6\",IF('Concrete Plant (CP-6)'!$I$14>0,'Concrete Plant (CP-6)'!$I$14,AN32*R32),IF(C32=\"CP-7\",IF('Concrete Plant (CP-7)'!$I$14>0,'Concrete Plant (CP-7)'!$I$14,AN32*R32),IF(C32=\"CP-8\",IF('Concrete Plant (CP-8)'!$I$14>0,'Concrete Plant (CP-8)'!$I$14,AN32*R32),IF(C32=\"CP-9\",IF('Concrete Plant (CP-9)'!$I$14>0,'Concrete Plant (CP-9)'!$I$14,AN32*R32),IF(C32=\"CP-10\",IF('Concrete Plant (CP-10)'!$I$14>0,'Concrete Plant (CP-10)'!$I$14,AN32*R32))))))))))))","v":""},"","",{"$f":"IF(F32=\"\",\"\",IF(B32=\"no\",'Emission Factors'!$N$33,'Emission Factors'!$N$34))","v":""},{"$f":"IF(F32=\"\",\"\",IF(C32=\"CP-1\",IF('Concrete Plant (CP-1)'!$I$15>0,'Concrete Plant (CP-1)'!$I$15,AR32*R32),IF(C32=\"CP-2\",IF('Concrete Plant (CP-2)'!$I$15>0,'Concrete Plant (CP-2)'!$I$15,AR32*R32),IF(C32=\"CP-3\",IF('Concrete Plant (CP-3)'!$I$15>0,'Concrete Plant (CP-3)'!$I$15,AR32*R32),IF(C32=\"CP-4\",IF('Concrete Plant (CP-4)'!$I$15>0,'Concrete Plant (CP-4)'!$I$15,AR32*R32),IF(C32=\"CP-5\",IF('Concrete Plant (CP-5)'!$I$15>0,'Concrete Plant (CP-5)'!$I$15,AR32*R32),IF(C32=\"CP-6\",IF('Concrete Plant (CP-6)'!$I$15>0,'Concrete Plant (CP-6)'!$I$15,AR32*R32),IF(C32=\"CP-7\",IF('Concrete Plant (CP-7)'!$I$15>0,'Concrete Plant (CP-7)'!$I$15,AR32*R32),IF(C32=\"CP-8\",IF('Concrete Plant (CP-8)'!$I$15>0,'Concrete Plant (CP-8)'!$I$15,AR32*R32),IF(C32=\"CP-9\",IF('Concrete Plant (CP-9)'!$I$15>0,'Concrete Plant (CP-9)'!$I$15,AR32*R32),IF(C32=\"CP-10\",IF('Concrete Plant (CP-10)'!$I$15>0,'Concrete Plant (CP-10)'!$I$15,AR32*R32))))))))))))","v":""},"","",{"$f":"IF(F32=\"\",\"\",IF(B32=\"no\",'Emission Factors'!$P$33,'Emission Factors'!$P$34))","v":""},"","","",{"$f":"IF(F32=\"\",\"\",IF(B32=\"no\",'Emission Factors'!$R$33,'Emission Factors'!$R$34))","v":""},"","",""]
[null,"no",null,null,null,null,null,null,null,null,0.5,null,null,null,null,null,null,"",null,"",null,0,"",{"$f":"IF(F33=\"\",\"\",IF(B33=\"no\",'Emission Factors'!$D$33,'Emission Factors'!$D$34))","v":""},"","","",{"$f":"IF(F33=\"\",\"\",IF(B33=\"no\",'Emission Factors'!$F$33,'Emission Factors'!$F$34))","v":""},"","","",{"$f":"IF(F33=\"\",\"\",IF(B33=\"no\",'Emission Factors'!$H$33,'Emission Factors'!$H$34))","v":""},{"$f":"IF(F33=\"\",\"\",IF(C33=\"CP-1\",IF('Concrete Plant (CP-1)'!$I$12>0,'Concrete Plant (CP-1)'!$I$12,AF33*R33*K33),IF(C33=\"CP-2\",IF('Concrete Plant (CP-2)'!$I$12>0,'Concrete Plant (CP-2)'!$I$12,AF33*R33*K33),IF(C33=\"CP-3\",IF('Concrete Plant (CP-3)'!$I$12>0,'Concrete Plant (CP-3)'!$I$12,AF33*R33*K33),IF(C33=\"CP-4\",IF('Concrete Plant (CP-4)'!$I$12>0,'Concrete Plant (CP-4)'!$I$12,AF33*R33*K33),IF(C33=\"CP-5\",IF('Concrete Plant (CP-5)'!$I$12>0,'Concrete Plant (CP-5)'!$I$12,AF33*R33*K33),IF(C33=\"CP-6\",IF('Concrete Plant (CP-6)'!$I$12>0,'Concrete Plant (CP-6)'!$I$12,AF33*R33*K33),IF(C33=\"CP-7\",IF('Concrete Plant (CP-7)'!$I$12>0,'Concrete Plant (CP-7)'!$I$12,AF33*R33*K33),IF(C33=\"CP-8\",IF('Concrete Plant (CP-8)'!$I$12>0,'Concrete Plant (CP-8)'!$I$12,AF33*R33*K33),IF(C33=\"CP-9\",IF('Concrete Plant (CP-9)'!$I$12>0,'Concrete Plant (CP-9)'!$I$12,AF33*R33*K33),IF(C33=\"CP-10\",IF('Concrete Plant (CP-10)'!$I$12>0,'Concrete Plant (CP-10)'!$I$12,AF33*R33*K33))))))))))))","v":""},"","",{"$f":"IF(F33=\"\",\"\",IF(B33=\"no\",'Emission Factors'!$J$33,'Emission Factors'!$J$34))","v":""},{"$f":"IF(F33=\"\",\"\",IF(C33=\"CP-1\",IF('Concrete Plant (CP-1)'!$I$13>0,'Concrete Plant (CP-1)'!$I$13,AJ33*R33),IF(C33=\"CP-2\",IF('Concrete Plant (CP-2)'!$I$13>0,'Concrete Plant (CP-2)'!$I$13,AJ33*R33),IF(C33=\"CP-3\",IF('Concrete Plant (CP-3)'!$I$13>0,'Concrete Plant (CP-3)'!$I$13,AJ33*R33),IF(C33=\"CP-4\",IF('Concrete Plant (CP-4)'!$I$13>0,'Concrete Plant (CP-4)'!$I$13,AJ33*R33),IF(C33=\"CP-5\",IF('Concrete Plant (CP-5)'!$I$13>0,'Concrete Plant (CP-5)'!$I$13,AJ33*R33),IF(C33=\"CP-6\",IF('Concrete Plant (CP-6)'!$I$13>0,'Concrete Plant (CP-6)'!$I$13,AJ33*R33),IF(C33=\"CP-7\",IF('Concrete Plant (CP-7)'!$I$13>0,'Concrete Plant (CP-7)'!$I$13,AJ33*R33),IF(C33=\"CP-8\",IF('Concrete Plant (CP-8)'!$I$13>0,'Concrete Plant (CP-8)'!$I$13,AJ33*R33),IF(C33=\"CP-9\",IF('Concrete Plant (CP-9)'!$I$13>0,'Concrete Plant (CP-9)'!$I$13,AJ33*R33),IF(C33=\"CP-10\",IF('Concrete Plant (CP-10)'!$I$13>0,'Concrete Plant (CP-10)'!$I$13,AJ33*R33))))))))))))","v":""},"","",{"$f":"IF(F33=\"\",\"\",IF(B33=\"no\",'Emission Factors'!$L$33,'Emission Factors'!$L$34))","v":""},{"$f":"IF(F33=\"\",\"\",IF(C33=\"CP-1\",IF('Concrete Plant (CP-1)'!$I$14>0,'Concrete Plant (CP-1)'!$I$14,AN33*R33),IF(C33=\"CP-2\",IF('Concrete Plant (CP-2)'!$I$14>0,'Concrete Plant (CP-2)'!$I$14,AN33*R33),IF(C33=\"CP-3\",IF('Concrete Plant (CP-3)'!$I$14>0,'Concrete Plant (CP-3)'!$I$14,AN33*R33),IF(C33=\"CP-4\",IF('Concrete Plant (CP-4)'!$I$14>0,'Concrete Plant (CP-4)'!$I$14,AN33*R33),IF(C33=\"CP-5\",IF('Concrete Plant (CP-5)'!$I$14>0,'Concrete Plant (CP-5)'!$I$14,AN33*R33),IF(C33=\"CP-6\",IF('Concrete Plant (CP-6)'!$I$14>0,'Concrete Plant (CP-6)'!$I$14,AN33*R33),IF(C33=\"CP-7\",IF('Concrete Plant (CP-7)'!$I$14>0,'Concrete Plant (CP-7)'!$I$14,AN33*R33),IF(C33=\"CP-8\",IF('Concrete Plant (CP-8)'!$I$14>0,'Concrete Plant (CP-8)'!$I$14,AN33*R33),IF(C33=\"CP-9\",IF('Concrete Plant (CP-9)'!$I$14>0,'Concrete Plant (CP-9)'!$I$14,AN33*R33),IF(C33=\"CP-10\",IF('Concrete Plant (CP-10)'!$I$14>0,'Concrete Plant (CP-10)'!$I$14,AN33*R33))))))))))))","v":""},"","",{"$f":"IF(F33=\"\",\"\",IF(B33=\"no\",'Emission Factors'!$N$33,'Emission Factors'!$N$34))","v":""},{"$f":"IF(F33=\"\",\"\",IF(C33=\"CP-1\",IF('Concrete Plant (CP-1)'!$I$15>0,'Concrete Plant (CP-1)'!$I$15,AR33*R33),IF(C33=\"CP-2\",IF('Concrete Plant (CP-2)'!$I$15>0,'Concrete Plant (CP-2)'!$I$15,AR33*R33),IF(C33=\"CP-3\",IF('Concrete Plant (CP-3)'!$I$15>0,'Concrete Plant (CP-3)'!$I$15,AR33*R33),IF(C33=\"CP-4\",IF('Concrete Plant (CP-4)'!$I$15>0,'Concrete Plant (CP-4)'!$I$15,AR33*R33),IF(C33=\"CP-5\",IF('Concrete Plant (CP-5)'!$I$15>0,'Concrete Plant (CP-5)'!$I$15,AR33*R33),IF(C33=\"CP-6\",IF('Concrete Plant (CP-6)'!$I$15>0,'Concrete Plant (CP-6)'!$I$15,AR33*R33),IF(C33=\"CP-7\",IF('Concrete Plant (CP-7)'!$I$15>0,'Concrete Plant (CP-7)'!$I$15,AR33*R33),IF(C33=\"CP-8\",IF('Concrete Plant (CP-8)'!$I$15>0,'Concrete Plant (CP-8)'!$I$15,AR33*R33),IF(C33=\"CP-9\",IF('Concrete Plant (CP-9)'!$I$15>0,'Concrete Plant (CP-9)'!$I$15,AR33*R33),IF(C33=\"CP-10\",IF('Concrete Plant (CP-10)'!$I$15>0,'Concrete Plant (CP-10)'!$I$15,AR33*R33))))))))))))","v":""},"","",{"$f":"IF(F33=\"\",\"\",IF(B33=\"no\",'Emission Factors'!$P$33,'Emission Factors'!$P$34))","v":""},"","","",{"$f":"IF(F33=\"\",\"\",IF(B33=\"no\",'Emission Factors'!$R$33,'Emission Factors'!$R$34))","v":""},"","",""]
[null,"no",null,null,null,null,null,null,null,null,0.5,null,null,null,null,null,null,"",null,"",null,0,"",{"$f":"IF(F34=\"\",\"\",IF(B34=\"no\",'Emission Factors'!$D$33,'Emission Factors'!$D$34))","v":""},"","","",{"$f":"IF(F34=\"\",\"\",IF(B34=\"no\",'Emission Factors'!$F$33,'Emission Factors'!$F$34))","v":""},"","","",{"$f":"IF(F34=\"\",\"\",IF(B34=\"no\",'Emission Factors'!$H$33,'Emission Factors'!$H$34))","v":""},{"$f":"IF(F34=\"\",\"\",IF(C34=\"CP-1\",IF('Concrete Plant (CP-1)'!$I$12>0,'Concrete Plant (CP-1)'!$I$12,AF34*R34*K34),IF(C34=\"CP-2\",IF('Concrete Plant (CP-2)'!$I$12>0,'Concrete Plant (CP-2)'!$I$12,AF34*R34*K34),IF(C34=\"CP-3\",IF('Concrete Plant (CP-3)'!$I$12>0,'Concrete Plant (CP-3)'!$I$12,AF34*R34*K34),IF(C34=\"CP-4\",IF('Concrete Plant (CP-4)'!$I$12>0,'Concrete Plant (CP-4)'!$I$12,AF34*R34*K34),IF(C34=\"CP-5\",IF('Concrete Plant (CP-5)'!$I$12>0,'Concrete Plant (CP-5)'!$I$12,AF34*R34*K34),IF(C34=\"CP-6\",IF('Concrete Plant (CP-6)'!$I$12>0,'Concrete Plant (CP-6)'!$I$12,AF34*R34*K34),IF(C34=\"CP-7\",IF('Concrete Plant (CP-7)'!$I$12>0,'Concrete Plant (CP-7)'!$I$12,AF34*R34*K34),IF(C34=\"CP-8\",IF('Concrete Plant (CP-8)'!$I$12>0,'Concrete Plant (CP-8)'!$I$12,AF34*R34*K34),IF(C34=\"CP-9\",IF('Concrete Plant (CP-9)'!$I$12>0,'Concrete Plant (CP-9)'!$I$12,AF34*R34*K34),IF(C34=\"CP-10\",IF('Concrete Plant (CP-10)'!$I$12>0,'Concrete Plant (CP-10)'!$I$12,AF34*R34*K34))))))))))))","v":""},"","",{"$f":"IF(F34=\"\",\"\",IF(B34=\"no\",'Emission Factors'!$J$33,'Emission Factors'!$J$34))","v":""},{"$f":"IF(F34=\"\",\"\",IF(C34=\"CP-1\",IF('Concrete Plant (CP-1)'!$I$13>0,'Concrete Plant (CP-1)'!$I$13,AJ34*R34),IF(C34=\"CP-2\",IF('Concrete Plant (CP-2)'!$I$13>0,'Concrete Plant (CP-2)'!$I$13,AJ34*R34),IF(C34=\"CP-3\",IF('Concrete Plant (CP-3)'!$I$13>0,'Concrete Plant (CP-3)'!$I$13,AJ34*R34),IF(C34=\"CP-4\",IF('Concrete Plant (CP-4)'!$I$13>0,'Concrete Plant (CP-4)'!$I$13,AJ34*R34),IF(C34=\"CP-5\",IF('Concrete Plant (CP-5)'!$I$13>0,'Concrete Plant (CP-5)'!$I$13,AJ34*R34),IF(C34=\"CP-6\",IF('Concrete Plant (CP-6)'!$I$13>0,'Concrete Plant (CP-6)'!$I$13,AJ34*R34),IF(C34=\"CP-7\",IF('Concrete Plant (CP-7)'!$I$13>0,'Concrete Plant (CP-7)'!$I$13,AJ34*R34),IF(C34=\"CP-8\",IF('Concrete Plant (CP-8)'!$I$13>0,'Concrete Plant (CP-8)'!$I$13,AJ34*R34),IF(C34=\"CP-9\",IF('Concrete Plant (CP-9)'!$I$13>0,'Concrete Plant (CP-9)'!$I$13,AJ34*R34),IF(C34=\"CP-10\",IF('Concrete Plant (CP-10)'!$I$13>0,'Concrete Plant (CP-10)'!$I$13,AJ34*R34))))))))))))","v":""},"","",{"$f":"IF(F34=\"\",\"\",IF(B34=\"no\",'Emission Factors'!$L$33,'Emission Factors'!$L$34))","v":""},{"$f":"IF(F34=\"\",\"\",IF(C34=\"CP-1\",IF('Concrete Plant (CP-1)'!$I$14>0,'Concrete Plant (CP-1)'!$I$14,AN34*R34),IF(C34=\"CP-2\",IF('Concrete Plant (CP-2)'!$I$14>0,'Concrete Plant (CP-2)'!$I$14,AN34*R34),IF(C34=\"CP-3\",IF('Concrete Plant (CP-3)'!$I$14>0,'Concrete Plant (CP-3)'!$I$14,AN34*R34),IF(C34=\"CP-4\",IF('Concrete Plant (CP-4)'!$I$14>0,'Concrete Plant (CP-4)'!$I$14,AN34*R34),IF(C34=\"CP-5\",IF('Concrete Plant (CP-5)'!$I$14>0,'Concrete Plant (CP-5)'!$I$14,AN34*R34),IF(C34=\"CP-6\",IF('Concrete Plant (CP-6)'!$I$14>0,'Concrete Plant (CP-6)'!$I$14,AN34*R34),IF(C34=\"CP-7\",IF('Concrete Plant (CP-7)'!$I$14>0,'Concrete Plant (CP-7)'!$I$14,AN34*R34),IF(C34=\"CP-8\",IF('Concrete Plant (CP-8)'!$I$14>0,'Concrete Plant (CP-8)'!$I$14,AN34*R34),IF(C34=\"CP-9\",IF('Concrete Plant (CP-9)'!$I$14>0,'Concrete Plant (CP-9)'!$I$14,AN34*R34),IF(C34=\"CP-10\",IF('Concrete Plant (CP-10)'!$I$14>0,'Concrete Plant (CP-10)'!$I$14,AN34*R34))))))))))))","v":""},"","",{"$f":"IF(F34=\"\",\"\",IF(B34=\"no\",'Emission Factors'!$N$33,'Emission Factors'!$N$34))","v":""},{"$f":"IF(F34=\"\",\"\",IF(C34=\"CP-1\",IF('Concrete Plant (CP-1)'!$I$15>0,'Concrete Plant (CP-1)'!$I$15,AR34*R34),IF(C34=\"CP-2\",IF('Concrete Plant (CP-2)'!$I$15>0,'Concrete Plant (CP-2)'!$I$15,AR34*R34),IF(C34=\"CP-3\",IF('Concrete Plant (CP-3)'!$I$15>0,'Concrete Plant (CP-3)'!$I$15,AR34*R34),IF(C34=\"CP-4\",IF('Concrete Plant (CP-4)'!$I$15>0,'Concrete Plant (CP-4)'!$I$15,AR34*R34),IF(C34=\"CP-5\",IF('Concrete Plant (CP-5)'!$I$15>0,'Concrete Plant (CP-5)'!$I$15,AR34*R34),IF(C34=\"CP-6\",IF('Concrete Plant (CP-6)'!$I$15>0,'Concrete Plant (CP-6)'!$I$15,AR34*R34),IF(C34=\"CP-7\",IF('Concrete Plant (CP-7)'!$I$15>0,'Concrete Plant (CP-7)'!$I$15,AR34*R34),IF(C34=\"CP-8\",IF('Concrete Plant (CP-8)'!$I$15>0,'Concrete Plant (CP-8)'!$I$15,AR34*R34),IF(C34=\"CP-9\",IF('Concrete Plant (CP-9)'!$I$15>0,'Concrete Plant (CP-9)'!$I$15,AR34*R34),IF(C34=\"CP-10\",IF('Concrete Plant (CP-10)'!$I$15>0,'Concrete Plant (CP-10)'!$I$15,AR34*R34))))))))))))","v":""},"","",{"$f":"IF(F34=\"\",\"\",IF(B34=\"no\",'Emission Factors'!$P$33,'Emission Factors'!$P$34))","v":""},"","","",{"$f":"IF(F34=\"\",\"\",IF(B34=\"no\",'Emission Factors'!$R$33,'Emission Factors'!$R$34))","v":""},"","",""]
[null,"no",null,null,null,null,null,null,null,null,0.5,null,null,null,null,null,null,"",null,"",null,0,"",{"$f":"IF(F35=\"\",\"\",IF(B35=\"no\",'Emission Factors'!$D$33,'Emission Factors'!$D$34))","v":""},"","","",{"$f":"IF(F35=\"\",\"\",IF(B35=\"no\",'Emission Factors'!$F$33,'Emission Factors'!$F$34))","v":""},"","","",{"$f":"IF(F35=\"\",\"\",IF(B35=\"no\",'Emission Factors'!$H$33,'Emission Factors'!$H$34))","v":""},{"$f":"IF(F35=\"\",\"\",IF(C35=\"CP-1\",IF('Concrete Plant (CP-1)'!$I$12>0,'Concrete Plant (CP-1)'!$I$12,AF35*R35*K35),IF(C35=\"CP-2\",IF('Concrete Plant (CP-2)'!$I$12>0,'Concrete Plant (CP-2)'!$I$12,AF35*R35*K35),IF(C35=\"CP-3\",IF('Concrete Plant (CP-3)'!$I$12>0,'Concrete Plant (CP-3)'!$I$12,AF35*R35*K35),IF(C35=\"CP-4\",IF('Concrete Plant (CP-4)'!$I$12>0,'Concrete Plant (CP-4)'!$I$12,AF35*R35*K35),IF(C35=\"CP-5\",IF('Concrete Plant (CP-5)'!$I$12>0,'Concrete Plant (CP-5)'!$I$12,AF35*R35*K35),IF(C35=\"CP-6\",IF('Concrete Plant (CP-6)'!$I$12>0,'Concrete Plant (CP-6)'!$I$12,AF35*R35*K35),IF(C35=\"CP-7\",IF('Concrete Plant (CP-7)'!$I$12>0,'Concrete Plant (CP-7)'!$I$12,AF35*R35*K35),IF(C35=\"CP-8\",IF('Concrete Plant (CP-8)'!$I$12>0,'Concrete Plant (CP-8)'!$I$12,AF35*R35*K35),IF(C35=\"CP-9\",IF('Concrete Plant (CP-9)'!$I$12>0,'Concrete Plant (CP-9)'!$I$12,AF35*R35*K35),IF(C35=\"CP-10\",IF('Concrete Plant (CP-10)'!$I$12>0,'Concrete Plant (CP-10)'!$I$12,AF35*R35*K35))))))))))))","v":""},"","",{"$f":"IF(F35=\"\",\"\",IF(B35=\"no\",'Emission Factors'!$J$33,'Emission Factors'!$J$34))","v":""},{"$f":"IF(F35=\"\",\"\",IF(C35=\"CP-1\",IF('Concrete Plant (CP-1)'!$I$13>0,'Concrete Plant (CP-1)'!$I$13,AJ35*R35),IF(C35=\"CP-2\",IF('Concrete Plant (CP-2)'!$I$13>0,'Concrete Plant (CP-2)'!$I$13,AJ35*R35),IF(C35=\"CP-3\",IF('Concrete Plant (CP-3)'!$I$13>0,'Concrete Plant (CP-3)'!$I$13,AJ35*R35),IF(C35=\"CP-4\",IF('Concrete Plant (CP-4)'!$I$13>0,'Concrete Plant (CP-4)'!$I$13,AJ35*R35),IF(C35=\"CP-5\",IF('Concrete Plant (CP-5)'!$I$13>0,'Concrete Plant (CP-5)'!$I$13,AJ35*R35),IF(C35=\"CP-6\",IF('Concrete Plant (CP-6)'!$I$13>0,'Concrete Plant (CP-6)'!$I$13,AJ35*R35),IF(C35=\"CP-7\",IF('Concrete Plant (CP-7)'!$I$13>0,'Concrete Plant (CP-7)'!$I$13,AJ35*R35),IF(C35=\"CP-8\",IF('Concrete Plant (CP-8)'!$I$13>0,'Concrete Plant (CP-8)'!$I$13,AJ35*R35),IF(C35=\"CP-9\",IF('Concrete Plant (CP-9)'!$I$13>0,'Concrete Plant (CP-9)'!$I$13,AJ35*R35),IF(C35=\"CP-10\",IF('Concrete Plant (CP-10)'!$I$13>0,'Concrete Plant (CP-10)'!$I$13,AJ35*R35))))))))))))","v":""},"","",{"$f":"IF(F35=\"\",\"\",IF(B35=\"no\",'Emission Factors'!$L$33,'Emission Factors'!$L$34))","v":""},{"$f":"IF(F35=\"\",\"\",IF(C35=\"CP-1\",IF('Concrete Plant (CP-1)'!$I$14>0,'Concrete Plant (CP-1)'!$I$14,AN35*R35),IF(C35=\"CP-2\",IF('Concrete Plant (CP-2)'!$I$14>0,'Concrete Plant (CP-2)'!$I$14,AN35*R35),IF(C35=\"CP-3\",IF('Concrete Plant (CP-3)'!$I$14>0,'Concrete Plant (CP-3)'!$I$14,AN35*R35),IF(C35=\"CP-4\",IF('Concrete Plant (CP-4)'!$I$14>0,'Concrete Plant (CP-4)'!$I$14,AN35*R35),IF(C35=\"CP-5\",IF('Concrete Plant (CP-5)'!$I$14>0,'Concrete Plant (CP-5)'!$I$14,AN35*R35),IF(C35=\"CP-6\",IF('Concrete Plant (CP-6)'!$I$14>0,'Concrete Plant (CP-6)'!$I$14,AN35*R35),IF(C35=\"CP-7\",IF('Concrete Plant (CP-7)'!$I$14>0,'Concrete Plant (CP-7)'!$I$14,AN35*R35),IF(C35=\"CP-8\",IF('Concrete Plant (CP-8)'!$I$14>0,'Concrete Plant (CP-8)'!$I$14,AN35*R35),IF(C35=\"CP-9\",IF('Concrete Plant (CP-9)'!$I$14>0,'Concrete Plant (CP-9)'!$I$14,AN35*R35),IF(C35=\"CP-10\",IF('Concrete Plant (CP-10)'!$I$14>0,'Concrete Plant (CP-10)'!$I$14,AN35*R35))))))))))))","v":""},"","",{"$f":"IF(F35=\"\",\"\",IF(B35=\"no\",'Emission Factors'!$N$33,'Emission Factors'!$N$34))","v":""},{"$f":"IF(F35=\"\",\"\",IF(C35=\"CP-1\",IF('Concrete Plant (CP-1)'!$I$15>0,'Concrete Plant (CP-1)'!$I$15,AR35*R35),IF(C35=\"CP-2\",IF('Concrete Plant (CP-2)'!$I$15>0,'Concrete Plant (CP-2)'!$I$15,AR35*R35),IF(C35=\"CP-3\",IF('Concrete Plant (CP-3)'!$I$15>0,'Concrete Plant (CP-3)'!$I$15,AR35*R35),IF(C35=\"CP-4\",IF('Concrete Plant (CP-4)'!$I$15>0,'Concrete Plant (CP-4)'!$I$15,AR35*R35),IF(C35=\"CP-5\",IF('Concrete Plant (CP-5)'!$I$15>0,'Concrete Plant (CP-5)'!$I$15,AR35*R35),IF(C35=\"CP-6\",IF('Concrete Plant (CP-6)'!$I$15>0,'Concrete Plant (CP-6)'!$I$15,AR35*R35),IF(C35=\"CP-7\",IF('Concrete Plant (CP-7)'!$I$15>0,'Concrete Plant (CP-7)'!$I$15,AR35*R35),IF(C35=\"CP-8\",IF('Concrete Plant (CP-8)'!$I$15>0,'Concrete Plant (CP-8)'!$I$15,AR35*R35),IF(C35=\"CP-9\",IF('Concrete Plant (CP-9)'!$I$15>0,'Concrete Plant (CP-9)'!$I$15,AR35*R35),IF(C35=\"CP-10\",IF('Concrete Plant (CP-10)'!$I$15>0,'Concrete Plant (CP-10)'!$I$15,AR35*R35))))))))))))","v":""},"","",{"$f":"IF(F35=\"\",\"\",IF(B35=\"no\",'Emission Factors'!$P$33,'Emission Factors'!$P$34))","v":""},"","","",{"$f":"IF(F35=\"\",\"\",IF(B35=\"no\",'Emission Factors'!$R$33,'Emission Factors'!$R$34))","v":""},"","",""]
[null,"no",null,null,null,null,null,null,null,null,0.5,null,null,null,null,null,null,"",null,"",null,0,"",{"$f":"IF(F36=\"\",\"\",IF(B36=\"no\",'Emission Factors'!$D$33,'Emission Factors'!$D$34))","v":""},"","","",{"$f":"IF(F36=\"\",\"\",IF(B36=\"no\",'Emission Factors'!$F$33,'Emission Factors'!$F$34))","v":""},"","","",{"$f":"IF(F36=\"\",\"\",IF(B36=\"no\",'Emission Factors'!$H$33,'Emission Factors'!$H$34))","v":""},{"$f":"IF(F36=\"\",\"\",IF(C36=\"CP-1\",IF('Concrete Plant (CP-1)'!$I$12>0,'Concrete Plant (CP-1)'!$I$12,AF36*R36*K36),IF(C36=\"CP-2\",IF('Concrete Plant (CP-2)'!$I$12>0,'Concrete Plant (CP-2)'!$I$12,AF36*R36*K36),IF(C36=\"CP-3\",IF('Concrete Plant (CP-3)'!$I$12>0,'Concrete Plant (CP-3)'!$I$12,AF36*R36*K36),IF(C36=\"CP-4\",IF('Concrete Plant (CP-4)'!$I$12>0,'Concrete Plant (CP-4)'!$I$12,AF36*R36*K36),IF(C36=\"CP-5\",IF('Concrete Plant (CP-5)'!$I$12>0,'Concrete Plant (CP-5)'!$I$12,AF36*R36*K36),IF(C36=\"CP-6\",IF('Concrete Plant (CP-6)'!$I$12>0,'Concrete Plant (CP-6)'!$I$12,AF36*R36*K36),IF(C36=\"CP-7\",IF('Concrete Plant (CP-7)'!$I$12>0,'Concrete Plant (CP-7)'!$I$12,AF36*R36*K36),IF(C36=\"CP-8\",IF('Concrete Plant (CP-8)'!$I$12>0,'Concrete Plant (CP-8)'!$I$12,AF36*R36*K36),IF(C36=\"CP-9\",IF('Concrete Plant (CP-9)'!$I$12>0,'Concrete Plant (CP-9)'!$I$12,AF36*R36*K36),IF(C36=\"CP-10\",IF('Concrete Plant (CP-10)'!$I$12>0,'Concrete Plant (CP-10)'!$I$12,AF36*R36*K36))))))))))))","v":""},"","",{"$f":"IF(F36=\"\",\"\",IF(B36=\"no\",'Emission Factors'!$J$33,'Emission Factors'!$J$34))","v":""},{"$f":"IF(F36=\"\",\"\",IF(C36=\"CP-1\",IF('Concrete Plant (CP-1)'!$I$13>0,'Concrete Plant (CP-1)'!$I$13,AJ36*R36),IF(C36=\"CP-2\",IF('Concrete Plant (CP-2)'!$I$13>0,'Concrete Plant (CP-2)'!$I$13,AJ36*R36),IF(C36=\"CP-3\",IF('Concrete Plant (CP-3)'!$I$13>0,'Concrete Plant (CP-3)'!$I$13,AJ36*R36),IF(C36=\"CP-4\",IF('Concrete Plant (CP-4)'!$I$13>0,'Concrete Plant (CP-4)'!$I$13,AJ36*R36),IF(C36=\"CP-5\",IF('Concrete Plant (CP-5)'!$I$13>0,'Concrete Plant (CP-5)'!$I$13,AJ36*R36),IF(C36=\"CP-6\",IF('Concrete Plant (CP-6)'!$I$13>0,'Concrete Plant (CP-6)'!$I$13,AJ36*R36),IF(C36=\"CP-7\",IF('Concrete Plant (CP-7)'!$I$13>0,'Concrete Plant (CP-7)'!$I$13,AJ36*R36),IF(C36=\"CP-8\",IF('Concrete Plant (CP-8)'!$I$13>0,'Concrete Plant (CP-8)'!$I$13,AJ36*R36),IF(C36=\"CP-9\",IF('Concrete Plant (CP-9)'!$I$13>0,'Concrete Plant (CP-9)'!$I$13,AJ36*R36),IF(C36=\"CP-10\",IF('Concrete Plant (CP-10)'!$I$13>0,'Concrete Plant (CP-10)'!$I$13,AJ36*R36))))))))))))","v":""},"","",{"$f":"IF(F36=\"\",\"\",IF(B36=\"no\",'Emission Factors'!$L$33,'Emission Factors'!$L$34))","v":""},{"$f":"IF(F36=\"\",\"\",IF(C36=\"CP-1\",IF('Concrete Plant (CP-1)'!$I$14>0,'Concrete Plant (CP-1)'!$I$14,AN36*R36),IF(C36=\"CP-2\",IF('Concrete Plant (CP-2)'!$I$14>0,'Concrete Plant (CP-2)'!$I$14,AN36*R36),IF(C36=\"CP-3\",IF('Concrete Plant (CP-3)'!$I$14>0,'Concrete Plant (CP-3)'!$I$14,AN36*R36),IF(C36=\"CP-4\",IF('Concrete Plant (CP-4)'!$I$14>0,'Concrete Plant (CP-4)'!$I$14,AN36*R36),IF(C36=\"CP-5\",IF('Concrete Plant (CP-5)'!$I$14>0,'Concrete Plant (CP-5)'!$I$14,AN36*R36),IF(C36=\"CP-6\",IF('Concrete Plant (CP-6)'!$I$14>0,'Concrete Plant (CP-6)'!$I$14,AN36*R36),IF(C36=\"CP-7\",IF('Concrete Plant (CP-7)'!$I$14>0,'Concrete Plant (CP-7)'!$I$14,AN36*R36),IF(C36=\"CP-8\",IF('Concrete Plant (CP-8)'!$I$14>0,'Concrete Plant (CP-8)'!$I$14,AN36*R36),IF(C36=\"CP-9\",IF('Concrete Plant (CP-9)'!$I$14>0,'Concrete Plant (CP-9)'!$I$14,AN36*R36),IF(C36=\"CP-10\",IF('Concrete Plant (CP-10)'!$I$14>0,'Concrete Plant (CP-10)'!$I$14,AN36*R36))))))))))))","v":""},"","",{"$f":"IF(F36=\"\",\"\",IF(B36=\"no\",'Emission Factors'!$N$33,'Emission Factors'!$N$34))","v":""},{"$f":"IF(F36=\"\",\"\",IF(C36=\"CP-1\",IF('Concrete Plant (CP-1)'!$I$15>0,'Concrete Plant (CP-1)'!$I$15,AR36*R36),IF(C36=\"CP-2\",IF('Concrete Plant (CP-2)'!$I$15>0,'Concrete Plant (CP-2)'!$I$15,AR36*R36),IF(C36=\"CP-3\",IF('Concrete Plant (CP-3)'!$I$15>0,'Concrete Plant (CP-3)'!$I$15,AR36*R36),IF(C36=\"CP-4\",IF('Concrete Plant (CP-4)'!$I$15>0,'Concrete Plant (CP-4)'!$I$15,AR36*R36),IF(C36=\"CP-5\",IF('Concrete Plant (CP-5)'!$I$15>0,'Concrete Plant (CP-5)'!$I$15,AR36*R36),IF(C36=\"CP-6\",IF('Concrete Plant (CP-6)'!$I$15>0,'Concrete Plant (CP-6)'!$I$15,AR36*R36),IF(C36=\"CP-7\",IF('Concrete Plant (CP-7)'!$I$15>0,'Concrete Plant (CP-7)'!$I$15,AR36*R36),IF(C36=\"CP-8\",IF('Concrete Plant (CP-8)'!$I$15>0,'Concrete Plant (CP-8)'!$I$15,AR36*R36),IF(C36=\"CP-9\",IF('Concrete Plant (CP-9)'!$I$15>0,'Concrete Plant (CP-9)'!$I$15,AR36*R36),IF(C36=\"CP-10\",IF('Concrete Plant (CP-10)'!$I$15>0,'Concrete Plant (CP-10)'!$I$15,AR36*R36))))))))))))","v":""},"","",{"$f":"IF(F36=\"\",\"\",IF(B36=\"no\",'Emission Factors'!$P$33,'Emission Factors'!$P$34))","v":""},"","","",{"$f":"IF(F36=\"\",\"\",IF(B36=\"no\",'Emission Factors'!$R$33,'Emission Factors'!$R$34))","v":""},"","",""]
[null,"no",null,null,null,null,null,null,null,null,0.5,null,null,null,null,null,null,"",null,"",null,0,"",{"$f":"IF(F37=\"\",\"\",IF(B37=\"no\",'Emission Factors'!$D$33,'Emission Factors'!$D$34))","v":""},"","","",{"$f":"IF(F37=\"\",\"\",IF(B37=\"no\",'Emission Factors'!$F$33,'Emission Factors'!$F$34))","v":""},"","","",{"$f":"IF(F37=\"\",\"\",IF(B37=\"no\",'Emission Factors'!$H$33,'Emission Factors'!$H$34))","v":""},{"$f":"IF(F37=\"\",\"\",IF(C37=\"CP-1\",IF('Concrete Plant (CP-1)'!$I$12>0,'Concrete Plant (CP-1)'!$I$12,AF37*R37*K37),IF(C37=\"CP-2\",IF('Concrete Plant (CP-2)'!$I$12>0,'Concrete Plant (CP-2)'!$I$12,AF37*R37*K37),IF(C37=\"CP-3\",IF('Concrete Plant (CP-3)'!$I$12>0,'Concrete Plant (CP-3)'!$I$12,AF37*R37*K37),IF(C37=\"CP-4\",IF('Concrete Plant (CP-4)'!$I$12>0,'Concrete Plant (CP-4)'!$I$12,AF37*R37*K37),IF(C37=\"CP-5\",IF('Concrete Plant (CP-5)'!$I$12>0,'Concrete Plant (CP-5)'!$I$12,AF37*R37*K37),IF(C37=\"CP-6\",IF('Concrete Plant (CP-6)'!$I$12>0,'Concrete Plant (CP-6)'!$I$12,AF37*R37*K37),IF(C37=\"CP-7\",IF('Concrete Plant (CP-7)'!$I$12>0,'Concrete Plant (CP-7)'!$I$12,AF37*R37*K37),IF(C37=\"CP-8\",IF('Concrete Plant (CP-8)'!$I$12>0,'Concrete Plant (CP-8)'!$I$12,AF37*R37*K37),IF(C37=\"CP-9\",IF('Concrete Plant (CP-9)'!$I$12>0,'Concrete Plant (CP-9)'!$I$12,AF37*R37*K37),IF(C37=\"CP-10\",IF('Concrete Plant (CP-10)'!$I$12>0,'Concrete Plant (CP-10)'!$I$12,AF37*R37*K37))))))))))))","v":""},"","",{"$f":"IF(F37=\"\",\"\",IF(B37=\"no\",'Emission Factors'!$J$33,'Emission Factors'!$J$34))","v":""},{"$f":"IF(F37=\"\",\"\",IF(C37=\"CP-1\",IF('Concrete Plant (CP-1)'!$I$13>0,'Concrete Plant (CP-1)'!$I$13,AJ37*R37),IF(C37=\"CP-2\",IF('Concrete Plant (CP-2)'!$I$13>0,'Concrete Plant (CP-2)'!$I$13,AJ37*R37),IF(C37=\"CP-3\",IF('Concrete Plant (CP-3)'!$I$13>0,'Concrete Plant (CP-3)'!$I$13,AJ37*R37),IF(C37=\"CP-4\",IF('Concrete Plant (CP-4)'!$I$13>0,'Concrete Plant (CP-4)'!$I$13,AJ37*R37),IF(C37=\"CP-5\",IF('Concrete Plant (CP-5)'!$I$13>0,'Concrete Plant (CP-5)'!$I$13,AJ37*R37),IF(C37=\"CP-6\",IF('Concrete Plant (CP-6)'!$I$13>0,'Concrete Plant (CP-6)'!$I$13,AJ37*R37),IF(C37=\"CP-7\",IF('Concrete Plant (CP-7)'!$I$13>0,'Concrete Plant (CP-7)'!$I$13,AJ37*R37),IF(C37=\"CP-8\",IF('Concrete Plant (CP-8)'!$I$13>0,'Concrete Plant (CP-8)'!$I$13,AJ37*R37),IF(C37=\"CP-9\",IF('Concrete Plant (CP-9)'!$I$13>0,'Concrete Plant (CP-9)'!$I$13,AJ37*R37),IF(C37=\"CP-10\",IF('Concrete Plant (CP-10)'!$I$13>0,'Concrete Plant (CP-10)'!$I$13,AJ37*R37))))))))))))","v":""},"","",{"$f":"IF(F37=\"\",\"\",IF(B37=\"no\",'Emission Factors'!$L$33,'Emission Factors'!$L$34))","v":""},{"$f":"IF(F37=\"\",\"\",IF(C37=\"CP-1\",IF('Concrete Plant (CP-1)'!$I$14>0,'Concrete Plant (CP-1)'!$I$14,AN37*R37),IF(C37=\"CP-2\",IF('Concrete Plant (CP-2)'!$I$14>0,'Concrete Plant (CP-2)'!$I$14,AN37*R37),IF(C37=\"CP-3\",IF('Concrete Plant (CP-3)'!$I$14>0,'Concrete Plant (CP-3)'!$I$14,AN37*R37),IF(C37=\"CP-4\",IF('Concrete Plant (CP-4)'!$I$14>0,'Concrete Plant (CP-4)'!$I$14,AN37*R37),IF(C37=\"CP-5\",IF('Concrete Plant (CP-5)'!$I$14>0,'Concrete Plant (CP-5)'!$I$14,AN37*R37),IF(C37=\"CP-6\",IF('Concrete Plant (CP-6)'!$I$14>0,'Concrete Plant (CP-6)'!$I$14,AN37*R37),IF(C37=\"CP-7\",IF('Concrete Plant (CP-7)'!$I$14>0,'Concrete Plant (CP-7)'!$I$14,AN37*R37),IF(C37=\"CP-8\",IF('Concrete Plant (CP-8)'!$I$14>0,'Concrete Plant (CP-8)'!$I$14,AN37*R37),IF(C37=\"CP-9\",IF('Concrete Plant (CP-9)'!$I$14>0,'Concrete Plant (CP-9)'!$I$14,AN37*R37),IF(C37=\"CP-10\",IF('Concrete Plant (CP-10)'!$I$14>0,'Concrete Plant (CP-10)'!$I$14,AN37*R37))))))))))))","v":""},"","",{"$f":"IF(F37=\"\",\"\",IF(B37=\"no\",'Emission Factors'!$N$33,'Emission Factors'!$N$34))","v":""},{"$f":"IF(F37=\"\",\"\",IF(C37=\"CP-1\",IF('Concrete Plant (CP-1)'!$I$15>0,'Concrete Plant (CP-1)'!$I$15,AR37*R37),IF(C37=\"CP-2\",IF('Concrete Plant (CP-2)'!$I$15>0,'Concrete Plant (CP-2)'!$I$15,AR37*R37),IF(C37=\"CP-3\",IF('Concrete Plant (CP-3)'!$I$15>0,'Concrete Plant (CP-3)'!$I$15,AR37*R37),IF(C37=\"CP-4\",IF('Concrete Plant (CP-4)'!$I$15>0,'Concrete Plant (CP-4)'!$I$15,AR37*R37),IF(C37=\"CP-5\",IF('Concrete Plant (CP-5)'!$I$15>0,'Concrete Plant (CP-5)'!$I$15,AR37*R37),IF(C37=\"CP-6\",IF('Concrete Plant (CP-6)'!$I$15>0,'Concrete Plant (CP-6)'!$I$15,AR37*R37),IF(C37=\"CP-7\",IF('Concrete Plant (CP-7)'!$I$15>0,'Concrete Plant (CP-7)'!$I$15,AR37*R37),IF(C37=\"CP-8\",IF('Concrete Plant (CP-8)'!$I$15>0,'Concrete Plant (CP-8)'!$I$15,AR37*R37),IF(C37=\"CP-9\",IF('Concrete Plant (CP-9)'!$I$15>0,'Concrete Plant (CP-9)'!$I$15,AR37*R37),IF(C37=\"CP-10\",IF('Concrete Plant (CP-10)'!$I$15>0,'Concrete Plant (CP-10)'!$I$15,AR37*R37))))))))))))","v":""},"","",{"$f":"IF(F37=\"\",\"\",IF(B37=\"no\",'Emission Factors'!$P$33,'Emission Factors'!$P$34))","v":""},"","","",{"$f":"IF(F37=\"\",\"\",IF(B37=\"no\",'Emission Factors'!$R$33,'Emission Factors'!$R$34))","v":""},"","",""]
[null,"no",null,null,null,null,null,null,null,null,0.5,null,null,null,null,null,null,"",null,"",null,0,"",{"$f":"IF(F38=\"\",\"\",IF(B38=\"no\",'Emission Factors'!$D$33,'Emission Factors'!$D$34))","v":""},"","","",{"$f":"IF(F38=\"\",\"\",IF(B38=\"no\",'Emission Factors'!$F$33,'Emission Factors'!$F$34))","v":""},"","","",{"$f":"IF(F38=\"\",\"\",IF(B38=\"no\",'Emission Factors'!$H$33,'Emission Factors'!$H$34))","v":""},{"$f":"IF(F38=\"\",\"\",IF(C38=\"CP-1\",IF('Concrete Plant (CP-1)'!$I$12>0,'Concrete Plant (CP-1)'!$I$12,AF38*R38*K38),IF(C38=\"CP-2\",IF('Concrete Plant (CP-2)'!$I$12>0,'Concrete Plant (CP-2)'!$I$12,AF38*R38*K38),IF(C38=\"CP-3\",IF('Concrete Plant (CP-3)'!$I$12>0,'Concrete Plant (CP-3)'!$I$12,AF38*R38*K38),IF(C38=\"CP-4\",IF('Concrete Plant (CP-4)'!$I$12>0,'Concrete Plant (CP-4)'!$I$12,AF38*R38*K38),IF(C38=\"CP-5\",IF('Concrete Plant (CP-5)'!$I$12>0,'Concrete Plant (CP-5)'!$I$12,AF38*R38*K38),IF(C38=\"CP-6\",IF('Concrete Plant (CP-6)'!$I$12>0,'Concrete Plant (CP-6)'!$I$12,AF38*R38*K38),IF(C38=\"CP-7\",IF('Concrete Plant (CP-7)'!$I$12>0,'Concrete Plant (CP-7)'!$I$12,AF38*R38*K38),IF(C38=\"CP-8\",IF('Concrete Plant (CP-8)'!$I$12>0,'Concrete Plant (CP-8)'!$I$12,AF38*R38*K38),IF(C38=\"CP-9\",IF('Concrete Plant (CP-9)'!$I$12>0,'Concrete Plant (CP-9)'!$I$12,AF38*R38*K38),IF(C38=\"CP-10\",IF('Concrete Plant (CP-10)'!$I$12>0,'Concrete Plant (CP-10)'!$I$12,AF38*R38*K38))))))))))))","v":""},"","",{"$f":"IF(F38=\"\",\"\",IF(B38=\"no\",'Emission Factors'!$J$33,'Emission Factors'!$J$34))","v":""},{"$f":"IF(F38=\"\",\"\",IF(C38=\"CP-1\",IF('Concrete Plant (CP-1)'!$I$13>0,'Concrete Plant (CP-1)'!$I$13,AJ38*R38),IF(C38=\"CP-2\",IF('Concrete Plant (CP-2)'!$I$13>0,'Concrete Plant (CP-2)'!$I$13,AJ38*R38),IF(C38=\"CP-3\",IF('Concrete Plant (CP-3)'!$I$13>0,'Concrete Plant (CP-3)'!$I$13,AJ38*R38),IF(C38=\"CP-4\",IF('Concrete Plant (CP-4)'!$I$13>0,'Concrete Plant (CP-4)'!$I$13,AJ38*R38),IF(C38=\"CP-5\",IF('Concrete Plant (CP-5)'!$I$13>0,'Concrete Plant (CP-5)'!$I$13,AJ38*R38),IF(C38=\"CP-6\",IF('Concrete Plant (CP-6)'!$I$13>0,'Concrete Plant (CP-6)'!$I$13,AJ38*R38),IF(C38=\"CP-7\",IF('Concrete Plant (CP-7)'!$I$13>0,'Concrete Plant (CP-7)'!$I$13,AJ38*R38),IF(C38=\"CP-8\",IF('Concrete Plant (CP-8)'!$I$13>0,'Concrete Plant (CP-8)'!$I$13,AJ38*R38),IF(C38=\"CP-9\",IF('Concrete Plant (CP-9)'!$I$13>0,'Concrete Plant (CP-9)'!$I$13,AJ38*R38),IF(C38=\"CP-10\",IF('Concrete Plant (CP-10)'!$I$13>0,'Concrete Plant (CP-10)'!$I$13,AJ38*R38))))))))))))","v":""},"","",{"$f":"IF(F38=\"\",\"\",IF(B38=\"no\",'Emission Factors'!$L$33,'Emission Factors'!$L$34))","v":""},{"$f":"IF(F38=\"\",\"\",IF(C38=\"CP-1\",IF('Concrete Plant (CP-1)'!$I$14>0,'Concrete Plant (CP-1)'!$I$14,AN38*R38),IF(C38=\"CP-2\",IF('Concrete Plant (CP-2)'!$I$14>0,'Concrete Plant (CP-2)'!$I$14,AN38*R38),IF(C38=\"CP-3\",IF('Concrete Plant (CP-3)'!$I$14>0,'Concrete Plant (CP-3)'!$I$14,AN38*R38),IF(C38=\"CP-4\",IF('Concrete Plant (CP-4)'!$I$14>0,'Concrete Plant (CP-4)'!$I$14,AN38*R38),IF(C38=\"CP-5\",IF('Concrete Plant (CP-5)'!$I$14>0,'Concrete Plant (CP-5)'!$I$14,AN38*R38),IF(C38=\"CP-6\",IF('Concrete Plant (CP-6)'!$I$14>0,'Concrete Plant (CP-6)'!$I$14,AN38*R38),IF(C38=\"CP-7\",IF('Concrete Plant (CP-7)'!$I$14>0,'Concrete Plant (CP-7)'!$I$14,AN38*R38),IF(C38=\"CP-8\",IF('Concrete Plant (CP-8)'!$I$14>0,'Concrete Plant (CP-8)'!$I$14,AN38*R38),IF(C38=\"CP-9\",IF('Concrete Plant (CP-9)'!$I$14>0,'Concrete Plant (CP-9)'!$I$14,AN38*R38),IF(C38=\"CP-10\",IF('Concrete Plant (CP-10)'!$I$14>0,'Concrete Plant (CP-10)'!$I$14,AN38*R38))))))))))))","v":""},"","",{"$f":"IF(F38=\"\",\"\",IF(B38=\"no\",'Emission Factors'!$N$33,'Emission Factors'!$N$34))","v":""},{"$f":"IF(F38=\"\",\"\",IF(C38=\"CP-1\",IF('Concrete Plant (CP-1)'!$I$15>0,'Concrete Plant (CP-1)'!$I$15,AR38*R38),IF(C38=\"CP-2\",IF('Concrete Plant (CP-2)'!$I$15>0,'Concrete Plant (CP-2)'!$I$15,AR38*R38),IF(C38=\"CP-3\",IF('Concrete Plant (CP-3)'!$I$15>0,'Concrete Plant (CP-3)'!$I$15,AR38*R38),IF(C38=\"CP-4\",IF('Concrete Plant (CP-4)'!$I$15>0,'Concrete Plant (CP-4)'!$I$15,AR38*R38),IF(C38=\"CP-5\",IF('Concrete Plant (CP-5)'!$I$15>0,'Concrete Plant (CP-5)'!$I$15,AR38*R38),IF(C38=\"CP-6\",IF('Concrete Plant (CP-6)'!$I$15>0,'Concrete Plant (CP-6)'!$I$15,AR38*R38),IF(C38=\"CP-7\",IF('Concrete Plant (CP-7)'!$I$15>0,'Concrete Plant (CP-7)'!$I$15,AR38*R38),IF(C38=\"CP-8\",IF('Concrete Plant (CP-8)'!$I$15>0,'Concrete Plant (CP-8)'!$I$15,AR38*R38),IF(C38=\"CP-9\",IF('Concrete Plant (CP-9)'!$I$15>0,'Concrete Plant (CP-9)'!$I$15,AR38*R38),IF(C38=\"CP-10\",IF('Concrete Plant (CP-10)'!$I$15>0,'Concrete Plant (CP-10)'!$I$15,AR38*R38))))))))))))","v":""},"","",{"$f":"IF(F38=\"\",\"\",IF(B38=\"no\",'Emission Factors'!$P$33,'Emission Factors'!$P$34))","v":""},"","","",{"$f":"IF(F38=\"\",\"\",IF(B38=\"no\",'Emission Factors'!$R$33,'Emission Factors'!$R$34))","v":""},"","",""]
[null,"no",null,null,null,null,null,null,null,null,{"$f":"IF(J39=\"\",0.5,J39)","v":0.5},null,null,null,null,null,null,"",null,"",null,0,"",{"$f":"IF(F39=\"\",\"\",IF(B39=\"no\",'Emission Factors'!$D$33,'Emission Factors'!$D$34))","v":""},"","","",{"$f":"IF(F39=\"\",\"\",IF(B39=\"no\",'Emission Factors'!$F$33,'Emission Factors'!$F$34))","v":""},"","","",{"$f":"IF(F39=\"\",\"\",IF(B39=\"no\",'Emission Factors'!$H$33,'Emission Factors'!$H$34))","v":""},{"$f":"IF(F39=\"\",\"\",IF(C39=\"CP-1\",IF('Concrete Plant (CP-1)'!$I$12>0,'Concrete Plant (CP-1)'!$I$12,AF39*R39*K39),IF(C39=\"CP-2\",IF('Concrete Plant (CP-2)'!$I$12>0,'Concrete Plant (CP-2)'!$I$12,AF39*R39*K39),IF(C39=\"CP-3\",IF('Concrete Plant (CP-3)'!$I$12>0,'Concrete Plant (CP-3)'!$I$12,AF39*R39*K39),IF(C39=\"CP-4\",IF('Concrete Plant (CP-4)'!$I$12>0,'Concrete Plant (CP-4)'!$I$12,AF39*R39*K39),IF(C39=\"CP-5\",IF('Concrete Plant (CP-5)'!$I$12>0,'Concrete Plant (CP-5)'!$I$12,AF39*R39*K39),IF(C39=\"CP-6\",IF('Concrete Plant (CP-6)'!$I$12>0,'Concrete Plant (CP-6)'!$I$12,AF39*R39*K39),IF(C39=\"CP-7\",IF('Concrete Plant (CP-7)'!$I$12>0,'Concrete Plant (CP-7)'!$I$12,AF39*R39*K39),IF(C39=\"CP-8\",IF('Concrete Plant (CP-8)'!$I$12>0,'Concrete Plant (CP-8)'!$I$12,AF39*R39*K39),IF(C39=\"CP-9\",IF('Concrete Plant (CP-9)'!$I$12>0,'Concrete Plant (CP-9)'!$I$12,AF39*R39*K39),IF(C39=\"CP-10\",IF('Concrete Plant (CP-10)'!$I$12>0,'Concrete Plant (CP-10)'!$I$12,AF39*R39*K39))))))))))))","v":""},"","",{"$f":"IF(F39=\"\",\"\",IF(B39=\"no\",'Emission Factors'!$J$33,'Emission Factors'!$J$34))","v":""},{"$f":"IF(F39=\"\",\"\",IF(C39=\"CP-1\",IF('Concrete Plant (CP-1)'!$I$13>0,'Concrete Plant (CP-1)'!$I$13,AJ39*R39),IF(C39=\"CP-2\",IF('Concrete Plant (CP-2)'!$I$13>0,'Concrete Plant (CP-2)'!$I$13,AJ39*R39),IF(C39=\"CP-3\",IF('Concrete Plant (CP-3)'!$I$13>0,'Concrete Plant (CP-3)'!$I$13,AJ39*R39),IF(C39=\"CP-4\",IF('Concrete Plant (CP-4)'!$I$13>0,'Concrete Plant (CP-4)'!$I$13,AJ39*R39),IF(C39=\"CP-5\",IF('Concrete Plant (CP-5)'!$I$13>0,'Concrete Plant (CP-5)'!$I$13,AJ39*R39),IF(C39=\"CP-6\",IF('Concrete Plant (CP-6)'!$I$13>0,'Concrete Plant (CP-6)'!$I$13,AJ39*R39),IF(C39=\"CP-7\",IF('Concrete Plant (CP-7)'!$I$13>0,'Concrete Plant (CP-7)'!$I$13,AJ39*R39),IF(C39=\"CP-8\",IF('Concrete Plant (CP-8)'!$I$13>0,'Concrete Plant (CP-8)'!$I$13,AJ39*R39),IF(C39=\"CP-9\",IF('Concrete Plant (CP-9)'!$I$13>0,'Concrete Plant (CP-9)'!$I$13,AJ39*R39),IF(C39=\"CP-10\",IF('Concrete Plant (CP-10)'!$I$13>0,'Concrete Plant (CP-10)'!$I$13,AJ39*R39))))))))))))","v":""},"","",{"$f":"IF(F39=\"\",\"\",IF(B39=\"no\",'Emission Factors'!$L$33,'Emission Factors'!$L$34))","v":""},{"$f":"IF(F39=\"\",\"\",IF(C39=\"CP-1\",IF('Concrete Plant (CP-1)'!$I$14>0,'Concrete Plant (CP-1)'!$I$14,AN39*R39),IF(C39=\"CP-2\",IF('Concrete Plant (CP-2)'!$I$14>0,'Concrete Plant (CP-2)'!$I$14,AN39*R39),IF(C39=\"CP-3\",IF('Concrete Plant (CP-3)'!$I$14>0,'Concrete Plant (CP-3)'!$I$14,AN39*R39),IF(C39=\"CP-4\",IF('Concrete Plant (CP-4)'!$I$14>0,'Concrete Plant (CP-4)'!$I$14,AN39*R39),IF(C39=\"CP-5\",IF('Concrete Plant (CP-5)'!$I$14>0,'Concrete Plant (CP-5)'!$I$14,AN39*R39),IF(C39=\"CP-6\",IF('Concrete Plant (CP-6)'!$I$14>0,'Concrete Plant (CP-6)'!$I$14,AN39*R39),IF(C39=\"CP-7\",IF('Concrete Plant (CP-7)'!$I$14>0,'Concrete Plant (CP-7)'!$I$14,AN39*R39),IF(C39=\"CP-8\",IF('Concrete Plant (CP-8)'!$I$14>0,'Concrete Plant (CP-8)'!$I$14,AN39*R39),IF(C39=\"CP-9\",IF('Concrete Plant (CP-9)'!$I$14>0,'Concrete Plant (CP-9)'!$I$14,AN39*R39),IF(C39=\"CP-10\",IF('Concrete Plant (CP-10)'!$I$14>0,'Concrete Plant (CP-10)'!$I$14,AN39*R39))))))))))))","v":""},"","",{"$f":"IF(F39=\"\",\"\",IF(B39=\"no\",'Emission Factors'!$N$33,'Emission Factors'!$N$34))","v":""},{"$f":"IF(F39=\"\",\"\",IF(C39=\"CP-1\",IF('Concrete Plant (CP-1)'!$I$15>0,'Concrete Plant (CP-1)'!$I$15,AR39*R39),IF(C39=\"CP-2\",IF('Concrete Plant (CP-2)'!$I$15>0,'Concrete Plant (CP-2)'!$I$15,AR39*R39),IF(C39=\"CP-3\",IF('Concrete Plant (CP-3)'!$I$15>0,'Concrete Plant (CP-3)'!$I$15,AR39*R39),IF(C39=\"CP-4\",IF('Concrete Plant (CP-4)'!$I$15>0,'Concrete Plant (CP-4)'!$I$15,AR39*R39),IF(C39=\"CP-5\",IF('Concrete Plant (CP-5)'!$I$15>0,'Concrete Plant (CP-5)'!$I$15,AR39*R39),IF(C39=\"CP-6\",IF('Concrete Plant (CP-6)'!$I$15>0,'Concrete Plant (CP-6)'!$I$15,AR39*R39),IF(C39=\"CP-7\",IF('Concrete Plant (CP-7)'!$I$15>0,'Concrete Plant (CP-7)'!$I$15,AR39*R39),IF(C39=\"CP-8\",IF('Concrete Plant (CP-8)'!$I$15>0,'Concrete Plant (CP-8)'!$I$15,AR39*R39),IF(C39=\"CP-9\",IF('Concrete Plant (CP-9)'!$I$15>0,'Concrete Plant (CP-9)'!$I$15,AR39*R39),IF(C39=\"CP-10\",IF('Concrete Plant (CP-10)'!$I$15>0,'Concrete Plant (CP-10)'!$I$15,AR39*R39))))))))))))","v":""},"","",{"$f":"IF(F39=\"\",\"\",IF(B39=\"no\",'Emission Factors'!$P$33,'Emission Factors'!$P$34))","v":""},"","","",{"$f":"IF(F39=\"\",\"\",IF(B39=\"no\",'Emission Factors'!$R$33,'Emission Factors'!$R$34))","v":""},"","",""]
[null,"no",null,null,null,null,null,null,null,null,0.5,null,null,null,null,null,null,"",null,"",null,0,"",{"$f":"IF(F40=\"\",\"\",IF(B40=\"no\",'Emission Factors'!$D$33,'Emission Factors'!$D$34))","v":""},"","","",{"$f":"IF(F40=\"\",\"\",IF(B40=\"no\",'Emission Factors'!$F$33,'Emission Factors'!$F$34))","v":""},"","","",{"$f":"IF(F40=\"\",\"\",IF(B40=\"no\",'Emission Factors'!$H$33,'Emission Factors'!$H$34))","v":""},{"$f":"IF(F40=\"\",\"\",IF(C40=\"CP-1\",IF('Concrete Plant (CP-1)'!$I$12>0,'Concrete Plant (CP-1)'!$I$12,AF40*R40*K40),IF(C40=\"CP-2\",IF('Concrete Plant (CP-2)'!$I$12>0,'Concrete Plant (CP-2)'!$I$12,AF40*R40*K40),IF(C40=\"CP-3\",IF('Concrete Plant (CP-3)'!$I$12>0,'Concrete Plant (CP-3)'!$I$12,AF40*R40*K40),IF(C40=\"CP-4\",IF('Concrete Plant (CP-4)'!$I$12>0,'Concrete Plant (CP-4)'!$I$12,AF40*R40*K40),IF(C40=\"CP-5\",IF('Concrete Plant (CP-5)'!$I$12>0,'Concrete Plant (CP-5)'!$I$12,AF40*R40*K40),IF(C40=\"CP-6\",IF('Concrete Plant (CP-6)'!$I$12>0,'Concrete Plant (CP-6)'!$I$12,AF40*R40*K40),IF(C40=\"CP-7\",IF('Concrete Plant (CP-7)'!$I$12>0,'Concrete Plant (CP-7)'!$I$12,AF40*R40*K40),IF(C40=\"CP-8\",IF('Concrete Plant (CP-8)'!$I$12>0,'Concrete Plant (CP-8)'!$I$12,AF40*R40*K40),IF(C40=\"CP-9\",IF('Concrete Plant (CP-9)'!$I$12>0,'Concrete Plant (CP-9)'!$I$12,AF40*R40*K40),IF(C40=\"CP-10\",IF('Concrete Plant (CP-10)'!$I$12>0,'Concrete Plant (CP-10)'!$I$12,AF40*R40*K40))))))))))))","v":""},"","",{"$f":"IF(F40=\"\",\"\",IF(B40=\"no\",'Emission Factors'!$J$33,'Emission Factors'!$J$34))","v":""},{"$f":"IF(F40=\"\",\"\",IF(C40=\"CP-1\",IF('Concrete Plant (CP-1)'!$I$13>0,'Concrete Plant (CP-1)'!$I$13,AJ40*R40),IF(C40=\"CP-2\",IF('Concrete Plant (CP-2)'!$I$13>0,'Concrete Plant (CP-2)'!$I$13,AJ40*R40),IF(C40=\"CP-3\",IF('Concrete Plant (CP-3)'!$I$13>0,'Concrete Plant (CP-3)'!$I$13,AJ40*R40),IF(C40=\"CP-4\",IF('Concrete Plant (CP-4)'!$I$13>0,'Concrete Plant (CP-4)'!$I$13,AJ40*R40),IF(C40=\"CP-5\",IF('Concrete Plant (CP-5)'!$I$13>0,'Concrete Plant (CP-5)'!$I$13,AJ40*R40),IF(C40=\"CP-6\",IF('Concrete Plant (CP-6)'!$I$13>0,'Concrete Plant (CP-6)'!$I$13,AJ40*R40),IF(C40=\"CP-7\",IF('Concrete Plant (CP-7)'!$I$13>0,'Concrete Plant (CP-7)'!$I$13,AJ40*R40),IF(C40=\"CP-8\",IF('Concrete Plant (CP-8)'!$I$13>0,'Concrete Plant (CP-8)'!$I$13,AJ40*R40),IF(C40=\"CP-9\",IF('Concrete Plant (CP-9)'!$I$13>0,'Concrete Plant (CP-9)'!$I$13,AJ40*R40),IF(C40=\"CP-10\",IF('Concrete Plant (CP-10)'!$I$13>0,'Concrete Plant (CP-10)'!$I$13,AJ40*R40))))))))))))","v":""},"","",{"$f":"IF(F40=\"\",\"\",IF(B40=\"no\",'Emission Factors'!$L$33,'Emission Factors'!$L$34))","v":""},{"$f":"IF(F40=\"\",\"\",IF(C40=\"CP-1\",IF('Concrete Plant (CP-1)'!$I$14>0,'Concrete Plant (CP-1)'!$I$14,AN40*R40),IF(C40=\"CP-2\",IF('Concrete Plant (CP-2)'!$I$14>0,'Concrete Plant (CP-2)'!$I$14,AN40*R40),IF(C40=\"CP-3\",IF('Concrete Plant (CP-3)'!$I$14>0,'Concrete Plant (CP-3)'!$I$14,AN40*R40),IF(C40=\"CP-4\",IF('Concrete Plant (CP-4)'!$I$14>0,'Concrete Plant (CP-4)'!$I$14,AN40*R40),IF(C40=\"CP-5\",IF('Concrete Plant (CP-5)'!$I$14>0,'Concrete Plant (CP-5)'!$I$14,AN40*R40),IF(C40=\"CP-6\",IF('Concrete Plant (CP-6)'!$I$14>0,'Concrete Plant (CP-6)'!$I$14,AN40*R40),IF(C40=\"CP-7\",IF('Concrete Plant (CP-7)'!$I$14>0,'Concrete Plant (CP-7)'!$I$14,AN40*R40),IF(C40=\"CP-8\",IF('Concrete Plant (CP-8)'!$I$14>0,'Concrete Plant (CP-8)'!$I$14,AN40*R40),IF(C40=\"CP-9\",IF('Concrete Plant (CP-9)'!$I$14>0,'Concrete Plant (CP-9)'!$I$14,AN40*R40),IF(C40=\"CP-10\",IF('Concrete Plant (CP-10)'!$I$14>0,'Concrete Plant (CP-10)'!$I$14,AN40*R40))))))))))))","v":""},"","",{"$f":"IF(F40=\"\",\"\",IF(B40=\"no\",'Emission Factors'!$N$33,'Emission Factors'!$N$34))","v":""},{"$f":"IF(F40=\"\",\"\",IF(C40=\"CP-1\",IF('Concrete Plant (CP-1)'!$I$15>0,'Concrete Plant (CP-1)'!$I$15,AR40*R40),IF(C40=\"CP-2\",IF('Concrete Plant (CP-2)'!$I$15>0,'Concrete Plant (CP-2)'!$I$15,AR40*R40),IF(C40=\"CP-3\",IF('Concrete Plant (CP-3)'!$I$15>0,'Concrete Plant (CP-3)'!$I$15,AR40*R40),IF(C40=\"CP-4\",IF('Concrete Plant (CP-4)'!$I$15>0,'Concrete Plant (CP-4)'!$I$15,AR40*R40),IF(C40=\"CP-5\",IF('Concrete Plant (CP-5)'!$I$15>0,'Concrete Plant (CP-5)'!$I$15,AR40*R40),IF(C40=\"CP-6\",IF('Concrete Plant (CP-6)'!$I$15>0,'Concrete Plant (CP-6)'!$I$15,AR40*R40),IF(C40=\"CP-7\",IF('Concrete Plant (CP-7)'!$I$15>0,'Concrete Plant (CP-7)'!$I$15,AR40*R40),IF(C40=\"CP-8\",IF('Concrete Plant (CP-8)'!$I$15>0,'Concrete Plant (CP-8)'!$I$15,AR40*R40),IF(C40=\"CP-9\",IF('Concrete Plant (CP-9)'!$I$15>0,'Concrete Plant (CP-9)'!$I$15,AR40*R40),IF(C40=\"CP-10\",IF('Concrete Plant (CP-10)'!$I$15>0,'Concrete Plant (CP-10)'!$I$15,AR40*R40))))))))))))","v":""},"","",{"$f":"IF(F40=\"\",\"\",IF(B40=\"no\",'Emission Factors'!$P$33,'Emission Factors'!$P$34))","v":""},"","","",{"$f":"IF(F40=\"\",\"\",IF(B40=\"no\",'Emission Factors'!$R$33,'Emission Factors'!$R$34))","v":""},"","",""]
[null,"no",null,null,null,null,null,null,null,null,0.5,null,null,null,null,null,null,"",null,"",null,0,"",{"$f":"IF(F41=\"\",\"\",IF(B41=\"no\",'Emission Factors'!$D$33,'Emission Factors'!$D$34))","v":""},"","","",{"$f":"IF(F41=\"\",\"\",IF(B41=\"no\",'Emission Factors'!$F$33,'Emission Factors'!$F$34))","v":""},"","","",{"$f":"IF(F41=\"\",\"\",IF(B41=\"no\",'Emission Factors'!$H$33,'Emission Factors'!$H$34))","v":""},{"$f":"IF(F41=\"\",\"\",IF(C41=\"CP-1\",IF('Concrete Plant (CP-1)'!$I$12>0,'Concrete Plant (CP-1)'!$I$12,AF41*R41*K41),IF(C41=\"CP-2\",IF('Concrete Plant (CP-2)'!$I$12>0,'Concrete Plant (CP-2)'!$I$12,AF41*R41*K41),IF(C41=\"CP-3\",IF('Concrete Plant (CP-3)'!$I$12>0,'Concrete Plant (CP-3)'!$I$12,AF41*R41*K41),IF(C41=\"CP-4\",IF('Concrete Plant (CP-4)'!$I$12>0,'Concrete Plant (CP-4)'!$I$12,AF41*R41*K41),IF(C41=\"CP-5\",IF('Concrete Plant (CP-5)'!$I$12>0,'Concrete Plant (CP-5)'!$I$12,AF41*R41*K41),IF(C41=\"CP-6\",IF('Concrete Plant (CP-6)'!$I$12>0,'Concrete Plant (CP-6)'!$I$12,AF41*R41*K41),IF(C41=\"CP-7\",IF('Concrete Plant (CP-7)'!$I$12>0,'Concrete Plant (CP-7)'!$I$12,AF41*R41*K41),IF(C41=\"CP-8\",IF('Concrete Plant (CP-8)'!$I$12>0,'Concrete Plant (CP-8)'!$I$12,AF41*R41*K41),IF(C41=\"CP-9\",IF('Concrete Plant (CP-9)'!$I$12>0,'Concrete Plant (CP-9)'!$I$12,AF41*R41*K41),IF(C41=\"CP-10\",IF('Concrete Plant (CP-10)'!$I$12>0,'Concrete Plant (CP-10)'!$I$12,AF41*R41*K41))))))))))))","v":""},"","",{"$f":"IF(F41=\"\",\"\",IF(B41=\"no\",'Emission Factors'!$J$33,'Emission Factors'!$J$34))","v":""},{"$f":"IF(F41=\"\",\"\",IF(C41=\"CP-1\",IF('Concrete Plant (CP-1)'!$I$13>0,'Concrete Plant (CP-1)'!$I$13,AJ41*R41),IF(C41=\"CP-2\",IF('Concrete Plant (CP-2)'!$I$13>0,'Concrete Plant (CP-2)'!$I$13,AJ41*R41),IF(C41=\"CP-3\",IF('Concrete Plant (CP-3)'!$I$13>0,'Concrete Plant (CP-3)'!$I$13,AJ41*R41),IF(C41=\"CP-4\",IF('Concrete Plant (CP-4)'!$I$13>0,'Concrete Plant (CP-4)'!$I$13,AJ41*R41),IF(C41=\"CP-5\",IF('Concrete Plant (CP-5)'!$I$13>0,'Concrete Plant (CP-5)'!$I$13,AJ41*R41),IF(C41=\"CP-6\",IF('Concrete Plant (CP-6)'!$I$13>0,'Concrete Plant (CP-6)'!$I$13,AJ41*R41),IF(C41=\"CP-7\",IF('Concrete Plant (CP-7)'!$I$13>0,'Concrete Plant (CP-7)'!$I$13,AJ41*R41),IF(C41=\"CP-8\",IF('Concrete Plant (CP-8)'!$I$13>0,'Concrete Plant (CP-8)'!$I$13,AJ41*R41),IF(C41=\"CP-9\",IF('Concrete Plant (CP-9)'!$I$13>0,'Concrete Plant (CP-9)'!$I$13,AJ41*R41),IF(C41=\"CP-10\",IF('Concrete Plant (CP-10)'!$I$13>0,'Concrete Plant (CP-10)'!$I$13,AJ41*R41))))))))))))","v":""},"","",{"$f":"IF(F41=\"\",\"\",IF(B41=\"no\",'Emission Factors'!$L$33,'Emission Factors'!$L$34))","v":""},{"$f":"IF(F41=\"\",\"\",IF(C41=\"CP-1\",IF('Concrete Plant (CP-1)'!$I$14>0,'Concrete Plant (CP-1)'!$I$14,AN41*R41),IF(C41=\"CP-2\",IF('Concrete Plant (CP-2)'!$I$14>0,'Concrete Plant (CP-2)'!$I$14,AN41*R41),IF(C41=\"CP-3\",IF('Concrete Plant (CP-3)'!$I$14>0,'Concrete Plant (CP-3)'!$I$14,AN41*R41),IF(C41=\"CP-4\",IF('Concrete Plant (CP-4)'!$I$14>0,'Concrete Plant (CP-4)'!$I$14,AN41*R41),IF(C41=\"CP-5\",IF('Concrete Plant (CP-5)'!$I$14>0,'Concrete Plant (CP-5)'!$I$14,AN41*R41),IF(C41=\"CP-6\",IF('Concrete Plant (CP-6)'!$I$14>0,'Concrete Plant (CP-6)'!$I$14,AN41*R41),IF(C41=\"CP-7\",IF('Concrete Plant (CP-7)'!$I$14>0,'Concrete Plant (CP-7)'!$I$14,AN41*R41),IF(C41=\"CP-8\",IF('Concrete Plant (CP-8)'!$I$14>0,'Concrete Plant (CP-8)'!$I$14,AN41*R41),IF(C41=\"CP-9\",IF('Concrete Plant (CP-9)'!$I$14>0,'Concrete Plant (CP-9)'!$I$14,AN41*R41),IF(C41=\"CP-10\",IF('Concrete Plant (CP-10)'!$I$14>0,'Concrete Plant (CP-10)'!$I$14,AN41*R41))))))))))))","v":""},"","",{"$f":"IF(F41=\"\",\"\",IF(B41=\"no\",'Emission Factors'!$N$33,'Emission Factors'!$N$34))","v":""},{"$f":"IF(F41=\"\",\"\",IF(C41=\"CP-1\",IF('Concrete Plant (CP-1)'!$I$15>0,'Concrete Plant (CP-1)'!$I$15,AR41*R41),IF(C41=\"CP-2\",IF('Concrete Plant (CP-2)'!$I$15>0,'Concrete Plant (CP-2)'!$I$15,AR41*R41),IF(C41=\"CP-3\",IF('Concrete Plant (CP-3)'!$I$15>0,'Concrete Plant (CP-3)'!$I$15,AR41*R41),IF(C41=\"CP-4\",IF('Concrete Plant (CP-4)'!$I$15>0,'Concrete Plant (CP-4)'!$I$15,AR41*R41),IF(C41=\"CP-5\",IF('Concrete Plant (CP-5)'!$I$15>0,'Concrete Plant (CP-5)'!$I$15,AR41*R41),IF(C41=\"CP-6\",IF('Concrete Plant (CP-6)'!$I$15>0,'Concrete Plant (CP-6)'!$I$15,AR41*R41),IF(C41=\"CP-7\",IF('Concrete Plant (CP-7)'!$I$15>0,'Concrete Plant (CP-7)'!$I$15,AR41*R41),IF(C41=\"CP-8\",IF('Concrete Plant (CP-8)'!$I$15>0,'Concrete Plant (CP-8)'!$I$15,AR41*R41),IF(C41=\"CP-9\",IF('Concrete Plant (CP-9)'!$I$15>0,'Concrete Plant (CP-9)'!$I$15,AR41*R41),IF(C41=\"CP-10\",IF('Concrete Plant (CP-10)'!$I$15>0,'Concrete Plant (CP-10)'!$I$15,AR41*R41))))))))))))","v":""},"","",{"$f":"IF(F41=\"\",\"\",IF(B41=\"no\",'Emission Factors'!$P$33,'Emission Factors'!$P$34))","v":""},"","","",{"$f":"IF(F41=\"\",\"\",IF(B41=\"no\",'Emission Factors'!$R$33,'Emission Factors'!$R$34))","v":""},"","",""]
[null,"no",null,null,null,null,null,null,null,null,0.5,null,null,null,null,null,null,"",null,"",null,0,"",{"$f":"IF(F42=\"\",\"\",IF(B42=\"no\",'Emission Factors'!$D$33,'Emission Factors'!$D$34))","v":""},"","","",{"$f":"IF(F42=\"\",\"\",IF(B42=\"no\",'Emission Factors'!$F$33,'Emission Factors'!$F$34))","v":""},"","","",{"$f":"IF(F42=\"\",\"\",IF(B42=\"no\",'Emission Factors'!$H$33,'Emission Factors'!$H$34))","v":""},{"$f":"IF(F42=\"\",\"\",IF(C42=\"CP-1\",IF('Concrete Plant (CP-1)'!$I$12>0,'Concrete Plant (CP-1)'!$I$12,AF42*R42*K42),IF(C42=\"CP-2\",IF('Concrete Plant (CP-2)'!$I$12>0,'Concrete Plant (CP-2)'!$I$12,AF42*R42*K42),IF(C42=\"CP-3\",IF('Concrete Plant (CP-3)'!$I$12>0,'Concrete Plant (CP-3)'!$I$12,AF42*R42*K42),IF(C42=\"CP-4\",IF('Concrete Plant (CP-4)'!$I$12>0,'Concrete Plant (CP-4)'!$I$12,AF42*R42*K42),IF(C42=\"CP-5\",IF('Concrete Plant (CP-5)'!$I$12>0,'Concrete Plant (CP-5)'!$I$12,AF42*R42*K42),IF(C42=\"CP-6\",IF('Concrete Plant (CP-6)'!$I$12>0,'Concrete Plant (CP-6)'!$I$12,AF42*R42*K42),IF(C42=\"CP-7\",IF('Concrete Plant (CP-7)'!$I$12>0,'Concrete Plant (CP-7)'!$I$12,AF42*R42*K42),IF(C42=\"CP-8\",IF('Concrete Plant (CP-8)'!$I$12>0,'Concrete Plant (CP-8)'!$I$12,AF42*R42*K42),IF(C42=\"CP-9\",IF('Concrete Plant (CP-9)'!$I$12>0,'Concrete Plant (CP-9)'!$I$12,AF42*R42*K42),IF(C42=\"CP-10\",IF('Concrete Plant (CP-10)'!$I$12>0,'Concrete Plant (CP-10)'!$I$12,AF42*R42*K42))))))))))))","v":""},"","",{"$f":"IF(F42=\"\",\"\",IF(B42=\"no\",'Emission Factors'!$J$33,'Emission Factors'!$J$34))","v":""},{"$f":"IF(F42=\"\",\"\",IF(C42=\"CP-1\",IF('Concrete Plant (CP-1)'!$I$13>0,'Concrete Plant (CP-1)'!$I$13,AJ42*R42),IF(C42=\"CP-2\",IF('Concrete Plant (CP-2)'!$I$13>0,'Concrete Plant (CP-2)'!$I$13,AJ42*R42),IF(C42=\"CP-3\",IF('Concrete Plant (CP-3)'!$I$13>0,'Concrete Plant (CP-3)'!$I$13,AJ42*R42),IF(C42=\"CP-4\",IF('Concrete Plant (CP-4)'!$I$13>0,'Concrete Plant (CP-4)'!$I$13,AJ42*R42),IF(C42=\"CP-5\",IF('Concrete Plant (CP-5)'!$I$13>0,'Concrete Plant (CP-5)'!$I$13,AJ42*R42),IF(C42=\"CP-6\",IF('Concrete Plant (CP-6)'!$I$13>0,'Concrete Plant (CP-6)'!$I$13,AJ42*R42),IF(C42=\"CP-7\",IF('Concrete Plant (CP-7)'!$I$13>0,'Concrete Plant (CP-7)'!$I$13,AJ42*R42),IF(C42=\"CP-8\",IF('Concrete Plant (CP-8)'!$I$13>0,'Concrete Plant (CP-8)'!$I$13,AJ42*R42),IF(C42=\"CP-9\",IF('Concrete Plant (CP-9)'!$I$13>0,'Concrete Plant (CP-9)'!$I$13,AJ42*R42),IF(C42=\"CP-10\",IF('Concrete Plant (CP-10)'!$I$13>0,'Concrete Plant (CP-10)'!$I$13,AJ42*R42))))))))))))","v":""},"","",{"$f":"IF(F42=\"\",\"\",IF(B42=\"no\",'Emission Factors'!$L$33,'Emission Factors'!$L$34))","v":""},{"$f":"IF(F42=\"\",\"\",IF(C42=\"CP-1\",IF('Concrete Plant (CP-1)'!$I$14>0,'Concrete Plant (CP-1)'!$I$14,AN42*R42),IF(C42=\"CP-2\",IF('Concrete Plant (CP-2)'!$I$14>0,'Concrete Plant (CP-2)'!$I$14,AN42*R42),IF(C42=\"CP-3\",IF('Concrete Plant (CP-3)'!$I$14>0,'Concrete Plant (CP-3)'!$I$14,AN42*R42),IF(C42=\"CP-4\",IF('Concrete Plant (CP-4)'!$I$14>0,'Concrete Plant (CP-4)'!$I$14,AN42*R42),IF(C42=\"CP-5\",IF('Concrete Plant (CP-5)'!$I$14>0,'Concrete Plant (CP-5)'!$I$14,AN42*R42),IF(C42=\"CP-6\",IF('Concrete Plant (CP-6)'!$I$14>0,'Concrete Plant (CP-6)'!$I$14,AN42*R42),IF(C42=\"CP-7\",IF('Concrete Plant (CP-7)'!$I$14>0,'Concrete Plant (CP-7)'!$I$14,AN42*R42),IF(C42=\"CP-8\",IF('Concrete Plant (CP-8)'!$I$14>0,'Concrete Plant (CP-8)'!$I$14,AN42*R42),IF(C42=\"CP-9\",IF('Concrete Plant (CP-9)'!$I$14>0,'Concrete Plant (CP-9)'!$I$14,AN42*R42),IF(C42=\"CP-10\",IF('Concrete Plant (CP-10)'!$I$14>0,'Concrete Plant (CP-10)'!$I$14,AN42*R42))))))))))))","v":""},"","",{"$f":"IF(F42=\"\",\"\",IF(B42=\"no\",'Emission Factors'!$N$33,'Emission Factors'!$N$34))","v":""},{"$f":"IF(F42=\"\",\"\",IF(C42=\"CP-1\",IF('Concrete Plant (CP-1)'!$I$15>0,'Concrete Plant (CP-1)'!$I$15,AR42*R42),IF(C42=\"CP-2\",IF('Concrete Plant (CP-2)'!$I$15>0,'Concrete Plant (CP-2)'!$I$15,AR42*R42),IF(C42=\"CP-3\",IF('Concrete Plant (CP-3)'!$I$15>0,'Concrete Plant (CP-3)'!$I$15,AR42*R42),IF(C42=\"CP-4\",IF('Concrete Plant (CP-4)'!$I$15>0,'Concrete Plant (CP-4)'!$I$15,AR42*R42),IF(C42=\"CP-5\",IF('Concrete Plant (CP-5)'!$I$15>0,'Concrete Plant (CP-5)'!$I$15,AR42*R42),IF(C42=\"CP-6\",IF('Concrete Plant (CP-6)'!$I$15>0,'Concrete Plant (CP-6)'!$I$15,AR42*R42),IF(C42=\"CP-7\",IF('Concrete Plant (CP-7)'!$I$15>0,'Concrete Plant (CP-7)'!$I$15,AR42*R42),IF(C42=\"CP-8\",IF('Concrete Plant (CP-8)'!$I$15>0,'Concrete Plant (CP-8)'!$I$15,AR42*R42),IF(C42=\"CP-9\",IF('Concrete Plant (CP-9)'!$I$15>0,'Concrete Plant (CP-9)'!$I$15,AR42*R42),IF(C42=\"CP-10\",IF('Concrete Plant (CP-10)'!$I$15>0,'Concrete Plant (CP-10)'!$I$15,AR42*R42))))))))))))","v":""},"","",{"$f":"IF(F42=\"\",\"\",IF(B42=\"no\",'Emission Factors'!$P$33,'Emission Factors'!$P$34))","v":""},"","","",{"$f":"IF(F42=\"\",\"\",IF(B42=\"no\",'Emission Factors'!$R$33,'Emission Factors'!$R$34))","v":""},"","",""]
[null,"no",null,null,null,null,null,null,null,null,0.5,null,null,null,null,null,null,"",null,"",null,0,"",{"$f":"IF(F43=\"\",\"\",IF(B43=\"no\",'Emission Factors'!$D$33,'Emission Factors'!$D$34))","v":""},"","","",{"$f":"IF(F43=\"\",\"\",IF(B43=\"no\",'Emission Factors'!$F$33,'Emission Factors'!$F$34))","v":""},"","","",{"$f":"IF(F43=\"\",\"\",IF(B43=\"no\",'Emission Factors'!$H$33,'Emission Factors'!$H$34))","v":""},{"$f":"IF(F43=\"\",\"\",IF(C43=\"CP-1\",IF('Concrete Plant (CP-1)'!$I$12>0,'Concrete Plant (CP-1)'!$I$12,AF43*R43*K43),IF(C43=\"CP-2\",IF('Concrete Plant (CP-2)'!$I$12>0,'Concrete Plant (CP-2)'!$I$12,AF43*R43*K43),IF(C43=\"CP-3\",IF('Concrete Plant (CP-3)'!$I$12>0,'Concrete Plant (CP-3)'!$I$12,AF43*R43*K43),IF(C43=\"CP-4\",IF('Concrete Plant (CP-4)'!$I$12>0,'Concrete Plant (CP-4)'!$I$12,AF43*R43*K43),IF(C43=\"CP-5\",IF('Concrete Plant (CP-5)'!$I$12>0,'Concrete Plant (CP-5)'!$I$12,AF43*R43*K43),IF(C43=\"CP-6\",IF('Concrete Plant (CP-6)'!$I$12>0,'Concrete Plant (CP-6)'!$I$12,AF43*R43*K43),IF(C43=\"CP-7\",IF('Concrete Plant (CP-7)'!$I$12>0,'Concrete Plant (CP-7)'!$I$12,AF43*R43*K43),IF(C43=\"CP-8\",IF('Concrete Plant (CP-8)'!$I$12>0,'Concrete Plant (CP-8)'!$I$12,AF43*R43*K43),IF(C43=\"CP-9\",IF('Concrete Plant (CP-9)'!$I$12>0,'Concrete Plant (CP-9)'!$I$12,AF43*R43*K43),IF(C43=\"CP-10\",IF('Concrete Plant (CP-10)'!$I$12>0,'Concrete Plant (CP-10)'!$I$12,AF43*R43*K43))))))))))))","v":""},"","",{"$f":"IF(F43=\"\",\"\",IF(B43=\"no\",'Emission Factors'!$J$33,'Emission Factors'!$J$34))","v":""},{"$f":"IF(F43=\"\",\"\",IF(C43=\"CP-1\",IF('Concrete Plant (CP-1)'!$I$13>0,'Concrete Plant (CP-1)'!$I$13,AJ43*R43),IF(C43=\"CP-2\",IF('Concrete Plant (CP-2)'!$I$13>0,'Concrete Plant (CP-2)'!$I$13,AJ43*R43),IF(C43=\"CP-3\",IF('Concrete Plant (CP-3)'!$I$13>0,'Concrete Plant (CP-3)'!$I$13,AJ43*R43),IF(C43=\"CP-4\",IF('Concrete Plant (CP-4)'!$I$13>0,'Concrete Plant (CP-4)'!$I$13,AJ43*R43),IF(C43=\"CP-5\",IF('Concrete Plant (CP-5)'!$I$13>0,'Concrete Plant (CP-5)'!$I$13,AJ43*R43),IF(C43=\"CP-6\",IF('Concrete Plant (CP-6)'!$I$13>0,'Concrete Plant (CP-6)'!$I$13,AJ43*R43),IF(C43=\"CP-7\",IF('Concrete Plant (CP-7)'!$I$13>0,'Concrete Plant (CP-7)'!$I$13,AJ43*R43),IF(C43=\"CP-8\",IF('Concrete Plant (CP-8)'!$I$13>0,'Concrete Plant (CP-8)'!$I$13,AJ43*R43),IF(C43=\"CP-9\",IF('Concrete Plant (CP-9)'!$I$13>0,'Concrete Plant (CP-9)'!$I$13,AJ43*R43),IF(C43=\"CP-10\",IF('Concrete Plant (CP-10)'!$I$13>0,'Concrete Plant (CP-10)'!$I$13,AJ43*R43))))))))))))","v":""},"","",{"$f":"IF(F43=\"\",\"\",IF(B43=\"no\",'Emission Factors'!$L$33,'Emission Factors'!$L$34))","v":""},{"$f":"IF(F43=\"\",\"\",IF(C43=\"CP-1\",IF('Concrete Plant (CP-1)'!$I$14>0,'Concrete Plant (CP-1)'!$I$14,AN43*R43),IF(C43=\"CP-2\",IF('Concrete Plant (CP-2)'!$I$14>0,'Concrete Plant (CP-2)'!$I$14,AN43*R43),IF(C43=\"CP-3\",IF('Concrete Plant (CP-3)'!$I$14>0,'Concrete Plant (CP-3)'!$I$14,AN43*R43),IF(C43=\"CP-4\",IF('Concrete Plant (CP-4)'!$I$14>0,'Concrete Plant (CP-4)'!$I$14,AN43*R43),IF(C43=\"CP-5\",IF('Concrete Plant (CP-5)'!$I$14>0,'Concrete Plant (CP-5)'!$I$14,AN43*R43),IF(C43=\"CP-6\",IF('Concrete Plant (CP-6)'!$I$14>0,'Concrete Plant (CP-6)'!$I$14,AN43*R43),IF(C43=\"CP-7\",IF('Concrete Plant (CP-7)'!$I$14>0,'Concrete Plant (CP-7)'!$I$14,AN43*R43),IF(C43=\"CP-8\",IF('Concrete Plant (CP-8)'!$I$14>0,'Concrete Plant (CP-8)'!$I$14,AN43*R43),IF(C43=\"CP-9\",IF('Concrete Plant (CP-9)'!$I$14>0,'Concrete Plant (CP-9)'!$I$14,AN43*R43),IF(C43=\"CP-10\",IF('Concrete Plant (CP-10)'!$I$14>0,'Concrete Plant (CP-10)'!$I$14,AN43*R43))))))))))))","v":""},"","",{"$f":"IF(F43=\"\",\"\",IF(B43=\"no\",'Emission Factors'!$N$33,'Emission Factors'!$N$34))","v":""},{"$f":"IF(F43=\"\",\"\",IF(C43=\"CP-1\",IF('Concrete Plant (CP-1)'!$I$15>0,'Concrete Plant (CP-1)'!$I$15,AR43*R43),IF(C43=\"CP-2\",IF('Concrete Plant (CP-2)'!$I$15>0,'Concrete Plant (CP-2)'!$I$15,AR43*R43),IF(C43=\"CP-3\",IF('Concrete Plant (CP-3)'!$I$15>0,'Concrete Plant (CP-3)'!$I$15,AR43*R43),IF(C43=\"CP-4\",IF('Concrete Plant (CP-4)'!$I$15>0,'Concrete Plant (CP-4)'!$I$15,AR43*R43),IF(C43=\"CP-5\",IF('Concrete Plant (CP-5)'!$I$15>0,'Concrete Plant (CP-5)'!$I$15,AR43*R43),IF(C43=\"CP-6\",IF('Concrete Plant (CP-6)'!$I$15>0,'Concrete Plant (CP-6)'!$I$15,AR43*R43),IF(C43=\"CP-7\",IF('Concrete Plant (CP-7)'!$I$15>0,'Concrete Plant (CP-7)'!$I$15,AR43*R43),IF(C43=\"CP-8\",IF('Concrete Plant (CP-8)'!$I$15>0,'Concrete Plant (CP-8)'!$I$15,AR43*R43),IF(C43=\"CP-9\",IF('Concrete Plant (CP-9)'!$I$15>0,'Concrete Plant (CP-9)'!$I$15,AR43*R43),IF(C43=\"CP-10\",IF('Concrete Plant (CP-10)'!$I$15>0,'Concrete Plant (CP-10)'!$I$15,AR43*R43))))))))))))","v":""},"","",{"$f":"IF(F43=\"\",\"\",IF(B43=\"no\",'Emission Factors'!$P$33,'Emission Factors'!$P$34))","v":""},"","","",{"$f":"IF(F43=\"\",\"\",IF(B43=\"no\",'Emission Factors'!$R$33,'Emission Factors'!$R$34))","v":""},"","",""]
[null,"no",null,null,null,null,null,null,null,null,0.5,null,null,null,null,null,null,"",null,"",null,0,"",{"$f":"IF(F44=\"\",\"\",IF(B44=\"no\",'Emission Factors'!$D$33,'Emission Factors'!$D$34))","v":""},"","","",{"$f":"IF(F44=\"\",\"\",IF(B44=\"no\",'Emission Factors'!$F$33,'Emission Factors'!$F$34))","v":""},"","","",{"$f":"IF(F44=\"\",\"\",IF(B44=\"no\",'Emission Factors'!$H$33,'Emission Factors'!$H$34))","v":""},{"$f":"IF(F44=\"\",\"\",IF(C44=\"CP-1\",IF('Concrete Plant (CP-1)'!$I$12>0,'Concrete Plant (CP-1)'!$I$12,AF44*R44*K44),IF(C44=\"CP-2\",IF('Concrete Plant (CP-2)'!$I$12>0,'Concrete Plant (CP-2)'!$I$12,AF44*R44*K44),IF(C44=\"CP-3\",IF('Concrete Plant (CP-3)'!$I$12>0,'Concrete Plant (CP-3)'!$I$12,AF44*R44*K44),IF(C44=\"CP-4\",IF('Concrete Plant (CP-4)'!$I$12>0,'Concrete Plant (CP-4)'!$I$12,AF44*R44*K44),IF(C44=\"CP-5\",IF('Concrete Plant (CP-5)'!$I$12>0,'Concrete Plant (CP-5)'!$I$12,AF44*R44*K44),IF(C44=\"CP-6\",IF('Concrete Plant (CP-6)'!$I$12>0,'Concrete Plant (CP-6)'!$I$12,AF44*R44*K44),IF(C44=\"CP-7\",IF('Concrete Plant (CP-7)'!$I$12>0,'Concrete Plant (CP-7)'!$I$12,AF44*R44*K44),IF(C44=\"CP-8\",IF('Concrete Plant (CP-8)'!$I$12>0,'Concrete Plant (CP-8)'!$I$12,AF44*R44*K44),IF(C44=\"CP-9\",IF('Concrete Plant (CP-9)'!$I$12>0,'Concrete Plant (CP-9)'!$I$12,AF44*R44*K44),IF(C44=\"CP-10\",IF('Concrete Plant (CP-10)'!$I$12>0,'Concrete Plant (CP-10)'!$I$12,AF44*R44*K44))))))))))))","v":""},"","",{"$f":"IF(F44=\"\",\"\",IF(B44=\"no\",'Emission Factors'!$J$33,'Emission Factors'!$J$34))","v":""},{"$f":"IF(F44=\"\",\"\",IF(C44=\"CP-1\",IF('Concrete Plant (CP-1)'!$I$13>0,'Concrete Plant (CP-1)'!$I$13,AJ44*R44),IF(C44=\"CP-2\",IF('Concrete Plant (CP-2)'!$I$13>0,'Concrete Plant (CP-2)'!$I$13,AJ44*R44),IF(C44=\"CP-3\",IF('Concrete Plant (CP-3)'!$I$13>0,'Concrete Plant (CP-3)'!$I$13,AJ44*R44),IF(C44=\"CP-4\",IF('Concrete Plant (CP-4)'!$I$13>0,'Concrete Plant (CP-4)'!$I$13,AJ44*R44),IF(C44=\"CP-5\",IF('Concrete Plant (CP-5)'!$I$13>0,'Concrete Plant (CP-5)'!$I$13,AJ44*R44),IF(C44=\"CP-6\",IF('Concrete Plant (CP-6)'!$I$13>0,'Concrete Plant (CP-6)'!$I$13,AJ44*R44),IF(C44=\"CP-7\",IF('Concrete Plant (CP-7)'!$I$13>0,'Concrete Plant (CP-7)'!$I$13,AJ44*R44),IF(C44=\"CP-8\",IF('Concrete Plant (CP-8)'!$I$13>0,'Concrete Plant (CP-8)'!$I$13,AJ44*R44),IF(C44=\"CP-9\",IF('Concrete Plant (CP-9)'!$I$13>0,'Concrete Plant (CP-9)'!$I$13,AJ44*R44),IF(C44=\"CP-10\",IF('Concrete Plant (CP-10)'!$I$13>0,'Concrete Plant (CP-10)'!$I$13,AJ44*R44))))))))))))","v":""},"","",{"$f":"IF(F44=\"\",\"\",IF(B44=\"no\",'Emission Factors'!$L$33,'Emission Factors'!$L$34))","v":""},{"$f":"IF(F44=\"\",\"\",IF(C44=\"CP-1\",IF('Concrete Plant (CP-1)'!$I$14>0,'Concrete Plant (CP-1)'!$I$14,AN44*R44),IF(C44=\"CP-2\",IF('Concrete Plant (CP-2)'!$I$14>0,'Concrete Plant (CP-2)'!$I$14,AN44*R44),IF(C44=\"CP-3\",IF('Concrete Plant (CP-3)'!$I$14>0,'Concrete Plant (CP-3)'!$I$14,AN44*R44),IF(C44=\"CP-4\",IF('Concrete Plant (CP-4)'!$I$14>0,'Concrete Plant (CP-4)'!$I$14,AN44*R44),IF(C44=\"CP-5\",IF('Concrete Plant (CP-5)'!$I$14>0,'Concrete Plant (CP-5)'!$I$14,AN44*R44),IF(C44=\"CP-6\",IF('Concrete Plant (CP-6)'!$I$14>0,'Concrete Plant (CP-6)'!$I$14,AN44*R44),IF(C44=\"CP-7\",IF('Concrete Plant (CP-7)'!$I$14>0,'Concrete Plant (CP-7)'!$I$14,AN44*R44),IF(C44=\"CP-8\",IF('Concrete Plant (CP-8)'!$I$14>0,'Concrete Plant (CP-8)'!$I$14,AN44*R44),IF(C44=\"CP-9\",IF('Concrete Plant (CP-9)'!$I$14>0,'Concrete Plant (CP-9)'!$I$14,AN44*R44),IF(C44=\"CP-10\",IF('Concrete Plant (CP-10)'!$I$14>0,'Concrete Plant (CP-10)'!$I$14,AN44*R44))))))))))))","v":""},"","",{"$f":"IF(F44=\"\",\"\",IF(B44=\"no\",'Emission Factors'!$N$33,'Emission Factors'!$N$34))","v":""},{"$f":"IF(F44=\"\",\"\",IF(C44=\"CP-1\",IF('Concrete Plant (CP-1)'!$I$15>0,'Concrete Plant (CP-1)'!$I$15,AR44*R44),IF(C44=\"CP-2\",IF('Concrete Plant (CP-2)'!$I$15>0,'Concrete Plant (CP-2)'!$I$15,AR44*R44),IF(C44=\"CP-3\",IF('Concrete Plant (CP-3)'!$I$15>0,'Concrete Plant (CP-3)'!$I$15,AR44*R44),IF(C44=\"CP-4\",IF('Concrete Plant (CP-4)'!$I$15>0,'Concrete Plant (CP-4)'!$I$15,AR44*R44),IF(C44=\"CP-5\",IF('Concrete Plant (CP-5)'!$I$15>0,'Concrete Plant (CP-5)'!$I$15,AR44*R44),IF(C44=\"CP-6\",IF('Concrete Plant (CP-6)'!$I$15>0,'Concrete Plant (CP-6)'!$I$15,AR44*R44),IF(C44=\"CP-7\",IF('Concrete Plant (CP-7)'!$I$15>0,'Concrete Plant (CP-7)'!$I$15,AR44*R44),IF(C44=\"CP-8\",IF('Concrete Plant (CP-8)'!$I$15>0,'Concrete Plant (CP-8)'!$I$15,AR44*R44),IF(C44=\"CP-9\",IF('Concrete Plant (CP-9)'!$I$15>0,'Concrete Plant (CP-9)'!$I$15,AR44*R44),IF(C44=\"CP-10\",IF('Concrete Plant (CP-10)'!$I$15>0,'Concrete Plant (CP-10)'!$I$15,AR44*R44))))))))))))","v":""},"","",{"$f":"IF(F44=\"\",\"\",IF(B44=\"no\",'Emission Factors'!$P$33,'Emission Factors'!$P$34))","v":""},"","","",{"$f":"IF(F44=\"\",\"\",IF(B44=\"no\",'Emission Factors'!$R$33,'Emission Factors'!$R$34))","v":""},"","",""]
[null,{"$f":"IF(F45=\"Diesel Generator> 600 bhp\",\"yes\",\"no\")","v":"no"},null,null,null,null,null,null,null,null,0.5,null,null,null,null,null,null,{"$f":"IF(Q45=\"\",\"\",Q45*0.14)","v":""},null,{"$f":"IF(S45=\"\",\"\",S45*0.14)","v":""},null,0,"",{"$f":"IF(F45=\"\",\"\",IF(B45=\"no\",'Emission Factors'!$D$33,'Emission Factors'!$D$34))","v":""},"","","",{"$f":"IF(F45=\"\",\"\",IF(B45=\"no\",'Emission Factors'!$F$33,'Emission Factors'!$F$34))","v":""},"","","",{"$f":"IF(F45=\"\",\"\",IF(B45=\"no\",'Emission Factors'!$H$33,'Emission Factors'!$H$34))","v":""},{"$f":"IF(F45=\"\",\"\",IF(C45=\"CP-1\",IF('Concrete Plant (CP-1)'!$I$12>0,'Concrete Plant (CP-1)'!$I$12,AF45*R45*K45),IF(C45=\"CP-2\",IF('Concrete Plant (CP-2)'!$I$12>0,'Concrete Plant (CP-2)'!$I$12,AF45*R45*K45),IF(C45=\"CP-3\",IF('Concrete Plant (CP-3)'!$I$12>0,'Concrete Plant (CP-3)'!$I$12,AF45*R45*K45),IF(C45=\"CP-4\",IF('Concrete Plant (CP-4)'!$I$12>0,'Concrete Plant (CP-4)'!$I$12,AF45*R45*K45),IF(C45=\"CP-5\",IF('Concrete Plant (CP-5)'!$I$12>0,'Concrete Plant (CP-5)'!$I$12,AF45*R45*K45),IF(C45=\"CP-6\",IF('Concrete Plant (CP-6)'!$I$12>0,'Concrete Plant (CP-6)'!$I$12,AF45*R45*K45),IF(C45=\"CP-7\",IF('Concrete Plant (CP-7)'!$I$12>0,'Concrete Plant (CP-7)'!$I$12,AF45*R45*K45),IF(C45=\"CP-8\",IF('Concrete Plant (CP-8)'!$I$12>0,'Concrete Plant (CP-8)'!$I$12,AF45*R45*K45),IF(C45=\"CP-9\",IF('Concrete Plant (CP-9)'!$I$12>0,'Concrete Plant (CP-9)'!$I$12,AF45*R45*K45),IF(C45=\"CP-10\",IF('Concrete Plant (CP-10)'!$I$12>0,'Concrete Plant (CP-10)'!$I$12,AF45*R45*K45))))))))))))","v":""},"","",{"$f":"IF(F45=\"\",\"\",IF(B45=\"no\",'Emission Factors'!$J$33,'Emission Factors'!$J$34))","v":""},{"$f":"IF(F45=\"\",\"\",IF(C45=\"CP-1\",IF('Concrete Plant (CP-1)'!$I$13>0,'Concrete Plant (CP-1)'!$I$13,AJ45*R45),IF(C45=\"CP-2\",IF('Concrete Plant (CP-2)'!$I$13>0,'Concrete Plant (CP-2)'!$I$13,AJ45*R45),IF(C45=\"CP-3\",IF('Concrete Plant (CP-3)'!$I$13>0,'Concrete Plant (CP-3)'!$I$13,AJ45*R45),IF(C45=\"CP-4\",IF('Concrete Plant (CP-4)'!$I$13>0,'Concrete Plant (CP-4)'!$I$13,AJ45*R45),IF(C45=\"CP-5\",IF('Concrete Plant (CP-5)'!$I$13>0,'Concrete Plant (CP-5)'!$I$13,AJ45*R45),IF(C45=\"CP-6\",IF('Concrete Plant (CP-6)'!$I$13>0,'Concrete Plant (CP-6)'!$I$13,AJ45*R45),IF(C45=\"CP-7\",IF('Concrete Plant (CP-7)'!$I$13>0,'Concrete Plant (CP-7)'!$I$13,AJ45*R45),IF(C45=\"CP-8\",IF('Concrete Plant (CP-8)'!$I$13>0,'Concrete Plant (CP-8)'!$I$13,AJ45*R45),IF(C45=\"CP-9\",IF('Concrete Plant (CP-9)'!$I$13>0,'Concrete Plant (CP-9)'!$I$13,AJ45*R45),IF(C45=\"CP-10\",IF('Concrete Plant (CP-10)'!$I$13>0,'Concrete Plant (CP-10)'!$I$13,AJ45*R45))))))))))))","v":""},"","",{"$f":"IF(F45=\"\",\"\",IF(B45=\"no\",'Emission Factors'!$L$33,'Emission Factors'!$L$34))","v":""},{"$f":"IF(F45=\"\",\"\",IF(C45=\"CP-1\",IF('Concrete Plant (CP-1)'!$I$14>0,'Concrete Plant (CP-1)'!$I$14,AN45*R45),IF(C45=\"CP-2\",IF('Concrete Plant (CP-2)'!$I$14>0,'Concrete Plant (CP-2)'!$I$14,AN45*R45),IF(C45=\"CP-3\",IF('Concrete Plant (CP-3)'!$I$14>0,'Concrete Plant (CP-3)'!$I$14,AN45*R45),IF(C45=\"CP-4\",IF('Concrete Plant (CP-4)'!$I$14>0,'Concrete Plant (CP-4)'!$I$14,AN45*R45),IF(C45=\"CP-5\",IF('Concrete Plant (CP-5)'!$I$14>0,'Concrete Plant (CP-5)'!$I$14,AN45*R45),IF(C45=\"CP-6\",IF('Concrete Plant (CP-6)'!$I$14>0,'Concrete Plant (CP-6)'!$I$14,AN45*R45),IF(C45=\"CP-7\",IF('Concrete Plant (CP-7)'!$I$14>0,'Concrete Plant (CP-7)'!$I$14,AN45*R45),IF(C45=\"CP-8\",IF('Concrete Plant (CP-8)'!$I$14>0,'Concrete Plant (CP-8)'!$I$14,AN45*R45),IF(C45=\"CP-9\",IF('Concrete Plant (CP-9)'!$I$14>0,'Concrete Plant (CP-9)'!$I$14,AN45*R45),IF(C45=\"CP-10\",IF('Concrete Plant (CP-10)'!$I$14>0,'Concrete Plant (CP-10)'!$I$14,AN45*R45))))))))))))","v":""},"","",{"$f":"IF(F45=\"\",\"\",IF(B45=\"no\",'Emission Factors'!$N$33,'Emission Factors'!$N$34))","v":""},{"$f":"IF(F45=\"\",\"\",IF(C45=\"CP-1\",IF('Concrete Plant (CP-1)'!$I$15>0,'Concrete Plant (CP-1)'!$I$15,AR45*R45),IF(C45=\"CP-2\",IF('Concrete Plant (CP-2)'!$I$15>0,'Concrete Plant (CP-2)'!$I$15,AR45*R45),IF(C45=\"CP-3\",IF('Concrete Plant (CP-3)'!$I$15>0,'Concrete Plant (CP-3)'!$I$15,AR45*R45),IF(C45=\"CP-4\",IF('Concrete Plant (CP-4)'!$I$15>0,'Concrete Plant (CP-4)'!$I$15,AR45*R45),IF(C45=\"CP-5\",IF('Concrete Plant (CP-5)'!$I$15>0,'Concrete Plant (CP-5)'!$I$15,AR45*R45),IF(C45=\"CP-6\",IF('Concrete Plant (CP-6)'!$I$15>0,'Concrete Plant (CP-6)'!$I$15,AR45*R45),IF(C45=\"CP-7\",IF('Concrete Plant (CP-7)'!$I$15>0,'Concrete Plant (CP-7)'!$I$15,AR45*R45),IF(C45=\"CP-8\",IF('Concrete Plant (CP-8)'!$I$15>0,'Concrete Plant (CP-8)'!$I$15,AR45*R45),IF(C45=\"CP-9\",IF('Concrete Plant (CP-9)'!$I$15>0,'Concrete Plant (CP-9)'!$I$15,AR45*R45),IF(C45=\"CP-10\",IF('Concrete Plant (CP-10)'!$I$15>0,'Concrete Plant (CP-10)'!$I$15,AR45*R45))))))))))))","v":""},"","",{"$f":"IF(F45=\"\",\"\",IF(B45=\"no\",'Emission Factors'!$P$33,'Emission Factors'!$P$34))","v":""},"","","",{"$f":"IF(F45=\"\",\"\",IF(B45=\"no\",'Emission Factors'!$R$33,'Emission Factors'!$R$34))","v":""},"","",""]
[null,{"$f":"IF(F46=\"Diesel Generator> 600 bhp\",\"yes\",\"no\")","v":"no"},null,null,null,null,null,null,null,null,0.5,null,null,null,null,null,null,{"$f":"IF(Q46=\"\",\"\",Q46*0.14)","v":""},null,{"$f":"IF(S46=\"\",\"\",S46*0.14)","v":""},null,0,"",{"$f":"IF(F46=\"\",\"\",IF(B46=\"no\",'Emission Factors'!$D$33,'Emission Factors'!$D$34))","v":""},"","","",{"$f":"IF(F46=\"\",\"\",IF(B46=\"no\",'Emission Factors'!$F$33,'Emission Factors'!$F$34))","v":""},"","","",{"$f":"IF(F46=\"\",\"\",IF(B46=\"no\",'Emission Factors'!$H$33,'Emission Factors'!$H$34))","v":""},{"$f":"IF(F46=\"\",\"\",IF(C46=\"CP-1\",IF('Concrete Plant (CP-1)'!$I$12>0,'Concrete Plant (CP-1)'!$I$12,AF46*R46*K46),IF(C46=\"CP-2\",IF('Concrete Plant (CP-2)'!$I$12>0,'Concrete Plant (CP-2)'!$I$12,AF46*R46*K46),IF(C46=\"CP-3\",IF('Concrete Plant (CP-3)'!$I$12>0,'Concrete Plant (CP-3)'!$I$12,AF46*R46*K46),IF(C46=\"CP-4\",IF('Concrete Plant (CP-4)'!$I$12>0,'Concrete Plant (CP-4)'!$I$12,AF46*R46*K46),IF(C46=\"CP-5\",IF('Concrete Plant (CP-5)'!$I$12>0,'Concrete Plant (CP-5)'!$I$12,AF46*R46*K46),IF(C46=\"CP-6\",IF('Concrete Plant (CP-6)'!$I$12>0,'Concrete Plant (CP-6)'!$I$12,AF46*R46*K46),IF(C46=\"CP-7\",IF('Concrete Plant (CP-7)'!$I$12>0,'Concrete Plant (CP-7)'!$I$12,AF46*R46*K46),IF(C46=\"CP-8\",IF('Concrete Plant (CP-8)'!$I$12>0,'Concrete Plant (CP-8)'!$I$12,AF46*R46*K46),IF(C46=\"CP-9\",IF('Concrete Plant (CP-9)'!$I$12>0,'Concrete Plant (CP-9)'!$I$12,AF46*R46*K46),IF(C46=\"CP-10\",IF('Concrete Plant (CP-10)'!$I$12>0,'Concrete Plant (CP-10)'!$I$12,AF46*R46*K46))))))))))))","v":""},"","",{"$f":"IF(F46=\"\",\"\",IF(B46=\"no\",'Emission Factors'!$J$33,'Emission Factors'!$J$34))","v":""},{"$f":"IF(F46=\"\",\"\",IF(C46=\"CP-1\",IF('Concrete Plant (CP-1)'!$I$13>0,'Concrete Plant (CP-1)'!$I$13,AJ46*R46),IF(C46=\"CP-2\",IF('Concrete Plant (CP-2)'!$I$13>0,'Concrete Plant (CP-2)'!$I$13,AJ46*R46),IF(C46=\"CP-3\",IF('Concrete Plant (CP-3)'!$I$13>0,'Concrete Plant (CP-3)'!$I$13,AJ46*R46),IF(C46=\"CP-4\",IF('Concrete Plant (CP-4)'!$I$13>0,'Concrete Plant (CP-4)'!$I$13,AJ46*R46),IF(C46=\"CP-5\",IF('Concrete Plant (CP-5)'!$I$13>0,'Concrete Plant (CP-5)'!$I$13,AJ46*R46),IF(C46=\"CP-6\",IF('Concrete Plant (CP-6)'!$I$13>0,'Concrete Plant (CP-6)'!$I$13,AJ46*R46),IF(C46=\"CP-7\",IF('Concrete Plant (CP-7)'!$I$13>0,'Concrete Plant (CP-7)'!$I$13,AJ46*R46),IF(C46=\"CP-8\",IF('Concrete Plant (CP-8)'!$I$13>0,'Concrete Plant (CP-8)'!$I$13,AJ46*R46),IF(C46=\"CP-9\",IF('Concrete Plant (CP-9)'!$I$13>0,'Concrete Plant (CP-9)'!$I$13,AJ46*R46),IF(C46=\"CP-10\",IF('Concrete Plant (CP-10)'!$I$13>0,'Concrete Plant (CP-10)'!$I$13,AJ46*R46))))))))))))","v":""},"","",{"$f":"IF(F46=\"\",\"\",IF(B46=\"no\",'Emission Factors'!$L$33,'Emission Factors'!$L$34))","v":""},{"$f":"IF(F46=\"\",\"\",IF(C46=\"CP-1\",IF('Concrete Plant (CP-1)'!$I$14>0,'Concrete Plant (CP-1)'!$I$14,AN46*R46),IF(C46=\"CP-2\",IF('Concrete Plant (CP-2)'!$I$14>0,'Concrete Plant (CP-2)'!$I$14,AN46*R46),IF(C46=\"CP-3\",IF('Concrete Plant (CP-3)'!$I$14>0,'Concrete Plant (CP-3)'!$I$14,AN46*R46),IF(C46=\"CP-4\",IF('Concrete Plant (CP-4)'!$I$14>0,'Concrete Plant (CP-4)'!$I$14,AN46*R46),IF(C46=\"CP-5\",IF('Concrete Plant (CP-5)'!$I$14>0,'Concrete Plant (CP-5)'!$I$14,AN46*R46),IF(C46=\"CP-6\",IF('Concrete Plant (CP-6)'!$I$14>0,'Concrete Plant (CP-6)'!$I$14,AN46*R46),IF(C46=\"CP-7\",IF('Concrete Plant (CP-7)'!$I$14>0,'Concrete Plant (CP-7)'!$I$14,AN46*R46),IF(C46=\"CP-8\",IF('Concrete Plant (CP-8)'!$I$14>0,'Concrete Plant (CP-8)'!$I$14,AN46*R46),IF(C46=\"CP-9\",IF('Concrete Plant (CP-9)'!$I$14>0,'Concrete Plant (CP-9)'!$I$14,AN46*R46),IF(C46=\"CP-10\",IF('Concrete Plant (CP-10)'!$I$14>0,'Concrete Plant (CP-10)'!$I$14,AN46*R46))))))))))))","v":""},"","",{"$f":"IF(F46=\"\",\"\",IF(B46=\"no\",'Emission Factors'!$N$33,'Emission Factors'!$N$34))","v":""},{"$f":"IF(F46=\"\",\"\",IF(C46=\"CP-1\",IF('Concrete Plant (CP-1)'!$I$15>0,'Concrete Plant (CP-1)'!$I$15,AR46*R46),IF(C46=\"CP-2\",IF('Concrete Plant (CP-2)'!$I$15>0,'Concrete Plant (CP-2)'!$I$15,AR46*R46),IF(C46=\"CP-3\",IF('Concrete Plant (CP-3)'!$I$15>0,'Concrete Plant (CP-3)'!$I$15,AR46*R46),IF(C46=\"CP-4\",IF('Concrete Plant (CP-4)'!$I$15>0,'Concrete Plant (CP-4)'!$I$15,AR46*R46),IF(C46=\"CP-5\",IF('Concrete Plant (CP-5)'!$I$15>0,'Concrete Plant (CP-5)'!$I$15,AR46*R46),IF(C46=\"CP-6\",IF('Concrete Plant (CP-6)'!$I$15>0,'Concrete Plant (CP-6)'!$I$15,AR46*R46),IF(C46=\"CP-7\",IF('Concrete Plant (CP-7)'!$I$15>0,'Concrete Plant (CP-7)'!$I$15,AR46*R46),IF(C46=\"CP-8\",IF('Concrete Plant (CP-8)'!$I$15>0,'Concrete Plant (CP-8)'!$I$15,AR46*R46),IF(C46=\"CP-9\",IF('Concrete Plant (CP-9)'!$I$15>0,'Concrete Plant (CP-9)'!$I$15,AR46*R46),IF(C46=\"CP-10\",IF('Concrete Plant (CP-10)'!$I$15>0,'Concrete Plant (CP-10)'!$I$15,AR46*R46))))))))))))","v":""},"","",{"$f":"IF(F46=\"\",\"\",IF(B46=\"no\",'Emission Factors'!$P$33,'Emission Factors'!$P$34))","v":""},"","","",{"$f":"IF(F46=\"\",\"\",IF(B46=\"no\",'Emission Factors'!$R$33,'Emission Factors'!$R$34))","v":""},"","",""]
[null,{"$f":"IF(F47=\"Diesel Generator> 600 bhp\",\"yes\",\"no\")","v":"no"},null,null,null,null,null,null,null,null,0.5,null,null,null,null,null,null,{"$f":"IF(Q47=\"\",\"\",Q47*0.14)","v":""},null,{"$f":"IF(S47=\"\",\"\",S47*0.14)","v":""},null,0,"",{"$f":"IF(F47=\"\",\"\",IF(B47=\"no\",'Emission Factors'!$D$33,'Emission Factors'!$D$34))","v":""},"","","",{"$f":"IF(F47=\"\",\"\",IF(B47=\"no\",'Emission Factors'!$F$33,'Emission Factors'!$F$34))","v":""},"","","",{"$f":"IF(F47=\"\",\"\",IF(B47=\"no\",'Emission Factors'!$H$33,'Emission Factors'!$H$34))","v":""},{"$f":"IF(F47=\"\",\"\",IF(C47=\"CP-1\",IF('Concrete Plant (CP-1)'!$I$12>0,'Concrete Plant (CP-1)'!$I$12,AF47*R47*K47),IF(C47=\"CP-2\",IF('Concrete Plant (CP-2)'!$I$12>0,'Concrete Plant (CP-2)'!$I$12,AF47*R47*K47),IF(C47=\"CP-3\",IF('Concrete Plant (CP-3)'!$I$12>0,'Concrete Plant (CP-3)'!$I$12,AF47*R47*K47),IF(C47=\"CP-4\",IF('Concrete Plant (CP-4)'!$I$12>0,'Concrete Plant (CP-4)'!$I$12,AF47*R47*K47),IF(C47=\"CP-5\",IF('Concrete Plant (CP-5)'!$I$12>0,'Concrete Plant (CP-5)'!$I$12,AF47*R47*K47),IF(C47=\"CP-6\",IF('Concrete Plant (CP-6)'!$I$12>0,'Concrete Plant (CP-6)'!$I$12,AF47*R47*K47),IF(C47=\"CP-7\",IF('Concrete Plant (CP-7)'!$I$12>0,'Concrete Plant (CP-7)'!$I$12,AF47*R47*K47),IF(C47=\"CP-8\",IF('Concrete Plant (CP-8)'!$I$12>0,'Concrete Plant (CP-8)'!$I$12,AF47*R47*K47),IF(C47=\"CP-9\",IF('Concrete Plant (CP-9)'!$I$12>0,'Concrete Plant (CP-9)'!$I$12,AF47*R47*K47),IF(C47=\"CP-10\",IF('Concrete Plant (CP-10)'!$I$12>0,'Concrete Plant (CP-10)'!$I$12,AF47*R47*K47))))))))))))","v":""},"","",{"$f":"IF(F47=\"\",\"\",IF(B47=\"no\",'Emission Factors'!$J$33,'Emission Factors'!$J$34))","v":""},{"$f":"IF(F47=\"\",\"\",IF(C47=\"CP-1\",IF('Concrete Plant (CP-1)'!$I$13>0,'Concrete Plant (CP-1)'!$I$13,AJ47*R47),IF(C47=\"CP-2\",IF('Concrete Plant (CP-2)'!$I$13>0,'Concrete Plant (CP-2)'!$I$13,AJ47*R47),IF(C47=\"CP-3\",IF('Concrete Plant (CP-3)'!$I$13>0,'Concrete Plant (CP-3)'!$I$13,AJ47*R47),IF(C47=\"CP-4\",IF('Concrete Plant (CP-4)'!$I$13>0,'Concrete Plant (CP-4)'!$I$13,AJ47*R47),IF(C47=\"CP-5\",IF('Concrete Plant (CP-5)'!$I$13>0,'Concrete Plant (CP-5)'!$I$13,AJ47*R47),IF(C47=\"CP-6\",IF('Concrete Plant (CP-6)'!$I$13>0,'Concrete Plant (CP-6)'!$I$13,AJ47*R47),IF(C47=\"CP-7\",IF('Concrete Plant (CP-7)'!$I$13>0,'Concrete Plant (CP-7)'!$I$13,AJ47*R47),IF(C47=\"CP-8\",IF('Concrete Plant (CP-8)'!$I$13>0,'Concrete Plant (CP-8)'!$I$13,AJ47*R47),IF(C47=\"CP-9\",IF('Concrete Plant (CP-9)'!$I$13>0,'Concrete Plant (CP-9)'!$I$13,AJ47*R47),IF(C47=\"CP-10\",IF('Concrete Plant (CP-10)'!$I$13>0,'Concrete Plant (CP-10)'!$I$13,AJ47*R47))))))))))))","v":""},"","",{"$f":"IF(F47=\"\",\"\",IF(B47=\"no\",'Emission Factors'!$L$33,'Emission Factors'!$L$34))","v":""},{"$f":"IF(F47=\"\",\"\",IF(C47=\"CP-1\",IF('Concrete Plant (CP-1)'!$I$14>0,'Concrete Plant (CP-1)'!$I$14,AN47*R47),IF(C47=\"CP-2\",IF('Concrete Plant (CP-2)'!$I$14>0,'Concrete Plant (CP-2)'!$I$14,AN47*R47),IF(C47=\"CP-3\",IF('Concrete Plant (CP-3)'!$I$14>0,'Concrete Plant (CP-3)'!$I$14,AN47*R47),IF(C47=\"CP-4\",IF('Concrete Plant (CP-4)'!$I$14>0,'Concrete Plant (CP-4)'!$I$14,AN47*R47),IF(C47=\"CP-5\",IF('Concrete Plant (CP-5)'!$I$14>0,'Concrete Plant (CP-5)'!$I$14,AN47*R47),IF(C47=\"CP-6\",IF('Concrete Plant (CP-6)'!$I$14>0,'Concrete Plant (CP-6)'!$I$14,AN47*R47),IF(C47=\"CP-7\",IF('Concrete Plant (CP-7)'!$I$14>0,'Concrete Plant (CP-7)'!$I$14,AN47*R47),IF(C47=\"CP-8\",IF('Concrete Plant (CP-8)'!$I$14>0,'Concrete Plant (CP-8)'!$I$14,AN47*R47),IF(C47=\"CP-9\",IF('Concrete Plant (CP-9)'!$I$14>0,'Concrete Plant (CP-9)'!$I$14,AN47*R47),IF(C47=\"CP-10\",IF('Concrete Plant (CP-10)'!$I$14>0,'Concrete Plant (CP-10)'!$I$14,AN47*R47))))))))))))","v":""},"","",{"$f":"IF(F47=\"\",\"\",IF(B47=\"no\",'Emission Factors'!$N$33,'Emission Factors'!$N$34))","v":""},{"$f":"IF(F47=\"\",\"\",IF(C47=\"CP-1\",IF('Concrete Plant (CP-1)'!$I$15>0,'Concrete Plant (CP-1)'!$I$15,AR47*R47),IF(C47=\"CP-2\",IF('Concrete Plant (CP-2)'!$I$15>0,'Concrete Plant (CP-2)'!$I$15,AR47*R47),IF(C47=\"CP-3\",IF('Concrete Plant (CP-3)'!$I$15>0,'Concrete Plant (CP-3)'!$I$15,AR47*R47),IF(C47=\"CP-4\",IF('Concrete Plant (CP-4)'!$I$15>0,'Concrete Plant (CP-4)'!$I$15,AR47*R47),IF(C47=\"CP-5\",IF('Concrete Plant (CP-5)'!$I$15>0,'Concrete Plant (CP-5)'!$I$15,AR47*R47),IF(C47=\"CP-6\",IF('Concrete Plant (CP-6)'!$I$15>0,'Concrete Plant (CP-6)'!$I$15,AR47*R47),IF(C47=\"CP-7\",IF('Concrete Plant (CP-7)'!$I$15>0,'Concrete Plant (CP-7)'!$I$15,AR47*R47),IF(C47=\"CP-8\",IF('Concrete Plant (CP-8)'!$I$15>0,'Concrete Plant (CP-8)'!$I$15,AR47*R47),IF(C47=\"CP-9\",IF('Concrete Plant (CP-9)'!$I$15>0,'Concrete Plant (CP-9)'!$I$15,AR47*R47),IF(C47=\"CP-10\",IF('Concrete Plant (CP-10)'!$I$15>0,'Concrete Plant (CP-10)'!$I$15,AR47*R47))))))))))))","v":""},"","",{"$f":"IF(F47=\"\",\"\",IF(B47=\"no\",'Emission Factors'!$P$33,'Emission Factors'!$P$34))","v":""},"","","",{"$f":"IF(F47=\"\",\"\",IF(B47=\"no\",'Emission Factors'!$R$33,'Emission Factors'!$R$34))","v":""},"","",""]
[null,{"$f":"IF(F48=\"Diesel Generator> 600 bhp\",\"yes\",\"no\")","v":"no"},null,null,null,null,null,null,null,null,0.5,null,null,null,null,null,null,{"$f":"IF(Q48=\"\",\"\",Q48*0.14)","v":""},null,{"$f":"IF(S48=\"\",\"\",S48*0.14)","v":""},null,0,"",{"$f":"IF(F48=\"\",\"\",IF(B48=\"no\",'Emission Factors'!$D$33,'Emission Factors'!$D$34))","v":""},"","","",{"$f":"IF(F48=\"\",\"\",IF(B48=\"no\",'Emission Factors'!$F$33,'Emission Factors'!$F$34))","v":""},"","","",{"$f":"IF(F48=\"\",\"\",IF(B48=\"no\",'Emission Factors'!$H$33,'Emission Factors'!$H$34))","v":""},{"$f":"IF(F48=\"\",\"\",IF(C48=\"CP-1\",IF('Concrete Plant (CP-1)'!$I$12>0,'Concrete Plant (CP-1)'!$I$12,AF48*R48*K48),IF(C48=\"CP-2\",IF('Concrete Plant (CP-2)'!$I$12>0,'Concrete Plant (CP-2)'!$I$12,AF48*R48*K48),IF(C48=\"CP-3\",IF('Concrete Plant (CP-3)'!$I$12>0,'Concrete Plant (CP-3)'!$I$12,AF48*R48*K48),IF(C48=\"CP-4\",IF('Concrete Plant (CP-4)'!$I$12>0,'Concrete Plant (CP-4)'!$I$12,AF48*R48*K48),IF(C48=\"CP-5\",IF('Concrete Plant (CP-5)'!$I$12>0,'Concrete Plant (CP-5)'!$I$12,AF48*R48*K48),IF(C48=\"CP-6\",IF('Concrete Plant (CP-6)'!$I$12>0,'Concrete Plant (CP-6)'!$I$12,AF48*R48*K48),IF(C48=\"CP-7\",IF('Concrete Plant (CP-7)'!$I$12>0,'Concrete Plant (CP-7)'!$I$12,AF48*R48*K48),IF(C48=\"CP-8\",IF('Concrete Plant (CP-8)'!$I$12>0,'Concrete Plant (CP-8)'!$I$12,AF48*R48*K48),IF(C48=\"CP-9\",IF('Concrete Plant (CP-9)'!$I$12>0,'Concrete Plant (CP-9)'!$I$12,AF48*R48*K48),IF(C48=\"CP-10\",IF('Concrete Plant (CP-10)'!$I$12>0,'Concrete Plant (CP-10)'!$I$12,AF48*R48*K48))))))))))))","v":""},"","",{"$f":"IF(F48=\"\",\"\",IF(B48=\"no\",'Emission Factors'!$J$33,'Emission Factors'!$J$34))","v":""},{"$f":"IF(F48=\"\",\"\",IF(C48=\"CP-1\",IF('Concrete Plant (CP-1)'!$I$13>0,'Concrete Plant (CP-1)'!$I$13,AJ48*R48),IF(C48=\"CP-2\",IF('Concrete Plant (CP-2)'!$I$13>0,'Concrete Plant (CP-2)'!$I$13,AJ48*R48),IF(C48=\"CP-3\",IF('Concrete Plant (CP-3)'!$I$13>0,'Concrete Plant (CP-3)'!$I$13,AJ48*R48),IF(C48=\"CP-4\",IF('Concrete Plant (CP-4)'!$I$13>0,'Concrete Plant (CP-4)'!$I$13,AJ48*R48),IF(C48=\"CP-5\",IF('Concrete Plant (CP-5)'!$I$13>0,'Concrete Plant (CP-5)'!$I$13,AJ48*R48),IF(C48=\"CP-6\",IF('Concrete Plant (CP-6)'!$I$13>0,'Concrete Plant (CP-6)'!$I$13,AJ48*R48),IF(C48=\"CP-7\",IF('Concrete Plant (CP-7)'!$I$13>0,'Concrete Plant (CP-7)'!$I$13,AJ48*R48),IF(C48=\"CP-8\",IF('Concrete Plant (CP-8)'!$I$13>0,'Concrete Plant (CP-8)'!$I$13,AJ48*R48),IF(C48=\"CP-9\",IF('Concrete Plant (CP-9)'!$I$13>0,'Concrete Plant (CP-9)'!$I$13,AJ48*R48),IF(C48=\"CP-10\",IF('Concrete Plant (CP-10)'!$I$13>0,'Concrete Plant (CP-10)'!$I$13,AJ48*R48))))))))))))","v":""},"","",{"$f":"IF(F48=\"\",\"\",IF(B48=\"no\",'Emission Factors'!$L$33,'Emission Factors'!$L$34))","v":""},{"$f":"IF(F48=\"\",\"\",IF(C48=\"CP-1\",IF('Concrete Plant (CP-1)'!$I$14>0,'Concrete Plant (CP-1)'!$I$14,AN48*R48),IF(C48=\"CP-2\",IF('Concrete Plant (CP-2)'!$I$14>0,'Concrete Plant (CP-2)'!$I$14,AN48*R48),IF(C48=\"CP-3\",IF('Concrete Plant (CP-3)'!$I$14>0,'Concrete Plant (CP-3)'!$I$14,AN48*R48),IF(C48=\"CP-4\",IF('Concrete Plant (CP-4)'!$I$14>0,'Concrete Plant (CP-4)'!$I$14,AN48*R48),IF(C48=\"CP-5\",IF('Concrete Plant (CP-5)'!$I$14>0,'Concrete Plant (CP-5)'!$I$14,AN48*R48),IF(C48=\"CP-6\",IF('Concrete Plant (CP-6)'!$I$14>0,'Concrete Plant (CP-6)'!$I$14,AN48*R48),IF(C48=\"CP-7\",IF('Concrete Plant (CP-7)'!$I$14>0,'Concrete Plant (CP-7)'!$I$14,AN48*R48),IF(C48=\"CP-8\",IF('Concrete Plant (CP-8)'!$I$14>0,'Concrete Plant (CP-8)'!$I$14,AN48*R48),IF(C48=\"CP-9\",IF('Concrete Plant (CP-9)'!$I$14>0,'Concrete Plant (CP-9)'!$I$14,AN48*R48),IF(C48=\"CP-10\",IF('Concrete Plant (CP-10)'!$I$14>0,'Concrete Plant (CP-10)'!$I$14,AN48*R48))))))))))))","v":""},"","",{"$f":"IF(F48=\"\",\"\",IF(B48=\"no\",'Emission Factors'!$N$33,'Emission Factors'!$N$34))","v":""},{"$f":"IF(F48=\"\",\"\",IF(C48=\"CP-1\",IF('Concrete Plant (CP-1)'!$I$15>0,'Concrete Plant (CP-1)'!$I$15,AR48*R48),IF(C48=\"CP-2\",IF('Concrete Plant (CP-2)'!$I$15>0,'Concrete Plant (CP-2)'!$I$15,AR48*R48),IF(C48=\"CP-3\",IF('Concrete Plant (CP-3)'!$I$15>0,'Concrete Plant (CP-3)'!$I$15,AR48*R48),IF(C48=\"CP-4\",IF('Concrete Plant (CP-4)'!$I$15>0,'Concrete Plant (CP-4)'!$I$15,AR48*R48),IF(C48=\"CP-5\",IF('Concrete Plant (CP-5)'!$I$15>0,'Concrete Plant (CP-5)'!$I$15,AR48*R48),IF(C48=\"CP-6\",IF('Concrete Plant (CP-6)'!$I$15>0,'Concrete Plant (CP-6)'!$I$15,AR48*R48),IF(C48=\"CP-7\",IF('Concrete Plant (CP-7)'!$I$15>0,'Concrete Plant (CP-7)'!$I$15,AR48*R48),IF(C48=\"CP-8\",IF('Concrete Plant (CP-8)'!$I$15>0,'Concrete Plant (CP-8)'!$I$15,AR48*R48),IF(C48=\"CP-9\",IF('Concrete Plant (CP-9)'!$I$15>0,'Concrete Plant (CP-9)'!$I$15,AR48*R48),IF(C48=\"CP-10\",IF('Concrete Plant (CP-10)'!$I$15>0,'Concrete Plant (CP-10)'!$I$15,AR48*R48))))))))))))","v":""},"","",{"$f":"IF(F48=\"\",\"\",IF(B48=\"no\",'Emission Factors'!$P$33,'Emission Factors'!$P$34))","v":""},"","","",{"$f":"IF(F48=\"\",\"\",IF(B48=\"no\",'Emission Factors'!$R$33,'Emission Factors'!$R$34))","v":""},"","",""]
[null,{"$f":"IF(F49=\"Diesel Generator> 600 bhp\",\"yes\",\"no\")","v":"no"},null,null,null,null,null,null,null,null,0.5,null,null,null,null,null,null,{"$f":"IF(Q49=\"\",\"\",Q49*0.14)","v":""},null,{"$f":"IF(S49=\"\",\"\",S49*0.14)","v":""},null,0,"",{"$f":"IF(F49=\"\",\"\",IF(B49=\"no\",'Emission Factors'!$D$33,'Emission Factors'!$D$34))","v":""},"","","",{"$f":"IF(F49=\"\",\"\",IF(B49=\"no\",'Emission Factors'!$F$33,'Emission Factors'!$F$34))","v":""},"","","",{"$f":"IF(F49=\"\",\"\",IF(B49=\"no\",'Emission Factors'!$H$33,'Emission Factors'!$H$34))","v":""},{"$f":"IF(F49=\"\",\"\",IF(C49=\"CP-1\",IF('Concrete Plant (CP-1)'!$I$12>0,'Concrete Plant (CP-1)'!$I$12,AF49*R49*K49),IF(C49=\"CP-2\",IF('Concrete Plant (CP-2)'!$I$12>0,'Concrete Plant (CP-2)'!$I$12,AF49*R49*K49),IF(C49=\"CP-3\",IF('Concrete Plant (CP-3)'!$I$12>0,'Concrete Plant (CP-3)'!$I$12,AF49*R49*K49),IF(C49=\"CP-4\",IF('Concrete Plant (CP-4)'!$I$12>0,'Concrete Plant (CP-4)'!$I$12,AF49*R49*K49),IF(C49=\"CP-5\",IF('Concrete Plant (CP-5)'!$I$12>0,'Concrete Plant (CP-5)'!$I$12,AF49*R49*K49),IF(C49=\"CP-6\",IF('Concrete Plant (CP-6)'!$I$12>0,'Concrete Plant (CP-6)'!$I$12,AF49*R49*K49),IF(C49=\"CP-7\",IF('Concrete Plant (CP-7)'!$I$12>0,'Concrete Plant (CP-7)'!$I$12,AF49*R49*K49),IF(C49=\"CP-8\",IF('Concrete Plant (CP-8)'!$I$12>0,'Concrete Plant (CP-8)'!$I$12,AF49*R49*K49),IF(C49=\"CP-9\",IF('Concrete Plant (CP-9)'!$I$12>0,'Concrete Plant (CP-9)'!$I$12,AF49*R49*K49),IF(C49=\"CP-10\",IF('Concrete Plant (CP-10)'!$I$12>0,'Concrete Plant (CP-10)'!$I$12,AF49*R49*K49))))))))))))","v":""},"","",{"$f":"IF(F49=\"\",\"\",IF(B49=\"no\",'Emission Factors'!$J$33,'Emission Factors'!$J$34))","v":""},{"$f":"IF(F49=\"\",\"\",IF(C49=\"CP-1\",IF('Concrete Plant (CP-1)'!$I$13>0,'Concrete Plant (CP-1)'!$I$13,AJ49*R49),IF(C49=\"CP-2\",IF('Concrete Plant (CP-2)'!$I$13>0,'Concrete Plant (CP-2)'!$I$13,AJ49*R49),IF(C49=\"CP-3\",IF('Concrete Plant (CP-3)'!$I$13>0,'Concrete Plant (CP-3)'!$I$13,AJ49*R49),IF(C49=\"CP-4\",IF('Concrete Plant (CP-4)'!$I$13>0,'Concrete Plant (CP-4)'!$I$13,AJ49*R49),IF(C49=\"CP-5\",IF('Concrete Plant (CP-5)'!$I$13>0,'Concrete Plant (CP-5)'!$I$13,AJ49*R49),IF(C49=\"CP-6\",IF('Concrete Plant (CP-6)'!$I$13>0,'Concrete Plant (CP-6)'!$I$13,AJ49*R49),IF(C49=\"CP-7\",IF('Concrete Plant (CP-7)'!$I$13>0,'Concrete Plant (CP-7)'!$I$13,AJ49*R49),IF(C49=\"CP-8\",IF('Concrete Plant (CP-8)'!$I$13>0,'Concrete Plant (CP-8)'!$I$13,AJ49*R49),IF(C49=\"CP-9\",IF('Concrete Plant (CP-9)'!$I$13>0,'Concrete Plant (CP-9)'!$I$13,AJ49*R49),IF(C49=\"CP-10\",IF('Concrete Plant (CP-10)'!$I$13>0,'Concrete Plant (CP-10)'!$I$13,AJ49*R49))))))))))))","v":""},"","",{"$f":"IF(F49=\"\",\"\",IF(B49=\"no\",'Emission Factors'!$L$33,'Emission Factors'!$L$34))","v":""},{"$f":"IF(F49=\"\",\"\",IF(C49=\"CP-1\",IF('Concrete Plant (CP-1)'!$I$14>0,'Concrete Plant (CP-1)'!$I$14,AN49*R49),IF(C49=\"CP-2\",IF('Concrete Plant (CP-2)'!$I$14>0,'Concrete Plant (CP-2)'!$I$14,AN49*R49),IF(C49=\"CP-3\",IF('Concrete Plant (CP-3)'!$I$14>0,'Concrete Plant (CP-3)'!$I$14,AN49*R49),IF(C49=\"CP-4\",IF('Concrete Plant (CP-4)'!$I$14>0,'Concrete Plant (CP-4)'!$I$14,AN49*R49),IF(C49=\"CP-5\",IF('Concrete Plant (CP-5)'!$I$14>0,'Concrete Plant (CP-5)'!$I$14,AN49*R49),IF(C49=\"CP-6\",IF('Concrete Plant (CP-6)'!$I$14>0,'Concrete Plant (CP-6)'!$I$14,AN49*R49),IF(C49=\"CP-7\",IF('Concrete Plant (CP-7)'!$I$14>0,'Concrete Plant (CP-7)'!$I$14,AN49*R49),IF(C49=\"CP-8\",IF('Concrete Plant (CP-8)'!$I$14>0,'Concrete Plant (CP-8)'!$I$14,AN49*R49),IF(C49=\"CP-9\",IF('Concrete Plant (CP-9)'!$I$14>0,'Concrete Plant (CP-9)'!$I$14,AN49*R49),IF(C49=\"CP-10\",IF('Concrete Plant (CP-10)'!$I$14>0,'Concrete Plant (CP-10)'!$I$14,AN49*R49))))))))))))","v":""},"","",{"$f":"IF(F49=\"\",\"\",IF(B49=\"no\",'Emission Factors'!$N$33,'Emission Factors'!$N$34))","v":""},{"$f":"IF(F49=\"\",\"\",IF(C49=\"CP-1\",IF('Concrete Plant (CP-1)'!$I$15>0,'Concrete Plant (CP-1)'!$I$15,AR49*R49),IF(C49=\"CP-2\",IF('Concrete Plant (CP-2)'!$I$15>0,'Concrete Plant (CP-2)'!$I$15,AR49*R49),IF(C49=\"CP-3\",IF('Concrete Plant (CP-3)'!$I$15>0,'Concrete Plant (CP-3)'!$I$15,AR49*R49),IF(C49=\"CP-4\",IF('Concrete Plant (CP-4)'!$I$15>0,'Concrete Plant (CP-4)'!$I$15,AR49*R49),IF(C49=\"CP-5\",IF('Concrete Plant (CP-5)'!$I$15>0,'Concrete Plant (CP-5)'!$I$15,AR49*R49),IF(C49=\"CP-6\",IF('Concrete Plant (CP-6)'!$I$15>0,'Concrete Plant (CP-6)'!$I$15,AR49*R49),IF(C49=\"CP-7\",IF('Concrete Plant (CP-7)'!$I$15>0,'Concrete Plant (CP-7)'!$I$15,AR49*R49),IF(C49=\"CP-8\",IF('Concrete Plant (CP-8)'!$I$15>0,'Concrete Plant (CP-8)'!$I$15,AR49*R49),IF(C49=\"CP-9\",IF('Concrete Plant (CP-9)'!$I$15>0,'Concrete Plant (CP-9)'!$I$15,AR49*R49),IF(C49=\"CP-10\",IF('Concrete Plant (CP-10)'!$I$15>0,'Concrete Plant (CP-10)'!$I$15,AR49*R49))))))))))))","v":""},"",null,{"$f":"IF(F49=\"\",\"\",IF(B49=\"no\",'Emission Factors'!$P$33,'Emission Factors'!$P$34))","v":""},"","","",{"$f":"IF(F49=\"\",\"\",IF(B49=\"no\",'Emission Factors'!$R$33,'Emission Factors'!$R$34))","v":""},"","",""]
[null,null,null,null,null,null,null,null,null,null,null,null,"Total Combined for all Generators ≤ 600 BHP:",null,null,null,{"$f":"SUM(IF($B$8=\"no\",Q8),IF($B$9=\"no\",Q9),IF($B$10=\"no\",Q10),IF($B$11=\"no\",Q11),IF($B$12=\"no\",Q12),IF($B$13=\"no\",Q13),IF($B$14=\"no\",Q14),IF($B$15=\"no\",Q15),IF($B$16=\"no\",Q16),IF($B$17=\"no\",Q17),IF($B$18=\"no\",Q18),IF($B$19=\"no\",Q19),IF($B$20=\"no\",Q20),IF($B$21=\"no\",Q21),IF($B$22=\"no\",Q22),IF($B$23=\"no\",Q23),IF($B$24=\"no\",Q24),IF($B$25=\"no\",Q25),IF($B$26=\"no\",Q26),IF($B$27=\"no\",Q27),IF($B$28=\"no\",Q28),IF($B$29=\"no\",Q29),IF($B$30=\"no\",Q30),IF($B$31=\"no\",Q31),IF($B$32=\"no\",Q32),IF($B$33=\"no\",Q33),IF($B$34=\"no\",Q34),IF($B$35=\"no\",Q35),IF($B$36=\"no\",Q36),IF($B$37=\"no\",Q37),IF($B$38=\"no\",Q38),IF($B$39=\"no\",Q39),IF($B$40=\"no\",Q40),IF($B$41=\"no\",Q41),IF($B$42=\"no\",Q42),IF($B$43=\"no\",Q43),IF($B$44=\"no\",Q44),IF($B$45=\"no\",Q45),IF($B$46=\"no\",Q46),IF($B$47=\"no\",Q47),IF($B$48=\"no\",Q48),IF($B$49=\"no\",Q49))","v":0},{"$f":"SUM(IF($B$8=\"no\",R8),IF($B$9=\"no\",R9),IF($B$10=\"no\",R10),IF($B$11=\"no\",R11),IF($B$12=\"no\",R12),IF($B$13=\"no\",R13),IF($B$14=\"no\",R14),IF($B$15=\"no\",R15),IF($B$16=\"no\",R16),IF($B$17=\"no\",R17),IF($B$18=\"no\",R18),IF($B$19=\"no\",R19),IF($B$20=\"no\",R20),IF($B$21=\"no\",R21),IF($B$22=\"no\",R22),IF($B$23=\"no\",R23),IF($B$24=\"no\",R24),IF($B$25=\"no\",R25),IF($B$26=\"no\",R26),IF($B$27=\"no\",R27),IF($B$28=\"no\",R28),IF($B$29=\"no\",R29),IF($B$30=\"no\",R30),IF($B$31=\"no\",R31),IF($B$32=\"no\",R32),IF($B$33=\"no\",R33),IF($B$34=\"no\",R34),IF($B$35=\"no\",R35),IF($B$36=\"no\",R36),IF($B$37=\"no\",R37),IF($B$38=\"no\",R38),IF($B$39=\"no\",R39),IF($B$40=\"no\",R40),IF($B$41=\"no\",R41),IF($B$42=\"no\",R42),IF($B$43=\"no\",R43),IF($B$44=\"no\",R44),IF($B$45=\"no\",R45),IF($B$46=\"no\",R46),IF($B$47=\"no\",R47),IF($B$48=\"no\",R48),IF($B$49=\"no\",R49))","v":0},{"$f":"SUM(IF($B$8=\"no\",S8),IF($B$9=\"no\",S9),IF($B$10=\"no\",S10),IF($B$11=\"no\",S11),IF($B$12=\"no\",S12),IF($B$13=\"no\",S13),IF($B$14=\"no\",S14),IF($B$15=\"no\",S15),IF($B$16=\"no\",S16),IF($B$17=\"no\",S17),IF($B$18=\"no\",S18),IF($B$19=\"no\",S19),IF($B$20=\"no\",S20),IF($B$21=\"no\",S21),IF($B$22=\"no\",S22),IF($B$23=\"no\",S23),IF($B$24=\"no\",S24),IF($B$25=\"no\",S25),IF($B$26=\"no\",S26),IF($B$27=\"no\",S27),IF($B$28=\"no\",S28),IF($B$29=\"no\",S29),IF($B$30=\"no\",S30),IF($B$31=\"no\",S31),IF($B$32=\"no\",S32),IF($B$33=\"no\",S33),IF($B$34=\"no\",S34),IF($B$35=\"no\",S35),IF($B$36=\"no\",S36),IF($B$37=\"no\",S37),IF($B$38=\"no\",S38),IF($B$39=\"no\",S39),IF($B$40=\"no\",S40),IF($B$41=\"no\",S41),IF($B$42=\"no\",S42),IF($B$43=\"no\",S43),IF($B$44=\"no\",S44),IF($B$45=\"no\",S45),IF($B$46=\"no\",S46),IF($B$47=\"no\",S47),IF($B$48=\"no\",S48),IF($B$49=\"no\",S49))","v":0},{"$f":"SUM(IF($B$8=\"no\",T8),IF($B$9=\"no\",T9),IF($B$10=\"no\",T10),IF($B$11=\"no\",T11),IF($B$12=\"no\",T12),IF($B$13=\"no\",T13),IF($B$14=\"no\",T14),IF($B$15=\"no\",T15),IF($B$16=\"no\",T16),IF($B$17=\"no\",T17),IF($B$18=\"no\",T18),IF($B$19=\"no\",T19),IF($B$20=\"no\",T20),IF($B$21=\"no\",T21),IF($B$22=\"no\",T22),IF($B$23=\"no\",T23),IF($B$24=\"no\",T24),IF($B$25=\"no\",T25),IF($B$26=\"no\",T26),IF($B$27=\"no\",T27),IF($B$28=\"no\",T28),IF($B$29=\"no\",T29),IF($B$30=\"no\",T30),IF($B$31=\"no\",T31),IF($B$32=\"no\",T32),IF($B$33=\"no\",T33),IF($B$34=\"no\",T34),IF($B$35=\"no\",T35),IF($B$36=\"no\",T36),IF($B$37=\"no\",T37),IF($B$38=\"no\",T38),IF($B$39=\"no\",T39),IF($B$40=\"no\",T40),IF($B$41=\"no\",T41),IF($B$42=\"no\",T42),IF($B$43=\"no\",T43),IF($B$44=\"no\",T44),IF($B$45=\"no\",T45),IF($B$46=\"no\",T46),IF($B$47=\"no\",T47),IF($B$48=\"no\",T48),IF($B$49=\"no\",T49))","v":0}]
["CP-1",{"$f":"MAX(IF($C$8:$C$49=\"CP-1\",$I$8:$I$49))","v":0},null,null,null,null,null,null,null,null,null,null,"Total Combined for all Generators > 600 BHP:",null,null,null,{"$f":"SUM(IF($B$8=\"yes\",Q8),IF($B$9=\"yes\",Q9),IF($B$10=\"yes\",Q10),IF($B$11=\"yes\",Q11),IF($B$12=\"yes\",Q12),IF($B$13=\"yes\",Q13),IF($B$14=\"yes\",Q14),IF($B$15=\"yes\",Q15),IF($B$16=\"yes\",Q16),IF($B$17=\"yes\",Q17),IF($B$18=\"yes\",Q18),IF($B$19=\"yes\",Q19),IF($B$20=\"yes\",Q20),IF($B$21=\"yes\",Q21),IF($B$22=\"yes\",Q22),IF($B$23=\"yes\",Q23),IF($B$24=\"yes\",Q24),IF($B$25=\"yes\",Q25),IF($B$26=\"yes\",Q26),IF($B$27=\"yes\",Q27),IF($B$28=\"yes\",Q28),IF($B$29=\"yes\",Q29),IF($B$30=\"yes\",Q30),IF($B$31=\"yes\",Q31),IF($B$32=\"yes\",Q32),IF($B$33=\"yes\",Q33),IF($B$34=\"yes\",Q34),IF($B$35=\"yes\",Q35),IF($B$36=\"yes\",Q36),IF($B$37=\"yes\",Q37),IF($B$38=\"yes\",Q38),IF($B$39=\"yes\",Q39),IF($B$40=\"yes\",Q40),IF($B$41=\"yes\",Q41),IF($B$42=\"yes\",Q42),IF($B$43=\"yes\",Q43),IF($B$44=\"yes\",Q44),IF($B$45=\"yes\",Q45),IF($B$46=\"yes\",Q46),IF($B$47=\"yes\",Q47),IF($B$48=\"yes\",Q48),IF($B$49=\"yes\",Q49))","v":0},{"$f":"SUM(IF($B$8=\"yes\",R8),IF($B$9=\"yes\",R9),IF($B$10=\"yes\",R10),IF($B$11=\"yes\",R11),IF($B$12=\"yes\",R12),IF($B$13=\"yes\",R13),IF($B$14=\"yes\",R14),IF($B$15=\"yes\",R15),IF($B$16=\"yes\",R16),IF($B$17=\"yes\",R17),IF($B$18=\"yes\",R18),IF($B$19=\"yes\",R19),IF($B$20=\"yes\",R20),IF($B$21=\"yes\",R21),IF($B$22=\"yes\",R22),IF($B$23=\"yes\",R23),IF($B$24=\"yes\",R24),IF($B$25=\"yes\",R25),IF($B$26=\"yes\",R26),IF($B$27=\"yes\",R27),IF($B$28=\"yes\",R28),IF($B$29=\"yes\",R29),IF($B$30=\"yes\",R30),IF($B$31=\"yes\",R31),IF($B$32=\"yes\",R32),IF($B$33=\"yes\",R33),IF($B$34=\"yes\",R34),IF($B$35=\"yes\",R35),IF($B$36=\"yes\",R36),IF($B$37=\"yes\",R37),IF($B$38=\"yes\",R38),IF($B$39=\"yes\",R39),IF($B$40=\"yes\",R40),IF($B$41=\"yes\",R41),IF($B$42=\"yes\",R42),IF($B$43=\"yes\",R43),IF($B$44=\"yes\",R44),IF($B$45=\"yes\",R45),IF($B$46=\"yes\",R46),IF($B$47=\"yes\",R47),IF($B$48=\"yes\",R48),IF($B$49=\"yes\",R49))","v":0},{"$f":"SUM(IF($B$8=\"yes\",S8),IF($B$9=\"yes\",S9),IF($B$10=\"yes\",S10),IF($B$11=\"yes\",S11),IF($B$12=\"yes\",S12),IF($B$13=\"yes\",S13),IF($B$14=\"yes\",S14),IF($B$15=\"yes\",S15),IF($B$16=\"yes\",S16),IF($B$17=\"yes\",S17),IF($B$18=\"yes\",S18),IF($B$19=\"yes\",S19),IF($B$20=\"yes\",S20),IF($B$21=\"yes\",S21),IF($B$22=\"yes\",S22),IF($B$23=\"yes\",S23),IF($B$24=\"yes\",S24),IF($B$25=\"yes\",S25),IF($B$26=\"yes\",S26),IF($B$27=\"yes\",S27),IF($B$28=\"yes\",S28),IF($B$29=\"yes\",S29),IF($B$30=\"yes\",S30),IF($B$31=\"yes\",S31),IF($B$32=\"yes\",S32),IF($B$33=\"yes\",S33),IF($B$34=\"yes\",S34),IF($B$35=\"yes\",S35),IF($B$36=\"yes\",S36),IF($B$37=\"yes\",S37),IF($B$38=\"yes\",S38),IF($B$39=\"yes\",S39),IF($B$40=\"yes\",S40),IF($B$41=\"yes\",S41),IF($B$42=\"yes\",S42),IF($B$43=\"yes\",S43),IF($B$44=\"yes\",S44),IF($B$45=\"yes\",S45),IF($B$46=\"yes\",S46),IF($B$47=\"yes\",S47),IF($B$48=\"yes\",S48),IF($B$49=\"yes\",S49))","v":0},{"$f":"SUM(IF($B$8=\"yes\",T8),IF($B$9=\"yes\",T9),IF($B$10=\"yes\",T10),IF($B$11=\"yes\",T11),IF($B$12=\"yes\",T12),IF($B$13=\"yes\",T13),IF($B$14=\"yes\",T14),IF($B$15=\"yes\",T15),IF($B$16=\"yes\",T16),IF($B$17=\"yes\",T17),IF($B$18=\"yes\",T18),IF($B$19=\"yes\",T19),IF($B$20=\"yes\",T20),IF($B$21=\"yes\",T21),IF($B$22=\"yes\",T22),IF($B$23=\"yes\",T23),IF($B$24=\"yes\",T24),IF($B$25=\"yes\",T25),IF($B$26=\"yes\",T26),IF($B$27=\"yes\",T27),IF($B$28=\"yes\",T28),IF($B$29=\"yes\",T29),IF($B$30=\"yes\",T30),IF($B$31=\"yes\",T31),IF($B$32=\"yes\",T32),IF($B$33=\"yes\",T33),IF($B$34=\"yes\",T34),IF($B$35=\"yes\",T35),IF($B$36=\"yes\",T36),IF($B$37=\"yes\",T37),IF($B$38=\"yes\",T38),IF($B$39=\"yes\",T39),IF($B$40=\"yes\",T40),IF($B$41=\"yes\",T41),IF($B$42=\"yes\",T42),IF($B$43=\"yes\",T43),IF($B$44=\"yes\",T44),IF($B$45=\"yes\",T45),IF($B$46=\"yes\",T46),IF($B$47=\"yes\",T47),IF($B$48=\"yes\",T48),IF($B$49=\"yes\",T49))","v":0}]
["CP-2",{"$f":"MAX(IF($C$8:$C$49=\"CP-2\",$I$8:$I$49))","v":0},null,null,null,null,null,null,null,null,null,null,null,null,null,null,null,null,null,null,null,null,null,null,null,"PM2.5",null,"PM10",null,"SO2",null,"NOx",null,"VOC",null,"CO",null,"Formaldehyde",null,"Benzene"]
["CP-3",{"$f":"MAX(IF($C$8:$C$49=\"CP-3\",$I$8:$I$49))","v":0},null,null,null,null,null,null,null,null,null,null,null,null,null,null,null,null,null,null,null,null,null,null,null,"Potential tpy","Actual tpy","Potential tpy","Actual tpy","Potential tpy","Actual tpy","Potential tpy","Actual tpy","Potential tpy","Actual tpy","Potential tpy","Actual tpy","Potential tpy","Actual tpy","Potential tpy","Actual tpy"]
["CP-4",{"$f":"MAX(IF($C$8:$C$49=\"CP-4\",$I$8:$I$49))","v":0},null,null,null,null,null,null,null,null,null,null,null,null,null,null,null,null,null,null,null,null,null,null,"CP-1",{"$f":"IF(B51=\"\",SUMIF($C$8:$C$49,\"CP-1\",$Z$8:$Z$49),MAX(IF(C8:C49=\"CP-1\",Z8:Z49)))","v":0},{"$f":"SUMIF($C$8:$C$49,\"CP-1\",$AA$8:$AA$49)","v":0},{"$f":"IF(B51=\"\",SUMIF($C$8:$C$49,\"CP-1\",$AD$8:$AD$49),MAX(IF($C$8:$C$49=\"CP-1\",$AD$8:$AD$49)))","v":0},{"$f":"SUMIF($C$8:$C$49,\"CP-1\",$AE$8:$AE$49)","v":0},{"$f":"IF(B51=\"\",SUMIF($C$8:$C$49,\"CP-1\",$AH$8:$AH$49),MAX(IF($C$8:$C$49=\"CP-1\",$AH$8:$AH$49)))","v":0},{"$f":"SUMIF($C$8:$C$49,\"CP-1\",$AI$8:$AI$49)","v":0},{"$f":"IF(B51=\"\",SUMIF($C$8:$C$49,\"CP-1\",$AL$8:$AL$49),MAX(IF($C$8:$C$49=\"CP-1\",$AL$8:$AL$49)))","v":0},{"$f":"SUMIF($C$8:$C$49,\"CP-1\",$AM$8:$AM$49)","v":0},{"$f":"IF(B51=\"\",SUMIF($C$8:$C$49,\"CP-1\",$AP$8:$AP$49),MAX(IF($C$8:$C$49=\"CP-1\",$AP$8:$AP$49)))","v":0},{"$f":"SUMIF($C$8:$C$49,\"CP-1\",$AQ$8:$AQ$49)","v":0},{"$f":"IF(B51=\"\",SUMIF($C$8:$C$49,\"CP-1\",$AT$8:$AT$49),MAX(IF($C$8:$C$49=\"CP-1\",$AT$8:$AT$49)))","v":0},{"$f":"SUMIF($C$8:$C$49,\"CP-1\",$AU$8:$AU$49)","v":0},{"$f":"IF(B51=\"\",SUMIF($C$8:$C$49,\"CP-1\",$AX$8:$AX$49),MAX(IF($C$8:$C$49=\"CP-1\",$AX$8:$AX$49)))","v":0},{"$f":"SUMIF($C$8:$C$49,\"CP-1\",$AY$8:$AY$49)","v":0},{"$f":"IF(B51=\"\",SUMIF($C$8:$C$49,\"CP-1\",$BB$8:$BB$49),MAX(IF($C$8:$C$49=\"CP-1\",$BB$8:$BB$49)))","v":0},{"$f":"SUMIF($C$8:$C$49,\"CP-1\",$BC$8:$BC$49)","v":0}]
["CP-5",{"$f":"MAX(IF($C$8:$C$49=\"CP-5\",$I$8:$I$49))","v":0},null,null,null,null,null,null,null,null,null,null,null,null,null,null,null,null,null,null,null,null,null,null,"CP-2",{"$f":"IF(B52=\"\",SUMIF($C$8:$C$49,\"CP-2\",$Z$8:$Z$49),MAX(IF($C$8:$C$49=\"CP-2\",$Z$8:$Z$49)))","v":0},{"$f":"SUMIF($C$8:$C$49,\"CP-2\",$AA$8:$AA$49)","v":0},{"$f":"IF(B52=\"\",SUMIF($C$8:$C$49,\"CP-2\",$AD$8:$AD$49),MAX(IF($C$8:$C$49=\"CP-2\",$AD$8:$AD$49)))","v":0},{"$f":"SUMIF($C$8:$C$49,\"CP-2\",$AE$8:$AE$49)","v":0},{"$f":"IF(B52=\"\",SUMIF($C$8:$C$49,\"CP-2\",$AH$8:$AH$49),MAX(IF($C$8:$C$49=\"CP-2\",$AH$8:$AH$49)))","v":0},{"$f":"SUMIF($C$8:$C$49,\"CP-2\",$AI$8:$AI$49)","v":0},{"$f":"IF(B52=\"\",SUMIF($C$8:$C$49,\"CP-2\",$AL$8:$AL$49),MAX(IF($C$8:$C$49=\"CP-2\",$AL$8:$AL$49)))","v":0},{"$f":"SUMIF($C$8:$C$49,\"CP-2\",$AM$8:$AM$49)","v":0},{"$f":"IF(B52=\"\",SUMIF($C$8:$C$49,\"CP-2\",$AP$8:$AP$49),MAX(IF($C$8:$C$49=\"CP-2\",$AP$8:$AP$49)))","v":0},{"$f":"SUMIF($C$8:$C$49,\"CP-2\",$AQ$8:$AQ$49)","v":0},{"$f":"IF(B52=\"\",SUMIF($C$8:$C$49,\"CP-2\",$AT$8:$AT$49),MAX(IF($C$8:$C$49=\"CP-2\",$AT$8:$AT$49)))","v":0},{"$f":"SUMIF($C$8:$C$49,\"CP-2\",$AU$8:$AU$49)","v":0},{"$f":"IF(B52=\"\",SUMIF($C$8:$C$49,\"CP-2\",$AX$8:$AX$49),MAX(IF($C$8:$C$49=\"CP-2\",$AX$8:$AX$49)))","v":0},{"$f":"SUMIF($C$8:$C$49,\"CP-2\",$AY$8:$AY$49)","v":0},{"$f":"IF(B52=\"\",SUMIF($C$8:$C$49,\"CP-2\",$BB$8:$BB$49),MAX(IF($C$8:$C$49=\"CP-2\",$BB$8:$BB$49)))","v":0},{"$f":"SUMIF($C$8:$C$49,\"CP-2\",$BC$8:$BC$49)","v":0}]
["CP-6",{"$f":"MAX(IF($C$8:$C$49=\"CP-6\",$I$8:$I$49))","v":0},null,null,null,null,null,null,null,null,null,null,null,null,null,null,null,null,null,null,null,null,null,null,"CP-3",{"$f":"IF(B53=\"\",SUMIF($C$8:$C$49,\"CP-3\",$Z$8:$Z$49),MAX(IF($C$8:$C$49=\"CP-3\",$Z$8:$Z$49)))","v":0},{"$f":"SUMIF($C$8:$C$49,\"CP-3\",$AA$8:$AA$49)","v":0},{"$f":"IF(B53=\"\",SUMIF($C$8:$C$49,\"CP-3\",$AD$8:$AD$49),MAX(IF($C$8:$C$49=\"CP-3\",$AD$8:$AD$49)))","v":0},{"$f":"SUMIF($C$8:$C$49,\"CP-3\",$AE$8:$AE$49)","v":0},{"$f":"IF(B53=\"\",SUMIF($C$8:$C$49,\"CP-3\",$AH$8:$AH$49),MAX(IF($C$8:$C$49=\"CP-3\",$AH$8:$AH$49)))","v":0},{"$f":"SUMIF($C$8:$C$49,\"CP-3\",$AI$8:$AI$49)","v":0},{"$f":"IF(B53=\"\",SUMIF($C$8:$C$49,\"CP-3\",$AL$8:$AL$49),MAX(IF($C$8:$C$49=\"CP-3\",$AL$8:$AL$49)))","v":0},{"$f":"SUMIF($C$8:$C$49,\"CP-3\",$AM$8:$AM$49)","v":0},{"$f":"IF(B53=\"\",SUMIF($C$8:$C$49,\"CP-3\",$AP$8:$AP$49),MAX(IF($C$8:$C$49=\"CP-3\",$AP$8:$AP$49)))","v":0},{"$f":"SUMIF($C$8:$C$49,\"CP-3\",$AQ$8:$AQ$49)","v":0},{"$f":"IF(B53=\"\",SUMIF($C$8:$C$49,\"CP-3\",$AT$8:$AT$49),MAX(IF($C$8:$C$49=\"CP-3\",$AT$8:$AT$49)))","v":0},{"$f":"SUMIF($C$8:$C$49,\"CP-3\",$AU$8:$AU$49)","v":0},{"$f":"IF(B53=\"\",SUMIF($C$8:$C$49,\"CP-3\",$AX$8:$AX$49),MAX(IF($C$8:$C$49=\"CP-3\",$AX$8:$AX$49)))","v":0},{"$f":"SUMIF($C$8:$C$49,\"CP-3\",$AY$8:$AY$49)","v":0},{"$f":"IF(B53=\"\",SUMIF($C$8:$C$49,\"CP-3\",$BB$8:$BB$49),MAX(IF($C$8:$C$49=\"CP-3\",$BB$8:$BB$49)))","v":0},{"$f":"SUMIF($C$8:$C$49,\"CP-3\",$BC$8:$BC$49)","v":0}]
["CP-7",{"$f":"MAX(IF($C$8:$C$49=\"CP-7\",$I$8:$I$49))","v":0},null,null,null,null,null,null,null,null,null,null,null,null,null,null,null,null,null,null,null,null,null,null,"CP-4",{"$f":"IF(B54=\"\",SUMIF($C$8:$C$49,\"CP-4\",$Z$8:$Z$49),MAX(IF($C$8:$C$49=\"CP-4\",$Z$8:$Z$49)))","v":0},{"$f":"SUMIF($C$8:$C$49,\"CP-4\",$AA$8:$AA$49)","v":0},{"$f":"IF(B54=\"\",SUMIF($C$8:$C$49,\"CP-4\",$AD$8:$AD$49),MAX(IF($C$8:$C$49=\"CP-4\",$AD$8:$AD$49)))","v":0},{"$f":"SUMIF($C$8:$C$49,\"CP-4\",$AE$8:$AE$49)","v":0},{"$f":"IF(B54=\"\",SUMIF($C$8:$C$49,\"CP-4\",$AH$8:$AH$49),MAX(IF($C$8:$C$49=\"CP-4\",$AH$8:$AH$49)))","v":0},{"$f":"SUMIF($C$8:$C$49,\"CP-4\",$AI$8:$AI$49)","v":0},{"$f":"IF(B54=\"\",SUMIF($C$8:$C$49,\"CP-4\",$AL$8:$AL$49),MAX(IF($C$8:$C$49=\"CP-4\",$AL$8:$AL$49)))","v":0},{"$f":"SUMIF($C$8:$C$49,\"CP-4\",$AM$8:$AM$49)","v":0},{"$f":"IF(B54=\"\",SUMIF($C$8:$C$49,\"CP-4\",$AP$8:$AP$49),MAX(IF($C$8:$C$49=\"CP-4\",$AP$8:$AP$49)))","v":0},{"$f":"SUMIF($C$8:$C$49,\"CP-4\",$AQ$8:$AQ$49)","v":0},{"$f":"IF(B54=\"\",SUMIF($C$8:$C$49,\"CP-4\",$AT$8:$AT$49),MAX(IF($C$8:$C$49=\"CP-4\",$AT$8:$AT$49)))","v":0},{"$f":"SUMIF($C$8:$C$49,\"CP-4\",$AU$8:$AU$49)","v":0},{"$f":"IF(B54=\"\",SUMIF($C$8:$C$49,\"CP-4\",$AX$8:$AX$49),MAX(IF($C$8:$C$49=\"CP-4\",$AX$8:$AX$49)))","v":0},{"$f":"SUMIF($C$8:$C$49,\"CP-4\",$AY$8:$AY$49)","v":0},{"$f":"IF(B54=\"\",SUMIF($C$8:$C$49,\"CP-4\",$BB$8:$BB$49),MAX(IF($C$8:$C$49=\"CP-4\",$BB$8:$BB$49)))","v":0},{"$f":"SUMIF($C$8:$C$49,\"CP-4\",$BC$8:$BC$49)","v":0}]
["CP-8",{"$f":"MAX(IF($C$8:$C$49=\"CP-8\",$I$8:$I$49))","v":0},null,null,null,null,null,null,null,null,null,null,null,null,null,null,null,null,null,null,null,null,null,null,"CP-5",{"$f":"IF(B55=\"\",SUMIF($C$8:$C$49,\"CP-5\",$Z$8:$Z$49),MAX(IF($C$8:$C$49=\"CP-5\",$Z$8:$Z$49)))","v":0},{"$f":"SUMIF($C$8:$C$49,\"CP-5\",$AA$8:$AA$49)","v":0},{"$f":"IF(B55=\"\",SUMIF($C$8:$C$49,\"CP-5\",$AD$8:$AD$49),MAX(IF($C$8:$C$49=\"CP-5\",$AD$8:$AD$49)))","v":0},{"$f":"SUMIF($C$8:$C$49,\"CP-5\",$AE$8:$AE$49)","v":0},{"$f":"IF(B55=\"\",SUMIF($C$8:$C$49,\"CP-5\",$AH$8:$AH$49),MAX(IF($C$8:$C$49=\"CP-5\",$AH$8:$AH$49)))","v":0},{"$f":"SUMIF($C$8:$C$49,\"CP-5\",$AI$8:$AI$49)","v":0},{"$f":"IF(B55=\"\",SUMIF($C$8:$C$49,\"CP-5\",$AL$8:$AL$49),MAX(IF($C$8:$C$49=\"CP-5\",$AL$8:$AL$49)))","v":0},{"$f":"SUMIF($C$8:$C$49,\"CP-5\",$AM$8:$AM$49)","v":0},{"$f":"IF(B55=\"\",SUMIF($C$8:$C$49,\"CP-5\",$AP$8:$AP$49),MAX(IF($C$8:$C$49=\"CP-5\",$AP$8:$AP$49)))","v":0},{"$f":"SUMIF($C$8:$C$49,\"CP-5\",$AQ$8:$AQ$49)","v":0},{"$f":"IF(B55=\"\",SUMIF($C$8:$C$49,\"CP-5\",$AT$8:$AT$49),MAX(IF($C$8:$C$49=\"CP-5\",$AT$8:$AT$49)))","v":0},{"$f":"SUMIF($C$8:$C$49,\"CP-5\",$AU$8:$AU$49)","v":0},{"$f":"IF(B55=\"\",SUMIF($C$8:$C$49,\"CP-5\",$AX$8:$AX$49),MAX(IF($C$8:$C$49=\"CP-5\",$AX$8:$AX$49)))","v":0},{"$f":"SUMIF($C$8:$C$49,\"CP-5\",$AY$8:$AY$49)","v":0},{"$f":"IF(B55=\"\",SUMIF($C$8:$C$49,\"CP-5\",$BB$8:$BB$49),MAX(IF($C$8:$C$49=\"CP-5\",$BB$8:$BB$49)))","v":0},{"$f":"SUMIF($C$8:$C$49,\"CP-5\",$BC$8:$BC$49)","v":0}]
["CP-9",{"$f":"MAX(IF($C$8:$C$49=\"CP-9\",$I$8:$I$49))","v":0},null,null,null,null,null,null,null,null,null,null,null,null,null,null,null,null,null,null,null,null,null,null,"CP-6",{"$f":"IF(B56=\"\",SUMIF($C$8:$C$49,\"CP-6\",$Z$8:$Z$49),MAX(IF($C$8:$C$49=\"CP-6\",$Z$8:$Z$49)))","v":0},{"$f":"SUMIF($C$8:$C$49,\"CP-6\",$AA$8:$AA$49)","v":0},{"$f":"IF(B56=\"\",SUMIF($C$8:$C$49,\"CP-6\",$AD$8:$AD$49),MAX(IF($C$8:$C$49=\"CP-6\",$AD$8:$AD$49)))","v":0},{"$f":"SUMIF($C$8:$C$49,\"CP-6\",$AE$8:$AE$49)","v":0},{"$f":"IF(B56=\"\",SUMIF($C$8:$C$49,\"CP-6\",$AH$8:$AH$49),MAX(IF($C$8:$C$49=\"CP-6\",$AH$8:$AH$49)))","v":0},{"$f":"SUMIF($C$8:$C$49,\"CP-6\",$AI$8:$AI$49)","v":0},{"$f":"IF(B56=\"\",SUMIF($C$8:$C$49,\"CP-6\",$AL$8:$AL$49),MAX(IF($C$8:$C$49=\"CP-6\",$AL$8:$AL$49)))","v":0},{"$f":"SUMIF($C$8:$C$49,\"CP-6\",$AM$8:$AM$49)","v":0},{"$f":"IF(B56=\"\",SUMIF($C$8:$C$49,\"CP-6\",$AP$8:$AP$49),MAX(IF($C$8:$C$49=\"CP-6\",$AP$8:$AP$49)))","v":0},{"$f":"SUMIF($C$8:$C$49,\"CP-6\",$AQ$8:$AQ$49)","v":0},{"$f":"IF(B56=\"\",SUMIF($C$8:$C$49,\"CP-6\",$AT$8:$AT$49),MAX(IF($C$8:$C$49=\"CP-6\",$AT$8:$AT$49)))","v":0},{"$f":"SUMIF($C$8:$C$49,\"CP-6\",$AU$8:$AU$49)","v":0},{"$f":"IF(B56=\"\",SUMIF($C$8:$C$49,\"CP-6\",$AX$8:$AX$49),MAX(IF($C$8:$C$49=\"CP-6\",$AX$8:$AX$49)))","v":0},{"$f":"SUMIF($C$8:$C$49,\"CP-6\",$AY$8:$AY$49)","v":0},{"$f":"IF(B56=\"\",SUMIF($C$8:$C$49,\"CP-6\",$BB$8:$BB$49),MAX(IF($C$8:$C$49=\"CP-6\",$BB$8:$BB$49)))","v":0},{"$f":"SUMIF($C$8:$C$49,\"CP-6\",$BC$8:$BC$49)","v":0}]
["CP-10",{"$f":"MAX(IF($C$8:$C$49=\"CP-10\",$I$8:$I$49))","v":0},null,null,null,null,null,null,null,null,null,null,null,null,null,null,null,null,null,null,null,null,null,null,"CP-7",{"$f":"IF(B57=\"\",SUMIF($C$8:$C$49,\"CP-7\",$Z$8:$Z$49),MAX(IF($C$8:$C$49=\"CP-7\",$Z$8:$Z$49)))","v":0},{"$f":"SUMIF($C$8:$C$49,\"CP-7\",$AA$8:$AA$49)","v":0},{"$f":"IF(B57=\"\",SUMIF($C$8:$C$49,\"CP-7\",$AD$8:$AD$49),MAX(IF($C$8:$C$49=\"CP-7\",$AD$8:$AD$49)))","v":0},{"$f":"SUMIF($C$8:$C$49,\"CP-7\",$AE$8:$AE$49)","v":0},{"$f":"IF(B57=\"\",SUMIF($C$8:$C$49,\"CP-7\",$AH$8:$AH$49),MAX(IF($C$8:$C$49=\"CP-7\",$AH$8:$AH$49)))","v":0},{"$f":"SUMIF($C$8:$C$49,\"CP-7\",$AI$8:$AI$49)","v":0},{"$f":"IF(B57=\"\",SUMIF($C$8:$C$49,\"CP-7\",$AL$8:$AL$49),MAX(IF($C$8:$C$49=\"CP-7\",$AL$8:$AL$49)))","v":0},{"$f":"SUMIF($C$8:$C$49,\"CP-7\",$AM$8:$AM$49)","v":0},{"$f":"IF(B57=\"\",SUMIF($C$8:$C$49,\"CP-7\",$AP$8:$AP$49),MAX(IF($C$8:$C$49=\"CP-7\",$AP$8:$AP$49)))","v":0},{"$f":"SUMIF($C$8:$C$49,\"CP-7\",$AQ$8:$AQ$49)","v":0},{"$f":"IF(B57=\"\",SUMIF($C$8:$C$49,\"CP-7\",$AT$8:$AT$49),MAX(IF($C$8:$C$49=\"CP-7\",$AT$8:$AT$49)))","v":0},{"$f":"SUMIF($C$8:$C$49,\"CP-7\",$AU$8:$AU$49)","v":0},{"$f":"IF(B57=\"\",SUMIF($C$8:$C$49,\"CP-7\",$AX$8:$AX$49),MAX(IF($C$8:$C$49=\"CP-7\",$AX$8:$AX$49)))","v":0},{"$f":"SUMIF($C$8:$C$49,\"CP-7\",$AY$8:$AY$49)","v":0},{"$f":"IF(B57=\"\",SUMIF($C$8:$C$49,\"CP-7\",$BB$8:$BB$49),MAX(IF($C$8:$C$49=\"CP-7\",$BB$8:$BB$49)))","v":0},{"$f":"SUMIF($C$8:$C$49,\"CP-7\",$BC$8:$BC$49)","v":0}]
[null,null,null,null,null,null,null,null,null,null,null,null,null,null,null,null,null,null,null,null,null,null,null,null,"CP-8",{"$f":"IF(B58=\"\",SUMIF($C$8:$C$49,\"CP-8\",$Z$8:$Z$49),MAX(IF($C$8:$C$49=\"CP-8\",$Z$8:$Z$49)))","v":0},{"$f":"SUMIF($C$8:$C$49,\"CP-8\",$AA$8:$AA$49)","v":0},{"$f":"IF(B58=\"\",SUMIF($C$8:$C$49,\"CP-8\",$AD$8:$AD$49),MAX(IF($C$8:$C$49=\"CP-8\",$AD$8:$AD$49)))","v":0},{"$f":"SUMIF($C$8:$C$49,\"CP-8\",$AE$8:$AE$49)","v":0},{"$f":"IF(B58=\"\",SUMIF($C$8:$C$49,\"CP-8\",$AH$8:$AH$49),MAX(IF($C$8:$C$49=\"CP-8\",$AH$8:$AH$49)))","v":0},{"$f":"SUMIF($C$8:$C$49,\"CP-8\",$AI$8:$AI$49)","v":0},{"$f":"IF(B58=\"\",SUMIF($C$8:$C$49,\"CP-8\",$AL$8:$AL$49),MAX(IF($C$8:$C$49=\"CP-8\",$AL$8:$AL$49)))","v":0},{"$f":"SUMIF($C$8:$C$49,\"CP-8\",$AM$8:$AM$49)","v":0},{"$f":"IF(B58=\"\",SUMIF($C$8:$C$49,\"CP-8\",$AP$8:$AP$49),MAX(IF($C$8:$C$49=\"CP-8\",$AP$8:$AP$49)))","v":0},{"$f":"SUMIF($C$8:$C$49,\"CP-8\",$AQ$8:$AQ$49)","v":0},{"$f":"IF(B58=\"\",SUMIF($C$8:$C$49,\"CP-8\",$AT$8:$AT$49),MAX(IF($C$8:$C$49=\"CP-8\",$AT$8:$AT$49)))","v":0},{"$f":"SUMIF($C$8:$C$49,\"CP-8\",$AU$8:$AU$49)","v":0},{"$f":"IF(B58=\"\",SUMIF($C$8:$C$49,\"CP-8\",$AX$8:$AX$49),MAX(IF($C$8:$C$49=\"CP-8\",$AX$8:$AX$49)))","v":0},{"$f":"SUMIF($C$8:$C$49,\"CP-8\",$AY$8:$AY$49)","v":0},{"$f":"IF(B58=\"\",SUMIF($C$8:$C$49,\"CP-8\",$BB$8:$BB$49),MAX(IF($C$8:$C$49=\"CP-8\",$BB$8:$BB$49)))","v":0},{"$f":"SUMIF($C$8:$C$49,\"CP-8\",$BC$8:$BC$49)","v":0}]
["Vertical w/o obstruction",null,null,null,null,null,null,null,null,null,null,null,null,null,null,null,null,null,null,null,null,null,null,null,"CP-9",{"$f":"IF(B59=\"\",SUMIF($C$8:$C$49,\"CP-9\",$Z$8:$Z$49),MAX(IF($C$8:$C$49=\"CP-9\",$Z$8:$Z$49)))","v":0},{"$f":"SUMIF($C$8:$C$49,\"CP-9\",$AA$8:$AA$49)","v":0},{"$f":"IF(B59=\"\",SUMIF($C$8:$C$49,\"CP-9\",$AD$8:$AD$49),MAX(IF($C$8:$C$49=\"CP-9\",$AD$8:$AD$49)))","v":0},{"$f":"SUMIF($C$8:$C$49,\"CP-9\",$AE$8:$AE$49)","v":0},{"$f":"IF(B59=\"\",SUMIF($C$8:$C$49,\"CP-9\",$AH$8:$AH$49),MAX(IF($C$8:$C$49=\"CP-9\",$AH$8:$AH$49)))","v":0},{"$f":"SUMIF($C$8:$C$49,\"CP-9\",$AI$8:$AI$49)","v":0},{"$f":"IF(B59=\"\",SUMIF($C$8:$C$49,\"CP-9\",$AL$8:$AL$49),MAX(IF($C$8:$C$49=\"CP-9\",$AL$8:$AL$49)))","v":0},{"$f":"SUMIF($C$8:$C$49,\"CP-9\",$AM$8:$AM$49)","v":0},{"$f":"IF(B59=\"\",SUMIF($C$8:$C$49,\"CP-9\",$AP$8:$AP$49),MAX(IF($C$8:$C$49=\"CP-9\",$AP$8:$AP$49)))","v":0},{"$f":"SUMIF($C$8:$C$49,\"CP-9\",$AQ$8:$AQ$49)","v":0},{"$f":"IF(B59=\"\",SUMIF($C$8:$C$49,\"CP-9\",$AT$8:$AT$49),MAX(IF($C$8:$C$49=\"CP-9\",$AT$8:$AT$49)))","v":0},{"$f":"SUMIF($C$8:$C$49,\"CP-9\",$AU$8:$AU$49)","v":0},{"$f":"IF(B59=\"\",SUMIF($C$8:$C$49,\"CP-9\",$AX$8:$AX$49),MAX(IF($C$8:$C$49=\"CP-9\",$AX$8:$AX$49)))","v":0},{"$f":"SUMIF($C$8:$C$49,\"CP-9\",$AY$8:$AY$49)","v":0},{"$f":"IF(B59=\"\",SUMIF($C$8:$C$49,\"CP-9\",$BB$8:$BB$49),MAX(IF($C$8:$C$49=\"CP-9\",$BB$8:$BB$49)))","v":0},{"$f":"SUMIF($C$8:$C$49,\"CP-9\",$BC$8:$BC$49)","v":0}]
["Vertical w/ obstruction",null,null,null,null,null,null,null,null,null,null,null,null,null,null,null,null,null,null,null,null,null,null,null,"CP-10",{"$f":"IF(B60=\"\",SUMIF($C$8:$C$49,\"CP-10\",$Z$8:$Z$49),MAX(IF($C$8:$C$49=\"CP-10\",$Z$8:$Z$49)))","v":0},{"$f":"SUMIF($C$8:$C$49,\"CP-10\",$AA$8:$AA$49)","v":0},{"$f":"IF(B60=\"\",SUMIF($C$8:$C$49,\"CP-10\",$AD$8:$AD$49),MAX(IF($C$8:$C$49=\"CP-10\",$AD$8:$AD$49)))","v":0},{"$f":"SUMIF($C$8:$C$49,\"CP-10\",$AE$8:$AE$49)","v":0},{"$f":"IF(B60=\"\",SUMIF($C$8:$C$49,\"CP-10\",$AH$8:$AH$49),MAX(IF($C$8:$C$49=\"CP-10\",$AH$8:$AH$49)))","v":0},{"$f":"SUMIF($C$8:$C$49,\"CP-10\",$AI$8:$AI$49)","v":0},{"$f":"IF(B60=\"\",SUMIF($C$8:$C$49,\"CP-10\",$AL$8:$AL$49),MAX(IF($C$8:$C$49=\"CP-10\",$AL$8:$AL$49)))","v":0},{"$f":"SUMIF($C$8:$C$49,\"CP-10\",$AM$8:$AM$49)","v":0},{"$f":"IF(B60=\"\",SUMIF($C$8:$C$49,\"CP-10\",$AP$8:$AP$49),MAX(IF($C$8:$C$49=\"CP-10\",$AP$8:$AP$49)))","v":0},{"$f":"SUMIF($C$8:$C$49,\"CP-10\",$AQ$8:$AQ$49)","v":0},{"$f":"IF(B60=\"\",SUMIF($C$8:$C$49,\"CP-10\",$AT$8:$AT$49),MAX(IF($C$8:$C$49=\"CP-10\",$AT$8:$AT$49)))","v":0},{"$f":"SUMIF($C$8:$C$49,\"CP-10\",$AU$8:$AU$49)","v":0},{"$f":"IF(B60=\"\",SUMIF($C$8:$C$49,\"CP-10\",$AX$8:$AX$49),MAX(IF($C$8:$C$49=\"CP-10\",$AX$8:$AX$49)))","v":0},{"$f":"SUMIF($C$8:$C$49,\"CP-10\",$AY$8:$AY$49)","v":0},{"$f":"IF(B60=\"\",SUMIF($C$8:$C$49,\"CP-10\",$BB$8:$BB$49),MAX(IF($C$8:$C$49=\"CP-10\",$BB$8:$BB$49)))","v":0},{"$f":"SUMIF($C$8:$C$49,\"CP-10\",$BC$8:$BC$49)","v":0}]
["Downward"]
["Horizontal",null,null,null,null,null,null,null,null,null,null,null,null,null,null,null,null,null,null,null,null,null,null,null,null,"≤ 600 BHP","> 600 BHP","≤ 600 BHP","> 600 BHP","≤ 600 BHP","> 600 BHP","≤ 600 BHP","> 600 BHP","≤ 600 BHP","> 600 BHP","≤ 600 BHP","> 600 BHP","≤ 600 BHP","> 600 BHP","≤ 600 BHP","> 600 BHP"]
[null,null,null,null,null,null,null,null,null,null,null,null,null,null,null,null,null,null,null,null,null,null,null,null,"CP-1",{"$f":"IF(B51=\"\",SUMIFS($Z$8:$Z$49,$C$8:C49,\"CP-1\",$B$8:$B$49,\"no\"),MAX(IF($C$8:$C$49=\"CP-1\",IF($B$8:$B$49=\"no\",$Z$8:$Z$49))))","v":0},{"$f":"IF(B51=\"\",SUMIFS($Z$8:$Z$49,$C$8:D49,\"CP-1\",$B$8:$B$49,\"yes\"),MAX(IF($C$8:$C$49=\"CP-1\",IF($B$8:$B$49=\"yes\",$Z$8:$Z$49))))","v":0},{"$f":"IF($B$51=\"\",SUMIFS($AD$8:$AD$49,$C$8:E49,\"CP-1\",$B$8:$B$49,\"no\"),MAX(IF($C$8:$C$49=\"CP-1\",IF($B$8:$B$49=\"no\",$AD$8:$AD$49))))","v":0},{"$f":"IF($B$51=\"\",SUMIFS($AD$8:$AD$49,$C$8:E49,\"CP-1\",$B$8:$B$49,\"yes\"),MAX(IF($C$8:$C$49=\"CP-1\",IF($B$8:$B$49=\"yes\",$AD$8:$AD$49))))","v":0},{"$f":"IF($B$51=\"\",SUMIFS($AH$8:$AH$49,$C$8:E49,\"CP-1\",$B$8:$B$49,\"no\"),MAX(IF($C$8:$C$49=\"CP-1\",IF($B$8:$B$49=\"no\",$AH$8:$AH$49))))","v":0},{"$f":"IF($B$51=\"\",SUMIFS($AH$8:$AH$49,$C$8:G49,\"CP-1\",$B$8:$B$49,\"yes\"),MAX(IF($C$8:$C$49=\"CP-1\",IF($B$8:$B$49=\"yes\",$AH$8:$AH$49))))","v":0},{"$f":"IF($B$51=\"\",SUMIFS($AL$8:$AL$49,$C$8:E49,\"CP-1\",$B$8:$B$49,\"no\"),MAX(IF($C$8:$C$49=\"CP-1\",IF($B$8:$B$49=\"no\",$AL$8:$AL$49))))","v":0},{"$f":"IF($B$51=\"\",SUMIFS($AL$8:$AL$49,$C$8:I49,\"CP-1\",$B$8:$B$49,\"yes\"),MAX(IF($C$8:$C$49=\"CP-1\",IF($B$8:$B$49=\"yes\",$AL$8:$AL$49))))","v":0},{"$f":"IF($B$51=\"\",SUMIFS($AP$8:$AP$49,$C$8:E49,\"CP-1\",$B$8:$B$49,\"no\"),MAX(IF($C$8:$C$49=\"CP-1\",IF($B$8:$B$49=\"no\",$AP$8:$AP$49))))","v":0},{"$f":"IF($B$51=\"\",SUMIFS($AP$8:$AP$49,$C$8:K49,\"CP-1\",$B$8:$B$49,\"yes\"),MAX(IF($C$8:$C$49=\"CP-1\",IF($B$8:$B$49=\"yes\",$AP$8:$AP$49))))","v":0},{"$f":"IF($B$51=\"\",SUMIFS($AT$8:$AT$49,$C$8:E49,\"CP-1\",$B$8:$B$49,\"no\"),MAX(IF($C$8:$C$49=\"CP-1\",IF($B$8:$B$49=\"no\",$AT$8:$AT$49))))","v":0},{"$f":"IF($B$51=\"\",SUMIFS($AT$8:$AT$49,$C$8:M49,\"CP-1\",$B$8:$B$49,\"yes\"),MAX(IF($C$8:$C$49=\"CP-1\",IF($B$8:$B$49=\"yes\",$AT$8:$AT$49))))","v":0},{"$f":"IF($B$51=\"\",SUMIFS($AX$8:$AX$49,$C$8:E49,\"CP-1\",$B$8:$B$49,\"no\"),MAX(IF($C$8:$C$49=\"CP-1\",IF($B$8:$B$49=\"no\",$AX$8:$AX$49))))","v":0},{"$f":"IF($B$51=\"\",SUMIFS($AX$8:$AX$49,$C$8:O49,\"CP-1\",$B$8:$B$49,\"yes\"),MAX(IF($C$8:$C$49=\"CP-1\",IF($B$8:$B$49=\"yes\",$AX$8:$AX$49))))","v":0},{"$f":"IF($B$51=\"\",SUMIFS($BB$8:$BB$49,$C$8:E49,\"CP-1\",$B$8:$B$49,\"no\"),MAX(IF($C$8:$C$49=\"CP-1\",IF($B$8:$B$49=\"no\",$BB$8:$BB$49))))","v":0},{"$f":"IF($B$51=\"\",SUMIFS($BB$8:$BB$49,$C$8:Q49,\"CP-1\",$B$8:$B$49,\"yes\"),MAX(IF($C$8:$C$49=\"CP-1\",IF($B$8:$B$49=\"yes\",$BB$8:$BB$49))))","v":0}]
[null,null,null,null,null,null,null,null,null,null,null,null,null,null,null,null,null,null,null,null,null,null,null,null,"CP-2",{"$f":"IF(B52=\"\",SUMIFS($Z$8:$Z$49,$C$8:C50,\"CP-2\",$B$8:$B$49,\"no\"),MAX(IF($C$8:$C$49=\"CP-2\",IF($B$8:$B$49=\"no\",$Z$8:$Z$49))))","v":0},{"$f":"IF(B52=\"\",SUMIFS($Z$8:$Z$49,$C$8:D50,\"CP-2\",$B$8:$B$49,\"yes\"),MAX(IF($C$8:$C$49=\"CP-2\",IF($B$8:$B$49=\"yes\",$Z$8:$Z$49))))","v":0},{"$f":"IF($B$51=\"\",SUMIFS($AD$8:$AD$49,$C$8:E50,\"CP-2\",$B$8:$B$49,\"no\"),MAX(IF($C$8:$C$49=\"CP-2\",IF($B$8:$B$49=\"no\",$AD$8:$AD$49))))","v":0},{"$f":"IF($B$51=\"\",SUMIFS($AD$8:$AD$49,$C$8:E50,\"CP-2\",$B$8:$B$49,\"yes\"),MAX(IF($C$8:$C$49=\"CP-2\",IF($B$8:$B$49=\"yes\",$AD$8:$AD$49))))","v":0},{"$f":"IF($B$51=\"\",SUMIFS($AH$8:$AH$49,$C$8:E50,\"CP-2\",$B$8:$B$49,\"no\"),MAX(IF($C$8:$C$49=\"CP-2\",IF($B$8:$B$49=\"no\",$AH$8:$AH$49))))","v":0},{"$f":"IF($B$51=\"\",SUMIFS($AH$8:$AH$49,$C$8:G50,\"CP-2\",$B$8:$B$49,\"yes\"),MAX(IF($C$8:$C$49=\"CP-2\",IF($B$8:$B$49=\"yes\",$AH$8:$AH$49))))","v":0},{"$f":"IF($B$51=\"\",SUMIFS($AL$8:$AL$49,$C$8:E50,\"CP-2\",$B$8:$B$49,\"no\"),MAX(IF($C$8:$C$49=\"CP-2\",IF($B$8:$B$49=\"no\",$AL$8:$AL$49))))","v":0},{"$f":"IF($B$51=\"\",SUMIFS($AL$8:$AL$49,$C$8:I50,\"CP-2\",$B$8:$B$49,\"yes\"),MAX(IF($C$8:$C$49=\"CP-2\",IF($B$8:$B$49=\"yes\",$AL$8:$AL$49))))","v":0},{"$f":"IF($B$51=\"\",SUMIFS($AP$8:$AP$49,$C$8:E50,\"CP-2\",$B$8:$B$49,\"no\"),MAX(IF($C$8:$C$49=\"CP-2\",IF($B$8:$B$49=\"no\",$AP$8:$AP$49))))","v":0},{"$f":"IF($B$51=\"\",SUMIFS($AP$8:$AP$49,$C$8:K50,\"CP-2\",$B$8:$B$49,\"yes\"),MAX(IF($C$8:$C$49=\"CP-2\",IF($B$8:$B$49=\"yes\",$AP$8:$AP$49))))","v":0},{"$f":"IF($B$51=\"\",SUMIFS($AT$8:$AT$49,$C$8:E50,\"CP-2\",$B$8:$B$49,\"no\"),MAX(IF($C$8:$C$49=\"CP-2\",IF($B$8:$B$49=\"no\",$AT$8:$AT$49))))","v":0},{"$f":"IF($B$51=\"\",SUMIFS($AT$8:$AT$49,$C$8:M50,\"CP-2\",$B$8:$B$49,\"yes\"),MAX(IF($C$8:$C$49=\"CP-2\",IF($B$8:$B$49=\"yes\",$AT$8:$AT$49))))","v":0},{"$f":"IF($B$51=\"\",SUMIFS($AX$8:$AX$49,$C$8:E50,\"CP-2\",$B$8:$B$49,\"no\"),MAX(IF($C$8:$C$49=\"CP-2\",IF($B$8:$B$49=\"no\",$AX$8:$AX$49))))","v":0},{"$f":"IF($B$51=\"\",SUMIFS($AX$8:$AX$49,$C$8:O50,\"CP-2\",$B$8:$B$49,\"yes\"),MAX(IF($C$8:$C$49=\"CP-2\",IF($B$8:$B$49=\"yes\",$AX$8:$AX$49))))","v":0},{"$f":"IF($B$51=\"\",SUMIFS($BB$8:$BB$49,$C$8:E50,\"CP-2\",$B$8:$B$49,\"no\"),MAX(IF($C$8:$C$49=\"CP-2\",IF($B$8:$B$49=\"no\",$BB$8:$BB$49))))","v":0},{"$f":"IF($B$51=\"\",SUMIFS($BB$8:$BB$49,$C$8:Q50,\"CP-2\",$B$8:$B$49,\"yes\"),MAX(IF($C$8:$C$49=\"CP-2\",IF($B$8:$B$49=\"yes\",$BB$8:$BB$49))))","v":0}]
[null,null,null,null,null,null,null,null,null,null,null,null,null,null,null,null,null,null,null,null,null,null,null,null,"CP-3",{"$f":"IF(B53=\"\",SUMIFS($Z$8:$Z$49,$C$8:C51,\"CP-3\",$B$8:$B$49,\"no\"),MAX(IF($C$8:$C$49=\"CP-3\",IF($B$8:$B$49=\"no\",$Z$8:$Z$49))))","v":0},{"$f":"IF(B53=\"\",SUMIFS($Z$8:$Z$49,$C$8:D51,\"CP-3\",$B$8:$B$49,\"yes\"),MAX(IF($C$8:$C$49=\"CP-3\",IF($B$8:$B$49=\"yes\",$Z$8:$Z$49))))","v":0},{"$f":"IF($B$51=\"\",SUMIFS($AD$8:$AD$49,$C$8:E51,\"CP-3\",$B$8:$B$49,\"no\"),MAX(IF($C$8:$C$49=\"CP-3\",IF($B$8:$B$49=\"no\",$AD$8:$AD$49))))","v":0},{"$f":"IF($B$51=\"\",SUMIFS($AD$8:$AD$49,$C$8:E51,\"CP-3\",$B$8:$B$49,\"yes\"),MAX(IF($C$8:$C$49=\"CP-3\",IF($B$8:$B$49=\"yes\",$AD$8:$AD$49))))","v":0},{"$f":"IF($B$51=\"\",SUMIFS($AH$8:$AH$49,$C$8:E51,\"CP-3\",$B$8:$B$49,\"no\"),MAX(IF($C$8:$C$49=\"CP-3\",IF($B$8:$B$49=\"no\",$AH$8:$AH$49))))","v":0},{"$f":"IF($B$51=\"\",SUMIFS($AH$8:$AH$49,$C$8:G51,\"CP-3\",$B$8:$B$49,\"yes\"),MAX(IF($C$8:$C$49=\"CP-3\",IF($B$8:$B$49=\"yes\",$AH$8:$AH$49))))","v":0},{"$f":"IF($B$51=\"\",SUMIFS($AL$8:$AL$49,$C$8:E51,\"CP-3\",$B$8:$B$49,\"no\"),MAX(IF($C$8:$C$49=\"CP-3\",IF($B$8:$B$49=\"no\",$AL$8:$AL$49))))","v":0},{"$f":"IF($B$51=\"\",SUMIFS($AL$8:$AL$49,$C$8:I51,\"CP-3\",$B$8:$B$49,\"yes\"),MAX(IF($C$8:$C$49=\"CP-3\",IF($B$8:$B$49=\"yes\",$AL$8:$AL$49))))","v":0},{"$f":"IF($B$51=\"\",SUMIFS($AP$8:$AP$49,$C$8:E51,\"CP-3\",$B$8:$B$49,\"no\"),MAX(IF($C$8:$C$49=\"CP-3\",IF($B$8:$B$49=\"no\",$AP$8:$AP$49))))","v":0},{"$f":"IF($B$51=\"\",SUMIFS($AP$8:$AP$49,$C$8:K51,\"CP-3\",$B$8:$B$49,\"yes\"),MAX(IF($C$8:$C$49=\"CP-3\",IF($B$8:$B$49=\"yes\",$AP$8:$AP$49))))","v":0},{"$f":"IF($B$51=\"\",SUMIFS($AT$8:$AT$49,$C$8:E51,\"CP-3\",$B$8:$B$49,\"no\"),MAX(IF($C$8:$C$49=\"CP-3\",IF($B$8:$B$49=\"no\",$AT$8:$AT$49))))","v":0},{"$f":"IF($B$51=\"\",SUMIFS($AT$8:$AT$49,$C$8:M51,\"CP-3\",$B$8:$B$49,\"yes\"),MAX(IF($C$8:$C$49=\"CP-3\",IF($B$8:$B$49=\"yes\",$AT$8:$AT$49))))","v":0},{"$f":"IF($B$51=\"\",SUMIFS($AX$8:$AX$49,$C$8:E51,\"CP-3\",$B$8:$B$49,\"no\"),MAX(IF($C$8:$C$49=\"CP-3\",IF($B$8:$B$49=\"no\",$AX$8:$AX$49))))","v":0},{"$f":"IF($B$51=\"\",SUMIFS($AX$8:$AX$49,$C$8:O51,\"CP-3\",$B$8:$B$49,\"yes\"),MAX(IF($C$8:$C$49=\"CP-3\",IF($B$8:$B$49=\"yes\",$AX$8:$AX$49))))","v":0},{"$f":"IF($B$51=\"\",SUMIFS($BB$8:$BB$49,$C$8:E51,\"CP-3\",$B$8:$B$49,\"no\"),MAX(IF($C$8:$C$49=\"CP-3\",IF($B$8:$B$49=\"no\",$BB$8:$BB$49))))","v":0},{"$f":"IF($B$51=\"\",SUMIFS($BB$8:$BB$49,$C$8:Q51,\"CP-3\",$B$8:$B$49,\"yes\"),MAX(IF($C$8:$C$49=\"CP-3\",IF($B$8:$B$49=\"yes\",$BB$8:$BB$49))))","v":0}]
[null,null,null,null,null,null,null,null,null,null,null,null,null,null,null,null,null,null,null,null,null,null,null,null,"CP-4",{"$f":"IF(B54=\"\",SUMIFS($Z$8:$Z$49,$C$8:C52,\"CP-4\",$B$8:$B$49,\"no\"),MAX(IF($C$8:$C$49=\"CP-4\",IF($B$8:$B$49=\"no\",$Z$8:$Z$49))))","v":0},{"$f":"IF(B54=\"\",SUMIFS($Z$8:$Z$49,$C$8:D52,\"CP-4\",$B$8:$B$49,\"yes\"),MAX(IF($C$8:$C$49=\"CP-4\",IF($B$8:$B$49=\"yes\",$Z$8:$Z$49))))","v":0},{"$f":"IF($B$51=\"\",SUMIFS($AD$8:$AD$49,$C$8:E52,\"CP-4\",$B$8:$B$49,\"no\"),MAX(IF($C$8:$C$49=\"CP-4\",IF($B$8:$B$49=\"no\",$AD$8:$AD$49))))","v":0},{"$f":"IF($B$51=\"\",SUMIFS($AD$8:$AD$49,$C$8:E52,\"CP-4\",$B$8:$B$49,\"yes\"),MAX(IF($C$8:$C$49=\"CP-4\",IF($B$8:$B$49=\"yes\",$AD$8:$AD$49))))","v":0},{"$f":"IF($B$51=\"\",SUMIFS($AH$8:$AH$49,$C$8:E52,\"CP-4\",$B$8:$B$49,\"no\"),MAX(IF($C$8:$C$49=\"CP-4\",IF($B$8:$B$49=\"no\",$AH$8:$AH$49))))","v":0},{"$f":"IF($B$51=\"\",SUMIFS($AH$8:$AH$49,$C$8:G52,\"CP-4\",$B$8:$B$49,\"yes\"),MAX(IF($C$8:$C$49=\"CP-4\",IF($B$8:$B$49=\"yes\",$AH$8:$AH$49))))","v":0},{"$f":"IF($B$51=\"\",SUMIFS($AL$8:$AL$49,$C$8:E52,\"CP-4\",$B$8:$B$49,\"no\"),MAX(IF($C$8:$C$49=\"CP-4\",IF($B$8:$B$49=\"no\",$AL$8:$AL$49))))","v":0},{"$f":"IF($B$51=\"\",SUMIFS($AL$8:$AL$49,$C$8:I52,\"CP-4\",$B$8:$B$49,\"yes\"),MAX(IF($C$8:$C$49=\"CP-4\",IF($B$8:$B$49=\"yes\",$AL$8:$AL$49))))","v":0},{"$f":"IF($B$51=\"\",SUMIFS($AP$8:$AP$49,$C$8:E52,\"CP-4\",$B$8:$B$49,\"no\"),MAX(IF($C$8:$C$49=\"CP-4\",IF($B$8:$B$49=\"no\",$AP$8:$AP$49))))","v":0},{"$f":"IF($B$51=\"\",SUMIFS($AP$8:$AP$49,$C$8:K52,\"CP-4\",$B$8:$B$49,\"yes\"),MAX(IF($C$8:$C$49=\"CP-4\",IF($B$8:$B$49=\"yes\",$AP$8:$AP$49))))","v":0},{"$f":"IF($B$51=\"\",SUMIFS($AT$8:$AT$49,$C$8:E52,\"CP-4\",$B$8:$B$49,\"no\"),MAX(IF($C$8:$C$49=\"CP-4\",IF($B$8:$B$49=\"no\",$AT$8:$AT$49))))","v":0},{"$f":"IF($B$51=\"\",SUMIFS($AT$8:$AT$49,$C$8:M52,\"CP-4\",$B$8:$B$49,\"yes\"),MAX(IF($C$8:$C$49=\"CP-4\",IF($B$8:$B$49=\"yes\",$AT$8:$AT$49))))","v":0},{"$f":"IF($B$51=\"\",SUMIFS($AX$8:$AX$49,$C$8:E52,\"CP-4\",$B$8:$B$49,\"no\"),MAX(IF($C$8:$C$49=\"CP-4\",IF($B$8:$B$49=\"no\",$AX$8:$AX$49))))","v":0},{"$f":"IF($B$51=\"\",SUMIFS($AX$8:$AX$49,$C$8:O52,\"CP-4\",$B$8:$B$49,\"yes\"),MAX(IF($C$8:$C$49=\"CP-4\",IF($B$8:$B$49=\"yes\",$AX$8:$AX$49))))","v":0},{"$f":"IF($B$51=\"\",SUMIFS($BB$8:$BB$49,$C$8:E52,\"CP-4\",$B$8:$B$49,\"no\"),MAX(IF($C$8:$C$49=\"CP-4\",IF($B$8:$B$49=\"no\",$BB$8:$BB$49))))","v":0},{"$f":"IF($B$51=\"\",SUMIFS($BB$8:$BB$49,$C$8:Q52,\"CP-4\",$B$8:$B$49,\"yes\"),MAX(IF($C$8:$C$49=\"CP-4\",IF($B$8:$B$49=\"yes\",$BB$8:$BB$49))))","v":0}]
[null,null,null,null,null,null,null,null,null,null,null,null,null,null,null,null,null,null,null,null,null,null,null,null,"CP-5",{"$f":"IF(B55=\"\",SUMIFS($Z$8:$Z$49,$C$8:C53,\"CP-5\",$B$8:$B$49,\"no\"),MAX(IF($C$8:$C$49=\"CP-5\",IF($B$8:$B$49=\"no\",$Z$8:$Z$49))))","v":0},{"$f":"IF(B55=\"\",SUMIFS($Z$8:$Z$49,$C$8:D53,\"CP-5\",$B$8:$B$49,\"yes\"),MAX(IF($C$8:$C$49=\"CP-5\",IF($B$8:$B$49=\"yes\",$Z$8:$Z$49))))","v":0},{"$f":"IF($B$51=\"\",SUMIFS($AD$8:$AD$49,$C$8:E53,\"CP-5\",$B$8:$B$49,\"no\"),MAX(IF($C$8:$C$49=\"CP-5\",IF($B$8:$B$49=\"no\",$AD$8:$AD$49))))","v":0},{"$f":"IF($B$51=\"\",SUMIFS($AD$8:$AD$49,$C$8:E53,\"CP-5\",$B$8:$B$49,\"yes\"),MAX(IF($C$8:$C$49=\"CP-5\",IF($B$8:$B$49=\"yes\",$AD$8:$AD$49))))","v":0},{"$f":"IF($B$51=\"\",SUMIFS($AH$8:$AH$49,$C$8:E53,\"CP-5\",$B$8:$B$49,\"no\"),MAX(IF($C$8:$C$49=\"CP-5\",IF($B$8:$B$49=\"no\",$AH$8:$AH$49))))","v":0},{"$f":"IF($B$51=\"\",SUMIFS($AH$8:$AH$49,$C$8:G53,\"CP-5\",$B$8:$B$49,\"yes\"),MAX(IF($C$8:$C$49=\"CP-5\",IF($B$8:$B$49=\"yes\",$AH$8:$AH$49))))","v":0},{"$f":"IF($B$51=\"\",SUMIFS($AL$8:$AL$49,$C$8:E53,\"CP-5\",$B$8:$B$49,\"no\"),MAX(IF($C$8:$C$49=\"CP-5\",IF($B$8:$B$49=\"no\",$AL$8:$AL$49))))","v":0},{"$f":"IF($B$51=\"\",SUMIFS($AL$8:$AL$49,$C$8:I53,\"CP-5\",$B$8:$B$49,\"yes\"),MAX(IF($C$8:$C$49=\"CP-5\",IF($B$8:$B$49=\"yes\",$AL$8:$AL$49))))","v":0},{"$f":"IF($B$51=\"\",SUMIFS($AP$8:$AP$49,$C$8:E53,\"CP-5\",$B$8:$B$49,\"no\"),MAX(IF($C$8:$C$49=\"CP-5\",IF($B$8:$B$49=\"no\",$AP$8:$AP$49))))","v":0},{"$f":"IF($B$51=\"\",SUMIFS($AP$8:$AP$49,$C$8:K53,\"CP-5\",$B$8:$B$49,\"yes\"),MAX(IF($C$8:$C$49=\"CP-5\",IF($B$8:$B$49=\"yes\",$AP$8:$AP$49))))","v":0},{"$f":"IF($B$51=\"\",SUMIFS($AT$8:$AT$49,$C$8:E53,\"CP-5\",$B$8:$B$49,\"no\"),MAX(IF($C$8:$C$49=\"CP-5\",IF($B$8:$B$49=\"no\",$AT$8:$AT$49))))","v":0},{"$f":"IF($B$51=\"\",SUMIFS($AT$8:$AT$49,$C$8:M53,\"CP-5\",$B$8:$B$49,\"yes\"),MAX(IF($C$8:$C$49=\"CP-5\",IF($B$8:$B$49=\"yes\",$AT$8:$AT$49))))","v":0},{"$f":"IF($B$51=\"\",SUMIFS($AX$8:$AX$49,$C$8:E53,\"CP-5\",$B$8:$B$49,\"no\"),MAX(IF($C$8:$C$49=\"CP-5\",IF($B$8:$B$49=\"no\",$AX$8:$AX$49))))","v":0},{"$f":"IF($B$51=\"\",SUMIFS($AX$8:$AX$49,$C$8:O53,\"CP-5\",$B$8:$B$49,\"yes\"),MAX(IF($C$8:$C$49=\"CP-5\",IF($B$8:$B$49=\"yes\",$AX$8:$AX$49))))","v":0},{"$f":"IF($B$51=\"\",SUMIFS($BB$8:$BB$49,$C$8:E53,\"CP-5\",$B$8:$B$49,\"no\"),MAX(IF($C$8:$C$49=\"CP-5\",IF($B$8:$B$49=\"no\",$BB$8:$BB$49))))","v":0},{"$f":"IF($B$51=\"\",SUMIFS($BB$8:$BB$49,$C$8:Q53,\"CP-5\",$B$8:$B$49,\"yes\"),MAX(IF($C$8:$C$49=\"CP-5\",IF($B$8:$B$49=\"yes\",$BB$8:$BB$49))))","v":0}]
[null,null,null,null,null,null,null,null,null,null,null,null,null,null,null,null,null,null,null,null,null,null,null,null,"CP-6",{"$f":"IF(B56=\"\",SUMIFS($Z$8:$Z$49,$C$8:C54,\"CP-6\",$B$8:$B$49,\"no\"),MAX(IF($C$8:$C$49=\"CP-6\",IF($B$8:$B$49=\"no\",$Z$8:$Z$49))))","v":0},{"$f":"IF(B56=\"\",SUMIFS($Z$8:$Z$49,$C$8:D54,\"CP-6\",$B$8:$B$49,\"yes\"),MAX(IF($C$8:$C$49=\"CP-6\",IF($B$8:$B$49=\"yes\",$Z$8:$Z$49))))","v":0},{"$f":"IF($B$51=\"\",SUMIFS($AD$8:$AD$49,$C$8:E54,\"CP-6\",$B$8:$B$49,\"no\"),MAX(IF($C$8:$C$49=\"CP-6\",IF($B$8:$B$49=\"no\",$AD$8:$AD$49))))","v":0},{"$f":"IF($B$51=\"\",SUMIFS($AD$8:$AD$49,$C$8:E54,\"CP-6\",$B$8:$B$49,\"yes\"),MAX(IF($C$8:$C$49=\"CP-6\",IF($B$8:$B$49=\"yes\",$AD$8:$AD$49))))","v":0},{"$f":"IF($B$51=\"\",SUMIFS($AH$8:$AH$49,$C$8:E54,\"CP-6\",$B$8:$B$49,\"no\"),MAX(IF($C$8:$C$49=\"CP-6\",IF($B$8:$B$49=\"no\",$AH$8:$AH$49))))","v":0},{"$f":"IF($B$51=\"\",SUMIFS($AH$8:$AH$49,$C$8:G54,\"CP-6\",$B$8:$B$49,\"yes\"),MAX(IF($C$8:$C$49=\"CP-6\",IF($B$8:$B$49=\"yes\",$AH$8:$AH$49))))","v":0},{"$f":"IF($B$51=\"\",SUMIFS($AL$8:$AL$49,$C$8:E54,\"CP-6\",$B$8:$B$49,\"no\"),MAX(IF($C$8:$C$49=\"CP-6\",IF($B$8:$B$49=\"no\",$AL$8:$AL$49))))","v":0},{"$f":"IF($B$51=\"\",SUMIFS($AL$8:$AL$49,$C$8:I54,\"CP-6\",$B$8:$B$49,\"yes\"),MAX(IF($C$8:$C$49=\"CP-6\",IF($B$8:$B$49=\"yes\",$AL$8:$AL$49))))","v":0},{"$f":"IF($B$51=\"\",SUMIFS($AP$8:$AP$49,$C$8:E54,\"CP-6\",$B$8:$B$49,\"no\"),MAX(IF($C$8:$C$49=\"CP-6\",IF($B$8:$B$49=\"no\",$AP$8:$AP$49))))","v":0},{"$f":"IF($B$51=\"\",SUMIFS($AP$8:$AP$49,$C$8:K54,\"CP-6\",$B$8:$B$49,\"yes\"),MAX(IF($C$8:$C$49=\"CP-6\",IF($B$8:$B$49=\"yes\",$AP$8:$AP$49))))","v":0},{"$f":"IF($B$51=\"\",SUMIFS($AT$8:$AT$49,$C$8:E54,\"CP-6\",$B$8:$B$49,\"no\"),MAX(IF($C$8:$C$49=\"CP-6\",IF($B$8:$B$49=\"no\",$AT$8:$AT$49))))","v":0},{"$f":"IF($B$51=\"\",SUMIFS($AT$8:$AT$49,$C$8:M54,\"CP-6\",$B$8:$B$49,\"yes\"),MAX(IF($C$8:$C$49=\"CP-6\",IF($B$8:$B$49=\"yes\",$AT$8:$AT$49))))","v":0},{"$f":"IF($B$51=\"\",SUMIFS($AX$8:$AX$49,$C$8:E54,\"CP-6\",$B$8:$B$49,\"no\"),MAX(IF($C$8:$C$49=\"CP-6\",IF($B$8:$B$49=\"no\",$AX$8:$AX$49))))","v":0},{"$f":"IF($B$51=\"\",SUMIFS($AX$8:$AX$49,$C$8:O54,\"CP-6\",$B$8:$B$49,\"yes\"),MAX(IF($C$8:$C$49=\"CP-6\",IF($B$8:$B$49=\"yes\",$AX$8:$AX$49))))","v":0},{"$f":"IF($B$51=\"\",SUMIFS($BB$8:$BB$49,$C$8:E54,\"CP-6\",$B$8:$B$49,\"no\"),MAX(IF($C$8:$C$49=\"CP-6\",IF($B$8:$B$49=\"no\",$BB$8:$BB$49))))","v":0},{"$f":"IF($B$51=\"\",SUMIFS($BB$8:$BB$49,$C$8:Q54,\"CP-6\",$B$8:$B$49,\"yes\"),MAX(IF($C$8:$C$49=\"CP-6\",IF($B$8:$B$49=\"yes\",$BB$8:$BB$49))))","v":0}]
[null,null,null,null,null,null,null,null,null,null,null,null,null,null,null,null,null,null,null,null,null,null,null,null,"CP-7",{"$f":"IF(B57=\"\",SUMIFS($Z$8:$Z$49,$C$8:C55,\"CP-7\",$B$8:$B$49,\"no\"),MAX(IF($C$8:$C$49=\"CP-7\",IF($B$8:$B$49=\"no\",$Z$8:$Z$49))))","v":0},{"$f":"IF(B57=\"\",SUMIFS($Z$8:$Z$49,$C$8:D55,\"CP-7\",$B$8:$B$49,\"yes\"),MAX(IF($C$8:$C$49=\"CP-7\",IF($B$8:$B$49=\"yes\",$Z$8:$Z$49))))","v":0},{"$f":"IF($B$51=\"\",SUMIFS($AD$8:$AD$49,$C$8:E55,\"CP-7\",$B$8:$B$49,\"no\"),MAX(IF($C$8:$C$49=\"CP-7\",IF($B$8:$B$49=\"no\",$AD$8:$AD$49))))","v":0},{"$f":"IF($B$51=\"\",SUMIFS($AD$8:$AD$49,$C$8:E55,\"CP-7\",$B$8:$B$49,\"yes\"),MAX(IF($C$8:$C$49=\"CP-7\",IF($B$8:$B$49=\"yes\",$AD$8:$AD$49))))","v":0},{"$f":"IF($B$51=\"\",SUMIFS($AH$8:$AH$49,$C$8:E55,\"CP-7\",$B$8:$B$49,\"no\"),MAX(IF($C$8:$C$49=\"CP-7\",IF($B$8:$B$49=\"no\",$AH$8:$AH$49))))","v":0},{"$f":"IF($B$51=\"\",SUMIFS($AH$8:$AH$49,$C$8:G55,\"CP-7\",$B$8:$B$49,\"yes\"),MAX(IF($C$8:$C$49=\"CP-7\",IF($B$8:$B$49=\"yes\",$AH$8:$AH$49))))","v":0},{"$f":"IF($B$51=\"\",SUMIFS($AL$8:$AL$49,$C$8:E55,\"CP-7\",$B$8:$B$49,\"no\"),MAX(IF($C$8:$C$49=\"CP-7\",IF($B$8:$B$49=\"no\",$AL$8:$AL$49))))","v":0},{"$f":"IF($B$51=\"\",SUMIFS($AL$8:$AL$49,$C$8:I55,\"CP-7\",$B$8:$B$49,\"yes\"),MAX(IF($C$8:$C$49=\"CP-7\",IF($B$8:$B$49=\"yes\",$AL$8:$AL$49))))","v":0},{"$f":"IF($B$51=\"\",SUMIFS($AP$8:$AP$49,$C$8:E55,\"CP-7\",$B$8:$B$49,\"no\"),MAX(IF($C$8:$C$49=\"CP-7\",IF($B$8:$B$49=\"no\",$AP$8:$AP$49))))","v":0},{"$f":"IF($B$51=\"\",SUMIFS($AP$8:$AP$49,$C$8:K55,\"CP-7\",$B$8:$B$49,\"yes\"),MAX(IF($C$8:$C$49=\"CP-7\",IF($B$8:$B$49=\"yes\",$AP$8:$AP$49))))","v":0},{"$f":"IF($B$51=\"\",SUMIFS($AT$8:$AT$49,$C$8:E55,\"CP-7\",$B$8:$B$49,\"no\"),MAX(IF($C$8:$C$49=\"CP-7\",IF($B$8:$B$49=\"no\",$AT$8:$AT$49))))","v":0},{"$f":"IF($B$51=\"\",SUMIFS($AT$8:$AT$49,$C$8:M55,\"CP-7\",$B$8:$B$49,\"yes\"),MAX(IF($C$8:$C$49=\"CP-7\",IF($B$8:$B$49=\"yes\",$AT$8:$AT$49))))","v":0},{"$f":"IF($B$51=\"\",SUMIFS($AX$8:$AX$49,$C$8:E55,\"CP-7\",$B$8:$B$49,\"no\"),MAX(IF($C$8:$C$49=\"CP-7\",IF($B$8:$B$49=\"no\",$AX$8:$AX$49))))","v":0},{"$f":"IF($B$51=\"\",SUMIFS($AX$8:$AX$49,$C$8:O55,\"CP-7\",$B$8:$B$49,\"yes\"),MAX(IF($C$8:$C$49=\"CP-7\",IF($B$8:$B$49=\"yes\",$AX$8:$AX$49))))","v":0},{"$f":"IF($B$51=\"\",SUMIFS($BB$8:$BB$49,$C$8:E55,\"CP-7\",$B$8:$B$49,\"no\"),MAX(IF($C$8:$C$49=\"CP-7\",IF($B$8:$B$49=\"no\",$BB$8:$BB$49))))","v":0},{"$f":"IF($B$51=\"\",SUMIFS($BB$8:$BB$49,$C$8:Q55,\"CP-7\",$B$8:$B$49,\"yes\"),MAX(IF($C$8:$C$49=\"CP-7\",IF($B$8:$B$49=\"yes\",$BB$8:$BB$49))))","v":0}]
[null,null,null,null,null,null,null,null,null,null,null,null,null,null,null,null,null,null,null,null,null,null,null,null,"CP-8",{"$f":"IF(B58=\"\",SUMIFS($Z$8:$Z$49,$C$8:C56,\"CP-8\",$B$8:$B$49,\"no\"),MAX(IF($C$8:$C$49=\"CP-8\",IF($B$8:$B$49=\"no\",$Z$8:$Z$49))))","v":0},{"$f":"IF(B58=\"\",SUMIFS($Z$8:$Z$49,$C$8:D56,\"CP-8\",$B$8:$B$49,\"yes\"),MAX(IF($C$8:$C$49=\"CP-8\",IF($B$8:$B$49=\"yes\",$Z$8:$Z$49))))","v":0},{"$f":"IF($B$51=\"\",SUMIFS($AD$8:$AD$49,$C$8:E56,\"CP-8\",$B$8:$B$49,\"no\"),MAX(IF($C$8:$C$49=\"CP-8\",IF($B$8:$B$49=\"no\",$AD$8:$AD$49))))","v":0},{"$f":"IF($B$51=\"\",SUMIFS($AD$8:$AD$49,$C$8:E56,\"CP-8\",$B$8:$B$49,\"yes\"),MAX(IF($C$8:$C$49=\"CP-8\",IF($B$8:$B$49=\"yes\",$AD$8:$AD$49))))","v":0},{"$f":"IF($B$51=\"\",SUMIFS($AH$8:$AH$49,$C$8:E56,\"CP-8\",$B$8:$B$49,\"no\"),MAX(IF($C$8:$C$49=\"CP-8\",IF($B$8:$B$49=\"no\",$AH$8:$AH$49))))","v":0},{"$f":"IF($B$51=\"\",SUMIFS($AH$8:$AH$49,$C$8:G56,\"CP-8\",$B$8:$B$49,\"yes\"),MAX(IF($C$8:$C$49=\"CP-8\",IF($B$8:$B$49=\"yes\",$AH$8:$AH$49))))","v":0},{"$f":"IF($B$51=\"\",SUMIFS($AL$8:$AL$49,$C$8:E56,\"CP-8\",$B$8:$B$49,\"no\"),MAX(IF($C$8:$C$49=\"CP-8\",IF($B$8:$B$49=\"no\",$AL$8:$AL$49))))","v":0},{"$f":"IF($B$51=\"\",SUMIFS($AL$8:$AL$49,$C$8:I56,\"CP-8\",$B$8:$B$49,\"yes\"),MAX(IF($C$8:$C$49=\"CP-8\",IF($B$8:$B$49=\"yes\",$AL$8:$AL$49))))","v":0},{"$f":"IF($B$51=\"\",SUMIFS($AP$8:$AP$49,$C$8:E56,\"CP-8\",$B$8:$B$49,\"no\"),MAX(IF($C$8:$C$49=\"CP-8\",IF($B$8:$B$49=\"no\",$AP$8:$AP$49))))","v":0},{"$f":"IF($B$51=\"\",SUMIFS($AP$8:$AP$49,$C$8:K56,\"CP-8\",$B$8:$B$49,\"yes\"),MAX(IF($C$8:$C$49=\"CP-8\",IF($B$8:$B$49=\"yes\",$AP$8:$AP$49))))","v":0},{"$f":"IF($B$51=\"\",SUMIFS($AT$8:$AT$49,$C$8:E56,\"CP-8\",$B$8:$B$49,\"no\"),MAX(IF($C$8:$C$49=\"CP-8\",IF($B$8:$B$49=\"no\",$AT$8:$AT$49))))","v":0},{"$f":"IF($B$51=\"\",SUMIFS($AT$8:$AT$49,$C$8:M56,\"CP-8\",$B$8:$B$49,\"yes\"),MAX(IF($C$8:$C$49=\"CP-8\",IF($B$8:$B$49=\"yes\",$AT$8:$AT$49))))","v":0},{"$f":"IF($B$51=\"\",SUMIFS($AX$8:$AX$49,$C$8:E56,\"CP-8\",$B$8:$B$49,\"no\"),MAX(IF($C$8:$C$49=\"CP-8\",IF($B$8:$B$49=\"no\",$AX$8:$AX$49))))","v":0},{"$f":"IF($B$51=\"\",SUMIFS($AX$8:$AX$49,$C$8:O56,\"CP-8\",$B$8:$B$49,\"yes\"),MAX(IF($C$8:$C$49=\"CP-8\",IF($B$8:$B$49=\"yes\",$AX$8:$AX$49))))","v":0},{"$f":"IF($B$51=\"\",SUMIFS($BB$8:$BB$49,$C$8:E56,\"CP-8\",$B$8:$B$49,\"no\"),MAX(IF($C$8:$C$49=\"CP-8\",IF($B$8:$B$49=\"no\",$BB$8:$BB$49))))","v":0},{"$f":"IF($B$51=\"\",SUMIFS($BB$8:$BB$49,$C$8:Q56,\"CP-8\",$B$8:$B$49,\"yes\"),MAX(IF($C$8:$C$49=\"CP-8\",IF($B$8:$B$49=\"yes\",$BB$8:$BB$49))))","v":0}]
[null,null,null,null,null,null,null,null,null,null,null,null,null,null,null,null,null,null,null,null,null,null,null,null,"CP-9",{"$f":"IF(B59=\"\",SUMIFS($Z$8:$Z$49,$C$8:C57,\"CP-9\",$B$8:$B$49,\"no\"),MAX(IF($C$8:$C$49=\"CP-9\",IF($B$8:$B$49=\"no\",$Z$8:$Z$49))))","v":0},{"$f":"IF(B59=\"\",SUMIFS($Z$8:$Z$49,$C$8:D57,\"CP-9\",$B$8:$B$49,\"yes\"),MAX(IF($C$8:$C$49=\"CP-9\",IF($B$8:$B$49=\"yes\",$Z$8:$Z$49))))","v":0},{"$f":"IF($B$51=\"\",SUMIFS($AD$8:$AD$49,$C$8:E57,\"CP-9\",$B$8:$B$49,\"no\"),MAX(IF($C$8:$C$49=\"CP-9\",IF($B$8:$B$49=\"no\",$AD$8:$AD$49))))","v":0},{"$f":"IF($B$51=\"\",SUMIFS($AD$8:$AD$49,$C$8:E57,\"CP-9\",$B$8:$B$49,\"yes\"),MAX(IF($C$8:$C$49=\"CP-9\",IF($B$8:$B$49=\"yes\",$AD$8:$AD$49))))","v":0},{"$f":"IF($B$51=\"\",SUMIFS($AH$8:$AH$49,$C$8:E57,\"CP-9\",$B$8:$B$49,\"no\"),MAX(IF($C$8:$C$49=\"CP-9\",IF($B$8:$B$49=\"no\",$AH$8:$AH$49))))","v":0},{"$f":"IF($B$51=\"\",SUMIFS($AH$8:$AH$49,$C$8:G57,\"CP-9\",$B$8:$B$49,\"yes\"),MAX(IF($C$8:$C$49=\"CP-9\",IF($B$8:$B$49=\"yes\",$AH$8:$AH$49))))","v":0},{"$f":"IF($B$51=\"\",SUMIFS($AL$8:$AL$49,$C$8:E57,\"CP-9\",$B$8:$B$49,\"no\"),MAX(IF($C$8:$C$49=\"CP-9\",IF($B$8:$B$49=\"no\",$AL$8:$AL$49))))","v":0},{"$f":"IF($B$51=\"\",SUMIFS($AL$8:$AL$49,$C$8:I57,\"CP-9\",$B$8:$B$49,\"yes\"),MAX(IF($C$8:$C$49=\"CP-9\",IF($B$8:$B$49=\"yes\",$AL$8:$AL$49))))","v":0},{"$f":"IF($B$51=\"\",SUMIFS($AP$8:$AP$49,$C$8:E57,\"CP-9\",$B$8:$B$49,\"no\"),MAX(IF($C$8:$C$49=\"CP-9\",IF($B$8:$B$49=\"no\",$AP$8:$AP$49))))","v":0},{"$f":"IF($B$51=\"\",SUMIFS($AP$8:$AP$49,$C$8:K57,\"CP-9\",$B$8:$B$49,\"yes\"),MAX(IF($C$8:$C$49=\"CP-9\",IF($B$8:$B$49=\"yes\",$AP$8:$AP$49))))","v":0},{"$f":"IF($B$51=\"\",SUMIFS($AT$8:$AT$49,$C$8:E57,\"CP-9\",$B$8:$B$49,\"no\"),MAX(IF($C$8:$C$49=\"CP-9\",IF($B$8:$B$49=\"no\",$AT$8:$AT$49))))","v":0},{"$f":"IF($B$51=\"\",SUMIFS($AT$8:$AT$49,$C$8:M57,\"CP-9\",$B$8:$B$49,\"yes\"),MAX(IF($C$8:$C$49=\"CP-9\",IF($B$8:$B$49=\"yes\",$AT$8:$AT$49))))","v":0},{"$f":"IF($B$51=\"\",SUMIFS($AX$8:$AX$49,$C$8:E57,\"CP-9\",$B$8:$B$49,\"no\"),MAX(IF($C$8:$C$49=\"CP-9\",IF($B$8:$B$49=\"no\",$AX$8:$AX$49))))","v":0},{"$f":"IF($B$51=\"\",SUMIFS($AX$8:$AX$49,$C$8:O57,\"CP-9\",$B$8:$B$49,\"yes\"),MAX(IF($C$8:$C$49=\"CP-9\",IF($B$8:$B$49=\"yes\",$AX$8:$AX$49))))","v":0},{"$f":"IF($B$51=\"\",SUMIFS($BB$8:$BB$49,$C$8:E57,\"CP-9\",$B$8:$B$49,\"no\"),MAX(IF($C$8:$C$49=\"CP-9\",IF($B$8:$B$49=\"no\",$BB$8:$BB$49))))","v":0},{"$f":"IF($B$51=\"\",SUMIFS($BB$8:$BB$49,$C$8:Q57,\"CP-9\",$B$8:$B$49,\"yes\"),MAX(IF($C$8:$C$49=\"CP-9\",IF($B$8:$B$49=\"yes\",$BB$8:$BB$49))))","v":0}]
[null,null,null,null,null,null,null,null,null,null,null,null,null,null,null,null,null,null,null,null,null,null,null,null,"CP-10",{"$f":"IF(B60=\"\",SUMIFS($Z$8:$Z$49,$C$8:C58,\"CP-10\",$B$8:$B$49,\"no\"),MAX(IF($C$8:$C$49=\"CP-10\",IF($B$8:$B$49=\"no\",$Z$8:$Z$49))))","v":0},{"$f":"IF(B60=\"\",SUMIFS($Z$8:$Z$49,$C$8:D58,\"CP-10\",$B$8:$B$49,\"yes\"),MAX(IF($C$8:$C$49=\"CP-10\",IF($B$8:$B$49=\"yes\",$Z$8:$Z$49))))","v":0},{"$f":"IF($B$51=\"\",SUMIFS($AD$8:$AD$49,$C$8:E58,\"CP-10\",$B$8:$B$49,\"no\"),MAX(IF($C$8:$C$49=\"CP-10\",IF($B$8:$B$49=\"no\",$AD$8:$AD$49))))","v":0},{"$f":"IF($B$51=\"\",SUMIFS($AD$8:$AD$49,$C$8:E58,\"CP-10\",$B$8:$B$49,\"yes\"),MAX(IF($C$8:$C$49=\"CP-10\",IF($B$8:$B$49=\"yes\",$AD$8:$AD$49))))","v":0},{"$f":"IF($B$51=\"\",SUMIFS($AH$8:$AH$49,$C$8:E58,\"CP-10\",$B$8:$B$49,\"no\"),MAX(IF($C$8:$C$49=\"CP-10\",IF($B$8:$B$49=\"no\",$AH$8:$AH$49))))","v":0},{"$f":"IF($B$51=\"\",SUMIFS($AH$8:$AH$49,$C$8:G58,\"CP-10\",$B$8:$B$49,\"yes\"),MAX(IF($C$8:$C$49=\"CP-10\",IF($B$8:$B$49=\"yes\",$AH$8:$AH$49))))","v":0},{"$f":"IF($B$51=\"\",SUMIFS($AL$8:$AL$49,$C$8:E58,\"CP-10\",$B$8:$B$49,\"no\"),MAX(IF($C$8:$C$49=\"CP-10\",IF($B$8:$B$49=\"no\",$AL$8:$AL$49))))","v":0},{"$f":"IF($B$51=\"\",SUMIFS($AL$8:$AL$49,$C$8:I58,\"CP-10\",$B$8:$B$49,\"yes\"),MAX(IF($C$8:$C$49=\"CP-10\",IF($B$8:$B$49=\"yes\",$AL$8:$AL$49))))","v":0},{"$f":"IF($B$51=\"\",SUMIFS($AP$8:$AP$49,$C$8:E58,\"CP-10\",$B$8:$B$49,\"no\"),MAX(IF($C$8:$C$49=\"CP-10\",IF($B$8:$B$49=\"no\",$AP$8:$AP$49))))","v":0},{"$f":"IF($B$51=\"\",SUMIFS($AP$8:$AP$49,$C$8:K58,\"CP-10\",$B$8:$B$49,\"yes\"),MAX(IF($C$8:$C$49=\"CP-10\",IF($B$8:$B$49=\"yes\",$AP$8:$AP$49))))","v":0},{"$f":"IF($B$51=\"\",SUMIFS($AT$8:$AT$49,$C$8:E58,\"CP-10\",$B$8:$B$49,\"no\"),MAX(IF($C$8:$C$49=\"CP-10\",IF($B$8:$B$49=\"no\",$AT$8:$AT$49))))","v":0},{"$f":"IF($B$51=\"\",SUMIFS($AT$8:$AT$49,$C$8:M58,\"CP-10\",$B$8:$B$49,\"yes\"),MAX(IF($C$8:$C$49=\"CP-10\",IF($B$8:$B$49=\"yes\",$AT$8:$AT$49))))","v":0},{"$f":"IF($B$51=\"\",SUMIFS($AX$8:$AX$49,$C$8:E58,\"CP-10\",$B$8:$B$49,\"no\"),MAX(IF($C$8:$C$49=\"CP-10\",IF($B$8:$B$49=\"no\",$AX$8:$AX$49))))","v":0},{"$f":"IF($B$51=\"\",SUMIFS($AX$8:$AX$49,$C$8:O58,\"CP-10\",$B$8:$B$49,\"yes\"),MAX(IF($C$8:$C$49=\"CP-10\",IF($B$8:$B$49=\"yes\",$AX$8:$AX$49))))","v":0},{"$f":"IF($B$51=\"\",SUMIFS($BB$8:$BB$49,$C$8:E58,\"CP-10\",$B$8:$B$49,\"no\"),MAX(IF($C$8:$C$49=\"CP-10\",IF($B$8:$B$49=\"no\",$BB$8:$BB$49))))","v":0},{"$f":"IF($B$51=\"\",SUMIFS($BB$8:$BB$49,$C$8:Q58,\"CP-10\",$B$8:$B$49,\"yes\"),MAX(IF($C$8:$C$49=\"CP-10\",IF($B$8:$B$49=\"yes\",$BB$8:$BB$49))))","v":0}]
[]
[null,null,null,null,null,null,null,null,null,null,null,null,null,null,null,null,null,null,null,null,null,null,null,null,null,{"$f":"SUM(IF($B$51>0,IF(Z66>AA66,Z66,0),SUM(Z66,AA66)),IF($B$52>0,IF(Z67>AA67,Z67,0),SUM(Z67,AA67)),IF($B$53>0,IF(Z68>AA68,Z68,0),SUM(Z68,AA68)),IF($B$54>0,IF(Z69>AA69,Z69,0),SUM(Z69,AA69)),IF($B$54>0,IF(Z70>AA70,Z70,0),SUM(Z70,AA70)),IF($B$55>0,IF(Z71>AA71,Z71,0),SUM(Z71,AA71)),IF($B$56>0,IF(Z72>AA72,Z72,0),SUM(Z72,AA72)),IF($B$57>0,IF(Z73>AA73,Z73,0),SUM(Z73,AA73)),IF($B$58>0,IF(Z74>AA74,Z74,0),SUM(Z74,AA74)),IF($B$59>0,IF(Z75>AA75,Z75,0),SUM(Z75,AA75)))","v":0},{"$f":"SUM(IF($B$51>0,IF(Z66<AA66,AA66,0),SUM(Z66,AA66)),IF($B$52>0,IF(Z67<AA67,AA67,0),SUM(Z67,AA67)),IF($B$53>0,IF(Z68<AA68,AA68,0),SUM(Z68,AA68)),IF($B$54>0,IF(Z69<AA69,AA69,0),SUM(Z69,AA69)),IF($B$54>0,IF(Z70<AA70,AA70,0),SUM(Z70,AA70)),IF($B$55>0,IF(Z71<AA71,AA71,0),SUM(Z71,AA71)),IF($B$56>0,IF(Z72<AA72,AA72,0),SUM(Z72,AA72)),IF($B$57>0,IF(Z73<AA73,AA73,0),SUM(Z73,AA73)),IF($B$58>0,IF(Z74<AA74,AA74,0),SUM(Z74,AA74)),IF($B$59>0,IF(Z75<AA75,AA75,0),SUM(Z75,AA75)))","v":0},{"$f":"SUM(IF($B$51>0,IF(AB66>AC66,AB66,0),SUM(AB66,AC66)),IF($B$52>0,IF(AB67>AC67,AB67,0),SUM(AB67,AC67)),IF($B$53>0,IF(AB68>AC68,AB68,0),SUM(AB68,AC68)),IF($B$54>0,IF(AB69>AC69,AB69,0),SUM(AB69,AC69)),IF($B$54>0,IF(AB70>AC70,AB70,0),SUM(AB70,AC70)),IF($B$55>0,IF(AB71>AC71,AB71,0),SUM(AB71,AC71)),IF($B$56>0,IF(AB72>AC72,AB72,0),SUM(AB72,AC72)),IF($B$57>0,IF(AB73>AC73,AB73,0),SUM(AB73,AC73)),IF($B$58>0,IF(AB74>AC74,AB74,0),SUM(AB74,AC74)),IF($B$59>0,IF(AB75>AC75,AB75,0),SUM(AB75,AC75)))","v":0},{"$f":"SUM(IF($B$51>0,IF(AB66<AC66,AC66,0),SUM(AB66,AC66)),IF($B$52>0,IF(AB67<AC67,AC67,0),SUM(AB67,AC67)),IF($B$53>0,IF(AB68<AC68,AC68,0),SUM(AB68,AC68)),IF($B$54>0,IF(AB69<AC69,AC69,0),SUM(AB69,AC69)),IF($B$54>0,IF(AB70<AC70,AC70,0),SUM(AB70,AC70)),IF($B$55>0,IF(AB71<AC71,AC71,0),SUM(AB71,AC71)),IF($B$56>0,IF(AB72<AC72,AC72,0),SUM(AB72,AC72)),IF($B$57>0,IF(AB73<AC73,AC73,0),SUM(AB73,AC73)),IF($B$58>0,IF(AB74<AC74,AC74,0),SUM(AB74,AC74)),IF($B$59>0,IF(AB75<AC75,AC75,0),SUM(AB75,AC75)))","v":0},{"$f":"SUM(IF($B$51>0,IF(AD66>AE66,AD66,0),SUM(AD66,AE66)),IF($B$52>0,IF(AD67>AE67,AD67,0),SUM(AD67,AE67)),IF($B$53>0,IF(AD68>AE68,AD68,0),SUM(AD68,AE68)),IF($B$54>0,IF(AD69>AE69,AD69,0),SUM(AD69,AE69)),IF($B$54>0,IF(AD70>AE70,AD70,0),SUM(AD70,AE70)),IF($B$55>0,IF(AD71>AE71,AD71,0),SUM(AD71,AE71)),IF($B$56>0,IF(AD72>AE72,AD72,0),SUM(AD72,AE72)),IF($B$57>0,IF(AD73>AE73,AD73,0),SUM(AD73,AE73)),IF($B$58>0,IF(AD74>AE74,AD74,0),SUM(AD74,AE74)),IF($B$59>0,IF(AD75>AE75,AD75,0),SUM(AD75,AE75)))","v":0},{"$f":"SUM(IF($B$51>0,IF(AD66<AE66,AE66,0),SUM(AD66,AE66)),IF($B$52>0,IF(AD67<AE67,AE67,0),SUM(AD67,AE67)),IF($B$53>0,IF(AD68<AE68,AE68,0),SUM(AD68,AE68)),IF($B$54>0,IF(AD69<AE69,AE69,0),SUM(AD69,AE69)),IF($B$54>0,IF(AD70<AE70,AE70,0),SUM(AD70,AE70)),IF($B$55>0,IF(AD71<AE71,AE71,0),SUM(AD71,AE71)),IF($B$56>0,IF(AD72<AE72,AE72,0),SUM(AD72,AE72)),IF($B$57>0,IF(AD73<AE73,AE73,0),SUM(AD73,AE73)),IF($B$58>0,IF(AD74<AE74,AE74,0),SUM(AD74,AE74)),IF($B$59>0,IF(AD75<AE75,AE75,0),SUM(AD75,AE75)))","v":0},0,{"$f":"SUM(IF($B$51>0,IF(AF66<AG66,AG66,0),SUM(AF66,AG66)),IF($B$52>0,IF(AF67<AG67,AG67,0),SUM(AF67,AG67)),IF($B$53>0,IF(AF68<AG68,AG68,0),SUM(AF68,AG68)),IF($B$54>0,IF(AF69<AG69,AG69,0),SUM(AF69,AG69)),IF($B$54>0,IF(AF70<AG70,AG70,0),SUM(AF70,AG70)),IF($B$55>0,IF(AF71<AG71,AG71,0),SUM(AF71,AG71)),IF($B$56>0,IF(AF72<AG72,AG72,0),SUM(AF72,AG72)),IF($B$57>0,IF(AF73<AG73,AG73,0),SUM(AF73,AG73)),IF($B$58>0,IF(AF74<AG74,AG74,0),SUM(AF74,AG74)),IF($B$59>0,IF(AF75<AG75,AG75,0),SUM(AF75,AG75)))","v":0},0,{"$f":"SUM(IF($B$51>0,IF(AH66<AI66,AI66,0),SUM(AH66,AI66)),IF($B$52>0,IF(AH67<AI67,AI67,0),SUM(AH67,AI67)),IF($B$53>0,IF(AH68<AI68,AI68,0),SUM(AH68,AI68)),IF($B$54>0,IF(AH69<AI69,AI69,0),SUM(AH69,AI69)),IF($B$54>0,IF(AH70<AI70,AI70,0),SUM(AH70,AI70)),IF($B$55>0,IF(AH71<AI71,AI71,0),SUM(AH71,AI71)),IF($B$56>0,IF(AH72<AI72,AI72,0),SUM(AH72,AI72)),IF($B$57>0,IF(AH73<AI73,AI73,0),SUM(AH73,AI73)),IF($B$58>0,IF(AH74<AI74,AI74,0),SUM(AH74,AI74)),IF($B$59>0,IF(AH75<AI75,AI75,0),SUM(AH75,AI75)))","v":0},0,{"$f":"SUM(IF($B$51>0,IF(AJ66<AK66,AK66,0),SUM(AJ66,AK66)),IF($B$52>0,IF(AJ67<AK67,AK67,0),SUM(AJ67,AK67)),IF($B$53>0,IF(AJ68<AK68,AK68,0),SUM(AJ68,AK68)),IF($B$54>0,IF(AJ69<AK69,AK69,0),SUM(AJ69,AK69)),IF($B$54>0,IF(AJ70<AK70,AK70,0),SUM(AJ70,AK70)),IF($B$55>0,IF(AJ71<AK71,AK71,0),SUM(AJ71,AK71)),IF($B$56>0,IF(AJ72<AK72,AK72,0),SUM(AJ72,AK72)),IF($B$57>0,IF(AJ73<AK73,AK73,0),SUM(AJ73,AK73)),IF($B$58>0,IF(AJ74<AK74,AK74,0),SUM(AJ74,AK74)),IF($B$59>0,IF(AJ75<AK75,AK75,0),SUM(AJ75,AK75)))","v":0},0,{"$f":"SUM(IF($B$51>0,IF(AL66<AM66,AM66,0),SUM(AL66,AM66)),IF($B$52>0,IF(AL67<AM67,AM67,0),SUM(AL67,AM67)),IF($B$53>0,IF(AL68<AM68,AM68,0),SUM(AL68,AM68)),IF($B$54>0,IF(AL69<AM69,AM69,0),SUM(AL69,AM69)),IF($B$54>0,IF(AL70<AM70,AM70,0),SUM(AL70,AM70)),IF($B$55>0,IF(AL71<AM71,AM71,0),SUM(AL71,AM71)),IF($B$56>0,IF(AL72<AM72,AM72,0),SUM(AL72,AM72)),IF($B$57>0,IF(AL73<AM73,AM73,0),SUM(AL73,AM73)),IF($B$58>0,IF(AL74<AM74,AM74,0),SUM(AL74,AM74)),IF($B$59>0,IF(AL75<AM75,AM75,0),SUM(AL75,AM75)))","v":0},0,{"$f":"SUM(IF($B$51>0,IF(AN66<AO66,AO66,0),SUM(AN66,AO66)),IF($B$52>0,IF(AN67<AO67,AO67,0),SUM(AN67,AO67)),IF($B$53>0,IF(AN68<AO68,AO68,0),SUM(AN68,AO68)),IF($B$54>0,IF(AN69<AO69,AO69,0),SUM(AN69,AO69)),IF($B$54>0,IF(AN70<AO70,AO70,0),SUM(AN70,AO70)),IF($B$55>0,IF(AN71<AO71,AO71,0),SUM(AN71,AO71)),IF($B$56>0,IF(AN72<AO72,AO72,0),SUM(AN72,AO72)),IF($B$57>0,IF(AN73<AO73,AO73,0),SUM(AN73,AO73)),IF($B$58>0,IF(AN74<AO74,AO74,0),SUM(AN74,AO74)),IF($B$59>0,IF(AN75<AO75,AO75,0),SUM(AN75,AO75)))","v":0}]

{"sheet":"Emission Calculations","index":13,"n_rows":71,"n_cols":13,"rows_kept":71,"cut":false,"hidden":false,"merged":[[0,0,0,3],[44,8,46,8],[23,10,25,10],[44,10,46,10],[45,9,46,9],[24,3,25,3],[24,7,25,7],[45,7,46,7],[23,8,25,8],[24,6,25,6],[3,4,4,4],[24,0,25,0],[24,1,25,1],[24,2,25,2],[3,7,4,7],[3,5,4,5],[44,11,46,11],[44,12,46,12],[2,10,4,10],[3,9,4,9],[2,11,4,11],[2,12,4,12],[23,11,25,11],[24,9,25,9],[23,12,25,12],[63,0,63,1],[67,0,67,1],[55,0,55,1],[2,8,4,8],[3,6,4,6],[45,6,46,6],[50,3,50,4],[2,0,2,1],[23,0,23,1],[47,0,47,1],[45,4,46,4],[45,0,46,0],[45,1,46,1],[45,2,46,2],[3,1,4,1],[24,4,25,4],[45,5,46,5],[51,0,51,1],[45,3,46,3],[3,3,4,3],[59,0,59,1],[24,5,25,5],[3,0,4,0],[3,2,4,2]]}
["FACILITY-WIDE EMISSION CALCULATIONS"]
["**As of 2016 Potential Emissions are no longer required to be reported in the Minor Source Emissions Inventory**"]
["PM2. 5",null,null,null,null,null,null,null,"Potential Hourly Uncontrolled Emissions(lb/hr)",null,"Potential Hourly Controlled Emissions (lb/hr)","Potential Annual Emissions (tons/yr)","Actual Emissions (tons/yr)"]
["EP","Description of Process","SCC #","Max Design Rate","Units of Measure","Emission Factor","Units of Measure","Source of      Emission Factor",null,"Control Efficiency"]
[]
[{"$f":"IF(SUM('Concrete Plant (CP-1)'!Q23,'Concrete Plant (CP-2)'!Q23,'Concrete Plant (CP-3)'!Q23,'Concrete Plant (CP-4)'!Q23,'Concrete Plant (CP-5)'!Q23,'Concrete Plant (CP-6)'!Q23,'Concrete Plant (CP-7)'!Q23,'Concrete Plant (CP-8)'!Q23,'Concrete Plant (CP-9)'!Q23,'Concrete Plant (CP-10)'!Q23)>0,\"ALL\",\"\")","v":""},{"$f":"IF(SUM('Concrete Plant (CP-1)'!Q23,'Concrete Plant (CP-2)'!Q23,'Concrete Plant (CP-3)'!Q23,'Concrete Plant (CP-4)'!Q23,'Concrete Plant (CP-5)'!Q23,'Concrete Plant (CP-6)'!Q23,'Concrete Plant (CP-7)'!Q23,'Concrete Plant (CP-8)'!Q23,'Concrete Plant (CP-9)'!Q23,'Concrete Plant (CP-10)'!Q23)>0,\"Aggregate Delivery to Ground Storage\",\"\")","v":""},{"$f":"IF(B6=\"\",\"\",\"30501121\")","v":""},{"$f":"IF(SUM('Concrete Plant (CP-1)'!Q23,'Concrete Plant (CP-2)'!Q23,'Concrete Plant (CP-3)'!Q23,'Concrete Plant (CP-4)'!Q23,'Concrete Plant (CP-5)'!Q23,'Concrete Plant (CP-6)'!Q23,'Concrete Plant (CP-7)'!Q23,'Concrete Plant (CP-8)'!Q23,'Concrete Plant (CP-9)'!Q23,'Concrete Plant (CP-10)'!Q23)>0,SUM('Concrete Plant (CP-1)'!Q23,'Concrete Plant (CP-2)'!Q23,'Concrete Plant (CP-3)'!Q23,'Concrete Plant (CP-4)'!Q23,'Concrete Plant (CP-5)'!Q23,'Concrete Plant (CP-6)'!Q23,'Concrete Plant (CP-7)'!Q23,'Concrete Plant (CP-8)'!Q23,'Concrete Plant (CP-9)'!Q23,'Concrete Plant (CP-10)'!Q23),\"\")","v":""},{"$f":"IF(B6=\"\",\"\",\"cubic yd/hr\")","v":""},{"$f":"IF(B6=\"\",\"\",LOOKUP(B6,'Emission Factors'!$A$5:$A$16,'Emission Factors'!$D$5:$D$16))","v":""},{"$f":"IF(B6=\"\",\"\",\"lb/cubic yd\")","v":""},{"$f":"IF(B6=\"\",\"\",LOOKUP(B6,'Emission Factors'!$A$5:$A$16,'Emission Factors'!$F$5:$F$16))","v":""},{"$f":"IF(D6=\"\",\"\",SUM('Concrete Plant (CP-1)'!S23,'Concrete Plant (CP-2)'!S23,'Concrete Plant (CP-3)'!S23,'Concrete Plant (CP-4)'!S23,'Concrete Plant (CP-5)'!S23,'Concrete Plant (CP-6)'!S23,'Concrete Plant (CP-7)'!S23,'Concrete Plant (CP-8)'!S23,'Concrete Plant (CP-8)'!S23,'Concrete Plant (CP-10)'!S23))","v":""},null,{"$f":"IF(D6=\"\",\"\",IF(SUM('Concrete Plant (CP-1)'!T23,'Concrete Plant (CP-2)'!T23,'Concrete Plant (CP-3)'!T23,'Concrete Plant (CP-4)'!T23,'Concrete Plant (CP-5)'!T23,'Concrete Plant (CP-6)'!T23,'Concrete Plant (CP-7)'!T23,'Concrete Plant (CP-8)'!T23,'Concrete Plant (CP-9)'!T23,'Concrete Plant (CP-10)'!T23)>0,SUM('Concrete Plant (CP-1)'!T23,'Concrete Plant (CP-2)'!T23,'Concrete Plant (CP-3)'!T23,'Concrete Plant (CP-4)'!T23,'Concrete Plant (CP-5)'!T23,'Concrete Plant (CP-6)'!T23,'Concrete Plant (CP-7)'!T23,'Concrete Plant (CP-8)'!T23,'Concrete Plant (CP-9)'!T23,'Concrete Plant (CP-10)'!T23),\"\"))","v":""},{"$f":"IF(B6=\"\",\"\",SUM('Concrete Plant (CP-1)'!U23,'Concrete Plant (CP-2)'!U23,'Concrete Plant (CP-3)'!U23,'Concrete Plant (CP-4)'!U23,'Concrete Plant (CP-5)'!U23,'Concrete Plant (CP-6)'!U23,'Concrete Plant (CP-7)'!U23,'Concrete Plant (CP-8)'!U23,'Concrete Plant (CP-9)'!U23,'Concrete Plant (CP-10)'!U23))","v":""},{"$f":"IF(B6=\"\",\"\",SUM('Concrete Plant (CP-1)'!V23,'Concrete Plant (CP-2)'!V23,'Concrete Plant (CP-3)'!V23,'Concrete Plant (CP-4)'!V23,'Concrete Plant (CP-5)'!V23,'Concrete Plant (CP-6)'!V23,'Concrete Plant (CP-7)'!V23,'Concrete Plant (CP-8)'!V23,'Concrete Plant (CP-9)'!V23,'Concrete Plant (CP-10)'!V23))","v":""}]
[{"$f":"IF(SUM('Concrete Plant (CP-1)'!Q24,'Concrete Plant (CP-2)'!Q24,'Concrete Plant (CP-3)'!Q24,'Concrete Plant (CP-4)'!Q24,'Concrete Plant (CP-5)'!Q24,'Concrete Plant (CP-6)'!Q24,'Concrete Plant (CP-7)'!Q24,'Concrete Plant (CP-8)'!Q24,'Concrete Plant (CP-9)'!Q24,'Concrete Plant (CP-10)'!Q24)>0,\"ALL\",\"\")","v":""},{"$f":"IF(SUM('Concrete Plant (CP-1)'!Q24,'Concrete Plant (CP-2)'!Q24,'Concrete Plant (CP-3)'!Q24,'Concrete Plant (CP-4)'!Q24,'Concrete Plant (CP-5)'!Q24,'Concrete Plant (CP-6)'!Q24,'Concrete Plant (CP-7)'!Q24,'Concrete Plant (CP-8)'!Q24,'Concrete Plant (CP-9)'!Q24,'Concrete Plant (CP-10)'!Q24)>0,\"Sand Delivery to Ground Storage\",\"\")","v":""},{"$f":"IF(B7=\"\",\"\",\"30501122\")","v":""},{"$f":"IF(SUM('Concrete Plant (CP-1)'!Q24,'Concrete Plant (CP-2)'!Q24,'Concrete Plant (CP-3)'!Q24,'Concrete Plant (CP-4)'!Q24,'Concrete Plant (CP-5)'!Q24,'Concrete Plant (CP-6)'!Q24,'Concrete Plant (CP-7)'!Q24,'Concrete Plant (CP-8)'!Q24,'Concrete Plant (CP-9)'!Q24,'Concrete Plant (CP-10)'!Q24)>0,SUM('Concrete Plant (CP-1)'!Q24,'Concrete Plant (CP-2)'!Q24,'Concrete Plant (CP-3)'!Q24,'Concrete Plant (CP-4)'!Q24,'Concrete Plant (CP-5)'!Q24,'Concrete Plant (CP-6)'!Q24,'Concrete Plant (CP-7)'!Q24,'Concrete Plant (CP-8)'!Q24,'Concrete Plant (CP-9)'!Q24,'Concrete Plant (CP-10)'!Q24),\"\")","v":""},{"$f":"IF(B7=\"\",\"\",\"cubic yd/hr\")","v":""},{"$f":"IF(B7=\"\",\"\",LOOKUP(B7,'Emission Factors'!$A$5:$A$16,'Emission Factors'!$D$5:$D$16))","v":""},{"$f":"IF(B7=\"\",\"\",\"lb/cubic yd\")","v":""},{"$f":"IF(B7=\"\",\"\",LOOKUP(B7,'Emission Factors'!$A$5:$A$16,'Emission Factors'!$F$5:$F$16))","v":""},{"$f":"IF(D7=\"\",\"\",SUM('Concrete Plant (CP-1)'!S24,'Concrete Plant (CP-2)'!S24,'Concrete Plant (CP-3)'!S24,'Concrete Plant (CP-4)'!S24,'Concrete Plant (CP-5)'!S24,'Concrete Plant (CP-6)'!S24,'Concrete Plant (CP-7)'!S24,'Concrete Plant (CP-8)'!S24,'Concrete Plant (CP-8)'!S24,'Concrete Plant (CP-10)'!S24))","v":""},null,{"$f":"IF(D7=\"\",\"\",IF(SUM('Concrete Plant (CP-1)'!T24,'Concrete Plant (CP-2)'!T24,'Concrete Plant (CP-3)'!T24,'Concrete Plant (CP-4)'!T24,'Concrete Plant (CP-5)'!T24,'Concrete Plant (CP-6)'!T24,'Concrete Plant (CP-7)'!T24,'Concrete Plant (CP-8)'!T24,'Concrete Plant (CP-9)'!T24,'Concrete Plant (CP-10)'!T24)>0,SUM('Concrete Plant (CP-1)'!T24,'Concrete Plant (CP-2)'!T24,'Concrete Plant (CP-3)'!T24,'Concrete Plant (CP-4)'!T24,'Concrete Plant (CP-5)'!T24,'Concrete Plant (CP-6)'!T24,'Concrete Plant (CP-7)'!T24,'Concrete Plant (CP-8)'!T24,'Concrete Plant (CP-9)'!T24,'Concrete Plant (CP-10)'!T24),\"\"))","v":""},{"$f":"IF(B7=\"\",\"\",SUM('Concrete Plant (CP-1)'!U24,'Concrete Plant (CP-2)'!U24,'Concrete Plant (CP-3)'!U24,'Concrete Plant (CP-4)'!U24,'Concrete Plant (CP-5)'!U24,'Concrete Plant (CP-6)'!U24,'Concrete Plant (CP-7)'!U24,'Concrete Plant (CP-8)'!U24,'Concrete Plant (CP-9)'!U24,'Concrete Plant (CP-10)'!U24))","v":""},{"$f":"IF(B7=\"\",\"\",SUM('Concrete Plant (CP-1)'!V24,'Concrete Plant (CP-2)'!V24,'Concrete Plant (CP-3)'!V24,'Concrete Plant (CP-4)'!V24,'Concrete Plant (CP-5)'!V24,'Concrete Plant (CP-6)'!V24,'Concrete Plant (CP-7)'!V24,'Concrete Plant (CP-8)'!V24,'Concrete Plant (CP-9)'!V24,'Concrete Plant (CP-10)'!V24))","v":""}]
[{"$f":"IF(SUM('Concrete Plant (CP-1)'!Q25,'Concrete Plant (CP-2)'!Q25,'Concrete Plant (CP-3)'!Q25,'Concrete Plant (CP-4)'!Q25,'Concrete Plant (CP-5)'!Q25,'Concrete Plant (CP-6)'!Q25,'Concrete Plant (CP-7)'!Q25,'Concrete Plant (CP-8)'!Q25,'Concrete Plant (CP-9)'!Q25,'Concrete Plant (CP-10)'!Q25)>0,\"ALL\",\"\")","v":""},{"$f":"IF(SUM('Concrete Plant (CP-1)'!Q25,'Concrete Plant (CP-2)'!Q25,'Concrete Plant (CP-3)'!Q25,'Concrete Plant (CP-4)'!Q25,'Concrete Plant (CP-5)'!Q25,'Concrete Plant (CP-6)'!Q25,'Concrete Plant (CP-7)'!Q25,'Concrete Plant (CP-8)'!Q25,'Concrete Plant (CP-9)'!Q25,'Concrete Plant (CP-10)'!Q25)>0,\"Aggregate Transfer to Conveyor\",\"\")","v":""},{"$f":"IF(B8=\"\",\"\",\"30501123\")","v":""},{"$f":"IF(SUM('Concrete Plant (CP-1)'!Q25,'Concrete Plant (CP-2)'!Q25,'Concrete Plant (CP-3)'!Q25,'Concrete Plant (CP-4)'!Q25,'Concrete Plant (CP-5)'!Q25,'Concrete Plant (CP-6)'!Q25,'Concrete Plant (CP-7)'!Q25,'Concrete Plant (CP-8)'!Q25,'Concrete Plant (CP-9)'!Q25,'Concrete Plant (CP-10)'!Q25)>0,SUM('Concrete Plant (CP-1)'!Q25,'Concrete Plant (CP-2)'!Q25,'Concrete Plant (CP-3)'!Q25,'Concrete Plant (CP-4)'!Q25,'Concrete Plant (CP-5)'!Q25,'Concrete Plant (CP-6)'!Q25,'Concrete Plant (CP-7)'!Q25,'Concrete Plant (CP-8)'!Q25,'Concrete Plant (CP-9)'!Q25,'Concrete Plant (CP-10)'!Q25),\"\")","v":""},"",{"$f":"IF(B8=\"\",\"\",LOOKUP(B8,'Emission Factors'!$A$5:$A$16,'Emission Factors'!$D$5:$D$16))","v":""},"",{"$f":"IF(B8=\"\",\"\",LOOKUP(B8,'Emission Factors'!$A$5:$A$16,'Emission Factors'!$F$5:$F$16))","v":""},{"$f":"IF(D8=\"\",\"\",SUM('Concrete Plant (CP-1)'!S25,'Concrete Plant (CP-2)'!S25,'Concrete Plant (CP-3)'!S25,'Concrete Plant (CP-4)'!S25,'Concrete Plant (CP-5)'!S25,'Concrete Plant (CP-6)'!S25,'Concrete Plant (CP-7)'!S25,'Concrete Plant (CP-8)'!S25,'Concrete Plant (CP-8)'!S25,'Concrete Plant (CP-10)'!S25))","v":""},null,{"$f":"IF(D8=\"\",\"\",IF(SUM('Concrete Plant (CP-1)'!T25,'Concrete Plant (CP-2)'!T25,'Concrete Plant (CP-3)'!T25,'Concrete Plant (CP-4)'!T25,'Concrete Plant (CP-5)'!T25,'Concrete Plant (CP-6)'!T25,'Concrete Plant (CP-7)'!T25,'Concrete Plant (CP-8)'!T25,'Concrete Plant (CP-9)'!T25,'Concrete Plant (CP-10)'!T25)>0,SUM('Concrete Plant (CP-1)'!T25,'Concrete Plant (CP-2)'!T25,'Concrete Plant (CP-3)'!T25,'Concrete Plant (CP-4)'!T25,'Concrete Plant (CP-5)'!T25,'Concrete Plant (CP-6)'!T25,'Concrete Plant (CP-7)'!T25,'Concrete Plant (CP-8)'!T25,'Concrete Plant (CP-9)'!T25,'Concrete Plant (CP-10)'!T25),\"\"))","v":""},{"$f":"IF(B8=\"\",\"\",SUM('Concrete Plant (CP-1)'!U25,'Concrete Plant (CP-2)'!U25,'Concrete Plant (CP-3)'!U25,'Concrete Plant (CP-4)'!U25,'Concrete Plant (CP-5)'!U25,'Concrete Plant (CP-6)'!U25,'Concrete Plant (CP-7)'!U25,'Concrete Plant (CP-8)'!U25,'Concrete Plant (CP-9)'!U25,'Concrete Plant (CP-10)'!U25))","v":""},{"$f":"IF(B8=\"\",\"\",SUM('Concrete Plant (CP-1)'!V25,'Concrete Plant (CP-2)'!V25,'Concrete Plant (CP-3)'!V25,'Concrete Plant (CP-4)'!V25,'Concrete Plant (CP-5)'!V25,'Concrete Plant (CP-6)'!V25,'Concrete Plant (CP-7)'!V25,'Concrete Plant (CP-8)'!V25,'Concrete Plant (CP-9)'!V25,'Concrete Plant (CP-10)'!V25))","v":""}]
[{"$f":"IF(SUM('Concrete Plant (CP-1)'!Q26,'Concrete Plant (CP-2)'!Q26,'Concrete Plant (CP-3)'!Q26,'Concrete Plant (CP-4)'!Q26,'Concrete Plant (CP-5)'!Q26,'Concrete Plant (CP-6)'!Q26,'Concrete Plant (CP-7)'!Q26,'Concrete Plant (CP-8)'!Q26,'Concrete Plant (CP-9)'!Q26,'Concrete Plant (CP-10)'!Q26)>0,\"ALL\",\"\")","v":""},{"$f":"IF(SUM('Concrete Plant (CP-1)'!Q26,'Concrete Plant (CP-2)'!Q26,'Concrete Plant (CP-3)'!Q26,'Concrete Plant (CP-4)'!Q26,'Concrete Plant (CP-5)'!Q26,'Concrete Plant (CP-6)'!Q26,'Concrete Plant (CP-7)'!Q26,'Concrete Plant (CP-8)'!Q26,'Concrete Plant (CP-9)'!Q26,'Concrete Plant (CP-10)'!Q26)>0,\"Sand Transfer to Conveyor\",\"\")","v":""},{"$f":"IF(B9=\"\",\"\",\"30501124\")","v":""},{"$f":"IF(SUM('Concrete Plant (CP-1)'!Q26,'Concrete Plant (CP-2)'!Q26,'Concrete Plant (CP-3)'!Q26,'Concrete Plant (CP-4)'!Q26,'Concrete Plant (CP-5)'!Q26,'Concrete Plant (CP-6)'!Q26,'Concrete Plant (CP-7)'!Q26,'Concrete Plant (CP-8)'!Q26,'Concrete Plant (CP-9)'!Q26,'Concrete Plant (CP-10)'!Q26)>0,SUM('Concrete Plant (CP-1)'!Q26,'Concrete Plant (CP-2)'!Q26,'Concrete Plant (CP-3)'!Q26,'Concrete Plant (CP-4)'!Q26,'Concrete Plant (CP-5)'!Q26,'Concrete Plant (CP-6)'!Q26,'Concrete Plant (CP-7)'!Q26,'Concrete Plant (CP-8)'!Q26,'Concrete Plant (CP-9)'!Q26,'Concrete Plant (CP-10)'!Q26),\"\")","v":""},"",{"$f":"IF(B9=\"\",\"\",LOOKUP(B9,'Emission Factors'!$A$5:$A$16,'Emission Factors'!$D$5:$D$16))","v":""},"",{"$f":"IF(B9=\"\",\"\",LOOKUP(B9,'Emission Factors'!$A$5:$A$16,'Emission Factors'!$F$5:$F$16))","v":""},{"$f":"IF(D9=\"\",\"\",SUM('Concrete Plant (CP-1)'!S26,'Concrete Plant (CP-2)'!S26,'Concrete Plant (CP-3)'!S26,'Concrete Plant (CP-4)'!S26,'Concrete Plant (CP-5)'!S26,'Concrete Plant (CP-6)'!S26,'Concrete Plant (CP-7)'!S26,'Concrete Plant (CP-8)'!S26,'Concrete Plant (CP-8)'!S26,'Concrete Plant (CP-10)'!S26))","v":""},null,{"$f":"IF(D9=\"\",\"\",IF(SUM('Concrete Plant (CP-1)'!T26,'Concrete Plant (CP-2)'!T26,'Concrete Plant (CP-3)'!T26,'Concrete Plant (CP-4)'!T26,'Concrete Plant (CP-5)'!T26,'Concrete Plant (CP-6)'!T26,'Concrete Plant (CP-7)'!T26,'Concrete Plant (CP-8)'!T26,'Concrete Plant (CP-9)'!T26,'Concrete Plant (CP-10)'!T26)>0,SUM('Concrete Plant (CP-1)'!T26,'Concrete Plant (CP-2)'!T26,'Concrete Plant (CP-3)'!T26,'Concrete Plant (CP-4)'!T26,'Concrete Plant (CP-5)'!T26,'Concrete Plant (CP-6)'!T26,'Concrete Plant (CP-7)'!T26,'Concrete Plant (CP-8)'!T26,'Concrete Plant (CP-9)'!T26,'Concrete Plant (CP-10)'!T26),\"\"))","v":""},{"$f":"IF(B9=\"\",\"\",SUM('Concrete Plant (CP-1)'!U26,'Concrete Plant (CP-2)'!U26,'Concrete Plant (CP-3)'!U26,'Concrete Plant (CP-4)'!U26,'Concrete Plant (CP-5)'!U26,'Concrete Plant (CP-6)'!U26,'Concrete Plant (CP-7)'!U26,'Concrete Plant (CP-8)'!U26,'Concrete Plant (CP-9)'!U26,'Concrete Plant (CP-10)'!U26))","v":""},{"$f":"IF(B9=\"\",\"\",SUM('Concrete Plant (CP-1)'!V26,'Concrete Plant (CP-2)'!V26,'Concrete Plant (CP-3)'!V26,'Concrete Plant (CP-4)'!V26,'Concrete Plant (CP-5)'!V26,'Concrete Plant (CP-6)'!V26,'Concrete Plant (CP-7)'!V26,'Concrete Plant (CP-8)'!V26,'Concrete Plant (CP-9)'!V26,'Concrete Plant (CP-10)'!V26))","v":""}]
[{"$f":"IF(SUM('Concrete Plant (CP-1)'!Q27,'Concrete Plant (CP-2)'!Q27,'Concrete Plant (CP-3)'!Q27,'Concrete Plant (CP-4)'!Q27,'Concrete Plant (CP-5)'!Q27,'Concrete Plant (CP-6)'!Q27,'Concrete Plant (CP-7)'!Q27,'Concrete Plant (CP-8)'!Q27,'Concrete Plant (CP-9)'!Q27,'Concrete Plant (CP-10)'!Q27)>0,\"ALL\",\"\")","v":""},{"$f":"IF(SUM('Concrete Plant (CP-1)'!Q27,'Concrete Plant (CP-2)'!Q27,'Concrete Plant (CP-3)'!Q27,'Concrete Plant (CP-4)'!Q27,'Concrete Plant (CP-5)'!Q27,'Concrete Plant (CP-6)'!Q27,'Concrete Plant (CP-7)'!Q27,'Concrete Plant (CP-8)'!Q27,'Concrete Plant (CP-9)'!Q27,'Concrete Plant (CP-10)'!Q27)>0,\"Aggregate Transfer to Elevated Storage\",\"\")","v":""},{"$f":"IF(B10=\"\",\"\",\"30501104\")","v":""},{"$f":"IF(SUM('Concrete Plant (CP-1)'!Q27,'Concrete Plant (CP-2)'!Q27,'Concrete Plant (CP-3)'!Q27,'Concrete Plant (CP-4)'!Q27,'Concrete Plant (CP-5)'!Q27,'Concrete Plant (CP-6)'!Q27,'Concrete Plant (CP-7)'!Q27,'Concrete Plant (CP-8)'!Q27,'Concrete Plant (CP-9)'!Q27,'Concrete Plant (CP-10)'!Q27)>0,SUM('Concrete Plant (CP-1)'!Q27,'Concrete Plant (CP-2)'!Q27,'Concrete Plant (CP-3)'!Q27,'Concrete Plant (CP-4)'!Q27,'Concrete Plant (CP-5)'!Q27,'Concrete Plant (CP-6)'!Q27,'Concrete Plant (CP-7)'!Q27,'Concrete Plant (CP-8)'!Q27,'Concrete Plant (CP-9)'!Q27,'Concrete Plant (CP-10)'!Q27),\"\")","v":""},"",{"$f":"IF(B10=\"\",\"\",LOOKUP(B10,'Emission Factors'!$A$5:$A$16,'Emission Factors'!$D$5:$D$16))","v":""},"",{"$f":"IF(B10=\"\",\"\",LOOKUP(B10,'Emission Factors'!$A$5:$A$16,'Emission Factors'!$F$5:$F$16))","v":""},{"$f":"IF(D10=\"\",\"\",SUM('Concrete Plant (CP-1)'!S27,'Concrete Plant (CP-2)'!S27,'Concrete Plant (CP-3)'!S27,'Concrete Plant (CP-4)'!S27,'Concrete Plant (CP-5)'!S27,'Concrete Plant (CP-6)'!S27,'Concrete Plant (CP-7)'!S27,'Concrete Plant (CP-8)'!S27,'Concrete Plant (CP-8)'!S27,'Concrete Plant (CP-10)'!S27))","v":""},null,{"$f":"IF(D10=\"\",\"\",IF(SUM('Concrete Plant (CP-1)'!T27,'Concrete Plant (CP-2)'!T27,'Concrete Plant (CP-3)'!T27,'Concrete Plant (CP-4)'!T27,'Concrete Plant (CP-5)'!T27,'Concrete Plant (CP-6)'!T27,'Concrete Plant (CP-7)'!T27,'Concrete Plant (CP-8)'!T27,'Concrete Plant (CP-9)'!T27,'Concrete Plant (CP-10)'!T27)>0,SUM('Concrete Plant (CP-1)'!T27,'Concrete Plant (CP-2)'!T27,'Concrete Plant (CP-3)'!T27,'Concrete Plant (CP-4)'!T27,'Concrete Plant (CP-5)'!T27,'Concrete Plant (CP-6)'!T27,'Concrete Plant (CP-7)'!T27,'Concrete Plant (CP-8)'!T27,'Concrete Plant (CP-9)'!T27,'Concrete Plant (CP-10)'!T27),\"\"))","v":""},{"$f":"IF(B10=\"\",\"\",SUM('Concrete Plant (CP-1)'!U27,'Concrete Plant (CP-2)'!U27,'Concrete Plant (CP-3)'!U27,'Concrete Plant (CP-4)'!U27,'Concrete Plant (CP-5)'!U27,'Concrete Plant (CP-6)'!U27,'Concrete Plant (CP-7)'!U27,'Concrete Plant (CP-8)'!U27,'Concrete Plant (CP-9)'!U27,'Concrete Plant (CP-10)'!U27))","v":""},{"$f":"IF(B10=\"\",\"\",SUM('Concrete Plant (CP-1)'!V27,'Concrete Plant (CP-2)'!V27,'Concrete Plant (CP-3)'!V27,'Concrete Plant (CP-4)'!V27,'Concrete Plant (CP-5)'!V27,'Concrete Plant (CP-6)'!V27,'Concrete Plant (CP-7)'!V27,'Concrete Plant (CP-8)'!V27,'Concrete Plant (CP-9)'!V27,'Concrete Plant (CP-10)'!V27))","v":""}]
[{"$f":"IF(SUM('Concrete Plant (CP-1)'!Q28,'Concrete Plant (CP-2)'!Q28,'Concrete Plant (CP-3)'!Q28,'Concrete Plant (CP-4)'!Q28,'Concrete Plant (CP-5)'!Q28,'Concrete Plant (CP-6)'!Q28,'Concrete Plant (CP-7)'!Q28,'Concrete Plant (CP-8)'!Q28,'Concrete Plant (CP-9)'!Q28,'Concrete Plant (CP-10)'!Q28)>0,\"ALL\",\"\")","v":""},{"$f":"IF(SUM('Concrete Plant (CP-1)'!Q28,'Concrete Plant (CP-2)'!Q28,'Concrete Plant (CP-3)'!Q28,'Concrete Plant (CP-4)'!Q28,'Concrete Plant (CP-5)'!Q28,'Concrete Plant (CP-6)'!Q28,'Concrete Plant (CP-7)'!Q28,'Concrete Plant (CP-8)'!Q28,'Concrete Plant (CP-9)'!Q28,'Concrete Plant (CP-10)'!Q28)>0,\"Sand Transfer to Elevated Storage\",\"\")","v":""},{"$f":"IF(B11=\"\",\"\",\"30501105\")","v":""},{"$f":"IF(SUM('Concrete Plant (CP-1)'!Q28,'Concrete Plant (CP-2)'!Q28,'Concrete Plant (CP-3)'!Q28,'Concrete Plant (CP-4)'!Q28,'Concrete Plant (CP-5)'!Q28,'Concrete Plant (CP-6)'!Q28,'Concrete Plant (CP-7)'!Q28,'Concrete Plant (CP-8)'!Q28,'Concrete Plant (CP-9)'!Q28,'Concrete Plant (CP-10)'!Q28)>0,SUM('Concrete Plant (CP-1)'!Q28,'Concrete Plant (CP-2)'!Q28,'Concrete Plant (CP-3)'!Q28,'Concrete Plant (CP-4)'!Q28,'Concrete Plant (CP-5)'!Q28,'Concrete Plant (CP-6)'!Q28,'Concrete Plant (CP-7)'!Q28,'Concrete Plant (CP-8)'!Q28,'Concrete Plant (CP-9)'!Q28,'Concrete Plant (CP-10)'!Q28),\"\")","v":""},"",{"$f":"IF(B11=\"\",\"\",LOOKUP(B11,'Emission Factors'!$A$5:$A$16,'Emission Factors'!$D$5:$D$16))","v":""},"",{"$f":"IF(B11=\"\",\"\",LOOKUP(B11,'Emission Factors'!$A$5:$A$16,'Emission Factors'!$F$5:$F$16))","v":""},{"$f":"IF(D11=\"\",\"\",SUM('Concrete Plant (CP-1)'!S28,'Concrete Plant (CP-2)'!S28,'Concrete Plant (CP-3)'!S28,'Concrete Plant (CP-4)'!S28,'Concrete Plant (CP-5)'!S28,'Concrete Plant (CP-6)'!S28,'Concrete Plant (CP-7)'!S28,'Concrete Plant (CP-8)'!S28,'Concrete Plant (CP-8)'!S28,'Concrete Plant (CP-10)'!S28))","v":""},null,{"$f":"IF(D11=\"\",\"\",IF(SUM('Concrete Plant (CP-1)'!T28,'Concrete Plant (CP-2)'!T28,'Concrete Plant (CP-3)'!T28,'Concrete Plant (CP-4)'!T28,'Concrete Plant (CP-5)'!T28,'Concrete Plant (CP-6)'!T28,'Concrete Plant (CP-7)'!T28,'Concrete Plant (CP-8)'!T28,'Concrete Plant (CP-9)'!T28,'Concrete Plant (CP-10)'!T28)>0,SUM('Concrete Plant (CP-1)'!T28,'Concrete Plant (CP-2)'!T28,'Concrete Plant (CP-3)'!T28,'Concrete Plant (CP-4)'!T28,'Concrete Plant (CP-5)'!T28,'Concrete Plant (CP-6)'!T28,'Concrete Plant (CP-7)'!T28,'Concrete Plant (CP-8)'!T28,'Concrete Plant (CP-9)'!T28,'Concrete Plant (CP-10)'!T28),\"\"))","v":""},{"$f":"IF(B11=\"\",\"\",SUM('Concrete Plant (CP-1)'!U28,'Concrete Plant (CP-2)'!U28,'Concrete Plant (CP-3)'!U28,'Concrete Plant (CP-4)'!U28,'Concrete Plant (CP-5)'!U28,'Concrete Plant (CP-6)'!U28,'Concrete Plant (CP-7)'!U28,'Concrete Plant (CP-8)'!U28,'Concrete Plant (CP-9)'!U28,'Concrete Plant (CP-10)'!U28))","v":""},{"$f":"IF(B11=\"\",\"\",SUM('Concrete Plant (CP-1)'!V28,'Concrete Plant (CP-2)'!V28,'Concrete Plant (CP-3)'!V28,'Concrete Plant (CP-4)'!V28,'Concrete Plant (CP-5)'!V28,'Concrete Plant (CP-6)'!V28,'Concrete Plant (CP-7)'!V28,'Concrete Plant (CP-8)'!V28,'Concrete Plant (CP-9)'!V28,'Concrete Plant (CP-10)'!V28))","v":""}]
[{"$f":"IF(SUM('Concrete Plant (CP-1)'!Q29,'Concrete Plant (CP-2)'!Q29,'Concrete Plant (CP-3)'!Q29,'Concrete Plant (CP-4)'!Q29,'Concrete Plant (CP-5)'!Q29,'Concrete Plant (CP-6)'!Q29,'Concrete Plant (CP-7)'!Q29,'Concrete Plant (CP-8)'!Q29,'Concrete Plant (CP-9)'!Q29,'Concrete Plant (CP-10)'!Q29)>0,\"ALL\",\"\")","v":""},{"$f":"IF(SUM('Concrete Plant (CP-1)'!Q29,'Concrete Plant (CP-2)'!Q29,'Concrete Plant (CP-3)'!Q29,'Concrete Plant (CP-4)'!Q29,'Concrete Plant (CP-5)'!Q29,'Concrete Plant (CP-6)'!Q29,'Concrete Plant (CP-7)'!Q29,'Concrete Plant (CP-8)'!Q29,'Concrete Plant (CP-9)'!Q29,'Concrete Plant (CP-10)'!Q29)>0,\"Weigh Hopper Loading\",\"\")","v":""},{"$f":"IF(B12=\"\",\"\",\"30501108\")","v":""},{"$f":"IF(SUM('Concrete Plant (CP-1)'!Q29,'Concrete Plant (CP-2)'!Q29,'Concrete Plant (CP-3)'!Q29,'Concrete Plant (CP-4)'!Q29,'Concrete Plant (CP-5)'!Q29,'Concrete Plant (CP-6)'!Q29,'Concrete Plant (CP-7)'!Q29,'Concrete Plant (CP-8)'!Q29,'Concrete Plant (CP-9)'!Q29,'Concrete Plant (CP-10)'!Q29)>0,SUM('Concrete Plant (CP-1)'!Q29,'Concrete Plant (CP-2)'!Q29,'Concrete Plant (CP-3)'!Q29,'Concrete Plant (CP-4)'!Q29,'Concrete Plant (CP-5)'!Q29,'Concrete Plant (CP-6)'!Q29,'Concrete Plant (CP-7)'!Q29,'Concrete Plant (CP-8)'!Q29,'Concrete Plant (CP-9)'!Q29,'Concrete Plant (CP-10)'!Q29),\"\")","v":""},"",{"$f":"IF(B12=\"\",\"\",LOOKUP(B12,'Emission Factors'!$A$5:$A$16,'Emission Factors'!$D$5:$D$16))","v":""},"",{"$f":"IF(B12=\"\",\"\",LOOKUP(B12,'Emission Factors'!$A$5:$A$16,'Emission Factors'!$F$5:$F$16))","v":""},{"$f":"IF(D12=\"\",\"\",SUM('Concrete Plant (CP-1)'!S29,'Concrete Plant (CP-2)'!S29,'Concrete Plant (CP-3)'!S29,'Concrete Plant (CP-4)'!S29,'Concrete Plant (CP-5)'!S29,'Concrete Plant (CP-6)'!S29,'Concrete Plant (CP-7)'!S29,'Concrete Plant (CP-8)'!S29,'Concrete Plant (CP-8)'!S29,'Concrete Plant (CP-10)'!S29))","v":""},null,{"$f":"IF(D12=\"\",\"\",IF(SUM('Concrete Plant (CP-1)'!T29,'Concrete Plant (CP-2)'!T29,'Concrete Plant (CP-3)'!T29,'Concrete Plant (CP-4)'!T29,'Concrete Plant (CP-5)'!T29,'Concrete Plant (CP-6)'!T29,'Concrete Plant (CP-7)'!T29,'Concrete Plant (CP-8)'!T29,'Concrete Plant (CP-9)'!T29,'Concrete Plant (CP-10)'!T29)>0,SUM('Concrete Plant (CP-1)'!T29,'Concrete Plant (CP-2)'!T29,'Concrete Plant (CP-3)'!T29,'Concrete Plant (CP-4)'!T29,'Concrete Plant (CP-5)'!T29,'Concrete Plant (CP-6)'!T29,'Concrete Plant (CP-7)'!T29,'Concrete Plant (CP-8)'!T29,'Concrete Plant (CP-9)'!T29,'Concrete Plant (CP-10)'!T29),\"\"))","v":""},{"$f":"IF(B12=\"\",\"\",SUM('Concrete Plant (CP-1)'!U29,'Concrete Plant (CP-2)'!U29,'Concrete Plant (CP-3)'!U29,'Concrete Plant (CP-4)'!U29,'Concrete Plant (CP-5)'!U29,'Concrete Plant (CP-6)'!U29,'Concrete Plant (CP-7)'!U29,'Concrete Plant (CP-8)'!U29,'Concrete Plant (CP-9)'!U29,'Concrete Plant (CP-10)'!U29))","v":""},{"$f":"IF(B12=\"\",\"\",SUM('Concrete Plant (CP-1)'!V29,'Concrete Plant (CP-2)'!V29,'Concrete Plant (CP-3)'!V29,'Concrete Plant (CP-4)'!V29,'Concrete Plant (CP-5)'!V29,'Concrete Plant (CP-6)'!V29,'Concrete Plant (CP-7)'!V29,'Concrete Plant (CP-8)'!V29,'Concrete Plant (CP-9)'!V29,'Concrete Plant (CP-10)'!V29))","v":""}]
[{"$f":"IF(SUM('Concrete Plant (CP-1)'!Q30,'Concrete Plant (CP-2)'!Q30,'Concrete Plant (CP-3)'!Q30,'Concrete Plant (CP-4)'!Q30,'Concrete Plant (CP-5)'!Q30,'Concrete Plant (CP-6)'!Q30,'Concrete Plant (CP-7)'!Q30,'Concrete Plant (CP-8)'!Q30,'Concrete Plant (CP-9)'!Q30,'Concrete Plant (CP-10)'!Q30)>0,\"ALL\",\"\")","v":""},{"$f":"IF(SUM('Concrete Plant (CP-1)'!Q30,'Concrete Plant (CP-2)'!Q30,'Concrete Plant (CP-3)'!Q30,'Concrete Plant (CP-4)'!Q30,'Concrete Plant (CP-5)'!Q30,'Concrete Plant (CP-6)'!Q30,'Concrete Plant (CP-7)'!Q30,'Concrete Plant (CP-8)'!Q30,'Concrete Plant (CP-9)'!Q30,'Concrete Plant (CP-10)'!Q30)>0,\"Central Mix Loading\",\"\")","v":""},{"$f":"IF(B13=\"\",\"\",\"30501109\")","v":""},{"$f":"IF(SUM('Concrete Plant (CP-1)'!Q30,'Concrete Plant (CP-2)'!Q30,'Concrete Plant (CP-3)'!Q30,'Concrete Plant (CP-4)'!Q30,'Concrete Plant (CP-5)'!Q30,'Concrete Plant (CP-6)'!Q30,'Concrete Plant (CP-7)'!Q30,'Concrete Plant (CP-8)'!Q30,'Concrete Plant (CP-9)'!Q30,'Concrete Plant (CP-10)'!Q30)>0,SUM('Concrete Plant (CP-1)'!Q30,'Concrete Plant (CP-2)'!Q30,'Concrete Plant (CP-3)'!Q30,'Concrete Plant (CP-4)'!Q30,'Concrete Plant (CP-5)'!Q30,'Concrete Plant (CP-6)'!Q30,'Concrete Plant (CP-7)'!Q30,'Concrete Plant (CP-8)'!Q30,'Concrete Plant (CP-9)'!Q30,'Concrete Plant (CP-10)'!Q30),\"\")","v":""},"",{"$f":"IF(B13=\"\",\"\",LOOKUP(B13,'Emission Factors'!$A$5:$A$16,'Emission Factors'!$D$5:$D$16))","v":""},"",{"$f":"IF(B13=\"\",\"\",LOOKUP(B13,'Emission Factors'!$A$5:$A$16,'Emission Factors'!$F$5:$F$16))","v":""},{"$f":"IF(D13=\"\",\"\",SUM('Concrete Plant (CP-1)'!S30,'Concrete Plant (CP-2)'!S30,'Concrete Plant (CP-3)'!S30,'Concrete Plant (CP-4)'!S30,'Concrete Plant (CP-5)'!S30,'Concrete Plant (CP-6)'!S30,'Concrete Plant (CP-7)'!S30,'Concrete Plant (CP-8)'!S30,'Concrete Plant (CP-8)'!S30,'Concrete Plant (CP-10)'!S30))","v":""},null,{"$f":"IF(D13=\"\",\"\",IF(SUM('Concrete Plant (CP-1)'!T30,'Concrete Plant (CP-2)'!T30,'Concrete Plant (CP-3)'!T30,'Concrete Plant (CP-4)'!T30,'Concrete Plant (CP-5)'!T30,'Concrete Plant (CP-6)'!T30,'Concrete Plant (CP-7)'!T30,'Concrete Plant (CP-8)'!T30,'Concrete Plant (CP-9)'!T30,'Concrete Plant (CP-10)'!T30)>0,SUM('Concrete Plant (CP-1)'!T30,'Concrete Plant (CP-2)'!T30,'Concrete Plant (CP-3)'!T30,'Concrete Plant (CP-4)'!T30,'Concrete Plant (CP-5)'!T30,'Concrete Plant (CP-6)'!T30,'Concrete Plant (CP-7)'!T30,'Concrete Plant (CP-8)'!T30,'Concrete Plant (CP-9)'!T30,'Concrete Plant (CP-10)'!T30),\"\"))","v":""},{"$f":"IF(B13=\"\",\"\",SUM('Concrete Plant (CP-1)'!U30,'Concrete Plant (CP-2)'!U30,'Concrete Plant (CP-3)'!U30,'Concrete Plant (CP-4)'!U30,'Concrete Plant (CP-5)'!U30,'Concrete Plant (CP-6)'!U30,'Concrete Plant (CP-7)'!U30,'Concrete Plant (CP-8)'!U30,'Concrete Plant (CP-9)'!U30,'Concrete Plant (CP-10)'!U30))","v":""},{"$f":"IF(B13=\"\",\"\",SUM('Concrete Plant (CP-1)'!V30,'Concrete Plant (CP-2)'!V30,'Concrete Plant (CP-3)'!V30,'Concrete Plant (CP-4)'!V30,'Concrete Plant (CP-5)'!V30,'Concrete Plant (CP-6)'!V30,'Concrete Plant (CP-7)'!V30,'Concrete Plant (CP-8)'!V30,'Concrete Plant (CP-9)'!V30,'Concrete Plant (CP-10)'!V30))","v":""}]
[{"$f":"IF(SUM('Concrete Plant (CP-1)'!Q31,'Concrete Plant (CP-2)'!Q31,'Concrete Plant (CP-3)'!Q31,'Concrete Plant (CP-4)'!Q31,'Concrete Plant (CP-5)'!Q31,'Concrete Plant (CP-6)'!Q31,'Concrete Plant (CP-7)'!Q31,'Concrete Plant (CP-8)'!Q31,'Concrete Plant (CP-9)'!Q31,'Concrete Plant (CP-10)'!Q31)>0,\"ALL\",\"\")","v":""},{"$f":"IF(SUM('Concrete Plant (CP-1)'!Q31,'Concrete Plant (CP-2)'!Q31,'Concrete Plant (CP-3)'!Q31,'Concrete Plant (CP-4)'!Q31,'Concrete Plant (CP-5)'!Q31,'Concrete Plant (CP-6)'!Q31,'Concrete Plant (CP-7)'!Q31,'Concrete Plant (CP-8)'!Q31,'Concrete Plant (CP-9)'!Q31,'Concrete Plant (CP-10)'!Q31)>0,\"Truck Mix Loading\",\"\")","v":""},{"$f":"IF(B14=\"\",\"\",\"30501110\")","v":""},{"$f":"IF(SUM('Concrete Plant (CP-1)'!Q31,'Concrete Plant (CP-2)'!Q31,'Concrete Plant (CP-3)'!Q31,'Concrete Plant (CP-4)'!Q31,'Concrete Plant (CP-5)'!Q31,'Concrete Plant (CP-6)'!Q31,'Concrete Plant (CP-7)'!Q31,'Concrete Plant (CP-8)'!Q31,'Concrete Plant (CP-9)'!Q31,'Concrete Plant (CP-10)'!Q31)>0,SUM('Concrete Plant (CP-1)'!Q31,'Concrete Plant (CP-2)'!Q31,'Concrete Plant (CP-3)'!Q31,'Concrete Plant (CP-4)'!Q31,'Concrete Plant (CP-5)'!Q31,'Concrete Plant (CP-6)'!Q31,'Concrete Plant (CP-7)'!Q31,'Concrete Plant (CP-8)'!Q31,'Concrete Plant (CP-9)'!Q31,'Concrete Plant (CP-10)'!Q31),\"\")","v":""},"",{"$f":"IF(B14=\"\",\"\",LOOKUP(B14,'Emission Factors'!$A$5:$A$16,'Emission Factors'!$D$5:$D$16))","v":""},"",{"$f":"IF(B14=\"\",\"\",LOOKUP(B14,'Emission Factors'!$A$5:$A$16,'Emission Factors'!$F$5:$F$16))","v":""},{"$f":"IF(D14=\"\",\"\",SUM('Concrete Plant (CP-1)'!S31,'Concrete Plant (CP-2)'!S31,'Concrete Plant (CP-3)'!S31,'Concrete Plant (CP-4)'!S31,'Concrete Plant (CP-5)'!S31,'Concrete Plant (CP-6)'!S31,'Concrete Plant (CP-7)'!S31,'Concrete Plant (CP-8)'!S31,'Concrete Plant (CP-8)'!S31,'Concrete Plant (CP-10)'!S31))","v":""},null,{"$f":"IF(D14=\"\",\"\",IF(SUM('Concrete Plant (CP-1)'!T31,'Concrete Plant (CP-2)'!T31,'Concrete Plant (CP-3)'!T31,'Concrete Plant (CP-4)'!T31,'Concrete Plant (CP-5)'!T31,'Concrete Plant (CP-6)'!T31,'Concrete Plant (CP-7)'!T31,'Concrete Plant (CP-8)'!T31,'Concrete Plant (CP-9)'!T31,'Concrete Plant (CP-10)'!T31)>0,SUM('Concrete Plant (CP-1)'!T31,'Concrete Plant (CP-2)'!T31,'Concrete Plant (CP-3)'!T31,'Concrete Plant (CP-4)'!T31,'Concrete Plant (CP-5)'!T31,'Concrete Plant (CP-6)'!T31,'Concrete Plant (CP-7)'!T31,'Concrete Plant (CP-8)'!T31,'Concrete Plant (CP-9)'!T31,'Concrete Plant (CP-10)'!T31),\"\"))","v":""},{"$f":"IF(B14=\"\",\"\",SUM('Concrete Plant (CP-1)'!U31,'Concrete Plant (CP-2)'!U31,'Concrete Plant (CP-3)'!U31,'Concrete Plant (CP-4)'!U31,'Concrete Plant (CP-5)'!U31,'Concrete Plant (CP-6)'!U31,'Concrete Plant (CP-7)'!U31,'Concrete Plant (CP-8)'!U31,'Concrete Plant (CP-9)'!U31,'Concrete Plant (CP-10)'!U31))","v":""},{"$f":"IF(B14=\"\",\"\",SUM('Concrete Plant (CP-1)'!V31,'Concrete Plant (CP-2)'!V31,'Concrete Plant (CP-3)'!V31,'Concrete Plant (CP-4)'!V31,'Concrete Plant (CP-5)'!V31,'Concrete Plant (CP-6)'!V31,'Concrete Plant (CP-7)'!V31,'Concrete Plant (CP-8)'!V31,'Concrete Plant (CP-9)'!V31,'Concrete Plant (CP-10)'!V31))","v":""}]
[{"$f":"IF(SUM('Concrete Plant (CP-1)'!Q32,'Concrete Plant (CP-2)'!Q32,'Concrete Plant (CP-3)'!Q32,'Concrete Plant (CP-4)'!Q32,'Concrete Plant (CP-5)'!Q32,'Concrete Plant (CP-6)'!Q32,'Concrete Plant (CP-7)'!Q32,'Concrete Plant (CP-8)'!Q32,'Concrete Plant (CP-9)'!Q32,'Concrete Plant (CP-10)'!Q32)>0,\"ALL\",\"\")","v":""},{"$f":"IF(SUM('Concrete Plant (CP-1)'!Q32,'Concrete Plant (CP-2)'!Q32,'Concrete Plant (CP-3)'!Q32,'Concrete Plant (CP-4)'!Q32,'Concrete Plant (CP-5)'!Q32,'Concrete Plant (CP-6)'!Q32,'Concrete Plant (CP-7)'!Q32,'Concrete Plant (CP-8)'!Q32,'Concrete Plant (CP-9)'!Q32,'Concrete Plant (CP-10)'!Q32)>0,\"Cement Delivery to Silo\",\"\")","v":""},{"$f":"IF(B15=\"\",\"\",\"30501107\")","v":""},{"$f":"IF(SUM('Concrete Plant (CP-1)'!Q32,'Concrete Plant (CP-2)'!Q32,'Concrete Plant (CP-3)'!Q32,'Concrete Plant (CP-4)'!Q32,'Concrete Plant (CP-5)'!Q32,'Concrete Plant (CP-6)'!Q32,'Concrete Plant (CP-7)'!Q32,'Concrete Plant (CP-8)'!Q32,'Concrete Plant (CP-9)'!Q32,'Concrete Plant (CP-10)'!Q32)>0,SUM('Concrete Plant (CP-1)'!Q32,'Concrete Plant (CP-2)'!Q32,'Concrete Plant (CP-3)'!Q32,'Concrete Plant (CP-4)'!Q32,'Concrete Plant (CP-5)'!Q32,'Concrete Plant (CP-6)'!Q32,'Concrete Plant (CP-7)'!Q32,'Concrete Plant (CP-8)'!Q32,'Concrete Plant (CP-9)'!Q32,'Concrete Plant (CP-10)'!Q32),\"\")","v":""},"",{"$f":"IF(B15=\"\",\"\",LOOKUP(B15,'Emission Factors'!$A$5:$A$16,'Emission Factors'!$D$5:$D$16))","v":""},"",{"$f":"IF(B15=\"\",\"\",LOOKUP(B15,'Emission Factors'!$A$5:$A$16,'Emission Factors'!$F$5:$F$16))","v":""}," ",null,{"$f":"IF(D15=\"\",\"\",IF(SUM('Concrete Plant (CP-1)'!T32,'Concrete Plant (CP-2)'!T32,'Concrete Plant (CP-3)'!T32,'Concrete Plant (CP-4)'!T32,'Concrete Plant (CP-5)'!T32,'Concrete Plant (CP-6)'!T32,'Concrete Plant (CP-7)'!T32,'Concrete Plant (CP-8)'!T32,'Concrete Plant (CP-9)'!T32,'Concrete Plant (CP-10)'!T32)>0,SUM('Concrete Plant (CP-1)'!T32,'Concrete Plant (CP-2)'!T32,'Concrete Plant (CP-3)'!T32,'Concrete Plant (CP-4)'!T32,'Concrete Plant (CP-5)'!T32,'Concrete Plant (CP-6)'!T32,'Concrete Plant (CP-7)'!T32,'Concrete Plant (CP-8)'!T32,'Concrete Plant (CP-9)'!T32,'Concrete Plant (CP-10)'!T32),\"\"))","v":""},{"$f":"IF(B15=\"\",\"\",SUM('Concrete Plant (CP-1)'!U32,'Concrete Plant (CP-2)'!U32,'Concrete Plant (CP-3)'!U32,'Concrete Plant (CP-4)'!U32,'Concrete Plant (CP-5)'!U32,'Concrete Plant (CP-6)'!U32,'Concrete Plant (CP-7)'!U32,'Concrete Plant (CP-8)'!U32,'Concrete Plant (CP-9)'!U32,'Concrete Plant (CP-10)'!U32))","v":""},{"$f":"IF(B15=\"\",\"\",SUM('Concrete Plant (CP-1)'!V32,'Concrete Plant (CP-2)'!V32,'Concrete Plant (CP-3)'!V32,'Concrete Plant (CP-4)'!V32,'Concrete Plant (CP-5)'!V32,'Concrete Plant (CP-6)'!V32,'Concrete Plant (CP-7)'!V32,'Concrete Plant (CP-8)'!V32,'Concrete Plant (CP-9)'!V32,'Concrete Plant (CP-10)'!V32))","v":""}]
[{"$f":"IF(SUM('Concrete Plant (CP-1)'!Q33,'Concrete Plant (CP-2)'!Q33,'Concrete Plant (CP-3)'!Q33,'Concrete Plant (CP-4)'!Q33,'Concrete Plant (CP-5)'!Q33,'Concrete Plant (CP-6)'!Q33,'Concrete Plant (CP-7)'!Q33,'Concrete Plant (CP-8)'!Q33,'Concrete Plant (CP-9)'!Q33,'Concrete Plant (CP-10)'!Q33)>0,\"ALL\",\"\")","v":""},{"$f":"IF(SUM('Concrete Plant (CP-1)'!Q33,'Concrete Plant (CP-2)'!Q33,'Concrete Plant (CP-3)'!Q33,'Concrete Plant (CP-4)'!Q33,'Concrete Plant (CP-5)'!Q33,'Concrete Plant (CP-6)'!Q33,'Concrete Plant (CP-7)'!Q33,'Concrete Plant (CP-8)'!Q33,'Concrete Plant (CP-9)'!Q33,'Concrete Plant (CP-10)'!Q33)>0,\"Cement Supplement Delivery to Silo\",\"\")","v":""},{"$f":"IF(B16=\"\",\"\",\"30501117\")","v":""},{"$f":"IF(SUM('Concrete Plant (CP-1)'!Q33,'Concrete Plant (CP-2)'!Q33,'Concrete Plant (CP-3)'!Q33,'Concrete Plant (CP-4)'!Q33,'Concrete Plant (CP-5)'!Q33,'Concrete Plant (CP-6)'!Q33,'Concrete Plant (CP-7)'!Q33,'Concrete Plant (CP-8)'!Q33,'Concrete Plant (CP-9)'!Q33,'Concrete Plant (CP-10)'!Q33)>0,SUM('Concrete Plant (CP-1)'!Q33,'Concrete Plant (CP-2)'!Q33,'Concrete Plant (CP-3)'!Q33,'Concrete Plant (CP-4)'!Q33,'Concrete Plant (CP-5)'!Q33,'Concrete Plant (CP-6)'!Q33,'Concrete Plant (CP-7)'!Q33,'Concrete Plant (CP-8)'!Q33,'Concrete Plant (CP-9)'!Q33,'Concrete Plant (CP-10)'!Q33),\"\")","v":""},"",{"$f":"IF(B16=\"\",\"\",LOOKUP(B16,'Emission Factors'!$A$5:$A$16,'Emission Factors'!$D$5:$D$16))","v":""},"",{"$f":"IF(B16=\"\",\"\",LOOKUP(B16,'Emission Factors'!$A$5:$A$16,'Emission Factors'!$F$5:$F$16))","v":""}," ",null,{"$f":"IF(D16=\"\",\"\",IF(SUM('Concrete Plant (CP-1)'!T33,'Concrete Plant (CP-2)'!T33,'Concrete Plant (CP-3)'!T33,'Concrete Plant (CP-4)'!T33,'Concrete Plant (CP-5)'!T33,'Concrete Plant (CP-6)'!T33,'Concrete Plant (CP-7)'!T33,'Concrete Plant (CP-8)'!T33,'Concrete Plant (CP-9)'!T33,'Concrete Plant (CP-10)'!T33)>0,SUM('Concrete Plant (CP-1)'!T33,'Concrete Plant (CP-2)'!T33,'Concrete Plant (CP-3)'!T33,'Concrete Plant (CP-4)'!T33,'Concrete Plant (CP-5)'!T33,'Concrete Plant (CP-6)'!T33,'Concrete Plant (CP-7)'!T33,'Concrete Plant (CP-8)'!T33,'Concrete Plant (CP-9)'!T33,'Concrete Plant (CP-10)'!T33),\"\"))","v":""},{"$f":"IF(B16=\"\",\"\",SUM('Concrete Plant (CP-1)'!U33,'Concrete Plant (CP-2)'!U33,'Concrete Plant (CP-3)'!U33,'Concrete Plant (CP-4)'!U33,'Concrete Plant (CP-5)'!U33,'Concrete Plant (CP-6)'!U33,'Concrete Plant (CP-7)'!U33,'Concrete Plant (CP-8)'!U33,'Concrete Plant (CP-9)'!U33,'Concrete Plant (CP-10)'!U33))","v":""},{"$f":"IF(B16=\"\",\"\",SUM('Concrete Plant (CP-1)'!V33,'Concrete Plant (CP-2)'!V33,'Concrete Plant (CP-3)'!V33,'Concrete Plant (CP-4)'!V33,'Concrete Plant (CP-5)'!V33,'Concrete Plant (CP-6)'!V33,'Concrete Plant (CP-7)'!V33,'Concrete Plant (CP-8)'!V33,'Concrete Plant (CP-9)'!V33,'Concrete Plant (CP-10)'!V33))","v":""}]
[{"$f":"IF(SUM('Concrete Plant (CP-1)'!Q49,'Concrete Plant (CP-2)'!Q49,'Concrete Plant (CP-3)'!Q49,'Concrete Plant (CP-4)'!Q49,'Concrete Plant (CP-5)'!Q49,'Concrete Plant (CP-6)'!Q49,'Concrete Plant (CP-7)'!Q49,'Concrete Plant (CP-8)'!Q49,'Concrete Plant (CP-9)'!Q49,'Concrete Plant (CP-10)'!Q49,)>0,\"ALL\",\"\")","v":""},{"$f":"IF(SUM('Concrete Plant (CP-1)'!Q49,'Concrete Plant (CP-2)'!Q49,'Concrete Plant (CP-3)'!Q49,'Concrete Plant (CP-4)'!Q49,'Concrete Plant (CP-5)'!Q49,'Concrete Plant (CP-6)'!Q49,'Concrete Plant (CP-7)'!Q49,'Concrete Plant (CP-8)'!Q49,'Concrete Plant (CP-9)'!Q49,'Concrete Plant (CP-10)'!Q49,)>0,\"Storage Piles\",\"\")","v":""},{"$f":"IF(B17=\"\",\"\",\"30502007\")","v":""},{"$f":"IF(B17=\"\",\"\",SUM('Concrete Plant (CP-1)'!Q49,'Concrete Plant (CP-2)'!Q49,'Concrete Plant (CP-3)'!Q49,'Concrete Plant (CP-4)'!Q49,'Concrete Plant (CP-5)'!Q49,'Concrete Plant (CP-6)'!Q49,'Concrete Plant (CP-7)'!Q49,'Concrete Plant (CP-8)'!Q49,'Concrete Plant (CP-9)'!Q49,'Concrete Plant (CP-10)'!Q49))","v":""},{"$f":"IF(B17=\"\",\"\",\"acre/day\")","v":""},{"$f":"IF(B17=\"\",\"\",3.64)","v":""},{"$f":"IF(B17=\"\",\"\",\"lb/acre-day\")","v":""},{"$f":"IF(B17=\"\",\"\",\"WebFIRE\")","v":""},{"$f":"IF(B17=\"\",\"\",SUM('Concrete Plant (CP-1)'!S49,'Concrete Plant (CP-2)'!S49,'Concrete Plant (CP-3)'!S49,'Concrete Plant (CP-4)'!S49,'Concrete Plant (CP-5)'!S49,'Concrete Plant (CP-6)'!S49,'Concrete Plant (CP-7)'!S49,'Concrete Plant (CP-8)'!S49,'Concrete Plant (CP-9)'!S49,'Concrete Plant (CP-10)'!S49))","v":""},null,null,{"$f":"IF(D17=\"\",\"\",SUM('Concrete Plant (CP-1)'!U49,'Concrete Plant (CP-2)'!U49,'Concrete Plant (CP-3)'!U49,'Concrete Plant (CP-4)'!U49,'Concrete Plant (CP-5)'!U49,'Concrete Plant (CP-6)'!U49,'Concrete Plant (CP-7)'!U49,'Concrete Plant (CP-8)'!U49,'Concrete Plant (CP-9)'!U49,'Concrete Plant (CP-10)'!U49))","v":""},{"$f":"IF(D17=\"\",\"\",SUM('Concrete Plant (CP-1)'!V49,'Concrete Plant (CP-2)'!V49,'Concrete Plant (CP-3)'!V49,'Concrete Plant (CP-4)'!V49,'Concrete Plant (CP-5)'!V49,'Concrete Plant (CP-6)'!V49,'Concrete Plant (CP-7)'!V49,'Concrete Plant (CP-8)'!V49,'Concrete Plant (CP-9)'!V49,'Concrete Plant (CP-10)'!V49))","v":""}]
[{"$f":"IF('Haul Roads'!L45=0,\"\",\"ALL\")","v":""},{"$f":"IF('Haul Roads'!L45=0,\"\",\"Unpaved Haul Roads\")","v":""},{"$f":"IF('Haul Roads'!L45=0,\"\",\"30202054\")","v":""},{"$f":"IF(F18=\"\",\"\",'Haul Roads'!P40*'Haul Roads'!L40/8760)","v":""},{"$f":"IF(B18=\"\",\"\",\"vmt/hr\")","v":""},{"$f":"IF(B18=\"\",\"\",'Haul Roads'!U40)","v":""},{"$f":"IF(F18=\"\",\"\",\"lb/vmt\")","v":""},{"$f":"IF(F18=\"\",\"\",\"AP-42 Ch 13.2.2\")","v":""},{"$f":"IF(F18=\"\",\"\",D18*F18)","v":""},{"$f":"IF(SUM('Haul Roads'!W10:W39)>0,40,\"\")","v":""},{"$f":"IF(SUM('Haul Roads'!W10:W39)>0,(SUM('Haul Roads'!W10:W39)),\"\")","v":""},{"$f":"IF(AND((SUM('Haul Roads'!$M$10:$M$39)>0),'Haul Roads'!L43>0),SUM('Haul Roads'!$AL$10:$AL$19),IF(B18=\"\",\"\",'Haul Roads'!L43))","v":""},{"$f":"IF(AND((SUM('Haul Roads'!$M$10:$M$39)>0),'Haul Roads'!L48>0),SUM('Haul Roads'!$AM$10:$AM$19),IF(B18=\"\",\"\",'Haul Roads'!L48))","v":""}]
[{"$f":"IF('Haul Roads'!L46=0,\"\",\"ALL\")","v":""},{"$f":"IF('Haul Roads'!L46=0,\"\",\"Paved Haul Roads\")","v":""},{"$f":"IF('Haul Roads'!L46=0,\"\",\"30202054\")","v":""},{"$f":"IF(F19=\"\",\"\",'Haul Roads'!P41*'Haul Roads'!L41/8760)","v":""},{"$f":"IF(B19=\"\",\"\",\"vmt/hr\")","v":""},{"$f":"IF(B19=\"\",\"\",'Haul Roads'!U41)","v":""},{"$f":"IF(F19=\"\",\"\",\"lb/vmt\")","v":""},{"$f":"IF(F19=\"\",\"\",\"AP-42 Ch 13.2.1\")","v":""},{"$f":"IF(F19=\"\",\"\",D19*F19)","v":""},null,null,{"$f":"IF(B19=\"\",\"\",IF(AND((SUM('Haul Roads'!$M$10:$M$39)>0),'Haul Roads'!L44>0,'Haul Roads'!L43>0),\"\",IF(AND((SUM('Haul Roads'!$M$10:$M$39)>0),'Haul Roads'!L44>0),SUM('Haul Roads'!$AL$10:$AL$19),'Haul Roads'!L44)))","v":""},{"$f":"IF(B19=\"\",\"\",IF(AND((SUM('Haul Roads'!$M$10:$M$39)>0),'Haul Roads'!L49>0,'Haul Roads'!L48>0),\"\",IF(AND((SUM('Haul Roads'!$M$10:$M$39)>0),'Haul Roads'!L49>0),SUM('Haul Roads'!$AM$10:$AM$19),'Haul Roads'!L49)))","v":""}]
[{"$f":"IF('Permitted Diesel Engines'!R50=0,\"\",\"ALL\")","v":""},{"$f":"IF('Permitted Diesel Engines'!R50=0,\"\",\"Diesel Generator ≤ 600 bhp\")","v":""},{"$f":"IF('Permitted Diesel Engines'!R50=0,\"\",LOOKUP(B20,'Emission Factors'!A33:A34,'Emission Factors'!B33:B34))","v":""},{"$f":"IF('Permitted Diesel Engines'!R50=0,\"\",'Permitted Diesel Engines'!R50)","v":""},{"$f":"IF(B20=\"\",\"\",\"MMBtu/hr\")","v":""},{"$f":"IF(B20=\"\",\"\",LOOKUP(B20,'Emission Factors'!$A$33:$A$34,'Emission Factors'!$D$33:$D$34))","v":""},{"$f":"IF(B20=\"\",\"\",LOOKUP(B20,'Emission Factors'!$A$33:$A$34,'Emission Factors'!$C$33:$C$34))","v":""},{"$f":"IF(B20=\"\",\"\",LOOKUP(B20,'Emission Factors'!$A$33:$A$34,'Emission Factors'!$E$33:$E$34))","v":""},{"$f":"IF(B20=\"\",\"\",'Emission Calculations'!D20*'Emission Calculations'!F20)","v":""},null,null,{"$f":"IF(F20=\"\",\"\",'Permitted Diesel Engines'!Z77)","v":""},{"$f":"IF(B20=\"\",\"\",'Permitted Diesel Engines'!$T$50*F20/2000)","v":""}]
[{"$f":"IF('Permitted Diesel Engines'!R51=0,\"\",\"ALL\")","v":""},{"$f":"IF('Permitted Diesel Engines'!R51=0,\"\",\"Diesel Generator> 600 bhp\")","v":""},{"$f":"IF('Permitted Diesel Engines'!R51=0,\"\",LOOKUP(B21,'Emission Factors'!$A$33:$A$34,'Emission Factors'!$B$33:$B$34))","v":""},{"$f":"IF('Permitted Diesel Engines'!R51=0,\"\",'Permitted Diesel Engines'!R51)","v":""},{"$f":"IF(B21=\"\",\"\",\"MMBtu/hr\")","v":""},{"$f":"IF(B21=\"\",\"\",LOOKUP(B21,'Emission Factors'!$A$33:$A$34,'Emission Factors'!$D$33:$D$34))","v":""},{"$f":"IF(B21=\"\",\"\",LOOKUP(B21,'Emission Factors'!$A$33:$A$34,'Emission Factors'!$C$33:$C$34))","v":""},{"$f":"IF(B21=\"\",\"\",LOOKUP(B21,'Emission Factors'!$A$33:$A$34,'Emission Factors'!$E$33:$E$34))","v":""},{"$f":"IF(B21=\"\",\"\",'Emission Calculations'!D21*'Emission Calculations'!F21)","v":""},null,null,{"$f":"IF(F21=\"\",\"\",'Permitted Diesel Engines'!AA77)","v":""},{"$f":"IF(B21=\"\",\"\",'Permitted Diesel Engines'!$T$51*F21/2000)","v":""}]
[null,null,null,null,null,null,null,null,null,null,"FACILITY TOTALS:",{"$f":"SUM(L6:L21)","v":0},{"$f":"SUM(M6:M21)","v":0}]
[]
["PM10",null,null,null,null,null,null,null,"Potential Hourly Uncontrolled Emissions(lb/hr)",null,"Potential Hourly Controlled Emissions (lb/hr)","Potential Annual Emissions (tons/yr)","Actual Emissions (tons/yr)"]
["EP","Description of Process","SCC #","Max Design Rate","Units of Measure","Emission Factor","Units of Measure","Source of      Emission Factor",null,"Control Efficiency"]
[]
[{"$f":"IF(SUM('Concrete Plant (CP-1)'!Q35,'Concrete Plant (CP-2)'!Q35,'Concrete Plant (CP-3)'!Q35,'Concrete Plant (CP-4)'!Q35,'Concrete Plant (CP-5)'!Q35,'Concrete Plant (CP-6)'!Q35,'Concrete Plant (CP-7)'!Q35,'Concrete Plant (CP-8)'!Q35,'Concrete Plant (CP-9)'!Q35,'Concrete Plant (CP-10)'!Q35)>0,\"ALL\",\"\")","v":""},{"$f":"IF(SUM('Concrete Plant (CP-1)'!Q35,'Concrete Plant (CP-2)'!Q35,'Concrete Plant (CP-3)'!Q35,'Concrete Plant (CP-4)'!Q35,'Concrete Plant (CP-5)'!Q35,'Concrete Plant (CP-6)'!Q35,'Concrete Plant (CP-7)'!Q35,'Concrete Plant (CP-8)'!Q35,'Concrete Plant (CP-9)'!Q35,'Concrete Plant (CP-10)'!Q35)>0,\"Aggregate Delivery to Ground Storage\",\"\")","v":""},{"$f":"IF(B27=\"\",\"\",\"30501121\")","v":""},{"$f":"IF(SUM('Concrete Plant (CP-1)'!Q35,'Concrete Plant (CP-2)'!Q35,'Concrete Plant (CP-3)'!Q35,'Concrete Plant (CP-4)'!Q35,'Concrete Plant (CP-5)'!Q35,'Concrete Plant (CP-6)'!Q35,'Concrete Plant (CP-7)'!Q35,'Concrete Plant (CP-8)'!Q35,'Concrete Plant (CP-9)'!Q35,'Concrete Plant (CP-10)'!Q35)>0,SUM('Concrete Plant (CP-1)'!Q35,'Concrete Plant (CP-2)'!Q35,'Concrete Plant (CP-3)'!Q35,'Concrete Plant (CP-4)'!Q35,'Concrete Plant (CP-5)'!Q35,'Concrete Plant (CP-6)'!Q35,'Concrete Plant (CP-7)'!Q35,'Concrete Plant (CP-8)'!Q35,'Concrete Plant (CP-9)'!Q35,'Concrete Plant (CP-10)'!Q35),\"\")","v":""},{"$f":"IF(B27=\"\",\"\",\"cubic yd/hr\")","v":""},{"$f":"IF(B27=\"\",\"\",LOOKUP(B27,'Emission Factors'!$A$5:$A$16,'Emission Factors'!$H$5:$H$16))","v":""},{"$f":"IF(B27=\"\",\"\",\"lb/cubic yd\")","v":""},{"$f":"IF(B27=\"\",\"\",LOOKUP(B27,'Emission Factors'!$A$5:$A$16,'Emission Factors'!$J$5:$J$16))","v":""},{"$f":"IF(D6=\"\",\"\",SUM('Concrete Plant (CP-1)'!S35,'Concrete Plant (CP-2)'!S35,'Concrete Plant (CP-3)'!S35,'Concrete Plant (CP-4)'!S35,'Concrete Plant (CP-5)'!S35,'Concrete Plant (CP-6)'!S35,'Concrete Plant (CP-7)'!S35,'Concrete Plant (CP-8)'!S35,'Concrete Plant (CP-8)'!S35,'Concrete Plant (CP-10)'!S35))","v":""},null,{"$f":"IF(D27=\"\",\"\",IF(SUM('Concrete Plant (CP-1)'!T35,'Concrete Plant (CP-2)'!T35,'Concrete Plant (CP-3)'!T35,'Concrete Plant (CP-4)'!T35,'Concrete Plant (CP-5)'!T35,'Concrete Plant (CP-6)'!T35,'Concrete Plant (CP-7)'!T35,'Concrete Plant (CP-8)'!T35,'Concrete Plant (CP-9)'!T35,'Concrete Plant (CP-10)'!T35)>0,SUM('Concrete Plant (CP-1)'!T35,'Concrete Plant (CP-2)'!T35,'Concrete Plant (CP-3)'!T35,'Concrete Plant (CP-4)'!T35,'Concrete Plant (CP-5)'!T35,'Concrete Plant (CP-6)'!T35,'Concrete Plant (CP-7)'!T35,'Concrete Plant (CP-8)'!T35,'Concrete Plant (CP-9)'!T35,'Concrete Plant (CP-10)'!T35),\"\"))","v":""},{"$f":"IF(B27=\"\",\"\",SUM('Concrete Plant (CP-1)'!U35,'Concrete Plant (CP-2)'!U35,'Concrete Plant (CP-3)'!U35,'Concrete Plant (CP-4)'!U35,'Concrete Plant (CP-5)'!U35,'Concrete Plant (CP-6)'!U35,'Concrete Plant (CP-7)'!U35,'Concrete Plant (CP-8)'!U35,'Concrete Plant (CP-9)'!U35,'Concrete Plant (CP-10)'!U35))","v":""},{"$f":"IF(B27=\"\",\"\",SUM('Concrete Plant (CP-1)'!V35,'Concrete Plant (CP-2)'!V35,'Concrete Plant (CP-3)'!V35,'Concrete Plant (CP-4)'!V35,'Concrete Plant (CP-5)'!V35,'Concrete Plant (CP-6)'!V35,'Concrete Plant (CP-7)'!V35,'Concrete Plant (CP-8)'!V35,'Concrete Plant (CP-9)'!V35,'Concrete Plant (CP-10)'!V35))","v":""}]
[{"$f":"IF(SUM('Concrete Plant (CP-1)'!Q36,'Concrete Plant (CP-2)'!Q36,'Concrete Plant (CP-3)'!Q36,'Concrete Plant (CP-4)'!Q36,'Concrete Plant (CP-5)'!Q36,'Concrete Plant (CP-6)'!Q36,'Concrete Plant (CP-7)'!Q36,'Concrete Plant (CP-8)'!Q36,'Concrete Plant (CP-9)'!Q36,'Concrete Plant (CP-10)'!Q36)>0,\"ALL\",\"\")","v":""},{"$f":"IF(SUM('Concrete Plant (CP-1)'!Q36,'Concrete Plant (CP-2)'!Q36,'Concrete Plant (CP-3)'!Q36,'Concrete Plant (CP-4)'!Q36,'Concrete Plant (CP-5)'!Q36,'Concrete Plant (CP-6)'!Q36,'Concrete Plant (CP-7)'!Q36,'Concrete Plant (CP-8)'!Q36,'Concrete Plant (CP-9)'!Q36,'Concrete Plant (CP-10)'!Q36)>0,\"Sand Delivery to Ground Storage\",\"\")","v":""},{"$f":"IF(B28=\"\",\"\",\"30501122\")","v":""},{"$f":"IF(SUM('Concrete Plant (CP-1)'!Q36,'Concrete Plant (CP-2)'!Q36,'Concrete Plant (CP-3)'!Q36,'Concrete Plant (CP-4)'!Q36,'Concrete Plant (CP-5)'!Q36,'Concrete Plant (CP-6)'!Q36,'Concrete Plant (CP-7)'!Q36,'Concrete Plant (CP-8)'!Q36,'Concrete Plant (CP-9)'!Q36,'Concrete Plant (CP-10)'!Q36)>0,SUM('Concrete Plant (CP-1)'!Q36,'Concrete Plant (CP-2)'!Q36,'Concrete Plant (CP-3)'!Q36,'Concrete Plant (CP-4)'!Q36,'Concrete Plant (CP-5)'!Q36,'Concrete Plant (CP-6)'!Q36,'Concrete Plant (CP-7)'!Q36,'Concrete Plant (CP-8)'!Q36,'Concrete Plant (CP-9)'!Q36,'Concrete Plant (CP-10)'!Q36),\"\")","v":""},{"$f":"IF(B28=\"\",\"\",\"cubic yd/hr\")","v":""},{"$f":"IF(B28=\"\",\"\",LOOKUP(B28,'Emission Factors'!$A$5:$A$16,'Emission Factors'!$H$5:$H$16))","v":""},{"$f":"IF(B28=\"\",\"\",\"lb/cubic yd\")","v":""},{"$f":"IF(B28=\"\",\"\",LOOKUP(B28,'Emission Factors'!$A$5:$A$16,'Emission Factors'!$J$5:$J$16))","v":""},{"$f":"IF(D7=\"\",\"\",SUM('Concrete Plant (CP-1)'!S36,'Concrete Plant (CP-2)'!S36,'Concrete Plant (CP-3)'!S36,'Concrete Plant (CP-4)'!S36,'Concrete Plant (CP-5)'!S36,'Concrete Plant (CP-6)'!S36,'Concrete Plant (CP-7)'!S36,'Concrete Plant (CP-8)'!S36,'Concrete Plant (CP-8)'!S36,'Concrete Plant (CP-10)'!S36))","v":""},null,{"$f":"IF(D28=\"\",\"\",IF(SUM('Concrete Plant (CP-1)'!T36,'Concrete Plant (CP-2)'!T36,'Concrete Plant (CP-3)'!T36,'Concrete Plant (CP-4)'!T36,'Concrete Plant (CP-5)'!T36,'Concrete Plant (CP-6)'!T36,'Concrete Plant (CP-7)'!T36,'Concrete Plant (CP-8)'!T36,'Concrete Plant (CP-9)'!T36,'Concrete Plant (CP-10)'!T36)>0,SUM('Concrete Plant (CP-1)'!T36,'Concrete Plant (CP-2)'!T36,'Concrete Plant (CP-3)'!T36,'Concrete Plant (CP-4)'!T36,'Concrete Plant (CP-5)'!T36,'Concrete Plant (CP-6)'!T36,'Concrete Plant (CP-7)'!T36,'Concrete Plant (CP-8)'!T36,'Concrete Plant (CP-9)'!T36,'Concrete Plant (CP-10)'!T36),\"\"))","v":""},{"$f":"IF(B28=\"\",\"\",SUM('Concrete Plant (CP-1)'!U36,'Concrete Plant (CP-2)'!U36,'Concrete Plant (CP-3)'!U36,'Concrete Plant (CP-4)'!U36,'Concrete Plant (CP-5)'!U36,'Concrete Plant (CP-6)'!U36,'Concrete Plant (CP-7)'!U36,'Concrete Plant (CP-8)'!U36,'Concrete Plant (CP-9)'!U36,'Concrete Plant (CP-10)'!U36))","v":""},{"$f":"IF(B28=\"\",\"\",SUM('Concrete Plant (CP-1)'!V36,'Concrete Plant (CP-2)'!V36,'Concrete Plant (CP-3)'!V36,'Concrete Plant (CP-4)'!V36,'Concrete Plant (CP-5)'!V36,'Concrete Plant (CP-6)'!V36,'Concrete Plant (CP-7)'!V36,'Concrete Plant (CP-8)'!V36,'Concrete Plant (CP-9)'!V36,'Concrete Plant (CP-10)'!V36))","v":""}]
[{"$f":"IF(SUM('Concrete Plant (CP-1)'!Q37,'Concrete Plant (CP-2)'!Q37,'Concrete Plant (CP-3)'!Q37,'Concrete Plant (CP-4)'!Q37,'Concrete Plant (CP-5)'!Q37,'Concrete Plant (CP-6)'!Q37,'Concrete Plant (CP-7)'!Q37,'Concrete Plant (CP-8)'!Q37,'Concrete Plant (CP-9)'!Q37,'Concrete Plant (CP-10)'!Q37)>0,\"ALL\",\"\")","v":""},{"$f":"IF(SUM('Concrete Plant (CP-1)'!Q37,'Concrete Plant (CP-2)'!Q37,'Concrete Plant (CP-3)'!Q37,'Concrete Plant (CP-4)'!Q37,'Concrete Plant (CP-5)'!Q37,'Concrete Plant (CP-6)'!Q37,'Concrete Plant (CP-7)'!Q37,'Concrete Plant (CP-8)'!Q37,'Concrete Plant (CP-9)'!Q37,'Concrete Plant (CP-10)'!Q37)>0,\"Aggregate Transfer to Conveyor\",\"\")","v":""},{"$f":"IF(B29=\"\",\"\",\"30501123\")","v":""},{"$f":"IF(SUM('Concrete Plant (CP-1)'!Q37,'Concrete Plant (CP-2)'!Q37,'Concrete Plant (CP-3)'!Q37,'Concrete Plant (CP-4)'!Q37,'Concrete Plant (CP-5)'!Q37,'Concrete Plant (CP-6)'!Q37,'Concrete Plant (CP-7)'!Q37,'Concrete Plant (CP-8)'!Q37,'Concrete Plant (CP-9)'!Q37,'Concrete Plant (CP-10)'!Q37)>0,SUM('Concrete Plant (CP-1)'!Q37,'Concrete Plant (CP-2)'!Q37,'Concrete Plant (CP-3)'!Q37,'Concrete Plant (CP-4)'!Q37,'Concrete Plant (CP-5)'!Q37,'Concrete Plant (CP-6)'!Q37,'Concrete Plant (CP-7)'!Q37,'Concrete Plant (CP-8)'!Q37,'Concrete Plant (CP-9)'!Q37,'Concrete Plant (CP-10)'!Q37),\"\")","v":""},"",{"$f":"IF(B29=\"\",\"\",LOOKUP(B29,'Emission Factors'!$A$5:$A$16,'Emission Factors'!$H$5:$H$16))","v":""},"",{"$f":"IF(B29=\"\",\"\",LOOKUP(B29,'Emission Factors'!$A$5:$A$16,'Emission Factors'!$J$5:$J$16))","v":""},{"$f":"IF(D8=\"\",\"\",SUM('Concrete Plant (CP-1)'!S37,'Concrete Plant (CP-2)'!S37,'Concrete Plant (CP-3)'!S37,'Concrete Plant (CP-4)'!S37,'Concrete Plant (CP-5)'!S37,'Concrete Plant (CP-6)'!S37,'Concrete Plant (CP-7)'!S37,'Concrete Plant (CP-8)'!S37,'Concrete Plant (CP-8)'!S37,'Concrete Plant (CP-10)'!S37))","v":""},null,{"$f":"IF(D29=\"\",\"\",IF(SUM('Concrete Plant (CP-1)'!T37,'Concrete Plant (CP-2)'!T37,'Concrete Plant (CP-3)'!T37,'Concrete Plant (CP-4)'!T37,'Concrete Plant (CP-5)'!T37,'Concrete Plant (CP-6)'!T37,'Concrete Plant (CP-7)'!T37,'Concrete Plant (CP-8)'!T37,'Concrete Plant (CP-9)'!T37,'Concrete Plant (CP-10)'!T37)>0,SUM('Concrete Plant (CP-1)'!T37,'Concrete Plant (CP-2)'!T37,'Concrete Plant (CP-3)'!T37,'Concrete Plant (CP-4)'!T37,'Concrete Plant (CP-5)'!T37,'Concrete Plant (CP-6)'!T37,'Concrete Plant (CP-7)'!T37,'Concrete Plant (CP-8)'!T37,'Concrete Plant (CP-9)'!T37,'Concrete Plant (CP-10)'!T37),\"\"))","v":""},{"$f":"IF(B29=\"\",\"\",SUM('Concrete Plant (CP-1)'!U37,'Concrete Plant (CP-2)'!U37,'Concrete Plant (CP-3)'!U37,'Concrete Plant (CP-4)'!U37,'Concrete Plant (CP-5)'!U37,'Concrete Plant (CP-6)'!U37,'Concrete Plant (CP-7)'!U37,'Concrete Plant (CP-8)'!U37,'Concrete Plant (CP-9)'!U37,'Concrete Plant (CP-10)'!U37))","v":""},{"$f":"IF(B29=\"\",\"\",SUM('Concrete Plant (CP-1)'!V37,'Concrete Plant (CP-2)'!V37,'Concrete Plant (CP-3)'!V37,'Concrete Plant (CP-4)'!V37,'Concrete Plant (CP-5)'!V37,'Concrete Plant (CP-6)'!V37,'Concrete Plant (CP-7)'!V37,'Concrete Plant (CP-8)'!V37,'Concrete Plant (CP-9)'!V37,'Concrete Plant (CP-10)'!V37))","v":""}]
[{"$f":"IF(SUM('Concrete Plant (CP-1)'!Q38,'Concrete Plant (CP-2)'!Q38,'Concrete Plant (CP-3)'!Q38,'Concrete Plant (CP-4)'!Q38,'Concrete Plant (CP-5)'!Q38,'Concrete Plant (CP-6)'!Q38,'Concrete Plant (CP-7)'!Q38,'Concrete Plant (CP-8)'!Q38,'Concrete Plant (CP-9)'!Q38,'Concrete Plant (CP-10)'!Q38)>0,\"ALL\",\"\")","v":""},{"$f":"IF(SUM('Concrete Plant (CP-1)'!Q38,'Concrete Plant (CP-2)'!Q38,'Concrete Plant (CP-3)'!Q38,'Concrete Plant (CP-4)'!Q38,'Concrete Plant (CP-5)'!Q38,'Concrete Plant (CP-6)'!Q38,'Concrete Plant (CP-7)'!Q38,'Concrete Plant (CP-8)'!Q38,'Concrete Plant (CP-9)'!Q38,'Concrete Plant (CP-10)'!Q38)>0,\"Sand Transfer to Conveyor\",\"\")","v":""},{"$f":"IF(B30=\"\",\"\",\"30501124\")","v":""},{"$f":"IF(SUM('Concrete Plant (CP-1)'!Q38,'Concrete Plant (CP-2)'!Q38,'Concrete Plant (CP-3)'!Q38,'Concrete Plant (CP-4)'!Q38,'Concrete Plant (CP-5)'!Q38,'Concrete Plant (CP-6)'!Q38,'Concrete Plant (CP-7)'!Q38,'Concrete Plant (CP-8)'!Q38,'Concrete Plant (CP-9)'!Q38,'Concrete Plant (CP-10)'!Q38)>0,SUM('Concrete Plant (CP-1)'!Q38,'Concrete Plant (CP-2)'!Q38,'Concrete Plant (CP-3)'!Q38,'Concrete Plant (CP-4)'!Q38,'Concrete Plant (CP-5)'!Q38,'Concrete Plant (CP-6)'!Q38,'Concrete Plant (CP-7)'!Q38,'Concrete Plant (CP-8)'!Q38,'Concrete Plant (CP-9)'!Q38,'Concrete Plant (CP-10)'!Q38),\"\")","v":""},"",{"$f":"IF(B30=\"\",\"\",LOOKUP(B30,'Emission Factors'!$A$5:$A$16,'Emission Factors'!$H$5:$H$16))","v":""},"",{"$f":"IF(B30=\"\",\"\",LOOKUP(B30,'Emission Factors'!$A$5:$A$16,'Emission Factors'!$J$5:$J$16))","v":""},{"$f":"IF(D9=\"\",\"\",SUM('Concrete Plant (CP-1)'!S38,'Concrete Plant (CP-2)'!S38,'Concrete Plant (CP-3)'!S38,'Concrete Plant (CP-4)'!S38,'Concrete Plant (CP-5)'!S38,'Concrete Plant (CP-6)'!S38,'Concrete Plant (CP-7)'!S38,'Concrete Plant (CP-8)'!S38,'Concrete Plant (CP-8)'!S38,'Concrete Plant (CP-10)'!S38))","v":""},null,{"$f":"IF(D30=\"\",\"\",IF(SUM('Concrete Plant (CP-1)'!T38,'Concrete Plant (CP-2)'!T38,'Concrete Plant (CP-3)'!T38,'Concrete Plant (CP-4)'!T38,'Concrete Plant (CP-5)'!T38,'Concrete Plant (CP-6)'!T38,'Concrete Plant (CP-7)'!T38,'Concrete Plant (CP-8)'!T38,'Concrete Plant (CP-9)'!T38,'Concrete Plant (CP-10)'!T38)>0,SUM('Concrete Plant (CP-1)'!T38,'Concrete Plant (CP-2)'!T38,'Concrete Plant (CP-3)'!T38,'Concrete Plant (CP-4)'!T38,'Concrete Plant (CP-5)'!T38,'Concrete Plant (CP-6)'!T38,'Concrete Plant (CP-7)'!T38,'Concrete Plant (CP-8)'!T38,'Concrete Plant (CP-9)'!T38,'Concrete Plant (CP-10)'!T38),\"\"))","v":""},{"$f":"IF(B30=\"\",\"\",SUM('Concrete Plant (CP-1)'!U38,'Concrete Plant (CP-2)'!U38,'Concrete Plant (CP-3)'!U38,'Concrete Plant (CP-4)'!U38,'Concrete Plant (CP-5)'!U38,'Concrete Plant (CP-6)'!U38,'Concrete Plant (CP-7)'!U38,'Concrete Plant (CP-8)'!U38,'Concrete Plant (CP-9)'!U38,'Concrete Plant (CP-10)'!U38))","v":""},{"$f":"IF(B30=\"\",\"\",SUM('Concrete Plant (CP-1)'!V38,'Concrete Plant (CP-2)'!V38,'Concrete Plant (CP-3)'!V38,'Concrete Plant (CP-4)'!V38,'Concrete Plant (CP-5)'!V38,'Concrete Plant (CP-6)'!V38,'Concrete Plant (CP-7)'!V38,'Concrete Plant (CP-8)'!V38,'Concrete Plant (CP-9)'!V38,'Concrete Plant (CP-10)'!V38))","v":""}]
[{"$f":"IF(SUM('Concrete Plant (CP-1)'!Q39,'Concrete Plant (CP-2)'!Q39,'Concrete Plant (CP-3)'!Q39,'Concrete Plant (CP-4)'!Q39,'Concrete Plant (CP-5)'!Q39,'Concrete Plant (CP-6)'!Q39,'Concrete Plant (CP-7)'!Q39,'Concrete Plant (CP-8)'!Q39,'Concrete Plant (CP-9)'!Q39,'Concrete Plant (CP-10)'!Q39)>0,\"ALL\",\"\")","v":""},{"$f":"IF(SUM('Concrete Plant (CP-1)'!Q39,'Concrete Plant (CP-2)'!Q39,'Concrete Plant (CP-3)'!Q39,'Concrete Plant (CP-4)'!Q39,'Concrete Plant (CP-5)'!Q39,'Concrete Plant (CP-6)'!Q39,'Concrete Plant (CP-7)'!Q39,'Concrete Plant (CP-8)'!Q39,'Concrete Plant (CP-9)'!Q39,'Concrete Plant (CP-10)'!Q39)>0,\"Aggregate Transfer to Elevated Storage\",\"\")","v":""},{"$f":"IF(B31=\"\",\"\",\"30501104\")","v":""},{"$f":"IF(SUM('Concrete Plant (CP-1)'!Q39,'Concrete Plant (CP-2)'!Q39,'Concrete Plant (CP-3)'!Q39,'Concrete Plant (CP-4)'!Q39,'Concrete Plant (CP-5)'!Q39,'Concrete Plant (CP-6)'!Q39,'Concrete Plant (CP-7)'!Q39,'Concrete Plant (CP-8)'!Q39,'Concrete Plant (CP-9)'!Q39,'Concrete Plant (CP-10)'!Q39)>0,SUM('Concrete Plant (CP-1)'!Q39,'Concrete Plant (CP-2)'!Q39,'Concrete Plant (CP-3)'!Q39,'Concrete Plant (CP-4)'!Q39,'Concrete Plant (CP-5)'!Q39,'Concrete Plant (CP-6)'!Q39,'Concrete Plant (CP-7)'!Q39,'Concrete Plant (CP-8)'!Q39,'Concrete Plant (CP-9)'!Q39,'Concrete Plant (CP-10)'!Q39),\"\")","v":""},"",{"$f":"IF(B31=\"\",\"\",LOOKUP(B31,'Emission Factors'!$A$5:$A$16,'Emission Factors'!$H$5:$H$16))","v":""},"",{"$f":"IF(B31=\"\",\"\",LOOKUP(B31,'Emission Factors'!$A$5:$A$16,'Emission Factors'!$J$5:$J$16))","v":""},{"$f":"IF(D10=\"\",\"\",SUM('Concrete Plant (CP-1)'!S39,'Concrete Plant (CP-2)'!S39,'Concrete Plant (CP-3)'!S39,'Concrete Plant (CP-4)'!S39,'Concrete Plant (CP-5)'!S39,'Concrete Plant (CP-6)'!S39,'Concrete Plant (CP-7)'!S39,'Concrete Plant (CP-8)'!S39,'Concrete Plant (CP-8)'!S39,'Concrete Plant (CP-10)'!S39))","v":""},null,{"$f":"IF(D31=\"\",\"\",IF(SUM('Concrete Plant (CP-1)'!T39,'Concrete Plant (CP-2)'!T39,'Concrete Plant (CP-3)'!T39,'Concrete Plant (CP-4)'!T39,'Concrete Plant (CP-5)'!T39,'Concrete Plant (CP-6)'!T39,'Concrete Plant (CP-7)'!T39,'Concrete Plant (CP-8)'!T39,'Concrete Plant (CP-9)'!T39,'Concrete Plant (CP-10)'!T39)>0,SUM('Concrete Plant (CP-1)'!T39,'Concrete Plant (CP-2)'!T39,'Concrete Plant (CP-3)'!T39,'Concrete Plant (CP-4)'!T39,'Concrete Plant (CP-5)'!T39,'Concrete Plant (CP-6)'!T39,'Concrete Plant (CP-7)'!T39,'Concrete Plant (CP-8)'!T39,'Concrete Plant (CP-9)'!T39,'Concrete Plant (CP-10)'!T39),\"\"))","v":""},{"$f":"IF(B31=\"\",\"\",SUM('Concrete Plant (CP-1)'!U39,'Concrete Plant (CP-2)'!U39,'Concrete Plant (CP-3)'!U39,'Concrete Plant (CP-4)'!U39,'Concrete Plant (CP-5)'!U39,'Concrete Plant (CP-6)'!U39,'Concrete Plant (CP-7)'!U39,'Concrete Plant (CP-8)'!U39,'Concrete Plant (CP-9)'!U39,'Concrete Plant (CP-10)'!U39))","v":""},{"$f":"IF(B31=\"\",\"\",SUM('Concrete Plant (CP-1)'!V39,'Concrete Plant (CP-2)'!V39,'Concrete Plant (CP-3)'!V39,'Concrete Plant (CP-4)'!V39,'Concrete Plant (CP-5)'!V39,'Concrete Plant (CP-6)'!V39,'Concrete Plant (CP-7)'!V39,'Concrete Plant (CP-8)'!V39,'Concrete Plant (CP-9)'!V39,'Concrete Plant (CP-10)'!V39))","v":""}]
[{"$f":"IF(SUM('Concrete Plant (CP-1)'!Q40,'Concrete Plant (CP-2)'!Q40,'Concrete Plant (CP-3)'!Q40,'Concrete Plant (CP-4)'!Q40,'Concrete Plant (CP-5)'!Q40,'Concrete Plant (CP-6)'!Q40,'Concrete Plant (CP-7)'!Q40,'Concrete Plant (CP-8)'!Q40,'Concrete Plant (CP-9)'!Q40,'Concrete Plant (CP-10)'!Q40)>0,\"ALL\",\"\")","v":""},{"$f":"IF(SUM('Concrete Plant (CP-1)'!Q40,'Concrete Plant (CP-2)'!Q40,'Concrete Plant (CP-3)'!Q40,'Concrete Plant (CP-4)'!Q40,'Concrete Plant (CP-5)'!Q40,'Concrete Plant (CP-6)'!Q40,'Concrete Plant (CP-7)'!Q40,'Concrete Plant (CP-8)'!Q40,'Concrete Plant (CP-9)'!Q40,'Concrete Plant (CP-10)'!Q40)>0,\"Sand Transfer to Elevated Storage\",\"\")","v":""},{"$f":"IF(B32=\"\",\"\",\"30501105\")","v":""},{"$f":"IF(SUM('Concrete Plant (CP-1)'!Q40,'Concrete Plant (CP-2)'!Q40,'Concrete Plant (CP-3)'!Q40,'Concrete Plant (CP-4)'!Q40,'Concrete Plant (CP-5)'!Q40,'Concrete Plant (CP-6)'!Q40,'Concrete Plant (CP-7)'!Q40,'Concrete Plant (CP-8)'!Q40,'Concrete Plant (CP-9)'!Q40,'Concrete Plant (CP-10)'!Q40)>0,SUM('Concrete Plant (CP-1)'!Q40,'Concrete Plant (CP-2)'!Q40,'Concrete Plant (CP-3)'!Q40,'Concrete Plant (CP-4)'!Q40,'Concrete Plant (CP-5)'!Q40,'Concrete Plant (CP-6)'!Q40,'Concrete Plant (CP-7)'!Q40,'Concrete Plant (CP-8)'!Q40,'Concrete Plant (CP-9)'!Q40,'Concrete Plant (CP-10)'!Q40),\"\")","v":""},"",{"$f":"IF(B32=\"\",\"\",LOOKUP(B32,'Emission Factors'!$A$5:$A$16,'Emission Factors'!$H$5:$H$16))","v":""},"",{"$f":"IF(B32=\"\",\"\",LOOKUP(B32,'Emission Factors'!$A$5:$A$16,'Emission Factors'!$J$5:$J$16))","v":""},{"$f":"IF(D11=\"\",\"\",SUM('Concrete Plant (CP-1)'!S40,'Concrete Plant (CP-2)'!S40,'Concrete Plant (CP-3)'!S40,'Concrete Plant (CP-4)'!S40,'Concrete Plant (CP-5)'!S40,'Concrete Plant (CP-6)'!S40,'Concrete Plant (CP-7)'!S40,'Concrete Plant (CP-8)'!S40,'Concrete Plant (CP-8)'!S40,'Concrete Plant (CP-10)'!S40))","v":""},null,{"$f":"IF(D32=\"\",\"\",IF(SUM('Concrete Plant (CP-1)'!T40,'Concrete Plant (CP-2)'!T40,'Concrete Plant (CP-3)'!T40,'Concrete Plant (CP-4)'!T40,'Concrete Plant (CP-5)'!T40,'Concrete Plant (CP-6)'!T40,'Concrete Plant (CP-7)'!T40,'Concrete Plant (CP-8)'!T40,'Concrete Plant (CP-9)'!T40,'Concrete Plant (CP-10)'!T40)>0,SUM('Concrete Plant (CP-1)'!T40,'Concrete Plant (CP-2)'!T40,'Concrete Plant (CP-3)'!T40,'Concrete Plant (CP-4)'!T40,'Concrete Plant (CP-5)'!T40,'Concrete Plant (CP-6)'!T40,'Concrete Plant (CP-7)'!T40,'Concrete Plant (CP-8)'!T40,'Concrete Plant (CP-9)'!T40,'Concrete Plant (CP-10)'!T40),\"\"))","v":""},{"$f":"IF(B32=\"\",\"\",SUM('Concrete Plant (CP-1)'!U40,'Concrete Plant (CP-2)'!U40,'Concrete Plant (CP-3)'!U40,'Concrete Plant (CP-4)'!U40,'Concrete Plant (CP-5)'!U40,'Concrete Plant (CP-6)'!U40,'Concrete Plant (CP-7)'!U40,'Concrete Plant (CP-8)'!U40,'Concrete Plant (CP-9)'!U40,'Concrete Plant (CP-10)'!U40))","v":""},{"$f":"IF(B32=\"\",\"\",SUM('Concrete Plant (CP-1)'!V40,'Concrete Plant (CP-2)'!V40,'Concrete Plant (CP-3)'!V40,'Concrete Plant (CP-4)'!V40,'Concrete Plant (CP-5)'!V40,'Concrete Plant (CP-6)'!V40,'Concrete Plant (CP-7)'!V40,'Concrete Plant (CP-8)'!V40,'Concrete Plant (CP-9)'!V40,'Concrete Plant (CP-10)'!V40))","v":""}]
[{"$f":"IF(SUM('Concrete Plant (CP-1)'!Q41,'Concrete Plant (CP-2)'!Q41,'Concrete Plant (CP-3)'!Q41,'Concrete Plant (CP-4)'!Q41,'Concrete Plant (CP-5)'!Q41,'Concrete Plant (CP-6)'!Q41,'Concrete Plant (CP-7)'!Q41,'Concrete Plant (CP-8)'!Q41,'Concrete Plant (CP-9)'!Q41,'Concrete Plant (CP-10)'!Q41)>0,\"ALL\",\"\")","v":""},{"$f":"IF(SUM('Concrete Plant (CP-1)'!Q41,'Concrete Plant (CP-2)'!Q41,'Concrete Plant (CP-3)'!Q41,'Concrete Plant (CP-4)'!Q41,'Concrete Plant (CP-5)'!Q41,'Concrete Plant (CP-6)'!Q41,'Concrete Plant (CP-7)'!Q41,'Concrete Plant (CP-8)'!Q41,'Concrete Plant (CP-9)'!Q41,'Concrete Plant (CP-10)'!Q41)>0,\"Weigh Hopper Loading\",\"\")","v":""},{"$f":"IF(B33=\"\",\"\",\"30501108\")","v":""},{"$f":"IF(SUM('Concrete Plant (CP-1)'!Q41,'Concrete Plant (CP-2)'!Q41,'Concrete Plant (CP-3)'!Q41,'Concrete Plant (CP-4)'!Q41,'Concrete Plant (CP-5)'!Q41,'Concrete Plant (CP-6)'!Q41,'Concrete Plant (CP-7)'!Q41,'Concrete Plant (CP-8)'!Q41,'Concrete Plant (CP-9)'!Q41,'Concrete Plant (CP-10)'!Q41)>0,SUM('Concrete Plant (CP-1)'!Q41,'Concrete Plant (CP-2)'!Q41,'Concrete Plant (CP-3)'!Q41,'Concrete Plant (CP-4)'!Q41,'Concrete Plant (CP-5)'!Q41,'Concrete Plant (CP-6)'!Q41,'Concrete Plant (CP-7)'!Q41,'Concrete Plant (CP-8)'!Q41,'Concrete Plant (CP-9)'!Q41,'Concrete Plant (CP-10)'!Q41),\"\")","v":""},"",{"$f":"IF(B33=\"\",\"\",LOOKUP(B33,'Emission Factors'!$A$5:$A$16,'Emission Factors'!$H$5:$H$16))","v":""},"",{"$f":"IF(B33=\"\",\"\",LOOKUP(B33,'Emission Factors'!$A$5:$A$16,'Emission Factors'!$J$5:$J$16))","v":""},{"$f":"IF(D12=\"\",\"\",SUM('Concrete Plant (CP-1)'!S41,'Concrete Plant (CP-2)'!S41,'Concrete Plant (CP-3)'!S41,'Concrete Plant (CP-4)'!S41,'Concrete Plant (CP-5)'!S41,'Concrete Plant (CP-6)'!S41,'Concrete Plant (CP-7)'!S41,'Concrete Plant (CP-8)'!S41,'Concrete Plant (CP-8)'!S41,'Concrete Plant (CP-10)'!S41))","v":""},null,{"$f":"IF(D33=\"\",\"\",IF(SUM('Concrete Plant (CP-1)'!T41,'Concrete Plant (CP-2)'!T41,'Concrete Plant (CP-3)'!T41,'Concrete Plant (CP-4)'!T41,'Concrete Plant (CP-5)'!T41,'Concrete Plant (CP-6)'!T41,'Concrete Plant (CP-7)'!T41,'Concrete Plant (CP-8)'!T41,'Concrete Plant (CP-9)'!T41,'Concrete Plant (CP-10)'!T41)>0,SUM('Concrete Plant (CP-1)'!T41,'Concrete Plant (CP-2)'!T41,'Concrete Plant (CP-3)'!T41,'Concrete Plant (CP-4)'!T41,'Concrete Plant (CP-5)'!T41,'Concrete Plant (CP-6)'!T41,'Concrete Plant (CP-7)'!T41,'Concrete Plant (CP-8)'!T41,'Concrete Plant (CP-9)'!T41,'Concrete Plant (CP-10)'!T41),\"\"))","v":""},{"$f":"IF(B33=\"\",\"\",SUM('Concrete Plant (CP-1)'!U41,'Concrete Plant (CP-2)'!U41,'Concrete Plant (CP-3)'!U41,'Concrete Plant (CP-4)'!U41,'Concrete Plant (CP-5)'!U41,'Concrete Plant (CP-6)'!U41,'Concrete Plant (CP-7)'!U41,'Concrete Plant (CP-8)'!U41,'Concrete Plant (CP-9)'!U41,'Concrete Plant (CP-10)'!U41))","v":""},{"$f":"IF(B33=\"\",\"\",SUM('Concrete Plant (CP-1)'!V41,'Concrete Plant (CP-2)'!V41,'Concrete Plant (CP-3)'!V41,'Concrete Plant (CP-4)'!V41,'Concrete Plant (CP-5)'!V41,'Concrete Plant (CP-6)'!V41,'Concrete Plant (CP-7)'!V41,'Concrete Plant (CP-8)'!V41,'Concrete Plant (CP-9)'!V41,'Concrete Plant (CP-10)'!V41))","v":""}]
[{"$f":"IF(SUM('Concrete Plant (CP-1)'!Q42,'Concrete Plant (CP-2)'!Q42,'Concrete Plant (CP-3)'!Q42,'Concrete Plant (CP-4)'!Q42,'Concrete Plant (CP-5)'!Q42,'Concrete Plant (CP-6)'!Q42,'Concrete Plant (CP-7)'!Q42,'Concrete Plant (CP-8)'!Q42,'Concrete Plant (CP-9)'!Q42,'Concrete Plant (CP-10)'!Q42)>0,\"ALL\",\"\")","v":""},{"$f":"IF(SUM('Concrete Plant (CP-1)'!Q42,'Concrete Plant (CP-2)'!Q42,'Concrete Plant (CP-3)'!Q42,'Concrete Plant (CP-4)'!Q42,'Concrete Plant (CP-5)'!Q42,'Concrete Plant (CP-6)'!Q42,'Concrete Plant (CP-7)'!Q42,'Concrete Plant (CP-8)'!Q42,'Concrete Plant (CP-9)'!Q42,'Concrete Plant (CP-10)'!Q42)>0,\"Central Mix Loading\",\"\")","v":""},{"$f":"IF(B34=\"\",\"\",\"30501109\")","v":""},{"$f":"IF(SUM('Concrete Plant (CP-1)'!Q42,'Concrete Plant (CP-2)'!Q42,'Concrete Plant (CP-3)'!Q42,'Concrete Plant (CP-4)'!Q42,'Concrete Plant (CP-5)'!Q42,'Concrete Plant (CP-6)'!Q42,'Concrete Plant (CP-7)'!Q42,'Concrete Plant (CP-8)'!Q42,'Concrete Plant (CP-9)'!Q42,'Concrete Plant (CP-10)'!Q42)>0,SUM('Concrete Plant (CP-1)'!Q42,'Concrete Plant (CP-2)'!Q42,'Concrete Plant (CP-3)'!Q42,'Concrete Plant (CP-4)'!Q42,'Concrete Plant (CP-5)'!Q42,'Concrete Plant (CP-6)'!Q42,'Concrete Plant (CP-7)'!Q42,'Concrete Plant (CP-8)'!Q42,'Concrete Plant (CP-9)'!Q42,'Concrete Plant (CP-10)'!Q42),\"\")","v":""},"",{"$f":"IF(B34=\"\",\"\",LOOKUP(B34,'Emission Factors'!$A$5:$A$16,'Emission Factors'!$H$5:$H$16))","v":""},"",{"$f":"IF(B34=\"\",\"\",LOOKUP(B34,'Emission Factors'!$A$5:$A$16,'Emission Factors'!$J$5:$J$16))","v":""},{"$f":"IF(D13=\"\",\"\",SUM('Concrete Plant (CP-1)'!S42,'Concrete Plant (CP-2)'!S42,'Concrete Plant (CP-3)'!S42,'Concrete Plant (CP-4)'!S42,'Concrete Plant (CP-5)'!S42,'Concrete Plant (CP-6)'!S42,'Concrete Plant (CP-7)'!S42,'Concrete Plant (CP-8)'!S42,'Concrete Plant (CP-8)'!S42,'Concrete Plant (CP-10)'!S42))","v":""},null,{"$f":"IF(D34=\"\",\"\",IF(SUM('Concrete Plant (CP-1)'!T42,'Concrete Plant (CP-2)'!T42,'Concrete Plant (CP-3)'!T42,'Concrete Plant (CP-4)'!T42,'Concrete Plant (CP-5)'!T42,'Concrete Plant (CP-6)'!T42,'Concrete Plant (CP-7)'!T42,'Concrete Plant (CP-8)'!T42,'Concrete Plant (CP-9)'!T42,'Concrete Plant (CP-10)'!T42)>0,SUM('Concrete Plant (CP-1)'!T42,'Concrete Plant (CP-2)'!T42,'Concrete Plant (CP-3)'!T42,'Concrete Plant (CP-4)'!T42,'Concrete Plant (CP-5)'!T42,'Concrete Plant (CP-6)'!T42,'Concrete Plant (CP-7)'!T42,'Concrete Plant (CP-8)'!T42,'Concrete Plant (CP-9)'!T42,'Concrete Plant (CP-10)'!T42),\"\"))","v":""},{"$f":"IF(B34=\"\",\"\",SUM('Concrete Plant (CP-1)'!U42,'Concrete Plant (CP-2)'!U42,'Concrete Plant (CP-3)'!U42,'Concrete Plant (CP-4)'!U42,'Concrete Plant (CP-5)'!U42,'Concrete Plant (CP-6)'!U42,'Concrete Plant (CP-7)'!U42,'Concrete Plant (CP-8)'!U42,'Concrete Plant (CP-9)'!U42,'Concrete Plant (CP-10)'!U42))","v":""},{"$f":"IF(B34=\"\",\"\",SUM('Concrete Plant (CP-1)'!V42,'Concrete Plant (CP-2)'!V42,'Concrete Plant (CP-3)'!V42,'Concrete Plant (CP-4)'!V42,'Concrete Plant (CP-5)'!V42,'Concrete Plant (CP-6)'!V42,'Concrete Plant (CP-7)'!V42,'Concrete Plant (CP-8)'!V42,'Concrete Plant (CP-9)'!V42,'Concrete Plant (CP-10)'!V42))","v":""}]
[{"$f":"IF(SUM('Concrete Plant (CP-1)'!Q43,'Concrete Plant (CP-2)'!Q43,'Concrete Plant (CP-3)'!Q43,'Concrete Plant (CP-4)'!Q43,'Concrete Plant (CP-5)'!Q43,'Concrete Plant (CP-6)'!Q43,'Concrete Plant (CP-7)'!Q43,'Concrete Plant (CP-8)'!Q43,'Concrete Plant (CP-9)'!Q43,'Concrete Plant (CP-10)'!Q43)>0,\"ALL\",\"\")","v":""},{"$f":"IF(SUM('Concrete Plant (CP-1)'!Q43,'Concrete Plant (CP-2)'!Q43,'Concrete Plant (CP-3)'!Q43,'Concrete Plant (CP-4)'!Q43,'Concrete Plant (CP-5)'!Q43,'Concrete Plant (CP-6)'!Q43,'Concrete Plant (CP-7)'!Q43,'Concrete Plant (CP-8)'!Q43,'Concrete Plant (CP-9)'!Q43,'Concrete Plant (CP-10)'!Q43)>0,\"Truck Mix Loading\",\"\")","v":""},{"$f":"IF(B35=\"\",\"\",\"30501110\")","v":""},{"$f":"IF(SUM('Concrete Plant (CP-1)'!Q43,'Concrete Plant (CP-2)'!Q43,'Concrete Plant (CP-3)'!Q43,'Concrete Plant (CP-4)'!Q43,'Concrete Plant (CP-5)'!Q43,'Concrete Plant (CP-6)'!Q43,'Concrete Plant (CP-7)'!Q43,'Concrete Plant (CP-8)'!Q43,'Concrete Plant (CP-9)'!Q43,'Concrete Plant (CP-10)'!Q43)>0,SUM('Concrete Plant (CP-1)'!Q43,'Concrete Plant (CP-2)'!Q43,'Concrete Plant (CP-3)'!Q43,'Concrete Plant (CP-4)'!Q43,'Concrete Plant (CP-5)'!Q43,'Concrete Plant (CP-6)'!Q43,'Concrete Plant (CP-7)'!Q43,'Concrete Plant (CP-8)'!Q43,'Concrete Plant (CP-9)'!Q43,'Concrete Plant (CP-10)'!Q43),\"\")","v":""},"",{"$f":"IF(B35=\"\",\"\",LOOKUP(B35,'Emission Factors'!$A$5:$A$16,'Emission Factors'!$H$5:$H$16))","v":""},"",{"$f":"IF(B35=\"\",\"\",LOOKUP(B35,'Emission Factors'!$A$5:$A$16,'Emission Factors'!$J$5:$J$16))","v":""},{"$f":"IF(D14=\"\",\"\",SUM('Concrete Plant (CP-1)'!S43,'Concrete Plant (CP-2)'!S43,'Concrete Plant (CP-3)'!S43,'Concrete Plant (CP-4)'!S43,'Concrete Plant (CP-5)'!S43,'Concrete Plant (CP-6)'!S43,'Concrete Plant (CP-7)'!S43,'Concrete Plant (CP-8)'!S43,'Concrete Plant (CP-8)'!S43,'Concrete Plant (CP-10)'!S43))","v":""},null,{"$f":"IF(D35=\"\",\"\",IF(SUM('Concrete Plant (CP-1)'!T43,'Concrete Plant (CP-2)'!T43,'Concrete Plant (CP-3)'!T43,'Concrete Plant (CP-4)'!T43,'Concrete Plant (CP-5)'!T43,'Concrete Plant (CP-6)'!T43,'Concrete Plant (CP-7)'!T43,'Concrete Plant (CP-8)'!T43,'Concrete Plant (CP-9)'!T43,'Concrete Plant (CP-10)'!T43)>0,SUM('Concrete Plant (CP-1)'!T43,'Concrete Plant (CP-2)'!T43,'Concrete Plant (CP-3)'!T43,'Concrete Plant (CP-4)'!T43,'Concrete Plant (CP-5)'!T43,'Concrete Plant (CP-6)'!T43,'Concrete Plant (CP-7)'!T43,'Concrete Plant (CP-8)'!T43,'Concrete Plant (CP-9)'!T43,'Concrete Plant (CP-10)'!T43),\"\"))","v":""},{"$f":"IF(B35=\"\",\"\",SUM('Concrete Plant (CP-1)'!U43,'Concrete Plant (CP-2)'!U43,'Concrete Plant (CP-3)'!U43,'Concrete Plant (CP-4)'!U43,'Concrete Plant (CP-5)'!U43,'Concrete Plant (CP-6)'!U43,'Concrete Plant (CP-7)'!U43,'Concrete Plant (CP-8)'!U43,'Concrete Plant (CP-9)'!U43,'Concrete Plant (CP-10)'!U43))","v":""},{"$f":"IF(B35=\"\",\"\",SUM('Concrete Plant (CP-1)'!V43,'Concrete Plant (CP-2)'!V43,'Concrete Plant (CP-3)'!V43,'Concrete Plant (CP-4)'!V43,'Concrete Plant (CP-5)'!V43,'Concrete Plant (CP-6)'!V43,'Concrete Plant (CP-7)'!V43,'Concrete Plant (CP-8)'!V43,'Concrete Plant (CP-9)'!V43,'Concrete Plant (CP-10)'!V43))","v":""}]
[{"$f":"IF(SUM('Concrete Plant (CP-1)'!Q44,'Concrete Plant (CP-2)'!Q44,'Concrete Plant (CP-3)'!Q44,'Concrete Plant (CP-4)'!Q44,'Concrete Plant (CP-5)'!Q44,'Concrete Plant (CP-6)'!Q44,'Concrete Plant (CP-7)'!Q44,'Concrete Plant (CP-8)'!Q44,'Concrete Plant (CP-9)'!Q44,'Concrete Plant (CP-10)'!Q44)>0,\"ALL\",\"\")","v":""},{"$f":"IF(SUM('Concrete Plant (CP-1)'!Q44,'Concrete Plant (CP-2)'!Q44,'Concrete Plant (CP-3)'!Q44,'Concrete Plant (CP-4)'!Q44,'Concrete Plant (CP-5)'!Q44,'Concrete Plant (CP-6)'!Q44,'Concrete Plant (CP-7)'!Q44,'Concrete Plant (CP-8)'!Q44,'Concrete Plant (CP-9)'!Q44,'Concrete Plant (CP-10)'!Q44)>0,\"Cement Delivery to Silo\",\"\")","v":""},{"$f":"IF(B36=\"\",\"\",\"30501107\")","v":""},{"$f":"IF(SUM('Concrete Plant (CP-1)'!Q44,'Concrete Plant (CP-2)'!Q44,'Concrete Plant (CP-3)'!Q44,'Concrete Plant (CP-4)'!Q44,'Concrete Plant (CP-5)'!Q44,'Concrete Plant (CP-6)'!Q44,'Concrete Plant (CP-7)'!Q44,'Concrete Plant (CP-8)'!Q44,'Concrete Plant (CP-9)'!Q44,'Concrete Plant (CP-10)'!Q44)>0,SUM('Concrete Plant (CP-1)'!Q44,'Concrete Plant (CP-2)'!Q44,'Concrete Plant (CP-3)'!Q44,'Concrete Plant (CP-4)'!Q44,'Concrete Plant (CP-5)'!Q44,'Concrete Plant (CP-6)'!Q44,'Concrete Plant (CP-7)'!Q44,'Concrete Plant (CP-8)'!Q44,'Concrete Plant (CP-9)'!Q44,'Concrete Plant (CP-10)'!Q44),\"\")","v":""},"",{"$f":"IF(B36=\"\",\"\",LOOKUP(B36,'Emission Factors'!$A$5:$A$16,'Emission Factors'!$H$5:$H$16))","v":""},"",{"$f":"IF(B36=\"\",\"\",LOOKUP(B36,'Emission Factors'!$A$5:$A$16,'Emission Factors'!$J$5:$J$16))","v":""},null,null,{"$f":"IF(D36=\"\",\"\",IF(SUM('Concrete Plant (CP-1)'!T44,'Concrete Plant (CP-2)'!T44,'Concrete Plant (CP-3)'!T44,'Concrete Plant (CP-4)'!T44,'Concrete Plant (CP-5)'!T44,'Concrete Plant (CP-6)'!T44,'Concrete Plant (CP-7)'!T44,'Concrete Plant (CP-8)'!T44,'Concrete Plant (CP-9)'!T44,'Concrete Plant (CP-10)'!T44)>0,SUM('Concrete Plant (CP-1)'!T44,'Concrete Plant (CP-2)'!T44,'Concrete Plant (CP-3)'!T44,'Concrete Plant (CP-4)'!T44,'Concrete Plant (CP-5)'!T44,'Concrete Plant (CP-6)'!T44,'Concrete Plant (CP-7)'!T44,'Concrete Plant (CP-8)'!T44,'Concrete Plant (CP-9)'!T44,'Concrete Plant (CP-10)'!T44),\"\"))","v":""},{"$f":"IF(B36=\"\",\"\",SUM('Concrete Plant (CP-1)'!U44,'Concrete Plant (CP-2)'!U44,'Concrete Plant (CP-3)'!U44,'Concrete Plant (CP-4)'!U44,'Concrete Plant (CP-5)'!U44,'Concrete Plant (CP-6)'!U44,'Concrete Plant (CP-7)'!U44,'Concrete Plant (CP-8)'!U44,'Concrete Plant (CP-9)'!U44,'Concrete Plant (CP-10)'!U44))","v":""},{"$f":"IF(B36=\"\",\"\",SUM('Concrete Plant (CP-1)'!V44,'Concrete Plant (CP-2)'!V44,'Concrete Plant (CP-3)'!V44,'Concrete Plant (CP-4)'!V44,'Concrete Plant (CP-5)'!V44,'Concrete Plant (CP-6)'!V44,'Concrete Plant (CP-7)'!V44,'Concrete Plant (CP-8)'!V44,'Concrete Plant (CP-9)'!V44,'Concrete Plant (CP-10)'!V44))","v":""}]
[{"$f":"IF(SUM('Concrete Plant (CP-1)'!Q45,'Concrete Plant (CP-2)'!Q45,'Concrete Plant (CP-3)'!Q45,'Concrete Plant (CP-4)'!Q45,'Concrete Plant (CP-5)'!Q45,'Concrete Plant (CP-6)'!Q45,'Concrete Plant (CP-7)'!Q45,'Concrete Plant (CP-8)'!Q45,'Concrete Plant (CP-9)'!Q45,'Concrete Plant (CP-10)'!Q45)>0,\"ALL\",\"\")","v":""},{"$f":"IF(SUM('Concrete Plant (CP-1)'!Q45,'Concrete Plant (CP-2)'!Q45,'Concrete Plant (CP-3)'!Q45,'Concrete Plant (CP-4)'!Q45,'Concrete Plant (CP-5)'!Q45,'Concrete Plant (CP-6)'!Q45,'Concrete Plant (CP-7)'!Q45,'Concrete Plant (CP-8)'!Q45,'Concrete Plant (CP-9)'!Q45,'Concrete Plant (CP-10)'!Q45)>0,\"Cement Supplement Delivery to Silo\",\"\")","v":""},{"$f":"IF(B37=\"\",\"\",\"30501117\")","v":""},{"$f":"IF(SUM('Concrete Plant (CP-1)'!Q45,'Concrete Plant (CP-2)'!Q45,'Concrete Plant (CP-3)'!Q45,'Concrete Plant (CP-4)'!Q45,'Concrete Plant (CP-5)'!Q45,'Concrete Plant (CP-6)'!Q45,'Concrete Plant (CP-7)'!Q45,'Concrete Plant (CP-8)'!Q45,'Concrete Plant (CP-9)'!Q45,'Concrete Plant (CP-10)'!Q45)>0,SUM('Concrete Plant (CP-1)'!Q45,'Concrete Plant (CP-2)'!Q45,'Concrete Plant (CP-3)'!Q45,'Concrete Plant (CP-4)'!Q45,'Concrete Plant (CP-5)'!Q45,'Concrete Plant (CP-6)'!Q45,'Concrete Plant (CP-7)'!Q45,'Concrete Plant (CP-8)'!Q45,'Concrete Plant (CP-9)'!Q45,'Concrete Plant (CP-10)'!Q45),\"\")","v":""},"",{"$f":"IF(B37=\"\",\"\",LOOKUP(B37,'Emission Factors'!$A$5:$A$16,'Emission Factors'!$H$5:$H$16))","v":""},"",{"$f":"IF(B37=\"\",\"\",LOOKUP(B37,'Emission Factors'!$A$5:$A$16,'Emission Factors'!$J$5:$J$16))","v":""},null,null,{"$f":"IF(D37=\"\",\"\",IF(SUM('Concrete Plant (CP-1)'!T45,'Concrete Plant (CP-2)'!T45,'Concrete Plant (CP-3)'!T45,'Concrete Plant (CP-4)'!T45,'Concrete Plant (CP-5)'!T45,'Concrete Plant (CP-6)'!T45,'Concrete Plant (CP-7)'!T45,'Concrete Plant (CP-8)'!T45,'Concrete Plant (CP-9)'!T45,'Concrete Plant (CP-10)'!T45)>0,SUM('Concrete Plant (CP-1)'!T45,'Concrete Plant (CP-2)'!T45,'Concrete Plant (CP-3)'!T45,'Concrete Plant (CP-4)'!T45,'Concrete Plant (CP-5)'!T45,'Concrete Plant (CP-6)'!T45,'Concrete Plant (CP-7)'!T45,'Concrete Plant (CP-8)'!T45,'Concrete Plant (CP-9)'!T45,'Concrete Plant (CP-10)'!T45),\"\"))","v":""},{"$f":"IF(B37=\"\",\"\",SUM('Concrete Plant (CP-1)'!U45,'Concrete Plant (CP-2)'!U45,'Concrete Plant (CP-3)'!U45,'Concrete Plant (CP-4)'!U45,'Concrete Plant (CP-5)'!U45,'Concrete Plant (CP-6)'!U45,'Concrete Plant (CP-7)'!U45,'Concrete Plant (CP-8)'!U45,'Concrete Plant (CP-9)'!U45,'Concrete Plant (CP-10)'!U45))","v":""},{"$f":"IF(B37=\"\",\"\",SUM('Concrete Plant (CP-1)'!V45,'Concrete Plant (CP-2)'!V45,'Concrete Plant (CP-3)'!V45,'Concrete Plant (CP-4)'!V45,'Concrete Plant (CP-5)'!V45,'Concrete Plant (CP-6)'!V45,'Concrete Plant (CP-7)'!V45,'Concrete Plant (CP-8)'!V45,'Concrete Plant (CP-9)'!V45,'Concrete Plant (CP-10)'!V45))","v":""}]
[{"$f":"IF(SUM('Concrete Plant (CP-1)'!Q49,'Concrete Plant (CP-2)'!Q49,'Concrete Plant (CP-3)'!Q49,'Concrete Plant (CP-4)'!Q49,'Concrete Plant (CP-5)'!Q49,'Concrete Plant (CP-6)'!Q49,'Concrete Plant (CP-7)'!Q49,'Concrete Plant (CP-8)'!Q49,'Concrete Plant (CP-9)'!Q49,'Concrete Plant (CP-10)'!Q49,)>0,\"ALL\",\"\")","v":""},{"$f":"IF(SUM('Concrete Plant (CP-1)'!Q49,'Concrete Plant (CP-2)'!Q49,'Concrete Plant (CP-3)'!Q49,'Concrete Plant (CP-4)'!Q49,'Concrete Plant (CP-5)'!Q49,'Concrete Plant (CP-6)'!Q49,'Concrete Plant (CP-7)'!Q49,'Concrete Plant (CP-8)'!Q49,'Concrete Plant (CP-9)'!Q49,'Concrete Plant (CP-10)'!Q49,)>0,\"Storage Piles\",\"\")","v":""},{"$f":"IF(B38=\"\",\"\",\"30502007\")","v":""},{"$f":"IF(B17=\"\",\"\",SUM('Concrete Plant (CP-1)'!Q49,'Concrete Plant (CP-2)'!Q49,'Concrete Plant (CP-3)'!Q49,'Concrete Plant (CP-4)'!Q49,'Concrete Plant (CP-5)'!Q49,'Concrete Plant (CP-6)'!Q49,'Concrete Plant (CP-7)'!Q49,'Concrete Plant (CP-8)'!Q49,'Concrete Plant (CP-9)'!Q49,'Concrete Plant (CP-10)'!Q49))","v":""},{"$f":"IF(B38=\"\",\"\",\"acre/day\")","v":""},{"$f":"IF(B38=\"\",\"\",3.64)","v":""},{"$f":"IF(B38=\"\",\"\",\"lb/acre-day\")","v":""},{"$f":"IF(B38=\"\",\"\",\"WebFIRE\")","v":""},{"$f":"IF(B38=\"\",\"\",SUM('Concrete Plant (CP-1)'!S49,'Concrete Plant (CP-2)'!S49,'Concrete Plant (CP-3)'!S49,'Concrete Plant (CP-4)'!S49,'Concrete Plant (CP-5)'!S49,'Concrete Plant (CP-6)'!S49,'Concrete Plant (CP-7)'!S49,'Concrete Plant (CP-8)'!S49,'Concrete Plant (CP-9)'!S49,'Concrete Plant (CP-10)'!S49))","v":""},null,null,{"$f":"IF(D38=\"\",\"\",SUM('Concrete Plant (CP-1)'!U49,'Concrete Plant (CP-2)'!U49,'Concrete Plant (CP-3)'!U49,'Concrete Plant (CP-4)'!U49,'Concrete Plant (CP-5)'!U49,'Concrete Plant (CP-6)'!U49,'Concrete Plant (CP-7)'!U49,'Concrete Plant (CP-8)'!U49,'Concrete Plant (CP-9)'!U49,'Concrete Plant (CP-10)'!U49))","v":""},{"$f":"IF(D38=\"\",\"\",SUM('Concrete Plant (CP-1)'!V49,'Concrete Plant (CP-2)'!V49,'Concrete Plant (CP-3)'!V49,'Concrete Plant (CP-4)'!V49,'Concrete Plant (CP-5)'!V49,'Concrete Plant (CP-6)'!V49,'Concrete Plant (CP-7)'!V49,'Concrete Plant (CP-8)'!V49,'Concrete Plant (CP-9)'!V49,'Concrete Plant (CP-10)'!V49))","v":""}]
[{"$f":"IF('Haul Roads'!L45=0,\"\",\"ALL\")","v":""},{"$f":"IF('Haul Roads'!L45=0,\"\",\"Unpaved Haul Roads\")","v":""},{"$f":"IF('Haul Roads'!L45=0,\"\",\"30202054\")","v":""},{"$f":"IF(F39=\"\",\"\",'Haul Roads'!P40*'Haul Roads'!L40/8760)","v":""},{"$f":"IF(B18=\"\",\"\",\"vmt/hr\")","v":""},{"$f":"IF(B18=\"\",\"\",'Haul Roads'!Z40)","v":""},{"$f":"IF(F39=\"\",\"\",\"lb/vmt\")","v":""},{"$f":"IF(F39=\"\",\"\",\"AP-42 Ch 13.2.2\")","v":""},{"$f":"IF(F39=\"\",\"\",D39*F39)","v":""},{"$f":"IF(SUM('Haul Roads'!AB10:AB39)>0,40,\"\")","v":""},{"$f":"IF(SUM('Haul Roads'!AB10:AB39)>0,(SUM('Haul Roads'!AB10:AB39)),\"\")","v":""},{"$f":"IF(AND((SUM('Haul Roads'!$M$10:$M$39)>0),'Haul Roads'!L45>0),SUM('Haul Roads'!$AN$10:$AN$19),IF(B39=\"\",\"\",'Haul Roads'!L45))","v":""},{"$f":"IF(AND((SUM('Haul Roads'!$M$10:$M$39)>0),'Haul Roads'!L50>0),SUM('Haul Roads'!$AO$10:$AO$19),IF(B39=\"\",\"\",'Haul Roads'!L50))","v":""}]
[{"$f":"IF('Haul Roads'!L46=0,\"\",\"ALL\")","v":""},{"$f":"IF('Haul Roads'!L46=0,\"\",\"Unpaved Haul Roads\")","v":""},{"$f":"IF('Haul Roads'!L46=0,\"\",\"30202054\")","v":""},{"$f":"IF(F40=\"\",\"\",'Haul Roads'!P41*'Haul Roads'!L41/8760)","v":""},{"$f":"IF(B19=\"\",\"\",\"vmt/hr\")","v":""},{"$f":"IF(B19=\"\",\"\",'Haul Roads'!Z41)","v":""},{"$f":"IF(F40=\"\",\"\",\"lb/vmt\")","v":""},{"$f":"IF(F40=\"\",\"\",\"AP-42 Ch 13.2.1\")","v":""},{"$f":"IF(F40=\"\",\"\",D40*F40)","v":""},null,null,{"$f":"IF(B40=\"\",\"\",IF(AND((SUM('Haul Roads'!$M$10:$M$39)>0),'Haul Roads'!L46>0,'Haul Roads'!L45>0),\"\",IF(AND((SUM('Haul Roads'!$M$10:$M$39)>0),'Haul Roads'!L46>0),SUM('Haul Roads'!$AN$10:$AN$19),'Haul Roads'!L46)))","v":""},{"$f":"IF(B40=\"\",\"\",IF(AND((SUM('Haul Roads'!$M$10:$M$39)>0),'Haul Roads'!L51>0,'Haul Roads'!L50>0),\"\",IF(AND((SUM('Haul Roads'!$M$10:$M$39)>0),'Haul Roads'!L51>0),SUM('Haul Roads'!$AO$10:$AO$19),'Haul Roads'!L51)))","v":""}]
[{"$f":"IF('Permitted Diesel Engines'!R50=0,\"\",\"ALL\")","v":""},{"$f":"IF('Permitted Diesel Engines'!R50=0,\"\",\"Diesel Generator ≤ 600 bhp\")","v":""},{"$f":"IF('Permitted Diesel Engines'!R50=0,\"\",LOOKUP(B20,'Emission Factors'!A33:A34,'Emission Factors'!B33:B34))","v":""},{"$f":"IF('Permitted Diesel Engines'!R50=0,\"\",'Permitted Diesel Engines'!R50)","v":""},{"$f":"IF(B41=\"\",\"\",\"MMBtu/hr\")","v":""},{"$f":"IF(B41=\"\",\"\",LOOKUP(B41,'Emission Factors'!$A$33:$A$34,'Emission Factors'!$F$33:$F$34))","v":""},{"$f":"IF(B41=\"\",\"\",LOOKUP(B41,'Emission Factors'!$A$33:$A$34,'Emission Factors'!$C$33:$C$34))","v":""},{"$f":"IF(B41=\"\",\"\",LOOKUP(B41,'Emission Factors'!$A$33:$A$34,'Emission Factors'!$G$33:$G$34))","v":""},{"$f":"IF(B41=\"\",\"\",'Emission Calculations'!D41*'Emission Calculations'!F41)","v":""},null,null,{"$f":"IF(F41=\"\",\"\",'Permitted Diesel Engines'!AB77)","v":""},{"$f":"IF(B41=\"\",\"\",'Permitted Diesel Engines'!$T$50*F41/2000)","v":""}]
[{"$f":"IF('Permitted Diesel Engines'!R51=0,\"\",\"ALL\")","v":""},{"$f":"IF('Permitted Diesel Engines'!R51=0,\"\",\"Diesel Generator> 600 bhp\")","v":""},{"$f":"IF('Permitted Diesel Engines'!R51=0,\"\",LOOKUP(B21,'Emission Factors'!$A$33:$A$34,'Emission Factors'!$B$33:$B$34))","v":""},{"$f":"IF('Permitted Diesel Engines'!R51=0,\"\",'Permitted Diesel Engines'!R51)","v":""},{"$f":"IF(B42=\"\",\"\",\"MMBtu/hr\")","v":""},{"$f":"IF(B42=\"\",\"\",LOOKUP(B42,'Emission Factors'!$A$33:$A$34,'Emission Factors'!$F$33:$F$34))","v":""},{"$f":"IF(B42=\"\",\"\",LOOKUP(B42,'Emission Factors'!$A$33:$A$34,'Emission Factors'!$C$33:$C$34))","v":""},{"$f":"IF(B42=\"\",\"\",LOOKUP(B42,'Emission Factors'!$A$33:$A$34,'Emission Factors'!$G$33:$G$34))","v":""},{"$f":"IF(B42=\"\",\"\",'Emission Calculations'!D42*'Emission Calculations'!F42)","v":""},null,null,{"$f":"IF(F42=\"\",\"\",'Permitted Diesel Engines'!AC77)","v":""},{"$f":"IF(B42=\"\",\"\",'Permitted Diesel Engines'!$T$51*F42/2000)","v":""}]
[null,null,null,null,null,null,null,null,null,null,"FACILITY TOTALS:",{"$f":"SUM(L27:L42)","v":0},{"$f":"SUM(M27:M42)","v":0}]
[]
[null,null,null,null,null,null,null,null,"Potential Hourly Uncontrolled Emissions(lb/hr)",null,"Potential Hourly Controlled Emissions (lb/hr)","Potential Annual Emissions (tons/yr)","Actual Emissions (tons/yr)"]
["EP","Description of Process","SCC #","Max Design Rate","Units of Measure","Emission Factor","Units of Measure","Source of      Emission Factor",null,"Control Efficiency"]
[]
["SO2"]
[{"$f":"IF('Permitted Diesel Engines'!R50=0,\"\",\"ALL\")","v":""},{"$f":"IF('Permitted Diesel Engines'!R50=0,\"\",\"Diesel Generator ≤ 600 bhp\")","v":""},{"$f":"IF('Permitted Diesel Engines'!R50=0,\"\",LOOKUP(B49,'Emission Factors'!A33:A34,'Emission Factors'!B33:B34))","v":""},{"$f":"IF('Permitted Diesel Engines'!R50=0,\"\",'Permitted Diesel Engines'!R50)","v":""},{"$f":"IF(B49=\"\",\"\",\"MMBtu/hr\")","v":""},{"$f":"IF(B49=\"\",\"\",LOOKUP(B49,'Emission Factors'!$A$33:$A$34,'Emission Factors'!$H$33:$H$34))","v":""},{"$f":"IF(B49=\"\",\"\",LOOKUP(B49,'Emission Factors'!$A$33:$A$34,'Emission Factors'!$C$33:$C$34))","v":""},{"$f":"IF(B49=\"\",\"\",LOOKUP(B49,'Emission Factors'!$A$33:$A$34,'Emission Factors'!$I$33:$I$34))","v":""},{"$f":"IF('Permitted Diesel Engines'!R50=0,\"\",IF(F49='Emission Factors'!$H$33,D49*F49,'Emission Calculations'!D49*'Emission Calculations'!F49*$F$51))","v":""},null,{"$f":"IF(SUM('Concrete Plant (CP-1)'!I12,'Concrete Plant (CP-2)'!I12,'Concrete Plant (CP-3)'!I12,'Concrete Plant (CP-4)'!I12,'Concrete Plant (CP-5)'!I12,'Concrete Plant (CP-6)'!I12,'Concrete Plant (CP-7)'!I12,'Concrete Plant (CP-8)'!I12,'Concrete Plant (CP-9)'!I12,'Concrete Plant (CP-10)'!I12)>0,SUM('Concrete Plant (CP-1)'!I12,'Concrete Plant (CP-2)'!I12,'Concrete Plant (CP-3)'!I12,'Concrete Plant (CP-4)'!I12,'Concrete Plant (CP-5)'!I12,'Concrete Plant (CP-6)'!I12,'Concrete Plant (CP-7)'!I12,'Concrete Plant (CP-8)'!I12,'Concrete Plant (CP-9)'!I12,'Concrete Plant (CP-10)'!I12),\"\")","v":""},{"$f":"IF(SUM('Concrete Plant (CP-1)'!$J$12,'Concrete Plant (CP-2)'!$J$12,'Concrete Plant (CP-3)'!$J$12,'Concrete Plant (CP-4)'!$J$12,'Concrete Plant (CP-5)'!$J$12,'Concrete Plant (CP-6)'!$J$12,'Concrete Plant (CP-7)'!$J$12,'Concrete Plant (CP-8)'!$J$12,'Concrete Plant (CP-9)'!$J$12,'Concrete Plant (CP-10)'!$J$12)>0,SUM('Concrete Plant (CP-1)'!$J$12,'Concrete Plant (CP-2)'!$J$12,'Concrete Plant (CP-3)'!$J$12,'Concrete Plant (CP-4)'!$J$12,'Concrete Plant (CP-5)'!$J$12,'Concrete Plant (CP-6)'!$J$12,'Concrete Plant (CP-7)'!$J$12,'Concrete Plant (CP-8)'!$J$12,'Concrete Plant (CP-9)'!$J$12,'Concrete Plant (CP-10)'!$J$12),IF(B49=\"\",\"\",'Permitted Diesel Engines'!$AD$77))","v":""},{"$f":"IF(B49=\"\",\"\",'Permitted Diesel Engines'!$T$50*F49/2000)","v":""}]
[{"$f":"IF('Permitted Diesel Engines'!R51=0,\"\",\"ALL\")","v":""},{"$f":"IF('Permitted Diesel Engines'!R51=0,\"\",\"Diesel Generator> 600 bhp\")","v":""},{"$f":"IF('Permitted Diesel Engines'!R51=0,\"\",LOOKUP(B50,'Emission Factors'!A34:A35,'Emission Factors'!B34:B35))","v":""},{"$f":"IF('Permitted Diesel Engines'!R51=0,\"\",'Permitted Diesel Engines'!R51)","v":""},{"$f":"IF(B50=\"\",\"\",\"MMBtu/hr\")","v":""},{"$f":"IF(B50=\"\",\"\",LOOKUP(B50,'Emission Factors'!$A$33:$A$34,'Emission Factors'!$H$33:$H$34))","v":""},{"$f":"IF(B50=\"\",\"\",LOOKUP(B50,'Emission Factors'!$A$33:$A$34,'Emission Factors'!$C$33:$C$34))","v":""},{"$f":"IF(B50=\"\",\"\",LOOKUP(B50,'Emission Factors'!$A$33:$A$34,'Emission Factors'!$I$33:$I$34))","v":""},{"$f":"IF('Permitted Diesel Engines'!R51=0,\"\",IF(F50='Emission Factors'!$H$33,D50*F50,'Emission Calculations'!D50*'Emission Calculations'!F50*$F$51))","v":""},null,{"$f":"IF(SUM('Concrete Plant (CP-1)'!I12,'Concrete Plant (CP-2)'!I12,'Concrete Plant (CP-3)'!I12,'Concrete Plant (CP-4)'!I12,'Concrete Plant (CP-5)'!I12,'Concrete Plant (CP-6)'!I12,'Concrete Plant (CP-7)'!I12,'Concrete Plant (CP-8)'!I12,'Concrete Plant (CP-9)'!I12,'Concrete Plant (CP-10)'!I12)>0,SUM('Concrete Plant (CP-1)'!I12,'Concrete Plant (CP-2)'!I12,'Concrete Plant (CP-3)'!I12,'Concrete Plant (CP-4)'!I12,'Concrete Plant (CP-5)'!I12,'Concrete Plant (CP-6)'!I12,'Concrete Plant (CP-7)'!I12,'Concrete Plant (CP-8)'!I12,'Concrete Plant (CP-9)'!I12,'Concrete Plant (CP-10)'!I12),\"\")","v":""},{"$f":"IF(B50=\"\",\"\",IF(SUM('Concrete Plant (CP-1)'!$J$12,'Concrete Plant (CP-2)'!$J$12,'Concrete Plant (CP-3)'!$J$12,'Concrete Plant (CP-4)'!$J$12,'Concrete Plant (CP-5)'!$J$12,'Concrete Plant (CP-6)'!$J$12,'Concrete Plant (CP-7)'!$J$12,'Concrete Plant (CP-8)'!$J$12,'Concrete Plant (CP-9)'!$J$12,'Concrete Plant (CP-10)'!$J$12)>0,\"\",'Permitted Diesel Engines'!$AE$77))","v":""},{"$f":"IF(B50=\"\",\"\",'Permitted Diesel Engines'!$T$51*F50*F51/2000)","v":""}]
[null,null,null,"Percent Sulfur:",null,{"$f":"IF('Permitted Diesel Engines'!G4>0,'Permitted Diesel Engines'!G4,0.5)","v":0.5},null,null,null,null,"FACILITY TOTALS:",{"$f":"SUM(L49:L50)","v":0},{"$f":"SUM(M49:M50)","v":0}]
["NOx"]
[{"$f":"IF('Permitted Diesel Engines'!R50=0,\"\",\"ALL\")","v":""},{"$f":"IF('Permitted Diesel Engines'!R50=0,\"\",\"Diesel Generator ≤ 600 bhp\")","v":""},{"$f":"IF('Permitted Diesel Engines'!R50=0,\"\",LOOKUP(B53,'Emission Factors'!A33:A34,'Emission Factors'!B33:B34))","v":""},{"$f":"IF('Permitted Diesel Engines'!R50=0,\"\",'Permitted Diesel Engines'!R50)","v":""},{"$f":"IF(B53=\"\",\"\",\"MMBtu/hr\")","v":""},{"$f":"IF(B53=\"\",\"\",LOOKUP(B53,'Emission Factors'!$A$33:$A$34,'Emission Factors'!$J$33:$J$34))","v":""},{"$f":"IF(B53=\"\",\"\",LOOKUP(B53,'Emission Factors'!$A$33:$A$34,'Emission Factors'!$C$33:$C$34))","v":""},{"$f":"IF(B53=\"\",\"\",LOOKUP(B53,'Emission Factors'!$A$33:$A$34,'Emission Factors'!$K$33:$K$34))","v":""},{"$f":"IF(B53=\"\",\"\",'Emission Calculations'!D53*'Emission Calculations'!F53)","v":""},null,{"$f":"IF(SUM('Concrete Plant (CP-1)'!I13,'Concrete Plant (CP-2)'!I13,'Concrete Plant (CP-3)'!I13,'Concrete Plant (CP-4)'!I13,'Concrete Plant (CP-5)'!I13,'Concrete Plant (CP-6)'!I13,'Concrete Plant (CP-7)'!I13,'Concrete Plant (CP-8)'!I13,'Concrete Plant (CP-9)'!I13,'Concrete Plant (CP-10)'!I13)>0,SUM('Concrete Plant (CP-1)'!I13,'Concrete Plant (CP-2)'!I13,'Concrete Plant (CP-3)'!I13,'Concrete Plant (CP-4)'!I13,'Concrete Plant (CP-5)'!I13,'Concrete Plant (CP-6)'!I13,'Concrete Plant (CP-7)'!I13,'Concrete Plant (CP-8)'!I13,'Concrete Plant (CP-9)'!I13,'Concrete Plant (CP-10)'!I13),\"\")","v":""},{"$f":"IF(SUM('Concrete Plant (CP-1)'!$J$13,'Concrete Plant (CP-2)'!$J$13,'Concrete Plant (CP-3)'!$J$13,'Concrete Plant (CP-4)'!$J$13,'Concrete Plant (CP-5)'!$J$13,'Concrete Plant (CP-6)'!$J$13,'Concrete Plant (CP-7)'!$J$13,'Concrete Plant (CP-8)'!$J$13,'Concrete Plant (CP-9)'!$J$13,'Concrete Plant (CP-10)'!$J$13)>0,SUM('Concrete Plant (CP-1)'!$J$13,'Concrete Plant (CP-2)'!$J$13,'Concrete Plant (CP-3)'!$J$13,'Concrete Plant (CP-4)'!$J$13,'Concrete Plant (CP-5)'!$J$13,'Concrete Plant (CP-6)'!$J$13,'Concrete Plant (CP-7)'!$J$13,'Concrete Plant (CP-8)'!$J$13,'Concrete Plant (CP-9)'!$J$13,'Concrete Plant (CP-10)'!$J$13),IF(B53=\"\",\"\",'Permitted Diesel Engines'!$AF$77))","v":""},{"$f":"IF(B53=\"\",\"\",'Permitted Diesel Engines'!T50*'Emission Calculations'!F53/2000)","v":""}]
[{"$f":"IF('Permitted Diesel Engines'!R51=0,\"\",\"ALL\")","v":""},{"$f":"IF('Permitted Diesel Engines'!R51=0,\"\",\"Diesel Generator> 600 bhp\")","v":""},{"$f":"IF('Permitted Diesel Engines'!R51=0,\"\",LOOKUP(B54,'Emission Factors'!A34:A35,'Emission Factors'!B34:B35))","v":""},{"$f":"IF('Permitted Diesel Engines'!R51=0,\"\",'Permitted Diesel Engines'!R51)","v":""},{"$f":"IF(B54=\"\",\"\",\"MMBtu/hr\")","v":""},{"$f":"IF(B54=\"\",\"\",LOOKUP(B54,'Emission Factors'!$A$33:$A$34,'Emission Factors'!$J$33:$J$34))","v":""},{"$f":"IF(B54=\"\",\"\",LOOKUP(B54,'Emission Factors'!$A$33:$A$34,'Emission Factors'!$C$33:$C$34))","v":""},{"$f":"IF(B54=\"\",\"\",LOOKUP(B54,'Emission Factors'!$A$33:$A$34,'Emission Factors'!$K$33:$K$34))","v":""},{"$f":"IF(B54=\"\",\"\",'Emission Calculations'!D54*'Emission Calculations'!F54)","v":""},null,{"$f":"IF(SUM('Concrete Plant (CP-1)'!I13,'Concrete Plant (CP-2)'!I13,'Concrete Plant (CP-3)'!I13,'Concrete Plant (CP-4)'!I13,'Concrete Plant (CP-5)'!I13,'Concrete Plant (CP-6)'!I13,'Concrete Plant (CP-7)'!I13,'Concrete Plant (CP-8)'!I13,'Concrete Plant (CP-9)'!I13,'Concrete Plant (CP-10)'!I13)>0,SUM('Concrete Plant (CP-1)'!I13,'Concrete Plant (CP-2)'!I13,'Concrete Plant (CP-3)'!I13,'Concrete Plant (CP-4)'!I13,'Concrete Plant (CP-5)'!I13,'Concrete Plant (CP-6)'!I13,'Concrete Plant (CP-7)'!I13,'Concrete Plant (CP-8)'!I13,'Concrete Plant (CP-9)'!I13,'Concrete Plant (CP-10)'!I13),\"\")","v":""},{"$f":"IF(B54=\"\",\"\",IF(SUM('Concrete Plant (CP-1)'!$J$13,'Concrete Plant (CP-2)'!$J$13,'Concrete Plant (CP-3)'!$J$13,'Concrete Plant (CP-4)'!$J$13,'Concrete Plant (CP-5)'!$J$13,'Concrete Plant (CP-6)'!$J$13,'Concrete Plant (CP-7)'!$J$13,'Concrete Plant (CP-8)'!$J$13,'Concrete Plant (CP-9)'!$J$13,'Concrete Plant (CP-10)'!$J$13)>0,\"\",'Permitted Diesel Engines'!$AG$77))","v":""},{"$f":"IF(B54=\"\",\"\",'Permitted Diesel Engines'!T51*'Emission Calculations'!F54/2000)","v":""}]
[null,null,null,null,null,null,null,null,null,null,"FACILITY TOTALS:",{"$f":"SUM(L53:L54)","v":0},{"$f":"SUM(M53:M54)","v":0}]
["VOC"]
[{"$f":"IF('Permitted Diesel Engines'!R50=0,\"\",\"ALL\")","v":""},{"$f":"IF('Permitted Diesel Engines'!R50=0,\"\",\"Diesel Generator ≤ 600 bhp\")","v":""},{"$f":"IF('Permitted Diesel Engines'!R50=0,\"\",LOOKUP(B57,'Emission Factors'!A33:A34,'Emission Factors'!B33:B34))","v":""},{"$f":"IF('Permitted Diesel Engines'!R50=0,\"\",'Permitted Diesel Engines'!R50)","v":""},{"$f":"IF(B57=\"\",\"\",\"MMBtu/hr\")","v":""},{"$f":"IF(B57=\"\",\"\",LOOKUP(B57,'Emission Factors'!$A$33:$A$34,'Emission Factors'!$L$33:$L$34))","v":""},{"$f":"IF(B57=\"\",\"\",LOOKUP(B57,'Emission Factors'!$A$33:$A$34,'Emission Factors'!$C$33:$C$34))","v":""},{"$f":"IF(B57=\"\",\"\",LOOKUP(B57,'Emission Factors'!$A$33:$A$34,'Emission Factors'!$M$33:$M$34))","v":""},{"$f":"IF(B57=\"\",\"\",'Emission Calculations'!D57*'Emission Calculations'!F57)","v":""},null,{"$f":"IF(SUM('Concrete Plant (CP-1)'!I14,'Concrete Plant (CP-2)'!I14,'Concrete Plant (CP-3)'!I14,'Concrete Plant (CP-4)'!I14,'Concrete Plant (CP-5)'!I14,'Concrete Plant (CP-6)'!I14,'Concrete Plant (CP-7)'!I14,'Concrete Plant (CP-8)'!I14,'Concrete Plant (CP-9)'!I14,'Concrete Plant (CP-10)'!I14)>0,SUM('Concrete Plant (CP-1)'!I14,'Concrete Plant (CP-2)'!I14,'Concrete Plant (CP-3)'!I14,'Concrete Plant (CP-4)'!I14,'Concrete Plant (CP-5)'!I14,'Concrete Plant (CP-6)'!I14,'Concrete Plant (CP-7)'!I14,'Concrete Plant (CP-8)'!I14,'Concrete Plant (CP-9)'!I14,'Concrete Plant (CP-10)'!I14),\"\")","v":""},{"$f":"IF(SUM('Concrete Plant (CP-1)'!$J$14,'Concrete Plant (CP-2)'!$J$14,'Concrete Plant (CP-3)'!$J$14,'Concrete Plant (CP-4)'!$J$14,'Concrete Plant (CP-5)'!$J$14,'Concrete Plant (CP-6)'!$J$14,'Concrete Plant (CP-7)'!$J$14,'Concrete Plant (CP-8)'!$J$14,'Concrete Plant (CP-9)'!$J$14,'Concrete Plant (CP-10)'!$J$14)>0,SUM('Concrete Plant (CP-1)'!$J$14,'Concrete Plant (CP-2)'!$J$14,'Concrete Plant (CP-3)'!$J$14,'Concrete Plant (CP-4)'!$J$14,'Concrete Plant (CP-5)'!$J$14,'Concrete Plant (CP-6)'!$J$14,'Concrete Plant (CP-7)'!$J$14,'Concrete Plant (CP-8)'!$J$14,'Concrete Plant (CP-9)'!$J$14,'Concrete Plant (CP-10)'!$J$14),IF(B57=\"\",\"\",'Permitted Diesel Engines'!$AH$77))","v":""},{"$f":"IF(B57=\"\",\"\",'Permitted Diesel Engines'!$T$50*'Emission Calculations'!F57/2000)","v":""}]
[{"$f":"IF('Permitted Diesel Engines'!R51=0,\"\",\"ALL\")","v":""},{"$f":"IF('Permitted Diesel Engines'!R51=0,\"\",\"Diesel Generator> 600 bhp\")","v":""},{"$f":"IF('Permitted Diesel Engines'!R51=0,\"\",LOOKUP(B58,'Emission Factors'!A34:A35,'Emission Factors'!B34:B35))","v":""},{"$f":"IF('Permitted Diesel Engines'!R51=0,\"\",'Permitted Diesel Engines'!R51)","v":""},{"$f":"IF(B58=\"\",\"\",\"MMBtu/hr\")","v":""},{"$f":"IF(B58=\"\",\"\",LOOKUP(B58,'Emission Factors'!$A$33:$A$34,'Emission Factors'!$L$33:$L$34))","v":""},{"$f":"IF(B58=\"\",\"\",LOOKUP(B58,'Emission Factors'!$A$33:$A$34,'Emission Factors'!$C$33:$C$34))","v":""},{"$f":"IF(B58=\"\",\"\",LOOKUP(B58,'Emission Factors'!$A$33:$A$34,'Emission Factors'!$M$33:$M$34))","v":""},{"$f":"IF(B58=\"\",\"\",'Emission Calculations'!D58*'Emission Calculations'!F58)","v":""},null,{"$f":"IF(SUM('Concrete Plant (CP-1)'!I14,'Concrete Plant (CP-2)'!I14,'Concrete Plant (CP-3)'!I14,'Concrete Plant (CP-4)'!I14,'Concrete Plant (CP-5)'!I14,'Concrete Plant (CP-6)'!I14,'Concrete Plant (CP-7)'!I14,'Concrete Plant (CP-8)'!I14,'Concrete Plant (CP-9)'!I14,'Concrete Plant (CP-10)'!I14)>0,SUM('Concrete Plant (CP-1)'!I14,'Concrete Plant (CP-2)'!I14,'Concrete Plant (CP-3)'!I14,'Concrete Plant (CP-4)'!I14,'Concrete Plant (CP-5)'!I14,'Concrete Plant (CP-6)'!I14,'Concrete Plant (CP-7)'!I14,'Concrete Plant (CP-8)'!I14,'Concrete Plant (CP-9)'!I14,'Concrete Plant (CP-10)'!I14),\"\")","v":""},{"$f":"IF(B58=\"\",\"\",IF(SUM('Concrete Plant (CP-1)'!$J$14,'Concrete Plant (CP-2)'!$J$14,'Concrete Plant (CP-3)'!$J$14,'Concrete Plant (CP-4)'!$J$14,'Concrete Plant (CP-5)'!$J$14,'Concrete Plant (CP-6)'!$J$14,'Concrete Plant (CP-7)'!$J$14,'Concrete Plant (CP-8)'!$J$14,'Concrete Plant (CP-9)'!$J$14,'Concrete Plant (CP-10)'!$J$14)>0,\"\",'Permitted Diesel Engines'!$AI$77))","v":""},{"$f":"IF(B58=\"\",\"\",'Permitted Diesel Engines'!$T$51*'Emission Calculations'!F58/2000)","v":""}]
[null,null,null,null,null,null,null,null,null,null,"FACILITY TOTALS:",{"$f":"SUM(L57:L58)","v":0},{"$f":"SUM(M57:M58)","v":0}]
["CO"]
[{"$f":"IF('Permitted Diesel Engines'!R50=0,\"\",\"ALL\")","v":""},{"$f":"IF('Permitted Diesel Engines'!R50=0,\"\",\"Diesel Generator ≤ 600 bhp\")","v":""},{"$f":"IF('Permitted Diesel Engines'!R50=0,\"\",LOOKUP(B61,'Emission Factors'!A33:A34,'Emission Factors'!B33:B34))","v":""},{"$f":"IF('Permitted Diesel Engines'!R50=0,\"\",'Permitted Diesel Engines'!R50)","v":""},{"$f":"IF(B61=\"\",\"\",\"MMBtu/hr\")","v":""},{"$f":"IF(B61=\"\",\"\",LOOKUP(B61,'Emission Factors'!$A$33:$A$34,'Emission Factors'!$N$33:$N$34))","v":""},{"$f":"IF(B61=\"\",\"\",LOOKUP(B61,'Emission Factors'!$A$33:$A$34,'Emission Factors'!$C$33:$C$34))","v":""},{"$f":"IF(B61=\"\",\"\",LOOKUP(B61,'Emission Factors'!$A$33:$A$34,'Emission Factors'!$O$33:$O$34))","v":""},{"$f":"IF(B61=\"\",\"\",'Emission Calculations'!D61*'Emission Calculations'!F61)","v":""},null,{"$f":"IF(SUM('Concrete Plant (CP-1)'!I15,'Concrete Plant (CP-2)'!I15,'Concrete Plant (CP-3)'!I15,'Concrete Plant (CP-4)'!I15,'Concrete Plant (CP-5)'!I15,'Concrete Plant (CP-6)'!I15,'Concrete Plant (CP-7)'!I15,'Concrete Plant (CP-8)'!I15,'Concrete Plant (CP-9)'!I15,'Concrete Plant (CP-10)'!I15)>0,SUM('Concrete Plant (CP-1)'!I15,'Concrete Plant (CP-2)'!I15,'Concrete Plant (CP-3)'!I15,'Concrete Plant (CP-4)'!I15,'Concrete Plant (CP-5)'!I15,'Concrete Plant (CP-6)'!I15,'Concrete Plant (CP-7)'!I15,'Concrete Plant (CP-8)'!I15,'Concrete Plant (CP-9)'!I15,'Concrete Plant (CP-10)'!I15),\"\")","v":""},{"$f":"IF(SUM('Concrete Plant (CP-1)'!$J$15,'Concrete Plant (CP-2)'!$J$15,'Concrete Plant (CP-3)'!$J$15,'Concrete Plant (CP-4)'!$J$15,'Concrete Plant (CP-5)'!$J$15,'Concrete Plant (CP-6)'!$J$15,'Concrete Plant (CP-7)'!$J$15,'Concrete Plant (CP-8)'!$J$15,'Concrete Plant (CP-9)'!$J$15,'Concrete Plant (CP-10)'!$J$15)>0,SUM('Concrete Plant (CP-1)'!$J$15,'Concrete Plant (CP-2)'!$J$15,'Concrete Plant (CP-3)'!$J$15,'Concrete Plant (CP-4)'!$J$15,'Concrete Plant (CP-5)'!$J$15,'Concrete Plant (CP-6)'!$J$15,'Concrete Plant (CP-7)'!$J$15,'Concrete Plant (CP-8)'!$J$15,'Concrete Plant (CP-9)'!$J$15,'Concrete Plant (CP-10)'!$J$15),IF(B61=\"\",\"\",'Permitted Diesel Engines'!$AJ$77))","v":""},{"$f":"IF(B61=\"\",\"\",'Permitted Diesel Engines'!$T$50*F61/2000)","v":""}]
[{"$f":"IF('Permitted Diesel Engines'!R51=0,\"\",\"ALL\")","v":""},{"$f":"IF('Permitted Diesel Engines'!R51=0,\"\",\"Diesel Generator> 600 bhp\")","v":""},{"$f":"IF('Permitted Diesel Engines'!R51=0,\"\",LOOKUP(B62,'Emission Factors'!A34:A35,'Emission Factors'!B34:B35))","v":""},{"$f":"IF('Permitted Diesel Engines'!R51=0,\"\",'Permitted Diesel Engines'!R51)","v":""},{"$f":"IF(B62=\"\",\"\",\"MMBtu/hr\")","v":""},{"$f":"IF(B62=\"\",\"\",LOOKUP(B62,'Emission Factors'!$A$33:$A$34,'Emission Factors'!$N$33:$N$34))","v":""},{"$f":"IF(B62=\"\",\"\",LOOKUP(B62,'Emission Factors'!$A$33:$A$34,'Emission Factors'!$C$33:$C$34))","v":""},{"$f":"IF(B62=\"\",\"\",LOOKUP(B62,'Emission Factors'!$A$33:$A$34,'Emission Factors'!$O$33:$O$34))","v":""},{"$f":"IF(B62=\"\",\"\",'Emission Calculations'!D62*'Emission Calculations'!F62)","v":""},null,{"$f":"IF(SUM('Concrete Plant (CP-1)'!I15,'Concrete Plant (CP-2)'!I15,'Concrete Plant (CP-3)'!I15,'Concrete Plant (CP-4)'!I15,'Concrete Plant (CP-5)'!I15,'Concrete Plant (CP-6)'!I15,'Concrete Plant (CP-7)'!I15,'Concrete Plant (CP-8)'!I15,'Concrete Plant (CP-9)'!I15,'Concrete Plant (CP-10)'!I15)>0,SUM('Concrete Plant (CP-1)'!I15,'Concrete Plant (CP-2)'!I15,'Concrete Plant (CP-3)'!I15,'Concrete Plant (CP-4)'!I15,'Concrete Plant (CP-5)'!I15,'Concrete Plant (CP-6)'!I15,'Concrete Plant (CP-7)'!I15,'Concrete Plant (CP-8)'!I15,'Concrete Plant (CP-9)'!I15,'Concrete Plant (CP-10)'!I15),\"\")","v":""},{"$f":"IF(B62=\"\",\"\",IF(SUM('Concrete Plant (CP-1)'!$J$15,'Concrete Plant (CP-2)'!$J$15,'Concrete Plant (CP-3)'!$J$15,'Concrete Plant (CP-4)'!$J$15,'Concrete Plant (CP-5)'!$J$15,'Concrete Plant (CP-6)'!$J$15,'Concrete Plant (CP-7)'!$J$15,'Concrete Plant (CP-8)'!$J$15,'Concrete Plant (CP-9)'!$J$15,'Concrete Plant (CP-10)'!$J$15)>0,\"\",'Permitted Diesel Engines'!$AK$77))","v":""},{"$f":"IF(B62=\"\",\"\",'Permitted Diesel Engines'!$T$51*F62/2000)","v":""}]
[null,null,null,null,null,null,null,null,null,null,"FACILITY TOTALS:",{"$f":"SUM(L61:L62)","v":0},{"$f":"SUM(M61:M62)","v":0}]
["Formaldehyde"]
[{"$f":"IF('Permitted Diesel Engines'!R50=0,\"\",\"ALL\")","v":""},{"$f":"IF('Permitted Diesel Engines'!R50=0,\"\",\"Diesel Generator ≤ 600 bhp\")","v":""},{"$f":"IF('Permitted Diesel Engines'!R50=0,\"\",LOOKUP(B65,'Emission Factors'!A33:A34,'Emission Factors'!B33:B34))","v":""},{"$f":"IF('Permitted Diesel Engines'!R50=0,\"\",'Permitted Diesel Engines'!R50)","v":""},{"$f":"IF(B65=\"\",\"\",\"MMBtu/hr\")","v":""},{"$f":"IF(B65=\"\",\"\",LOOKUP(B65,'Emission Factors'!$A$33:$A$34,'Emission Factors'!$P$33:$P$34))","v":""},{"$f":"IF(B65=\"\",\"\",LOOKUP(B65,'Emission Factors'!$A$33:$A$34,'Emission Factors'!$C$33:$C$34))","v":""},{"$f":"IF(B65=\"\",\"\",LOOKUP(B65,'Emission Factors'!$A$33:$A$34,'Emission Factors'!$Q$33:$Q$34))","v":""},{"$f":"IF(B65=\"\",\"\",'Emission Calculations'!D65*'Emission Calculations'!F65)","v":""},null,null,{"$f":"IF(F65=\"\",\"\",'Permitted Diesel Engines'!AL77)","v":""},{"$f":"IF(B65=\"\",\"\",'Permitted Diesel Engines'!$T$50*F65/2000)","v":""}]
[{"$f":"IF('Permitted Diesel Engines'!R51=0,\"\",\"ALL\")","v":""},{"$f":"IF('Permitted Diesel Engines'!R51=0,\"\",\"Diesel Generator> 600 bhp\")","v":""},{"$f":"IF('Permitted Diesel Engines'!R51=0,\"\",LOOKUP(B66,'Emission Factors'!A34:A35,'Emission Factors'!B34:B35))","v":""},{"$f":"IF('Permitted Diesel Engines'!R51=0,\"\",'Permitted Diesel Engines'!R51)","v":""},{"$f":"IF(B66=\"\",\"\",\"MMBtu/hr\")","v":""},{"$f":"IF(B66=\"\",\"\",LOOKUP(B66,'Emission Factors'!$A$33:$A$34,'Emission Factors'!$P$33:$P$34))","v":""},{"$f":"IF(B66=\"\",\"\",LOOKUP(B66,'Emission Factors'!$A$33:$A$34,'Emission Factors'!$C$33:$C$34))","v":""},{"$f":"IF(B66=\"\",\"\",LOOKUP(B66,'Emission Factors'!$A$33:$A$34,'Emission Factors'!$Q$33:$Q$34))","v":""},{"$f":"IF(B66=\"\",\"\",'Emission Calculations'!D66*'Emission Calculations'!F66)","v":""},null,null,{"$f":"IF(F66=\"\",\"\",'Permitted Diesel Engines'!AM77)","v":""},{"$f":"IF(B66=\"\",\"\",'Permitted Diesel Engines'!$T$51*F66/2000)","v":""}]
[null,null,null,null,null,null,null,null,null,null,"FACILITY TOTALS:",{"$f":"SUM(L65:L66)","v":0},{"$f":"SUM(M65:M66)","v":0}]
["Benzene"]
[{"$f":"IF('Permitted Diesel Engines'!R50=0,\"\",\"ALL\")","v":""},{"$f":"IF('Permitted Diesel Engines'!R50=0,\"\",\"Diesel Generator ≤ 600 bhp\")","v":""},{"$f":"IF('Permitted Diesel Engines'!R50=0,\"\",LOOKUP(B69,'Emission Factors'!A33:A34,'Emission Factors'!B33:B34))","v":""},{"$f":"IF('Permitted Diesel Engines'!R50=0,\"\",'Permitted Diesel Engines'!R50)","v":""},{"$f":"IF(B69=\"\",\"\",\"MMBtu/hr\")","v":""},{"$f":"IF(B69=\"\",\"\",LOOKUP(B69,'Emission Factors'!$A$33:$A$34,'Emission Factors'!$R$33:$R$34))","v":""},{"$f":"IF(B69=\"\",\"\",LOOKUP(B69,'Emission Factors'!$A$33:$A$34,'Emission Factors'!$C$33:$C$34))","v":""},{"$f":"IF(B69=\"\",\"\",LOOKUP(B69,'Emission Factors'!$A$33:$A$34,'Emission Factors'!$S$33:$S$34))","v":""},{"$f":"IF(B69=\"\",\"\",'Emission Calculations'!D69*'Emission Calculations'!F69)","v":""},null,null,{"$f":"IF(F69=\"\",\"\",'Permitted Diesel Engines'!AN77)","v":""},{"$f":"IF(B69=\"\",\"\",'Permitted Diesel Engines'!$T$50*F69/2000)","v":""}]
[{"$f":"IF('Permitted Diesel Engines'!R51=0,\"\",\"ALL\")","v":""},{"$f":"IF('Permitted Diesel Engines'!R51=0,\"\",\"Diesel Generator> 600 bhp\")","v":""},{"$f":"IF('Permitted Diesel Engines'!R51=0,\"\",LOOKUP(B70,'Emission Factors'!A34:A35,'Emission Factors'!B34:B35))","v":""},{"$f":"IF('Permitted Diesel Engines'!R51=0,\"\",'Permitted Diesel Engines'!R51)","v":""},{"$f":"IF(B70=\"\",\"\",\"MMBtu/hr\")","v":""},{"$f":"IF(B70=\"\",\"\",LOOKUP(B70,'Emission Factors'!$A$33:$A$34,'Emission Factors'!$R$33:$R$34))","v":""},{"$f":"IF(B70=\"\",\"\",LOOKUP(B70,'Emission Factors'!$A$33:$A$34,'Emission Factors'!$C$33:$C$34))","v":""},{"$f":"IF(B70=\"\",\"\",LOOKUP(B70,'Emission Factors'!$A$33:$A$34,'Emission Factors'!$S$33:$S$34))","v":""},{"$f":"IF(B70=\"\",\"\",'Emission Calculations'!D70*'Emission Calculations'!F70)","v":""},null,null,{"$f":"IF(F70=\"\",\"\",'Permitted Diesel Engines'!AO77)","v":""},{"$f":"IF(B70=\"\",\"\",'Permitted Diesel Engines'!$T$51*F70/2000)","v":""}]
[null,null,null,null,null,null,null,null,null,null,"FACILITY TOTALS:",{"$f":"SUM(L69:L70)","v":0},{"$f":"SUM(M69:M70)","v":0}]

{"sheet":"Facility Wide Emissions","index":14,"n_rows":146,"n_cols":13,"rows_kept":146,"cut":false,"hidden":false,"merged":[[145,9,145,10],[128,9,128,10],[141,9,141,10],[129,9,129,10],[142,9,142,10],[130,9,130,10],[143,9,143,10],[138,9,138,10],[139,9,139,10],[140,9,140,10],[122,9,122,10],[135,9,135,10],[123,9,123,10],[136,9,136,10],[124,9,124,10],[137,9,137,10],[131,9,131,10],[144,9,144,10],[132,9,132,10],[144,2,144,3],[132,2,132,3],[145,2,145,3],[121,8,121,11],[134,8,134,11],[128,2,128,3],[141,2,141,3],[129,2,129,3],[142,2,142,3],[130,2,130,3],[143,2,143,3],[125,2,125,3],[138,2,138,3],[126,2,126,3],[139,2,139,3],[127,2,127,3],[140,2,140,3],[122,2,122,3],[135,2,135,3],[123,2,123,3],[136,2,136,3],[124,2,124,3],[137,2,137,3],[125,9,125,10],[118,9,118,10],[106,9,106,10],[119,9,119,10],[121,1,121,4],[134,1,134,4],[102,9,102,10],[115,9,115,10],[103,9,103,10],[116,9,116,10],[104,9,104,10],[117,9,117,10],[105,2,105,3],[118,2,118,3],[106,2,106,3],[119,2,119,3],[131,2,131,3],[112,9,112,10],[115,2,115,3],[103,2,103,3],[116,2,116,3],[104,2,104,3],[117,2,117,3],[126,9,126,10],[127,9,127,10],[100,9,100,10],[113,9,113,10],[101,9,101,10],[114,9,114,10],[96,9,96,10],[109,9,109,10],[97,9,97,10],[110,9,110,10],[98,9,98,10],[111,9,111,10],[105,9,105,10],[99,2,99,3],[112,2,112,3],[100,2,100,3],[113,2,113,3],[101,2,101,3],[114,2,114,3],[109,2,109,3],[110,2,110,3],[111,2,111,3],[92,9,92,10],[80,9,80,10],[93,9,93,10],[95,1,95,4],[108,1,108,4],[76,9,76,10],[89,9,89,10],[77,9,77,10],[90,9,90,10],[78,9,78,10],[91,9,91,10],[79,2,79,3],[92,2,92,3],[80,2,80,3],[93,2,93,3],[95,8,95,11],[108,8,108,11],[102,2,102,3],[96,2,96,3],[97,2,97,3],[98,2,98,3],[99,9,99,10],[86,9,86,10],[89,2,89,3],[87,9,87,10],[75,9,75,10],[88,9,88,10],[70,9,70,10],[83,9,83,10],[71,9,71,10],[84,9,84,10],[72,9,72,10],[85,9,85,10],[79,9,79,10],[90,2,90,3],[78,2,78,3],[91,2,91,3],[73,2,73,3],[86,2,86,3],[74,2,74,3],[87,2,87,3],[75,2,75,3],[88,2,88,3],[83,2,83,3],[84,2,84,3],[85,2,85,3],[67,9,67,10],[69,1,69,4],[82,1,82,4],[50,9,50,10],[63,9,63,10],[51,9,51,10],[64,9,64,10],[52,9,52,10],[65,9,65,10],[53,2,53,3],[66,2,66,3],[54,2,54,3],[67,2,67,3],[69,8,69,11],[82,8,82,11],[76,2,76,3],[70,2,70,3],[71,2,71,3],[72,2,72,3],[73,9,73,10],[61,9,61,10],[63,2,63,3],[77,2,77,3],[74,9,74,10],[62,9,62,10],[44,9,44,10],[57,9,57,10],[45,9,45,10],[58,9,58,10],[46,9,46,10],[59,9,59,10],[53,9,53,10],[66,9,66,10],[54,9,54,10],[44,2,44,3],[57,2,57,3],[45,2,45,3],[58,2,58,3],[46,2,46,3],[59,2,59,3],[47,9,47,10],[60,9,60,10],[48,9,48,10],[50,2,50,3],[51,2,51,3],[49,9,49,10],[64,2,64,3],[52,2,52,3],[65,2,65,3],[47,2,47,3],[60,2,60,3],[48,2,48,3],[61,2,61,3],[49,2,49,3],[62,2,62,3],[17,1,17,4],[43,1,43,4],[56,1,56,4],[26,9,26,10],[39,9,39,10],[27,9,27,10],[40,9,40,10],[28,9,28,10],[41,9,41,10],[23,9,23,10],[36,9,36,10],[24,9,24,10],[37,9,37,10],[25,9,25,10],[38,9,38,10],[20,9,20,10],[33,9,33,10],[21,9,21,10],[34,9,34,10],[22,9,22,10],[35,9,35,10],[17,8,17,11],[43,8,43,11],[56,8,56,11],[30,8,30,11],[18,9,18,10],[31,9,31,10],[19,9,19,10],[32,9,32,10],[26,2,26,3],[27,2,27,3],[28,2,28,3],[30,1,30,4],[31,2,31,3],[32,2,32,3],[20,2,20,3],[21,2,21,3],[22,2,22,3],[23,2,23,3],[24,2,24,3],[25,2,25,3],[19,2,19,3],[18,2,18,3],[33,2,33,3],[34,2,34,3],[35,2,35,3],[36,2,36,3],[37,2,37,3],[38,2,38,3],[39,2,39,3],[40,2,40,3],[41,2,41,3],[15,0,15,4],[3,2,3,3],[3,7,3,8],[4,2,4,3],[9,2,9,3],[13,7,13,8],[10,7,10,8],[11,7,11,8],[12,7,12,8],[8,7,8,8],[0,0,0,4],[9,7,9,8],[11,2,11,3],[7,7,7,8],[5,2,5,3],[6,2,6,3],[7,2,7,3],[13,2,13,3],[8,2,8,3],[12,2,12,3],[10,2,10,3],[5,7,5,8],[6,7,6,8],[4,7,4,8],[2,1,2,4],[2,6,2,9]]}
["FACILITY WIDE EMISSIONS SUMMARY:"]
["**As of 2016 Potential Emissions are no longer required to be reported in the Minor Source Emissions Inventory**"]
[null,"FACILITY-WIDE POTENTIAL EMISSIONS:",null,null,null,null,"FACILITY-WIDE ACTUAL EMISSIONS:"]
[null,"Air Pollutant","ID or CAS Number",null,"Tons/Yr",null,"Air Pollutant","ID or CAS Number",null,"Tons/Yr"]
[null,"PM-2.5","PM-2.5",null,{"$f":"'Emission Calculations'!L22","v":0},null,"PM-2.5","PM-2.5",null,{"$f":"'Emission Calculations'!M22","v":0}]
[null,"PM-10","PM-10",null,{"$f":"'Emission Calculations'!L43","v":0},null,"PM-10","PM-10",null,{"$f":"'Emission Calculations'!M43","v":0}]
[null,"SO2","7446-09-5",null,{"$f":"'Emission Calculations'!L51","v":0},null,"SO2","7446-09-5",null,{"$f":"'Emission Calculations'!M51","v":0}]
[null,"NOx","NOx",null,{"$f":"'Emission Calculations'!L55","v":0},null,"NOx","NOx",null,{"$f":"'Emission Calculations'!M55","v":0}]
[null,"VOC","VOC",null,{"$f":"'Emission Calculations'!L59","v":0},null,"VOC","VOC",null,{"$f":"'Emission Calculations'!M59","v":0}]
[null,"CO","630-08-0",null,{"$f":"'Emission Calculations'!L63","v":0},null,"CO","630-08-0",null,{"$f":"'Emission Calculations'!M63","v":0}]
[null,"Ammonia",null,null,{"$f":"0","v":0},null,"Ammonia",null,null,{"$f":"0","v":0}]
[null,"Formaldehyde","50-00-0",null,{"$f":"'Emission Calculations'!L67","v":0},null,"Formaldehyde","50-00-0",null,{"$f":"'Emission Calculations'!M67","v":0}]
[null,"Benzene","71-43-2",null,{"$f":"'Emission Calculations'!L71","v":0},null,"Benzene","71-43-2",null,{"$f":"'Emission Calculations'!M71","v":0}]
[null,"Total HAP",null,null,{"$f":"SUM(E12:E13)","v":0},null,"Total HAP",null,null,{"$f":"SUM(J12:J13)","v":0}]
[]
["PLANT SPECIFIC EMISSIONS SUMMARIES:"]
[]
["CP-1","POTENTIAL EMISSIONS:",null,null,null,null,null,"CP-2","POTENTIAL EMISSIONS:"]
[null,"Air Pollutant","ID or CAS Number",null,"Tons/Yr",null,null,null,"Air Pollutant","ID or CAS Number",null,"Tons/Yr"]
[null,"PM-2.5","PM-2.5",null,{"$f":"IF('Concrete Plant (CP-1)'!J10>0,SUM('Concrete Plant (CP-1)'!J10,'Concrete Plant (CP-1)'!U49,'Haul Roads'!AL10,'Permitted Diesel Engines'!Z54),SUM('Concrete Plant (CP-1)'!U23:U33,'Concrete Plant (CP-1)'!U49,'Haul Roads'!AL10,'Permitted Diesel Engines'!Z54))","v":0},null,null,null,"PM-2.5","PM-2.5",null,{"$f":"IF('Concrete Plant (CP-2)'!J10>0,SUM('Concrete Plant (CP-2)'!J10,'Concrete Plant (CP-2)'!U49,'Haul Roads'!AL11,'Permitted Diesel Engines'!Z55),SUM('Concrete Plant (CP-2)'!U23:U33,'Concrete Plant (CP-2)'!U49,'Haul Roads'!AL11,'Permitted Diesel Engines'!Z55))","v":0}]
[null,"PM-10","PM-10",null,{"$f":"IF('Concrete Plant (CP-1)'!J11>0,SUM('Concrete Plant (CP-1)'!J11,'Concrete Plant (CP-1)'!U49,'Haul Roads'!AN10,'Permitted Diesel Engines'!AB54),SUM('Concrete Plant (CP-1)'!U35:U45,'Concrete Plant (CP-1)'!U49,'Haul Roads'!AN10,'Permitted Diesel Engines'!AB54))","v":0},null,null,null,"PM-10","PM-10",null,{"$f":"IF('Concrete Plant (CP-2)'!J11>0,SUM('Concrete Plant (CP-2)'!J11,'Concrete Plant (CP-2)'!U49,'Haul Roads'!AN11,'Permitted Diesel Engines'!AB55),SUM('Concrete Plant (CP-2)'!U35:U45,'Concrete Plant (CP-2)'!U49,'Haul Roads'!AN11,'Permitted Diesel Engines'!AB55))","v":0}]
[null,"SO2","7446-09-5",null,{"$f":"IF('Concrete Plant (CP-1)'!J12>0,'Concrete Plant (CP-1)'!J12,'Permitted Diesel Engines'!AD54)","v":0},{"$f":"IF(E22>100,\"Thresholds exceeded, contact DNR for assistance.\",\"\")","v":""},null,null,"SO2","7446-09-5",null,{"$f":"IF('Concrete Plant (CP-2)'!J12>0,'Concrete Plant (CP-2)'!J12,'Permitted Diesel Engines'!AD55)","v":0},{"$f":"IF(L22>100,\"Thresholds exceeded, contact DNR for assistance.\",\"\")","v":""}]
[null,"NOx","NOx",null,{"$f":"IF('Concrete Plant (CP-1)'!J13>0,'Concrete Plant (CP-1)'!J13,'Permitted Diesel Engines'!AF54)","v":0},{"$f":"IF(E23>100,\"Thresholds exceeded, contact DNR for assistance.\",\"\")","v":""},null,null,"NOx","NOx",null,{"$f":"IF('Concrete Plant (CP-2)'!J13>0,'Concrete Plant (CP-2)'!J13,'Permitted Diesel Engines'!AF55)","v":0},{"$f":"IF(L23>100,\"Thresholds exceeded, contact DNR for assistance.\",\"\")","v":""}]
[null,"VOC","VOC",null,{"$f":"IF('Concrete Plant (CP-1)'!J14>0,'Concrete Plant (CP-1)'!J14,'Permitted Diesel Engines'!AH54)","v":0},{"$f":"IF(E24>100,\"Thresholds exceeded, contact DNR for assistance.\",\"\")","v":""},null,null,"VOC","VOC",null,{"$f":"IF('Concrete Plant (CP-2)'!J14>0,'Concrete Plant (CP-2)'!J14,'Permitted Diesel Engines'!AH55)","v":0},{"$f":"IF(L24>100,\"Thresholds exceeded, contact DNR for assistance.\",\"\")","v":""}]
[null,"CO","630-08-0",null,{"$f":"IF('Concrete Plant (CP-1)'!J15>0,'Concrete Plant (CP-1)'!J15,'Permitted Diesel Engines'!AJ54)","v":0},{"$f":"IF(E25>100,\"Thresholds exceeded, contact DNR for assistance.\",\"\")","v":""},null,null,"CO","630-08-0",null,{"$f":"IF('Concrete Plant (CP-2)'!J15>0,'Concrete Plant (CP-2)'!J15,'Permitted Diesel Engines'!AJ55)","v":0},{"$f":"IF(L25>100,\"Thresholds exceeded, contact DNR for assistance.\",\"\")","v":""}]
[null,"Ammonia",null,null,null,{"$f":"IF(E26>100,\"Thresholds exceeded, contact DNR for assistance.\",\"\")","v":""},null,null,"Ammonia",null,null,null,{"$f":"IF(L26>100,\"Thresholds exceeded, contact DNR for assistance.\",\"\")","v":""}]
[null,"Formaldehyde","50-00-0",null,{"$f":"'Permitted Diesel Engines'!AL54","v":0},{"$f":"IF(E27>10,\"Thresholds exceeded, contact DNR for assistance.\",\"\")","v":""},null,null,"Formaldehyde","50-00-0",null,{"$f":"'Permitted Diesel Engines'!AL55","v":0},{"$f":"IF(L27>10,\"Thresholds exceeded, contact DNR for assistance.\",\"\")","v":""}]
[null,"Benzene","71-43-2",null,{"$f":"'Permitted Diesel Engines'!AN54","v":0},{"$f":"IF(E28>10,\"Thresholds exceeded, contact DNR for assistance.\",\"\")","v":""},null,null,"Benzene","71-43-2",null,{"$f":"'Permitted Diesel Engines'!AN55","v":0},{"$f":"IF(L28>10,\"Thresholds exceeded, contact DNR for assistance.\",\"\")","v":""}]
[null,"Total HAP",null,null,{"$f":"SUM(E27:E28)","v":0},{"$f":"IF(E29>25,\"Thresholds exceeded, contact DNR for assistance.\",\"\")","v":""},null,null,"Total HAP",null,null,{"$f":"SUM(L27:L28)","v":0},{"$f":"IF(L29>25,\"Thresholds exceeded, contact DNR for assistance.\",\"\")","v":""}]
[]
[null,"ACTUAL EMISSIONS:",null,null,null,null,null,null,"ACTUAL EMISSIONS:"]
[null,"Air Pollutant","ID or CAS Number",null,"Tons/Yr",null,null,null,"Air Pollutant","ID or CAS Number",null,"Tons/Yr"]
[null,"PM-2.5","PM-2.5",null,{"$f":"SUM('Concrete Plant (CP-1)'!V23:V33,'Concrete Plant (CP-1)'!V49,'Haul Roads'!AM10,'Permitted Diesel Engines'!AA54)","v":0},null,null,null,"PM-2.5","PM-2.5",null,{"$f":"SUM('Concrete Plant (CP-2)'!V23:V33,'Concrete Plant (CP-2)'!V49,'Haul Roads'!AM11,'Permitted Diesel Engines'!AA55)","v":0}]
[null,"PM-10","PM-10",null,{"$f":"SUM('Concrete Plant (CP-1)'!V35:V45,'Concrete Plant (CP-1)'!V49,'Haul Roads'!AO10,'Permitted Diesel Engines'!AC54)","v":0},null,null,null,"PM-10","PM-10",null,{"$f":"SUM('Concrete Plant (CP-2)'!V35:V45,'Concrete Plant (CP-2)'!V49,'Haul Roads'!AO11,'Permitted Diesel Engines'!AC55)","v":0}]
[null,"SO2","7446-09-5",null,{"$f":"'Permitted Diesel Engines'!AE54","v":0},null,null,null,"SO2","7446-09-5",null,{"$f":"'Permitted Diesel Engines'!AE55","v":0}]
[null,"NOx","NOx",null,{"$f":"'Permitted Diesel Engines'!AG54","v":0},null,null,null,"NOx","NOx",null,{"$f":"'Permitted Diesel Engines'!AG55","v":0}]
[null,"VOC","VOC",null,{"$f":"'Permitted Diesel Engines'!AI54","v":0},null,null,null,"VOC","VOC",null,{"$f":"'Permitted Diesel Engines'!AI55","v":0}]
[null,"CO","630-08-0",null,{"$f":"'Permitted Diesel Engines'!AK54","v":0},null,null,null,"CO","630-08-0",null,{"$f":"'Permitted Diesel Engines'!AK55","v":0}]
[null,"Ammonia",null,null,null,null,null,null,"Ammonia"]
[null,"Formaldehyde","50-00-0",null,{"$f":"'Permitted Diesel Engines'!AM54","v":0},null,null,null,"Formaldehyde","50-00-0",null,{"$f":"'Permitted Diesel Engines'!AM55","v":0}]
[null,"Benzene","71-43-2",null,{"$f":"'Permitted Diesel Engines'!AO54","v":0},null,null,null,"Benzene","71-43-2",null,{"$f":"'Permitted Diesel Engines'!AO55","v":0}]
[null,"Total HAP",null,null,{"$f":"SUM(E40:E41)","v":0},null,null,null,"Total HAP",null,null,{"$f":"SUM(L40:L41)","v":0}]
[]
["CP-3","POTENTIAL EMISSIONS:",null,null,null,null,null,"CP-4","POTENTIAL EMISSIONS:"]
[null,"Air Pollutant","ID or CAS Number",null,"Tons/Yr",null,null,null,"Air Pollutant","ID or CAS Number",null,"Tons/Yr"]
[null,"PM-2.5","PM-2.5",null,{"$f":"IF('Concrete Plant (CP-3)'!J10>0,SUM('Concrete Plant (CP-3)'!J10,'Concrete Plant (CP-3)'!U49,'Haul Roads'!AL12,'Permitted Diesel Engines'!Z56),SUM('Concrete Plant (CP-3)'!U23:U33,'Concrete Plant (CP-3)'!U49,'Haul Roads'!AL12,'Permitted Diesel Engines'!Z56))","v":0},null,null,null,"PM-2.5","PM-2.5",null,{"$f":"IF('Concrete Plant (CP-4)'!J10>0,SUM('Concrete Plant (CP-4)'!J10,'Concrete Plant (CP-4)'!U49,'Haul Roads'!AL13,'Permitted Diesel Engines'!Z57),SUM('Concrete Plant (CP-4)'!U23:U33,'Concrete Plant (CP-4)'!U49,'Haul Roads'!AL13,'Permitted Diesel Engines'!Z57))","v":0}]
[null,"PM-10","PM-10",null,{"$f":"IF('Concrete Plant (CP-3)'!J11>0,SUM('Concrete Plant (CP-3)'!J11,'Concrete Plant (CP-3)'!U49,'Haul Roads'!AN12,'Permitted Diesel Engines'!AB56),SUM('Concrete Plant (CP-3)'!U35:U45,'Concrete Plant (CP-3)'!U49,'Haul Roads'!AN12,'Permitted Diesel Engines'!AB56))","v":0},null,null,null,"PM-10","PM-10",null,{"$f":"IF('Concrete Plant (CP-4)'!J11>0,SUM('Concrete Plant (CP-4)'!J11,'Concrete Plant (CP-4)'!U49,'Haul Roads'!AN13,'Permitted Diesel Engines'!AB57),SUM('Concrete Plant (CP-4)'!U35:U45,'Concrete Plant (CP-4)'!U49,'Haul Roads'!AN13,'Permitted Diesel Engines'!AB57))","v":0}]
[null,"SO2","7446-09-5",null,{"$f":"IF('Concrete Plant (CP-3)'!J12>0,'Concrete Plant (CP-3)'!J12,'Permitted Diesel Engines'!AD56)","v":0},{"$f":"IF(E48>100,\"Thresholds exceeded, contact DNR for assistance.\",\"\")","v":""},null,null,"SO2","7446-09-5",null,{"$f":"IF('Concrete Plant (CP-4)'!J12>0,'Concrete Plant (CP-4)'!J12,'Permitted Diesel Engines'!AD57)","v":0},{"$f":"IF(L48>100,\"Thresholds exceeded, contact DNR for assistance.\",\"\")","v":""}]
[null,"NOx","NOx",null,{"$f":"IF('Concrete Plant (CP-3)'!J13>0,'Concrete Plant (CP-3)'!J13,'Permitted Diesel Engines'!AF56)","v":0},{"$f":"IF(E49>100,\"Thresholds exceeded, contact DNR for assistance.\",\"\")","v":""},null,null,"NOx","NOx",null,{"$f":"IF('Concrete Plant (CP-4)'!J13>0,'Concrete Plant (CP-4)'!J13,'Permitted Diesel Engines'!AF57)","v":0},{"$f":"IF(L49>100,\"Thresholds exceeded, contact DNR for assistance.\",\"\")","v":""}]
[null,"VOC","VOC",null,{"$f":"IF('Concrete Plant (CP-3)'!J14>0,'Concrete Plant (CP-3)'!J14,'Permitted Diesel Engines'!AH56)","v":0},{"$f":"IF(E50>100,\"Thresholds exceeded, contact DNR for assistance.\",\"\")","v":""},null,null,"VOC","VOC",null,{"$f":"IF('Concrete Plant (CP-4)'!J14>0,'Concrete Plant (CP-4)'!J14,'Permitted Diesel Engines'!AH57)","v":0},{"$f":"IF(L50>100,\"Thresholds exceeded, contact DNR for assistance.\",\"\")","v":""}]
[null,"CO","630-08-0",null,{"$f":"IF('Concrete Plant (CP-3)'!J15>0,'Concrete Plant (CP-3)'!J15,'Permitted Diesel Engines'!AJ56)","v":0},{"$f":"IF(E51>100,\"Thresholds exceeded, contact DNR for assistance.\",\"\")","v":""},null,null,"CO","630-08-0",null,{"$f":"IF('Concrete Plant (CP-4)'!J15>0,'Concrete Plant (CP-4)'!J15,'Permitted Diesel Engines'!AJ57)","v":0},{"$f":"IF(L51>100,\"Thresholds exceeded, contact DNR for assistance.\",\"\")","v":""}]
[null,"Ammonia",null,null,null,{"$f":"IF(E52>100,\"Thresholds exceeded, contact DNR for assistance.\",\"\")","v":""},null,null,"Ammonia",null,null,null,{"$f":"IF(L52>100,\"Thresholds exceeded, contact DNR for assistance.\",\"\")","v":""}]
[null,"Formaldehyde","50-00-0",null,{"$f":"'Permitted Diesel Engines'!AL56","v":0},{"$f":"IF(E53>10,\"Thresholds exceeded, contact DNR for assistance.\",\"\")","v":""},null,null,"Formaldehyde","50-00-0",null,{"$f":"'Permitted Diesel Engines'!AL57","v":0},{"$f":"IF(L53>10,\"Thresholds exceeded, contact DNR for assistance.\",\"\")","v":""}]
[null,"Benzene","71-43-2",null,{"$f":"'Permitted Diesel Engines'!AN56","v":0},{"$f":"IF(E54>10,\"Thresholds exceeded, contact DNR for assistance.\",\"\")","v":""},null,null,"Benzene","71-43-2",null,{"$f":"'Permitted Diesel Engines'!AN57","v":0},{"$f":"IF(L54>10,\"Thresholds exceeded, contact DNR for assistance.\",\"\")","v":""}]
[null,"Total HAP",null,null,{"$f":"SUM(E53:E54)","v":0},{"$f":"IF(E55>25,\"Thresholds exceeded, contact DNR for assistance.\",\"\")","v":""},null,null,"Total HAP",null,null,{"$f":"SUM(L53:L54)","v":0},{"$f":"IF(L55>25,\"Thresholds exceeded, contact DNR for assistance.\",\"\")","v":""}]
[]
[null,"ACTUAL EMISSIONS:",null,null,null,null,null,null,"ACTUAL EMISSIONS:"]
[null,"Air Pollutant","ID or CAS Number",null,"Tons/Yr",null,null,null,"Air Pollutant","ID or CAS Number",null,"Tons/Yr"]
[null,"PM-2.5","PM-2.5",null,{"$f":"SUM('Concrete Plant (CP-3)'!V23:V33,'Concrete Plant (CP-3)'!V49,'Haul Roads'!AM12,'Permitted Diesel Engines'!AA56)","v":0},null,null,null,"PM-2.5","PM-2.5",null,{"$f":"SUM('Concrete Plant (CP-4)'!V23:V33,'Concrete Plant (CP-4)'!V49,'Haul Roads'!A13,'Permitted Diesel Engines'!AA57)","v":0}]
[null,"PM-10","PM-10",null,{"$f":"SUM('Concrete Plant (CP-3)'!V35:V45,'Concrete Plant (CP-3)'!V49,'Haul Roads'!AO12,'Permitted Diesel Engines'!AC56)","v":0},null,null,null,"PM-10","PM-10",null,{"$f":"SUM('Concrete Plant (CP-4)'!V35:V45,'Concrete Plant (CP-4)'!V49,'Haul Roads'!AO13,'Permitted Diesel Engines'!AC57)","v":0}]
[null,"SO2","7446-09-5",null,{"$f":"'Permitted Diesel Engines'!AE56","v":0},null,null,null,"SO2","7446-09-5",null,{"$f":"'Permitted Diesel Engines'!AE57","v":0}]
[null,"NOx","NOx",null,{"$f":"'Permitted Diesel Engines'!AG56","v":0},null,null,null,"NOx","NOx",null,{"$f":"'Permitted Diesel Engines'!AG57","v":0}]
[null,"VOC","VOC",null,{"$f":"'Permitted Diesel Engines'!AI56","v":0},null,null,null,"VOC","VOC",null,{"$f":"'Permitted Diesel Engines'!AI57","v":0}]
[null,"CO","630-08-0",null,{"$f":"'Permitted Diesel Engines'!AK56","v":0},null,null,null,"CO","630-08-0",null,{"$f":"'Permitted Diesel Engines'!AK57","v":0}]
[null,"Ammonia",null,null,null,null,null,null,"Ammonia"]
[null,"Formaldehyde","50-00-0",null,{"$f":"'Permitted Diesel Engines'!AM56","v":0},null,null,null,"Formaldehyde","50-00-0",null,{"$f":"'Permitted Diesel Engines'!AM57","v":0}]
[null,"Benzene","71-43-2",null,{"$f":"'Permitted Diesel Engines'!AO56","v":0},null,null,null,"Benzene","71-43-2",null,{"$f":"'Permitted Diesel Engines'!AO57","v":0}]
[null,"Total HAP",null,null,{"$f":"SUM(E66:E67)","v":0},null,null,null,"Total HAP",null,null,{"$f":"SUM(L66:L67)","v":0}]
[]
["CP-5","POTENTIAL EMISSIONS:",null,null,null,null,null,"CP-6","POTENTIAL EMISSIONS:"]
[null,"Air Pollutant","ID or CAS Number",null,"Tons/Yr",null,null,null,"Air Pollutant","ID or CAS Number",null,"Tons/Yr"]
[null,"PM-2.5","PM-2.5",null,{"$f":"IF('Concrete Plant (CP-5)'!J10>0,SUM('Concrete Plant (CP-5)'!J10,'Concrete Plant (CP-5)'!U49,'Haul Roads'!AL14,'Permitted Diesel Engines'!Z58),SUM('Concrete Plant (CP-5)'!U23:U33,'Concrete Plant (CP-5)'!U49,'Haul Roads'!AL14,'Permitted Diesel Engines'!Z58))","v":0},null,null,null,"PM-2.5","PM-2.5",null,{"$f":"IF('Concrete Plant (CP-6)'!J10>0,SUM('Concrete Plant (CP-6)'!J10,'Concrete Plant (CP-6)'!U49,'Haul Roads'!AL15,'Permitted Diesel Engines'!Z59),SUM('Concrete Plant (CP-6)'!U23:U33,'Concrete Plant (CP-6)'!U49,'Haul Roads'!AL15,'Permitted Diesel Engines'!Z59))","v":0}]
[null,"PM-10","PM-10",null,{"$f":"IF('Concrete Plant (CP-5)'!J11>0,SUM('Concrete Plant (CP-5)'!J11,'Concrete Plant (CP-5)'!U49,'Haul Roads'!AN14,'Permitted Diesel Engines'!AB58),SUM('Concrete Plant (CP-5)'!U35:U45,'Concrete Plant (CP-5)'!U49,'Haul Roads'!AN14,'Permitted Diesel Engines'!AB58))","v":0},null,null,null,"PM-10","PM-10",null,{"$f":"IF('Concrete Plant (CP-6)'!J11>0,SUM('Concrete Plant (CP-6)'!J11,'Concrete Plant (CP-6)'!U49,'Haul Roads'!AN15,'Permitted Diesel Engines'!AB59),SUM('Concrete Plant (CP-6)'!U35:U45,'Concrete Plant (CP-6)'!U49,'Haul Roads'!AN15,'Permitted Diesel Engines'!AB59))","v":0}]
[null,"SO2","7446-09-5",null,{"$f":"IF('Concrete Plant (CP-5)'!J12>0,'Concrete Plant (CP-5)'!J12,'Permitted Diesel Engines'!AD58)","v":0},{"$f":"IF(E74>100,\"Thresholds exceeded, contact DNR for assistance.\",\"\")","v":""},null,null,"SO2","7446-09-5",null,{"$f":"IF('Concrete Plant (CP-6)'!J12>0,'Concrete Plant (CP-6)'!J12,'Permitted Diesel Engines'!AD59)","v":0},{"$f":"IF(L74>100,\"Thresholds exceeded, contact DNR for assistance.\",\"\")","v":""}]
[null,"NOx","NOx",null,{"$f":"IF('Concrete Plant (CP-5)'!J13>0,'Concrete Plant (CP-5)'!J13,'Permitted Diesel Engines'!AF58)","v":0},{"$f":"IF(E75>100,\"Thresholds exceeded, contact DNR for assistance.\",\"\")","v":""},null,null,"NOx","NOx",null,{"$f":"IF('Concrete Plant (CP-6)'!J13>0,'Concrete Plant (CP-6)'!J13,'Permitted Diesel Engines'!AF59)","v":0},{"$f":"IF(L75>100,\"Thresholds exceeded, contact DNR for assistance.\",\"\")","v":""}]
[null,"VOC","VOC",null,{"$f":"IF('Concrete Plant (CP-5)'!J14>0,'Concrete Plant (CP-5)'!J14,'Permitted Diesel Engines'!AH58)","v":0},{"$f":"IF(E76>100,\"Thresholds exceeded, contact DNR for assistance.\",\"\")","v":""},null,null,"VOC","VOC",null,{"$f":"IF('Concrete Plant (CP-6)'!J14>0,'Concrete Plant (CP-6)'!J14,'Permitted Diesel Engines'!AH59)","v":0},{"$f":"IF(L76>100,\"Thresholds exceeded, contact DNR for assistance.\",\"\")","v":""}]
[null,"CO","630-08-0",null,{"$f":"IF('Concrete Plant (CP-5)'!J15>0,'Concrete Plant (CP-5)'!J15,'Permitted Diesel Engines'!AJ58)","v":0},{"$f":"IF(E77>100,\"Thresholds exceeded, contact DNR for assistance.\",\"\")","v":""},null,null,"CO","630-08-0",null,{"$f":"IF('Concrete Plant (CP-6)'!J15>0,'Concrete Plant (CP-6)'!J15,'Permitted Diesel Engines'!AJ59)","v":0},{"$f":"IF(L77>100,\"Thresholds exceeded, contact DNR for assistance.\",\"\")","v":""}]
[null,"Ammonia",null,null,null,{"$f":"IF(E78>100,\"Thresholds exceeded, contact DNR for assistance.\",\"\")","v":""},null,null,"Ammonia",null,null,null,{"$f":"IF(L78>100,\"Thresholds exceeded, contact DNR for assistance.\",\"\")","v":""}]
[null,"Formaldehyde","50-00-0",null,{"$f":"'Permitted Diesel Engines'!AL58","v":0},{"$f":"IF(E79>10,\"Thresholds exceeded, contact DNR for assistance.\",\"\")","v":""},null,null,"Formaldehyde","50-00-0",null,{"$f":"'Permitted Diesel Engines'!AL59","v":0},{"$f":"IF(L79>10,\"Thresholds exceeded, contact DNR for assistance.\",\"\")","v":""}]
[null,"Benzene","71-43-2",null,{"$f":"'Permitted Diesel Engines'!AN58","v":0},{"$f":"IF(E80>10,\"Thresholds exceeded, contact DNR for assistance.\",\"\")","v":""},null,null,"Benzene","71-43-2",null,{"$f":"'Permitted Diesel Engines'!AN59","v":0},{"$f":"IF(L80>10,\"Thresholds exceeded, contact DNR for assistance.\",\"\")","v":""}]
[null,"Total HAP",null,null,{"$f":"SUM(E79:E80)","v":0},{"$f":"IF(E81>25,\"Thresholds exceeded, contact DNR for assistance.\",\"\")","v":""},null,null,"Total HAP",null,null,{"$f":"SUM(L79:L80)","v":0},{"$f":"IF(L81>25,\"Thresholds exceeded, contact DNR for assistance.\",\"\")","v":""}]
[]
[null,"ACTUAL EMISSIONS:",null,null,null,null,null,null,"ACTUAL EMISSIONS:"]
[null,"Air Pollutant","ID or CAS Number",null,"Tons/Yr",null,null,null,"Air Pollutant","ID or CAS Number",null,"Tons/Yr"]
[null,"PM-2.5","PM-2.5",null,{"$f":"SUM('Concrete Plant (CP-5)'!V23:V33,'Concrete Plant (CP-5)'!V49,'Haul Roads'!AM14,'Permitted Diesel Engines'!AA58)","v":0},null,null,null,"PM-2.5","PM-2.5",null,{"$f":"SUM('Concrete Plant (CP-6)'!V23:V33,'Concrete Plant (CP-6)'!V49,'Haul Roads'!AM15,'Permitted Diesel Engines'!AA59)","v":0}]
[null,"PM-10","PM-10",null,{"$f":"SUM('Concrete Plant (CP-5)'!V35:V45,'Concrete Plant (CP-5)'!V49,'Haul Roads'!AO14,'Permitted Diesel Engines'!AC58)","v":0},null,null,null,"PM-10","PM-10",null,{"$f":"SUM('Concrete Plant (CP-6)'!V35:V45,'Concrete Plant (CP-6)'!V49,'Haul Roads'!AO15,'Permitted Diesel Engines'!AC59)","v":0}]
[null,"SO2","7446-09-5",null,{"$f":"'Permitted Diesel Engines'!AE58","v":0},null,null,null,"SO2","7446-09-5",null,{"$f":"'Permitted Diesel Engines'!AE59","v":0}]
[null,"NOx","NOx",null,{"$f":"'Permitted Diesel Engines'!AG58","v":0},null,null,null,"NOx","NOx",null,{"$f":"'Permitted Diesel Engines'!AG59","v":0}]
[null,"VOC","VOC",null,{"$f":"'Permitted Diesel Engines'!AI58","v":0},null,null,null,"VOC","VOC",null,{"$f":"'Permitted Diesel Engines'!AI59","v":0}]
[null,"CO","630-08-0",null,{"$f":"'Permitted Diesel Engines'!AK58","v":0},null,null,null,"CO","630-08-0",null,{"$f":"'Permitted Diesel Engines'!AK59","v":0}]
[null,"Ammonia",null,null,null,null,null,null,"Ammonia"]
[null,"Formaldehyde","50-00-0",null,{"$f":"'Permitted Diesel Engines'!AM58","v":0},null,null,null,"Formaldehyde","50-00-0",null,{"$f":"'Permitted Diesel Engines'!AM59","v":0}]
[null,"Benzene","71-43-2",null,{"$f":"'Permitted Diesel Engines'!AO58","v":0},null,null,null,"Benzene","71-43-2",null,{"$f":"'Permitted Diesel Engines'!AO59","v":0}]
[null,"Total HAP",null,null,{"$f":"SUM(E92:E93)","v":0},null,null,null,"Total HAP",null,null,{"$f":"SUM(L92:L93)","v":0}]
[]
["CP-7","POTENTIAL EMISSIONS:",null,null,null,null,null,"CP-8","POTENTIAL EMISSIONS:"]
[null,"Air Pollutant","ID or CAS Number",null,"Tons/Yr",null,null,null,"Air Pollutant","ID or CAS Number",null,"Tons/Yr"]
[null,"PM-2.5","PM-2.5",null,{"$f":"IF('Concrete Plant (CP-7)'!J10>0,SUM('Concrete Plant (CP-7)'!J10,'Concrete Plant (CP-7)'!U49,'Haul Roads'!AL16,'Permitted Diesel Engines'!Z60),SUM('Concrete Plant (CP-7)'!U23:U33,'Concrete Plant (CP-7)'!U49,'Haul Roads'!AL16,'Permitted Diesel Engines'!Z60))","v":0},null,null,null,"PM-2.5","PM-2.5",null,{"$f":"IF('Concrete Plant (CP-8)'!J10>0,SUM('Concrete Plant (CP-8)'!J10,'Concrete Plant (CP-8)'!U49,'Haul Roads'!AL17,'Permitted Diesel Engines'!Z61),SUM('Concrete Plant (CP-8)'!U23:U33,'Concrete Plant (CP-8)'!U49,'Haul Roads'!AL17,'Permitted Diesel Engines'!Z61))","v":0}]
[null,"PM-10","PM-10",null,{"$f":"IF('Concrete Plant (CP-7)'!J11>0,SUM('Concrete Plant (CP-7)'!J11,'Concrete Plant (CP-7)'!U49,'Haul Roads'!AN16,'Permitted Diesel Engines'!AB60),SUM('Concrete Plant (CP-7)'!U35:U45,'Concrete Plant (CP-7)'!U49,'Haul Roads'!AN16,'Permitted Diesel Engines'!AB60))","v":0},null,null,null,"PM-10","PM-10",null,{"$f":"IF('Concrete Plant (CP-8)'!J11>0,SUM('Concrete Plant (CP-8)'!J11,'Concrete Plant (CP-8)'!U49,'Haul Roads'!AN17,'Permitted Diesel Engines'!AB61),SUM('Concrete Plant (CP-8)'!U35:U45,'Concrete Plant (CP-8)'!U49,'Haul Roads'!AN17,'Permitted Diesel Engines'!AB61))","v":0}]
[null,"SO2","7446-09-5",null,{"$f":"IF('Concrete Plant (CP-7)'!J12>0,'Concrete Plant (CP-7)'!J12,'Permitted Diesel Engines'!AD60)","v":0},{"$f":"IF(E100>100,\"Thresholds exceeded, contact DNR for assistance.\",\"\")","v":""},null,null,"SO2","7446-09-5",null,{"$f":"IF('Concrete Plant (CP-8)'!J12>0,'Concrete Plant (CP-8)'!J12,'Permitted Diesel Engines'!AD61)","v":0},{"$f":"IF(L100>100,\"Thresholds exceeded, contact DNR for assistance.\",\"\")","v":""}]
[null,"NOx","NOx",null,{"$f":"IF('Concrete Plant (CP-7)'!J13>0,'Concrete Plant (CP-7)'!J13,'Permitted Diesel Engines'!AF60)","v":0},{"$f":"IF(E101>100,\"Thresholds exceeded, contact DNR for assistance.\",\"\")","v":""},null,null,"NOx","NOx",null,{"$f":"IF('Concrete Plant (CP-8)'!J13>0,'Concrete Plant (CP-8)'!J13,'Permitted Diesel Engines'!AF61)","v":0},{"$f":"IF(L101>100,\"Thresholds exceeded, contact DNR for assistance.\",\"\")","v":""}]
[null,"VOC","VOC",null,{"$f":"IF('Concrete Plant (CP-7)'!J14>0,'Concrete Plant (CP-7)'!J14,'Permitted Diesel Engines'!AH60)","v":0},{"$f":"IF(E102>100,\"Thresholds exceeded, contact DNR for assistance.\",\"\")","v":""},null,null,"VOC","VOC",null,{"$f":"IF('Concrete Plant (CP-8)'!J14>0,'Concrete Plant (CP-8)'!J14,'Permitted Diesel Engines'!AH61)","v":0},{"$f":"IF(L102>100,\"Thresholds exceeded, contact DNR for assistance.\",\"\")","v":""}]
[null,"CO","630-08-0",null,{"$f":"IF('Concrete Plant (CP-7)'!J15>0,'Concrete Plant (CP-7)'!J15,'Permitted Diesel Engines'!AJ60)","v":0},{"$f":"IF(E103>100,\"Thresholds exceeded, contact DNR for assistance.\",\"\")","v":""},null,null,"CO","630-08-0",null,{"$f":"IF('Concrete Plant (CP-8)'!J15>0,'Concrete Plant (CP-8)'!J15,'Permitted Diesel Engines'!AJ61)","v":0},{"$f":"IF(L103>100,\"Thresholds exceeded, contact DNR for assistance.\",\"\")","v":""}]
[null,"Ammonia",null,null,null,{"$f":"IF(E104>100,\"Thresholds exceeded, contact DNR for assistance.\",\"\")","v":""},null,null,"Ammonia",null,null,null,{"$f":"IF(L104>100,\"Thresholds exceeded, contact DNR for assistance.\",\"\")","v":""}]
[null,"Formaldehyde","50-00-0",null,{"$f":"'Permitted Diesel Engines'!AL60","v":0},{"$f":"IF(E105>10,\"Thresholds exceeded, contact DNR for assistance.\",\"\")","v":""},null,null,"Formaldehyde","50-00-0",null,{"$f":"'Permitted Diesel Engines'!AL61","v":0},{"$f":"IF(L105>10,\"Thresholds exceeded, contact DNR for assistance.\",\"\")","v":""}]
[null,"Benzene","71-43-2",null,{"$f":"'Permitted Diesel Engines'!AN60","v":0},{"$f":"IF(E106>10,\"Thresholds exceeded, contact DNR for assistance.\",\"\")","v":""},null,null,"Benzene","71-43-2",null,{"$f":"'Permitted Diesel Engines'!AN61","v":0},{"$f":"IF(L106>10,\"Thresholds exceeded, contact DNR for assistance.\",\"\")","v":""}]
[null,"Total HAP",null,null,{"$f":"SUM(E105:E106)","v":0},{"$f":"IF(E107>25,\"Thresholds exceeded, contact DNR for assistance.\",\"\")","v":""},null,null,"Total HAP",null,null,{"$f":"SUM(L105:L106)","v":0},{"$f":"IF(L107>25,\"Thresholds exceeded, contact DNR for assistance.\",\"\")","v":""}]
[]
[null,"ACTUAL EMISSIONS:",null,null,null,null,null,null,"ACTUAL EMISSIONS:"]
[null,"Air Pollutant","ID or CAS Number",null,"Tons/Yr",null,null,null,"Air Pollutant","ID or CAS Number",null,"Tons/Yr"]
[null,"PM-2.5","PM-2.5",null,{"$f":"SUM('Concrete Plant (CP-7)'!V23:V33,'Concrete Plant (CP-7)'!V49,'Haul Roads'!AM16,'Permitted Diesel Engines'!AA60)","v":0},null,null,null,"PM-2.5","PM-2.5",null,{"$f":"SUM('Concrete Plant (CP-8)'!V23:V33,'Concrete Plant (CP-9)'!V49,'Haul Roads'!AM17,'Permitted Diesel Engines'!AA61)","v":0}]
[null,"PM-10","PM-10",null,{"$f":"SUM('Concrete Plant (CP-7)'!V35:V45,'Concrete Plant (CP-7)'!V49,'Haul Roads'!AO16,'Permitted Diesel Engines'!AC60)","v":0},null,null,null,"PM-10","PM-10",null,{"$f":"SUM('Concrete Plant (CP-8)'!V35:V45,'Concrete Plant (CP-9)'!V49,'Haul Roads'!AO17,'Permitted Diesel Engines'!AC61)","v":0}]
[null,"SO2","7446-09-5",null,{"$f":"'Permitted Diesel Engines'!AE60","v":0},null,null,null,"SO2","7446-09-5",null,{"$f":"'Permitted Diesel Engines'!AE61","v":0}]
[null,"NOx","NOx",null,{"$f":"'Permitted Diesel Engines'!AG60","v":0},null,null,null,"NOx","NOx",null,{"$f":"'Permitted Diesel Engines'!AG61","v":0}]
[null,"VOC","VOC",null,{"$f":"'Permitted Diesel Engines'!AI60","v":0},null,null,null,"VOC","VOC",null,{"$f":"'Permitted Diesel Engines'!AI61","v":0}]
[null,"CO","630-08-0",null,{"$f":"'Permitted Diesel Engines'!AK60","v":0},null,null,null,"CO","630-08-0",null,{"$f":"'Permitted Diesel Engines'!AK61","v":0}]
[null,"Ammonia",null,null,null,null,null,null,"Ammonia"]
[null,"Formaldehyde","50-00-0",null,{"$f":"'Permitted Diesel Engines'!AM60","v":0},null,null,null,"Formaldehyde","50-00-0",null,{"$f":"'Permitted Diesel Engines'!AM61","v":0}]
[null,"Benzene","71-43-2",null,{"$f":"'Permitted Diesel Engines'!AO60","v":0},null,null,null,"Benzene","71-43-2",null,{"$f":"'Permitted Diesel Engines'!AO61","v":0}]
[null,"Total HAP",null,null,{"$f":"SUM(E118:E119)","v":0},null,null,null,"Total HAP",null,null,{"$f":"SUM(L118:L119)","v":0}]
[]
["CP-9","POTENTIAL EMISSIONS:",null,null,null,null,null,"CP-10","POTENTIAL EMISSIONS:"]
[null,"Air Pollutant","ID or CAS Number",null,"Tons/Yr",null,null,null,"Air Pollutant","ID or CAS Number",null,"Tons/Yr"]
[null,"PM-2.5","PM-2.5",null,{"$f":"IF('Concrete Plant (CP-9)'!J10>0,SUM('Concrete Plant (CP-9)'!J10,'Concrete Plant (CP-9)'!U49,'Haul Roads'!AL18,'Permitted Diesel Engines'!Z62),SUM('Concrete Plant (CP-9)'!U23:U33,'Concrete Plant (CP-9)'!U49,'Haul Roads'!AL18,'Permitted Diesel Engines'!Z62))","v":0},null,null,null,"PM-2.5","PM-2.5",null,{"$f":"IF('Concrete Plant (CP-9)'!J10>0,SUM('Concrete Plant (CP-9)'!J10,'Concrete Plant (CP-9)'!U49,'Haul Roads'!AL19,'Permitted Diesel Engines'!Z63),SUM('Concrete Plant (CP-9)'!U23:U33,'Concrete Plant (CP-9)'!U49,'Haul Roads'!AL19,'Permitted Diesel Engines'!Z63))","v":0}]
[null,"PM-10","PM-10",null,{"$f":"IF('Concrete Plant (CP-9)'!J11>0,SUM('Concrete Plant (CP-9)'!J11,'Concrete Plant (CP-9)'!U49,'Haul Roads'!AN18,'Permitted Diesel Engines'!AB62),SUM('Concrete Plant (CP-9)'!U35:U45,'Concrete Plant (CP-9)'!U49,'Haul Roads'!AN18,'Permitted Diesel Engines'!AB62))","v":0},null,null,null,"PM-10","PM-10",null,{"$f":"IF('Concrete Plant (CP-9)'!J11>0,SUM('Concrete Plant (CP-9)'!J11,'Concrete Plant (CP-9)'!U49,'Haul Roads'!AN19,'Permitted Diesel Engines'!AB63),SUM('Concrete Plant (CP-9)'!U35:U45,'Concrete Plant (CP-9)'!U49,'Haul Roads'!AN19,'Permitted Diesel Engines'!AB63))","v":0}]
[null,"SO2","7446-09-5",null,{"$f":"IF('Concrete Plant (CP-9)'!J12>0,'Concrete Plant (CP-9)'!J12,'Permitted Diesel Engines'!AD62)","v":0},{"$f":"IF(E126>100,\"Thresholds exceeded, contact DNR for assistance.\",\"\")","v":""},null,null,"SO2","7446-09-5",null,{"$f":"IF('Concrete Plant (CP-9)'!J12>0,'Concrete Plant (CP-9)'!J12,'Permitted Diesel Engines'!AD63)","v":0},{"$f":"IF(L126>100,\"Thresholds exceeded, contact DNR for assistance.\",\"\")","v":""}]
[null,"NOx","NOx",null,{"$f":"IF('Concrete Plant (CP-9)'!J13>0,'Concrete Plant (CP-9)'!J13,'Permitted Diesel Engines'!AF62)","v":0},{"$f":"IF(E127>100,\"Thresholds exceeded, contact DNR for assistance.\",\"\")","v":""},null,null,"NOx","NOx",null,{"$f":"IF('Concrete Plant (CP-9)'!J13>0,'Concrete Plant (CP-9)'!J13,'Permitted Diesel Engines'!AF63)","v":0},{"$f":"IF(L127>100,\"Thresholds exceeded, contact DNR for assistance.\",\"\")","v":""}]
[null,"VOC","VOC",null,{"$f":"IF('Concrete Plant (CP-9)'!J14>0,'Concrete Plant (CP-9)'!J14,'Permitted Diesel Engines'!AH62)","v":0},{"$f":"IF(E128>100,\"Thresholds exceeded, contact DNR for assistance.\",\"\")","v":""},null,null,"VOC","VOC",null,{"$f":"IF('Concrete Plant (CP-9)'!J14>0,'Concrete Plant (CP-9)'!J14,'Permitted Diesel Engines'!AH63)","v":0},{"$f":"IF(L128>100,\"Thresholds exceeded, contact DNR for assistance.\",\"\")","v":""}]
[null,"CO","630-08-0",null,{"$f":"IF('Concrete Plant (CP-9)'!J15>0,'Concrete Plant (CP-9)'!J15,'Permitted Diesel Engines'!AJ62)","v":0},{"$f":"IF(E129>100,\"Thresholds exceeded, contact DNR for assistance.\",\"\")","v":""},null,null,"CO","630-08-0",null,{"$f":"IF('Concrete Plant (CP-9)'!J15>0,'Concrete Plant (CP-9)'!J15,'Permitted Diesel Engines'!AJ63)","v":0},{"$f":"IF(L129>100,\"Thresholds exceeded, contact DNR for assistance.\",\"\")","v":""}]
[null,"Ammonia",null,null,null,{"$f":"IF(E130>100,\"Thresholds exceeded, contact DNR for assistance.\",\"\")","v":""},null,null,"Ammonia",null,null,null,{"$f":"IF(L130>100,\"Thresholds exceeded, contact DNR for assistance.\",\"\")","v":""}]
[null,"Formaldehyde","50-00-0",null,{"$f":"'Permitted Diesel Engines'!AL62","v":0},{"$f":"IF(E131>10,\"Thresholds exceeded, contact DNR for assistance.\",\"\")","v":""},null,null,"Formaldehyde","50-00-0",null,{"$f":"'Permitted Diesel Engines'!AL63","v":0},{"$f":"IF(L131>10,\"Thresholds exceeded, contact DNR for assistance.\",\"\")","v":""}]
[null,"Benzene","71-43-2",null,{"$f":"'Permitted Diesel Engines'!AN62","v":0},{"$f":"IF(E132>10,\"Thresholds exceeded, contact DNR for assistance.\",\"\")","v":""},null,null,"Benzene","71-43-2",null,{"$f":"'Permitted Diesel Engines'!AN63","v":0},{"$f":"IF(L132>10,\"Thresholds exceeded, contact DNR for assistance.\",\"\")","v":""}]
[null,"Total HAP",null,null,{"$f":"SUM(E131:E132)","v":0},{"$f":"IF(E133>25,\"Thresholds exceeded, contact DNR for assistance.\",\"\")","v":""},null,null,"Total HAP",null,null,{"$f":"SUM(L131:L132)","v":0},{"$f":"IF(L133>25,\"Thresholds exceeded, contact DNR for assistance.\",\"\")","v":""}]
[]
[null,"ACTUAL EMISSIONS:",null,null,null,null,null,null,"ACTUAL EMISSIONS:"]
[null,"Air Pollutant","ID or CAS Number",null,"Tons/Yr",null,null,null,"Air Pollutant","ID or CAS Number",null,"Tons/Yr"]
[null,"PM-2.5","PM-2.5",null,{"$f":"SUM('Concrete Plant (CP-9)'!V23:V33,'Concrete Plant (CP-9)'!V49,'Haul Roads'!AM18,'Permitted Diesel Engines'!AA62)","v":0},null,null,null,"PM-2.5","PM-2.5",null,{"$f":"SUM('Concrete Plant (CP-10)'!V23:V33,'Concrete Plant (CP-10)'!V49,'Haul Roads'!AM19,'Permitted Diesel Engines'!AA63)","v":0}]
[null,"PM-10","PM-10",null,{"$f":"SUM('Concrete Plant (CP-9)'!V35:V45,'Concrete Plant (CP-9)'!V49,'Haul Roads'!AO18,'Permitted Diesel Engines'!AC62)","v":0},null,null,null,"PM-10","PM-10",null,{"$f":"SUM('Concrete Plant (CP-10)'!V35:V45,'Concrete Plant (CP-10)'!V49,'Haul Roads'!AO19,'Permitted Diesel Engines'!AC63)","v":0}]
[null,"SO2","7446-09-5",null,{"$f":"'Permitted Diesel Engines'!AE62","v":0},null,null,null,"SO2","7446-09-5",null,{"$f":"'Permitted Diesel Engines'!AE63","v":0}]
[null,"NOx","NOx",null,{"$f":"'Permitted Diesel Engines'!AG62","v":0},null,null,null,"NOx","NOx",null,{"$f":"'Permitted Diesel Engines'!AG63","v":0}]
[null,"VOC","VOC",null,{"$f":"'Permitted Diesel Engines'!AI62","v":0},null,null,null,"VOC","VOC",null,{"$f":"'Permitted Diesel Engines'!AI63","v":0}]
[null,"CO","630-08-0",null,{"$f":"'Permitted Diesel Engines'!AK62","v":0},null,null,null,"CO","630-08-0",null,{"$f":"'Permitted Diesel Engines'!AK63","v":0}]
[null,"Ammonia",null,null,null,null,null,null,"Ammonia"]
[null,"Formaldehyde","50-00-0",null,{"$f":"'Permitted Diesel Engines'!AM62","v":0},null,null,null,"Formaldehyde","50-00-0",null,{"$f":"'Permitted Diesel Engines'!AM63","v":0}]
[null,"Benzene","71-43-2",null,{"$f":"'Permitted Diesel Engines'!AO62","v":0},null,null,null,"Benzene","71-43-2",null,{"$f":"'Permitted Diesel Engines'!AO63","v":0}]
[null,"Total HAP",null,null,{"$f":"SUM(E144:E145)","v":0},null,null,null,"Total HAP",null,null,{"$f":"SUM(L144:L145)","v":0}]

{"sheet":"Emission Factors","index":15,"n_rows":35,"n_cols":19,"rows_kept":35,"cut":false,"hidden":false,"merged":[[8,5,8,6],[7,5,7,6],[6,5,6,6],[15,5,15,6],[14,5,14,6],[13,5,13,6],[12,5,12,6],[11,5,11,6],[5,5,5,6],[4,5,4,6],[15,9,15,12],[14,9,14,12],[13,9,13,12],[12,9,12,12],[11,9,11,12],[10,9,10,12],[9,9,9,12],[8,9,8,12],[7,9,7,12],[6,9,6,12],[5,9,5,12],[4,9,4,12],[10,5,10,6],[9,5,9,6]]}
["EMISSION FACTORS"]
[]
["Concrete Batch"]
["Process",null,"SCC #","PM2.5","Units",null,null,"PM10","Units"]
["Aggregate Delivery to Ground Storage",null,30501121,9.6000000000000002E-4,"lb/cu yd","AP-42 Table 11.12-5/6 & Appendix B.2 Table B.2-2 Cat 3",null,3.0999999999999999E-3,"lb/cu yd","AP-42 Table 11.12-5"]
["Aggregate Transfer to Conveyor",null,30501123,9.6000000000000002E-4,"lb/cu yd","AP-42 Table 11.12-5/6 & Appendix B.2 Table B.2-2 Cat 3",null,3.0999999999999999E-3,"lb/cu yd","AP-42 Table 11.12-5"]
["Aggregate Transfer to Elevated Storage",null,30501104,9.6000000000000002E-4,"lb/cu yd","AP-42 Table 11.12-5/6 & Appendix B.2 Table B.2-2 Cat 3",null,3.0999999999999999E-3,"lb/cu yd","AP-42 Table 11.12-5"]
["Cement Delivery to Silo","controlled",30501107,3.0000000000000001E-5,"lb/cu yd","AP-42 Table 11.12-5/6 & Appendix B.2 Table B.2-2 Cat 3",null,1E-4,"lb/cu yd","AP-42 Table 11.12-5"]
["Cement Supplement Delivery to Silo","controlled",30501117,4.5000000000000003E-5,"lb/cu yd","AP-42 Table 11.12-5/6 & Appendix B.2 Table B.2-2 Cat 3",null,2.0000000000000001E-4,"lb/cu yd","AP-42 Table 11.12-5"]
["Central Mix Loading",null,30501109,2.4199999999999999E-2,"lb/cu yd","AP-42 Table 11.12-3/4 & Equation 11.12-2",null,4.3999999999999997E-2,"lb/cu yd","AP-42 Table 11.12-3/4 & Equation 11.12-2"]
["Sand Delivery to Ground Storage",null,30501122,2.2499999999999999E-4,"lb/cu yd","AP-42 Table 11.12-5/6 & Appendix B.2 Table B.2-2 Cat 3",null,6.9999999999999999E-4,"lb/cu yd","AP-42 Table 11.12-5"]
["Sand Transfer to Conveyor",null,30501124,2.2499999999999999E-4,"lb/cu yd","AP-42 Table 11.12-5/6 & Appendix B.2 Table B.2-2 Cat 3",null,6.9999999999999999E-4,"lb/cu yd","AP-42 Table 11.12-5"]
["Sand Transfer to Elevated Storage",null,30501105,2.2499999999999999E-4,"lb/cu yd","AP-42 Table 11.12-5/6 & Appendix B.2 Table B.2-2 Cat 3",null,6.9999999999999999E-4,"lb/cu yd","AP-42 Table 11.12-5"]
["Storage Pile",null,30502507,3.64,"lbs/acre-day","WebFIRE SCC# 30502507",null,3.64,"lbs/acre-day","WebFIRE SCC# 30502507"]
["Truck Mix Loading",null,30501110,1.41E-2,"lb/cu yd","AP-42 Table 11.12-3/4 & Equation 11.12-2",null,8.7400000000000005E-2,"lb/cu yd","AP-42 Table 11.12-3/4 & Equation 11.12-2"]
["Weigh Hopper Loading",null,30501108,1.1850000000000001E-3,"lb/cu yd","AP-42 Table 11.12-5/6 & Appendix B.2 Table B.2-2 Cat 3",null,3.8E-3,"lb/cu yd","AP-42 Table 11.12-5"]
[]
["Haul Roads"]
["Unpaved Haul Road",30205054]
[null,"Emission Factor equation from AP-42, 13.2.2 (Nov 2006): EF = [(k) x [(s/12)^0.9] x [(W/3)^0.45] ]((365-p)/365)) lb/VMT"]
[null,null,"k=constant=1.5 for PM10 and 0.15 for PM2.5 (AP-42 Table 13.2.2-1)"]
[null,null,"s= silt content (AP-42 Table 13.2.2-1)"]
[null,null,"w= average vehicle weight"]
[null,null,"p = number of days per year with at least 0.01 inches of precipitation (see map - AP-42 3.2.2 Figure 1)"]
["Paved Haul Roads",30205054]
[null,"Emission Factor equation from AP-42, 13.2.1 (Jan 2011): EF = [(k) x [(s^0.91] x [W^1.02]]x((1-(p/1460)) lb/VMT"]
[null,null,"k=constant=0.0022 for PM10 and 0.00054 for PM2.5 (AP-42 Table 13.2.1-1)"]
[null,null,"sL= road surface silt loading (AP-42 Table 13.2.1-3)"]
[null,null,"w= average vehicle weight"]
[null,null,"p = number of days per year with at least 0.01 inches of precipitation (see map - AP-42 3.2.2 Figure 1)"]
["Diesel Generators"]
["Process","SCC #","Units","PM2.5 EF","Source","PM10 EF","Source","SO2","Source ","Nox","Source","VOC","Source","CO","Source","Formaldehyde","Source","Benzene","Source"]
["Diesel Generator ≤ 600 bhp",20100102,"lb/MMBtu",0.31,"AP-42 Table 3.3-1",0.31,"AP-42 Table 3.3-1",0.28999999999999998,"AP-42 Table 3.3-1",4.41,"AP-42 Table 3.3-1",0.35,"AP-42 Table 3.3-1",0.95,"AP-42 Table 3.3-1",1.1800000000000001E-3,"AP-42 Table 3.3-2",9.3300000000000002E-4,"AP-42 Table 3.3-2"]
["Diesel Generator> 600 bhp",20200401,"lb/MMBtu",5.3900000000000003E-2,"WebFIRE",0.14000000000000001,"IDNR Memo",1.01,"AP-42 Table 3.4-1",3.2,"AP-42 Table 3.4-1",8.2000000000000003E-2,"AP-42 Table 3.4-1",0.85,"AP-42 Table 3.4-1",7.8899999999999993E-5,"AP-42 Table 3.4-3",7.76E-4,"AP-42 Table 3.4-3"]
[null,null,null,null,null,null,null,null,null,null,null,null,"& footnote f"]