{"text_format":"1","workbook":"xlsx","n_sheets":16,"sheets":["Facility Information","Asphalt Plant (AP-1)","Asphalt Plant (AP-2)","Asphalt Plant (AP-3)","Asphalt Plant (AP-4)","Asphalt Plant (AP-5)","Asphalt Plant (AP-6)","Asphalt Plant (AP-7)","Asphalt Plant (AP-8)","Asphalt Plant (AP-9)","Asphalt Plant (AP-10)","Haul Roads","Permitted Diesel Engines","Emission Calculations","Facility Wide Emissions","Emission Factors"],"not_rendered":{"charts":0,"images":0,"macros":1,"external_links":1,"defined_names":314,"comments":14,"pivot_tables":0},"unopened":[],"bounds":{"document_bytes":16777216,"sheet_cells":100000,"rows_first":2000,"rows_last":500,"rows_between":2000,"halvings":0,"cell_chars":16384,"cell_head_chars":4096},"cells_cut":0,"cells_raw":0,"read":"whole","date_system":"1900"}

{"sheet":"Facility Information","index":0,"n_rows":21,"n_cols":11,"rows_kept":21,"cut":false,"hidden":false,"merged":[[19,0,19,1],[20,0,20,1],[17,1,17,2],[0,0,0,2],[3,1,3,2],[1,0,1,1],[3,5,3,6],[3,3,3,4],[8,4,8,6],[8,1,8,2],[4,1,4,4],[6,1,6,6],[7,1,7,2],[4,8,5,12],[10,1,10,6],[13,1,13,2],[13,4,13,6],[5,1,5,6],[11,1,11,6],[9,1,9,6],[12,1,12,2]]}
["PORTABLE HOT MIX ASPHALT BATCHING PLANT",null,null,"Note: be sure to enable macros when prompted.",null,null,"542-0254"]
["Please fill in the yellow boxes.",null,null,null,null,null,"Last Updated 1-12-16"]
[]
["Submittal Type:",null,null,"Number of State-Wide Company Employees:"]
["Facility Number:",null,null,null,null,"Emisison Year:"]
["Facility Name:"]
["Mailing Address:"]
["City:",null,null,"State:",null,"Zip Code:"]
["Facility Contact:",null,null,"Phone Number:",null,null,null,null,null,null,"Emission Inventory - Initial"]
["Email Address",null,null,null,null,null,null,null,null,null,"Emission Inventory - Supplemental Information"]
["Parent Company:"]
["Parent Company Address:"]
["City:",null,null,"State:",null,"Zip Code:",null,null,null,null,"Less Than or Equal to 100"]
["Parent Company Contact:",null,null,"Phone Number:",null,null,null,null,null,null,"Greater Than 100"]
[]
["SIC Code:",2951]
["NAICS Code:",324121]
["Activity Description:","Hot Mix Asphalt Plant"]
[]
["Number of Plants with Permits:"]
[{"$f":"\"Number of Plants Operated in \"&'Facility Information'!G5&\":\"","v":"Number of Plants Operated in :"}]

{"sheet":"Asphalt Plant (AP-1)","index":1,"n_rows":167,"n_cols":20,"rows_kept":167,"cut":false,"hidden":false,"merged":[[3,17,4,19],[124,8,125,8],[34,19,35,19],[34,18,35,18],[18,18,19,18],[18,13,19,13],[18,16,19,16],[18,17,19,17],[34,14,35,14],[18,19,19,19],[18,15,19,15],[13,14,13,15],[14,14,14,15],[34,17,35,17],[34,16,35,16],[34,15,35,15],[2,15,3,15],[18,14,19,14],[2,13,3,13],[109,7,110,7],[109,8,110,8],[94,7,95,7],[94,8,95,8],[64,7,65,7],[64,8,65,8],[51,4,51,6],[53,4,53,6],[55,4,55,6],[64,4,65,4],[64,5,65,5],[64,6,65,6],[79,4,80,4],[79,5,80,5],[79,6,80,6],[79,7,80,7],[79,8,80,8],[0,1,0,2],[2,12,3,12],[19,5,20,5],[34,5,35,5],[34,4,35,4],[12,1,14,2],[19,6,20,6],[36,4,36,6],[38,4,38,6],[1,1,1,2],[19,7,20,7],[19,8,20,8],[19,4,20,4],[1,7,1,8],[34,6,35,6],[34,7,35,7],[34,8,35,8],[49,4,50,4],[49,5,50,5],[49,6,50,6],[49,7,50,7],[49,8,50,8],[40,4,40,6],[66,4,66,6],[68,4,68,6],[70,4,70,6],[126,4,126,6],[124,6,125,6],[81,4,81,6],[83,4,83,6],[85,4,85,6],[94,4,95,4],[94,5,95,5],[94,6,95,6],[109,4,110,4],[109,5,110,5],[109,6,110,6],[124,4,125,4],[96,4,96,6],[98,4,98,6],[100,4,100,6],[124,5,125,5],[124,7,125,7],[156,4,156,6],[158,4,158,6],[160,4,160,6],[2,14,3,14],[2,16,3,16],[154,4,155,4],[154,5,155,5],[154,6,155,6],[154,7,155,7],[154,8,155,8],[139,7,140,7],[139,8,140,8],[141,4,141,6],[143,4,143,6],[145,4,145,6],[128,4,128,6],[130,4,130,6],[139,4,140,4],[139,5,140,5],[139,6,140,6],[111,4,111,6],[113,4,113,6],[115,4,115,6]]}
[null,"ASPHALT PLANT (AP-1)"]
[null,"Please fill in the yellow boxes as applicable for your facility. ",null,null,null,null,null,"Values used for calculating emissions →",null,null,null,null,"Values Used to Calculate Potential and Actual Emissions for the Listed Processes at this Plant"]
[null,null,null,null,null,null,null,null,null,null,null,null,"Process","Maximum Design Rate","Units","Actual throughput","Units"]
[null,{"$f":"\"Number of Sites this Plant operated at in \"&'Facility Information'!G5&\":\"","v":"Number of Sites this Plant operated at in :"},null,null,null,null,null,null,null,null,null,null,null,null,null,null,null,"** As of 2016 Potential Emissions are no longer required to be reported in the Minor Source Emissions Inventory**"]
[null,"Plant Type:",null,null,null,null,null,null,null,null,null,null,{"$f":"$C$5 & \" - Fuel Oil\"","v":" - Fuel Oil"},{"$f":"MAX((IFERROR(OFFSET($G$22,MATCH(M5,$G$23,0),1),0)),((IFERROR(OFFSET($G$37,MATCH(M5,$G$38,0),1),0))),((IFERROR(OFFSET($G$52,MATCH(M5,$G$53,0),1),0))),((IFERROR(OFFSET($G$67,MATCH(M5,$G$68,0),1),0))),((IFERROR(OFFSET($G$82,MATCH(M5,$G$83,0),1),0))),((IFERROR(OFFSET($G$97,MATCH(M5,$G$98,0),1),0))),((IFERROR(OFFSET($G$112,MATCH(M5,$G$113,0),1),0))),((IFERROR(OFFSET($G$127,MATCH(M5,$G$128,0),1),0))),((IFERROR(OFFSET($G$142,MATCH(M5,$G$143,0),1),0))),((IFERROR(OFFSET($G$157,MATCH(M5,$G$158,0),1),0))))","v":0},"tons/hr",{"$f":"SUM((IFERROR(OFFSET($G$22,MATCH(M5,$G$23,0),2),0)),((IFERROR(OFFSET($G$37,MATCH(M5,$G$38,0),2),0))),((IFERROR(OFFSET($G$52,MATCH(M5,$G$53,0),2),0))),((IFERROR(OFFSET($G$67,MATCH(M5,$G$68,0),2),0))),((IFERROR(OFFSET($G$82,MATCH(M5,$G$83,0),2),0))),((IFERROR(OFFSET($G$97,MATCH(M5,$G$98,0),2),0))),((IFERROR(OFFSET($G$112,MATCH(M5,$G$113,0),2),0))),((IFERROR(OFFSET($G$127,MATCH(M5,$G$128,0),2),0))),((IFERROR(OFFSET($G$142,MATCH(M5,$G$143,0),2),0))),((IFERROR(OFFSET($G$157,MATCH(M5,$G$158,0),2),0))))","v":0},"tons/yr"]
[null,null,null,null,null,null,null,null,null,null,null,null,{"$f":"$C$5 & \" - Waste Oil\"","v":" - Waste Oil"},{"$f":"MAX((IFERROR(OFFSET($G$22,MATCH(M6,$G$23,0),1),0)),((IFERROR(OFFSET($G$37,MATCH(M6,$G$38,0),1),0))),((IFERROR(OFFSET($G$52,MATCH(M6,$G$53,0),1),0))),((IFERROR(OFFSET($G$67,MATCH(M6,$G$68,0),1),0))),((IFERROR(OFFSET($G$82,MATCH(M6,$G$83,0),1),0))),((IFERROR(OFFSET($G$97,MATCH(M6,$G$98,0),1),0))),((IFERROR(OFFSET($G$112,MATCH(M6,$G$113,0),1),0))),((IFERROR(OFFSET($G$127,MATCH(M6,$G$128,0),1),0))),((IFERROR(OFFSET($G$142,MATCH(M6,$G$143,0),1),0))),((IFERROR(OFFSET($G$157,MATCH(M6,$G$158,0),1),0))))","v":0},"tons/hr",{"$f":"SUM((IFERROR(OFFSET($G$22,MATCH(M6,$G$23,0),2),0)),((IFERROR(OFFSET($G$37,MATCH(M6,$G$38,0),2),0))),((IFERROR(OFFSET($G$52,MATCH(M6,$G$53,0),2),0))),((IFERROR(OFFSET($G$67,MATCH(M6,$G$68,0),2),0))),((IFERROR(OFFSET($G$82,MATCH(M6,$G$83,0),2),0))),((IFERROR(OFFSET($G$97,MATCH(M6,$G$98,0),2),0))),((IFERROR(OFFSET($G$112,MATCH(M6,$G$113,0),2),0))),((IFERROR(OFFSET($G$127,MATCH(M6,$G$128,0),2),0))),((IFERROR(OFFSET($G$142,MATCH(M6,$G$143,0),2),0))),((IFERROR(OFFSET($G$157,MATCH(M6,$G$158,0),2),0))))","v":0},"tons/yr"]
[null,"Plant Specific Permit Number: ",null,null,null,null,null,null,null,null,null,null,{"$f":"$C$5 & \" - Natural Gas\"","v":" - Natural Gas"},{"$f":"MAX((IFERROR(OFFSET($G$22,MATCH(M7,$G$23,0),1),0)),((IFERROR(OFFSET($G$37,MATCH(M7,$G$38,0),1),0))),((IFERROR(OFFSET($G$52,MATCH(M7,$G$53,0),1),0))),((IFERROR(OFFSET($G$67,MATCH(M7,$G$68,0),1),0))),((IFERROR(OFFSET($G$82,MATCH(M7,$G$83,0),1),0))),((IFERROR(OFFSET($G$97,MATCH(M7,$G$98,0),1),0))),((IFERROR(OFFSET($G$112,MATCH(M7,$G$113,0),1),0))),((IFERROR(OFFSET($G$127,MATCH(M7,$G$128,0),1),0))),((IFERROR(OFFSET($G$142,MATCH(M7,$G$143,0),1),0))),((IFERROR(OFFSET($G$157,MATCH(M7,$G$158,0),1),0))))","v":0},"tons/hr",{"$f":"SUM((IFERROR(OFFSET($G$22,MATCH(M7,$G$23,0),2),0)),((IFERROR(OFFSET($G$37,MATCH(M7,$G$38,0),2),0))),((IFERROR(OFFSET($G$52,MATCH(M7,$G$53,0),2),0))),((IFERROR(OFFSET($G$67,MATCH(M7,$G$68,0),2),0))),((IFERROR(OFFSET($G$82,MATCH(M7,$G$83,0),2),0))),((IFERROR(OFFSET($G$97,MATCH(M7,$G$98,0),2),0))),((IFERROR(OFFSET($G$112,MATCH(M7,$G$113,0),2),0))),((IFERROR(OFFSET($G$127,MATCH(M7,$G$128,0),2),0))),((IFERROR(OFFSET($G$142,MATCH(M7,$G$143,0),2),0))),((IFERROR(OFFSET($G$157,MATCH(M7,$G$158,0),2),0))))","v":0},"tons/yr"]
[null,null,null,null,null,null,null,null,null,null,null,null,"Fuel Oil Fired Heater",{"$f":"MAX((IFERROR(OFFSET($G$24,MATCH(\"Fuel Oil Fired Heater\",$G$25,0),1),0)),((IFERROR(OFFSET($G$39,MATCH(\"Fuel Oil Fired Heater\",$G$40,0),1),0))),((IFERROR(OFFSET($G$54,MATCH(\"Fuel Oil Fired Heater\",$G$55,0),1),0))),((IFERROR(OFFSET($G$69,MATCH(\"Fuel Oil Fired Heater\",$G$70,0),1),0))),((IFERROR(OFFSET($G$84,MATCH(\"Fuel Oil Fired Heater\",$G$85,0),1),0))),((IFERROR(OFFSET($G$99,MATCH(\"Fuel Oil Fired Heater\",$G$100,0),1),0))),((IFERROR(OFFSET($G$114,MATCH(\"Fuel Oil Fired Heater\",$G$115,0),1),0))),((IFERROR(OFFSET($G$129,MATCH(\"Fuel Oil Fired Heater\",$G$130,0),1),0))),((IFERROR(OFFSET($G$144,MATCH(\"Fuel Oil Fired Heater\",$G$145,0),1),0))),((IFERROR(OFFSET($G$159,MATCH(\"Fuel Oil Fired Heater\",$G$160,0),1),0))))","v":0},"gallons/hr",{"$f":"SUM((IFERROR(OFFSET($G$24,MATCH(\"Fuel Oil Fired Heater\",$G$25,0),2),0)),((IFERROR(OFFSET($G$39,MATCH(\"Fuel Oil Fired Heater\",$G$40,0),2),0))),((IFERROR(OFFSET($G$54,MATCH(\"Fuel Oil Fired Heater\",$G$55,0),2),0))),((IFERROR(OFFSET($G$69,MATCH(\"Fuel Oil Fired Heater\",$G$70,0),2),0))),((IFERROR(OFFSET($G$84,MATCH(\"Fuel Oil Fired Heater\",$G$85,0),2),0))),((IFERROR(OFFSET($G$99,MATCH(\"Fuel Oil Fired Heater\",$G$100,0),2),0))),((IFERROR(OFFSET($G$114,MATCH(\"Fuel Oil Fired Heater\",$G$115,0),2),0))),((IFERROR(OFFSET($G$129,MATCH(\"Fuel Oil Fired Heater\",$G$130,0),2),0))),((IFERROR(OFFSET($G$144,MATCH(\"Fuel Oil Fired Heater\",$G$145,0),2),0))),((IFERROR(OFFSET($G$159,MATCH(\"Fuel Oil Fired Heater\",$G$160,0),2),0))))","v":0},"gallons/yr"]
[null,"Plant Specific Operating Limits:",null,null,"Plant Specific Emission Limits:",null,null,null,null,null,null,null,"Waste Oil Fired Heater",{"$f":"MAX((IFERROR(OFFSET($G$24,MATCH(\"waste oil Fired Heater\",$G$25,0),1),0)),((IFERROR(OFFSET($G$39,MATCH(\"waste oil Fired Heater\",$G$40,0),1),0))),((IFERROR(OFFSET($G$54,MATCH(\"waste oil Fired Heater\",$G$55,0),1),0))),((IFERROR(OFFSET($G$69,MATCH(\"waste oil Fired Heater\",$G$70,0),1),0))),((IFERROR(OFFSET($G$84,MATCH(\"waste oil Fired Heater\",$G$85,0),1),0))),((IFERROR(OFFSET($G$99,MATCH(\"waste oil Fired Heater\",$G$100,0),1),0))),((IFERROR(OFFSET($G$114,MATCH(\"waste oil Fired Heater\",$G$115,0),1),0))),((IFERROR(OFFSET($G$129,MATCH(\"waste oil Fired Heater\",$G$130,0),1),0))),((IFERROR(OFFSET($G$144,MATCH(\"waste oil Fired Heater\",$G$145,0),1),0))),((IFERROR(OFFSET($G$159,MATCH(\"waste oil Fired Heater\",$G$160,0),1),0))))","v":0},"gallons/hr",{"$f":"SUM((IFERROR(OFFSET($G$24,MATCH(\"waste oil Fired Heater\",$G$25,0),2),0)),((IFERROR(OFFSET($G$39,MATCH(\"waste oil Fired Heater\",$G$40,0),2),0))),((IFERROR(OFFSET($G$54,MATCH(\"waste oil Fired Heater\",$G$55,0),2),0))),((IFERROR(OFFSET($G$69,MATCH(\"waste oil Fired Heater\",$G$70,0),2),0))),((IFERROR(OFFSET($G$84,MATCH(\"waste oil Fired Heater\",$G$85,0),2),0))),((IFERROR(OFFSET($G$99,MATCH(\"waste oil Fired Heater\",$G$100,0),2),0))),((IFERROR(OFFSET($G$114,MATCH(\"waste oil Fired Heater\",$G$115,0),2),0))),((IFERROR(OFFSET($G$129,MATCH(\"waste oil Fired Heater\",$G$130,0),2),0))),((IFERROR(OFFSET($G$144,MATCH(\"waste oil Fired Heater\",$G$145,0),2),0))),((IFERROR(OFFSET($G$159,MATCH(\"waste oil Fired Heater\",$G$160,0),2),0))))","v":0},"gallons/yr"]
[null,"Throughput Limit (tons/yr):",null,null,"Pollutant","lb/hr","tons/yr",null,null,null,null,null,"Natural Gas Fired Heater",{"$f":"MAX((IFERROR(OFFSET($G$24,MATCH(\"Natural Gas Fired Heater\",$G$25,0),1),0)),((IFERROR(OFFSET($G$39,MATCH(\"Natural Gas Fired Heater\",$G$40,0),1),0))),((IFERROR(OFFSET($G$54,MATCH(\"Natural Gas Fired Heater\",$G$55,0),1),0))),((IFERROR(OFFSET($G$69,MATCH(\"Natural Gas Fired Heater\",$G$70,0),1),0))),((IFERROR(OFFSET($G$84,MATCH(\"Natural Gas Fired Heater\",$G$85,0),1),0))),((IFERROR(OFFSET($G$99,MATCH(\"Natural Gas Fired Heater\",$G$100,0),1),0))),((IFERROR(OFFSET($G$114,MATCH(\"Natural Gas Fired Heater\",$G$115,0),1),0))),((IFERROR(OFFSET($G$129,MATCH(\"Natural Gas Fired Heater\",$G$130,0),1),0))),((IFERROR(OFFSET($G$144,MATCH(\"Natural Gas Fired Heater\",$G$145,0),1),0))),((IFERROR(OFFSET($G$159,MATCH(\"Natural Gas Fired Heater\",$G$160,0),1),0))))","v":0},"MMCF/hr",{"$f":"SUM((IFERROR(OFFSET($G$24,MATCH(\"Natural Gas Fired Heater\",$G$25,0),2),0)),((IFERROR(OFFSET($G$39,MATCH(\"Natural Gas Fired Heater\",$G$40,0),2),0))),((IFERROR(OFFSET($G$54,MATCH(\"Natural Gas Fired Heater\",$G$55,0),2),0))),((IFERROR(OFFSET($G$69,MATCH(\"Natural Gas Fired Heater\",$G$70,0),2),0))),((IFERROR(OFFSET($G$84,MATCH(\"Natural Gas Fired Heater\",$G$85,0),2),0))),((IFERROR(OFFSET($G$99,MATCH(\"Natural Gas Fired Heater\",$G$100,0),2),0))),((IFERROR(OFFSET($G$114,MATCH(\"Natural Gas Fired Heater\",$G$115,0),2),0))),((IFERROR(OFFSET($G$129,MATCH(\"Natural Gas Fired Heater\",$G$130,0),2),0))),((IFERROR(OFFSET($G$144,MATCH(\"Natural Gas Fired Heater\",$G$145,0),2),0))),((IFERROR(OFFSET($G$159,MATCH(\"Natural Gas Fired Heater\",$G$160,0),2),0))))","v":0},"MMCF/yr"]
[null,"Daily Throughput Limit (tons/day):",null,null,"PM2.5",null,null,null,null,null,null,null,"Silo Filling",{"$f":"MAX((IFERROR(OFFSET($G$26,MATCH(\"Silo Filling\",$G$27,0),1),0)),((IFERROR(OFFSET($G$41,MATCH(\"Silo Filling\",$G$42,0),1),0))),((IFERROR(OFFSET($G$56,MATCH(\"Silo Filling\",$G$57,0),1),0))),((IFERROR(OFFSET($G$71,MATCH(\"Silo Filling\",$G$72,0),1),0))),((IFERROR(OFFSET($G$86,MATCH(\"Silo Filling\",$G$87,0),1),0))),((IFERROR(OFFSET($G$101,MATCH(\"Silo Filling\",$G$102,0),1),0))),((IFERROR(OFFSET($G$116,MATCH(\"Silo Filling\",$G$117,0),1),0))),((IFERROR(OFFSET($G$131,MATCH(\"Silo Filling\",$G$132,0),1),0))),((IFERROR(OFFSET($G$146,MATCH(\"Silo Filling\",$G$147,0),1),0))),((IFERROR(OFFSET($G$161,MATCH(\"Silo Filling\",$G$162,0),1),0))))","v":0},"tons/hr",{"$f":"SUM((IFERROR(OFFSET($G$26,MATCH(\"Silo Filling\",$G$27,0),2),0)),((IFERROR(OFFSET($G$41,MATCH(\"Silo Filling\",$G$42,0),2),0))),((IFERROR(OFFSET($G$56,MATCH(\"Silo Filling\",$G$57,0),2),0))),((IFERROR(OFFSET($G$71,MATCH(\"Silo Filling\",$G$72,0),2),0))),((IFERROR(OFFSET($G$86,MATCH(\"Silo Filling\",$G$87,0),2),0))),((IFERROR(OFFSET($G$101,MATCH(\"Silo Filling\",$G$102,0),2),0))),((IFERROR(OFFSET($G$116,MATCH(\"Silo Filling\",$G$117,0),2),0))),((IFERROR(OFFSET($G$131,MATCH(\"Silo Filling\",$G$132,0),2),0))),((IFERROR(OFFSET($G$146,MATCH(\"Silo Filling\",$G$147,0),2),0))),((IFERROR(OFFSET($G$161,MATCH(\"Silo Filling\",$G$162,0),2),0))))","v":0},"tons/yr"]
[null,"Hours of Operation Limit (hours/day):",null,null,"PM10",null,null,null,null,null,null,null,"Truck Loadout",{"$f":"MAX((IFERROR(OFFSET(G27,MATCH(\"Truck Loadout\",G28,0),1),0)),((IFERROR(OFFSET(G42,MATCH(\"Truck Loadout\",G43,0),1),0))),((IFERROR(OFFSET(G57,MATCH(\"Truck Loadout\",G58,0),1),0))),((IFERROR(OFFSET(G72,MATCH(\"Truck Loadout\",G73,0),1),0))),((IFERROR(OFFSET(G87,MATCH(\"Truck Loadout\",G88,0),1),0))),((IFERROR(OFFSET(G102,MATCH(\"Truck Loadout\",G103,0),1),0))),((IFERROR(OFFSET(G117,MATCH(\"Truck Loadout\",G118,0),1),0))),((IFERROR(OFFSET(G132,MATCH(\"Truck Loadout\",G133,0),1),0))),((IFERROR(OFFSET(G147,MATCH(\"Truck Loadout\",G148,0),1),0))),((IFERROR(OFFSET(G162,MATCH(\"Truck Loadout\",G163,0),1),0))))","v":0},"tons/hr",{"$f":"SUM((IFERROR(OFFSET(G27,MATCH(\"Truck Loadout\",G28,0),2),0)),((IFERROR(OFFSET(G42,MATCH(\"Truck Loadout\",G43,0),2),0))),((IFERROR(OFFSET(G57,MATCH(\"Truck Loadout\",G58,0),2),0))),((IFERROR(OFFSET(G72,MATCH(\"Truck Loadout\",G73,0),2),0))),((IFERROR(OFFSET(G87,MATCH(\"Truck Loadout\",G88,0),2),0))),((IFERROR(OFFSET(G102,MATCH(\"Truck Loadout\",G103,0),2),0))),((IFERROR(OFFSET(G117,MATCH(\"Truck Loadout\",G118,0),2),0))),((IFERROR(OFFSET(G132,MATCH(\"Truck Loadout\",G133,0),2),0))),((IFERROR(OFFSET(G147,MATCH(\"Truck Loadout\",G148,0),2),0))),((IFERROR(OFFSET(G162,MATCH(\"Truck Loadout\",G163,0),2),0))))","v":0},"tons/yr"]
["Fuel Oil","Note: if the plant has an hrs/day and a tons/hr permit limit, those values should be multiplied together to calculate a tons/day limit and that value should be placed in cell C11.",null,null,"SO2",null,null,null,null,null,null,null,"Cold Aggregate Bins",{"$f":"MAX((IFERROR(OFFSET(G28,MATCH(\"Cold Aggregate Bins\",G29,0),1),0)),((IFERROR(OFFSET(G43,MATCH(\"Cold Aggregate Bins\",G44,0),1),0))),((IFERROR(OFFSET(G58,MATCH(\"Cold Aggregate Bins\",G59,0),1),0))),((IFERROR(OFFSET(G73,MATCH(\"Cold Aggregate Bins\",G74,0),1),0))),((IFERROR(OFFSET(G88,MATCH(\"Cold Aggregate Bins\",G89,0),1),0))),((IFERROR(OFFSET(G103,MATCH(\"Cold Aggregate Bins\",G104,0),1),0))),((IFERROR(OFFSET(G118,MATCH(\"Cold Aggregate Bins\",G119,0),1),0))),((IFERROR(OFFSET(G133,MATCH(\"Cold Aggregate Bins\",G134,0),1),0))),((IFERROR(OFFSET(G148,MATCH(\"Cold Aggregate Bins\",G149,0),1),0))),((IFERROR(OFFSET(G163,MATCH(\"Cold Aggregate Bins\",G164,0),1),0))))","v":0},"tons/hr",{"$f":"SUM((IFERROR(OFFSET(G28,MATCH(\"Cold Aggregate Bins\",G29,0),2),0)),((IFERROR(OFFSET(G43,MATCH(\"Cold Aggregate Bins\",G44,0),2),0))),((IFERROR(OFFSET(G58,MATCH(\"Cold Aggregate Bins\",G59,0),2),0))),((IFERROR(OFFSET(G73,MATCH(\"Cold Aggregate Bins\",G74,0),2),0))),((IFERROR(OFFSET(G88,MATCH(\"Cold Aggregate Bins\",G89,0),2),0))),((IFERROR(OFFSET(G103,MATCH(\"Cold Aggregate Bins\",G104,0),2),0))),((IFERROR(OFFSET(G118,MATCH(\"Cold Aggregate Bins\",G119,0),2),0))),((IFERROR(OFFSET(G133,MATCH(\"Cold Aggregate Bins\",G134,0),2),0))),((IFERROR(OFFSET(G148,MATCH(\"Cold Aggregate Bins\",G149,0),2),0))),((IFERROR(OFFSET(G163,MATCH(\"Cold Aggregate Bins\",G164,0),2),0))))","v":0},"tons/yr"]
["Natural Gas",null,null,null,"NOx",null,null,null,null,null,null,null,null,"Maximum (acres)","Actual (acres-day/yr)"]
["Waste Oil",null,null,null,"VOC",null,null,null,null,null,null,null,"Storage Pile",{"$f":"SUM(G33,G48,G63,G78,G93,G108,G123,G138,G153,G168,)","v":0},{"$f":"SUM(H33*I33,H48*I48,H63*I63,H78*I78,H93*I93,H108*I108,H123*I123,H138*I138,H153*I153,H168*I168)","v":0}]
[null,null,null,null,"CO"]
["Batch Mix Plant"]
["Drum Mix Plant",null,null,null,null,null,null,null,null,null,null,null,"Potential and Actual Emissions for the Listed Processes at this Plant"]
[null,null,null,null,null,null,null,null,null,null,null,null,null,"Maximum Design Rate (tons/hr)","Emission Factor","Units","Potential Uncontrolled Emissions (lb/hr)","Potential Controlled Emissions (lb/hr)","Potential Annual Emissions (tons/yr)","Actual Annual Emissions (tons/yr)"]
[null,"Asphalt Plant","Site 1",null,"Emission Point #","Emission     Unit #","Processes","Maximum Hourly     Design Rate",{"$f":"('Facility Information'!G5&\" Annual Throughput\")","v":" Annual Throughput"},null,null,null,"PM2.5"]
["YES",null,null,null,null,null,null,null,null,null,null,null,{"$f":"$C$5 & \" - Fuel Oil\"","v":" - Fuel Oil"},{"$f":"N5","v":0},{"$f":"IF(N21=0,0,IF(MAX((IFERROR(OFFSET($G$22,MATCH(M21,$G$23,0),3),0)),((IFERROR(OFFSET($G$37,MATCH(M21,$G$38,0),3),0))),((IFERROR(OFFSET($G$52,MATCH(M21,$G$53,0),3),0))),((IFERROR(OFFSET($G$67,MATCH(M21,$G$68,0),3),0))),((IFERROR(OFFSET($G$82,MATCH(M21,$G$83,0),3),0))),((IFERROR(OFFSET($G$97,MATCH(M21,$G$98,0),3),0))),((IFERROR(OFFSET($G$112,MATCH(M21,$G$113,0),3),0))),((IFERROR(OFFSET($G$127,MATCH(M21,$G$128,0),3),0))),((IFERROR(OFFSET($G$142,MATCH(M21,$G$143,0),3),0))),((IFERROR(OFFSET($G$157,MATCH(M21,$G$158,0),3),0))))=0,0,(MAX((IFERROR(OFFSET($G$22,MATCH(M21,$G$23,0),3),0)),((IFERROR(OFFSET($G$37,MATCH(M21,$G$38,0),3),0))),((IFERROR(OFFSET($G$52,MATCH(M21,$G$53,0),3),0))),((IFERROR(OFFSET($G$67,MATCH(M21,$G$68,0),3),0))),((IFERROR(OFFSET($G$82,MATCH(M21,$G$83,0),3),0))),((IFERROR(OFFSET($G$97,MATCH(M21,$G$98,0),3),0))),((IFERROR(OFFSET($G$112,MATCH(M21,$G$113,0),3),0))),((IFERROR(OFFSET($G$127,MATCH(M21,$G$128,0),3),0))),((IFERROR(OFFSET($G$142,MATCH(M21,$G$143,0),3),0))),((IFERROR(OFFSET($G$157,MATCH(M21,$G$158,0),3),0)))))))","v":0},{"$f":"IF(O21=\"\",\"\",\"lb/ton\")","v":"lb/ton"},{"$f":"IF(O21=0.27,N21*O21,IF(O21=1.54,N21*O21,\"\"))","v":""},{"$f":"IF(N21=0,\"\",IF(AND($F$11>0,$O$21>=$O$22,$O$21>=$O$23),$F$11,IF(O21=0.0083,N21*O21,IF(O21=0.007,N21*O21,\"\"))))","v":""},{"$f":"IF(N21=0,0,IF($G$11>0,$G$11,IF(AND(OR($C$10>0,$C$11>0,$C$12>0),$O$21>=$O$22,$O$21>=$O$23),(IF($C$10>0,$C$10*O21/2000,IF($C$11>0,$C$11*365*O21/2000,IF($C$12>0,$C$12*365*O21*N21/2000)))),IF(AND($F$11>0,$O$21>=$O$22,$O$21>=$O$23),$F$11*8760/2000,IF(AND(OR($C$10=\"\",$C$10=0),OR($C$11=\"\",$C$11=0),OR($C$12=\"\",$C$12=0),$F$11=\"\"),IF(R21=\"\",Q21*8760/2000,R21*8760/2000),\"\")))))","v":0},{"$f":"IF(N21=\"\",\"\",SUM((IFERROR(MATCH(M21,$G$23,0)*$I$23*$J$23/2000,0)),(IFERROR(MATCH(M21,$G$38,0)*$I$38*$J$38/2000,0)),(IFERROR(MATCH(M21,$G$53,0)*$I$53*$J$53/2000,0)),(IFERROR(MATCH(M21,$G$68,0)*$I$68*$J$68/2000,0)),(IFERROR(MATCH(M21,$G$83,0)*$I$83*$J$83/2000,0)),(IFERROR(MATCH(M21,$G$98,0)*$I$98*$J$98/2000,0)),(IFERROR(MATCH(M21,$G$113,0)*$I$113*$J$113/2000,0)),(IFERROR(MATCH(M21,$G$128,0)*$I$128*$J$128/2000,0)),(IFERROR(MATCH(M21,$G$143,0)*$I$143*$J$143/2000,0)),(IFERROR(MATCH(M21,$G$158,0)*$I$158*$J$158/2000,0))))","v":0}]
["NO","Site Name:",null,null,"Dryer, Hot Screens, Mixer",null,null,"(tons/hr)","(tons/yr)","PM2.5","PM10",null,{"$f":"$C$5 & \" - Waste Oil\"","v":" - Waste Oil"},{"$f":"N6","v":0},{"$f":"IF(N22=0,0,IF(MAX((IFERROR(OFFSET($G$22,MATCH(M22,$G$23,0),3),0)),((IFERROR(OFFSET($G$37,MATCH(M22,$G$38,0),3),0))),((IFERROR(OFFSET($G$52,MATCH(M22,$G$53,0),3),0))),((IFERROR(OFFSET($G$67,MATCH(M22,$G$68,0),3),0))),((IFERROR(OFFSET($G$82,MATCH(M22,$G$83,0),3),0))),((IFERROR(OFFSET($G$97,MATCH(M22,$G$98,0),3),0))),((IFERROR(OFFSET($G$112,MATCH(M22,$G$113,0),3),0))),((IFERROR(OFFSET($G$127,MATCH(M22,$G$128,0),3),0))),((IFERROR(OFFSET($G$142,MATCH(M22,$G$143,0),3),0))),((IFERROR(OFFSET($G$157,MATCH(M22,$G$158,0),3),0))))=0,0,(MAX((IFERROR(OFFSET($G$22,MATCH(M22,$G$23,0),3),0)),((IFERROR(OFFSET($G$37,MATCH(M22,$G$38,0),3),0))),((IFERROR(OFFSET($G$52,MATCH(M22,$G$53,0),3),0))),((IFERROR(OFFSET($G$67,MATCH(M22,$G$68,0),3),0))),((IFERROR(OFFSET($G$82,MATCH(M22,$G$83,0),3),0))),((IFERROR(OFFSET($G$97,MATCH(M22,$G$98,0),3),0))),((IFERROR(OFFSET($G$112,MATCH(M22,$G$113,0),3),0))),((IFERROR(OFFSET($G$127,MATCH(M22,$G$128,0),3),0))),((IFERROR(OFFSET($G$142,MATCH(M22,$G$143,0),3),0))),((IFERROR(OFFSET($G$157,MATCH(M22,$G$158,0),3),0)))))))","v":0},"lb/ton",{"$f":"IF(O22=0.27,N22*O22,IF(O22=1.54,N22*O22,\"\"))","v":""},{"$f":"IF(N22=0,\"\",IF(AND($F$11>0,$O$22>$O$21,$O$22>=$O$23),$F$11,IF(O22=0.0083,N22*O22,IF(O22=0.007,N22*O22,\"\"))))","v":""},{"$f":"IF(N22=0,0,IF($G$11>0,IF(S21=0,G11,\"\"),IF(AND(OR($C$10>0,$C$11>0,$C$12>0),$O$22>$O$21,$O$22>=$O$23),(IF($C$10>0,$C$10*O22/2000,IF($C$11>0,$C$11*365*O22/2000,IF($C$12>0,$C$12*365*O22*N22/2000)))),IF(AND($F$11>0,$O$22>$O$21,$O$22>=$O$23),$F$11*8760/2000,IF(AND(OR($C$10=\"\",$C$10=0),OR($C$11=\"\",$C$11=0),OR($C$12=\"\",$C$12=0),$F$11=\"\"),IF(R22=\"\",Q22*8760/2000,R22*8760/2000),\"\")))))","v":0},{"$f":"IF(N22=\"\",\"\",SUM((IFERROR(MATCH(M22,$G$23,0)*$I$23*$J$23/2000,0)),(IFERROR(MATCH(M22,$G$38,0)*$I$38*$J$38/2000,0)),(IFERROR(MATCH(M22,$G$53,0)*$I$53*$J$53/2000,0)),(IFERROR(MATCH(M22,$G$68,0)*$I$68*$J$68/2000,0)),(IFERROR(MATCH(M22,$G$83,0)*$I$83*$J$83/2000,0)),(IFERROR(MATCH(M22,$G$98,0)*$I$98*$J$98/2000,0)),(IFERROR(MATCH(M22,$G$113,0)*$I$113*$J$113/2000,0)),(IFERROR(MATCH(M22,$G$128,0)*$I$128*$J$128/2000,0)),(IFERROR(MATCH(M22,$G$143,0)*$I$143*$J$143/2000,0)),(IFERROR(MATCH(M22,$G$158,0)*$I$158*$J$158/2000,0))))","v":0}]
[null,"County:",null,null,{"$f":"IF($C$4>0,\"AP-1 EP-1\",\"\")","v":""},{"$f":"IF($C$4>0,\"AP-1 EU-1\",\"\")","v":""},{"$f":"IF(C25=\"\",\"\",C5 & \" - \"&C25)","v":""},null,null,{"$f":"IF(C26=\"\",\"\",IF(C26=\"yes\",LOOKUP(G23,'Emission Factors'!$A$12:$A$17,'Emission Factors'!$D$12:$D$17),LOOKUP(G23,'Emission Factors'!$A$5:$A$10,'Emission Factors'!$D$5:$D$10)))","v":""},{"$f":"IF(C26=\"\",\"\",IF(C26=\"yes\",LOOKUP(G23,'Emission Factors'!$A$12:$A$17,'Emission Factors'!$F$12:$F$17),LOOKUP(G23,'Emission Factors'!$A$5:$A$10,'Emission Factors'!$F$5:$F$10)))","v":""},null,{"$f":"$C$5 & \" - Natural Gas\"","v":" - Natural Gas"},{"$f":"N7","v":0},{"$f":"IF(N23=0,0,IF(MAX((IFERROR(OFFSET($G$22,MATCH(M23,$G$23,0),3),0)),((IFERROR(OFFSET($G$37,MATCH(M23,$G$38,0),3),0))),((IFERROR(OFFSET($G$52,MATCH(M23,$G$53,0),3),0))),((IFERROR(OFFSET($G$67,MATCH(M23,$G$68,0),3),0))),((IFERROR(OFFSET($G$82,MATCH(M23,$G$83,0),3),0))),((IFERROR(OFFSET($G$97,MATCH(M23,$G$98,0),3),0))),((IFERROR(OFFSET($G$112,MATCH(M23,$G$113,0),3),0))),((IFERROR(OFFSET($G$127,MATCH(M23,$G$128,0),3),0))),((IFERROR(OFFSET($G$142,MATCH(M23,$G$143,0),3),0))),((IFERROR(OFFSET($G$157,MATCH(M23,$G$158,0),3),0))))=0,0,(MAX((IFERROR(OFFSET($G$22,MATCH(M23,$G$23,0),3),0)),((IFERROR(OFFSET($G$37,MATCH(M23,$G$38,0),3),0))),((IFERROR(OFFSET($G$52,MATCH(M23,$G$53,0),3),0))),((IFERROR(OFFSET($G$67,MATCH(M23,$G$68,0),3),0))),((IFERROR(OFFSET($G$82,MATCH(M23,$G$83,0),3),0))),((IFERROR(OFFSET($G$97,MATCH(M23,$G$98,0),3),0))),((IFERROR(OFFSET($G$112,MATCH(M23,$G$113,0),3),0))),((IFERROR(OFFSET($G$127,MATCH(M23,$G$128,0),3),0))),((IFERROR(OFFSET($G$142,MATCH(M23,$G$143,0),3),0))),((IFERROR(OFFSET($G$157,MATCH(M23,$G$158,0),3),0)))))))","v":0},"lb/ton",{"$f":"IF(O23=0.27,N23*O23,IF(O23=1.54,N23*O23,\"\"))","v":""},{"$f":"IF(N23=0,\"\",IF(AND($F$11>0,$O$23>$O$21,$O$23>$O$21),$F$11,IF(O23=0.0083,N23*O23,IF(O23=0.007,N23*O23,\"\"))))","v":""},{"$f":"IF(N23=0,0,IF($G$11>0,IF(AND(S21=0,S22=0),\"\"),IF(AND(OR($C$10>0,$C$11>0,$C$12>0),$O$23>$O$21,$O$23>$O$21),(IF($C$10>0,$C$10*O23/2000,IF($C$11>0,$C$11*365*O23/2000,IF($C$12>0,$C$12*365*O23*N23/2000)))),IF(AND($F$11>0,$O$23>$O$21,$O$23>$O$21),$F$11*8760/2000,IF(AND(OR($C$10=\"\",$C$10=0),OR($C$11=\"\",$C$11=0),OR($C$12=\"\",$C$12=0),$F$11=\"\"),IF(R23=\"\",Q23*8760/2000,R23*8760/2000),\"\")))))","v":0},{"$f":"IF(N23=\"\",\"\",SUM((IFERROR(MATCH(M23,$G$23,0)*$I$23*$J$23/2000,0)),(IFERROR(MATCH(M23,$G$38,0)*$I$38*$J$38/2000,0)),(IFERROR(MATCH(M23,$G$53,0)*$I$53*$J$53/2000,0)),(IFERROR(MATCH(M23,$G$68,0)*$I$68*$J$68/2000,0)),(IFERROR(MATCH(M23,$G$83,0)*$I$83*$J$83/2000,0)),(IFERROR(MATCH(M23,$G$98,0)*$I$98*$J$98/2000,0)),(IFERROR(MATCH(M23,$G$113,0)*$I$113*$J$113/2000,0)),(IFERROR(MATCH(M23,$G$128,0)*$I$128*$J$128/2000,0)),(IFERROR(MATCH(M23,$G$143,0)*$I$143*$J$143/2000,0)),(IFERROR(MATCH(M23,$G$158,0)*$I$158*$J$158/2000,0))))","v":0}]
[null,"Production Period (Dates):",null,null,"Liquid Asphalt Heater",null,null,{"$f":"IF(C25=\"natural gas\", \"(MMCF/hr)\",\"(gallons/hr)\")","v":"(gallons/hr)"},{"$f":"IF(C25=\"natural gas\", \"(MMCF/yr)\",\"(gallons/yr)\")","v":"(gallons/yr)"},null,null,null,"Silo Filling",{"$f":"N11","v":0},{"$f":"IF(N24=0,0,IF(N24=0,0,LOOKUP(M24,'Emission Factors'!$A$23:$A$25,'Emission Factors'!$D$23:$D$25)))","v":0},"lb/ton",{"$f":"N24*O24","v":0},null,{"$f":"IF($G$11>0,\"\",IF($C$10>0,$C$10*O24/2000,IF($C$11>0,$C$11*365*O24/2000,IF($C$12>0,$C$12*365*O24*N24/2000,IF($F$11>0,\"\",IF(R24=\"\",Q24*8760/2000,R24*8760/2000))))))","v":0},{"$f":"(P11*O24/2000)","v":0}]
[null,"Type of Fuel Used:",null,null,{"$f":"IF($C$4>0,\"AP-1 EP-2\",\"\")","v":""},{"$f":"IF($C$4>0,\"AP-1 EU-2\",\"\")","v":""},{"$f":"IF(C25=\"\",\"\",C25& \" Fired Heater\")","v":""},null,null,null,null,null,"Truck Loadout",{"$f":"N12","v":0},{"$f":"IF(N25=0,0,IF(N25=0,0,LOOKUP(M25,'Emission Factors'!$A$23:$A$25,'Emission Factors'!$D$23:$D$25)))","v":0},"lb/ton",{"$f":"N25*O25","v":0},null,{"$f":"IF($G$11>0,\"\",IF($C$10>0,$C$10*O25/2000,IF($C$11>0,$C$11*365*O25/2000,IF($C$12>0,$C$12*365*O25*N25/2000,IF($F$11>0,\"\",IF(R25=\"\",Q25*8760/2000,R25*8760/2000))))))","v":0},{"$f":"(P12*O25/2000)","v":0}]
[null,"Is Your Operation Controlled?:",null,null,"Silo Filling, Truck Loadout, Aggregate Transfer",null,null,"(tons/hr)","(tons/yr)",null,null,null,"Cold Aggregate Bins",{"$f":"N13","v":0},{"$f":"IF(N26=0,0,IF(N26=0,0,LOOKUP(M26,'Emission Factors'!A23:A25,'Emission Factors'!D23:D25)))","v":0},"lb/ton",{"$f":"N26*O26","v":0},null,{"$f":"IF($G$11>0,\"\",IF($C$10>0,$C$10*O26/2000,IF($C$11>0,$C$11*365*O26/2000,IF($C$12>0,$C$12*365*O26*N26/2000,IF($F$11>0,\"\",IF(R26=\"\",Q26*8760/2000,R26*8760/2000))))))","v":0},{"$f":"(P13*O26/2000)","v":0}]
[null,null,null,null,{"$f":"IF($C$4>0,\"AP-1 EP-3\",\"\")","v":""},{"$f":"IF($C$4>0,\"AP-1 EU-3\",\"\")","v":""},{"$f":"IF(C5=\"\",\"\",\"Silo Filling\")","v":""},null,null,null,null,null,"PM10"]
[null,null,null,null,{"$f":"IF($C$4>0,\"AP-1 EP-3\",\"\")","v":""},{"$f":"IF($C$4>0,\"AP-1 EU-4\",\"\")","v":""},{"$f":"IF(C5=\"\",\"\",\"Truck Loadout\")","v":""},null,null,null,null,null,{"$f":"$C$5 & \" - Fuel Oil\"","v":" - Fuel Oil"},{"$f":"N5","v":0},{"$f":"IF(N28=0,0,IF(MAX((IFERROR(OFFSET($G$22,MATCH(M28,$G$23,0),4),0)),((IFERROR(OFFSET($G$37,MATCH(M28,$G$38,0),4),0))),((IFERROR(OFFSET($G$52,MATCH(M28,$G$53,0),4),0))),((IFERROR(OFFSET($G$67,MATCH(M28,$G$68,0),4),0))),((IFERROR(OFFSET($G$82,MATCH(M28,$G$83,0),3),0))),((IFERROR(OFFSET($G$97,MATCH(M28,$G$98,0),4),0))),((IFERROR(OFFSET($G$112,MATCH(M28,$G$113,0),4),0))),((IFERROR(OFFSET($G$127,MATCH(M28,$G$128,0),4),0))),((IFERROR(OFFSET($G$142,MATCH(M28,$G$143,0),4),0))),((IFERROR(OFFSET($G$157,MATCH(M28,$G$158,0),4),0))))=0,0,(MAX((IFERROR(OFFSET($G$22,MATCH(M28,$G$23,0),4),0)),((IFERROR(OFFSET($G$37,MATCH(M28,$G$38,0),4),0))),((IFERROR(OFFSET($G$52,MATCH(M28,$G$53,0),4),0))),((IFERROR(OFFSET($G$67,MATCH(M28,$G$68,0),4),0))),((IFERROR(OFFSET($G$82,MATCH(M28,$G$83,0),4),0))),((IFERROR(OFFSET($G$97,MATCH(M28,$G$98,0),4),0))),((IFERROR(OFFSET($G$112,MATCH(M28,$G$113,0),4),0))),((IFERROR(OFFSET($G$127,MATCH(M28,$G$128,0),4),0))),((IFERROR(OFFSET($G$142,MATCH(M28,$G$143,0),4),0))),((IFERROR(OFFSET($G$157,MATCH(M28,$G$158,0),4),0)))))))","v":0},{"$f":"IF(O28=\"\",\"\",\"lb/ton\")","v":"lb/ton"},{"$f":"IF(O28=4.5,N28*O28,IF(O28=6.5,N28*O28,\"\"))","v":""},{"$f":"IF(N28=0,\"\",IF(AND($F$12>0,$O$28>=$O$29,$O$28>=$O$30),$F$12,IF(O28=0.0098,N28*O28,IF(O28=0.023,N28*O28,\"\"))))","v":""},{"$f":"IF(N28=0,0,IF($G$12>0,$G$12,IF(AND(OR($C$10>0,$C$11>0,$C$12>0),$O$28>=$O$29,$O$28>=$O$30),(IF($C$10>0,$C$10*O28/2000,IF($C$11>0,$C$11*365*O28/2000,IF($C$12>0,$C$12*365*O28*N28/2000)))),IF(AND($F$12>0,$O$28>=$O$29,$O$28>=$O$30),$F$12*8760/2000,IF(AND(OR($C$10=\"\",$C$10=0),OR($C$11=\"\",$C$11=0),OR($C$12=\"\",$C$12=0),$F$12=\"\"),IF(R28=\"\",Q28*8760/2000,R28*8760/2000),\"\")))))","v":0},{"$f":"IF(N28=\"\",\"\",SUM((IFERROR(MATCH(M28,$G$23,0)*$I$23*$K$23/2000,0)),(IFERROR(MATCH(M28,$G$38,0)*$I$38*$K$38/2000,0)),(IFERROR(MATCH(M28,$G$53,0)*$I$53*$K$53/2000,0)),(IFERROR(MATCH(M28,$G$68,0)*$I$68*$K$68/2000,0)),(IFERROR(MATCH(M28,$G$83,0)*$I$83*$K$83/2000,0)),(IFERROR(MATCH(M28,$G$98,0)*$I$98*$K$98/2000,0)),(IFERROR(MATCH(M28,$G$113,0)*$I$113*$K$113/2000,0)),(IFERROR(MATCH(M28,$G$128,0)*$I$128*$K$128/2000,0)),(IFERROR(MATCH(M28,$G$143,0)*$I$143*$K$143/2000,0)),(IFERROR(MATCH(M28,$G$158,0)*$I$158*$K$158/2000,0))))","v":0}]
[null,null,null,null,{"$f":"IF($C$4>0,\"AP-1 EP-3\",\"\")","v":""},{"$f":"IF($C$4>0,\"AP-1 EU-5\",\"\")","v":""},{"$f":"IF(C5=\"\",\"\",\"Cold Aggregate Bins\")","v":""},null,null,null,null,null,{"$f":"$C$5 & \" - Waste Oil\"","v":" - Waste Oil"},{"$f":"N6","v":0},{"$f":"IF(N29=0,0,IF(MAX((IFERROR(OFFSET($G$22,MATCH(M29,$G$23,0),4),0)),((IFERROR(OFFSET($G$37,MATCH(M29,$G$38,0),4),0))),((IFERROR(OFFSET($G$52,MATCH(M29,$G$53,0),4),0))),((IFERROR(OFFSET($G$67,MATCH(M29,$G$68,0),4),0))),((IFERROR(OFFSET($G$82,MATCH(M29,$G$83,0),3),0))),((IFERROR(OFFSET($G$97,MATCH(M29,$G$98,0),4),0))),((IFERROR(OFFSET($G$112,MATCH(M29,$G$113,0),4),0))),((IFERROR(OFFSET($G$127,MATCH(M29,$G$128,0),4),0))),((IFERROR(OFFSET($G$142,MATCH(M29,$G$143,0),4),0))),((IFERROR(OFFSET($G$157,MATCH(M29,$G$158,0),4),0))))=0,0,(MAX((IFERROR(OFFSET($G$22,MATCH(M29,$G$23,0),4),0)),((IFERROR(OFFSET($G$37,MATCH(M29,$G$38,0),4),0))),((IFERROR(OFFSET($G$52,MATCH(M29,$G$53,0),4),0))),((IFERROR(OFFSET($G$67,MATCH(M29,$G$68,0),4),0))),((IFERROR(OFFSET($G$82,MATCH(M29,$G$83,0),4),0))),((IFERROR(OFFSET($G$97,MATCH(M29,$G$98,0),4),0))),((IFERROR(OFFSET($G$112,MATCH(M29,$G$113,0),4),0))),((IFERROR(OFFSET($G$127,MATCH(M29,$G$128,0),4),0))),((IFERROR(OFFSET($G$142,MATCH(M29,$G$143,0),4),0))),((IFERROR(OFFSET($G$157,MATCH(M29,$G$158,0),4),0)))))))","v":0},"lb/ton",{"$f":"IF(O29=4.5,N29*O29,IF(O29=6.5,N29*O29,\"\"))","v":""},{"$f":"IF(N29=0,\"\",IF(AND($F$12>0,$O$29>$O$28,$O$29>=$O$30),$F$12,IF(O29=0.0098,N29*O29,IF(O29=0.023,N29*O29,\"\"))))","v":""},{"$f":"IF(N29=0,0,IF($G$12>0,IF(S28=0,$G$12,\"\"),IF(AND(OR($C$10>0,$C$11>0,$C$12>0),$O$29>$O$28,$O$29>=$O$30),(IF($C$10>0,$C$10*O29/2000,IF($C$11>0,$C$11*365*O29/2000,IF($C$12>0,$C$12*365*O29*N29/2000)))),IF(AND($F$12>0,$O$29>$O$28,$O$29>=$O$30),$F$12*8760/2000,IF(AND(OR($C$10=\"\",$C$10=0),OR($C$11=\"\",$C$11=0),OR($C$12=\"\",$C$12=0),$F$12=\"\"),IF(R29=\"\",Q29*8760/2000,R29*8760/2000),\"\")))))","v":0},{"$f":"IF(N29=\"\",\"\",SUM((IFERROR(MATCH(M29,$G$23,0)*$I$23*$K$23/2000,0)),(IFERROR(MATCH(M29,$G$38,0)*$I$38*$K$38/2000,0)),(IFERROR(MATCH(M29,$G$53,0)*$I$53*$K$53/2000,0)),(IFERROR(MATCH(M29,$G$68,0)*$I$68*$K$68/2000,0)),(IFERROR(MATCH(M29,$G$83,0)*$I$83*$K$83/2000,0)),(IFERROR(MATCH(M29,$G$98,0)*$I$98*$K$98/2000,0)),(IFERROR(MATCH(M29,$G$113,0)*$I$113*$K$113/2000,0)),(IFERROR(MATCH(M29,$G$128,0)*$I$128*$K$128/2000,0)),(IFERROR(MATCH(M29,$G$143,0)*$I$143*$K$143/2000,0)),(IFERROR(MATCH(M29,$G$158,0)*$I$158*$K$158/2000,0))))","v":0}]
[null,null,null,null,null,null,null,null,null,null,null,null,{"$f":"$C$5 & \" - Natural Gas\"","v":" - Natural Gas"},{"$f":"N7","v":0},{"$f":"IF(N30=0,0,IF(MAX((IFERROR(OFFSET($G$22,MATCH(M30,$G$23,0),4),0)),((IFERROR(OFFSET($G$37,MATCH(M30,$G$38,0),4),0))),((IFERROR(OFFSET($G$52,MATCH(M30,$G$53,0),4),0))),((IFERROR(OFFSET($G$67,MATCH(M30,$G$68,0),4),0))),((IFERROR(OFFSET($G$82,MATCH(M30,$G$83,0),3),0))),((IFERROR(OFFSET($G$97,MATCH(M30,$G$98,0),4),0))),((IFERROR(OFFSET($G$112,MATCH(M30,$G$113,0),4),0))),((IFERROR(OFFSET($G$127,MATCH(M30,$G$128,0),4),0))),((IFERROR(OFFSET($G$142,MATCH(M30,$G$143,0),4),0))),((IFERROR(OFFSET($G$157,MATCH(M30,$G$158,0),4),0))))=0,0,(MAX((IFERROR(OFFSET($G$22,MATCH(M30,$G$23,0),4),0)),((IFERROR(OFFSET($G$37,MATCH(M30,$G$38,0),4),0))),((IFERROR(OFFSET($G$52,MATCH(M30,$G$53,0),4),0))),((IFERROR(OFFSET($G$67,MATCH(M30,$G$68,0),4),0))),((IFERROR(OFFSET($G$82,MATCH(M30,$G$83,0),4),0))),((IFERROR(OFFSET($G$97,MATCH(M30,$G$98,0),4),0))),((IFERROR(OFFSET($G$112,MATCH(M30,$G$113,0),4),0))),((IFERROR(OFFSET($G$127,MATCH(M30,$G$128,0),4),0))),((IFERROR(OFFSET($G$142,MATCH(M30,$G$143,0),4),0))),((IFERROR(OFFSET($G$157,MATCH(M30,$G$158,0),4),0)))))))","v":0},"lb/ton",{"$f":"IF(O30=4.5,N30*O30,IF(O30=6.5,N30*O30,\"\"))","v":""},{"$f":"IF(N30=0,\"\",IF(AND($F$12>0,$O$30>$O$28,$O$30>$O$29),$F$12,IF(O30=0.0098,N30*O30,IF(O30=0.023,N30*O30,\"\"))))","v":""},{"$f":"IF(N30=0,0,IF($G$12>0,IF(AND(S28=0,S29=0),$G$12,\"\"),IF(AND(OR($C$10>0,$C$11>0,$C$12>0),$O$30>$O$28,$O$30>$O$29),(IF($C$10>0,$C$10*O30/2000,IF($C$11>0,$C$11*365*O30/2000,IF($C$12>0,$C$12*365*O30*N30/2000)))),IF(AND($F$12>0,$O$30>$O$28,$O$30>$O$29),$F$12*8760/2000,IF(AND(OR($C$10=\"\",$C$10=0),OR($C$11=\"\",$C$11=0),OR($C$12=\"\",$C$12=0),$F$12=\"\"),IF(R30=\"\",Q30*8760/2000,R30*8760/2000),\"\")))))","v":0},{"$f":"IF(N30=\"\",\"\",SUM((IFERROR(MATCH(M30,$G$23,0)*$I$23*$K$23/2000,0)),(IFERROR(MATCH(M30,$G$38,0)*$I$38*$K$38/2000,0)),(IFERROR(MATCH(M30,$G$53,0)*$I$53*$K$53/2000,0)),(IFERROR(MATCH(M30,$G$68,0)*$I$68*$K$68/2000,0)),(IFERROR(MATCH(M30,$G$83,0)*$I$83*$K$83/2000,0)),(IFERROR(MATCH(M30,$G$98,0)*$I$98*$K$98/2000,0)),(IFERROR(MATCH(M30,$G$113,0)*$I$113*$K$113/2000,0)),(IFERROR(MATCH(M30,$G$128,0)*$I$128*$K$128/2000,0)),(IFERROR(MATCH(M30,$G$143,0)*$I$143*$K$143/2000,0)),(IFERROR(MATCH(M30,$G$158,0)*$I$158*$K$158/2000,0))))","v":0}]
[null,null,null,null,"Stock Pile Area",null,null,null,null,null,null,null,"Silo Filling",{"$f":"N11","v":0},{"$f":"IF(N31=0,0,IF(N31=0,0,LOOKUP(M31,'Emission Factors'!$A$23:$A$25,'Emission Factors'!$F$23:$F$25)))","v":0},"lb/ton",{"$f":"N31*O31","v":0},null,{"$f":"IF($G$12>0,\"\",IF($C$10>0,$C$10*O31/2000,IF($C$11>0,$C$11*365*O31/2000,IF($C$12>0,$C$12*365*O31*N31/2000,IF($F$11>0,\"\",IF(R31=\"\",Q31*8760/2000,R31*8760/2000))))))","v":0},{"$f":"(P11*O31/2000)","v":0}]
[null,null,null,null,null,"Emission Unit #","Maximum Storage Area (acres)","Actual Storage Area (acres)","Actual Days in Existence (days)",null,null,null,"Truck Loadout",{"$f":"N12","v":0},{"$f":"IF(N32=0,0,IF(N32=0,0,LOOKUP(M32,'Emission Factors'!$A$23:$A$25,'Emission Factors'!$F$23:$F$25)))","v":0},"lb/ton",{"$f":"N32*O32","v":0},null,{"$f":"IF($G$12>0,\"\",IF($C$10>0,$C$10*O32/2000,IF($C$11>0,$C$11*365*O32/2000,IF($C$12>0,$C$12*365*O32*N32/2000,IF($F$11>0,\"\",IF(R32=\"\",Q32*8760/2000,R32*8760/2000))))))","v":0},{"$f":"(P12*O32/2000)","v":0}]
[null,null,null,null,null,null,null,null,null,null,null,null,"Cold Aggregate Bins",{"$f":"N13","v":0},{"$f":"IF(N33=0,0,IF(N33=0,0,LOOKUP(M33,'Emission Factors'!$A$23:$A$25,'Emission Factors'!$F$23:$F$25)))","v":0},"lb/ton",{"$f":"N33*O33","v":0},null,{"$f":"IF($G$12>0,\"\",IF($C$10>0,$C$10*O33/2000,IF($C$11>0,$C$11*365*O33/2000,IF($C$12>0,$C$12*365*O33*N33/2000,IF($F$11>0,\"\",IF(R33=\"\",Q33*8760/2000,R33*8760/2000))))))","v":0},{"$f":"(P13*O33/2000)","v":0}]
[]
[null,{"$f":"IF($C$4>1,\"Asphalt Plant\",\"\")","v":""},{"$f":"IF($C$4>1,\"Site 2\",\"\")","v":""},null,{"$f":"IF($C$4>1,\"Emission Point #\",\"\")","v":""},{"$f":"IF($C$4>1,\"Emission    Unit #\",\"\")","v":""},{"$f":"IF($C$4>1,\"Process\",\"\")","v":""},{"$f":"IF($C$4>1,\"Maximum Hourly     Design Rate\",\"\")","v":""},{"$f":"IF($C$4>1,('Facility Information'!G20&\" Annual Throughput\"),\"\")","v":""},null,null,null,null,null,"Max Design Rate (acres)","Emission Factor   (lb/acre-day)","Potential Uncontrolled Emissions (lb/hr)","Potential Controlled Emissions (lb/hr)","Potential Annual Emissions (tons/yr)","Actual Annual Emissions (tons/yr)"]
[null,null,null,null,null,null,null,null,null,null,null,null,null,"Storage Pile"]
[null,{"$f":"IF($C$4>1,\"Site Name\",\"\")","v":""},null,null,{"$f":"IF($C$4>1,\"Dryers, Hot Screens, Mixer\",\"\")","v":""},null,null,{"$f":"IF($C$4>1,\"(tons/hr)\",\"\")","v":""},{"$f":"IF($C$4>1,\"(tons/yr)\",\"\")","v":""},"PM2.5","PM10",null,null,"PM2.5/PM10",{"$f":"N15","v":0},3.64,{"$f":"O37*P37*(1/24)","v":0},null,{"$f":"O37*P37*365/2000","v":0},{"$f":"O15*P37/2000","v":0}]
[null,{"$f":"IF($C$4>1,\"County:\",\"\")","v":""},null,null,{"$f":"IF(C40=\"\",\"\",\"AP-1 EP-1\")","v":""},{"$f":"IF(C40=\"\",\"\",\"AP-1 EU-1\")","v":""},{"$f":"IF(C40=\"\",\"\",C5 & \" - \"&C40)","v":""},null,null,{"$f":"IF(C41=\"\",\"\",IF(C41=\"yes\",LOOKUP(G38,'Emission Factors'!$A$12:$A$17,'Emission Factors'!$D$12:$D$17),LOOKUP(G38,'Emission Factors'!$A$5:$A$10,'Emission Factors'!$D$5:$D$10)))","v":""},{"$f":"IF(C41=\"\",\"\",IF(C41=\"yes\",LOOKUP(G38,'Emission Factors'!$A$12:$A$17,'Emission Factors'!$F$12:$F$17),LOOKUP(G38,'Emission Factors'!$A$5:$A$10,'Emission Factors'!$F$5:$F$10)))","v":""}]
[null,{"$f":"IF($C$4>1,\"Production Period (Dates):\",\"\")","v":""},null,null,{"$f":"IF($C$4>1,\"Liquid Asphalt Heater\",\"\")","v":""},null,null,{"$f":"IF($C$4>1,IF(C40=\"natural gas\",\"MMCF/hr\",\"(gallons/hr)\"),\"\")","v":""},{"$f":"IF($C$4>1,IF(C40=\"natural gas\",\"MMCF/yr\",\"(gallons/yr)\"),\"\")","v":""},null,null,null,"SO2"]
[null,{"$f":"IF($C$4>1,\"Type of Fuel Used:\",\"\")","v":""},null,null,{"$f":"IF(C40=\"\",\"\",\"AP-1 EP-2\")","v":""},{"$f":"IF(C40=\"\",\"\",\"AP-1 EU-2\")","v":""},{"$f":"IF(C40=\"\",\"\",C40& \" Fired Heater\")","v":""},null,null,null,null,null,{"$f":"$C$5 & \" - Fuel Oil\"","v":" - Fuel Oil"},{"$f":"$N$5","v":0},{"$f":"IF(N40=0,0,LOOKUP(M40,'Emission Factors'!$A$5:$A$10,'Emission Factors'!$H$5:$H$10))","v":0},{"$f":"IF(O40=\"\",\"\",\"lb/ton\")","v":"lb/ton"},{"$f":"N40*O40","v":0},{"$f":"IF(N40=0,\"\",IF(AND($F$13>0,N41=0),$F$13,\"\"))","v":""},{"$f":"IF(N40=0,0,IF($G$13>0,$G$13,IF(OR(AND($C$10>0,$N$41>0),AND($C$11>0,$N$41>0),AND($C$12>0,$N$41>0)),\"\",IF($C$10>0,$C$10*O40/2000,IF($C$11>0,$C$11*365*O40/2000,IF($C$12>0,$C$12*365*O40*N40/2000,IF(AND(N41>0,F13>0),\"\",IF(R40=\"\",Q40*8760/2000,R40*8760/2000))))))))","v":0},{"$f":"P5*O40/2000","v":0}]
[null,{"$f":"IF($C$4>1,\"Is Your Operation Controlled?:\",\"\")","v":""},null,null,{"$f":"IF($C$4>1,\"Silo Filling, Truck Loadout, Aggregate Transfer\",\"\")","v":""},null,null,{"$f":"IF($C$4>1,\"(tons/hr)\",\"\")","v":""},{"$f":"IF($C$4>1,\"(tons/yr)\",\"\")","v":""},null,null,null,{"$f":"$C$5 & \" - Waste Oil\"","v":" - Waste Oil"},{"$f":"$N$6","v":0},{"$f":"IF(N41=0,0,LOOKUP(M41,'Emission Factors'!$A$5:$A$10,'Emission Factors'!$H$5:$H$10))","v":0},{"$f":"IF(O41=\"\",\"\",\"lb/ton\")","v":"lb/ton"},{"$f":"N41*O41","v":0},{"$f":"IF(N41=0,\"\",IF($F$13>0,$F$13,\"\"))","v":""},{"$f":"IF(N41=0,0,IF($G$13>0,IF(S40=0,G13,\"\"),IF($C$10>0,$C$10*O41/2000,IF($C$11>0,$C$11*365*O41/2000,IF($C$12>0,$C$12*365*O41*N41/2000,IF(R41=\"\",Q41*8760/2000,R41*8760/2000))))))","v":0},{"$f":"P6*O41/2000","v":0}]
[null,null,null,null,{"$f":"IF($C$4>1,\"AP-1 EP-3\",\"\")","v":""},{"$f":"IF($C$4>1,\"AP-1 EU-3\",\"\")","v":""},{"$f":"IF($C$4>1,\"Silo Filling\",\"\")","v":""},null,null,null,null,null,{"$f":"$C$5 & \" - Natural Gas\"","v":" - Natural Gas"},{"$f":"$N$7","v":0},{"$f":"IF(N42=0,0,LOOKUP(M42,'Emission Factors'!$A$5:$A$10,'Emission Factors'!$H$5:$H$10))","v":0},{"$f":"IF(O42=\"\",\"\",\"lb/ton\")","v":"lb/ton"},{"$f":"N42*O42","v":0},{"$f":"IF(N42=0,\"\",IF(AND($F$13>0,N40=0,N41=0),$F$13,\"\"))","v":""},{"$f":"IF(N42=0,0,IF($G$13>0,IF(AND(S40=0,S41=0),G13,\"\"),IF(OR(AND($C$10>0,$N$41>0),AND($C$11>0,$N$41>0),AND($C$12>0,$N$41>0)),\"\",IF(OR(AND($C$10>0,$N$40>0),AND($C$11>0,$N$40>0),AND($C$12>0,$N$40>0)),\"\",IF($C$10>0,$C$10*O42/2000,IF($C$11>0,$C$11*365*O42/2000,IF($C$12>0,$C$12*365*O42*N42/2000,IF(AND(N41>0,N40>0,F13>0),\"\",IF(R42=\"\",Q42*8760/2000,R42*8760/2000)))))))))","v":0},{"$f":"P7*O42/2000","v":0}]
[null,null,null,null,{"$f":"IF($C$4>1,\"AP-1 EP-3\",\"\")","v":""},{"$f":"IF($C$4>1,\"AP-1 EU-4\",\"\")","v":""},{"$f":"IF($C$4>1,\"Truck Loadout\",\"\")","v":""},null,null,null,null,null,"NOx"]
[null,null,null,null,{"$f":"IF($C$4>1,\"AP-1 EP-3\",\"\")","v":""},{"$f":"IF($C$4>1,\"AP-1 EU-5\",\"\")","v":""},{"$f":"IF($C$4>1,\"Cold Aggregate Bins\",\"\")","v":""},null,null,null,null,null,{"$f":"$C$5 & \" - Fuel Oil\"","v":" - Fuel Oil"},{"$f":"$N$5","v":0},{"$f":"IF(N44=0,0,LOOKUP(M44,'Emission Factors'!$A$5:$A$10,'Emission Factors'!$J$5:$J$10))","v":0},{"$f":"IF(O44=\"\",\"\",\"lb/ton\")","v":"lb/ton"},{"$f":"N44*O44","v":0},{"$f":"IF(N44=0,\"\",IF(AND($F$14>0,N45=0),$F$14,\"\"))","v":""},{"$f":"IF(N44=0,0,IF($G$14>0,$G$14,IF(OR(AND($C$10>0,$N$45>0),AND($C$11>0,$N$45>0),AND($C$12>0,$N$45>0)),\"\",IF($C$10>0,$C$10*O44/2000,IF($C$11>0,$C$11*365*O44/2000,IF($C$12>0,$C$12*365*O44*N44/2000,IF(AND(N45>0,F14>0),\"\",IF(R44=\"\",Q44*8760/2000,R44*8760/2000))))))))","v":0},{"$f":"P5*O44/2000","v":0}]
[null,null,null,null,null,null,null,null,null,null,null,null,{"$f":"$C$5 & \" - Waste Oil\"","v":" - Waste Oil"},{"$f":"$N$6","v":0},{"$f":"IF(N45=0,0,LOOKUP(M45,'Emission Factors'!$A$5:$A$10,'Emission Factors'!$J$5:$J$10))","v":0},{"$f":"IF(O45=\"\",\"\",\"lb/ton\")","v":"lb/ton"},{"$f":"N45*O45","v":0},{"$f":"IF(N45=0,\"\",IF($F$14>0,$F$14,\"\"))","v":""},{"$f":"IF(N45=0,0,IF($G$14>0,IF(S44=0,G14,\"\"),IF($C$10>0,$C$10*O45/2000,IF($C$11>0,$C$11*365*O45/2000,IF($C$12>0,$C$12*365*O45*N45/2000,IF(R45=\"\",Q45*8760/2000,R45*8760/2000))))))","v":0},{"$f":"P6*O45/2000","v":0}]
[null,null,null,null,{"$f":"IF($C$4>1,\"Stock Pile Area\",\"\")","v":""},null,null,null,null,null,null,null,{"$f":"$C$5 & \" - Natural Gas\"","v":" - Natural Gas"},{"$f":"$N$7","v":0},{"$f":"IF(N46=0,0,LOOKUP(M46,'Emission Factors'!$A$5:$A$10,'Emission Factors'!$J$5:$J$10))","v":0},{"$f":"IF(O46=\"\",\"\",\"lb/ton\")","v":"lb/ton"},{"$f":"N46*O46","v":0},{"$f":"IF(N46=0,\"\",IF(AND($F$14>0,N44=0,N45=0),$F$14,\"\"))","v":""},{"$f":"IF(N46=0,0,IF($G$14>0,IF(AND(S44=0,S45=0),G14,\"\"),IF(OR(AND($C$10>0,$N$45>0),AND($C$11>0,$N$45>0),AND($C$12>0,$N$45>0)),\"\",IF(OR(AND($C$10>0,$N$44>0),AND($C$11>0,$N$44>0),AND($C$12>0,$N$44>0)),\"\",IF($C$10>0,$C$10*O46/2000,IF($C$11>0,$C$11*365*O46/2000,IF($C$12>0,$C$12*365*O46*N46/2000,IF(AND(N44>0,N45>0,F14>0),\"\",IF(R46=\"\",Q46*8760/2000,R46*8760/2000)))))))))","v":0},{"$f":"P7*O46/2000","v":0}]
[null,null,null,null,null,{"$f":"IF($C$4>1,\"Emission Unit #\",\"\")","v":""},{"$f":"IF($C$4>1,\"Maximum Storage Area (acres)\",\"\")","v":""},{"$f":"IF($C$4>1,\"Actual Storage Area (acres)\",\"\")","v":""},{"$f":"IF($C$4>1,\"Actual Days in Existence (days)\",\"\")","v":""},null,null,null,"VOC"]
[null,null,null,null,null,null,null,null,null,null,null,null,{"$f":"$C$5 & \" - Fuel Oil\"","v":" - Fuel Oil"},{"$f":"$N$5","v":0},{"$f":"IF(N48=0,0,LOOKUP(M48,'Emission Factors'!$A$5:$A$10,'Emission Factors'!$L$5:$L$10))","v":0},{"$f":"IF(O48=\"\",\"\",\"lb/ton\")","v":"lb/ton"},{"$f":"N48*O48","v":0},{"$f":"IF(N48=0,\"\",IF(AND($F$15>0,N49=0),$F$15,\"\"))","v":""},{"$f":"IF(N48=0,0,IF($G$15>0,$G$15,IF(OR(AND($C$10>0,$N$49>0),AND($C$11>0,$N$49>0),AND($C$12>0,$N$49>0)),\"\",IF($C$10>0,$C$10*O48/2000,IF($C$11>0,$C$11*365*O48/2000,IF($C$12>0,$C$12*365*O48*N48/2000,IF(AND(N49>0,F15>0),\"\",IF(R48=\"\",Q48*8760/2000,R48*8760/2000))))))))","v":0},{"$f":"P5*O48/2000","v":0}]
[null,null,null,null,null,null,null,null,null,null,null,null,{"$f":"$C$5 & \" - Waste Oil\"","v":" - Waste Oil"},{"$f":"$N$6","v":0},{"$f":"IF(N49=0,0,LOOKUP(M49,'Emission Factors'!$A$5:$A$10,'Emission Factors'!$L$5:$L$10))","v":0},{"$f":"IF(O49=\"\",\"\",\"lb/ton\")","v":"lb/ton"},{"$f":"N49*O49","v":0},{"$f":"IF(N49=0,\"\",IF($F$15>0,$F$15,\"\"))","v":""},{"$f":"IF(N49=0,0,IF($G$15>0,IF(S48=0,G15,\"\"),IF($C$10>0,$C$10*O49/2000,IF($C$11>0,$C$11*365*O49/2000,IF($C$12>0,$C$12*365*O49*N49/2000,IF(R49=\"\",Q49*8760/2000,R49*8760/2000))))))","v":0},{"$f":"P6*O49/2000","v":0}]
[null,{"$f":"IF($C$4>2,\"Asphalt Plant\",\"\")","v":""},{"$f":"IF($C$4>2,\"Site 3\",\"\")","v":""},null,{"$f":"IF($C$4>2,\"Emission Point #\",\"\")","v":""},{"$f":"IF($C$4>2,\"Emission    Unit #\",\"\")","v":""},{"$f":"IF($C$4>2,\"Process\",\"\")","v":""},{"$f":"IF($C$4>2,\"Maximum Hourly     Design Rate\",\"\")","v":""},{"$f":"IF($C$4>2,('Facility Information'!G35&\" Annual Throughput\"),\"\")","v":""},null,null,null,{"$f":"$C$5 & \" - Natural Gas\"","v":" - Natural Gas"},{"$f":"$N$7","v":0},{"$f":"IF(N50=0,0,LOOKUP(M50,'Emission Factors'!$A$5:$A$10,'Emission Factors'!$L$5:$L$10))","v":0},{"$f":"IF(O50=\"\",\"\",\"lb/ton\")","v":"lb/ton"},{"$f":"N50*O50","v":0},{"$f":"IF(N50=0,\"\",IF(AND($F$15>0,N48=0,N49=0),$F$15,\"\"))","v":""},{"$f":"IF(N50=0,0,IF($G$15>0,IF(AND(S48=0,S49=0),G15,\"\"),IF(OR(AND($C$10>0,$N$49>0),AND($C$11>0,$N$49>0),AND($C$12>0,$N$49>0)),\"\",IF(OR(AND($C$10>0,$N$48>0),AND($C$11>0,$N$48>0),AND($C$12>0,$N$48>0)),\"\",IF($C$10>0,$C$10*O50/2000,IF($C$11>0,$C$11*365*O50/2000,IF($C$12>0,$C$12*365*O50*N50/2000,IF(AND(N48>0,N49>0,F15>0),\"\",IF(R50=\"\",Q50*8760/2000,R50*8760/2000)))))))))","v":0},{"$f":"P7*O50/2000","v":0}]
[null,null,null,null,null,null,null,null,null,null,null,null,"CO"]
[null,{"$f":"IF($C$4>2,\"Site Name\",\"\")","v":""},null,null,{"$f":"IF($C$4>2,\"Dryers, Hot Screens, Mixer\",\"\")","v":""},null,null,{"$f":"IF($C$4>2,\"(tons/hr)\",\"\")","v":""},{"$f":"IF($C$4>2,\"(tons/yr)\",\"\")","v":""},"PM2.5","PM10",null,{"$f":"IF($C$5=\"\",\"\",$C$5)","v":""},{"$f":"SUM($N$5:$N$7)","v":0},{"$f":"IF(N52=0,0,IF(M52=\"Batch Mix Plant\",0.4,IF(M52=\"Drum Mix Plant\",0.13)))","v":0},{"$f":"IF(O52=\"\",\"\",\"lb/ton\")","v":"lb/ton"},{"$f":"N52*O52","v":0},{"$f":"IF(N52=0,\"\",IF($F$16>0,$F$16,\"\"))","v":""},{"$f":"IF($G$16>0,$G$16,IF(N52=0,0,IF($C$10>0,$C$10*O52/2000,IF($C$11>0,$C$11*365*O52/2000,IF($C$12>0,$C$12*365*O52*N52/2000,IF(R52=\"\",Q52*8760/2000,R52*8760/2000))))))","v":0},{"$f":"SUM($P$5:$P$7)*O52/2000","v":0}]
[null,{"$f":"IF($C$4>2,\"County:\",\"\")","v":""},null,null,{"$f":"IF(C55=\"\",\"\",\"AP-1 EP-1\")","v":""},{"$f":"IF(C55=\"\",\"\",\"AP-1 EU-1\")","v":""},{"$f":"IF(C55=\"\",\"\",C5 & \" - \"&C55)","v":""},null,null,{"$f":"IF(C56=\"\",\"\",IF(C56=\"yes\",LOOKUP(G53,'Emission Factors'!$A$12:$A$17,'Emission Factors'!$D$12:$D$17),LOOKUP(G53,'Emission Factors'!$A$5:$A$10,'Emission Factors'!$D$5:$D$10)))","v":""},{"$f":"IF(C56=\"\",\"\",IF(C56=\"yes\",LOOKUP(G53,'Emission Factors'!$A$12:$A$17,'Emission Factors'!$F$12:$F$17),LOOKUP(G53,'Emission Factors'!$A$5:$A$10,'Emission Factors'!$F$5:$F$10)))","v":""},null,"Fuel Oil Fired Heater",{"$f":"N8","v":0},{"$f":"IF(N53=0,0,LOOKUP(M53,'Emission Factors'!$A$19:$A$21,'Emission Factors'!$N$19:$N$21))","v":0},{"$f":"IF(O53=\"\",\"\",\"lb/gallon\")","v":"lb/gallon"},{"$f":"N53*O53","v":0},null,{"$f":"IF(N53=0,0,IF($G$16>0,\"\",IF($F$16>0,\"\",IF(R53=\"\",Q53*8760/2000,R53*8760/2000))))","v":0},{"$f":"(P8*O53/2000)","v":0}]
[null,{"$f":"IF($C$4>2,\"Production Period (Dates):\",\"\")","v":""},null,null,{"$f":"IF($C$4>2,\"Liquid Asphalt Heater\",\"\")","v":""},null,null,{"$f":"IF($C$4>2,IF(C55=\"natural gas\",\"(MMCF/hr)\",\"(gallons/hr)\"),\"\")","v":""},{"$f":"IF($C$4>2,IF(C55=\"natural gas\",\"(MMCF/yr)\",\"(gallons/yr)\"),\"\")","v":""},null,null,null,"Waste Oil Fired Heater",{"$f":"N9","v":0},{"$f":"IF(N54=0,0,LOOKUP(M54,'Emission Factors'!$A$19:$A$21,'Emission Factors'!$N$19:$N$21))","v":0},{"$f":"IF(O54=\"\",\"\",\"lb/gallon\")","v":"lb/gallon"},{"$f":"N54*O54","v":0},null,{"$f":"IF(N54=0,0,IF($G$16>0,\"\",IF($F$16>0,\"\",IF(R54=\"\",Q54*8760/2000,R54*8760/2000))))","v":0},{"$f":"(P9*O54/2000)","v":0}]
[null,{"$f":"IF($C$4>2,\"Type of Fuel Used:\",\"\")","v":""},null,null,{"$f":"IF(C55=\"\",\"\",\"AP-1 EP-2\")","v":""},{"$f":"IF(C55=\"\",\"\",\"AP-1 EU-2\")","v":""},{"$f":"IF(C55=\"\",\"\",C55& \" Fired Heater\")","v":""},null,null,null,null,null,"Natural Gas Fired Heater",{"$f":"N10","v":0},{"$f":"IF(N55=0,0,LOOKUP(M55,'Emission Factors'!$A$19:$A$21,'Emission Factors'!$N$19:$N$21))","v":0},{"$f":"IF(O55=\"\",\"\",\"lb/MMCF\")","v":"lb/MMCF"},{"$f":"N55*O55","v":0},null,{"$f":"IF(N55=0,0,IF($G$16>0,\"\",IF($F$16>0,\"\",IF(R55=\"\",Q55*8760/2000,R55*8760/2000))))","v":0},{"$f":"($P$10*O55/2000)","v":0}]
[null,{"$f":"IF($C$4>2,\"Is Your Operation Controlled?:\",\"\")","v":""},null,null,{"$f":"IF($C$4>2,\"Silo Filling, Truck Loadout, Aggregate Transfer\",\"\")","v":""},null,null,{"$f":"IF($C$4>2,\"(tons/hr)\",\"\")","v":""},{"$f":"IF($C$4>2,\"(tons/yr)\",\"\")","v":""},null,null,null,"Acetaldehyde"]
[null,null,null,null,{"$f":"IF($C$4>2,\"AP-1 EP-3\",\"\")","v":""},{"$f":"IF($C$4>2,\"AP-1 EU-3\",\"\")","v":""},{"$f":"IF($C$4>2,\"Silo Filling\",\"\")","v":""},null,null,null,null,null,{"$f":"IF($C$5=\"\",\"\",$C$5)","v":""},{"$f":"IF(C5=\"drum mix plant\",SUM(N5:$N$6),SUM($N$5:$N$7))","v":0},{"$f":"IF(N57=0,0,IF(M57=\"Batch Mix Plant\",0.00032,IF(M57=\"Drum Mix Plant\",0.0013)))","v":0},{"$f":"IF(O57=\"\",\"\",\"lb/ton\")","v":"lb/ton"},{"$f":"N57*O57","v":0},null,{"$f":"IF(N57=0,0,IF($C$10>0,$C$10*O57/2000,IF($C$11>0,$C$11*365*O57/2000,IF($C$12>0,$C$12*365*O57*N57/2000,IF(R57=\"\",Q57*8760/2000,R57*8760/2000)))))","v":0},{"$f":"IF(C5=\"drum mix plant\",$P$6*O57/2000,SUM($P$5:$P$7)*O57/2000)","v":0}]
[null,null,null,null,{"$f":"IF($C$4>2,\"AP-1 EP-3\",\"\")","v":""},{"$f":"IF($C$4>2,\"AP-1 EU-4\",\"\")","v":""},{"$f":"IF($C$4>2,\"Truck Loadout\",\"\")","v":""},null,null,null,null,null,"Acrolein"]
[null,null,null,null,{"$f":"IF($C$4>2,\"AP-1 EP-3\",\"\")","v":""},{"$f":"IF($C$4>2,\"AP-1 EU-5\",\"\")","v":""},{"$f":"IF($C$4>2,\"Cold Aggregate Bins\",\"\")","v":""},null,null,null,null,null,{"$f":"IF($C$5=\"\",\"\",$C$5)","v":""},{"$f":"IF(C5=\"drum mix plant\",SUM(N5:$N$6),0)","v":0},{"$f":"IF(N59=0,0,0.000026)","v":0},{"$f":"IF(O59=\"\",\"\",\"lb/ton\")","v":"lb/ton"},{"$f":"N59*O59","v":0},null,{"$f":"IF(N59=0,0,IF($C$10>0,$C$10*O59/2000,IF($C$11>0,$C$11*365*O59/2000,IF($C$12>0,$C$12*365*O59*N59/2000,IF(R59=\"\",Q59*8760/2000,R59*8760/2000)))))","v":0},{"$f":"IF(C7=\"drum mix plant\",$P$6*O59/2000,SUM($P$5:$P$7)*O59/2000)","v":0}]
[null,null,null,null,null,null,null,null,null,null,null,null,"Benzene"]
[null,null,null,null,{"$f":"IF($C$4>2,\"Stock Pile Area\",\"\")","v":""},null,null,null,null,null,null,null,{"$f":"IF($C$5=\"\",\"\",$C$5)","v":""},{"$f":"SUM($N$5:$N$7)","v":0},{"$f":"IF(N61=0,0,IF(M61=\"Batch Mix Plant\",0.00028,IF(M61=\"Drum Mix Plant\",0.00039)))","v":0},{"$f":"IF(O61=\"\",\"\",\"lb/ton\")","v":"lb/ton"},{"$f":"N61*O61","v":0},null,{"$f":"IF(N61=0,0,IF($C$10>0,$C$10*O61/2000,IF($C$11>0,$C$11*365*O61/2000,IF($C$12>0,$C$12*365*O61*N61/2000,IF(R61=\"\",Q61*8760/2000,R61*8760/2000)))))","v":0},{"$f":"SUM($P$5:$P$7)*O61/2000","v":0}]
[null,null,null,null,null,{"$f":"IF($C$4>2,\"Emission Unit #\",\"\")","v":""},{"$f":"IF($C$4>2,\"Maximum Storage Area (acres)\",\"\")","v":""},{"$f":"IF($C$4>2,\"Actual Storage Area (acres)\",\"\")","v":""},{"$f":"IF($C$4>2,\"Actual Days in Existence (days)\",\"\")","v":""},null,null,null,"Ethylbenzene"]
[null,null,null,null,null,null,null,null,null,null,null,null,{"$f":"IF($C$5=\"\",\"\",$C$5)","v":""},{"$f":"SUM($N$5:$N$7)","v":0},{"$f":"IF(N63=0,0,IF(M63=\"Batch Mix Plant\",0.0022,IF(M63=\"Drum Mix Plant\",0.00024)))","v":0},{"$f":"IF(O63=\"\",\"\",\"lb/ton\")","v":"lb/ton"},{"$f":"N63*O63","v":0},null,{"$f":"IF(N63=0,0,IF($C$10>0,$C$10*O63/2000,IF($C$11>0,$C$11*365*O63/2000,IF($C$12>0,$C$12*365*O63*N63/2000,IF(R63=\"\",Q63*8760/2000,R63*8760/2000)))))","v":0},{"$f":"SUM($P$5:$P$7)*O63/2000","v":0}]
[null,null,null,null,null,null,null,null,null,null,null,null,"Formaldehyde"]
[null,{"$f":"IF($C$4>3,\"Asphalt Plant\",\"\")","v":""},{"$f":"IF($C$4>3,\"Site 4\",\"\")","v":""},null,{"$f":"IF($C$4>3,\"Emission Point #\",\"\")","v":""},{"$f":"IF($C$4>3,\"Emission    Unit #\",\"\")","v":""},{"$f":"IF($C$4>3,\"Process\",\"\")","v":""},{"$f":"IF($C$4>3,\"Maximum Hourly     Design Rate\",\"\")","v":""},{"$f":"IF($C$4>3,('Facility Information'!G50&\" Annual Throughput\"),\"\")","v":""},null,null,null,{"$f":"IF($C$5=\"\",\"\",$C$5)","v":""},{"$f":"SUM($N$5:$N$7)","v":0},{"$f":"IF(N65=0,0,IF(M65=\"Batch Mix Plant\",0.00074,IF(M65=\"Drum Mix Plant\",0.0031)))","v":0},{"$f":"IF(O65=\"\",\"\",\"lb/ton\")","v":"lb/ton"},{"$f":"N65*O65","v":0},null,{"$f":"IF(N65=0,0,IF($C$10>0,$C$10*O65/2000,IF($C$11>0,$C$11*365*O65/2000,IF($C$12>0,$C$12*365*O65*N65/2000,IF(R65=\"\",Q65*8760/2000,R65*8760/2000)))))","v":0},{"$f":"SUM($P$5:$P$7)*O65/2000","v":0}]
[null,null,null,null,null,null,null,null,null,null,null,null,{"$f":"\"Natural Gas Fired Heater\"","v":"Natural Gas Fired Heater"},{"$f":"N10","v":0},{"$f":"IF(N66=0,0,0.026)","v":0},{"$f":"IF(O66=\"\",\"\",\"lb/MMCF\")","v":"lb/MMCF"},{"$f":"N66*O66","v":0},null,{"$f":"IF(N66=0,0,IF(R66=\"\",Q66*8760/2000,R66*8760/2000))","v":0},{"$f":"($P$10*O66/2000)","v":0}]
[null,{"$f":"IF($C$4>3,\"Site Name\",\"\")","v":""},null," ",{"$f":"IF($C$4>3,\"Dryers, Hot Screens, Mixer\",\"\")","v":""},null,null,{"$f":"IF($C$4>3,\"(tons/hr)\",\"\")","v":""},{"$f":"IF($C$4>3,\"(tons/yr)\",\"\")","v":""},"PM2.5","PM10",null,"Hexane"]
[null,{"$f":"IF($C$4>3,\"County:\",\"\")","v":""},null,null,{"$f":"IF(C70=\"\",\"\",\"AP-1 EP-1\")","v":""},{"$f":"IF(C70=\"\",\"\",\"AP-1 EU-1\")","v":""},{"$f":"IF(C70=\"\",\"\",C5 & \" - \"&C70)","v":""},null,null,{"$f":"IF(C71=\"\",\"\",IF(C71=\"yes\",LOOKUP(G68,'Emission Factors'!$A$12:$A$17,'Emission Factors'!$D$12:$D$17),LOOKUP(G68,'Emission Factors'!$A$5:$A$10,'Emission Factors'!$D$5:$D$10)))","v":""},{"$f":"IF(C71=\"\",\"\",IF(C71=\"yes\",LOOKUP(G68,'Emission Factors'!$A$12:$A$17,'Emission Factors'!$F$12:$F$17),LOOKUP(G68,'Emission Factors'!$A$5:$A$10,'Emission Factors'!$F$5:$F$10)))","v":""},null,{"$f":"IF($C$5=\"\",\"\",$C$5)","v":""},{"$f":"IF(C5=\"drum mix plant\",SUM(N5:N7),0)","v":0},{"$f":"IF(N68=0,0,0.00092)","v":0},{"$f":"IF(O68=\"\",\"\",\"lb/ton\")","v":"lb/ton"},{"$f":"N68*O68","v":0},null,{"$f":"IF(N68=0,0,IF($C$10>0,$C$10*O68/2000,IF($C$11>0,$C$11*365*O68/2000,IF($C$12>0,$C$12*365*O68*N68/2000,IF(R68=\"\",Q68*8760/2000,R68*8760/2000)))))","v":0},{"$f":"IF(N68>0,SUM($P$5:$P$7)*O68/2000,0)","v":0}]
[null,{"$f":"IF($C$4>3,\"Production Period (Dates):\",\"\")","v":""},null,null,{"$f":"IF($C$4>3,\"Liquid Asphalt Heater\",\"\")","v":""},null,null,{"$f":"IF($C$4>3,IF(C70=\"natural gas\",\"(MMCF/hr)\",\"(gallons/hr)\"),\"\")","v":""},{"$f":"IF($C$4>3,IF(C70=\"natural gas\",\"(MMCF/yr)\",\"(gallons/yr)\"),\"\")","v":""},null,null,null,"Hydrochloric Acid"]
[null,{"$f":"IF($C$4>3,\"Type of Fuel Used:\",\"\")","v":""},null,null,{"$f":"IF(C70=\"\",\"\",\"AP-1 EP-2\")","v":""},{"$f":"IF(C70=\"\",\"\",\"AP-1 EU-2\")","v":""},{"$f":"IF(C70=\"\",\"\",C70& \" Fired Heater\")","v":""},null,null,null,null,null,{"$f":"IF($C$5=\"\",\"\",$C$5)","v":""},{"$f":"IF(C5=\"drum mix plant\",SUM(N5:$N$6),0)","v":0},{"$f":"IF(N70=0,0,0.00021)","v":0},{"$f":"IF(O70=\"\",\"\",\"lb/ton\")","v":"lb/ton"},{"$f":"N70*O70","v":0},null,{"$f":"IF(N70=0,0,IF($C$10>0,$C$10*O70/2000,IF($C$11>0,$C$11*365*O70/2000,IF($C$12>0,$C$12*365*O70*N70/2000,IF(R70=\"\",Q70*8760/2000,R70*8760/2000)))))","v":0},{"$f":"IF(N70>0,$P$6*O70/2000,0)","v":0}]
[null,{"$f":"IF($C$4>3,\"Is Your Operation Controlled?:\",\"\")","v":""},null,null,{"$f":"IF($C$4>3,\"Silo Filling, Truck Loadout, Aggregate Transfer\",\"\")","v":""},null,null,{"$f":"IF($C$4>3,\"(tons/hr)\",\"\")","v":""},{"$f":"IF($C$4>3,\"(tons/yr)\",\"\")","v":""},null,null,null,"Methyl Chloroform"]
[null,null,null,null,{"$f":"IF($C$4>3,\"AP-1 EP-3\",\"\")","v":""},{"$f":"IF($C$4>3,\"AP-1 EU-3\",\"\")","v":""},{"$f":"IF($C$4>3,\"Silo Filling\",\"\")","v":""},null,null,null,null,null,{"$f":"IF($C$5=\"\",\"\",$C$5)","v":""},{"$f":"IF(C5=\"drum mix plant\",SUM(N5:N7),0)","v":0},{"$f":"IF(N72=0,0,0.000048)","v":0},{"$f":"IF(O72=\"\",\"\",\"lb/ton\")","v":"lb/ton"},{"$f":"N72*O72","v":0},null,{"$f":"IF(N72=0,0,IF($C$10>0,$C$10*O72/2000,IF($C$11>0,$C$11*365*O72/2000,IF($C$12>0,$C$12*365*O72*N72/2000,IF(R72=\"\",Q72*8760/2000,R72*8760/2000)))))","v":0},{"$f":"IF(N72>0,SUM($P$5:$P$7)*O72/2000,0)","v":0}]
[null,null,null,null,{"$f":"IF($C$4>3,\"AP-1 EP-3\",\"\")","v":""},{"$f":"IF($C$4>3,\"AP-1 EU-4\",\"\")","v":""},{"$f":"IF($C$4>3,\"Truck Loadout\",\"\")","v":""},null,null,null,null,null,"Propionaldehyde"]
[null,null,null,null,{"$f":"IF($C$4>3,\"AP-1 EP-3\",\"\")","v":""},{"$f":"IF($C$4>3,\"AP-1 EU-5\",\"\")","v":""},{"$f":"IF($C$4>3,\"Cold Aggregate Bins\",\"\")","v":""},null,null,null,null,null,{"$f":"IF($C$5=\"\",\"\",$C$5)","v":""},{"$f":"IF(C5=\"drum mix plant\",SUM(N5:$N$6),0)","v":0},{"$f":"IF(N74=0,0,0.00013)","v":0},{"$f":"IF(O74=\"\",\"\",\"lb/ton\")","v":"lb/ton"},{"$f":"N74*O74","v":0},null,{"$f":"IF(N74=0,0,IF($C$10>0,$C$10*O74/2000,IF($C$11>0,$C$11*365*O74/2000,IF($C$12>0,$C$12*365*O74*N74/2000,IF(R74=\"\",Q74*8760/2000,R74*8760/2000)))))","v":0},{"$f":"IF(N74>0,$P$6*O74/2000,0)","v":0}]
[null,null,null,null,null,null,null,null,null,null,null,null,"Quinone"]
[null,null,null,null,{"$f":"IF($C$4>3,\"Stock Pile Area\",\"\")","v":""},null,null,null,null,null,null,null,{"$f":"IF($C$5=\"\",\"\",$C$5)","v":""},{"$f":"IF(C5=\"drum mix plant\",SUM(N5:$N$6),SUM($N$5:$N$7))","v":0},{"$f":"IF(N76=0,0,IF(M76=\"Batch Mix Plant\",0.00027,IF(M76=\"Drum Mix Plant\",0.00016)))","v":0},{"$f":"IF(O76=\"\",\"\",\"lb/ton\")","v":"lb/ton"},{"$f":"N76*O76","v":0},null,{"$f":"IF(N76=0,0,IF($C$10>0,$C$10*O76/2000,IF($C$11>0,$C$11*365*O76/2000,IF($C$12>0,$C$12*365*O76*N76/2000,IF(R76=\"\",Q76*8760/2000,R76*8760/2000)))))","v":0},{"$f":"IF(C24=\"drum mix plant\",$P$6*O76/2000,SUM($P$5:$P$7)*O76/2000)","v":0}]
[null,null,null,null,null,{"$f":"IF($C$4>3,\"Emission Unit #\",\"\")","v":""},{"$f":"IF($C$4>3,\"Maximum Storage Area (acres)\",\"\")","v":""},{"$f":"IF($C$4>3,\"Actual Storage Area (acres)\",\"\")","v":""},{"$f":"IF($C$4>3,\"Actual Days in Existence (days)\",\"\")","v":""},null,null,null,"Toluene"]
[null,null,null,null,null,null,null,null,null,null,null,null,{"$f":"$C$5 & \" - Fuel Oil\"","v":" - Fuel Oil"},{"$f":"$N$5","v":0},{"$f":"IF(N78=0,0,LOOKUP(M78,'Emission Factors'!$A$5:$A$10,'Emission Factors'!$AJ$5:$AJ$10))","v":0},{"$f":"IF(O78=\"\",\"\",\"lb/ton\")","v":"lb/ton"},{"$f":"N78*O78","v":0},null,{"$f":"IF(N78=0,0,IF($C$10>0,$C$10*O78/2000,IF($C$11>0,$C$11*365*O78/2000,IF($C$12>0,$C$12*365*O78*N78/2000,IF(R78=\"\",Q78*8760/2000,R78*8760/2000)))))","v":0},{"$f":"P5*O78/2000","v":0}]
[null,null,null,null,null,null,null,null,null,null,null,null,{"$f":"$C$5 & \" - Waste Oil\"","v":" - Waste Oil"},{"$f":"$N$6","v":0},{"$f":"IF(N79=0,0,LOOKUP(M79,'Emission Factors'!$A$5:$A$10,'Emission Factors'!$AJ$5:$AJ$10))","v":0},{"$f":"IF(O79=\"\",\"\",\"lb/ton\")","v":"lb/ton"},{"$f":"N79*O79","v":0},null,{"$f":"IF(N79=0,0,IF(OR(AND($C$10>0,$N$78>0),AND($C$11>0,$N$78>0),AND($C$12>0,$N$78>0)),\"\",IF($C$10>0,$C$10*O79/2000,IF($C$11>0,$C$11*365*O79/2000,IF($C$12>0,$C$12*365*O79*N79/2000,IF(R79=\"\",Q79*8760/2000,R79*8760/2000))))))","v":0},{"$f":"P6*O79/2000","v":0}]
[null,{"$f":"IF($C$4>4,\"Asphalt Plant\",\"\")","v":""},{"$f":"IF($C$4>4,\"Site 5\",\"\")","v":""},null,{"$f":"IF($C$4>4,\"Emission Point #\",\"\")","v":""},{"$f":"IF($C$4>4,\"Emission    Unit #\",\"\")","v":""},{"$f":"IF($C$4>4,\"Process\",\"\")","v":""},{"$f":"IF($C$4>4,\"Maximum Hourly     Design Rate\",\"\")","v":""},{"$f":"IF($C$4>4,('Facility Information'!G65&\" Annual Throughput\"),\"\")","v":""},null,null,null,{"$f":"$C$5 & \" - Natural Gas\"","v":" - Natural Gas"},{"$f":"$N$7","v":0},{"$f":"IF(N80=0,0,LOOKUP(M80,'Emission Factors'!$A$5:$A$10,'Emission Factors'!$AJ$5:$AJ$10))","v":0},{"$f":"IF(O80=\"\",\"\",\"lb/ton\")","v":"lb/ton"},{"$f":"N80*O80","v":0},null,{"$f":"IF(N80=0,0,IF(OR(AND($C$10>0,$N$78>0),AND($C$11>0,$N$78>0),AND($C$12>0,$N$78>0)),\"\",IF(OR(AND($C$10>0,$N$79>0),AND($C$11>0,$N$79>0),AND($C$12>0,$N$79>0)),\"\",IF($C$10>0,$C$10*O80/2000,IF($C$11>0,$C$11*365*O80/2000,IF($C$12>0,$C$12*365*O80*N80/2000,IF(R80=\"\",Q80*8760/2000,R80*8760/2000)))))))","v":0},{"$f":"P7*O80/2000","v":0}]
[null,null,null,null,null,null,null,null,null,null,null,null,"Xylene"]
[null,{"$f":"IF($C$4>4,\"Site Name\",\"\")","v":""},null,null,{"$f":"IF($C$4>4,\"Dryers, Hot Screens, Mixer\",\"\")","v":""},null,null,{"$f":"IF($C$4>4,\"(tons/hr)\",\"\")","v":""},{"$f":"IF($C$4>4,\"(tons/yr)\",\"\")","v":""},"PM2.5","PM10",null,{"$f":"IF($C$5=\"\",\"\",$C$5)","v":""},{"$f":"SUM($N$5:$N$7)","v":0},{"$f":"IF(N82=0,0,IF(M82=\"Batch Mix Plant\",0.0027,IF(M82=\"Drum Mix Plant\",0.0002)))","v":0},{"$f":"IF(O82=\"\",\"\",\"lb/ton\")","v":"lb/ton"},{"$f":"N82*O82","v":0},null,{"$f":"IF(N82=0,0,IF($C$10>0,$C$10*O82/2000,IF($C$11>0,$C$11*365*O82/2000,IF($C$12>0,$C$12*365*O82*N82/2000,IF(R82=\"\",Q82*8760/2000,R82*8760/2000)))))","v":0},{"$f":"SUM($P$5:$P$7)*O82/2000","v":0}]
[null,{"$f":"IF($C$4>4,\"County:\",\"\")","v":""},null,null,{"$f":"IF(C85=\"\",\"\",\"AP-1 EP-1\")","v":""},{"$f":"IF(C85=\"\",\"\",\"AP-1 EU-1\")","v":""},{"$f":"IF(C85=\"\",\"\",C5 & \" - \"&C85)","v":""},null,null,{"$f":"IF(C86=\"\",\"\",IF(C86=\"yes\",LOOKUP(G83,'Emission Factors'!$A$12:$A$17,'Emission Factors'!$D$12:$D$17),LOOKUP(G83,'Emission Factors'!$A$5:$A$10,'Emission Factors'!$D$5:$D$10)))","v":""},{"$f":"IF(C86=\"\",\"\",IF(C86=\"yes\",LOOKUP(G83,'Emission Factors'!$A$12:$A$17,'Emission Factors'!$F$12:$F$17),LOOKUP(G83,'Emission Factors'!$A$5:$A$10,'Emission Factors'!$F$5:$F$10)))","v":""},null,"2,2,4-Trimethylpentane"]
[null,{"$f":"IF($C$4>4,\"Production Period (Dates):\",\"\")","v":""},null,null,{"$f":"IF($C$4>4,\"Liquid Asphalt Heater\",\"\")","v":""},null,null,{"$f":"IF($C$4>4,IF(C85=\"natural gas\",\"(MMCF/hr)\",\"(gallons/hr)\"),\"\")","v":""},{"$f":"IF($C$4>4,IF(C85=\"natural gas\",\"(MMCF/yr)\",\"(gallons/yr)\"),\"\")","v":""},null,null,null,{"$f":"IF($C$5=\"\",\"\",$C$5)","v":""},{"$f":"IF(C5=\"drum mix plant\",SUM(N5:N7),0)","v":0},{"$f":"IF(N84=0,0,0.00004)","v":0},{"$f":"IF(O84=\"\",\"\",\"lb/ton\")","v":"lb/ton"},{"$f":"N84*O84","v":0},null,{"$f":"IF(N84=0,0,IF($C$10>0,$C$10*O84/2000,IF($C$11>0,$C$11*365*O84/2000,IF($C$12>0,$C$12*365*O84*N84/2000,IF(R84=\"\",Q84*8760/2000,R84*8760/2000)))))","v":0},{"$f":"IF(N84>0,SUM($P$5:$P$7)*O84/2000,0)","v":0}]
[null,{"$f":"IF($C$4>4,\"Type of Fuel Used:\",\"\")","v":""},null,null,{"$f":"IF(C85=\"\",\"\",\"AP-1 EP-2\")","v":""},{"$f":"IF(C85=\"\",\"\",\"AP-1 EU-2\")","v":""},{"$f":"IF(C85=\"\",\"\",C85& \" Fired Heater\")","v":""},null,null,null,"Controlled?",null,"Chromium Compounds"]
[null,{"$f":"IF($C$4>4,\"Is Your Operation Controlled?:\",\"\")","v":""},null,null,{"$f":"IF($C$4>4,\"Silo Filling, Truck Loadout, Aggregate Transfer\",\"\")","v":""},null,null,{"$f":"IF($C$4>4,\"(tons/hr)\",\"\")","v":""},{"$f":"IF($C$4>4,\"(tons/yr)\",\"\")","v":""},null,{"$f":"IF(OR(C26=\"yes\",C41=\"yes\",C71=\"yes\",C86=\"yes\",C101=\"yes\",C116=\"yes\",C131=\"yes\",C146=\"yes\",C161=\"yes\"),1,0)","v":0},null,{"$f":"IF($C$5=\"\",\"\",$C$5)","v":""},{"$f":"IF(C5=\"drum mix plant\",SUM(N5:N6),0)","v":0},{"$f":"IF(N86=0,0,IF($K$86=1,0.0000055,0.000024))","v":0},{"$f":"IF(O86=\"\",\"\",\"lb/ton\")","v":"lb/ton"},{"$f":"IF($K$86=1,\"\",N86*O86)","v":0},{"$f":"IF($K$86=1,N86*O86,\"\")","v":""},{"$f":"IF(N86=0,0,IF($C$10>0,$C$10*O86/2000,IF($C$11>0,$C$11*365*O86/2000,IF($C$12>0,$C$12*365*O86*N86/2000,IF(R86=\"\",Q86*8760/2000,R86*8760/2000)))))","v":0},{"$f":"IF(N86>0,$P$5*O86/2000,0)","v":0}]
[null,null,null,null,{"$f":"IF($C$4>4,\"AP-1 EP-3\",\"\")","v":""},{"$f":"IF($C$4>4,\"AP-1 EU-3\",\"\")","v":""},{"$f":"IF($C$4>4,\"Silo Filling\",\"\")","v":""},null,null,null,null,null,"Lead Compounds"]
[null,null,null,null,{"$f":"IF($C$4>4,\"AP-1 EP-3\",\"\")","v":""},{"$f":"IF($C$4>4,\"AP-1 EU-4\",\"\")","v":""},{"$f":"IF($C$4>4,\"Truck Loadout\",\"\")","v":""},null,null,null,null,null,{"$f":"IF($C$5=\"\",\"\",$C$5)","v":""},{"$f":"IF(C5=\"drum mix plant\",SUM(N5:N6),0)","v":0},{"$f":"IF(N88=0,0,IF($K$86=1,0.000015,0.00054))","v":0},{"$f":"IF(O88=\"\",\"\",\"lb/ton\")","v":"lb/ton"},{"$f":"IF($K$86=1,\"\",N88*O88)","v":0},{"$f":"IF($K$86=1,N88*O88,\"\")","v":""},{"$f":"IF(N88=0,0,IF($C$10>0,$C$10*O88/2000,IF($C$11>0,$C$11*365*O88/2000,IF($C$12>0,$C$12*365*O88*N88/2000,IF(R88=\"\",Q88*8760/2000,R88*8760/2000)))))","v":0},{"$f":"IF(N88>0,$P$5*O88/2000,0)","v":0}]
[null,null,null,null,{"$f":"IF($C$4>4,\"AP-1 EP-3\",\"\")","v":""},{"$f":"IF($C$4>4,\"AP-1 EU-5\",\"\")","v":""},{"$f":"IF($C$4>4,\"Cold Aggregate Bins\",\"\")","v":""},null,null,null,null,null,"Manganese Compounds",null,null,null,0]
[null,null,null,null,null,null,null,null,null,null,null,null,{"$f":"IF($C$5=\"\",\"\",$C$5)","v":""},{"$f":"IF(C5=\"drum mix plant\",SUM(N5:N6),0)","v":0},{"$f":"IF(N90=0,0,IF($K$86=1,0.0000077,0.00065))","v":0},{"$f":"IF(O90=\"\",\"\",\"lb/ton\")","v":"lb/ton"},0,{"$f":"IF($K$86=1,N90*O90,\"\")","v":""},{"$f":"IF(N90=0,0,IF($C$10>0,$C$10*O90/2000,IF($C$11>0,$C$11*365*O90/2000,IF($C$12>0,$C$12*365*O90*N90/2000,IF(R90=\"\",Q90*8760/2000,R90*8760/2000)))))","v":0},{"$f":"IF(N90>0,$P$5*O90/2000,0)","v":0}]
[null,null,null,null,{"$f":"IF($C$4>4,\"Stock Pile Area\",\"\")","v":""},null,null,null,null,null,null,null,"Nickel Compounds",null,null,null,0]
[null,null,null,null,null,{"$f":"IF($C$4>4,\"Emission Unit #\",\"\")","v":""},{"$f":"IF($C$4>4,\"Maximum Storage Area (acres)\",\"\")","v":""},{"$f":"IF($C$4>4,\"Actual Storage Area (acres)\",\"\")","v":""},{"$f":"IF($C$4>4,\"Actual Days in Existence (days)\",\"\")","v":""},null,null,null,{"$f":"$C$5 & \" - Fuel Oil\"","v":" - Fuel Oil"},{"$f":"IF(C5=\"drum mix plant\",N5,0)","v":0},{"$f":"IF(N92=0,0,IF($K$86=1,0.000015,0.0013))","v":0},{"$f":"IF(O92=\"\",\"\",\"lb/ton\")","v":"lb/ton"},0,{"$f":"IF($K$86=1,N92*O92,\"\")","v":""},{"$f":"IF(N92=0,0,IF($C$10>0,$C$10*O92/2000,IF($C$11>0,$C$11*365*O92/2000,IF($C$12>0,$C$12*365*O92*N92/2000,IF(R92=\"\",Q92*8760/2000,R92*8760/2000)))))","v":0},{"$f":"IF(N92>0,$P$5*O92/2000,0)","v":0}]
[null,null,null,null,null,null,null,null,null,null,null,null,{"$f":"$C$5 & \" - Waste Oil\"","v":" - Waste Oil"},{"$f":"IF(C5=\"drum mix plant\",N6,0)","v":0},{"$f":"IF(N93=0,0,IF($K$86=1,0.000015,0.0013))","v":0},{"$f":"IF(O93=\"\",\"\",\"lb/ton\")","v":"lb/ton"},0,{"$f":"IF($K$86=1,N93*O93,\"\")","v":""},{"$f":"IF(N93=0,0,IF($C$10>0,$C$10*O93/2000,IF($C$11>0,$C$11*365*O93/2000,IF($C$12>0,$C$12*365*O93*N93/2000,IF(R93=\"\",Q93*8760/2000,R93*8760/2000)))))","v":0},{"$f":"IF(N93>0,$P$6*O93/2000,0)","v":0}]
[null,null,null,null,null,null,null,null,null,null,null,null,{"$f":"$C$5 & \" - Natural Gas\"","v":" - Natural Gas"},{"$f":"IF(C5=\"drum mix plant\",N7,0)","v":0},{"$f":"IF(N94=0,0,IF($K$86=1,0.000063,0.00063))","v":0},{"$f":"IF(O94=\"\",\"\",\"lb/ton\")","v":"lb/ton"},0,{"$f":"IF($K$86=1,N94*O94,\"\")","v":""},{"$f":"IF(N94=0,0,IF($C$10>0,$C$10*O94/2000,IF($C$11>0,$C$11*365*O94/2000,IF($C$12>0,$C$12*365*O94*N94/2000,IF(R94=\"\",Q94*8760/2000,R94*8760/2000)))))","v":0},{"$f":"IF(N94>0,$P$7*O94/2000,0)","v":0}]
[null,{"$f":"IF($C$4>5,\"Asphalt Plant\",\"\")","v":""},{"$f":"IF($C$4>5,\"Site 6\",\"\")","v":""},null,{"$f":"IF($C$4>5,\"Emission Point #\",\"\")","v":""},{"$f":"IF($C$4>5,\"Emission    Unit #\",\"\")","v":""},{"$f":"IF($C$4>5,\"Process\",\"\")","v":""},{"$f":"IF($C$4>5,\"Maximum Hourly     Design Rate\",\"\")","v":""},{"$f":"IF($C$4>5,('Facility Information'!G80&\" Annual Throughput\"),\"\")","v":""}]
[]
[null,{"$f":"IF($C$4>5,\"Site Name\",\"\")","v":""},null,null,{"$f":"IF($C$4>5,\"Dryers, Hot Screens, Mixer\",\"\")","v":""},null,null,{"$f":"IF($C$4>5,\"(tons/hr)\",\"\")","v":""},{"$f":"IF($C$4>5,\"(tons/yr)\",\"\")","v":""},"PM2.5","PM10"]
[null,{"$f":"IF($C$4>5,\"County:\",\"\")","v":""},null,null,{"$f":"IF(C100=\"\",\"\",\"AP-1 EP-1\")","v":""},{"$f":"IF(C100=\"\",\"\",\"AP-1 EU-1\")","v":""},{"$f":"IF(C100=\"\",\"\",C5 & \" - \"&C100)","v":""},null,null,{"$f":"IF(C101=\"\",\"\",IF(C101=\"yes\",LOOKUP(G98,'Emission Factors'!$A$12:$A$17,'Emission Factors'!$D$12:$D$17),LOOKUP(G98,'Emission Factors'!$A$5:$A$10,'Emission Factors'!$D$5:$D$10)))","v":""},{"$f":"IF(C101=\"\",\"\",IF(C101=\"yes\",LOOKUP(G98,'Emission Factors'!$A$12:$A$17,'Emission Factors'!$F$12:$F$17),LOOKUP(G98,'Emission Factors'!$A$5:$A$10,'Emission Factors'!$F$5:$F$10)))","v":""}]
[null,{"$f":"IF($C$4>5,\"Production Period (Dates):\",\"\")","v":""},null,null,{"$f":"IF($C$4>5,\"Liquid Asphalt Heater\",\"\")","v":""},null,null,{"$f":"IF($C$4>5,IF(C100=\"natural gas\",\"(MMCF/hr)\",\"(gallons/hr)\"),\"\")","v":""},{"$f":"IF($C$4>5,IF(C100=\"natural gas\",\"(MMCF/yr)\",\"(gallons/yr)\"),\"\")","v":""}]
[null,{"$f":"IF($C$4>5,\"Type of Fuel Used:\",\"\")","v":""},null,null,{"$f":"IF(C100=\"\",\"\",\"AP-1 EP-2\")","v":""},{"$f":"IF(C100=\"\",\"\",\"AP-1 EU-2\")","v":""},{"$f":"IF(C100=\"\",\"\",C100& \" Fired Heater\")","v":""}]
[null,{"$f":"IF($C$4>5,\"Is Your Operation Controlled?:\",\"\")","v":""},null,null,{"$f":"IF($C$4>5,\"Silo Filling, Truck Loadout, Aggregate Transfer\",\"\")","v":""},null,null,{"$f":"IF($C$4>5,\"(tons/hr)\",\"\")","v":""},{"$f":"IF($C$4>5,\"(tons/yr)\",\"\")","v":""}]
[null,null,null,null,{"$f":"IF($C$4>5,\"AP-1 EP-3\",\"\")","v":""},{"$f":"IF($C$4>5,\"AP-1 EU-3\",\"\")","v":""},{"$f":"IF($C$4>5,\"Silo Filling\",\"\")","v":""}]
[null,null,null,null,{"$f":"IF($C$4>5,\"AP-1 EP-3\",\"\")","v":""},{"$f":"IF($C$4>5,\"AP-1 EU-4\",\"\")","v":""},{"$f":"IF($C$4>5,\"Truck Loadout\",\"\")","v":""}]
[null,null,null,null,{"$f":"IF($C$4>5,\"AP-1 EP-3\",\"\")","v":""},{"$f":"IF($C$4>5,\"AP-1 EU-5\",\"\")","v":""},{"$f":"IF($C$4>5,\"Cold Aggregate Bins\",\"\")","v":""}]
[]
[null,null,null,null,{"$f":"IF($C$4>5,\"Stock Pile Area\",\"\")","v":""}]
[null,null,null,null,null,{"$f":"IF($C$4>5,\"Emission Unit #\",\"\")","v":""},{"$f":"IF($C$4>5,\"Maximum Storage Area (acres)\",\"\")","v":""},{"$f":"IF($C$4>5,\"Actual Storage Area (acres)\",\"\")","v":""},{"$f":"IF($C$4>5,\"Actual Days in Existence (days)\",\"\")","v":""}]
[]
[]
[null,{"$f":"IF($C$4>6,\"Asphalt Plant\",\"\")","v":""},{"$f":"IF($C$4>6,\"Site 7\",\"\")","v":""},null,{"$f":"IF($C$4>6,\"Emission Point #\",\"\")","v":""},{"$f":"IF($C$4>6,\"Emission    Unit #\",\"\")","v":""},{"$f":"IF($C$4>6,\"Process\",\"\")","v":""},{"$f":"IF($C$4>6,\"Maximum Hourly     Design Rate\",\"\")","v":""},{"$f":"IF($C$4>6,('Facility Information'!G95&\" Annual Throughput\"),\"\")","v":""}]
[]
[null,{"$f":"IF($C$4>6,\"Site Name\",\"\")","v":""},null,null,{"$f":"IF($C$4>6,\"Dryers, Hot Screens, Mixer\",\"\")","v":""},null,null,{"$f":"IF($C$4>6,\"(tons/hr)\",\"\")","v":""},{"$f":"IF($C$4>6,\"(tons/yr)\",\"\")","v":""},"PM2.5","PM10"]
[null,{"$f":"IF($C$4>6,\"County:\",\"\")","v":""},null,null,{"$f":"IF(C115=\"\",\"\",\"AP-1 EP-1\")","v":""},{"$f":"IF(C115=\"\",\"\",\"AP-1 EU-1\")","v":""},{"$f":"IF(C115=\"\",\"\",C5 & \" - \"&C115)","v":""},null,null,{"$f":"IF(C116=\"\",\"\",IF(C116=\"yes\",LOOKUP(G113,'Emission Factors'!$A$12:$A$17,'Emission Factors'!$D$12:$D$17),LOOKUP(G113,'Emission Factors'!$A$5:$A$10,'Emission Factors'!$D$5:$D$10)))","v":""},{"$f":"IF(C116=\"\",\"\",IF(C116=\"yes\",LOOKUP(G113,'Emission Factors'!$A$12:$A$17,'Emission Factors'!$F$12:$F$17),LOOKUP(G113,'Emission Factors'!$A$5:$A$10,'Emission Factors'!$F$5:$F$10)))","v":""}]
[null,{"$f":"IF($C$4>6,\"Production Period (Dates):\",\"\")","v":""},null,null,{"$f":"IF($C$4>6,\"Liquid Asphalt Heater\",\"\")","v":""},null,null,{"$f":"IF($C$4>6,IF(C115=\"natural gas\",\"(MMCF/hr)\",\"(gallons/hr)\"),\"\")","v":""},{"$f":"IF($C$4>6,IF(C115=\"natural gas\",\"(MMCF/yr)\",\"(gallons/yr)\"),\"\")","v":""}]
[null,{"$f":"IF($C$4>6,\"Type of Fuel Used:\",\"\")","v":""},null,null,{"$f":"IF(C115=\"\",\"\",\"AP-1 EP-2\")","v":""},{"$f":"IF(C115=\"\",\"\",\"AP-1 EU-2\")","v":""},{"$f":"IF(C115=\"\",\"\",C115& \" Fired Heater\")","v":""}]
[null,{"$f":"IF($C$4>6,\"Is Your Operation Controlled?:\",\"\")","v":""},null,null,{"$f":"IF($C$4>6,\"Silo Filling, Truck Loadout, Aggregate Transfer\",\"\")","v":""},null,null,{"$f":"IF($C$4>6,\"(tons/hr)\",\"\")","v":""},{"$f":"IF($C$4>6,\"(tons/yr)\",\"\")","v":""}]
[null,null,null,null,{"$f":"IF($C$4>6,\"AP-1 EP-3\",\"\")","v":""},{"$f":"IF($C$4>6,\"AP-1 EU-3\",\"\")","v":""},{"$f":"IF($C$4>6,\"Silo Filling\",\"\")","v":""}]
[null,null,null,null,{"$f":"IF($C$4>6,\"AP-1 EP-3\",\"\")","v":""},{"$f":"IF($C$4>6,\"AP-1 EU-4\",\"\")","v":""},{"$f":"IF($C$4>6,\"Truck Loadout\",\"\")","v":""}]
[null,null,null,null,{"$f":"IF($C$4>6,\"AP-1 EP-3\",\"\")","v":""},{"$f":"IF($C$4>6,\"AP-1 EU-5\",\"\")","v":""},{"$f":"IF($C$4>6,\"Cold Aggregate Bins\",\"\")","v":""}]
[]
[null,null,null,null,{"$f":"IF($C$4>6,\"Stock Pile Area\",\"\")","v":""}]
[null,null,null,null,null,{"$f":"IF($C$4>6,\"Emission Unit #\",\"\")","v":""},{"$f":"IF($C$4>6,\"Maximum Storage Area (acres)\",\"\")","v":""},{"$f":"IF($C$4>6,\"Actual Storage Area (acres)\",\"\")","v":""},{"$f":"IF($C$4>6,\"Actual Days in Existence (days)\",\"\")","v":""}]
[]
[]
[null,{"$f":"IF($C$4>7,\"Asphalt Plant\",\"\")","v":""},{"$f":"IF($C$4>7,\"Site 8\",\"\")","v":""},null,{"$f":"IF($C$4>7,\"Emission Point #\",\"\")","v":""},{"$f":"IF($C$4>7,\"Emission    Unit #\",\"\")","v":""},{"$f":"IF($C$4>7,\"Process\",\"\")","v":""},{"$f":"IF($C$4>7,\"Maximum Hourly     Design Rate\",\"\")","v":""},{"$f":"IF($C$4>7,('Facility Information'!G110&\" Annual Throughput\"),\"\")","v":""}]
[]
[null,{"$f":"IF($C$4>7,\"Site Name\",\"\")","v":""},null,null,{"$f":"IF($C$4>7,\"Dryers, Hot Screens, Mixer\",\"\")","v":""},null,null,{"$f":"IF($C$4>7,\"(tons/hr)\",\"\")","v":""},{"$f":"IF($C$4>7,\"(tons/yr)\",\"\")","v":""},"PM2.5","PM10"]
[null,{"$f":"IF($C$4>7,\"County:\",\"\")","v":""},null,null,{"$f":"IF(C130=\"\",\"\",\"AP-1 EP-1\")","v":""},{"$f":"IF(C130=\"\",\"\",\"AP-1 EU-1\")","v":""},{"$f":"IF(C130=\"\",\"\",C5 & \" - \"&C130)","v":""},null,null,{"$f":"IF(C131=\"\",\"\",IF(C131=\"yes\",LOOKUP(G128,'Emission Factors'!$A$12:$A$17,'Emission Factors'!$D$12:$D$17),LOOKUP(G128,'Emission Factors'!$A$5:$A$10,'Emission Factors'!$D$5:$D$10)))","v":""},{"$f":"IF(C131=\"\",\"\",IF(C131=\"yes\",LOOKUP(G128,'Emission Factors'!$A$12:$A$17,'Emission Factors'!$F$12:$F$17),LOOKUP(G128,'Emission Factors'!$A$5:$A$10,'Emission Factors'!$F$5:$F$10)))","v":""}]
[null,{"$f":"IF($C$4>7,\"Production Period (Dates):\",\"\")","v":""},null,null,{"$f":"IF($C$4>7,\"Liquid Asphalt Heater\",\"\")","v":""},null,null,{"$f":"IF($C$4>7,IF(C130=\"natural gas\",\"(MMCF/hr)\",\"(gallons/hr)\"),\"\")","v":""},{"$f":"IF($C$4>7,IF(C130=\"natural gas\",\"(MMCF/yr)\",\"(gallons/yr)\"),\"\")","v":""}]
[null,{"$f":"IF($C$4>7,\"Type of Fuel Used:\",\"\")","v":""},null,null,{"$f":"IF(C130=\"\",\"\",\"AP-1 EP-2\")","v":""},{"$f":"IF(C130=\"\",\"\",\"AP-1 EU-2\")","v":""},{"$f":"IF(C130=\"\",\"\",C130& \" Fired Heater\")","v":""}]
[null,{"$f":"IF($C$4>7,\"Is Your Operation Controlled?:\",\"\")","v":""},null,null,{"$f":"IF($C$4>7,\"Silo Filling, Truck Loadout, Aggregate Transfer\",\"\")","v":""},null,null,{"$f":"IF($C$4>7,\"(tons/hr)\",\"\")","v":""},{"$f":"IF($C$4>7,\"(tons/yr)\",\"\")","v":""}]
[null,null,null,null,{"$f":"IF($C$4>7,\"AP-1 EP-3\",\"\")","v":""},{"$f":"IF($C$4>7,\"AP-1 EU-3\",\"\")","v":""},{"$f":"IF($C$4>7,\"Silo Filling\",\"\")","v":""}]
[null,null,null,null,{"$f":"IF($C$4>7,\"AP-1 EP-3\",\"\")","v":""},{"$f":"IF($C$4>7,\"AP-1 EU-4\",\"\")","v":""},{"$f":"IF($C$4>7,\"Truck Loadout\",\"\")","v":""}]
[null,null,null,null,{"$f":"IF($C$4>7,\"AP-1 EP-3\",\"\")","v":""},{"$f":"IF($C$4>7,\"AP-1 EU-5\",\"\")","v":""},{"$f":"IF($C$4>7,\"Cold Aggregate Bins\",\"\")","v":""}]
[]
[null,null,null,null,{"$f":"IF($C$4>7,\"Stock Pile Area\",\"\")","v":""}]
[null,null,null,null,null,{"$f":"IF($C$4>7,\"Emission Unit #\",\"\")","v":""},{"$f":"IF($C$4>7,\"Maximum Storage Area (acres)\",\"\")","v":""},{"$f":"IF($C$4>7,\"Actual Storage Area (acres)\",\"\")","v":""},{"$f":"IF($C$4>7,\"Actual Days in Existence (days)\",\"\")","v":""}]
[]
[]
[null,{"$f":"IF($C$4>8,\"Asphalt Plant\",\"\")","v":""},{"$f":"IF($C$4>8,\"Site 9\",\"\")","v":""},null,{"$f":"IF($C$4>8,\"Emission Point #\",\"\")","v":""},{"$f":"IF($C$4>8,\"Emission    Unit #\",\"\")","v":""},{"$f":"IF($C$4>8,\"Process\",\"\")","v":""},{"$f":"IF($C$4>8,\"Maximum Hourly     Design Rate\",\"\")","v":""},{"$f":"IF($C$4>8,('Facility Information'!G125&\" Annual Throughput\"),\"\")","v":""}]
[]
[null,{"$f":"IF($C$4>8,\"Site Name\",\"\")","v":""},null,null,{"$f":"IF($C$4>8,\"Dryers, Hot Screens, Mixer\",\"\")","v":""},null,null,{"$f":"IF($C$4>8,\"(tons/hr)\",\"\")","v":""},{"$f":"IF($C$4>8,\"(tons/yr)\",\"\")","v":""},"PM2.5","PM10"]
[null,{"$f":"IF($C$4>8,\"County:\",\"\")","v":""},null,null,{"$f":"IF(C145=\"\",\"\",\"AP-1 EP-1\")","v":""},{"$f":"IF(C145=\"\",\"\",\"AP-1 EU-1\")","v":""},{"$f":"IF(C145=\"\",\"\",C5 & \" - \"&C145)","v":""},null,null,{"$f":"IF(C146=\"\",\"\",IF(C146=\"yes\",LOOKUP(G143,'Emission Factors'!$A$12:$A$17,'Emission Factors'!$D$12:$D$17),LOOKUP(G143,'Emission Factors'!$A$5:$A$10,'Emission Factors'!$D$5:$D$10)))","v":""},{"$f":"IF(C146=\"\",\"\",IF(C146=\"yes\",LOOKUP(G143,'Emission Factors'!$A$12:$A$17,'Emission Factors'!$F$12:$F$17),LOOKUP(G143,'Emission Factors'!$A$5:$A$10,'Emission Factors'!$F$5:$F$10)))","v":""}]
[null,{"$f":"IF($C$4>8,\"Production Period (Dates):\",\"\")","v":""},null,null,{"$f":"IF($C$4>8,\"Liquid Asphalt Heater\",\"\")","v":""},null,null,{"$f":"IF($C$4>8,IF(C145=\"natural gas\",\"(MMCF/hr)\",\"(gallons/hr)\"),\"\")","v":""},{"$f":"IF($C$4>8,IF(C145=\"natural gas\",\"(MMCF/yr)\",\"(gallons/yr)\"),\"\")","v":""}]
[null,{"$f":"IF($C$4>8,\"Type of Fuel Used:\",\"\")","v":""},null,null,{"$f":"IF(C145=\"\",\"\",\"AP-1 EP-2\")","v":""},{"$f":"IF(C145=\"\",\"\",\"AP-1 EU-2\")","v":""},{"$f":"IF(C145=\"\",\"\",C145& \" Fired Heater\")","v":""}]
[null,{"$f":"IF($C$4>8,\"Is Your Operation Controlled?:\",\"\")","v":""},null,null,{"$f":"IF($C$4>8,\"Silo Filling, Truck Loadout, Aggregate Transfer\",\"\")","v":""},null,null,{"$f":"IF($C$4>8,\"(tons/hr)\",\"\")","v":""},{"$f":"IF($C$4>8,\"(tons/yr)\",\"\")","v":""}]
[null,null,null,null,{"$f":"IF($C$4>8,\"AP-1 EP-3\",\"\")","v":""},{"$f":"IF($C$4>8,\"AP-1 EU-3\",\"\")","v":""},{"$f":"IF($C$4>8,\"Silo Filling\",\"\")","v":""}]
[null,null,null,null,{"$f":"IF($C$4>8,\"AP-1 EP-3\",\"\")","v":""},{"$f":"IF($C$4>8,\"AP-1 EU-4\",\"\")","v":""},{"$f":"IF($C$4>8,\"Truck Loadout\",\"\")","v":""}]
[null,null,null,null,{"$f":"IF($C$4>8,\"AP-1 EP-3\",\"\")","v":""},{"$f":"IF($C$4>8,\"AP-1 EU-5\",\"\")","v":""},{"$f":"IF($C$4>8,\"Cold Aggregate Bins\",\"\")","v":""}]
[]
[null,null,null,null,{"$f":"IF($C$4>8,\"Stock Pile Area\",\"\")","v":""}]
[null,null,null,null,null,{"$f":"IF($C$4>8,\"Emission Unit #\",\"\")","v":""},{"$f":"IF($C$4>8,\"Maximum Storage Area (acres)\",\"\")","v":""},{"$f":"IF($C$4>8,\"Actual Storage Area (acres)\",\"\")","v":""},{"$f":"IF($C$4>8,\"Actual Days in Existence (days)\",\"\")","v":""}]
[]
[]
[null,{"$f":"IF($C$4>9,\"Asphalt Plant\",\"\")","v":""},{"$f":"IF($C$4>9,\"Site 10\",\"\")","v":""},null,{"$f":"IF($C$4>9,\"Emission Point #\",\"\")","v":""},{"$f":"IF($C$4>9,\"Emission    Unit #\",\"\")","v":""},{"$f":"IF($C$4>9,\"Process\",\"\")","v":""},{"$f":"IF($C$4>9,\"Maximum Hourly     Design Rate\",\"\")","v":""},{"$f":"IF($C$4>9,('Facility Information'!G140&\" Annual Throughput\"),\"\")","v":""}]
[]
[null,{"$f":"IF($C$4>9,\"Site Name\",\"\")","v":""},null,null,{"$f":"IF($C$4>9,\"Dryers, Hot Screens, Mixer\",\"\")","v":""},null,null,{"$f":"IF($C$4>9,\"(tons/hr)\",\"\")","v":""},{"$f":"IF($C$4>9,\"(tons/yr)\",\"\")","v":""},"PM2.5","PM10"]
[null,{"$f":"IF($C$4>9,\"County:\",\"\")","v":""},null,null,{"$f":"IF(C160=\"\",\"\",\"AP-1 EP-1\")","v":""},{"$f":"IF(C160=\"\",\"\",\"AP-1 EU-1\")","v":""},{"$f":"IF(C160=\"\",\"\",C5 & \" - \"&C160)","v":""},null,null,{"$f":"IF(C161=\"\",\"\",IF(C161=\"yes\",LOOKUP(G158,'Emission Factors'!$A$12:$A$17,'Emission Factors'!$D$12:$D$17),LOOKUP(G158,'Emission Factors'!$A$5:$A$10,'Emission Factors'!$D$5:$D$10)))","v":""},{"$f":"IF(C161=\"\",\"\",IF(C161=\"yes\",LOOKUP(G158,'Emission Factors'!$A$12:$A$17,'Emission Factors'!$F$12:$F$17),LOOKUP(G158,'Emission Factors'!$A$5:$A$10,'Emission Factors'!$F$5:$F$10)))","v":""}]
[null,{"$f":"IF($C$4>9,\"Production Period (Dates):\",\"\")","v":""},null,null,{"$f":"IF($C$4>9,\"Liquid Asphalt Heater\",\"\")","v":""},null,null,{"$f":"IF($C$4>9,IF(C160=\"natural gas\",\"(MMCF/hr)\",\"(gallons/hr)\"),\"\")","v":""},{"$f":"IF($C$4>9,IF(C160=\"natural gas\",\"(MMCF/yr)\",\"(gallons/yr)\"),\"\")","v":""}]
[null,{"$f":"IF($C$4>9,\"Type of Fuel Used:\",\"\")","v":""},null,null,{"$f":"IF(C160=\"\",\"\",\"AP-1 EP-2\")","v":""},{"$f":"IF(C160=\"\",\"\",\"AP-1 EU-2\")","v":""},{"$f":"IF(C160=\"\",\"\",C160& \" Fired Heater\")","v":""}]
[null,{"$f":"IF($C$4>9,\"Is Your Operation Controlled?:\",\"\")","v":""},null,null,{"$f":"IF($C$4>9,\"Silo Filling, Truck Loadout, Aggregate Transfer\",\"\")","v":""},null,null,{"$f":"IF($C$4>9,\"(tons/hr)\",\"\")","v":""},{"$f":"IF($C$4>9,\"(tons/yr)\",\"\")","v":""}]
[null,null,null,null,{"$f":"IF($C$4>9,\"AP-1 EP-3\",\"\")","v":""},{"$f":"IF($C$4>9,\"AP-1 EU-3\",\"\")","v":""},{"$f":"IF($C$4>9,\"Silo Filling\",\"\")","v":""}]
[null,null,null,null,{"$f":"IF($C$4>9,\"AP-1 EP-3\",\"\")","v":""},{"$f":"IF($C$4>9,\"AP-1 EU-4\",\"\")","v":""},{"$f":"IF($C$4>9,\"Truck Loadout\",\"\")","v":""}]
[null,null,null,null,{"$f":"IF($C$4>9,\"AP-1 EP-3\",\"\")","v":""},{"$f":"IF($C$4>9,\"AP-1 EU-5\",\"\")","v":""},{"$f":"IF($C$4>9,\"Cold Aggregate Bins\",\"\")","v":""}]
[]
[null,null,null,null,{"$f":"IF($C$4>9,\"Stock Pile Area\",\"\")","v":""}]
[null,null,null,null,null,{"$f":"IF($C$4>9,\"Emission Unit #\",\"\")","v":""},{"$f":"IF($C$4>9,\"Maximum Storage Area (acres)\",\"\")","v":""},{"$f":"IF($C$4>9,\"Actual Storage Area (acres)\",\"\")","v":""},{"$f":"IF($C$4>9,\"Actual Days in Existence (days)\",\"\")","v":""}]

{"sheet":"Asphalt Plant (AP-2)","index":2,"n_rows":167,"n_cols":20,"rows_kept":167,"cut":false,"hidden":true,"merged":[[156,4,156,6],[158,4,158,6],[160,4,160,6],[139,7,140,7],[139,8,140,8],[141,4,141,6],[143,4,143,6],[145,4,145,6],[154,4,155,4],[154,5,155,5],[154,6,155,6],[154,7,155,7],[154,8,155,8],[126,4,126,6],[128,4,128,6],[130,4,130,6],[139,4,140,4],[139,5,140,5],[139,6,140,6],[109,7,110,7],[109,8,110,8],[111,4,111,6],[113,4,113,6],[115,4,115,6],[124,4,125,4],[124,5,125,5],[124,6,125,6],[124,7,125,7],[124,8,125,8],[96,4,96,6],[98,4,98,6],[100,4,100,6],[109,4,110,4],[109,5,110,5],[109,6,110,6],[79,7,80,7],[79,8,80,8],[81,4,81,6],[83,4,83,6],[85,4,85,6],[94,4,95,4],[94,5,95,5],[94,6,95,6],[94,7,95,7],[94,8,95,8],[66,4,66,6],[68,4,68,6],[70,4,70,6],[79,4,80,4],[79,5,80,5],[79,6,80,6],[49,8,50,8],[51,4,51,6],[53,4,53,6],[55,4,55,6],[64,4,65,4],[64,5,65,5],[64,6,65,6],[64,7,65,7],[64,8,65,8],[38,4,38,6],[40,4,40,6],[49,4,50,4],[49,5,50,5],[49,6,50,6],[49,7,50,7],[34,15,35,15],[34,16,35,16],[34,17,35,17],[34,18,35,18],[34,19,35,19],[36,4,36,6],[34,4,35,4],[34,5,35,5],[34,6,35,6],[34,7,35,7],[34,8,35,8],[34,14,35,14],[18,17,19,17],[18,18,19,18],[18,19,19,19],[19,4,20,4],[19,5,20,5],[19,6,20,6],[19,7,20,7],[19,8,20,8],[2,15,3,15],[2,16,3,16],[3,17,4,19],[12,1,14,2],[13,14,13,15],[14,14,14,15],[18,13,19,13],[18,14,19,14],[18,15,19,15],[18,16,19,16],[0,1,0,2],[1,1,1,2],[1,7,1,8],[2,12,3,12],[2,13,3,13],[2,14,3,14]]}
[null,"ASPHALT PLANT (AP-2)"]
[null,"Please fill in the yellow boxes as applicable for your facility. ",null,null,null,null,null,"Values used for calculating emissions →",null,null,null,null,"Values Used to Calculate Potential and Actual Emissions for the Listed Processes at this Plant"]
[null,null,null,null,null,null,null,null,null,null,null,null,"Process","Maximum Design Rate","Units","Actual throughput","Units"]
[null,{"$f":"\"Number of Sites this Plant operated at in \"&'Facility Information'!G5&\":\"","v":"Number of Sites this Plant operated at in :"},null,null,null,null,null,null,null,null,null,null,null,null,null,null,null,"** As of 2016 Potential Emissions are no longer required to be reported in the Minor Source Emissions Inventory**"]
[null,"Plant Type:",null,null,null,null,null,null,null,null,null,null,{"$f":"$C$5 & \" - Fuel Oil\"","v":" - Fuel Oil"},{"$f":"MAX((IFERROR(OFFSET($G$22,MATCH(M5,$G$23,0),1),0)),((IFERROR(OFFSET($G$37,MATCH(M5,$G$38,0),1),0))),((IFERROR(OFFSET($G$52,MATCH(M5,$G$53,0),1),0))),((IFERROR(OFFSET($G$67,MATCH(M5,$G$68,0),1),0))),((IFERROR(OFFSET($G$82,MATCH(M5,$G$83,0),1),0))),((IFERROR(OFFSET($G$97,MATCH(M5,$G$98,0),1),0))),((IFERROR(OFFSET($G$112,MATCH(M5,$G$113,0),1),0))),((IFERROR(OFFSET($G$127,MATCH(M5,$G$128,0),1),0))),((IFERROR(OFFSET($G$142,MATCH(M5,$G$143,0),1),0))),((IFERROR(OFFSET($G$157,MATCH(M5,$G$158,0),1),0))))","v":0},"tons/hr",{"$f":"SUM((IFERROR(OFFSET($G$22,MATCH(M5,$G$23,0),2),0)),((IFERROR(OFFSET($G$37,MATCH(M5,$G$38,0),2),0))),((IFERROR(OFFSET($G$52,MATCH(M5,$G$53,0),2),0))),((IFERROR(OFFSET($G$67,MATCH(M5,$G$68,0),2),0))),((IFERROR(OFFSET($G$82,MATCH(M5,$G$83,0),2),0))),((IFERROR(OFFSET($G$97,MATCH(M5,$G$98,0),2),0))),((IFERROR(OFFSET($G$112,MATCH(M5,$G$113,0),2),0))),((IFERROR(OFFSET($G$127,MATCH(M5,$G$128,0),2),0))),((IFERROR(OFFSET($G$142,MATCH(M5,$G$143,0),2),0))),((IFERROR(OFFSET($G$157,MATCH(M5,$G$158,0),2),0))))","v":0},"tons/yr"]
[null,null,null,null,null,null,null,null,null,null,null,null,{"$f":"$C$5 & \" - Waste Oil\"","v":" - Waste Oil"},{"$f":"MAX((IFERROR(OFFSET($G$22,MATCH(M6,$G$23,0),1),0)),((IFERROR(OFFSET($G$37,MATCH(M6,$G$38,0),1),0))),((IFERROR(OFFSET($G$52,MATCH(M6,$G$53,0),1),0))),((IFERROR(OFFSET($G$67,MATCH(M6,$G$68,0),1),0))),((IFERROR(OFFSET($G$82,MATCH(M6,$G$83,0),1),0))),((IFERROR(OFFSET($G$97,MATCH(M6,$G$98,0),1),0))),((IFERROR(OFFSET($G$112,MATCH(M6,$G$113,0),1),0))),((IFERROR(OFFSET($G$127,MATCH(M6,$G$128,0),1),0))),((IFERROR(OFFSET($G$142,MATCH(M6,$G$143,0),1),0))),((IFERROR(OFFSET($G$157,MATCH(M6,$G$158,0),1),0))))","v":0},"tons/hr",{"$f":"SUM((IFERROR(OFFSET($G$22,MATCH(M6,$G$23,0),2),0)),((IFERROR(OFFSET($G$37,MATCH(M6,$G$38,0),2),0))),((IFERROR(OFFSET($G$52,MATCH(M6,$G$53,0),2),0))),((IFERROR(OFFSET($G$67,MATCH(M6,$G$68,0),2),0))),((IFERROR(OFFSET($G$82,MATCH(M6,$G$83,0),2),0))),((IFERROR(OFFSET($G$97,MATCH(M6,$G$98,0),2),0))),((IFERROR(OFFSET($G$112,MATCH(M6,$G$113,0),2),0))),((IFERROR(OFFSET($G$127,MATCH(M6,$G$128,0),2),0))),((IFERROR(OFFSET($G$142,MATCH(M6,$G$143,0),2),0))),((IFERROR(OFFSET($G$157,MATCH(M6,$G$158,0),2),0))))","v":0},"tons/yr"]
[null,"Plant Specific Permit Number: ",null,null,null,null,null,null,null,null,null,null,{"$f":"$C$5 & \" - Natural Gas\"","v":" - Natural Gas"},{"$f":"MAX((IFERROR(OFFSET($G$22,MATCH(M7,$G$23,0),1),0)),((IFERROR(OFFSET($G$37,MATCH(M7,$G$38,0),1),0))),((IFERROR(OFFSET($G$52,MATCH(M7,$G$53,0),1),0))),((IFERROR(OFFSET($G$67,MATCH(M7,$G$68,0),1),0))),((IFERROR(OFFSET($G$82,MATCH(M7,$G$83,0),1),0))),((IFERROR(OFFSET($G$97,MATCH(M7,$G$98,0),1),0))),((IFERROR(OFFSET($G$112,MATCH(M7,$G$113,0),1),0))),((IFERROR(OFFSET($G$127,MATCH(M7,$G$128,0),1),0))),((IFERROR(OFFSET($G$142,MATCH(M7,$G$143,0),1),0))),((IFERROR(OFFSET($G$157,MATCH(M7,$G$158,0),1),0))))","v":0},"tons/hr",{"$f":"SUM((IFERROR(OFFSET($G$22,MATCH(M7,$G$23,0),2),0)),((IFERROR(OFFSET($G$37,MATCH(M7,$G$38,0),2),0))),((IFERROR(OFFSET($G$52,MATCH(M7,$G$53,0),2),0))),((IFERROR(OFFSET($G$67,MATCH(M7,$G$68,0),2),0))),((IFERROR(OFFSET($G$82,MATCH(M7,$G$83,0),2),0))),((IFERROR(OFFSET($G$97,MATCH(M7,$G$98,0),2),0))),((IFERROR(OFFSET($G$112,MATCH(M7,$G$113,0),2),0))),((IFERROR(OFFSET($G$127,MATCH(M7,$G$128,0),2),0))),((IFERROR(OFFSET($G$142,MATCH(M7,$G$143,0),2),0))),((IFERROR(OFFSET($G$157,MATCH(M7,$G$158,0),2),0))))","v":0},"tons/yr"]
[null,null,null,null,null,null,null,null,null,null,null,null,"Fuel Oil Fired Heater",{"$f":"MAX((IFERROR(OFFSET($G$24,MATCH(\"Fuel Oil Fired Heater\",$G$25,0),1),0)),((IFERROR(OFFSET($G$39,MATCH(\"Fuel Oil Fired Heater\",$G$40,0),1),0))),((IFERROR(OFFSET($G$54,MATCH(\"Fuel Oil Fired Heater\",$G$55,0),1),0))),((IFERROR(OFFSET($G$69,MATCH(\"Fuel Oil Fired Heater\",$G$70,0),1),0))),((IFERROR(OFFSET($G$84,MATCH(\"Fuel Oil Fired Heater\",$G$85,0),1),0))),((IFERROR(OFFSET($G$99,MATCH(\"Fuel Oil Fired Heater\",$G$100,0),1),0))),((IFERROR(OFFSET($G$114,MATCH(\"Fuel Oil Fired Heater\",$G$115,0),1),0))),((IFERROR(OFFSET($G$129,MATCH(\"Fuel Oil Fired Heater\",$G$130,0),1),0))),((IFERROR(OFFSET($G$144,MATCH(\"Fuel Oil Fired Heater\",$G$145,0),1),0))),((IFERROR(OFFSET($G$159,MATCH(\"Fuel Oil Fired Heater\",$G$160,0),1),0))))","v":0},"gallons/hr",{"$f":"SUM((IFERROR(OFFSET($G$24,MATCH(\"Fuel Oil Fired Heater\",$G$25,0),2),0)),((IFERROR(OFFSET($G$39,MATCH(\"Fuel Oil Fired Heater\",$G$40,0),2),0))),((IFERROR(OFFSET($G$54,MATCH(\"Fuel Oil Fired Heater\",$G$55,0),2),0))),((IFERROR(OFFSET($G$69,MATCH(\"Fuel Oil Fired Heater\",$G$70,0),2),0))),((IFERROR(OFFSET($G$84,MATCH(\"Fuel Oil Fired Heater\",$G$85,0),2),0))),((IFERROR(OFFSET($G$99,MATCH(\"Fuel Oil Fired Heater\",$G$100,0),2),0))),((IFERROR(OFFSET($G$114,MATCH(\"Fuel Oil Fired Heater\",$G$115,0),2),0))),((IFERROR(OFFSET($G$129,MATCH(\"Fuel Oil Fired Heater\",$G$130,0),2),0))),((IFERROR(OFFSET($G$144,MATCH(\"Fuel Oil Fired Heater\",$G$145,0),2),0))),((IFERROR(OFFSET($G$159,MATCH(\"Fuel Oil Fired Heater\",$G$160,0),2),0))))","v":0},"gallons/yr"]
[null,"Plant Specific Operating Limits:",null,null,"Plant Specific Emission Limits:",null,null,null,null,null,null,null,"Waste Oil Fired Heater",{"$f":"MAX((IFERROR(OFFSET($G$24,MATCH(\"waste oil Fired Heater\",$G$25,0),1),0)),((IFERROR(OFFSET($G$39,MATCH(\"waste oil Fired Heater\",$G$40,0),1),0))),((IFERROR(OFFSET($G$54,MATCH(\"waste oil Fired Heater\",$G$55,0),1),0))),((IFERROR(OFFSET($G$69,MATCH(\"waste oil Fired Heater\",$G$70,0),1),0))),((IFERROR(OFFSET($G$84,MATCH(\"waste oil Fired Heater\",$G$85,0),1),0))),((IFERROR(OFFSET($G$99,MATCH(\"waste oil Fired Heater\",$G$100,0),1),0))),((IFERROR(OFFSET($G$114,MATCH(\"waste oil Fired Heater\",$G$115,0),1),0))),((IFERROR(OFFSET($G$129,MATCH(\"waste oil Fired Heater\",$G$130,0),1),0))),((IFERROR(OFFSET($G$144,MATCH(\"waste oil Fired Heater\",$G$145,0),1),0))),((IFERROR(OFFSET($G$159,MATCH(\"waste oil Fired Heater\",$G$160,0),1),0))))","v":0},"gallons/hr",{"$f":"SUM((IFERROR(OFFSET($G$24,MATCH(\"waste oil Fired Heater\",$G$25,0),2),0)),((IFERROR(OFFSET($G$39,MATCH(\"waste oil Fired Heater\",$G$40,0),2),0))),((IFERROR(OFFSET($G$54,MATCH(\"waste oil Fired Heater\",$G$55,0),2),0))),((IFERROR(OFFSET($G$69,MATCH(\"waste oil Fired Heater\",$G$70,0),2),0))),((IFERROR(OFFSET($G$84,MATCH(\"waste oil Fired Heater\",$G$85,0),2),0))),((IFERROR(OFFSET($G$99,MATCH(\"waste oil Fired Heater\",$G$100,0),2),0))),((IFERROR(OFFSET($G$114,MATCH(\"waste oil Fired Heater\",$G$115,0),2),0))),((IFERROR(OFFSET($G$129,MATCH(\"waste oil Fired Heater\",$G$130,0),2),0))),((IFERROR(OFFSET($G$144,MATCH(\"waste oil Fired Heater\",$G$145,0),2),0))),((IFERROR(OFFSET($G$159,MATCH(\"waste oil Fired Heater\",$G$160,0),2),0))))","v":0},"gallons/yr"]
[null,"Throughput Limit (tons/yr):",null,null,"Pollutant","lb/hr","tons/yr",null,null,null,null,null,"Natural Gas Fired Heater",{"$f":"MAX((IFERROR(OFFSET($G$24,MATCH(\"Natural Gas Fired Heater\",$G$25,0),1),0)),((IFERROR(OFFSET($G$39,MATCH(\"Natural Gas Fired Heater\",$G$40,0),1),0))),((IFERROR(OFFSET($G$54,MATCH(\"Natural Gas Fired Heater\",$G$55,0),1),0))),((IFERROR(OFFSET($G$69,MATCH(\"Natural Gas Fired Heater\",$G$70,0),1),0))),((IFERROR(OFFSET($G$84,MATCH(\"Natural Gas Fired Heater\",$G$85,0),1),0))),((IFERROR(OFFSET($G$99,MATCH(\"Natural Gas Fired Heater\",$G$100,0),1),0))),((IFERROR(OFFSET($G$114,MATCH(\"Natural Gas Fired Heater\",$G$115,0),1),0))),((IFERROR(OFFSET($G$129,MATCH(\"Natural Gas Fired Heater\",$G$130,0),1),0))),((IFERROR(OFFSET($G$144,MATCH(\"Natural Gas Fired Heater\",$G$145,0),1),0))),((IFERROR(OFFSET($G$159,MATCH(\"Natural Gas Fired Heater\",$G$160,0),1),0))))","v":0},"MMCF/hr",{"$f":"SUM((IFERROR(OFFSET($G$24,MATCH(\"Natural Gas Fired Heater\",$G$25,0),2),0)),((IFERROR(OFFSET($G$39,MATCH(\"Natural Gas Fired Heater\",$G$40,0),2),0))),((IFERROR(OFFSET($G$54,MATCH(\"Natural Gas Fired Heater\",$G$55,0),2),0))),((IFERROR(OFFSET($G$69,MATCH(\"Natural Gas Fired Heater\",$G$70,0),2),0))),((IFERROR(OFFSET($G$84,MATCH(\"Natural Gas Fired Heater\",$G$85,0),2),0))),((IFERROR(OFFSET($G$99,MATCH(\"Natural Gas Fired Heater\",$G$100,0),2),0))),((IFERROR(OFFSET($G$114,MATCH(\"Natural Gas Fired Heater\",$G$115,0),2),0))),((IFERROR(OFFSET($G$129,MATCH(\"Natural Gas Fired Heater\",$G$130,0),2),0))),((IFERROR(OFFSET($G$144,MATCH(\"Natural Gas Fired Heater\",$G$145,0),2),0))),((IFERROR(OFFSET($G$159,MATCH(\"Natural Gas Fired Heater\",$G$160,0),2),0))))","v":0},"MMCF/yr"]
[null,"Daily Throughput Limit (tons/day):",null,null,"PM2.5",null,null,null,null,null,null,null,"Silo Filling",{"$f":"MAX((IFERROR(OFFSET($G$26,MATCH(\"Silo Filling\",$G$27,0),1),0)),((IFERROR(OFFSET($G$41,MATCH(\"Silo Filling\",$G$42,0),1),0))),((IFERROR(OFFSET($G$56,MATCH(\"Silo Filling\",$G$57,0),1),0))),((IFERROR(OFFSET($G$71,MATCH(\"Silo Filling\",$G$72,0),1),0))),((IFERROR(OFFSET($G$86,MATCH(\"Silo Filling\",$G$87,0),1),0))),((IFERROR(OFFSET($G$101,MATCH(\"Silo Filling\",$G$102,0),1),0))),((IFERROR(OFFSET($G$116,MATCH(\"Silo Filling\",$G$117,0),1),0))),((IFERROR(OFFSET($G$131,MATCH(\"Silo Filling\",$G$132,0),1),0))),((IFERROR(OFFSET($G$146,MATCH(\"Silo Filling\",$G$147,0),1),0))),((IFERROR(OFFSET($G$161,MATCH(\"Silo Filling\",$G$162,0),1),0))))","v":0},"tons/hr",{"$f":"SUM((IFERROR(OFFSET($G$26,MATCH(\"Silo Filling\",$G$27,0),2),0)),((IFERROR(OFFSET($G$41,MATCH(\"Silo Filling\",$G$42,0),2),0))),((IFERROR(OFFSET($G$56,MATCH(\"Silo Filling\",$G$57,0),2),0))),((IFERROR(OFFSET($G$71,MATCH(\"Silo Filling\",$G$72,0),2),0))),((IFERROR(OFFSET($G$86,MATCH(\"Silo Filling\",$G$87,0),2),0))),((IFERROR(OFFSET($G$101,MATCH(\"Silo Filling\",$G$102,0),2),0))),((IFERROR(OFFSET($G$116,MATCH(\"Silo Filling\",$G$117,0),2),0))),((IFERROR(OFFSET($G$131,MATCH(\"Silo Filling\",$G$132,0),2),0))),((IFERROR(OFFSET($G$146,MATCH(\"Silo Filling\",$G$147,0),2),0))),((IFERROR(OFFSET($G$161,MATCH(\"Silo Filling\",$G$162,0),2),0))))","v":0},"tons/yr"]
[null,"Hours of Operation Limit (hours/day):",null,null,"PM10",null,null,null,null,null,null,null,"Truck Loadout",{"$f":"MAX((IFERROR(OFFSET(G27,MATCH(\"Truck Loadout\",G28,0),1),0)),((IFERROR(OFFSET(G42,MATCH(\"Truck Loadout\",G43,0),1),0))),((IFERROR(OFFSET(G57,MATCH(\"Truck Loadout\",G58,0),1),0))),((IFERROR(OFFSET(G72,MATCH(\"Truck Loadout\",G73,0),1),0))),((IFERROR(OFFSET(G87,MATCH(\"Truck Loadout\",G88,0),1),0))),((IFERROR(OFFSET(G102,MATCH(\"Truck Loadout\",G103,0),1),0))),((IFERROR(OFFSET(G117,MATCH(\"Truck Loadout\",G118,0),1),0))),((IFERROR(OFFSET(G132,MATCH(\"Truck Loadout\",G133,0),1),0))),((IFERROR(OFFSET(G147,MATCH(\"Truck Loadout\",G148,0),1),0))),((IFERROR(OFFSET(G162,MATCH(\"Truck Loadout\",G163,0),1),0))))","v":0},"tons/hr",{"$f":"SUM((IFERROR(OFFSET(G27,MATCH(\"Truck Loadout\",G28,0),2),0)),((IFERROR(OFFSET(G42,MATCH(\"Truck Loadout\",G43,0),2),0))),((IFERROR(OFFSET(G57,MATCH(\"Truck Loadout\",G58,0),2),0))),((IFERROR(OFFSET(G72,MATCH(\"Truck Loadout\",G73,0),2),0))),((IFERROR(OFFSET(G87,MATCH(\"Truck Loadout\",G88,0),2),0))),((IFERROR(OFFSET(G102,MATCH(\"Truck Loadout\",G103,0),2),0))),((IFERROR(OFFSET(G117,MATCH(\"Truck Loadout\",G118,0),2),0))),((IFERROR(OFFSET(G132,MATCH(\"Truck Loadout\",G133,0),2),0))),((IFERROR(OFFSET(G147,MATCH(\"Truck Loadout\",G148,0),2),0))),((IFERROR(OFFSET(G162,MATCH(\"Truck Loadout\",G163,0),2),0))))","v":0},"tons/yr"]
["Fuel Oil","Note: if the plant has an hrs/day and a tons/hr permit limit, those values should be multiplied together to calculate a tons/day limit and that value should be placed in cell C11.",null,null,"SO2",null,null,null,null,null,null,null,"Cold Aggregate Bins",{"$f":"MAX((IFERROR(OFFSET(G28,MATCH(\"Cold Aggregate Bins\",G29,0),1),0)),((IFERROR(OFFSET(G43,MATCH(\"Cold Aggregate Bins\",G44,0),1),0))),((IFERROR(OFFSET(G58,MATCH(\"Cold Aggregate Bins\",G59,0),1),0))),((IFERROR(OFFSET(G73,MATCH(\"Cold Aggregate Bins\",G74,0),1),0))),((IFERROR(OFFSET(G88,MATCH(\"Cold Aggregate Bins\",G89,0),1),0))),((IFERROR(OFFSET(G103,MATCH(\"Cold Aggregate Bins\",G104,0),1),0))),((IFERROR(OFFSET(G118,MATCH(\"Cold Aggregate Bins\",G119,0),1),0))),((IFERROR(OFFSET(G133,MATCH(\"Cold Aggregate Bins\",G134,0),1),0))),((IFERROR(OFFSET(G148,MATCH(\"Cold Aggregate Bins\",G149,0),1),0))),((IFERROR(OFFSET(G163,MATCH(\"Cold Aggregate Bins\",G164,0),1),0))))","v":0},"tons/hr",{"$f":"SUM((IFERROR(OFFSET(G28,MATCH(\"Cold Aggregate Bins\",G29,0),2),0)),((IFERROR(OFFSET(G43,MATCH(\"Cold Aggregate Bins\",G44,0),2),0))),((IFERROR(OFFSET(G58,MATCH(\"Cold Aggregate Bins\",G59,0),2),0))),((IFERROR(OFFSET(G73,MATCH(\"Cold Aggregate Bins\",G74,0),2),0))),((IFERROR(OFFSET(G88,MATCH(\"Cold Aggregate Bins\",G89,0),2),0))),((IFERROR(OFFSET(G103,MATCH(\"Cold Aggregate Bins\",G104,0),2),0))),((IFERROR(OFFSET(G118,MATCH(\"Cold Aggregate Bins\",G119,0),2),0))),((IFERROR(OFFSET(G133,MATCH(\"Cold Aggregate Bins\",G134,0),2),0))),((IFERROR(OFFSET(G148,MATCH(\"Cold Aggregate Bins\",G149,0),2),0))),((IFERROR(OFFSET(G163,MATCH(\"Cold Aggregate Bins\",G164,0),2),0))))","v":0},"tons/yr"]
["Natural Gas",null,null,null,"NOx",null,null,null,null,null,null,null,null,"Maximum (acres)","Actual (acres-day/yr)"]
["Waste Oil",null,null,null,"VOC",null,null,null,null,null,null,null,"Storage Pile",{"$f":"SUM(G33,G48,G63,G78,G93,G108,G123,G138,G153,G168,)","v":0},{"$f":"SUM(H33*I33,H48*I48,H63*I63,H78*I78,H93*I93,H108*I108,H123*I123,H138*I138,H153*I153,H168*I168)","v":0}]
[null,null,null,null,"CO"]
["Batch Mix Plant"]
["Drum Mix Plant",null,null,null,null,null,null,null,null,null,null,null,"Potential and Actual Emissions for the Listed Processes at this Plant"]
[null,null,null,null,null,null,null,null,null,null,null,null,null,"Maximum Design Rate (tons/hr)","Emission Factor","Units","Potential Uncontrolled Emissions (lb/hr)","Potential Controlled Emissions (lb/hr)","Potential Annual Emissions (tons/yr)","Actual Annual Emissions (tons/yr)"]
[null,"Asphalt Plant","Site 1",null,"Emission Point #","Emission     Unit #","Processes","Maximum Hourly     Design Rate",{"$f":"('Facility Information'!G5&\" Annual Throughput\")","v":" Annual Throughput"},null,null,null,"PM2.5"]
["YES",null,null,null,null,null,null,null,null,null,null,null,{"$f":"$C$5 & \" - Fuel Oil\"","v":" - Fuel Oil"},{"$f":"N5","v":0},{"$f":"IF(N21=0,0,IF(MAX((IFERROR(OFFSET($G$22,MATCH(M21,$G$23,0),3),0)),((IFERROR(OFFSET($G$37,MATCH(M21,$G$38,0),3),0))),((IFERROR(OFFSET($G$52,MATCH(M21,$G$53,0),3),0))),((IFERROR(OFFSET($G$67,MATCH(M21,$G$68,0),3),0))),((IFERROR(OFFSET($G$82,MATCH(M21,$G$83,0),3),0))),((IFERROR(OFFSET($G$97,MATCH(M21,$G$98,0),3),0))),((IFERROR(OFFSET($G$112,MATCH(M21,$G$113,0),3),0))),((IFERROR(OFFSET($G$127,MATCH(M21,$G$128,0),3),0))),((IFERROR(OFFSET($G$142,MATCH(M21,$G$143,0),3),0))),((IFERROR(OFFSET($G$157,MATCH(M21,$G$158,0),3),0))))=0,0,(MAX((IFERROR(OFFSET($G$22,MATCH(M21,$G$23,0),3),0)),((IFERROR(OFFSET($G$37,MATCH(M21,$G$38,0),3),0))),((IFERROR(OFFSET($G$52,MATCH(M21,$G$53,0),3),0))),((IFERROR(OFFSET($G$67,MATCH(M21,$G$68,0),3),0))),((IFERROR(OFFSET($G$82,MATCH(M21,$G$83,0),3),0))),((IFERROR(OFFSET($G$97,MATCH(M21,$G$98,0),3),0))),((IFERROR(OFFSET($G$112,MATCH(M21,$G$113,0),3),0))),((IFERROR(OFFSET($G$127,MATCH(M21,$G$128,0),3),0))),((IFERROR(OFFSET($G$142,MATCH(M21,$G$143,0),3),0))),((IFERROR(OFFSET($G$157,MATCH(M21,$G$158,0),3),0)))))))","v":0},{"$f":"IF(O21=\"\",\"\",\"lb/ton\")","v":"lb/ton"},{"$f":"IF(O21=0.27,N21*O21,IF(O21=1.54,N21*O21,\"\"))","v":""},{"$f":"IF(N21=0,\"\",IF(AND($F$11>0,$O$21>=$O$22,$O$21>=$O$23),$F$11,IF(O21=0.0083,N21*O21,IF(O21=0.007,N21*O21,\"\"))))","v":""},{"$f":"IF(N21=0,0,IF($G$11>0,$G$11,IF(AND(OR($C$10>0,$C$11>0,$C$12>0),$O$21>=$O$22,$O$21>=$O$23),(IF($C$10>0,$C$10*O21/2000,IF($C$11>0,$C$11*365*O21/2000,IF($C$12>0,$C$12*365*O21*N21/2000)))),IF(AND($F$11>0,$O$21>=$O$22,$O$21>=$O$23),$F$11*8760/2000,IF(AND(OR($C$10=\"\",$C$10=0),OR($C$11=\"\",$C$11=0),OR($C$12=\"\",$C$12=0),$F$11=\"\"),IF(R21=\"\",Q21*8760/2000,R21*8760/2000),\"\")))))","v":0},{"$f":"IF(N21=\"\",\"\",SUM((IFERROR(MATCH(M21,$G$23,0)*$I$23*$J$23/2000,0)),(IFERROR(MATCH(M21,$G$38,0)*$I$38*$J$38/2000,0)),(IFERROR(MATCH(M21,$G$53,0)*$I$53*$J$53/2000,0)),(IFERROR(MATCH(M21,$G$68,0)*$I$68*$J$68/2000,0)),(IFERROR(MATCH(M21,$G$83,0)*$I$83*$J$83/2000,0)),(IFERROR(MATCH(M21,$G$98,0)*$I$98*$J$98/2000,0)),(IFERROR(MATCH(M21,$G$113,0)*$I$113*$J$113/2000,0)),(IFERROR(MATCH(M21,$G$128,0)*$I$128*$J$128/2000,0)),(IFERROR(MATCH(M21,$G$143,0)*$I$143*$J$143/2000,0)),(IFERROR(MATCH(M21,$G$158,0)*$I$158*$J$158/2000,0))))","v":0}]
["NO","Site Name:",null,null,"Dryer, Hot Screens, Mixer",null,null,"(tons/hr)","(tons/yr)","PM2.5","PM10",null,{"$f":"$C$5 & \" - Waste Oil\"","v":" - Waste Oil"},{"$f":"N6","v":0},{"$f":"IF(N22=0,0,IF(MAX((IFERROR(OFFSET($G$22,MATCH(M22,$G$23,0),3),0)),((IFERROR(OFFSET($G$37,MATCH(M22,$G$38,0),3),0))),((IFERROR(OFFSET($G$52,MATCH(M22,$G$53,0),3),0))),((IFERROR(OFFSET($G$67,MATCH(M22,$G$68,0),3),0))),((IFERROR(OFFSET($G$82,MATCH(M22,$G$83,0),3),0))),((IFERROR(OFFSET($G$97,MATCH(M22,$G$98,0),3),0))),((IFERROR(OFFSET($G$112,MATCH(M22,$G$113,0),3),0))),((IFERROR(OFFSET($G$127,MATCH(M22,$G$128,0),3),0))),((IFERROR(OFFSET($G$142,MATCH(M22,$G$143,0),3),0))),((IFERROR(OFFSET($G$157,MATCH(M22,$G$158,0),3),0))))=0,0,(MAX((IFERROR(OFFSET($G$22,MATCH(M22,$G$23,0),3),0)),((IFERROR(OFFSET($G$37,MATCH(M22,$G$38,0),3),0))),((IFERROR(OFFSET($G$52,MATCH(M22,$G$53,0),3),0))),((IFERROR(OFFSET($G$67,MATCH(M22,$G$68,0),3),0))),((IFERROR(OFFSET($G$82,MATCH(M22,$G$83,0),3),0))),((IFERROR(OFFSET($G$97,MATCH(M22,$G$98,0),3),0))),((IFERROR(OFFSET($G$112,MATCH(M22,$G$113,0),3),0))),((IFERROR(OFFSET($G$127,MATCH(M22,$G$128,0),3),0))),((IFERROR(OFFSET($G$142,MATCH(M22,$G$143,0),3),0))),((IFERROR(OFFSET($G$157,MATCH(M22,$G$158,0),3),0)))))))","v":0},"lb/ton",{"$f":"IF(O22=0.27,N22*O22,IF(O22=1.54,N22*O22,\"\"))","v":""},{"$f":"IF(N22=0,\"\",IF(AND($F$11>0,$O$22>$O$21,$O$22>=$O$23),$F$11,IF(O22=0.0083,N22*O22,IF(O22=0.007,N22*O22,\"\"))))","v":""},{"$f":"IF(N22=0,0,IF($G$11>0,IF(S21=0,G11,\"\"),IF(AND(OR($C$10>0,$C$11>0,$C$12>0),$O$22>$O$21,$O$22>=$O$23),(IF($C$10>0,$C$10*O22/2000,IF($C$11>0,$C$11*365*O22/2000,IF($C$12>0,$C$12*365*O22*N22/2000)))),IF(AND($F$11>0,$O$22>$O$21,$O$22>=$O$23),$F$11*8760/2000,IF(AND(OR($C$10=\"\",$C$10=0),OR($C$11=\"\",$C$11=0),OR($C$12=\"\",$C$12=0),$F$11=\"\"),IF(R22=\"\",Q22*8760/2000,R22*8760/2000),\"\")))))","v":0},{"$f":"IF(N22=\"\",\"\",SUM((IFERROR(MATCH(M22,$G$23,0)*$I$23*$J$23/2000,0)),(IFERROR(MATCH(M22,$G$38,0)*$I$38*$J$38/2000,0)),(IFERROR(MATCH(M22,$G$53,0)*$I$53*$J$53/2000,0)),(IFERROR(MATCH(M22,$G$68,0)*$I$68*$J$68/2000,0)),(IFERROR(MATCH(M22,$G$83,0)*$I$83*$J$83/2000,0)),(IFERROR(MATCH(M22,$G$98,0)*$I$98*$J$98/2000,0)),(IFERROR(MATCH(M22,$G$113,0)*$I$113*$J$113/2000,0)),(IFERROR(MATCH(M22,$G$128,0)*$I$128*$J$128/2000,0)),(IFERROR(MATCH(M22,$G$143,0)*$I$143*$J$143/2000,0)),(IFERROR(MATCH(M22,$G$158,0)*$I$158*$J$158/2000,0))))","v":0}]
[null,"County:",null,null,{"$f":"IF($C$4>0,\"AP-2 EP-1\",\"\")","v":""},{"$f":"IF($C$4>0,\"AP-2 EU-1\",\"\")","v":""},{"$f":"IF(C25=\"\",\"\",C5 & \" - \"&C25)","v":""},null,null,{"$f":"IF(C26=\"\",\"\",IF(C26=\"yes\",LOOKUP(G23,'Emission Factors'!$A$12:$A$17,'Emission Factors'!$D$12:$D$17),LOOKUP(G23,'Emission Factors'!$A$5:$A$10,'Emission Factors'!$D$5:$D$10)))","v":""},{"$f":"IF(C26=\"\",\"\",IF(C26=\"yes\",LOOKUP(G23,'Emission Factors'!$A$12:$A$17,'Emission Factors'!$F$12:$F$17),LOOKUP(G23,'Emission Factors'!$A$5:$A$10,'Emission Factors'!$F$5:$F$10)))","v":""},null,{"$f":"$C$5 & \" - Natural Gas\"","v":" - Natural Gas"},{"$f":"N7","v":0},{"$f":"IF(N23=0,0,IF(MAX((IFERROR(OFFSET($G$22,MATCH(M23,$G$23,0),3),0)),((IFERROR(OFFSET($G$37,MATCH(M23,$G$38,0),3),0))),((IFERROR(OFFSET($G$52,MATCH(M23,$G$53,0),3),0))),((IFERROR(OFFSET($G$67,MATCH(M23,$G$68,0),3),0))),((IFERROR(OFFSET($G$82,MATCH(M23,$G$83,0),3),0))),((IFERROR(OFFSET($G$97,MATCH(M23,$G$98,0),3),0))),((IFERROR(OFFSET($G$112,MATCH(M23,$G$113,0),3),0))),((IFERROR(OFFSET($G$127,MATCH(M23,$G$128,0),3),0))),((IFERROR(OFFSET($G$142,MATCH(M23,$G$143,0),3),0))),((IFERROR(OFFSET($G$157,MATCH(M23,$G$158,0),3),0))))=0,0,(MAX((IFERROR(OFFSET($G$22,MATCH(M23,$G$23,0),3),0)),((IFERROR(OFFSET($G$37,MATCH(M23,$G$38,0),3),0))),((IFERROR(OFFSET($G$52,MATCH(M23,$G$53,0),3),0))),((IFERROR(OFFSET($G$67,MATCH(M23,$G$68,0),3),0))),((IFERROR(OFFSET($G$82,MATCH(M23,$G$83,0),3),0))),((IFERROR(OFFSET($G$97,MATCH(M23,$G$98,0),3),0))),((IFERROR(OFFSET($G$112,MATCH(M23,$G$113,0),3),0))),((IFERROR(OFFSET($G$127,MATCH(M23,$G$128,0),3),0))),((IFERROR(OFFSET($G$142,MATCH(M23,$G$143,0),3),0))),((IFERROR(OFFSET($G$157,MATCH(M23,$G$158,0),3),0)))))))","v":0},"lb/ton",{"$f":"IF(O23=0.27,N23*O23,IF(O23=1.54,N23*O23,\"\"))","v":""},{"$f":"IF(N23=0,\"\",IF(AND($F$11>0,$O$23>$O$21,$O$23>$O$21),$F$11,IF(O23=0.0083,N23*O23,IF(O23=0.007,N23*O23,\"\"))))","v":""},{"$f":"IF(N23=0,0,IF($G$11>0,IF(AND(S21=0,S22=0),\"\"),IF(AND(OR($C$10>0,$C$11>0,$C$12>0),$O$23>$O$21,$O$23>$O$21),(IF($C$10>0,$C$10*O23/2000,IF($C$11>0,$C$11*365*O23/2000,IF($C$12>0,$C$12*365*O23*N23/2000)))),IF(AND($F$11>0,$O$23>$O$21,$O$23>$O$21),$F$11*8760/2000,IF(AND(OR($C$10=\"\",$C$10=0),OR($C$11=\"\",$C$11=0),OR($C$12=\"\",$C$12=0),$F$11=\"\"),IF(R23=\"\",Q23*8760/2000,R23*8760/2000),\"\")))))","v":0},{"$f":"IF(N23=\"\",\"\",SUM((IFERROR(MATCH(M23,$G$23,0)*$I$23*$J$23/2000,0)),(IFERROR(MATCH(M23,$G$38,0)*$I$38*$J$38/2000,0)),(IFERROR(MATCH(M23,$G$53,0)*$I$53*$J$53/2000,0)),(IFERROR(MATCH(M23,$G$68,0)*$I$68*$J$68/2000,0)),(IFERROR(MATCH(M23,$G$83,0)*$I$83*$J$83/2000,0)),(IFERROR(MATCH(M23,$G$98,0)*$I$98*$J$98/2000,0)),(IFERROR(MATCH(M23,$G$113,0)*$I$113*$J$113/2000,0)),(IFERROR(MATCH(M23,$G$128,0)*$I$128*$J$128/2000,0)),(IFERROR(MATCH(M23,$G$143,0)*$I$143*$J$143/2000,0)),(IFERROR(MATCH(M23,$G$158,0)*$I$158*$J$158/2000,0))))","v":0}]
[null,"Production Period (Dates):",null,null,"Liquid Asphalt Heater",null,null,{"$f":"IF(C25=\"natural gas\", \"(MMCF/hr)\",\"(gallons/hr)\")","v":"(gallons/hr)"},{"$f":"IF(C25=\"natural gas\", \"(MMCF/yr)\",\"(gallons/yr)\")","v":"(gallons/yr)"},null,null,null,"Silo Filling",{"$f":"N11","v":0},{"$f":"IF(N24=0,0,IF(N24=0,0,LOOKUP(M24,'Emission Factors'!$A$23:$A$25,'Emission Factors'!$D$23:$D$25)))","v":0},"lb/ton",{"$f":"N24*O24","v":0},null,{"$f":"IF($G$11>0,\"\",IF($C$10>0,$C$10*O24/2000,IF($C$11>0,$C$11*365*O24/2000,IF($C$12>0,$C$12*365*O24*N24/2000,IF($F$11>0,\"\",IF(R24=\"\",Q24*8760/2000,R24*8760/2000))))))","v":0},{"$f":"(P11*O24/2000)","v":0}]
[null,"Type of Fuel Used:",null,null,{"$f":"IF($C$4>0,\"AP-2 EP-2\",\"\")","v":""},{"$f":"IF($C$4>0,\"AP-2 EU-2\",\"\")","v":""},{"$f":"IF(C25=\"\",\"\",C25& \" Fired Heater\")","v":""},null,null,null,null,null,"Truck Loadout",{"$f":"N12","v":0},{"$f":"IF(N25=0,0,IF(N25=0,0,LOOKUP(M25,'Emission Factors'!$A$23:$A$25,'Emission Factors'!$D$23:$D$25)))","v":0},"lb/ton",{"$f":"N25*O25","v":0},null,{"$f":"IF($G$11>0,\"\",IF($C$10>0,$C$10*O25/2000,IF($C$11>0,$C$11*365*O25/2000,IF($C$12>0,$C$12*365*O25*N25/2000,IF($F$11>0,\"\",IF(R25=\"\",Q25*8760/2000,R25*8760/2000))))))","v":0},{"$f":"(P12*O25/2000)","v":0}]
[null,"Is Your Operation Controlled?:",null,null,"Silo Filling, Truck Loadout, Aggregate Transfer",null,null,"(tons/hr)","(tons/yr)",null,null,null,"Cold Aggregate Bins",{"$f":"N13","v":0},{"$f":"IF(N26=0,0,IF(N26=0,0,LOOKUP(M26,'Emission Factors'!A23:A25,'Emission Factors'!D23:D25)))","v":0},"lb/ton",{"$f":"N26*O26","v":0},null,{"$f":"IF($G$11>0,\"\",IF($C$10>0,$C$10*O26/2000,IF($C$11>0,$C$11*365*O26/2000,IF($C$12>0,$C$12*365*O26*N26/2000,IF($F$11>0,\"\",IF(R26=\"\",Q26*8760/2000,R26*8760/2000))))))","v":0},{"$f":"(P13*O26/2000)","v":0}]
[null,null,null,null,{"$f":"IF($C$4>0,\"AP-2 EP-3\",\"\")","v":""},{"$f":"IF($C$4>0,\"AP-2 EU-3\",\"\")","v":""},{"$f":"IF(C5=\"\",\"\",\"Silo Filling\")","v":""},null,null,null,null,null,"PM10"]
[null,null,null,null,{"$f":"IF($C$4>0,\"AP-2 EP-3\",\"\")","v":""},{"$f":"IF($C$4>0,\"AP-2 EU-4\",\"\")","v":""},{"$f":"IF(C5=\"\",\"\",\"Truck Loadout\")","v":""},null,null,null,null,null,{"$f":"$C$5 & \" - Fuel Oil\"","v":" - Fuel Oil"},{"$f":"N5","v":0},{"$f":"IF(N28=0,0,IF(MAX((IFERROR(OFFSET($G$22,MATCH(M28,$G$23,0),4),0)),((IFERROR(OFFSET($G$37,MATCH(M28,$G$38,0),4),0))),((IFERROR(OFFSET($G$52,MATCH(M28,$G$53,0),4),0))),((IFERROR(OFFSET($G$67,MATCH(M28,$G$68,0),4),0))),((IFERROR(OFFSET($G$82,MATCH(M28,$G$83,0),3),0))),((IFERROR(OFFSET($G$97,MATCH(M28,$G$98,0),4),0))),((IFERROR(OFFSET($G$112,MATCH(M28,$G$113,0),4),0))),((IFERROR(OFFSET($G$127,MATCH(M28,$G$128,0),4),0))),((IFERROR(OFFSET($G$142,MATCH(M28,$G$143,0),4),0))),((IFERROR(OFFSET($G$157,MATCH(M28,$G$158,0),4),0))))=0,0,(MAX((IFERROR(OFFSET($G$22,MATCH(M28,$G$23,0),4),0)),((IFERROR(OFFSET($G$37,MATCH(M28,$G$38,0),4),0))),((IFERROR(OFFSET($G$52,MATCH(M28,$G$53,0),4),0))),((IFERROR(OFFSET($G$67,MATCH(M28,$G$68,0),4),0))),((IFERROR(OFFSET($G$82,MATCH(M28,$G$83,0),4),0))),((IFERROR(OFFSET($G$97,MATCH(M28,$G$98,0),4),0))),((IFERROR(OFFSET($G$112,MATCH(M28,$G$113,0),4),0))),((IFERROR(OFFSET($G$127,MATCH(M28,$G$128,0),4),0))),((IFERROR(OFFSET($G$142,MATCH(M28,$G$143,0),4),0))),((IFERROR(OFFSET($G$157,MATCH(M28,$G$158,0),4),0)))))))","v":0},{"$f":"IF(O28=\"\",\"\",\"lb/ton\")","v":"lb/ton"},{"$f":"IF(O28=4.5,N28*O28,IF(O28=6.5,N28*O28,\"\"))","v":""},{"$f":"IF(N28=0,\"\",IF(AND($F$12>0,$O$28>=$O$29,$O$28>=$O$30),$F$12,IF(O28=0.0098,N28*O28,IF(O28=0.023,N28*O28,\"\"))))","v":""},{"$f":"IF(N28=0,0,IF($G$12>0,$G$12,IF(AND(OR($C$10>0,$C$11>0,$C$12>0),$O$28>=$O$29,$O$28>=$O$30),(IF($C$10>0,$C$10*O28/2000,IF($C$11>0,$C$11*365*O28/2000,IF($C$12>0,$C$12*365*O28*N28/2000)))),IF(AND($F$12>0,$O$28>=$O$29,$O$28>=$O$30),$F$12*8760/2000,IF(AND(OR($C$10=\"\",$C$10=0),OR($C$11=\"\",$C$11=0),OR($C$12=\"\",$C$12=0),$F$12=\"\"),IF(R28=\"\",Q28*8760/2000,R28*8760/2000),\"\")))))","v":0},{"$f":"IF(N28=\"\",\"\",SUM((IFERROR(MATCH(M28,$G$23,0)*$I$23*$K$23/2000,0)),(IFERROR(MATCH(M28,$G$38,0)*$I$38*$K$38/2000,0)),(IFERROR(MATCH(M28,$G$53,0)*$I$53*$K$53/2000,0)),(IFERROR(MATCH(M28,$G$68,0)*$I$68*$K$68/2000,0)),(IFERROR(MATCH(M28,$G$83,0)*$I$83*$K$83/2000,0)),(IFERROR(MATCH(M28,$G$98,0)*$I$98*$K$98/2000,0)),(IFERROR(MATCH(M28,$G$113,0)*$I$113*$K$113/2000,0)),(IFERROR(MATCH(M28,$G$128,0)*$I$128*$K$128/2000,0)),(IFERROR(MATCH(M28,$G$143,0)*$I$143*$K$143/2000,0)),(IFERROR(MATCH(M28,$G$158,0)*$I$158*$K$158/2000,0))))","v":0}]
[null,null,null,null,{"$f":"IF($C$4>0,\"AP-2 EP-3\",\"\")","v":""},{"$f":"IF($C$4>0,\"AP-2 EU-5\",\"\")","v":""},{"$f":"IF(C5=\"\",\"\",\"Cold Aggregate Bins\")","v":""},null,null,null,null,null,{"$f":"$C$5 & \" - Waste Oil\"","v":" - Waste Oil"},{"$f":"N6","v":0},{"$f":"IF(N29=0,0,IF(MAX((IFERROR(OFFSET($G$22,MATCH(M29,$G$23,0),4),0)),((IFERROR(OFFSET($G$37,MATCH(M29,$G$38,0),4),0))),((IFERROR(OFFSET($G$52,MATCH(M29,$G$53,0),4),0))),((IFERROR(OFFSET($G$67,MATCH(M29,$G$68,0),4),0))),((IFERROR(OFFSET($G$82,MATCH(M29,$G$83,0),3),0))),((IFERROR(OFFSET($G$97,MATCH(M29,$G$98,0),4),0))),((IFERROR(OFFSET($G$112,MATCH(M29,$G$113,0),4),0))),((IFERROR(OFFSET($G$127,MATCH(M29,$G$128,0),4),0))),((IFERROR(OFFSET($G$142,MATCH(M29,$G$143,0),4),0))),((IFERROR(OFFSET($G$157,MATCH(M29,$G$158,0),4),0))))=0,0,(MAX((IFERROR(OFFSET($G$22,MATCH(M29,$G$23,0),4),0)),((IFERROR(OFFSET($G$37,MATCH(M29,$G$38,0),4),0))),((IFERROR(OFFSET($G$52,MATCH(M29,$G$53,0),4),0))),((IFERROR(OFFSET($G$67,MATCH(M29,$G$68,0),4),0))),((IFERROR(OFFSET($G$82,MATCH(M29,$G$83,0),4),0))),((IFERROR(OFFSET($G$97,MATCH(M29,$G$98,0),4),0))),((IFERROR(OFFSET($G$112,MATCH(M29,$G$113,0),4),0))),((IFERROR(OFFSET($G$127,MATCH(M29,$G$128,0),4),0))),((IFERROR(OFFSET($G$142,MATCH(M29,$G$143,0),4),0))),((IFERROR(OFFSET($G$157,MATCH(M29,$G$158,0),4),0)))))))","v":0},"lb/ton",{"$f":"IF(O29=4.5,N29*O29,IF(O29=6.5,N29*O29,\"\"))","v":""},{"$f":"IF(N29=0,\"\",IF(AND($F$12>0,$O$29>$O$28,$O$29>=$O$30),$F$12,IF(O29=0.0098,N29*O29,IF(O29=0.023,N29*O29,\"\"))))","v":""},{"$f":"IF(N29=0,0,IF($G$12>0,IF(S28=0,$G$12,\"\"),IF(AND(OR($C$10>0,$C$11>0,$C$12>0),$O$29>$O$28,$O$29>=$O$30),(IF($C$10>0,$C$10*O29/2000,IF($C$11>0,$C$11*365*O29/2000,IF($C$12>0,$C$12*365*O29*N29/2000)))),IF(AND($F$12>0,$O$29>$O$28,$O$29>=$O$30),$F$12*8760/2000,IF(AND(OR($C$10=\"\",$C$10=0),OR($C$11=\"\",$C$11=0),OR($C$12=\"\",$C$12=0),$F$12=\"\"),IF(R29=\"\",Q29*8760/2000,R29*8760/2000),\"\")))))","v":0},{"$f":"IF(N29=\"\",\"\",SUM((IFERROR(MATCH(M29,$G$23,0)*$I$23*$K$23/2000,0)),(IFERROR(MATCH(M29,$G$38,0)*$I$38*$K$38/2000,0)),(IFERROR(MATCH(M29,$G$53,0)*$I$53*$K$53/2000,0)),(IFERROR(MATCH(M29,$G$68,0)*$I$68*$K$68/2000,0)),(IFERROR(MATCH(M29,$G$83,0)*$I$83*$K$83/2000,0)),(IFERROR(MATCH(M29,$G$98,0)*$I$98*$K$98/2000,0)),(IFERROR(MATCH(M29,$G$113,0)*$I$113*$K$113/2000,0)),(IFERROR(MATCH(M29,$G$128,0)*$I$128*$K$128/2000,0)),(IFERROR(MATCH(M29,$G$143,0)*$I$143*$K$143/2000,0)),(IFERROR(MATCH(M29,$G$158,0)*$I$158*$K$158/2000,0))))","v":0}]
[null,null,null,null,null,null,null,null,null,null,null,null,{"$f":"$C$5 & \" - Natural Gas\"","v":" - Natural Gas"},{"$f":"N7","v":0},{"$f":"IF(N30=0,0,IF(MAX((IFERROR(OFFSET($G$22,MATCH(M30,$G$23,0),4),0)),((IFERROR(OFFSET($G$37,MATCH(M30,$G$38,0),4),0))),((IFERROR(OFFSET($G$52,MATCH(M30,$G$53,0),4),0))),((IFERROR(OFFSET($G$67,MATCH(M30,$G$68,0),4),0))),((IFERROR(OFFSET($G$82,MATCH(M30,$G$83,0),3),0))),((IFERROR(OFFSET($G$97,MATCH(M30,$G$98,0),4),0))),((IFERROR(OFFSET($G$112,MATCH(M30,$G$113,0),4),0))),((IFERROR(OFFSET($G$127,MATCH(M30,$G$128,0),4),0))),((IFERROR(OFFSET($G$142,MATCH(M30,$G$143,0),4),0))),((IFERROR(OFFSET($G$157,MATCH(M30,$G$158,0),4),0))))=0,0,(MAX((IFERROR(OFFSET($G$22,MATCH(M30,$G$23,0),4),0)),((IFERROR(OFFSET($G$37,MATCH(M30,$G$38,0),4),0))),((IFERROR(OFFSET($G$52,MATCH(M30,$G$53,0),4),0))),((IFERROR(OFFSET($G$67,MATCH(M30,$G$68,0),4),0))),((IFERROR(OFFSET($G$82,MATCH(M30,$G$83,0),4),0))),((IFERROR(OFFSET($G$97,MATCH(M30,$G$98,0),4),0))),((IFERROR(OFFSET($G$112,MATCH(M30,$G$113,0),4),0))),((IFERROR(OFFSET($G$127,MATCH(M30,$G$128,0),4),0))),((IFERROR(OFFSET($G$142,MATCH(M30,$G$143,0),4),0))),((IFERROR(OFFSET($G$157,MATCH(M30,$G$158,0),4),0)))))))","v":0},"lb/ton",{"$f":"IF(O30=4.5,N30*O30,IF(O30=6.5,N30*O30,\"\"))","v":""},{"$f":"IF(N30=0,\"\",IF(AND($F$12>0,$O$30>$O$28,$O$30>$O$29),$F$12,IF(O30=0.0098,N30*O30,IF(O30=0.023,N30*O30,\"\"))))","v":""},{"$f":"IF(N30=0,0,IF($G$12>0,IF(AND(S28=0,S29=0),$G$12,\"\"),IF(AND(OR($C$10>0,$C$11>0,$C$12>0),$O$30>$O$28,$O$30>$O$29),(IF($C$10>0,$C$10*O30/2000,IF($C$11>0,$C$11*365*O30/2000,IF($C$12>0,$C$12*365*O30*N30/2000)))),IF(AND($F$12>0,$O$30>$O$28,$O$30>$O$29),$F$12*8760/2000,IF(AND(OR($C$10=\"\",$C$10=0),OR($C$11=\"\",$C$11=0),OR($C$12=\"\",$C$12=0),$F$12=\"\"),IF(R30=\"\",Q30*8760/2000,R30*8760/2000),\"\")))))","v":0},{"$f":"IF(N30=\"\",\"\",SUM((IFERROR(MATCH(M30,$G$23,0)*$I$23*$K$23/2000,0)),(IFERROR(MATCH(M30,$G$38,0)*$I$38*$K$38/2000,0)),(IFERROR(MATCH(M30,$G$53,0)*$I$53*$K$53/2000,0)),(IFERROR(MATCH(M30,$G$68,0)*$I$68*$K$68/2000,0)),(IFERROR(MATCH(M30,$G$83,0)*$I$83*$K$83/2000,0)),(IFERROR(MATCH(M30,$G$98,0)*$I$98*$K$98/2000,0)),(IFERROR(MATCH(M30,$G$113,0)*$I$113*$K$113/2000,0)),(IFERROR(MATCH(M30,$G$128,0)*$I$128*$K$128/2000,0)),(IFERROR(MATCH(M30,$G$143,0)*$I$143*$K$143/2000,0)),(IFERROR(MATCH(M30,$G$158,0)*$I$158*$K$158/2000,0))))","v":0}]
[null,null,null,null,"Stock Pile Area",null,null,null,null,null,null,null,"Silo Filling",{"$f":"N11","v":0},{"$f":"IF(N31=0,0,IF(N31=0,0,LOOKUP(M31,'Emission Factors'!$A$23:$A$25,'Emission Factors'!$F$23:$F$25)))","v":0},"lb/ton",{"$f":"N31*O31","v":0},null,{"$f":"IF($G$12>0,\"\",IF($C$10>0,$C$10*O31/2000,IF($C$11>0,$C$11*365*O31/2000,IF($C$12>0,$C$12*365*O31*N31/2000,IF($F$11>0,\"\",IF(R31=\"\",Q31*8760/2000,R31*8760/2000))))))","v":0},{"$f":"(P11*O31/2000)","v":0}]
[null,null,null,null,null,"Emission Unit #","Maximum Storage Area (acres)","Actual Storage Area (acres)","Actual Days in Existence (days)",null,null,null,"Truck Loadout",{"$f":"N12","v":0},{"$f":"IF(N32=0,0,IF(N32=0,0,LOOKUP(M32,'Emission Factors'!$A$23:$A$25,'Emission Factors'!$F$23:$F$25)))","v":0},"lb/ton",{"$f":"N32*O32","v":0},null,{"$f":"IF($G$12>0,\"\",IF($C$10>0,$C$10*O32/2000,IF($C$11>0,$C$11*365*O32/2000,IF($C$12>0,$C$12*365*O32*N32/2000,IF($F$11>0,\"\",IF(R32=\"\",Q32*8760/2000,R32*8760/2000))))))","v":0},{"$f":"(P12*O32/2000)","v":0}]
[null,null,null,null,null,null,null,null,null,null,null,null,"Cold Aggregate Bins",{"$f":"N13","v":0},{"$f":"IF(N33=0,0,IF(N33=0,0,LOOKUP(M33,'Emission Factors'!$A$23:$A$25,'Emission Factors'!$F$23:$F$25)))","v":0},"lb/ton",{"$f":"N33*O33","v":0},null,{"$f":"IF($G$12>0,\"\",IF($C$10>0,$C$10*O33/2000,IF($C$11>0,$C$11*365*O33/2000,IF($C$12>0,$C$12*365*O33*N33/2000,IF($F$11>0,\"\",IF(R33=\"\",Q33*8760/2000,R33*8760/2000))))))","v":0},{"$f":"(P13*O33/2000)","v":0}]
[]
[null,{"$f":"IF($C$4>1,\"Asphalt Plant\",\"\")","v":""},{"$f":"IF($C$4>1,\"Site 2\",\"\")","v":""},null,{"$f":"IF($C$4>1,\"Emission Point #\",\"\")","v":""},{"$f":"IF($C$4>1,\"Emission    Unit #\",\"\")","v":""},{"$f":"IF($C$4>1,\"Process\",\"\")","v":""},{"$f":"IF($C$4>1,\"Maximum Hourly     Design Rate\",\"\")","v":""},{"$f":"IF($C$4>1,('Facility Information'!G20&\" Annual Throughput\"),\"\")","v":""},null,null,null,null,null,"Max Design Rate (acres)","Emission Factor   (lb/acre-day)","Potential Uncontrolled Emissions (lb/hr)","Potential Controlled Emissions (lb/hr)","Potential Annual Emissions (tons/yr)","Actual Annual Emissions (tons/yr)"]
[null,null,null,null,null,null,null,null,null,null,null,null,null,"Storage Pile"]
[null,{"$f":"IF($C$4>1,\"Site Name\",\"\")","v":""},null,null,{"$f":"IF($C$4>1,\"Dryers, Hot Screens, Mixer\",\"\")","v":""},null,null,{"$f":"IF($C$4>1,\"(tons/hr)\",\"\")","v":""},{"$f":"IF($C$4>1,\"(tons/yr)\",\"\")","v":""},"PM2.5","PM10",null,null,"PM2.5/PM10",{"$f":"N15","v":0},3.64,{"$f":"O37*P37*(1/24)","v":0},null,{"$f":"O37*P37*365/2000","v":0},{"$f":"O15*P37/2000","v":0}]
[null,{"$f":"IF($C$4>1,\"County:\",\"\")","v":""},null,null,{"$f":"IF(C40=\"\",\"\",\"AP-2 EP-1\")","v":""},{"$f":"IF(C40=\"\",\"\",\"AP-2 EU-1\")","v":""},{"$f":"IF(C40=\"\",\"\",C5 & \" - \"&C40)","v":""},null,null,{"$f":"IF(C41=\"\",\"\",IF(C41=\"yes\",LOOKUP(G38,'Emission Factors'!$A$12:$A$17,'Emission Factors'!$D$12:$D$17),LOOKUP(G38,'Emission Factors'!$A$5:$A$10,'Emission Factors'!$D$5:$D$10)))","v":""},{"$f":"IF(C41=\"\",\"\",IF(C41=\"yes\",LOOKUP(G38,'Emission Factors'!$A$12:$A$17,'Emission Factors'!$F$12:$F$17),LOOKUP(G38,'Emission Factors'!$A$5:$A$10,'Emission Factors'!$F$5:$F$10)))","v":""}]
[null,{"$f":"IF($C$4>1,\"Production Period (Dates):\",\"\")","v":""},null,null,{"$f":"IF($C$4>1,\"Liquid Asphalt Heater\",\"\")","v":""},null,null,{"$f":"IF($C$4>1,IF(C40=\"natural gas\",\"MMCF/hr\",\"(gallons/hr)\"),\"\")","v":""},{"$f":"IF($C$4>1,IF(C40=\"natural gas\",\"MMCF/yr\",\"(gallons/yr)\"),\"\")","v":""},null,null,null,"SO2"]
[null,{"$f":"IF($C$4>1,\"Type of Fuel Used:\",\"\")","v":""},null,null,{"$f":"IF(C40=\"\",\"\",\"AP-2 EP-2\")","v":""},{"$f":"IF(C40=\"\",\"\",\"AP-2 EU-2\")","v":""},{"$f":"IF(C40=\"\",\"\",C40& \" Fired Heater\")","v":""},null,null,null,null,null,{"$f":"$C$5 & \" - Fuel Oil\"","v":" - Fuel Oil"},{"$f":"$N$5","v":0},{"$f":"IF(N40=0,0,LOOKUP(M40,'Emission Factors'!$A$5:$A$10,'Emission Factors'!$H$5:$H$10))","v":0},{"$f":"IF(O40=\"\",\"\",\"lb/ton\")","v":"lb/ton"},{"$f":"N40*O40","v":0},{"$f":"IF(N40=0,\"\",IF(AND($F$13>0,N41=0),$F$13,\"\"))","v":""},{"$f":"IF(N40=0,0,IF($G$13>0,$G$13,IF(OR(AND($C$10>0,$N$41>0),AND($C$11>0,$N$41>0),AND($C$12>0,$N$41>0)),\"\",IF($C$10>0,$C$10*O40/2000,IF($C$11>0,$C$11*365*O40/2000,IF($C$12>0,$C$12*365*O40*N40/2000,IF(AND(N41>0,F13>0),\"\",IF(R40=\"\",Q40*8760/2000,R40*8760/2000))))))))","v":0},{"$f":"P5*O40/2000","v":0}]
[null,{"$f":"IF($C$4>1,\"Is Your Operation Controlled?:\",\"\")","v":""},null,null,{"$f":"IF($C$4>1,\"Silo Filling, Truck Loadout, Aggregate Transfer\",\"\")","v":""},null,null,{"$f":"IF($C$4>1,\"(tons/hr)\",\"\")","v":""},{"$f":"IF($C$4>1,\"(tons/yr)\",\"\")","v":""},null,null,null,{"$f":"$C$5 & \" - Waste Oil\"","v":" - Waste Oil"},{"$f":"$N$6","v":0},{"$f":"IF(N41=0,0,LOOKUP(M41,'Emission Factors'!$A$5:$A$10,'Emission Factors'!$H$5:$H$10))","v":0},{"$f":"IF(O41=\"\",\"\",\"lb/ton\")","v":"lb/ton"},{"$f":"N41*O41","v":0},{"$f":"IF(N41=0,\"\",IF($F$13>0,$F$13,\"\"))","v":""},{"$f":"IF(N41=0,0,IF($G$13>0,IF(S40=0,G13,\"\"),IF($C$10>0,$C$10*O41/2000,IF($C$11>0,$C$11*365*O41/2000,IF($C$12>0,$C$12*365*O41*N41/2000,IF(R41=\"\",Q41*8760/2000,R41*8760/2000))))))","v":0},{"$f":"P6*O41/2000","v":0}]
[null,null,null,null,{"$f":"IF($C$4>1,\"AP-2 EP-3\",\"\")","v":""},{"$f":"IF($C$4>1,\"AP-2 EU-3\",\"\")","v":""},{"$f":"IF($C$4>1,\"Silo Filling\",\"\")","v":""},null,null,null,null,null,{"$f":"$C$5 & \" - Natural Gas\"","v":" - Natural Gas"},{"$f":"$N$7","v":0},{"$f":"IF(N42=0,0,LOOKUP(M42,'Emission Factors'!$A$5:$A$10,'Emission Factors'!$H$5:$H$10))","v":0},{"$f":"IF(O42=\"\",\"\",\"lb/ton\")","v":"lb/ton"},{"$f":"N42*O42","v":0},{"$f":"IF(N42=0,\"\",IF(AND($F$13>0,N40=0,N41=0),$F$13,\"\"))","v":""},{"$f":"IF(N42=0,0,IF($G$13>0,IF(AND(S40=0,S41=0),G13,\"\"),IF(OR(AND($C$10>0,$N$41>0),AND($C$11>0,$N$41>0),AND($C$12>0,$N$41>0)),\"\",IF(OR(AND($C$10>0,$N$40>0),AND($C$11>0,$N$40>0),AND($C$12>0,$N$40>0)),\"\",IF($C$10>0,$C$10*O42/2000,IF($C$11>0,$C$11*365*O42/2000,IF($C$12>0,$C$12*365*O42*N42/2000,IF(AND(N41>0,N40>0,F13>0),\"\",IF(R42=\"\",Q42*8760/2000,R42*8760/2000)))))))))","v":0},{"$f":"P7*O42/2000","v":0}]
[null,null,null,null,{"$f":"IF($C$4>1,\"AP-2 EP-3\",\"\")","v":""},{"$f":"IF($C$4>1,\"AP-2 EU-4\",\"\")","v":""},{"$f":"IF($C$4>1,\"Truck Loadout\",\"\")","v":""},null,null,null,null,null,"NOx"]
[null,null,null,null,{"$f":"IF($C$4>1,\"AP-2 EP-3\",\"\")","v":""},{"$f":"IF($C$4>1,\"AP-2 EU-5\",\"\")","v":""},{"$f":"IF($C$4>1,\"Cold Aggregate Bins\",\"\")","v":""},null,null,null,null,null,{"$f":"$C$5 & \" - Fuel Oil\"","v":" - Fuel Oil"},{"$f":"$N$5","v":0},{"$f":"IF(N44=0,0,LOOKUP(M44,'Emission Factors'!$A$5:$A$10,'Emission Factors'!$J$5:$J$10))","v":0},{"$f":"IF(O44=\"\",\"\",\"lb/ton\")","v":"lb/ton"},{"$f":"N44*O44","v":0},{"$f":"IF(N44=0,\"\",IF(AND($F$14>0,N45=0),$F$14,\"\"))","v":""},{"$f":"IF(N44=0,0,IF($G$14>0,$G$14,IF(OR(AND($C$10>0,$N$45>0),AND($C$11>0,$N$45>0),AND($C$12>0,$N$45>0)),\"\",IF($C$10>0,$C$10*O44/2000,IF($C$11>0,$C$11*365*O44/2000,IF($C$12>0,$C$12*365*O44*N44/2000,IF(AND(N45>0,F14>0),\"\",IF(R44=\"\",Q44*8760/2000,R44*8760/2000))))))))","v":0},{"$f":"P5*O44/2000","v":0}]
[null,null,null,null,null,null,null,null,null,null,null,null,{"$f":"$C$5 & \" - Waste Oil\"","v":" - Waste Oil"},{"$f":"$N$6","v":0},{"$f":"IF(N45=0,0,LOOKUP(M45,'Emission Factors'!$A$5:$A$10,'Emission Factors'!$J$5:$J$10))","v":0},{"$f":"IF(O45=\"\",\"\",\"lb/ton\")","v":"lb/ton"},{"$f":"N45*O45","v":0},{"$f":"IF(N45=0,\"\",IF($F$14>0,$F$14,\"\"))","v":""},{"$f":"IF(N45=0,0,IF($G$14>0,IF(S44=0,G14,\"\"),IF($C$10>0,$C$10*O45/2000,IF($C$11>0,$C$11*365*O45/2000,IF($C$12>0,$C$12*365*O45*N45/2000,IF(R45=\"\",Q45*8760/2000,R45*8760/2000))))))","v":0},{"$f":"P6*O45/2000","v":0}]
[null,null,null,null,{"$f":"IF($C$4>1,\"Stock Pile Area\",\"\")","v":""},null,null,null,null,null,null,null,{"$f":"$C$5 & \" - Natural Gas\"","v":" - Natural Gas"},{"$f":"$N$7","v":0},{"$f":"IF(N46=0,0,LOOKUP(M46,'Emission Factors'!$A$5:$A$10,'Emission Factors'!$J$5:$J$10))","v":0},{"$f":"IF(O46=\"\",\"\",\"lb/ton\")","v":"lb/ton"},{"$f":"N46*O46","v":0},{"$f":"IF(N46=0,\"\",IF(AND($F$14>0,N44=0,N45=0),$F$14,\"\"))","v":""},{"$f":"IF(N46=0,0,IF($G$14>0,IF(AND(S44=0,S45=0),G14,\"\"),IF(OR(AND($C$10>0,$N$45>0),AND($C$11>0,$N$45>0),AND($C$12>0,$N$45>0)),\"\",IF(OR(AND($C$10>0,$N$44>0),AND($C$11>0,$N$44>0),AND($C$12>0,$N$44>0)),\"\",IF($C$10>0,$C$10*O46/2000,IF($C$11>0,$C$11*365*O46/2000,IF($C$12>0,$C$12*365*O46*N46/2000,IF(AND(N44>0,N45>0,F14>0),\"\",IF(R46=\"\",Q46*8760/2000,R46*8760/2000)))))))))","v":0},{"$f":"P7*O46/2000","v":0}]
[null,null,null,null,null,{"$f":"IF($C$4>1,\"Emission Unit #\",\"\")","v":""},{"$f":"IF($C$4>1,\"Maximum Storage Area (acres)\",\"\")","v":""},{"$f":"IF($C$4>1,\"Actual Storage Area (acres)\",\"\")","v":""},{"$f":"IF($C$4>1,\"Actual Days in Existence (days)\",\"\")","v":""},null,null,null,"VOC"]
[null,null,null,null,null,null,null,null,null,null,null,null,{"$f":"$C$5 & \" - Fuel Oil\"","v":" - Fuel Oil"},{"$f":"$N$5","v":0},{"$f":"IF(N48=0,0,LOOKUP(M48,'Emission Factors'!$A$5:$A$10,'Emission Factors'!$L$5:$L$10))","v":0},{"$f":"IF(O48=\"\",\"\",\"lb/ton\")","v":"lb/ton"},{"$f":"N48*O48","v":0},{"$f":"IF(N48=0,\"\",IF(AND($F$15>0,N49=0),$F$15,\"\"))","v":""},{"$f":"IF(N48=0,0,IF($G$15>0,$G$15,IF(OR(AND($C$10>0,$N$49>0),AND($C$11>0,$N$49>0),AND($C$12>0,$N$49>0)),\"\",IF($C$10>0,$C$10*O48/2000,IF($C$11>0,$C$11*365*O48/2000,IF($C$12>0,$C$12*365*O48*N48/2000,IF(AND(N49>0,F15>0),\"\",IF(R48=\"\",Q48*8760/2000,R48*8760/2000))))))))","v":0},{"$f":"P5*O48/2000","v":0}]
[null,null,null,null,null,null,null,null,null,null,null,null,{"$f":"$C$5 & \" - Waste Oil\"","v":" - Waste Oil"},{"$f":"$N$6","v":0},{"$f":"IF(N49=0,0,LOOKUP(M49,'Emission Factors'!$A$5:$A$10,'Emission Factors'!$L$5:$L$10))","v":0},{"$f":"IF(O49=\"\",\"\",\"lb/ton\")","v":"lb/ton"},{"$f":"N49*O49","v":0},{"$f":"IF(N49=0,\"\",IF($F$15>0,$F$15,\"\"))","v":""},{"$f":"IF(N49=0,0,IF($G$15>0,IF(S48=0,G15,\"\"),IF($C$10>0,$C$10*O49/2000,IF($C$11>0,$C$11*365*O49/2000,IF($C$12>0,$C$12*365*O49*N49/2000,IF(R49=\"\",Q49*8760/2000,R49*8760/2000))))))","v":0},{"$f":"P6*O49/2000","v":0}]
[null,{"$f":"IF($C$4>2,\"Asphalt Plant\",\"\")","v":""},{"$f":"IF($C$4>2,\"Site 3\",\"\")","v":""},null,{"$f":"IF($C$4>2,\"Emission Point #\",\"\")","v":""},{"$f":"IF($C$4>2,\"Emission    Unit #\",\"\")","v":""},{"$f":"IF($C$4>2,\"Process\",\"\")","v":""},{"$f":"IF($C$4>2,\"Maximum Hourly     Design Rate\",\"\")","v":""},{"$f":"IF($C$4>2,('Facility Information'!G35&\" Annual Throughput\"),\"\")","v":""},null,null,null,{"$f":"$C$5 & \" - Natural Gas\"","v":" - Natural Gas"},{"$f":"$N$7","v":0},{"$f":"IF(N50=0,0,LOOKUP(M50,'Emission Factors'!$A$5:$A$10,'Emission Factors'!$L$5:$L$10))","v":0},{"$f":"IF(O50=\"\",\"\",\"lb/ton\")","v":"lb/ton"},{"$f":"N50*O50","v":0},{"$f":"IF(N50=0,\"\",IF(AND($F$15>0,N48=0,N49=0),$F$15,\"\"))","v":""},{"$f":"IF(N50=0,0,IF($G$15>0,IF(AND(S48=0,S49=0),G15,\"\"),IF(OR(AND($C$10>0,$N$49>0),AND($C$11>0,$N$49>0),AND($C$12>0,$N$49>0)),\"\",IF(OR(AND($C$10>0,$N$48>0),AND($C$11>0,$N$48>0),AND($C$12>0,$N$48>0)),\"\",IF($C$10>0,$C$10*O50/2000,IF($C$11>0,$C$11*365*O50/2000,IF($C$12>0,$C$12*365*O50*N50/2000,IF(AND(N48>0,N49>0,F15>0),\"\",IF(R50=\"\",Q50*8760/2000,R50*8760/2000)))))))))","v":0},{"$f":"P7*O50/2000","v":0}]
[null,null,null,null,null,null,null,null,null,null,null,null,"CO"]
[null,{"$f":"IF($C$4>2,\"Site Name\",\"\")","v":""},null,null,{"$f":"IF($C$4>2,\"Dryers, Hot Screens, Mixer\",\"\")","v":""},null,null,{"$f":"IF($C$4>2,\"(tons/hr)\",\"\")","v":""},{"$f":"IF($C$4>2,\"(tons/yr)\",\"\")","v":""},"PM2.5","PM10",null,{"$f":"IF($C$5=\"\",\"\",$C$5)","v":""},{"$f":"SUM($N$5:$N$7)","v":0},{"$f":"IF(N52=0,0,IF(M52=\"Batch Mix Plant\",0.4,IF(M52=\"Drum Mix Plant\",0.13)))","v":0},{"$f":"IF(O52=\"\",\"\",\"lb/ton\")","v":"lb/ton"},{"$f":"N52*O52","v":0},{"$f":"IF(N52=0,\"\",IF($F$16>0,$F$16,\"\"))","v":""},{"$f":"IF($G$16>0,$G$16,IF(N52=0,0,IF($C$10>0,$C$10*O52/2000,IF($C$11>0,$C$11*365*O52/2000,IF($C$12>0,$C$12*365*O52*N52/2000,IF(R52=\"\",Q52*8760/2000,R52*8760/2000))))))","v":0},{"$f":"SUM($P$5:$P$7)*O52/2000","v":0}]
[null,{"$f":"IF($C$4>2,\"County:\",\"\")","v":""},null,null,{"$f":"IF(C55=\"\",\"\",\"AP-2 EP-1\")","v":""},{"$f":"IF(C55=\"\",\"\",\"AP-2 EU-1\")","v":""},{"$f":"IF(C55=\"\",\"\",C5 & \" - \"&C55)","v":""},null,null,{"$f":"IF(C56=\"\",\"\",IF(C56=\"yes\",LOOKUP(G53,'Emission Factors'!$A$12:$A$17,'Emission Factors'!$D$12:$D$17),LOOKUP(G53,'Emission Factors'!$A$5:$A$10,'Emission Factors'!$D$5:$D$10)))","v":""},{"$f":"IF(C56=\"\",\"\",IF(C56=\"yes\",LOOKUP(G53,'Emission Factors'!$A$12:$A$17,'Emission Factors'!$F$12:$F$17),LOOKUP(G53,'Emission Factors'!$A$5:$A$10,'Emission Factors'!$F$5:$F$10)))","v":""},null,"Fuel Oil Fired Heater",{"$f":"N8","v":0},{"$f":"IF(N53=0,0,LOOKUP(M53,'Emission Factors'!$A$19:$A$21,'Emission Factors'!$N$19:$N$21))","v":0},{"$f":"IF(O53=\"\",\"\",\"lb/gallon\")","v":"lb/gallon"},{"$f":"N53*O53","v":0},null,{"$f":"IF(N53=0,0,IF($G$16>0,\"\",IF($F$16>0,\"\",IF(R53=\"\",Q53*8760/2000,R53*8760/2000))))","v":0},{"$f":"(P8*O53/2000)","v":0}]
[null,{"$f":"IF($C$4>2,\"Production Period (Dates):\",\"\")","v":""},null,null,{"$f":"IF($C$4>2,\"Liquid Asphalt Heater\",\"\")","v":""},null,null,{"$f":"IF($C$4>2,IF(C55=\"natural gas\",\"(MMCF/hr)\",\"(gallons/hr)\"),\"\")","v":""},{"$f":"IF($C$4>2,IF(C55=\"natural gas\",\"(MMCF/yr)\",\"(gallons/yr)\"),\"\")","v":""},null,null,null,"Waste Oil Fired Heater",{"$f":"N9","v":0},{"$f":"IF(N54=0,0,LOOKUP(M54,'Emission Factors'!$A$19:$A$21,'Emission Factors'!$N$19:$N$21))","v":0},{"$f":"IF(O54=\"\",\"\",\"lb/gallon\")","v":"lb/gallon"},{"$f":"N54*O54","v":0},null,{"$f":"IF(N54=0,0,IF($G$16>0,\"\",IF($F$16>0,\"\",IF(R54=\"\",Q54*8760/2000,R54*8760/2000))))","v":0},{"$f":"(P9*O54/2000)","v":0}]
[null,{"$f":"IF($C$4>2,\"Type of Fuel Used:\",\"\")","v":""},null,null,{"$f":"IF(C55=\"\",\"\",\"AP-2 EP-2\")","v":""},{"$f":"IF(C55=\"\",\"\",\"AP-2 EU-2\")","v":""},{"$f":"IF(C55=\"\",\"\",C55& \" Fired Heater\")","v":""},null,null,null,null,null,"Natural Gas Fired Heater",{"$f":"N10","v":0},{"$f":"IF(N55=0,0,LOOKUP(M55,'Emission Factors'!$A$19:$A$21,'Emission Factors'!$N$19:$N$21))","v":0},{"$f":"IF(O55=\"\",\"\",\"lb/MMCF\")","v":"lb/MMCF"},{"$f":"N55*O55","v":0},null,{"$f":"IF(N55=0,0,IF($G$16>0,\"\",IF($F$16>0,\"\",IF(R55=\"\",Q55*8760/2000,R55*8760/2000))))","v":0},{"$f":"($P$10*O55/2000)","v":0}]
[null,{"$f":"IF($C$4>2,\"Is Your Operation Controlled?:\",\"\")","v":""},null,null,{"$f":"IF($C$4>2,\"Silo Filling, Truck Loadout, Aggregate Transfer\",\"\")","v":""},null,null,{"$f":"IF($C$4>2,\"(tons/hr)\",\"\")","v":""},{"$f":"IF($C$4>2,\"(tons/yr)\",\"\")","v":""},null,null,null,"Acetaldehyde"]
[null,null,null,null,{"$f":"IF($C$4>2,\"AP-2 EP-3\",\"\")","v":""},{"$f":"IF($C$4>2,\"AP-2 EU-3\",\"\")","v":""},{"$f":"IF($C$4>2,\"Silo Filling\",\"\")","v":""},null,null,null,null,null,{"$f":"IF($C$5=\"\",\"\",$C$5)","v":""},{"$f":"IF(C5=\"drum mix plant\",SUM(N5:$N$6),SUM($N$5:$N$7))","v":0},{"$f":"IF(N57=0,0,IF(M57=\"Batch Mix Plant\",0.00032,IF(M57=\"Drum Mix Plant\",0.0013)))","v":0},{"$f":"IF(O57=\"\",\"\",\"lb/ton\")","v":"lb/ton"},{"$f":"N57*O57","v":0},null,{"$f":"IF(N57=0,0,IF($C$10>0,$C$10*O57/2000,IF($C$11>0,$C$11*365*O57/2000,IF($C$12>0,$C$12*365*O57*N57/2000,IF(R57=\"\",Q57*8760/2000,R57*8760/2000)))))","v":0},{"$f":"IF(C5=\"drum mix plant\",$P$6*O57/2000,SUM($P$5:$P$7)*O57/2000)","v":0}]
[null,null,null,null,{"$f":"IF($C$4>2,\"AP-2 EP-3\",\"\")","v":""},{"$f":"IF($C$4>2,\"AP-2 EU-4\",\"\")","v":""},{"$f":"IF($C$4>2,\"Truck Loadout\",\"\")","v":""},null,null,null,null,null,"Acrolein"]
[null,null,null,null,{"$f":"IF($C$4>2,\"AP-2 EP-3\",\"\")","v":""},{"$f":"IF($C$4>2,\"AP-2 EU-5\",\"\")","v":""},{"$f":"IF($C$4>2,\"Cold Aggregate Bins\",\"\")","v":""},null,null,null,null,null,{"$f":"IF($C$5=\"\",\"\",$C$5)","v":""},{"$f":"IF(C5=\"drum mix plant\",SUM(N5:$N$6),0)","v":0},{"$f":"IF(N59=0,0,0.000026)","v":0},{"$f":"IF(O59=\"\",\"\",\"lb/ton\")","v":"lb/ton"},{"$f":"N59*O59","v":0},null,{"$f":"IF(N59=0,0,IF($C$10>0,$C$10*O59/2000,IF($C$11>0,$C$11*365*O59/2000,IF($C$12>0,$C$12*365*O59*N59/2000,IF(R59=\"\",Q59*8760/2000,R59*8760/2000)))))","v":0},{"$f":"IF(C7=\"drum mix plant\",$P$6*O59/2000,SUM($P$5:$P$7)*O59/2000)","v":0}]
[null,null,null,null,null,null,null,null,null,null,null,null,"Benzene"]
[null,null,null,null,{"$f":"IF($C$4>2,\"Stock Pile Area\",\"\")","v":""},null,null,null,null,null,null,null,{"$f":"IF($C$5=\"\",\"\",$C$5)","v":""},{"$f":"SUM($N$5:$N$7)","v":0},{"$f":"IF(N61=0,0,IF(M61=\"Batch Mix Plant\",0.00028,IF(M61=\"Drum Mix Plant\",0.00039)))","v":0},{"$f":"IF(O61=\"\",\"\",\"lb/ton\")","v":"lb/ton"},{"$f":"N61*O61","v":0},null,{"$f":"IF(N61=0,0,IF($C$10>0,$C$10*O61/2000,IF($C$11>0,$C$11*365*O61/2000,IF($C$12>0,$C$12*365*O61*N61/2000,IF(R61=\"\",Q61*8760/2000,R61*8760/2000)))))","v":0},{"$f":"SUM($P$5:$P$7)*O61/2000","v":0}]
[null,null,null,null,null,{"$f":"IF($C$4>2,\"Emission Unit #\",\"\")","v":""},{"$f":"IF($C$4>2,\"Maximum Storage Area (acres)\",\"\")","v":""},{"$f":"IF($C$4>2,\"Actual Storage Area (acres)\",\"\")","v":""},{"$f":"IF($C$4>2,\"Actual Days in Existence (days)\",\"\")","v":""},null,null,null,"Ethylbenzene"]
[null,null,null,null,null,null,null,null,null,null,null,null,{"$f":"IF($C$5=\"\",\"\",$C$5)","v":""},{"$f":"SUM($N$5:$N$7)","v":0},{"$f":"IF(N63=0,0,IF(M63=\"Batch Mix Plant\",0.0022,IF(M63=\"Drum Mix Plant\",0.00024)))","v":0},{"$f":"IF(O63=\"\",\"\",\"lb/ton\")","v":"lb/ton"},{"$f":"N63*O63","v":0},null,{"$f":"IF(N63=0,0,IF($C$10>0,$C$10*O63/2000,IF($C$11>0,$C$11*365*O63/2000,IF($C$12>0,$C$12*365*O63*N63/2000,IF(R63=\"\",Q63*8760/2000,R63*8760/2000)))))","v":0},{"$f":"SUM($P$5:$P$7)*O63/2000","v":0}]
[null,null,null,null,null,null,null,null,null,null,null,null,"Formaldehyde"]
[null,{"$f":"IF($C$4>3,\"Asphalt Plant\",\"\")","v":""},{"$f":"IF($C$4>3,\"Site 4\",\"\")","v":""},null,{"$f":"IF($C$4>3,\"Emission Point #\",\"\")","v":""},{"$f":"IF($C$4>3,\"Emission    Unit #\",\"\")","v":""},{"$f":"IF($C$4>3,\"Process\",\"\")","v":""},{"$f":"IF($C$4>3,\"Maximum Hourly     Design Rate\",\"\")","v":""},{"$f":"IF($C$4>3,('Facility Information'!G50&\" Annual Throughput\"),\"\")","v":""},null,null,null,{"$f":"IF($C$5=\"\",\"\",$C$5)","v":""},{"$f":"SUM($N$5:$N$7)","v":0},{"$f":"IF(N65=0,0,IF(M65=\"Batch Mix Plant\",0.00074,IF(M65=\"Drum Mix Plant\",0.0031)))","v":0},{"$f":"IF(O65=\"\",\"\",\"lb/ton\")","v":"lb/ton"},{"$f":"N65*O65","v":0},null,{"$f":"IF(N65=0,0,IF($C$10>0,$C$10*O65/2000,IF($C$11>0,$C$11*365*O65/2000,IF($C$12>0,$C$12*365*O65*N65/2000,IF(R65=\"\",Q65*8760/2000,R65*8760/2000)))))","v":0},{"$f":"SUM($P$5:$P$7)*O65/2000","v":0}]
[null,null,null,null,null,null,null,null,null,null,null,null,{"$f":"\"Natural Gas Fired Heater\"","v":"Natural Gas Fired Heater"},{"$f":"N10","v":0},{"$f":"IF(N66=0,0,0.026)","v":0},{"$f":"IF(O66=\"\",\"\",\"lb/MMCF\")","v":"lb/MMCF"},{"$f":"N66*O66","v":0},null,{"$f":"IF(N66=0,0,IF(R66=\"\",Q66*8760/2000,R66*8760/2000))","v":0},{"$f":"($P$10*O66/2000)","v":0}]
[null,{"$f":"IF($C$4>3,\"Site Name\",\"\")","v":""},null," ",{"$f":"IF($C$4>3,\"Dryers, Hot Screens, Mixer\",\"\")","v":""},null,null,{"$f":"IF($C$4>3,\"(tons/hr)\",\"\")","v":""},{"$f":"IF($C$4>3,\"(tons/yr)\",\"\")","v":""},"PM2.5","PM10",null,"Hexane"]
[null,{"$f":"IF($C$4>3,\"County:\",\"\")","v":""},null,null,{"$f":"IF(C70=\"\",\"\",\"AP-2 EP-1\")","v":""},{"$f":"IF(C70=\"\",\"\",\"AP-2 EU-1\")","v":""},{"$f":"IF(C70=\"\",\"\",C5 & \" - \"&C70)","v":""},null,null,{"$f":"IF(C71=\"\",\"\",IF(C71=\"yes\",LOOKUP(G68,'Emission Factors'!$A$12:$A$17,'Emission Factors'!$D$12:$D$17),LOOKUP(G68,'Emission Factors'!$A$5:$A$10,'Emission Factors'!$D$5:$D$10)))","v":""},{"$f":"IF(C71=\"\",\"\",IF(C71=\"yes\",LOOKUP(G68,'Emission Factors'!$A$12:$A$17,'Emission Factors'!$F$12:$F$17),LOOKUP(G68,'Emission Factors'!$A$5:$A$10,'Emission Factors'!$F$5:$F$10)))","v":""},null,{"$f":"IF($C$5=\"\",\"\",$C$5)","v":""},{"$f":"IF(C5=\"drum mix plant\",SUM(N5:N7),0)","v":0},{"$f":"IF(N68=0,0,0.00092)","v":0},{"$f":"IF(O68=\"\",\"\",\"lb/ton\")","v":"lb/ton"},{"$f":"N68*O68","v":0},null,{"$f":"IF(N68=0,0,IF($C$10>0,$C$10*O68/2000,IF($C$11>0,$C$11*365*O68/2000,IF($C$12>0,$C$12*365*O68*N68/2000,IF(R68=\"\",Q68*8760/2000,R68*8760/2000)))))","v":0},{"$f":"IF(N68>0,SUM($P$5:$P$7)*O68/2000,0)","v":0}]
[null,{"$f":"IF($C$4>3,\"Production Period (Dates):\",\"\")","v":""},null,null,{"$f":"IF($C$4>3,\"Liquid Asphalt Heater\",\"\")","v":""},null,null,{"$f":"IF($C$4>3,IF(C70=\"natural gas\",\"(MMCF/hr)\",\"(gallons/hr)\"),\"\")","v":""},{"$f":"IF($C$4>3,IF(C70=\"natural gas\",\"(MMCF/yr)\",\"(gallons/yr)\"),\"\")","v":""},null,null,null,"Hydrochloric Acid"]
[null,{"$f":"IF($C$4>3,\"Type of Fuel Used:\",\"\")","v":""},null,null,{"$f":"IF(C70=\"\",\"\",\"AP-2 EP-2\")","v":""},{"$f":"IF(C70=\"\",\"\",\"AP-2 EU-2\")","v":""},{"$f":"IF(C70=\"\",\"\",C70& \" Fired Heater\")","v":""},null,null,null,null,null,{"$f":"IF($C$5=\"\",\"\",$C$5)","v":""},{"$f":"IF(C5=\"drum mix plant\",SUM(N5:$N$6),0)","v":0},{"$f":"IF(N70=0,0,0.00021)","v":0},{"$f":"IF(O70=\"\",\"\",\"lb/ton\")","v":"lb/ton"},{"$f":"N70*O70","v":0},null,{"$f":"IF(N70=0,0,IF($C$10>0,$C$10*O70/2000,IF($C$11>0,$C$11*365*O70/2000,IF($C$12>0,$C$12*365*O70*N70/2000,IF(R70=\"\",Q70*8760/2000,R70*8760/2000)))))","v":0},{"$f":"IF(N70>0,$P$6*O70/2000,0)","v":0}]
[null,{"$f":"IF($C$4>3,\"Is Your Operation Controlled?:\",\"\")","v":""},null,null,{"$f":"IF($C$4>3,\"Silo Filling, Truck Loadout, Aggregate Transfer\",\"\")","v":""},null,null,{"$f":"IF($C$4>3,\"(tons/hr)\",\"\")","v":""},{"$f":"IF($C$4>3,\"(tons/yr)\",\"\")","v":""},null,null,null,"Methyl Chloroform"]
[null,null,null,null,{"$f":"IF($C$4>3,\"AP-2 EP-3\",\"\")","v":""},{"$f":"IF($C$4>3,\"AP-2 EU-3\",\"\")","v":""},{"$f":"IF($C$4>3,\"Silo Filling\",\"\")","v":""},null,null,null,null,null,{"$f":"IF($C$5=\"\",\"\",$C$5)","v":""},{"$f":"IF(C5=\"drum mix plant\",SUM(N5:N7),0)","v":0},{"$f":"IF(N72=0,0,0.000048)","v":0},{"$f":"IF(O72=\"\",\"\",\"lb/ton\")","v":"lb/ton"},{"$f":"N72*O72","v":0},null,{"$f":"IF(N72=0,0,IF($C$10>0,$C$10*O72/2000,IF($C$11>0,$C$11*365*O72/2000,IF($C$12>0,$C$12*365*O72*N72/2000,IF(R72=\"\",Q72*8760/2000,R72*8760/2000)))))","v":0},{"$f":"IF(N72>0,SUM($P$5:$P$7)*O72/2000,0)","v":0}]
[null,null,null,null,{"$f":"IF($C$4>3,\"AP-2 EP-3\",\"\")","v":""},{"$f":"IF($C$4>3,\"AP-2 EU-4\",\"\")","v":""},{"$f":"IF($C$4>3,\"Truck Loadout\",\"\")","v":""},null,null,null,null,null,"Propionaldehyde"]
[null,null,null,null,{"$f":"IF($C$4>3,\"AP-2 EP-3\",\"\")","v":""},{"$f":"IF($C$4>3,\"AP-2 EU-5\",\"\")","v":""},{"$f":"IF($C$4>3,\"Cold Aggregate Bins\",\"\")","v":""},null,null,null,null,null,{"$f":"IF($C$5=\"\",\"\",$C$5)","v":""},{"$f":"IF(C5=\"drum mix plant\",SUM(N5:$N$6),0)","v":0},{"$f":"IF(N74=0,0,0.00013)","v":0},{"$f":"IF(O74=\"\",\"\",\"lb/ton\")","v":"lb/ton"},{"$f":"N74*O74","v":0},null,{"$f":"IF(N74=0,0,IF($C$10>0,$C$10*O74/2000,IF($C$11>0,$C$11*365*O74/2000,IF($C$12>0,$C$12*365*O74*N74/2000,IF(R74=\"\",Q74*8760/2000,R74*8760/2000)))))","v":0},{"$f":"IF(N74>0,$P$6*O74/2000,0)","v":0}]
[null,null,null,null,null,null,null,null,null,null,null,null,"Quinone"]
[null,null,null,null,{"$f":"IF($C$4>3,\"Stock Pile Area\",\"\")","v":""},null,null,null,null,null,null,null,{"$f":"IF($C$5=\"\",\"\",$C$5)","v":""},{"$f":"IF(C5=\"drum mix plant\",SUM(N5:$N$6),SUM($N$5:$N$7))","v":0},{"$f":"IF(N76=0,0,IF(M76=\"Batch Mix Plant\",0.00027,IF(M76=\"Drum Mix Plant\",0.00016)))","v":0},{"$f":"IF(O76=\"\",\"\",\"lb/ton\")","v":"lb/ton"},{"$f":"N76*O76","v":0},null,{"$f":"IF(N76=0,0,IF($C$10>0,$C$10*O76/2000,IF($C$11>0,$C$11*365*O76/2000,IF($C$12>0,$C$12*365*O76*N76/2000,IF(R76=\"\",Q76*8760/2000,R76*8760/2000)))))","v":0},{"$f":"IF(C24=\"drum mix plant\",$P$6*O76/2000,SUM($P$5:$P$7)*O76/2000)","v":0}]
[null,null,null,null,null,{"$f":"IF($C$4>3,\"Emission Unit #\",\"\")","v":""},{"$f":"IF($C$4>3,\"Maximum Storage Area (acres)\",\"\")","v":""},{"$f":"IF($C$4>3,\"Actual Storage Area (acres)\",\"\")","v":""},{"$f":"IF($C$4>3,\"Actual Days in Existence (days)\",\"\")","v":""},null,null,null,"Toluene"]
[null,null,null,null,null,null,null,null,null,null,null,null,{"$f":"$C$5 & \" - Fuel Oil\"","v":" - Fuel Oil"},{"$f":"$N$5","v":0},{"$f":"IF(N78=0,0,LOOKUP(M78,'Emission Factors'!$A$5:$A$10,'Emission Factors'!$AJ$5:$AJ$10))","v":0},{"$f":"IF(O78=\"\",\"\",\"lb/ton\")","v":"lb/ton"},{"$f":"N78*O78","v":0},null,{"$f":"IF(N78=0,0,IF($C$10>0,$C$10*O78/2000,IF($C$11>0,$C$11*365*O78/2000,IF($C$12>0,$C$12*365*O78*N78/2000,IF(R78=\"\",Q78*8760/2000,R78*8760/2000)))))","v":0},{"$f":"P5*O78/2000","v":0}]
[null,null,null,null,null,null,null,null,null,null,null,null,{"$f":"$C$5 & \" - Waste Oil\"","v":" - Waste Oil"},{"$f":"$N$6","v":0},{"$f":"IF(N79=0,0,LOOKUP(M79,'Emission Factors'!$A$5:$A$10,'Emission Factors'!$AJ$5:$AJ$10))","v":0},{"$f":"IF(O79=\"\",\"\",\"lb/ton\")","v":"lb/ton"},{"$f":"N79*O79","v":0},null,{"$f":"IF(N79=0,0,IF(OR(AND($C$10>0,$N$78>0),AND($C$11>0,$N$78>0),AND($C$12>0,$N$78>0)),\"\",IF($C$10>0,$C$10*O79/2000,IF($C$11>0,$C$11*365*O79/2000,IF($C$12>0,$C$12*365*O79*N79/2000,IF(R79=\"\",Q79*8760/2000,R79*8760/2000))))))","v":0},{"$f":"P6*O79/2000","v":0}]
[null,{"$f":"IF($C$4>4,\"Asphalt Plant\",\"\")","v":""},{"$f":"IF($C$4>4,\"Site 5\",\"\")","v":""},null,{"$f":"IF($C$4>4,\"Emission Point #\",\"\")","v":""},{"$f":"IF($C$4>4,\"Emission    Unit #\",\"\")","v":""},{"$f":"IF($C$4>4,\"Process\",\"\")","v":""},{"$f":"IF($C$4>4,\"Maximum Hourly     Design Rate\",\"\")","v":""},{"$f":"IF($C$4>4,('Facility Information'!G65&\" Annual Throughput\"),\"\")","v":""},null,null,null,{"$f":"$C$5 & \" - Natural Gas\"","v":" - Natural Gas"},{"$f":"$N$7","v":0},{"$f":"IF(N80=0,0,LOOKUP(M80,'Emission Factors'!$A$5:$A$10,'Emission Factors'!$AJ$5:$AJ$10))","v":0},{"$f":"IF(O80=\"\",\"\",\"lb/ton\")","v":"lb/ton"},{"$f":"N80*O80","v":0},null,{"$f":"IF(N80=0,0,IF(OR(AND($C$10>0,$N$78>0),AND($C$11>0,$N$78>0),AND($C$12>0,$N$78>0)),\"\",IF(OR(AND($C$10>0,$N$79>0),AND($C$11>0,$N$79>0),AND($C$12>0,$N$79>0)),\"\",IF($C$10>0,$C$10*O80/2000,IF($C$11>0,$C$11*365*O80/2000,IF($C$12>0,$C$12*365*O80*N80/2000,IF(R80=\"\",Q80*8760/2000,R80*8760/2000)))))))","v":0},{"$f":"P7*O80/2000","v":0}]
[null,null,null,null,null,null,null,null,null,null,null,null,"Xylene"]
[null,{"$f":"IF($C$4>4,\"Site Name\",\"\")","v":""},null,null,{"$f":"IF($C$4>4,\"Dryers, Hot Screens, Mixer\",\"\")","v":""},null,null,{"$f":"IF($C$4>4,\"(tons/hr)\",\"\")","v":""},{"$f":"IF($C$4>4,\"(tons/yr)\",\"\")","v":""},"PM2.5","PM10",null,{"$f":"IF($C$5=\"\",\"\",$C$5)","v":""},{"$f":"SUM($N$5:$N$7)","v":0},{"$f":"IF(N82=0,0,IF(M82=\"Batch Mix Plant\",0.0027,IF(M82=\"Drum Mix Plant\",0.0002)))","v":0},{"$f":"IF(O82=\"\",\"\",\"lb/ton\")","v":"lb/ton"},{"$f":"N82*O82","v":0},null,{"$f":"IF(N82=0,0,IF($C$10>0,$C$10*O82/2000,IF($C$11>0,$C$11*365*O82/2000,IF($C$12>0,$C$12*365*O82*N82/2000,IF(R82=\"\",Q82*8760/2000,R82*8760/2000)))))","v":0},{"$f":"SUM($P$5:$P$7)*O82/2000","v":0}]
[null,{"$f":"IF($C$4>4,\"County:\",\"\")","v":""},null,null,{"$f":"IF(C85=\"\",\"\",\"AP-2 EP-1\")","v":""},{"$f":"IF(C85=\"\",\"\",\"AP-2 EU-1\")","v":""},{"$f":"IF(C85=\"\",\"\",C5 & \" - \"&C85)","v":""},null,null,{"$f":"IF(C86=\"\",\"\",IF(C86=\"yes\",LOOKUP(G83,'Emission Factors'!$A$12:$A$17,'Emission Factors'!$D$12:$D$17),LOOKUP(G83,'Emission Factors'!$A$5:$A$10,'Emission Factors'!$D$5:$D$10)))","v":""},{"$f":"IF(C86=\"\",\"\",IF(C86=\"yes\",LOOKUP(G83,'Emission Factors'!$A$12:$A$17,'Emission Factors'!$F$12:$F$17),LOOKUP(G83,'Emission Factors'!$A$5:$A$10,'Emission Factors'!$F$5:$F$10)))","v":""},null,"2,2,4-Trimethylpentane"]
[null,{"$f":"IF($C$4>4,\"Production Period (Dates):\",\"\")","v":""},null,null,{"$f":"IF($C$4>4,\"Liquid Asphalt Heater\",\"\")","v":""},null,null,{"$f":"IF($C$4>4,IF(C85=\"natural gas\",\"(MMCF/hr)\",\"(gallons/hr)\"),\"\")","v":""},{"$f":"IF($C$4>4,IF(C85=\"natural gas\",\"(MMCF/yr)\",\"(gallons/yr)\"),\"\")","v":""},null,null,null,{"$f":"IF($C$5=\"\",\"\",$C$5)","v":""},{"$f":"IF(C5=\"drum mix plant\",SUM(N5:N7),0)","v":0},{"$f":"IF(N84=0,0,0.00004)","v":0},{"$f":"IF(O84=\"\",\"\",\"lb/ton\")","v":"lb/ton"},{"$f":"N84*O84","v":0},null,{"$f":"IF(N84=0,0,IF($C$10>0,$C$10*O84/2000,IF($C$11>0,$C$11*365*O84/2000,IF($C$12>0,$C$12*365*O84*N84/2000,IF(R84=\"\",Q84*8760/2000,R84*8760/2000)))))","v":0},{"$f":"IF(N84>0,SUM($P$5:$P$7)*O84/2000,0)","v":0}]
[null,{"$f":"IF($C$4>4,\"Type of Fuel Used:\",\"\")","v":""},null,null,{"$f":"IF(C85=\"\",\"\",\"AP-2 EP-2\")","v":""},{"$f":"IF(C85=\"\",\"\",\"AP-2 EU-2\")","v":""},{"$f":"IF(C85=\"\",\"\",C85& \" Fired Heater\")","v":""},null,null,null,"Controlled?",null,"Chromium Compounds"]
[null,{"$f":"IF($C$4>4,\"Is Your Operation Controlled?:\",\"\")","v":""},null,null,{"$f":"IF($C$4>4,\"Silo Filling, Truck Loadout, Aggregate Transfer\",\"\")","v":""},null,null,{"$f":"IF($C$4>4,\"(tons/hr)\",\"\")","v":""},{"$f":"IF($C$4>4,\"(tons/yr)\",\"\")","v":""},null,{"$f":"IF(OR(C26=\"yes\",C41=\"yes\",C71=\"yes\",C86=\"yes\",C101=\"yes\",C116=\"yes\",C131=\"yes\",C146=\"yes\",C161=\"yes\"),1,0)","v":0},null,{"$f":"IF($C$5=\"\",\"\",$C$5)","v":""},{"$f":"IF(C5=\"drum mix plant\",SUM(N5:N6),0)","v":0},{"$f":"IF(N86=0,0,IF($K$86=1,0.0000055,0.000024))","v":0},{"$f":"IF(O86=\"\",\"\",\"lb/ton\")","v":"lb/ton"},{"$f":"IF($K$86=1,\"\",N86*O86)","v":0},{"$f":"IF($K$86=1,N86*O86,\"\")","v":""},{"$f":"IF(N86=0,0,IF($C$10>0,$C$10*O86/2000,IF($C$11>0,$C$11*365*O86/2000,IF($C$12>0,$C$12*365*O86*N86/2000,IF(R86=\"\",Q86*8760/2000,R86*8760/2000)))))","v":0},{"$f":"IF(N86>0,$P$5*O86/2000,0)","v":0}]
[null,null,null,null,{"$f":"IF($C$4>4,\"AP-2 EP-3\",\"\")","v":""},{"$f":"IF($C$4>4,\"AP-2 EU-3\",\"\")","v":""},{"$f":"IF($C$4>4,\"Silo Filling\",\"\")","v":""},null,null,null,null,null,"Lead Compounds"]
[null,null,null,null,{"$f":"IF($C$4>4,\"AP-2 EP-3\",\"\")","v":""},{"$f":"IF($C$4>4,\"AP-2 EU-4\",\"\")","v":""},{"$f":"IF($C$4>4,\"Truck Loadout\",\"\")","v":""},null,null,null,null,null,{"$f":"IF($C$5=\"\",\"\",$C$5)","v":""},{"$f":"IF(C5=\"drum mix plant\",SUM(N5:N6),0)","v":0},{"$f":"IF(N88=0,0,IF($K$86=1,0.000015,0.00054))","v":0},{"$f":"IF(O88=\"\",\"\",\"lb/ton\")","v":"lb/ton"},{"$f":"IF($K$86=1,\"\",N88*O88)","v":0},{"$f":"IF($K$86=1,N88*O88,\"\")","v":""},{"$f":"IF(N88=0,0,IF($C$10>0,$C$10*O88/2000,IF($C$11>0,$C$11*365*O88/2000,IF($C$12>0,$C$12*365*O88*N88/2000,IF(R88=\"\",Q88*8760/2000,R88*8760/2000)))))","v":0},{"$f":"IF(N88>0,$P$5*O88/2000,0)","v":0}]
[null,null,null,null,{"$f":"IF($C$4>4,\"AP-2 EP-3\",\"\")","v":""},{"$f":"IF($C$4>4,\"AP-2 EU-5\",\"\")","v":""},{"$f":"IF($C$4>4,\"Cold Aggregate Bins\",\"\")","v":""},null,null,null,null,null,"Manganese Compounds",null,null,null,0]
[null,null,null,null,null,null,null,null,null,null,null,null,{"$f":"IF($C$5=\"\",\"\",$C$5)","v":""},{"$f":"IF(C5=\"drum mix plant\",SUM(N5:N6),0)","v":0},{"$f":"IF(N90=0,0,IF($K$86=1,0.0000077,0.00065))","v":0},{"$f":"IF(O90=\"\",\"\",\"lb/ton\")","v":"lb/ton"},0,{"$f":"IF($K$86=1,N90*O90,\"\")","v":""},{"$f":"IF(N90=0,0,IF($C$10>0,$C$10*O90/2000,IF($C$11>0,$C$11*365*O90/2000,IF($C$12>0,$C$12*365*O90*N90/2000,IF(R90=\"\",Q90*8760/2000,R90*8760/2000)))))","v":0},{"$f":"IF(N90>0,$P$5*O90/2000,0)","v":0}]
[null,null,null,null,{"$f":"IF($C$4>4,\"Stock Pile Area\",\"\")","v":""},null,null,null,null,null,null,null,"Nickel Compounds",null,null,null,0]
[null,null,null,null,null,{"$f":"IF($C$4>4,\"Emission Unit #\",\"\")","v":""},{"$f":"IF($C$4>4,\"Maximum Storage Area (acres)\",\"\")","v":""},{"$f":"IF($C$4>4,\"Actual Storage Area (acres)\",\"\")","v":""},{"$f":"IF($C$4>4,\"Actual Days in Existence (days)\",\"\")","v":""},null,null,null,{"$f":"$C$5 & \" - Fuel Oil\"","v":" - Fuel Oil"},{"$f":"IF(C5=\"drum mix plant\",N5,0)","v":0},{"$f":"IF(N92=0,0,IF($K$86=1,0.000015,0.0013))","v":0},{"$f":"IF(O92=\"\",\"\",\"lb/ton\")","v":"lb/ton"},0,{"$f":"IF($K$86=1,N92*O92,\"\")","v":""},{"$f":"IF(N92=0,0,IF($C$10>0,$C$10*O92/2000,IF($C$11>0,$C$11*365*O92/2000,IF($C$12>0,$C$12*365*O92*N92/2000,IF(R92=\"\",Q92*8760/2000,R92*8760/2000)))))","v":0},{"$f":"IF(N92>0,$P$5*O92/2000,0)","v":0}]
[null,null,null,null,null,null,null,null,null,null,null,null,{"$f":"$C$5 & \" - Waste Oil\"","v":" - Waste Oil"},{"$f":"IF(C5=\"drum mix plant\",N6,0)","v":0},{"$f":"IF(N93=0,0,IF($K$86=1,0.000015,0.0013))","v":0},{"$f":"IF(O93=\"\",\"\",\"lb/ton\")","v":"lb/ton"},0,{"$f":"IF($K$86=1,N93*O93,\"\")","v":""},{"$f":"IF(N93=0,0,IF($C$10>0,$C$10*O93/2000,IF($C$11>0,$C$11*365*O93/2000,IF($C$12>0,$C$12*365*O93*N93/2000,IF(R93=\"\",Q93*8760/2000,R93*8760/2000)))))","v":0},{"$f":"IF(N93>0,$P$6*O93/2000,0)","v":0}]
[null,null,null,null,null,null,null,null,null,null,null,null,{"$f":"$C$5 & \" - Natural Gas\"","v":" - Natural Gas"},{"$f":"IF(C5=\"drum mix plant\",N7,0)","v":0},{"$f":"IF(N94=0,0,IF($K$86=1,0.000063,0.00063))","v":0},{"$f":"IF(O94=\"\",\"\",\"lb/ton\")","v":"lb/ton"},{"$f":"IF($K$86=1,\"\",N94*O94)","v":0},{"$f":"IF($K$86=1,N94*O94,\"\")","v":""},{"$f":"IF(N94=0,0,IF($C$10>0,$C$10*O94/2000,IF($C$11>0,$C$11*365*O94/2000,IF($C$12>0,$C$12*365*O94*N94/2000,IF(R94=\"\",Q94*8760/2000,R94*8760/2000)))))","v":0},{"$f":"IF(N94>0,$P$7*O94/2000,0)","v":0}]
[null,{"$f":"IF($C$4>5,\"Asphalt Plant\",\"\")","v":""},{"$f":"IF($C$4>5,\"Site 6\",\"\")","v":""},null,{"$f":"IF($C$4>5,\"Emission Point #\",\"\")","v":""},{"$f":"IF($C$4>5,\"Emission    Unit #\",\"\")","v":""},{"$f":"IF($C$4>5,\"Process\",\"\")","v":""},{"$f":"IF($C$4>5,\"Maximum Hourly     Design Rate\",\"\")","v":""},{"$f":"IF($C$4>5,('Facility Information'!G80&\" Annual Throughput\"),\"\")","v":""}]
[]
[null,{"$f":"IF($C$4>5,\"Site Name\",\"\")","v":""},null,null,{"$f":"IF($C$4>5,\"Dryers, Hot Screens, Mixer\",\"\")","v":""},null,null,{"$f":"IF($C$4>5,\"(tons/hr)\",\"\")","v":""},{"$f":"IF($C$4>5,\"(tons/yr)\",\"\")","v":""},"PM2.5","PM10"]
[null,{"$f":"IF($C$4>5,\"County:\",\"\")","v":""},null,null,{"$f":"IF(C100=\"\",\"\",\"AP-2 EP-1\")","v":""},{"$f":"IF(C100=\"\",\"\",\"AP-2 EU-1\")","v":""},{"$f":"IF(C100=\"\",\"\",C5 & \" - \"&C100)","v":""},null,null,{"$f":"IF(C101=\"\",\"\",IF(C101=\"yes\",LOOKUP(G98,'Emission Factors'!$A$12:$A$17,'Emission Factors'!$D$12:$D$17),LOOKUP(G98,'Emission Factors'!$A$5:$A$10,'Emission Factors'!$D$5:$D$10)))","v":""},{"$f":"IF(C101=\"\",\"\",IF(C101=\"yes\",LOOKUP(G98,'Emission Factors'!$A$12:$A$17,'Emission Factors'!$F$12:$F$17),LOOKUP(G98,'Emission Factors'!$A$5:$A$10,'Emission Factors'!$F$5:$F$10)))","v":""}]
[null,{"$f":"IF($C$4>5,\"Production Period (Dates):\",\"\")","v":""},null,null,{"$f":"IF($C$4>5,\"Liquid Asphalt Heater\",\"\")","v":""},null,null,{"$f":"IF($C$4>5,IF(C100=\"natural gas\",\"(MMCF/hr)\",\"(gallons/hr)\"),\"\")","v":""},{"$f":"IF($C$4>5,IF(C100=\"natural gas\",\"(MMCF/yr)\",\"(gallons/yr)\"),\"\")","v":""}]
[null,{"$f":"IF($C$4>5,\"Type of Fuel Used:\",\"\")","v":""},null,null,{"$f":"IF(C100=\"\",\"\",\"AP-2 EP-2\")","v":""},{"$f":"IF(C100=\"\",\"\",\"AP-2 EU-2\")","v":""},{"$f":"IF(C100=\"\",\"\",C100& \" Fired Heater\")","v":""}]
[null,{"$f":"IF($C$4>5,\"Is Your Operation Controlled?:\",\"\")","v":""},null,null,{"$f":"IF($C$4>5,\"Silo Filling, Truck Loadout, Aggregate Transfer\",\"\")","v":""},null,null,{"$f":"IF($C$4>5,\"(tons/hr)\",\"\")","v":""},{"$f":"IF($C$4>5,\"(tons/yr)\",\"\")","v":""}]
[null,null,null,null,{"$f":"IF($C$4>5,\"AP-2 EP-3\",\"\")","v":""},{"$f":"IF($C$4>5,\"AP-2 EU-3\",\"\")","v":""},{"$f":"IF($C$4>5,\"Silo Filling\",\"\")","v":""}]
[null,null,null,null,{"$f":"IF($C$4>5,\"AP-2 EP-3\",\"\")","v":""},{"$f":"IF($C$4>5,\"AP-2 EU-4\",\"\")","v":""},{"$f":"IF($C$4>5,\"Truck Loadout\",\"\")","v":""}]
[null,null,null,null,{"$f":"IF($C$4>5,\"AP-2 EP-3\",\"\")","v":""},{"$f":"IF($C$4>5,\"AP-2 EU-5\",\"\")","v":""},{"$f":"IF($C$4>5,\"Cold Aggregate Bins\",\"\")","v":""}]
[]
[null,null,null,null,{"$f":"IF($C$4>5,\"Stock Pile Area\",\"\")","v":""}]
[null,null,null,null,null,{"$f":"IF($C$4>5,\"Emission Unit #\",\"\")","v":""},{"$f":"IF($C$4>5,\"Maximum Storage Area (acres)\",\"\")","v":""},{"$f":"IF($C$4>5,\"Actual Storage Area (acres)\",\"\")","v":""},{"$f":"IF($C$4>5,\"Actual Days in Existence (days)\",\"\")","v":""}]
[]
[]
[null,{"$f":"IF($C$4>6,\"Asphalt Plant\",\"\")","v":""},{"$f":"IF($C$4>6,\"Site 7\",\"\")","v":""},null,{"$f":"IF($C$4>6,\"Emission Point #\",\"\")","v":""},{"$f":"IF($C$4>6,\"Emission    Unit #\",\"\")","v":""},{"$f":"IF($C$4>6,\"Process\",\"\")","v":""},{"$f":"IF($C$4>6,\"Maximum Hourly     Design Rate\",\"\")","v":""},{"$f":"IF($C$4>6,('Facility Information'!G95&\" Annual Throughput\"),\"\")","v":""}]
[]
[null,{"$f":"IF($C$4>6,\"Site Name\",\"\")","v":""},null,null,{"$f":"IF($C$4>6,\"Dryers, Hot Screens, Mixer\",\"\")","v":""},null,null,{"$f":"IF($C$4>6,\"(tons/hr)\",\"\")","v":""},{"$f":"IF($C$4>6,\"(tons/yr)\",\"\")","v":""},"PM2.5","PM10"]
[null,{"$f":"IF($C$4>6,\"County:\",\"\")","v":""},null,null,{"$f":"IF(C115=\"\",\"\",\"AP-2 EP-1\")","v":""},{"$f":"IF(C115=\"\",\"\",\"AP-2 EU-1\")","v":""},{"$f":"IF(C115=\"\",\"\",C5 & \" - \"&C115)","v":""},null,null,{"$f":"IF(C116=\"\",\"\",IF(C116=\"yes\",LOOKUP(G113,'Emission Factors'!$A$12:$A$17,'Emission Factors'!$D$12:$D$17),LOOKUP(G113,'Emission Factors'!$A$5:$A$10,'Emission Factors'!$D$5:$D$10)))","v":""},{"$f":"IF(C116=\"\",\"\",IF(C116=\"yes\",LOOKUP(G113,'Emission Factors'!$A$12:$A$17,'Emission Factors'!$F$12:$F$17),LOOKUP(G113,'Emission Factors'!$A$5:$A$10,'Emission Factors'!$F$5:$F$10)))","v":""}]
[null,{"$f":"IF($C$4>6,\"Production Period (Dates):\",\"\")","v":""},null,null,{"$f":"IF($C$4>6,\"Liquid Asphalt Heater\",\"\")","v":""},null,null,{"$f":"IF($C$4>6,IF(C115=\"natural gas\",\"(MMCF/hr)\",\"(gallons/hr)\"),\"\")","v":""},{"$f":"IF($C$4>6,IF(C115=\"natural gas\",\"(MMCF/yr)\",\"(gallons/yr)\"),\"\")","v":""}]
[null,{"$f":"IF($C$4>6,\"Type of Fuel Used:\",\"\")","v":""},null,null,{"$f":"IF(C115=\"\",\"\",\"AP-2 EP-2\")","v":""},{"$f":"IF(C115=\"\",\"\",\"AP-2 EU-2\")","v":""},{"$f":"IF(C115=\"\",\"\",C115& \" Fired Heater\")","v":""}]
[null,{"$f":"IF($C$4>6,\"Is Your Operation Controlled?:\",\"\")","v":""},null,null,{"$f":"IF($C$4>6,\"Silo Filling, Truck Loadout, Aggregate Transfer\",\"\")","v":""},null,null,{"$f":"IF($C$4>6,\"(tons/hr)\",\"\")","v":""},{"$f":"IF($C$4>6,\"(tons/yr)\",\"\")","v":""}]
[null,null,null,null,{"$f":"IF($C$4>6,\"AP-2 EP-3\",\"\")","v":""},{"$f":"IF($C$4>6,\"AP-2 EU-3\",\"\")","v":""},{"$f":"IF($C$4>6,\"Silo Filling\",\"\")","v":""}]
[null,null,null,null,{"$f":"IF($C$4>6,\"AP-2 EP-3\",\"\")","v":""},{"$f":"IF($C$4>6,\"AP-2 EU-4\",\"\")","v":""},{"$f":"IF($C$4>6,\"Truck Loadout\",\"\")","v":""}]
[null,null,null,null,{"$f":"IF($C$4>6,\"AP-2 EP-3\",\"\")","v":""},{"$f":"IF($C$4>6,\"AP-2 EU-5\",\"\")","v":""},{"$f":"IF($C$4>6,\"Cold Aggregate Bins\",\"\")","v":""}]
[]
[null,null,null,null,{"$f":"IF($C$4>6,\"Stock Pile Area\",\"\")","v":""}]
[null,null,null,null,null,{"$f":"IF($C$4>6,\"Emission Unit #\",\"\")","v":""},{"$f":"IF($C$4>6,\"Maximum Storage Area (acres)\",\"\")","v":""},{"$f":"IF($C$4>6,\"Actual Storage Area (acres)\",\"\")","v":""},{"$f":"IF($C$4>6,\"Actual Days in Existence (days)\",\"\")","v":""}]
[]
[]
[null,{"$f":"IF($C$4>7,\"Asphalt Plant\",\"\")","v":""},{"$f":"IF($C$4>7,\"Site 8\",\"\")","v":""},null,{"$f":"IF($C$4>7,\"Emission Point #\",\"\")","v":""},{"$f":"IF($C$4>7,\"Emission    Unit #\",\"\")","v":""},{"$f":"IF($C$4>7,\"Process\",\"\")","v":""},{"$f":"IF($C$4>7,\"Maximum Hourly     Design Rate\",\"\")","v":""},{"$f":"IF($C$4>7,('Facility Information'!G110&\" Annual Throughput\"),\"\")","v":""}]
[]
[null,{"$f":"IF($C$4>7,\"Site Name\",\"\")","v":""},null,null,{"$f":"IF($C$4>7,\"Dryers, Hot Screens, Mixer\",\"\")","v":""},null,null,{"$f":"IF($C$4>7,\"(tons/hr)\",\"\")","v":""},{"$f":"IF($C$4>7,\"(tons/yr)\",\"\")","v":""},"PM2.5","PM10"]
[null,{"$f":"IF($C$4>7,\"County:\",\"\")","v":""},null,null,{"$f":"IF(C130=\"\",\"\",\"AP-2 EP-1\")","v":""},{"$f":"IF(C130=\"\",\"\",\"AP-2 EU-1\")","v":""},{"$f":"IF(C130=\"\",\"\",C5 & \" - \"&C130)","v":""},null,null,{"$f":"IF(C131=\"\",\"\",IF(C131=\"yes\",LOOKUP(G128,'Emission Factors'!$A$12:$A$17,'Emission Factors'!$D$12:$D$17),LOOKUP(G128,'Emission Factors'!$A$5:$A$10,'Emission Factors'!$D$5:$D$10)))","v":""},{"$f":"IF(C131=\"\",\"\",IF(C131=\"yes\",LOOKUP(G128,'Emission Factors'!$A$12:$A$17,'Emission Factors'!$F$12:$F$17),LOOKUP(G128,'Emission Factors'!$A$5:$A$10,'Emission Factors'!$F$5:$F$10)))","v":""}]
[null,{"$f":"IF($C$4>7,\"Production Period (Dates):\",\"\")","v":""},null,null,{"$f":"IF($C$4>7,\"Liquid Asphalt Heater\",\"\")","v":""},null,null,{"$f":"IF($C$4>7,IF(C130=\"natural gas\",\"(MMCF/hr)\",\"(gallons/hr)\"),\"\")","v":""},{"$f":"IF($C$4>7,IF(C130=\"natural gas\",\"(MMCF/yr)\",\"(gallons/yr)\"),\"\")","v":""}]
[null,{"$f":"IF($C$4>7,\"Type of Fuel Used:\",\"\")","v":""},null,null,{"$f":"IF(C130=\"\",\"\",\"AP-2 EP-2\")","v":""},{"$f":"IF(C130=\"\",\"\",\"AP-2 EU-2\")","v":""},{"$f":"IF(C130=\"\",\"\",C130& \" Fired Heater\")","v":""}]
[null,{"$f":"IF($C$4>7,\"Is Your Operation Controlled?:\",\"\")","v":""},null,null,{"$f":"IF($C$4>7,\"Silo Filling, Truck Loadout, Aggregate Transfer\",\"\")","v":""},null,null,{"$f":"IF($C$4>7,\"(tons/hr)\",\"\")","v":""},{"$f":"IF($C$4>7,\"(tons/yr)\",\"\")","v":""}]
[null,null,null,null,{"$f":"IF($C$4>7,\"AP-2 EP-3\",\"\")","v":""},{"$f":"IF($C$4>7,\"AP-2 EU-3\",\"\")","v":""},{"$f":"IF($C$4>7,\"Silo Filling\",\"\")","v":""}]
[null,null,null,null,{"$f":"IF($C$4>7,\"AP-2 EP-3\",\"\")","v":""},{"$f":"IF($C$4>7,\"AP-2 EU-4\",\"\")","v":""},{"$f":"IF($C$4>7,\"Truck Loadout\",\"\")","v":""}]
[null,null,null,null,{"$f":"IF($C$4>7,\"AP-2 EP-3\",\"\")","v":""},{"$f":"IF($C$4>7,\"AP-2 EU-5\",\"\")","v":""},{"$f":"IF($C$4>7,\"Cold Aggregate Bins\",\"\")","v":""}]
[]
[null,null,null,null,{"$f":"IF($C$4>7,\"Stock Pile Area\",\"\")","v":""}]
[null,null,null,null,null,{"$f":"IF($C$4>7,\"Emission Unit #\",\"\")","v":""},{"$f":"IF($C$4>7,\"Maximum Storage Area (acres)\",\"\")","v":""},{"$f":"IF($C$4>7,\"Actual Storage Area (acres)\",\"\")","v":""},{"$f":"IF($C$4>7,\"Actual Days in Existence (days)\",\"\")","v":""}]
[]
[]
[null,{"$f":"IF($C$4>8,\"Asphalt Plant\",\"\")","v":""},{"$f":"IF($C$4>8,\"Site 9\",\"\")","v":""},null,{"$f":"IF($C$4>8,\"Emission Point #\",\"\")","v":""},{"$f":"IF($C$4>8,\"Emission    Unit #\",\"\")","v":""},{"$f":"IF($C$4>8,\"Process\",\"\")","v":""},{"$f":"IF($C$4>8,\"Maximum Hourly     Design Rate\",\"\")","v":""},{"$f":"IF($C$4>8,('Facility Information'!G125&\" Annual Throughput\"),\"\")","v":""}]
[]
[null,{"$f":"IF($C$4>8,\"Site Name\",\"\")","v":""},null,null,{"$f":"IF($C$4>8,\"Dryers, Hot Screens, Mixer\",\"\")","v":""},null,null,{"$f":"IF($C$4>8,\"(tons/hr)\",\"\")","v":""},{"$f":"IF($C$4>8,\"(tons/yr)\",\"\")","v":""},"PM2.5","PM10"]
[null,{"$f":"IF($C$4>8,\"County:\",\"\")","v":""},null,null,{"$f":"IF(C145=\"\",\"\",\"AP-2 EP-1\")","v":""},{"$f":"IF(C145=\"\",\"\",\"AP-2 EU-1\")","v":""},{"$f":"IF(C145=\"\",\"\",C5 & \" - \"&C145)","v":""},null,null,{"$f":"IF(C146=\"\",\"\",IF(C146=\"yes\",LOOKUP(G143,'Emission Factors'!$A$12:$A$17,'Emission Factors'!$D$12:$D$17),LOOKUP(G143,'Emission Factors'!$A$5:$A$10,'Emission Factors'!$D$5:$D$10)))","v":""},{"$f":"IF(C146=\"\",\"\",IF(C146=\"yes\",LOOKUP(G143,'Emission Factors'!$A$12:$A$17,'Emission Factors'!$F$12:$F$17),LOOKUP(G143,'Emission Factors'!$A$5:$A$10,'Emission Factors'!$F$5:$F$10)))","v":""}]
[null,{"$f":"IF($C$4>8,\"Production Period (Dates):\",\"\")","v":""},null,null,{"$f":"IF($C$4>8,\"Liquid Asphalt Heater\",\"\")","v":""},null,null,{"$f":"IF($C$4>8,IF(C145=\"natural gas\",\"(MMCF/hr)\",\"(gallons/hr)\"),\"\")","v":""},{"$f":"IF($C$4>8,IF(C145=\"natural gas\",\"(MMCF/yr)\",\"(gallons/yr)\"),\"\")","v":""}]
[null,{"$f":"IF($C$4>8,\"Type of Fuel Used:\",\"\")","v":""},null,null,{"$f":"IF(C145=\"\",\"\",\"AP-2 EP-2\")","v":""},{"$f":"IF(C145=\"\",\"\",\"AP-2 EU-2\")","v":""},{"$f":"IF(C145=\"\",\"\",C145& \" Fired Heater\")","v":""}]
[null,{"$f":"IF($C$4>8,\"Is Your Operation Controlled?:\",\"\")","v":""},null,null,{"$f":"IF($C$4>8,\"Silo Filling, Truck Loadout, Aggregate Transfer\",\"\")","v":""},null,null,{"$f":"IF($C$4>8,\"(tons/hr)\",\"\")","v":""},{"$f":"IF($C$4>8,\"(tons/yr)\",\"\")","v":""}]
[null,null,null,null,{"$f":"IF($C$4>8,\"AP-2 EP-3\",\"\")","v":""},{"$f":"IF($C$4>8,\"AP-2 EU-3\",\"\")","v":""},{"$f":"IF($C$4>8,\"Silo Filling\",\"\")","v":""}]
[null,null,null,null,{"$f":"IF($C$4>8,\"AP-2 EP-3\",\"\")","v":""},{"$f":"IF($C$4>8,\"AP-2 EU-4\",\"\")","v":""},{"$f":"IF($C$4>8,\"Truck Loadout\",\"\")","v":""}]
[null,null,null,null,{"$f":"IF($C$4>8,\"AP-2 EP-3\",\"\")","v":""},{"$f":"IF($C$4>8,\"AP-2 EU-5\",\"\")","v":""},{"$f":"IF($C$4>8,\"Cold Aggregate Bins\",\"\")","v":""}]
[]
[null,null,null,null,{"$f":"IF($C$4>8,\"Stock Pile Area\",\"\")","v":""}]
[null,null,null,null,null,{"$f":"IF($C$4>8,\"Emission Unit #\",\"\")","v":""},{"$f":"IF($C$4>8,\"Maximum Storage Area (acres)\",\"\")","v":""},{"$f":"IF($C$4>8,\"Actual Storage Area (acres)\",\"\")","v":""},{"$f":"IF($C$4>8,\"Actual Days in Existence (days)\",\"\")","v":""}]
[]
[]
[null,{"$f":"IF($C$4>9,\"Asphalt Plant\",\"\")","v":""},{"$f":"IF($C$4>9,\"Site 10\",\"\")","v":""},null,{"$f":"IF($C$4>9,\"Emission Point #\",\"\")","v":""},{"$f":"IF($C$4>9,\"Emission    Unit #\",\"\")","v":""},{"$f":"IF($C$4>9,\"Process\",\"\")","v":""},{"$f":"IF($C$4>9,\"Maximum Hourly     Design Rate\",\"\")","v":""},{"$f":"IF($C$4>9,('Facility Information'!G140&\" Annual Throughput\"),\"\")","v":""}]
[]
[null,{"$f":"IF($C$4>9,\"Site Name\",\"\")","v":""},null,null,{"$f":"IF($C$4>9,\"Dryers, Hot Screens, Mixer\",\"\")","v":""},null,null,{"$f":"IF($C$4>9,\"(tons/hr)\",\"\")","v":""},{"$f":"IF($C$4>9,\"(tons/yr)\",\"\")","v":""},"PM2.5","PM10"]
[null,{"$f":"IF($C$4>9,\"County:\",\"\")","v":""},null,null,{"$f":"IF(C160=\"\",\"\",\"AP-2 EP-1\")","v":""},{"$f":"IF(C160=\"\",\"\",\"AP-2 EU-1\")","v":""},{"$f":"IF(C160=\"\",\"\",C5 & \" - \"&C160)","v":""},null,null,{"$f":"IF(C161=\"\",\"\",IF(C161=\"yes\",LOOKUP(G158,'Emission Factors'!$A$12:$A$17,'Emission Factors'!$D$12:$D$17),LOOKUP(G158,'Emission Factors'!$A$5:$A$10,'Emission Factors'!$D$5:$D$10)))","v":""},{"$f":"IF(C161=\"\",\"\",IF(C161=\"yes\",LOOKUP(G158,'Emission Factors'!$A$12:$A$17,'Emission Factors'!$F$12:$F$17),LOOKUP(G158,'Emission Factors'!$A$5:$A$10,'Emission Factors'!$F$5:$F$10)))","v":""}]
[null,{"$f":"IF($C$4>9,\"Production Period (Dates):\",\"\")","v":""},null,null,{"$f":"IF($C$4>9,\"Liquid Asphalt Heater\",\"\")","v":""},null,null,{"$f":"IF($C$4>9,IF(C160=\"natural gas\",\"(MMCF/hr)\",\"(gallons/hr)\"),\"\")","v":""},{"$f":"IF($C$4>9,IF(C160=\"natural gas\",\"(MMCF/yr)\",\"(gallons/yr)\"),\"\")","v":""}]
[null,{"$f":"IF($C$4>9,\"Type of Fuel Used:\",\"\")","v":""},null,null,{"$f":"IF(C160=\"\",\"\",\"AP-2 EP-2\")","v":""},{"$f":"IF(C160=\"\",\"\",\"AP-2 EU-2\")","v":""},{"$f":"IF(C160=\"\",\"\",C160& \" Fired Heater\")","v":""}]
[null,{"$f":"IF($C$4>9,\"Is Your Operation Controlled?:\",\"\")","v":""},null,null,{"$f":"IF($C$4>9,\"Silo Filling, Truck Loadout, Aggregate Transfer\",\"\")","v":""},null,null,{"$f":"IF($C$4>9,\"(tons/hr)\",\"\")","v":""},{"$f":"IF($C$4>9,\"(tons/yr)\",\"\")","v":""}]
[null,null,null,null,{"$f":"IF($C$4>9,\"AP-2 EP-3\",\"\")","v":""},{"$f":"IF($C$4>9,\"AP-2 EU-3\",\"\")","v":""},{"$f":"IF($C$4>9,\"Silo Filling\",\"\")","v":""}]
[null,null,null,null,{"$f":"IF($C$4>9,\"AP-2 EP-3\",\"\")","v":""},{"$f":"IF($C$4>9,\"AP-2 EU-4\",\"\")","v":""},{"$f":"IF($C$4>9,\"Truck Loadout\",\"\")","v":""}]
[null,null,null,null,{"$f":"IF($C$4>9,\"AP-2 EP-3\",\"\")","v":""},{"$f":"IF($C$4>9,\"AP-2 EU-5\",\"\")","v":""},{"$f":"IF($C$4>9,\"Cold Aggregate Bins\",\"\")","v":""}]
[]
[null,null,null,null,{"$f":"IF($C$4>9,\"Stock Pile Area\",\"\")","v":""}]
[null,null,null,null,null,{"$f":"IF($C$4>9,\"Emission Unit #\",\"\")","v":""},{"$f":"IF($C$4>9,\"Maximum Storage Area (acres)\",\"\")","v":""},{"$f":"IF($C$4>9,\"Actual Storage Area (acres)\",\"\")","v":""},{"$f":"IF($C$4>9,\"Actual Days in Existence (days)\",\"\")","v":""}]

{"sheet":"Asphalt Plant (AP-3)","index":3,"n_rows":167,"n_cols":20,"rows_kept":167,"cut":false,"hidden":true,"merged":[[156,4,156,6],[158,4,158,6],[160,4,160,6],[139,7,140,7],[139,8,140,8],[141,4,141,6],[143,4,143,6],[145,4,145,6],[154,4,155,4],[154,5,155,5],[154,6,155,6],[154,7,155,7],[154,8,155,8],[126,4,126,6],[128,4,128,6],[130,4,130,6],[139,4,140,4],[139,5,140,5],[139,6,140,6],[109,7,110,7],[109,8,110,8],[111,4,111,6],[113,4,113,6],[115,4,115,6],[124,4,125,4],[124,5,125,5],[124,6,125,6],[124,7,125,7],[124,8,125,8],[96,4,96,6],[98,4,98,6],[100,4,100,6],[109,4,110,4],[109,5,110,5],[109,6,110,6],[79,7,80,7],[79,8,80,8],[81,4,81,6],[83,4,83,6],[85,4,85,6],[94,4,95,4],[94,5,95,5],[94,6,95,6],[94,7,95,7],[94,8,95,8],[66,4,66,6],[68,4,68,6],[70,4,70,6],[79,4,80,4],[79,5,80,5],[79,6,80,6],[49,8,50,8],[51,4,51,6],[53,4,53,6],[55,4,55,6],[64,4,65,4],[64,5,65,5],[64,6,65,6],[64,7,65,7],[64,8,65,8],[38,4,38,6],[40,4,40,6],[49,4,50,4],[49,5,50,5],[49,6,50,6],[49,7,50,7],[34,15,35,15],[34,16,35,16],[34,17,35,17],[34,18,35,18],[34,19,35,19],[36,4,36,6],[34,4,35,4],[34,5,35,5],[34,6,35,6],[34,7,35,7],[34,8,35,8],[34,14,35,14],[18,17,19,17],[18,18,19,18],[18,19,19,19],[19,4,20,4],[19,5,20,5],[19,6,20,6],[19,7,20,7],[19,8,20,8],[2,15,3,15],[2,16,3,16],[3,17,4,19],[12,1,14,2],[13,14,13,15],[14,14,14,15],[18,13,19,13],[18,14,19,14],[18,15,19,15],[18,16,19,16],[0,1,0,2],[1,1,1,2],[1,7,1,8],[2,12,3,12],[2,13,3,13],[2,14,3,14]]}
[null,"ASPHALT PLANT (AP-3)"]
[null,"Please fill in the yellow boxes as applicable for your facility. ",null,null,null,null,null,"Values used for calculating emissions →",null,null,null,null,"Values Used to Calculate Potential and Actual Emissions for the Listed Processes at this Plant"]
[null,null,null,null,null,null,null,null,null,null,null,null,"Process","Maximum Design Rate","Units","Actual throughput","Units"]
[null,{"$f":"\"Number of Sites this Plant operated at in \"&'Facility Information'!G5&\":\"","v":"Number of Sites this Plant operated at in :"},null,null,null,null,null,null,null,null,null,null,null,null,null,null,null,"** As of 2016 Potential Emissions are no longer required to be reported in the Minor Source Emissions Inventory**"]
[null,"Plant Type:",null,null,null,null,null,null,null,null,null,null,{"$f":"$C$5 & \" - Fuel Oil\"","v":" - Fuel Oil"},{"$f":"MAX((IFERROR(OFFSET($G$22,MATCH(M5,$G$23,0),1),0)),((IFERROR(OFFSET($G$37,MATCH(M5,$G$38,0),1),0))),((IFERROR(OFFSET($G$52,MATCH(M5,$G$53,0),1),0))),((IFERROR(OFFSET($G$67,MATCH(M5,$G$68,0),1),0))),((IFERROR(OFFSET($G$82,MATCH(M5,$G$83,0),1),0))),((IFERROR(OFFSET($G$97,MATCH(M5,$G$98,0),1),0))),((IFERROR(OFFSET($G$112,MATCH(M5,$G$113,0),1),0))),((IFERROR(OFFSET($G$127,MATCH(M5,$G$128,0),1),0))),((IFERROR(OFFSET($G$142,MATCH(M5,$G$143,0),1),0))),((IFERROR(OFFSET($G$157,MATCH(M5,$G$158,0),1),0))))","v":0},"tons/hr",{"$f":"SUM((IFERROR(OFFSET($G$22,MATCH(M5,$G$23,0),2),0)),((IFERROR(OFFSET($G$37,MATCH(M5,$G$38,0),2),0))),((IFERROR(OFFSET($G$52,MATCH(M5,$G$53,0),2),0))),((IFERROR(OFFSET($G$67,MATCH(M5,$G$68,0),2),0))),((IFERROR(OFFSET($G$82,MATCH(M5,$G$83,0),2),0))),((IFERROR(OFFSET($G$97,MATCH(M5,$G$98,0),2),0))),((IFERROR(OFFSET($G$112,MATCH(M5,$G$113,0),2),0))),((IFERROR(OFFSET($G$127,MATCH(M5,$G$128,0),2),0))),((IFERROR(OFFSET($G$142,MATCH(M5,$G$143,0),2),0))),((IFERROR(OFFSET($G$157,MATCH(M5,$G$158,0),2),0))))","v":0},"tons/yr"]
[null,null,null,null,null,null,null,null,null,null,null,null,{"$f":"$C$5 & \" - Waste Oil\"","v":" - Waste Oil"},{"$f":"MAX((IFERROR(OFFSET($G$22,MATCH(M6,$G$23,0),1),0)),((IFERROR(OFFSET($G$37,MATCH(M6,$G$38,0),1),0))),((IFERROR(OFFSET($G$52,MATCH(M6,$G$53,0),1),0))),((IFERROR(OFFSET($G$67,MATCH(M6,$G$68,0),1),0))),((IFERROR(OFFSET($G$82,MATCH(M6,$G$83,0),1),0))),((IFERROR(OFFSET($G$97,MATCH(M6,$G$98,0),1),0))),((IFERROR(OFFSET($G$112,MATCH(M6,$G$113,0),1),0))),((IFERROR(OFFSET($G$127,MATCH(M6,$G$128,0),1),0))),((IFERROR(OFFSET($G$142,MATCH(M6,$G$143,0),1),0))),((IFERROR(OFFSET($G$157,MATCH(M6,$G$158,0),1),0))))","v":0},"tons/hr",{"$f":"SUM((IFERROR(OFFSET($G$22,MATCH(M6,$G$23,0),2),0)),((IFERROR(OFFSET($G$37,MATCH(M6,$G$38,0),2),0))),((IFERROR(OFFSET($G$52,MATCH(M6,$G$53,0),2),0))),((IFERROR(OFFSET($G$67,MATCH(M6,$G$68,0),2),0))),((IFERROR(OFFSET($G$82,MATCH(M6,$G$83,0),2),0))),((IFERROR(OFFSET($G$97,MATCH(M6,$G$98,0),2),0))),((IFERROR(OFFSET($G$112,MATCH(M6,$G$113,0),2),0))),((IFERROR(OFFSET($G$127,MATCH(M6,$G$128,0),2),0))),((IFERROR(OFFSET($G$142,MATCH(M6,$G$143,0),2),0))),((IFERROR(OFFSET($G$157,MATCH(M6,$G$158,0),2),0))))","v":0},"tons/yr"]
[null,"Plant Specific Permit Number: ",null,null,null,null,null,null,null,null,null,null,{"$f":"$C$5 & \" - Natural Gas\"","v":" - Natural Gas"},{"$f":"MAX((IFERROR(OFFSET($G$22,MATCH(M7,$G$23,0),1),0)),((IFERROR(OFFSET($G$37,MATCH(M7,$G$38,0),1),0))),((IFERROR(OFFSET($G$52,MATCH(M7,$G$53,0),1),0))),((IFERROR(OFFSET($G$67,MATCH(M7,$G$68,0),1),0))),((IFERROR(OFFSET($G$82,MATCH(M7,$G$83,0),1),0))),((IFERROR(OFFSET($G$97,MATCH(M7,$G$98,0),1),0))),((IFERROR(OFFSET($G$112,MATCH(M7,$G$113,0),1),0))),((IFERROR(OFFSET($G$127,MATCH(M7,$G$128,0),1),0))),((IFERROR(OFFSET($G$142,MATCH(M7,$G$143,0),1),0))),((IFERROR(OFFSET($G$157,MATCH(M7,$G$158,0),1),0))))","v":0},"tons/hr",{"$f":"SUM((IFERROR(OFFSET($G$22,MATCH(M7,$G$23,0),2),0)),((IFERROR(OFFSET($G$37,MATCH(M7,$G$38,0),2),0))),((IFERROR(OFFSET($G$52,MATCH(M7,$G$53,0),2),0))),((IFERROR(OFFSET($G$67,MATCH(M7,$G$68,0),2),0))),((IFERROR(OFFSET($G$82,MATCH(M7,$G$83,0),2),0))),((IFERROR(OFFSET($G$97,MATCH(M7,$G$98,0),2),0))),((IFERROR(OFFSET($G$112,MATCH(M7,$G$113,0),2),0))),((IFERROR(OFFSET($G$127,MATCH(M7,$G$128,0),2),0))),((IFERROR(OFFSET($G$142,MATCH(M7,$G$143,0),2),0))),((IFERROR(OFFSET($G$157,MATCH(M7,$G$158,0),2),0))))","v":0},"tons/yr"]
[null,null,null,null,null,null,null,null,null,null,null,null,"Fuel Oil Fired Heater",{"$f":"MAX((IFERROR(OFFSET($G$24,MATCH(\"Fuel Oil Fired Heater\",$G$25,0),1),0)),((IFERROR(OFFSET($G$39,MATCH(\"Fuel Oil Fired Heater\",$G$40,0),1),0))),((IFERROR(OFFSET($G$54,MATCH(\"Fuel Oil Fired Heater\",$G$55,0),1),0))),((IFERROR(OFFSET($G$69,MATCH(\"Fuel Oil Fired Heater\",$G$70,0),1),0))),((IFERROR(OFFSET($G$84,MATCH(\"Fuel Oil Fired Heater\",$G$85,0),1),0))),((IFERROR(OFFSET($G$99,MATCH(\"Fuel Oil Fired Heater\",$G$100,0),1),0))),((IFERROR(OFFSET($G$114,MATCH(\"Fuel Oil Fired Heater\",$G$115,0),1),0))),((IFERROR(OFFSET($G$129,MATCH(\"Fuel Oil Fired Heater\",$G$130,0),1),0))),((IFERROR(OFFSET($G$144,MATCH(\"Fuel Oil Fired Heater\",$G$145,0),1),0))),((IFERROR(OFFSET($G$159,MATCH(\"Fuel Oil Fired Heater\",$G$160,0),1),0))))","v":0},"gallons/hr",{"$f":"SUM((IFERROR(OFFSET($G$24,MATCH(\"Fuel Oil Fired Heater\",$G$25,0),2),0)),((IFERROR(OFFSET($G$39,MATCH(\"Fuel Oil Fired Heater\",$G$40,0),2),0))),((IFERROR(OFFSET($G$54,MATCH(\"Fuel Oil Fired Heater\",$G$55,0),2),0))),((IFERROR(OFFSET($G$69,MATCH(\"Fuel Oil Fired Heater\",$G$70,0),2),0))),((IFERROR(OFFSET($G$84,MATCH(\"Fuel Oil Fired Heater\",$G$85,0),2),0))),((IFERROR(OFFSET($G$99,MATCH(\"Fuel Oil Fired Heater\",$G$100,0),2),0))),((IFERROR(OFFSET($G$114,MATCH(\"Fuel Oil Fired Heater\",$G$115,0),2),0))),((IFERROR(OFFSET($G$129,MATCH(\"Fuel Oil Fired Heater\",$G$130,0),2),0))),((IFERROR(OFFSET($G$144,MATCH(\"Fuel Oil Fired Heater\",$G$145,0),2),0))),((IFERROR(OFFSET($G$159,MATCH(\"Fuel Oil Fired Heater\",$G$160,0),2),0))))","v":0},"gallons/yr"]
[null,"Plant Specific Operating Limits:",null,null,"Plant Specific Emission Limits:",null,null,null,null,null,null,null,"Waste Oil Fired Heater",{"$f":"MAX((IFERROR(OFFSET($G$24,MATCH(\"waste oil Fired Heater\",$G$25,0),1),0)),((IFERROR(OFFSET($G$39,MATCH(\"waste oil Fired Heater\",$G$40,0),1),0))),((IFERROR(OFFSET($G$54,MATCH(\"waste oil Fired Heater\",$G$55,0),1),0))),((IFERROR(OFFSET($G$69,MATCH(\"waste oil Fired Heater\",$G$70,0),1),0))),((IFERROR(OFFSET($G$84,MATCH(\"waste oil Fired Heater\",$G$85,0),1),0))),((IFERROR(OFFSET($G$99,MATCH(\"waste oil Fired Heater\",$G$100,0),1),0))),((IFERROR(OFFSET($G$114,MATCH(\"waste oil Fired Heater\",$G$115,0),1),0))),((IFERROR(OFFSET($G$129,MATCH(\"waste oil Fired Heater\",$G$130,0),1),0))),((IFERROR(OFFSET($G$144,MATCH(\"waste oil Fired Heater\",$G$145,0),1),0))),((IFERROR(OFFSET($G$159,MATCH(\"waste oil Fired Heater\",$G$160,0),1),0))))","v":0},"gallons/hr",{"$f":"SUM((IFERROR(OFFSET($G$24,MATCH(\"waste oil Fired Heater\",$G$25,0),2),0)),((IFERROR(OFFSET($G$39,MATCH(\"waste oil Fired Heater\",$G$40,0),2),0))),((IFERROR(OFFSET($G$54,MATCH(\"waste oil Fired Heater\",$G$55,0),2),0))),((IFERROR(OFFSET($G$69,MATCH(\"waste oil Fired Heater\",$G$70,0),2),0))),((IFERROR(OFFSET($G$84,MATCH(\"waste oil Fired Heater\",$G$85,0),2),0))),((IFERROR(OFFSET($G$99,MATCH(\"waste oil Fired Heater\",$G$100,0),2),0))),((IFERROR(OFFSET($G$114,MATCH(\"waste oil Fired Heater\",$G$115,0),2),0))),((IFERROR(OFFSET($G$129,MATCH(\"waste oil Fired Heater\",$G$130,0),2),0))),((IFERROR(OFFSET($G$144,MATCH(\"waste oil Fired Heater\",$G$145,0),2),0))),((IFERROR(OFFSET($G$159,MATCH(\"waste oil Fired Heater\",$G$160,0),2),0))))","v":0},"gallons/yr"]
[null,"Throughput Limit (tons/yr):",null,null,"Pollutant","lb/hr","tons/yr",null,null,null,null,null,"Natural Gas Fired Heater",{"$f":"MAX((IFERROR(OFFSET($G$24,MATCH(\"Natural Gas Fired Heater\",$G$25,0),1),0)),((IFERROR(OFFSET($G$39,MATCH(\"Natural Gas Fired Heater\",$G$40,0),1),0))),((IFERROR(OFFSET($G$54,MATCH(\"Natural Gas Fired Heater\",$G$55,0),1),0))),((IFERROR(OFFSET($G$69,MATCH(\"Natural Gas Fired Heater\",$G$70,0),1),0))),((IFERROR(OFFSET($G$84,MATCH(\"Natural Gas Fired Heater\",$G$85,0),1),0))),((IFERROR(OFFSET($G$99,MATCH(\"Natural Gas Fired Heater\",$G$100,0),1),0))),((IFERROR(OFFSET($G$114,MATCH(\"Natural Gas Fired Heater\",$G$115,0),1),0))),((IFERROR(OFFSET($G$129,MATCH(\"Natural Gas Fired Heater\",$G$130,0),1),0))),((IFERROR(OFFSET($G$144,MATCH(\"Natural Gas Fired Heater\",$G$145,0),1),0))),((IFERROR(OFFSET($G$159,MATCH(\"Natural Gas Fired Heater\",$G$160,0),1),0))))","v":0},"MMCF/hr",{"$f":"SUM((IFERROR(OFFSET($G$24,MATCH(\"Natural Gas Fired Heater\",$G$25,0),2),0)),((IFERROR(OFFSET($G$39,MATCH(\"Natural Gas Fired Heater\",$G$40,0),2),0))),((IFERROR(OFFSET($G$54,MATCH(\"Natural Gas Fired Heater\",$G$55,0),2),0))),((IFERROR(OFFSET($G$69,MATCH(\"Natural Gas Fired Heater\",$G$70,0),2),0))),((IFERROR(OFFSET($G$84,MATCH(\"Natural Gas Fired Heater\",$G$85,0),2),0))),((IFERROR(OFFSET($G$99,MATCH(\"Natural Gas Fired Heater\",$G$100,0),2),0))),((IFERROR(OFFSET($G$114,MATCH(\"Natural Gas Fired Heater\",$G$115,0),2),0))),((IFERROR(OFFSET($G$129,MATCH(\"Natural Gas Fired Heater\",$G$130,0),2),0))),((IFERROR(OFFSET($G$144,MATCH(\"Natural Gas Fired Heater\",$G$145,0),2),0))),((IFERROR(OFFSET($G$159,MATCH(\"Natural Gas Fired Heater\",$G$160,0),2),0))))","v":0},"MMCF/yr"]
[null,"Daily Throughput Limit (tons/day):",null,null,"PM2.5",null,null,null,null,null,null,null,"Silo Filling",{"$f":"MAX((IFERROR(OFFSET($G$26,MATCH(\"Silo Filling\",$G$27,0),1),0)),((IFERROR(OFFSET($G$41,MATCH(\"Silo Filling\",$G$42,0),1),0))),((IFERROR(OFFSET($G$56,MATCH(\"Silo Filling\",$G$57,0),1),0))),((IFERROR(OFFSET($G$71,MATCH(\"Silo Filling\",$G$72,0),1),0))),((IFERROR(OFFSET($G$86,MATCH(\"Silo Filling\",$G$87,0),1),0))),((IFERROR(OFFSET($G$101,MATCH(\"Silo Filling\",$G$102,0),1),0))),((IFERROR(OFFSET($G$116,MATCH(\"Silo Filling\",$G$117,0),1),0))),((IFERROR(OFFSET($G$131,MATCH(\"Silo Filling\",$G$132,0),1),0))),((IFERROR(OFFSET($G$146,MATCH(\"Silo Filling\",$G$147,0),1),0))),((IFERROR(OFFSET($G$161,MATCH(\"Silo Filling\",$G$162,0),1),0))))","v":0},"tons/hr",{"$f":"SUM((IFERROR(OFFSET($G$26,MATCH(\"Silo Filling\",$G$27,0),2),0)),((IFERROR(OFFSET($G$41,MATCH(\"Silo Filling\",$G$42,0),2),0))),((IFERROR(OFFSET($G$56,MATCH(\"Silo Filling\",$G$57,0),2),0))),((IFERROR(OFFSET($G$71,MATCH(\"Silo Filling\",$G$72,0),2),0))),((IFERROR(OFFSET($G$86,MATCH(\"Silo Filling\",$G$87,0),2),0))),((IFERROR(OFFSET($G$101,MATCH(\"Silo Filling\",$G$102,0),2),0))),((IFERROR(OFFSET($G$116,MATCH(\"Silo Filling\",$G$117,0),2),0))),((IFERROR(OFFSET($G$131,MATCH(\"Silo Filling\",$G$132,0),2),0))),((IFERROR(OFFSET($G$146,MATCH(\"Silo Filling\",$G$147,0),2),0))),((IFERROR(OFFSET($G$161,MATCH(\"Silo Filling\",$G$162,0),2),0))))","v":0},"tons/yr"]
[null,"Hours of Operation Limit (hours/day):",null,null,"PM10",null,null,null,null,null,null,null,"Truck Loadout",{"$f":"MAX((IFERROR(OFFSET(G27,MATCH(\"Truck Loadout\",G28,0),1),0)),((IFERROR(OFFSET(G42,MATCH(\"Truck Loadout\",G43,0),1),0))),((IFERROR(OFFSET(G57,MATCH(\"Truck Loadout\",G58,0),1),0))),((IFERROR(OFFSET(G72,MATCH(\"Truck Loadout\",G73,0),1),0))),((IFERROR(OFFSET(G87,MATCH(\"Truck Loadout\",G88,0),1),0))),((IFERROR(OFFSET(G102,MATCH(\"Truck Loadout\",G103,0),1),0))),((IFERROR(OFFSET(G117,MATCH(\"Truck Loadout\",G118,0),1),0))),((IFERROR(OFFSET(G132,MATCH(\"Truck Loadout\",G133,0),1),0))),((IFERROR(OFFSET(G147,MATCH(\"Truck Loadout\",G148,0),1),0))),((IFERROR(OFFSET(G162,MATCH(\"Truck Loadout\",G163,0),1),0))))","v":0},"tons/hr",{"$f":"SUM((IFERROR(OFFSET(G27,MATCH(\"Truck Loadout\",G28,0),2),0)),((IFERROR(OFFSET(G42,MATCH(\"Truck Loadout\",G43,0),2),0))),((IFERROR(OFFSET(G57,MATCH(\"Truck Loadout\",G58,0),2),0))),((IFERROR(OFFSET(G72,MATCH(\"Truck Loadout\",G73,0),2),0))),((IFERROR(OFFSET(G87,MATCH(\"Truck Loadout\",G88,0),2),0))),((IFERROR(OFFSET(G102,MATCH(\"Truck Loadout\",G103,0),2),0))),((IFERROR(OFFSET(G117,MATCH(\"Truck Loadout\",G118,0),2),0))),((IFERROR(OFFSET(G132,MATCH(\"Truck Loadout\",G133,0),2),0))),((IFERROR(OFFSET(G147,MATCH(\"Truck Loadout\",G148,0),2),0))),((IFERROR(OFFSET(G162,MATCH(\"Truck Loadout\",G163,0),2),0))))","v":0},"tons/yr"]
["Fuel Oil","Note: if the plant has an hrs/day and a tons/hr permit limit, those values should be multiplied together to calculate a tons/day limit and that value should be placed in cell C11.",null,null,"SO2",null,null,null,null,null,null,null,"Cold Aggregate Bins",{"$f":"MAX((IFERROR(OFFSET(G28,MATCH(\"Cold Aggregate Bins\",G29,0),1),0)),((IFERROR(OFFSET(G43,MATCH(\"Cold Aggregate Bins\",G44,0),1),0))),((IFERROR(OFFSET(G58,MATCH(\"Cold Aggregate Bins\",G59,0),1),0))),((IFERROR(OFFSET(G73,MATCH(\"Cold Aggregate Bins\",G74,0),1),0))),((IFERROR(OFFSET(G88,MATCH(\"Cold Aggregate Bins\",G89,0),1),0))),((IFERROR(OFFSET(G103,MATCH(\"Cold Aggregate Bins\",G104,0),1),0))),((IFERROR(OFFSET(G118,MATCH(\"Cold Aggregate Bins\",G119,0),1),0))),((IFERROR(OFFSET(G133,MATCH(\"Cold Aggregate Bins\",G134,0),1),0))),((IFERROR(OFFSET(G148,MATCH(\"Cold Aggregate Bins\",G149,0),1),0))),((IFERROR(OFFSET(G163,MATCH(\"Cold Aggregate Bins\",G164,0),1),0))))","v":0},"tons/hr",{"$f":"SUM((IFERROR(OFFSET(G28,MATCH(\"Cold Aggregate Bins\",G29,0),2),0)),((IFERROR(OFFSET(G43,MATCH(\"Cold Aggregate Bins\",G44,0),2),0))),((IFERROR(OFFSET(G58,MATCH(\"Cold Aggregate Bins\",G59,0),2),0))),((IFERROR(OFFSET(G73,MATCH(\"Cold Aggregate Bins\",G74,0),2),0))),((IFERROR(OFFSET(G88,MATCH(\"Cold Aggregate Bins\",G89,0),2),0))),((IFERROR(OFFSET(G103,MATCH(\"Cold Aggregate Bins\",G104,0),2),0))),((IFERROR(OFFSET(G118,MATCH(\"Cold Aggregate Bins\",G119,0),2),0))),((IFERROR(OFFSET(G133,MATCH(\"Cold Aggregate Bins\",G134,0),2),0))),((IFERROR(OFFSET(G148,MATCH(\"Cold Aggregate Bins\",G149,0),2),0))),((IFERROR(OFFSET(G163,MATCH(\"Cold Aggregate Bins\",G164,0),2),0))))","v":0},"tons/yr"]
["Natural Gas",null,null,null,"NOx",null,null,null,null,null,null,null,null,"Maximum (acres)","Actual (acres-day/yr)"]
["Waste Oil",null,null,null,"VOC",null,null,null,null,null,null,null,"Storage Pile",{"$f":"SUM(G33,G48,G63,G78,G93,G108,G123,G138,G153,G168,)","v":0},{"$f":"SUM(H33*I33,H48*I48,H63*I63,H78*I78,H93*I93,H108*I108,H123*I123,H138*I138,H153*I153,H168*I168)","v":0}]
[null,null,null,null,"CO"]
["Batch Mix Plant"]
["Drum Mix Plant",null,null,null,null,null,null,null,null,null,null,null,"Potential and Actual Emissions for the Listed Processes at this Plant"]
[null,null,null,null,null,null,null,null,null,null,null,null,null,"Maximum Design Rate (tons/hr)","Emission Factor","Units","Potential Uncontrolled Emissions (lb/hr)","Potential Controlled Emissions (lb/hr)","Potential Annual Emissions (tons/yr)","Actual Annual Emissions (tons/yr)"]
[null,"Asphalt Plant","Site 1",null,"Emission Point #","Emission     Unit #","Processes","Maximum Hourly     Design Rate",{"$f":"('Facility Information'!G5&\" Annual Throughput\")","v":" Annual Throughput"},null,null,null,"PM2.5"]
["YES",null,null,null,null,null,null,null,null,null,null,null,{"$f":"$C$5 & \" - Fuel Oil\"","v":" - Fuel Oil"},{"$f":"N5","v":0},{"$f":"IF(N21=0,0,IF(MAX((IFERROR(OFFSET($G$22,MATCH(M21,$G$23,0),3),0)),((IFERROR(OFFSET($G$37,MATCH(M21,$G$38,0),3),0))),((IFERROR(OFFSET($G$52,MATCH(M21,$G$53,0),3),0))),((IFERROR(OFFSET($G$67,MATCH(M21,$G$68,0),3),0))),((IFERROR(OFFSET($G$82,MATCH(M21,$G$83,0),3),0))),((IFERROR(OFFSET($G$97,MATCH(M21,$G$98,0),3),0))),((IFERROR(OFFSET($G$112,MATCH(M21,$G$113,0),3),0))),((IFERROR(OFFSET($G$127,MATCH(M21,$G$128,0),3),0))),((IFERROR(OFFSET($G$142,MATCH(M21,$G$143,0),3),0))),((IFERROR(OFFSET($G$157,MATCH(M21,$G$158,0),3),0))))=0,0,(MAX((IFERROR(OFFSET($G$22,MATCH(M21,$G$23,0),3),0)),((IFERROR(OFFSET($G$37,MATCH(M21,$G$38,0),3),0))),((IFERROR(OFFSET($G$52,MATCH(M21,$G$53,0),3),0))),((IFERROR(OFFSET($G$67,MATCH(M21,$G$68,0),3),0))),((IFERROR(OFFSET($G$82,MATCH(M21,$G$83,0),3),0))),((IFERROR(OFFSET($G$97,MATCH(M21,$G$98,0),3),0))),((IFERROR(OFFSET($G$112,MATCH(M21,$G$113,0),3),0))),((IFERROR(OFFSET($G$127,MATCH(M21,$G$128,0),3),0))),((IFERROR(OFFSET($G$142,MATCH(M21,$G$143,0),3),0))),((IFERROR(OFFSET($G$157,MATCH(M21,$G$158,0),3),0)))))))","v":0},{"$f":"IF(O21=\"\",\"\",\"lb/ton\")","v":"lb/ton"},{"$f":"IF(O21=0.27,N21*O21,IF(O21=1.54,N21*O21,\"\"))","v":""},{"$f":"IF(N21=0,\"\",IF(AND($F$11>0,$O$21>=$O$22,$O$21>=$O$23),$F$11,IF(O21=0.0083,N21*O21,IF(O21=0.007,N21*O21,\"\"))))","v":""},{"$f":"IF(N21=0,0,IF($G$11>0,$G$11,IF(AND(OR($C$10>0,$C$11>0,$C$12>0),$O$21>=$O$22,$O$21>=$O$23),(IF($C$10>0,$C$10*O21/2000,IF($C$11>0,$C$11*365*O21/2000,IF($C$12>0,$C$12*365*O21*N21/2000)))),IF(AND($F$11>0,$O$21>=$O$22,$O$21>=$O$23),$F$11*8760/2000,IF(AND(OR($C$10=\"\",$C$10=0),OR($C$11=\"\",$C$11=0),OR($C$12=\"\",$C$12=0),$F$11=\"\"),IF(R21=\"\",Q21*8760/2000,R21*8760/2000),\"\")))))","v":0},{"$f":"IF(N21=\"\",\"\",SUM((IFERROR(MATCH(M21,$G$23,0)*$I$23*$J$23/2000,0)),(IFERROR(MATCH(M21,$G$38,0)*$I$38*$J$38/2000,0)),(IFERROR(MATCH(M21,$G$53,0)*$I$53*$J$53/2000,0)),(IFERROR(MATCH(M21,$G$68,0)*$I$68*$J$68/2000,0)),(IFERROR(MATCH(M21,$G$83,0)*$I$83*$J$83/2000,0)),(IFERROR(MATCH(M21,$G$98,0)*$I$98*$J$98/2000,0)),(IFERROR(MATCH(M21,$G$113,0)*$I$113*$J$113/2000,0)),(IFERROR(MATCH(M21,$G$128,0)*$I$128*$J$128/2000,0)),(IFERROR(MATCH(M21,$G$143,0)*$I$143*$J$143/2000,0)),(IFERROR(MATCH(M21,$G$158,0)*$I$158*$J$158/2000,0))))","v":0}]
["NO","Site Name:",null,null,"Dryer, Hot Screens, Mixer",null,null,"(tons/hr)","(tons/yr)","PM2.5","PM10",null,{"$f":"$C$5 & \" - Waste Oil\"","v":" - Waste Oil"},{"$f":"N6","v":0},{"$f":"IF(N22=0,0,IF(MAX((IFERROR(OFFSET($G$22,MATCH(M22,$G$23,0),3),0)),((IFERROR(OFFSET($G$37,MATCH(M22,$G$38,0),3),0))),((IFERROR(OFFSET($G$52,MATCH(M22,$G$53,0),3),0))),((IFERROR(OFFSET($G$67,MATCH(M22,$G$68,0),3),0))),((IFERROR(OFFSET($G$82,MATCH(M22,$G$83,0),3),0))),((IFERROR(OFFSET($G$97,MATCH(M22,$G$98,0),3),0))),((IFERROR(OFFSET($G$112,MATCH(M22,$G$113,0),3),0))),((IFERROR(OFFSET($G$127,MATCH(M22,$G$128,0),3),0))),((IFERROR(OFFSET($G$142,MATCH(M22,$G$143,0),3),0))),((IFERROR(OFFSET($G$157,MATCH(M22,$G$158,0),3),0))))=0,0,(MAX((IFERROR(OFFSET($G$22,MATCH(M22,$G$23,0),3),0)),((IFERROR(OFFSET($G$37,MATCH(M22,$G$38,0),3),0))),((IFERROR(OFFSET($G$52,MATCH(M22,$G$53,0),3),0))),((IFERROR(OFFSET($G$67,MATCH(M22,$G$68,0),3),0))),((IFERROR(OFFSET($G$82,MATCH(M22,$G$83,0),3),0))),((IFERROR(OFFSET($G$97,MATCH(M22,$G$98,0),3),0))),((IFERROR(OFFSET($G$112,MATCH(M22,$G$113,0),3),0))),((IFERROR(OFFSET($G$127,MATCH(M22,$G$128,0),3),0))),((IFERROR(OFFSET($G$142,MATCH(M22,$G$143,0),3),0))),((IFERROR(OFFSET($G$157,MATCH(M22,$G$158,0),3),0)))))))","v":0},"lb/ton",{"$f":"IF(O22=0.27,N22*O22,IF(O22=1.54,N22*O22,\"\"))","v":""},{"$f":"IF(N22=0,\"\",IF(AND($F$11>0,$O$22>$O$21,$O$22>=$O$23),$F$11,IF(O22=0.0083,N22*O22,IF(O22=0.007,N22*O22,\"\"))))","v":""},{"$f":"IF(N22=0,0,IF($G$11>0,IF(S21=0,G11,\"\"),IF(AND(OR($C$10>0,$C$11>0,$C$12>0),$O$22>$O$21,$O$22>=$O$23),(IF($C$10>0,$C$10*O22/2000,IF($C$11>0,$C$11*365*O22/2000,IF($C$12>0,$C$12*365*O22*N22/2000)))),IF(AND($F$11>0,$O$22>$O$21,$O$22>=$O$23),$F$11*8760/2000,IF(AND(OR($C$10=\"\",$C$10=0),OR($C$11=\"\",$C$11=0),OR($C$12=\"\",$C$12=0),$F$11=\"\"),IF(R22=\"\",Q22*8760/2000,R22*8760/2000),\"\")))))","v":0},{"$f":"IF(N22=\"\",\"\",SUM((IFERROR(MATCH(M22,$G$23,0)*$I$23*$J$23/2000,0)),(IFERROR(MATCH(M22,$G$38,0)*$I$38*$J$38/2000,0)),(IFERROR(MATCH(M22,$G$53,0)*$I$53*$J$53/2000,0)),(IFERROR(MATCH(M22,$G$68,0)*$I$68*$J$68/2000,0)),(IFERROR(MATCH(M22,$G$83,0)*$I$83*$J$83/2000,0)),(IFERROR(MATCH(M22,$G$98,0)*$I$98*$J$98/2000,0)),(IFERROR(MATCH(M22,$G$113,0)*$I$113*$J$113/2000,0)),(IFERROR(MATCH(M22,$G$128,0)*$I$128*$J$128/2000,0)),(IFERROR(MATCH(M22,$G$143,0)*$I$143*$J$143/2000,0)),(IFERROR(MATCH(M22,$G$158,0)*$I$158*$J$158/2000,0))))","v":0}]
[null,"County:",null,null,{"$f":"IF($C$4>0,\"AP-3 EP-1\",\"\")","v":""},{"$f":"IF($C$4>0,\"AP-3 EU-1\",\"\")","v":""},{"$f":"IF(C25=\"\",\"\",C5 & \" - \"&C25)","v":""},null,null,{"$f":"IF(C26=\"\",\"\",IF(C26=\"yes\",LOOKUP(G23,'Emission Factors'!$A$12:$A$17,'Emission Factors'!$D$12:$D$17),LOOKUP(G23,'Emission Factors'!$A$5:$A$10,'Emission Factors'!$D$5:$D$10)))","v":""},{"$f":"IF(C26=\"\",\"\",IF(C26=\"yes\",LOOKUP(G23,'Emission Factors'!$A$12:$A$17,'Emission Factors'!$F$12:$F$17),LOOKUP(G23,'Emission Factors'!$A$5:$A$10,'Emission Factors'!$F$5:$F$10)))","v":""},null,{"$f":"$C$5 & \" - Natural Gas\"","v":" - Natural Gas"},{"$f":"N7","v":0},{"$f":"IF(N23=0,0,IF(MAX((IFERROR(OFFSET($G$22,MATCH(M23,$G$23,0),3),0)),((IFERROR(OFFSET($G$37,MATCH(M23,$G$38,0),3),0))),((IFERROR(OFFSET($G$52,MATCH(M23,$G$53,0),3),0))),((IFERROR(OFFSET($G$67,MATCH(M23,$G$68,0),3),0))),((IFERROR(OFFSET($G$82,MATCH(M23,$G$83,0),3),0))),((IFERROR(OFFSET($G$97,MATCH(M23,$G$98,0),3),0))),((IFERROR(OFFSET($G$112,MATCH(M23,$G$113,0),3),0))),((IFERROR(OFFSET($G$127,MATCH(M23,$G$128,0),3),0))),((IFERROR(OFFSET($G$142,MATCH(M23,$G$143,0),3),0))),((IFERROR(OFFSET($G$157,MATCH(M23,$G$158,0),3),0))))=0,0,(MAX((IFERROR(OFFSET($G$22,MATCH(M23,$G$23,0),3),0)),((IFERROR(OFFSET($G$37,MATCH(M23,$G$38,0),3),0))),((IFERROR(OFFSET($G$52,MATCH(M23,$G$53,0),3),0))),((IFERROR(OFFSET($G$67,MATCH(M23,$G$68,0),3),0))),((IFERROR(OFFSET($G$82,MATCH(M23,$G$83,0),3),0))),((IFERROR(OFFSET($G$97,MATCH(M23,$G$98,0),3),0))),((IFERROR(OFFSET($G$112,MATCH(M23,$G$113,0),3),0))),((IFERROR(OFFSET($G$127,MATCH(M23,$G$128,0),3),0))),((IFERROR(OFFSET($G$142,MATCH(M23,$G$143,0),3),0))),((IFERROR(OFFSET($G$157,MATCH(M23,$G$158,0),3),0)))))))","v":0},"lb/ton",{"$f":"IF(O23=0.27,N23*O23,IF(O23=1.54,N23*O23,\"\"))","v":""},{"$f":"IF(N23=0,\"\",IF(AND($F$11>0,$O$23>$O$21,$O$23>$O$21),$F$11,IF(O23=0.0083,N23*O23,IF(O23=0.007,N23*O23,\"\"))))","v":""},{"$f":"IF(N23=0,0,IF($G$11>0,IF(AND(S21=0,S22=0),\"\"),IF(AND(OR($C$10>0,$C$11>0,$C$12>0),$O$23>$O$21,$O$23>$O$21),(IF($C$10>0,$C$10*O23/2000,IF($C$11>0,$C$11*365*O23/2000,IF($C$12>0,$C$12*365*O23*N23/2000)))),IF(AND($F$11>0,$O$23>$O$21,$O$23>$O$21),$F$11*8760/2000,IF(AND(OR($C$10=\"\",$C$10=0),OR($C$11=\"\",$C$11=0),OR($C$12=\"\",$C$12=0),$F$11=\"\"),IF(R23=\"\",Q23*8760/2000,R23*8760/2000),\"\")))))","v":0},{"$f":"IF(N23=\"\",\"\",SUM((IFERROR(MATCH(M23,$G$23,0)*$I$23*$J$23/2000,0)),(IFERROR(MATCH(M23,$G$38,0)*$I$38*$J$38/2000,0)),(IFERROR(MATCH(M23,$G$53,0)*$I$53*$J$53/2000,0)),(IFERROR(MATCH(M23,$G$68,0)*$I$68*$J$68/2000,0)),(IFERROR(MATCH(M23,$G$83,0)*$I$83*$J$83/2000,0)),(IFERROR(MATCH(M23,$G$98,0)*$I$98*$J$98/2000,0)),(IFERROR(MATCH(M23,$G$113,0)*$I$113*$J$113/2000,0)),(IFERROR(MATCH(M23,$G$128,0)*$I$128*$J$128/2000,0)),(IFERROR(MATCH(M23,$G$143,0)*$I$143*$J$143/2000,0)),(IFERROR(MATCH(M23,$G$158,0)*$I$158*$J$158/2000,0))))","v":0}]
[null,"Production Period (Dates):",null,null,"Liquid Asphalt Heater",null,null,{"$f":"IF(C25=\"natural gas\", \"(MMCF/hr)\",\"(gallons/hr)\")","v":"(gallons/hr)"},{"$f":"IF(C25=\"natural gas\", \"(MMCF/yr)\",\"(gallons/yr)\")","v":"(gallons/yr)"},null,null,null,"Silo Filling",{"$f":"N11","v":0},{"$f":"IF(N24=0,0,IF(N24=0,0,LOOKUP(M24,'Emission Factors'!$A$23:$A$25,'Emission Factors'!$D$23:$D$25)))","v":0},"lb/ton",{"$f":"N24*O24","v":0},null,{"$f":"IF($G$11>0,\"\",IF($C$10>0,$C$10*O24/2000,IF($C$11>0,$C$11*365*O24/2000,IF($C$12>0,$C$12*365*O24*N24/2000,IF($F$11>0,\"\",IF(R24=\"\",Q24*8760/2000,R24*8760/2000))))))","v":0},{"$f":"(P11*O24/2000)","v":0}]
[null,"Type of Fuel Used:",null,null,{"$f":"IF($C$4>0,\"AP-3 EP-2\",\"\")","v":""},{"$f":"IF($C$4>0,\"AP-3 EU-2\",\"\")","v":""},{"$f":"IF(C25=\"\",\"\",C25& \" Fired Heater\")","v":""},null,null,null,null,null,"Truck Loadout",{"$f":"N12","v":0},{"$f":"IF(N25=0,0,IF(N25=0,0,LOOKUP(M25,'Emission Factors'!$A$23:$A$25,'Emission Factors'!$D$23:$D$25)))","v":0},"lb/ton",{"$f":"N25*O25","v":0},null,{"$f":"IF($G$11>0,\"\",IF($C$10>0,$C$10*O25/2000,IF($C$11>0,$C$11*365*O25/2000,IF($C$12>0,$C$12*365*O25*N25/2000,IF($F$11>0,\"\",IF(R25=\"\",Q25*8760/2000,R25*8760/2000))))))","v":0},{"$f":"(P12*O25/2000)","v":0}]
[null,"Is Your Operation Controlled?:",null,null,"Silo Filling, Truck Loadout, Aggregate Transfer",null,null,"(tons/hr)","(tons/yr)",null,null,null,"Cold Aggregate Bins",{"$f":"N13","v":0},{"$f":"IF(N26=0,0,IF(N26=0,0,LOOKUP(M26,'Emission Factors'!A23:A25,'Emission Factors'!D23:D25)))","v":0},"lb/ton",{"$f":"N26*O26","v":0},null,{"$f":"IF($G$11>0,\"\",IF($C$10>0,$C$10*O26/2000,IF($C$11>0,$C$11*365*O26/2000,IF($C$12>0,$C$12*365*O26*N26/2000,IF($F$11>0,\"\",IF(R26=\"\",Q26*8760/2000,R26*8760/2000))))))","v":0},{"$f":"(P13*O26/2000)","v":0}]
[null,null,null,null,{"$f":"IF($C$4>0,\"AP-3 EP-3\",\"\")","v":""},{"$f":"IF($C$4>0,\"AP-3 EU-3\",\"\")","v":""},{"$f":"IF(C5=\"\",\"\",\"Silo Filling\")","v":""},null,null,null,null,null,"PM10"]
[null,null,null,null,{"$f":"IF($C$4>0,\"AP-3 EP-3\",\"\")","v":""},{"$f":"IF($C$4>0,\"AP-3 EU-4\",\"\")","v":""},{"$f":"IF(C5=\"\",\"\",\"Truck Loadout\")","v":""},null,null,null,null,null,{"$f":"$C$5 & \" - Fuel Oil\"","v":" - Fuel Oil"},{"$f":"N5","v":0},{"$f":"IF(N28=0,0,IF(MAX((IFERROR(OFFSET($G$22,MATCH(M28,$G$23,0),4),0)),((IFERROR(OFFSET($G$37,MATCH(M28,$G$38,0),4),0))),((IFERROR(OFFSET($G$52,MATCH(M28,$G$53,0),4),0))),((IFERROR(OFFSET($G$67,MATCH(M28,$G$68,0),4),0))),((IFERROR(OFFSET($G$82,MATCH(M28,$G$83,0),3),0))),((IFERROR(OFFSET($G$97,MATCH(M28,$G$98,0),4),0))),((IFERROR(OFFSET($G$112,MATCH(M28,$G$113,0),4),0))),((IFERROR(OFFSET($G$127,MATCH(M28,$G$128,0),4),0))),((IFERROR(OFFSET($G$142,MATCH(M28,$G$143,0),4),0))),((IFERROR(OFFSET($G$157,MATCH(M28,$G$158,0),4),0))))=0,0,(MAX((IFERROR(OFFSET($G$22,MATCH(M28,$G$23,0),4),0)),((IFERROR(OFFSET($G$37,MATCH(M28,$G$38,0),4),0))),((IFERROR(OFFSET($G$52,MATCH(M28,$G$53,0),4),0))),((IFERROR(OFFSET($G$67,MATCH(M28,$G$68,0),4),0))),((IFERROR(OFFSET($G$82,MATCH(M28,$G$83,0),4),0))),((IFERROR(OFFSET($G$97,MATCH(M28,$G$98,0),4),0))),((IFERROR(OFFSET($G$112,MATCH(M28,$G$113,0),4),0))),((IFERROR(OFFSET($G$127,MATCH(M28,$G$128,0),4),0))),((IFERROR(OFFSET($G$142,MATCH(M28,$G$143,0),4),0))),((IFERROR(OFFSET($G$157,MATCH(M28,$G$158,0),4),0)))))))","v":0},{"$f":"IF(O28=\"\",\"\",\"lb/ton\")","v":"lb/ton"},{"$f":"IF(O28=4.5,N28*O28,IF(O28=6.5,N28*O28,\"\"))","v":""},{"$f":"IF(N28=0,\"\",IF(AND($F$12>0,$O$28>=$O$29,$O$28>=$O$30),$F$12,IF(O28=0.0098,N28*O28,IF(O28=0.023,N28*O28,\"\"))))","v":""},{"$f":"IF(N28=0,0,IF($G$12>0,$G$12,IF(AND(OR($C$10>0,$C$11>0,$C$12>0),$O$28>=$O$29,$O$28>=$O$30),(IF($C$10>0,$C$10*O28/2000,IF($C$11>0,$C$11*365*O28/2000,IF($C$12>0,$C$12*365*O28*N28/2000)))),IF(AND($F$12>0,$O$28>=$O$29,$O$28>=$O$30),$F$12*8760/2000,IF(AND(OR($C$10=\"\",$C$10=0),OR($C$11=\"\",$C$11=0),OR($C$12=\"\",$C$12=0),$F$12=\"\"),IF(R28=\"\",Q28*8760/2000,R28*8760/2000),\"\")))))","v":0},{"$f":"IF(N28=\"\",\"\",SUM((IFERROR(MATCH(M28,$G$23,0)*$I$23*$K$23/2000,0)),(IFERROR(MATCH(M28,$G$38,0)*$I$38*$K$38/2000,0)),(IFERROR(MATCH(M28,$G$53,0)*$I$53*$K$53/2000,0)),(IFERROR(MATCH(M28,$G$68,0)*$I$68*$K$68/2000,0)),(IFERROR(MATCH(M28,$G$83,0)*$I$83*$K$83/2000,0)),(IFERROR(MATCH(M28,$G$98,0)*$I$98*$K$98/2000,0)),(IFERROR(MATCH(M28,$G$113,0)*$I$113*$K$113/2000,0)),(IFERROR(MATCH(M28,$G$128,0)*$I$128*$K$128/2000,0)),(IFERROR(MATCH(M28,$G$143,0)*$I$143*$K$143/2000,0)),(IFERROR(MATCH(M28,$G$158,0)*$I$158*$K$158/2000,0))))","v":0}]
[null,null,null,null,{"$f":"IF($C$4>0,\"AP-3 EP-3\",\"\")","v":""},{"$f":"IF($C$4>0,\"AP-3 EU-5\",\"\")","v":""},{"$f":"IF(C5=\"\",\"\",\"Cold Aggregate Bins\")","v":""},null,null,null,null,null,{"$f":"$C$5 & \" - Waste Oil\"","v":" - Waste Oil"},{"$f":"N6","v":0},{"$f":"IF(N29=0,0,IF(MAX((IFERROR(OFFSET($G$22,MATCH(M29,$G$23,0),4),0)),((IFERROR(OFFSET($G$37,MATCH(M29,$G$38,0),4),0))),((IFERROR(OFFSET($G$52,MATCH(M29,$G$53,0),4),0))),((IFERROR(OFFSET($G$67,MATCH(M29,$G$68,0),4),0))),((IFERROR(OFFSET($G$82,MATCH(M29,$G$83,0),3),0))),((IFERROR(OFFSET($G$97,MATCH(M29,$G$98,0),4),0))),((IFERROR(OFFSET($G$112,MATCH(M29,$G$113,0),4),0))),((IFERROR(OFFSET($G$127,MATCH(M29,$G$128,0),4),0))),((IFERROR(OFFSET($G$142,MATCH(M29,$G$143,0),4),0))),((IFERROR(OFFSET($G$157,MATCH(M29,$G$158,0),4),0))))=0,0,(MAX((IFERROR(OFFSET($G$22,MATCH(M29,$G$23,0),4),0)),((IFERROR(OFFSET($G$37,MATCH(M29,$G$38,0),4),0))),((IFERROR(OFFSET($G$52,MATCH(M29,$G$53,0),4),0))),((IFERROR(OFFSET($G$67,MATCH(M29,$G$68,0),4),0))),((IFERROR(OFFSET($G$82,MATCH(M29,$G$83,0),4),0))),((IFERROR(OFFSET($G$97,MATCH(M29,$G$98,0),4),0))),((IFERROR(OFFSET($G$112,MATCH(M29,$G$113,0),4),0))),((IFERROR(OFFSET($G$127,MATCH(M29,$G$128,0),4),0))),((IFERROR(OFFSET($G$142,MATCH(M29,$G$143,0),4),0))),((IFERROR(OFFSET($G$157,MATCH(M29,$G$158,0),4),0)))))))","v":0},"lb/ton",{"$f":"IF(O29=4.5,N29*O29,IF(O29=6.5,N29*O29,\"\"))","v":""},{"$f":"IF(N29=0,\"\",IF(AND($F$12>0,$O$29>$O$28,$O$29>=$O$30),$F$12,IF(O29=0.0098,N29*O29,IF(O29=0.023,N29*O29,\"\"))))","v":""},{"$f":"IF(N29=0,0,IF($G$12>0,IF(S28=0,$G$12,\"\"),IF(AND(OR($C$10>0,$C$11>0,$C$12>0),$O$29>$O$28,$O$29>=$O$30),(IF($C$10>0,$C$10*O29/2000,IF($C$11>0,$C$11*365*O29/2000,IF($C$12>0,$C$12*365*O29*N29/2000)))),IF(AND($F$12>0,$O$29>$O$28,$O$29>=$O$30),$F$12*8760/2000,IF(AND(OR($C$10=\"\",$C$10=0),OR($C$11=\"\",$C$11=0),OR($C$12=\"\",$C$12=0),$F$12=\"\"),IF(R29=\"\",Q29*8760/2000,R29*8760/2000),\"\")))))","v":0},{"$f":"IF(N29=\"\",\"\",SUM((IFERROR(MATCH(M29,$G$23,0)*$I$23*$K$23/2000,0)),(IFERROR(MATCH(M29,$G$38,0)*$I$38*$K$38/2000,0)),(IFERROR(MATCH(M29,$G$53,0)*$I$53*$K$53/2000,0)),(IFERROR(MATCH(M29,$G$68,0)*$I$68*$K$68/2000,0)),(IFERROR(MATCH(M29,$G$83,0)*$I$83*$K$83/2000,0)),(IFERROR(MATCH(M29,$G$98,0)*$I$98*$K$98/2000,0)),(IFERROR(MATCH(M29,$G$113,0)*$I$113*$K$113/2000,0)),(IFERROR(MATCH(M29,$G$128,0)*$I$128*$K$128/2000,0)),(IFERROR(MATCH(M29,$G$143,0)*$I$143*$K$143/2000,0)),(IFERROR(MATCH(M29,$G$158,0)*$I$158*$K$158/2000,0))))","v":0}]
[null,null,null,null,null,null,null,null,null,null,null,null,{"$f":"$C$5 & \" - Natural Gas\"","v":" - Natural Gas"},{"$f":"N7","v":0},{"$f":"IF(N30=0,0,IF(MAX((IFERROR(OFFSET($G$22,MATCH(M30,$G$23,0),4),0)),((IFERROR(OFFSET($G$37,MATCH(M30,$G$38,0),4),0))),((IFERROR(OFFSET($G$52,MATCH(M30,$G$53,0),4),0))),((IFERROR(OFFSET($G$67,MATCH(M30,$G$68,0),4),0))),((IFERROR(OFFSET($G$82,MATCH(M30,$G$83,0),3),0))),((IFERROR(OFFSET($G$97,MATCH(M30,$G$98,0),4),0))),((IFERROR(OFFSET($G$112,MATCH(M30,$G$113,0),4),0))),((IFERROR(OFFSET($G$127,MATCH(M30,$G$128,0),4),0))),((IFERROR(OFFSET($G$142,MATCH(M30,$G$143,0),4),0))),((IFERROR(OFFSET($G$157,MATCH(M30,$G$158,0),4),0))))=0,0,(MAX((IFERROR(OFFSET($G$22,MATCH(M30,$G$23,0),4),0)),((IFERROR(OFFSET($G$37,MATCH(M30,$G$38,0),4),0))),((IFERROR(OFFSET($G$52,MATCH(M30,$G$53,0),4),0))),((IFERROR(OFFSET($G$67,MATCH(M30,$G$68,0),4),0))),((IFERROR(OFFSET($G$82,MATCH(M30,$G$83,0),4),0))),((IFERROR(OFFSET($G$97,MATCH(M30,$G$98,0),4),0))),((IFERROR(OFFSET($G$112,MATCH(M30,$G$113,0),4),0))),((IFERROR(OFFSET($G$127,MATCH(M30,$G$128,0),4),0))),((IFERROR(OFFSET($G$142,MATCH(M30,$G$143,0),4),0))),((IFERROR(OFFSET($G$157,MATCH(M30,$G$158,0),4),0)))))))","v":0},"lb/ton",{"$f":"IF(O30=4.5,N30*O30,IF(O30=6.5,N30*O30,\"\"))","v":""},{"$f":"IF(N30=0,\"\",IF(AND($F$12>0,$O$30>$O$28,$O$30>$O$29),$F$12,IF(O30=0.0098,N30*O30,IF(O30=0.023,N30*O30,\"\"))))","v":""},{"$f":"IF(N30=0,0,IF($G$12>0,IF(AND(S28=0,S29=0),$G$12,\"\"),IF(AND(OR($C$10>0,$C$11>0,$C$12>0),$O$30>$O$28,$O$30>$O$29),(IF($C$10>0,$C$10*O30/2000,IF($C$11>0,$C$11*365*O30/2000,IF($C$12>0,$C$12*365*O30*N30/2000)))),IF(AND($F$12>0,$O$30>$O$28,$O$30>$O$29),$F$12*8760/2000,IF(AND(OR($C$10=\"\",$C$10=0),OR($C$11=\"\",$C$11=0),OR($C$12=\"\",$C$12=0),$F$12=\"\"),IF(R30=\"\",Q30*8760/2000,R30*8760/2000),\"\")))))","v":0},{"$f":"IF(N30=\"\",\"\",SUM((IFERROR(MATCH(M30,$G$23,0)*$I$23*$K$23/2000,0)),(IFERROR(MATCH(M30,$G$38,0)*$I$38*$K$38/2000,0)),(IFERROR(MATCH(M30,$G$53,0)*$I$53*$K$53/2000,0)),(IFERROR(MATCH(M30,$G$68,0)*$I$68*$K$68/2000,0)),(IFERROR(MATCH(M30,$G$83,0)*$I$83*$K$83/2000,0)),(IFERROR(MATCH(M30,$G$98,0)*$I$98*$K$98/2000,0)),(IFERROR(MATCH(M30,$G$113,0)*$I$113*$K$113/2000,0)),(IFERROR(MATCH(M30,$G$128,0)*$I$128*$K$128/2000,0)),(IFERROR(MATCH(M30,$G$143,0)*$I$143*$K$143/2000,0)),(IFERROR(MATCH(M30,$G$158,0)*$I$158*$K$158/2000,0))))","v":0}]
[null,null,null,null,"Stock Pile Area",null,null,null,null,null,null,null,"Silo Filling",{"$f":"N11","v":0},{"$f":"IF(N31=0,0,IF(N31=0,0,LOOKUP(M31,'Emission Factors'!$A$23:$A$25,'Emission Factors'!$F$23:$F$25)))","v":0},"lb/ton",{"$f":"N31*O31","v":0},null,{"$f":"IF($G$12>0,\"\",IF($C$10>0,$C$10*O31/2000,IF($C$11>0,$C$11*365*O31/2000,IF($C$12>0,$C$12*365*O31*N31/2000,IF($F$11>0,\"\",IF(R31=\"\",Q31*8760/2000,R31*8760/2000))))))","v":0},{"$f":"(P11*O31/2000)","v":0}]
[null,null,null,null,null,"Emission Unit #","Maximum Storage Area (acres)","Actual Storage Area (acres)","Actual Days in Existence (days)",null,null,null,"Truck Loadout",{"$f":"N12","v":0},{"$f":"IF(N32=0,0,IF(N32=0,0,LOOKUP(M32,'Emission Factors'!$A$23:$A$25,'Emission Factors'!$F$23:$F$25)))","v":0},"lb/ton",{"$f":"N32*O32","v":0},null,{"$f":"IF($G$12>0,\"\",IF($C$10>0,$C$10*O32/2000,IF($C$11>0,$C$11*365*O32/2000,IF($C$12>0,$C$12*365*O32*N32/2000,IF($F$11>0,\"\",IF(R32=\"\",Q32*8760/2000,R32*8760/2000))))))","v":0},{"$f":"(P12*O32/2000)","v":0}]
[null,null,null,null,null,null,null,null,null,null,null,null,"Cold Aggregate Bins",{"$f":"N13","v":0},{"$f":"IF(N33=0,0,IF(N33=0,0,LOOKUP(M33,'Emission Factors'!$A$23:$A$25,'Emission Factors'!$F$23:$F$25)))","v":0},"lb/ton",{"$f":"N33*O33","v":0},null,{"$f":"IF($G$12>0,\"\",IF($C$10>0,$C$10*O33/2000,IF($C$11>0,$C$11*365*O33/2000,IF($C$12>0,$C$12*365*O33*N33/2000,IF($F$11>0,\"\",IF(R33=\"\",Q33*8760/2000,R33*8760/2000))))))","v":0},{"$f":"(P13*O33/2000)","v":0}]
[]
[null,{"$f":"IF($C$4>1,\"Asphalt Plant\",\"\")","v":""},{"$f":"IF($C$4>1,\"Site 2\",\"\")","v":""},null,{"$f":"IF($C$4>1,\"Emission Point #\",\"\")","v":""},{"$f":"IF($C$4>1,\"Emission    Unit #\",\"\")","v":""},{"$f":"IF($C$4>1,\"Process\",\"\")","v":""},{"$f":"IF($C$4>1,\"Maximum Hourly     Design Rate\",\"\")","v":""},{"$f":"IF($C$4>1,('Facility Information'!G20&\" Annual Throughput\"),\"\")","v":""},null,null,null,null,null,"Max Design Rate (acres)","Emission Factor   (lb/acre-day)","Potential Uncontrolled Emissions (lb/hr)","Potential Controlled Emissions (lb/hr)","Potential Annual Emissions (tons/yr)","Actual Annual Emissions (tons/yr)"]
[null,null,null,null,null,null,null,null,null,null,null,null,null,"Storage Pile"]
[null,{"$f":"IF($C$4>1,\"Site Name\",\"\")","v":""},null,null,{"$f":"IF($C$4>1,\"Dryers, Hot Screens, Mixer\",\"\")","v":""},null,null,{"$f":"IF($C$4>1,\"(tons/hr)\",\"\")","v":""},{"$f":"IF($C$4>1,\"(tons/yr)\",\"\")","v":""},"PM2.5","PM10",null,null,"PM2.5/PM10",{"$f":"N15","v":0},3.64,{"$f":"O37*P37*(1/24)","v":0},null,{"$f":"O37*P37*365/2000","v":0},{"$f":"O15*P37/2000","v":0}]
[null,{"$f":"IF($C$4>1,\"County:\",\"\")","v":""},null,null,{"$f":"IF(C40=\"\",\"\",\"AP-3 EP-1\")","v":""},{"$f":"IF(C40=\"\",\"\",\"AP-3 EU-1\")","v":""},{"$f":"IF(C40=\"\",\"\",C5 & \" - \"&C40)","v":""},null,null,{"$f":"IF(C41=\"\",\"\",IF(C41=\"yes\",LOOKUP(G38,'Emission Factors'!$A$12:$A$17,'Emission Factors'!$D$12:$D$17),LOOKUP(G38,'Emission Factors'!$A$5:$A$10,'Emission Factors'!$D$5:$D$10)))","v":""},{"$f":"IF(C41=\"\",\"\",IF(C41=\"yes\",LOOKUP(G38,'Emission Factors'!$A$12:$A$17,'Emission Factors'!$F$12:$F$17),LOOKUP(G38,'Emission Factors'!$A$5:$A$10,'Emission Factors'!$F$5:$F$10)))","v":""}]
[null,{"$f":"IF($C$4>1,\"Production Period (Dates):\",\"\")","v":""},null,null,{"$f":"IF($C$4>1,\"Liquid Asphalt Heater\",\"\")","v":""},null,null,{"$f":"IF($C$4>1,IF(C40=\"natural gas\",\"MMCF/hr\",\"(gallons/hr)\"),\"\")","v":""},{"$f":"IF($C$4>1,IF(C40=\"natural gas\",\"MMCF/yr\",\"(gallons/yr)\"),\"\")","v":""},null,null,null,"SO2"]
[null,{"$f":"IF($C$4>1,\"Type of Fuel Used:\",\"\")","v":""},null,null,{"$f":"IF(C40=\"\",\"\",\"AP-3 EP-2\")","v":""},{"$f":"IF(C40=\"\",\"\",\"AP-3 EU-2\")","v":""},{"$f":"IF(C40=\"\",\"\",C40& \" Fired Heater\")","v":""},null,null,null,null,null,{"$f":"$C$5 & \" - Fuel Oil\"","v":" - Fuel Oil"},{"$f":"$N$5","v":0},{"$f":"IF(N40=0,0,LOOKUP(M40,'Emission Factors'!$A$5:$A$10,'Emission Factors'!$H$5:$H$10))","v":0},{"$f":"IF(O40=\"\",\"\",\"lb/ton\")","v":"lb/ton"},{"$f":"N40*O40","v":0},{"$f":"IF(N40=0,\"\",IF(AND($F$13>0,N41=0),$F$13,\"\"))","v":""},{"$f":"IF(N40=0,0,IF($G$13>0,$G$13,IF(OR(AND($C$10>0,$N$41>0),AND($C$11>0,$N$41>0),AND($C$12>0,$N$41>0)),\"\",IF($C$10>0,$C$10*O40/2000,IF($C$11>0,$C$11*365*O40/2000,IF($C$12>0,$C$12*365*O40*N40/2000,IF(AND(N41>0,F13>0),\"\",IF(R40=\"\",Q40*8760/2000,R40*8760/2000))))))))","v":0},{"$f":"P5*O40/2000","v":0}]
[null,{"$f":"IF($C$4>1,\"Is Your Operation Controlled?:\",\"\")","v":""},null,null,{"$f":"IF($C$4>1,\"Silo Filling, Truck Loadout, Aggregate Transfer\",\"\")","v":""},null,null,{"$f":"IF($C$4>1,\"(tons/hr)\",\"\")","v":""},{"$f":"IF($C$4>1,\"(tons/yr)\",\"\")","v":""},null,null,null,{"$f":"$C$5 & \" - Waste Oil\"","v":" - Waste Oil"},{"$f":"$N$6","v":0},{"$f":"IF(N41=0,0,LOOKUP(M41,'Emission Factors'!$A$5:$A$10,'Emission Factors'!$H$5:$H$10))","v":0},{"$f":"IF(O41=\"\",\"\",\"lb/ton\")","v":"lb/ton"},{"$f":"N41*O41","v":0},{"$f":"IF(N41=0,\"\",IF($F$13>0,$F$13,\"\"))","v":""},{"$f":"IF(N41=0,0,IF($G$13>0,IF(S40=0,G13,\"\"),IF($C$10>0,$C$10*O41/2000,IF($C$11>0,$C$11*365*O41/2000,IF($C$12>0,$C$12*365*O41*N41/2000,IF(R41=\"\",Q41*8760/2000,R41*8760/2000))))))","v":0},{"$f":"P6*O41/2000","v":0}]
[null,null,null,null,{"$f":"IF($C$4>1,\"AP-3 EP-3\",\"\")","v":""},{"$f":"IF($C$4>1,\"AP-3 EU-3\",\"\")","v":""},{"$f":"IF($C$4>1,\"Silo Filling\",\"\")","v":""},null,null,null,null,null,{"$f":"$C$5 & \" - Natural Gas\"","v":" - Natural Gas"},{"$f":"$N$7","v":0},{"$f":"IF(N42=0,0,LOOKUP(M42,'Emission Factors'!$A$5:$A$10,'Emission Factors'!$H$5:$H$10))","v":0},{"$f":"IF(O42=\"\",\"\",\"lb/ton\")","v":"lb/ton"},{"$f":"N42*O42","v":0},{"$f":"IF(N42=0,\"\",IF(AND($F$13>0,N40=0,N41=0),$F$13,\"\"))","v":""},{"$f":"IF(N42=0,0,IF($G$13>0,IF(AND(S40=0,S41=0),G13,\"\"),IF(OR(AND($C$10>0,$N$41>0),AND($C$11>0,$N$41>0),AND($C$12>0,$N$41>0)),\"\",IF(OR(AND($C$10>0,$N$40>0),AND($C$11>0,$N$40>0),AND($C$12>0,$N$40>0)),\"\",IF($C$10>0,$C$10*O42/2000,IF($C$11>0,$C$11*365*O42/2000,IF($C$12>0,$C$12*365*O42*N42/2000,IF(AND(N41>0,N40>0,F13>0),\"\",IF(R42=\"\",Q42*8760/2000,R42*8760/2000)))))))))","v":0},{"$f":"P7*O42/2000","v":0}]
[null,null,null,null,{"$f":"IF($C$4>1,\"AP-3 EP-3\",\"\")","v":""},{"$f":"IF($C$4>1,\"AP-3 EU-4\",\"\")","v":""},{"$f":"IF($C$4>1,\"Truck Loadout\",\"\")","v":""},null,null,null,null,null,"NOx"]
[null,null,null,null,{"$f":"IF($C$4>1,\"AP-3 EP-3\",\"\")","v":""},{"$f":"IF($C$4>1,\"AP-3 EU-5\",\"\")","v":""},{"$f":"IF($C$4>1,\"Cold Aggregate Bins\",\"\")","v":""},null,null,null,null,null,{"$f":"$C$5 & \" - Fuel Oil\"","v":" - Fuel Oil"},{"$f":"$N$5","v":0},{"$f":"IF(N44=0,0,LOOKUP(M44,'Emission Factors'!$A$5:$A$10,'Emission Factors'!$J$5:$J$10))","v":0},{"$f":"IF(O44=\"\",\"\",\"lb/ton\")","v":"lb/ton"},{"$f":"N44*O44","v":0},{"$f":"IF(N44=0,\"\",IF(AND($F$14>0,N45=0),$F$14,\"\"))","v":""},{"$f":"IF(N44=0,0,IF($G$14>0,$G$14,IF(OR(AND($C$10>0,$N$45>0),AND($C$11>0,$N$45>0),AND($C$12>0,$N$45>0)),\"\",IF($C$10>0,$C$10*O44/2000,IF($C$11>0,$C$11*365*O44/2000,IF($C$12>0,$C$12*365*O44*N44/2000,IF(AND(N45>0,F14>0),\"\",IF(R44=\"\",Q44*8760/2000,R44*8760/2000))))))))","v":0},{"$f":"P5*O44/2000","v":0}]
[null,null,null,null,null,null,null,null,null,null,null,null,{"$f":"$C$5 & \" - Waste Oil\"","v":" - Waste Oil"},{"$f":"$N$6","v":0},{"$f":"IF(N45=0,0,LOOKUP(M45,'Emission Factors'!$A$5:$A$10,'Emission Factors'!$J$5:$J$10))","v":0},{"$f":"IF(O45=\"\",\"\",\"lb/ton\")","v":"lb/ton"},{"$f":"N45*O45","v":0},{"$f":"IF(N45=0,\"\",IF($F$14>0,$F$14,\"\"))","v":""},{"$f":"IF(N45=0,0,IF($G$14>0,IF(S44=0,G14,\"\"),IF($C$10>0,$C$10*O45/2000,IF($C$11>0,$C$11*365*O45/2000,IF($C$12>0,$C$12*365*O45*N45/2000,IF(R45=\"\",Q45*8760/2000,R45*8760/2000))))))","v":0},{"$f":"P6*O45/2000","v":0}]
[null,null,null,null,{"$f":"IF($C$4>1,\"Stock Pile Area\",\"\")","v":""},null,null,null,null,null,null,null,{"$f":"$C$5 & \" - Natural Gas\"","v":" - Natural Gas"},{"$f":"$N$7","v":0},{"$f":"IF(N46=0,0,LOOKUP(M46,'Emission Factors'!$A$5:$A$10,'Emission Factors'!$J$5:$J$10))","v":0},{"$f":"IF(O46=\"\",\"\",\"lb/ton\")","v":"lb/ton"},{"$f":"N46*O46","v":0},{"$f":"IF(N46=0,\"\",IF(AND($F$14>0,N44=0,N45=0),$F$14,\"\"))","v":""},{"$f":"IF(N46=0,0,IF($G$14>0,IF(AND(S44=0,S45=0),G14,\"\"),IF(OR(AND($C$10>0,$N$45>0),AND($C$11>0,$N$45>0),AND($C$12>0,$N$45>0)),\"\",IF(OR(AND($C$10>0,$N$44>0),AND($C$11>0,$N$44>0),AND($C$12>0,$N$44>0)),\"\",IF($C$10>0,$C$10*O46/2000,IF($C$11>0,$C$11*365*O46/2000,IF($C$12>0,$C$12*365*O46*N46/2000,IF(AND(N44>0,N45>0,F14>0),\"\",IF(R46=\"\",Q46*8760/2000,R46*8760/2000)))))))))","v":0},{"$f":"P7*O46/2000","v":0}]
[null,null,null,null,null,{"$f":"IF($C$4>1,\"Emission Unit #\",\"\")","v":""},{"$f":"IF($C$4>1,\"Maximum Storage Area (acres)\",\"\")","v":""},{"$f":"IF($C$4>1,\"Actual Storage Area (acres)\",\"\")","v":""},{"$f":"IF($C$4>1,\"Actual Days in Existence (days)\",\"\")","v":""},null,null,null,"VOC"]
[null,null,null,null,null,null,null,null,null,null,null,null,{"$f":"$C$5 & \" - Fuel Oil\"","v":" - Fuel Oil"},{"$f":"$N$5","v":0},{"$f":"IF(N48=0,0,LOOKUP(M48,'Emission Factors'!$A$5:$A$10,'Emission Factors'!$L$5:$L$10))","v":0},{"$f":"IF(O48=\"\",\"\",\"lb/ton\")","v":"lb/ton"},{"$f":"N48*O48","v":0},{"$f":"IF(N48=0,\"\",IF(AND($F$15>0,N49=0),$F$15,\"\"))","v":""},{"$f":"IF(N48=0,0,IF($G$15>0,$G$15,IF(OR(AND($C$10>0,$N$49>0),AND($C$11>0,$N$49>0),AND($C$12>0,$N$49>0)),\"\",IF($C$10>0,$C$10*O48/2000,IF($C$11>0,$C$11*365*O48/2000,IF($C$12>0,$C$12*365*O48*N48/2000,IF(AND(N49>0,F15>0),\"\",IF(R48=\"\",Q48*8760/2000,R48*8760/2000))))))))","v":0},{"$f":"P5*O48/2000","v":0}]
[null,null,null,null,null,null,null,null,null,null,null,null,{"$f":"$C$5 & \" - Waste Oil\"","v":" - Waste Oil"},{"$f":"$N$6","v":0},{"$f":"IF(N49=0,0,LOOKUP(M49,'Emission Factors'!$A$5:$A$10,'Emission Factors'!$L$5:$L$10))","v":0},{"$f":"IF(O49=\"\",\"\",\"lb/ton\")","v":"lb/ton"},{"$f":"N49*O49","v":0},{"$f":"IF(N49=0,\"\",IF($F$15>0,$F$15,\"\"))","v":""},{"$f":"IF(N49=0,0,IF($G$15>0,IF(S48=0,G15,\"\"),IF($C$10>0,$C$10*O49/2000,IF($C$11>0,$C$11*365*O49/2000,IF($C$12>0,$C$12*365*O49*N49/2000,IF(R49=\"\",Q49*8760/2000,R49*8760/2000))))))","v":0},{"$f":"P6*O49/2000","v":0}]
[null,{"$f":"IF($C$4>2,\"Asphalt Plant\",\"\")","v":""},{"$f":"IF($C$4>2,\"Site 3\",\"\")","v":""},null,{"$f":"IF($C$4>2,\"Emission Point #\",\"\")","v":""},{"$f":"IF($C$4>2,\"Emission    Unit #\",\"\")","v":""},{"$f":"IF($C$4>2,\"Process\",\"\")","v":""},{"$f":"IF($C$4>2,\"Maximum Hourly     Design Rate\",\"\")","v":""},{"$f":"IF($C$4>2,('Facility Information'!G35&\" Annual Throughput\"),\"\")","v":""},null,null,null,{"$f":"$C$5 & \" - Natural Gas\"","v":" - Natural Gas"},{"$f":"$N$7","v":0},{"$f":"IF(N50=0,0,LOOKUP(M50,'Emission Factors'!$A$5:$A$10,'Emission Factors'!$L$5:$L$10))","v":0},{"$f":"IF(O50=\"\",\"\",\"lb/ton\")","v":"lb/ton"},{"$f":"N50*O50","v":0},{"$f":"IF(N50=0,\"\",IF(AND($F$15>0,N48=0,N49=0),$F$15,\"\"))","v":""},{"$f":"IF(N50=0,0,IF($G$15>0,IF(AND(S48=0,S49=0),G15,\"\"),IF(OR(AND($C$10>0,$N$49>0),AND($C$11>0,$N$49>0),AND($C$12>0,$N$49>0)),\"\",IF(OR(AND($C$10>0,$N$48>0),AND($C$11>0,$N$48>0),AND($C$12>0,$N$48>0)),\"\",IF($C$10>0,$C$10*O50/2000,IF($C$11>0,$C$11*365*O50/2000,IF($C$12>0,$C$12*365*O50*N50/2000,IF(AND(N48>0,N49>0,F15>0),\"\",IF(R50=\"\",Q50*8760/2000,R50*8760/2000)))))))))","v":0},{"$f":"P7*O50/2000","v":0}]
[null,null,null,null,null,null,null,null,null,null,null,null,"CO"]
[null,{"$f":"IF($C$4>2,\"Site Name\",\"\")","v":""},null,null,{"$f":"IF($C$4>2,\"Dryers, Hot Screens, Mixer\",\"\")","v":""},null,null,{"$f":"IF($C$4>2,\"(tons/hr)\",\"\")","v":""},{"$f":"IF($C$4>2,\"(tons/yr)\",\"\")","v":""},"PM2.5","PM10",null,{"$f":"IF($C$5=\"\",\"\",$C$5)","v":""},{"$f":"SUM($N$5:$N$7)","v":0},{"$f":"IF(N52=0,0,IF(M52=\"Batch Mix Plant\",0.4,IF(M52=\"Drum Mix Plant\",0.13)))","v":0},{"$f":"IF(O52=\"\",\"\",\"lb/ton\")","v":"lb/ton"},{"$f":"N52*O52","v":0},{"$f":"IF(N52=0,\"\",IF($F$16>0,$F$16,\"\"))","v":""},{"$f":"IF($G$16>0,$G$16,IF(N52=0,0,IF($C$10>0,$C$10*O52/2000,IF($C$11>0,$C$11*365*O52/2000,IF($C$12>0,$C$12*365*O52*N52/2000,IF(R52=\"\",Q52*8760/2000,R52*8760/2000))))))","v":0},{"$f":"SUM($P$5:$P$7)*O52/2000","v":0}]
[null,{"$f":"IF($C$4>2,\"County:\",\"\")","v":""},null,null,{"$f":"IF(C55=\"\",\"\",\"AP-3 EP-1\")","v":""},{"$f":"IF(C55=\"\",\"\",\"AP-3 EU-1\")","v":""},{"$f":"IF(C55=\"\",\"\",C5 & \" - \"&C55)","v":""},null,null,{"$f":"IF(C56=\"\",\"\",IF(C56=\"yes\",LOOKUP(G53,'Emission Factors'!$A$12:$A$17,'Emission Factors'!$D$12:$D$17),LOOKUP(G53,'Emission Factors'!$A$5:$A$10,'Emission Factors'!$D$5:$D$10)))","v":""},{"$f":"IF(C56=\"\",\"\",IF(C56=\"yes\",LOOKUP(G53,'Emission Factors'!$A$12:$A$17,'Emission Factors'!$F$12:$F$17),LOOKUP(G53,'Emission Factors'!$A$5:$A$10,'Emission Factors'!$F$5:$F$10)))","v":""},null,"Fuel Oil Fired Heater",{"$f":"N8","v":0},{"$f":"IF(N53=0,0,LOOKUP(M53,'Emission Factors'!$A$19:$A$21,'Emission Factors'!$N$19:$N$21))","v":0},{"$f":"IF(O53=\"\",\"\",\"lb/gallon\")","v":"lb/gallon"},{"$f":"N53*O53","v":0},null,{"$f":"IF(N53=0,0,IF($G$16>0,\"\",IF($F$16>0,\"\",IF(R53=\"\",Q53*8760/2000,R53*8760/2000))))","v":0},{"$f":"(P8*O53/2000)","v":0}]
[null,{"$f":"IF($C$4>2,\"Production Period (Dates):\",\"\")","v":""},null,null,{"$f":"IF($C$4>2,\"Liquid Asphalt Heater\",\"\")","v":""},null,null,{"$f":"IF($C$4>2,IF(C55=\"natural gas\",\"(MMCF/hr)\",\"(gallons/hr)\"),\"\")","v":""},{"$f":"IF($C$4>2,IF(C55=\"natural gas\",\"(MMCF/yr)\",\"(gallons/yr)\"),\"\")","v":""},null,null,null,"Waste Oil Fired Heater",{"$f":"N9","v":0},{"$f":"IF(N54=0,0,LOOKUP(M54,'Emission Factors'!$A$19:$A$21,'Emission Factors'!$N$19:$N$21))","v":0},{"$f":"IF(O54=\"\",\"\",\"lb/gallon\")","v":"lb/gallon"},{"$f":"N54*O54","v":0},null,{"$f":"IF(N54=0,0,IF($G$16>0,\"\",IF($F$16>0,\"\",IF(R54=\"\",Q54*8760/2000,R54*8760/2000))))","v":0},{"$f":"(P9*O54/2000)","v":0}]
[null,{"$f":"IF($C$4>2,\"Type of Fuel Used:\",\"\")","v":""},null,null,{"$f":"IF(C55=\"\",\"\",\"AP-3 EP-2\")","v":""},{"$f":"IF(C55=\"\",\"\",\"AP-3 EU-2\")","v":""},{"$f":"IF(C55=\"\",\"\",C55& \" Fired Heater\")","v":""},null,null,null,null,null,"Natural Gas Fired Heater",{"$f":"N10","v":0},{"$f":"IF(N55=0,0,LOOKUP(M55,'Emission Factors'!$A$19:$A$21,'Emission Factors'!$N$19:$N$21))","v":0},{"$f":"IF(O55=\"\",\"\",\"lb/MMCF\")","v":"lb/MMCF"},{"$f":"N55*O55","v":0},null,{"$f":"IF(N55=0,0,IF($G$16>0,\"\",IF($F$16>0,\"\",IF(R55=\"\",Q55*8760/2000,R55*8760/2000))))","v":0},{"$f":"($P$10*O55/2000)","v":0}]
[null,{"$f":"IF($C$4>2,\"Is Your Operation Controlled?:\",\"\")","v":""},null,null,{"$f":"IF($C$4>2,\"Silo Filling, Truck Loadout, Aggregate Transfer\",\"\")","v":""},null,null,{"$f":"IF($C$4>2,\"(tons/hr)\",\"\")","v":""},{"$f":"IF($C$4>2,\"(tons/yr)\",\"\")","v":""},null,null,null,"Acetaldehyde"]
[null,null,null,null,{"$f":"IF($C$4>2,\"AP-3 EP-3\",\"\")","v":""},{"$f":"IF($C$4>2,\"AP-3 EU-3\",\"\")","v":""},{"$f":"IF($C$4>2,\"Silo Filling\",\"\")","v":""},null,null,null,null,null,{"$f":"IF($C$5=\"\",\"\",$C$5)","v":""},{"$f":"IF(C5=\"drum mix plant\",SUM(N5:$N$6),SUM($N$5:$N$7))","v":0},{"$f":"IF(N57=0,0,IF(M57=\"Batch Mix Plant\",0.00032,IF(M57=\"Drum Mix Plant\",0.0013)))","v":0},{"$f":"IF(O57=\"\",\"\",\"lb/ton\")","v":"lb/ton"},{"$f":"N57*O57","v":0},null,{"$f":"IF(N57=0,0,IF($C$10>0,$C$10*O57/2000,IF($C$11>0,$C$11*365*O57/2000,IF($C$12>0,$C$12*365*O57*N57/2000,IF(R57=\"\",Q57*8760/2000,R57*8760/2000)))))","v":0},{"$f":"IF(C5=\"drum mix plant\",$P$6*O57/2000,SUM($P$5:$P$7)*O57/2000)","v":0}]
[null,null,null,null,{"$f":"IF($C$4>2,\"AP-3 EP-3\",\"\")","v":""},{"$f":"IF($C$4>2,\"AP-3 EU-4\",\"\")","v":""},{"$f":"IF($C$4>2,\"Truck Loadout\",\"\")","v":""},null,null,null,null,null,"Acrolein"]
[null,null,null,null,{"$f":"IF($C$4>2,\"AP-3 EP-3\",\"\")","v":""},{"$f":"IF($C$4>2,\"AP-3 EU-5\",\"\")","v":""},{"$f":"IF($C$4>2,\"Cold Aggregate Bins\",\"\")","v":""},null,null,null,null,null,{"$f":"IF($C$5=\"\",\"\",$C$5)","v":""},{"$f":"IF(C5=\"drum mix plant\",SUM(N5:$N$6),0)","v":0},{"$f":"IF(N59=0,0,0.000026)","v":0},{"$f":"IF(O59=\"\",\"\",\"lb/ton\")","v":"lb/ton"},{"$f":"N59*O59","v":0},null,{"$f":"IF(N59=0,0,IF($C$10>0,$C$10*O59/2000,IF($C$11>0,$C$11*365*O59/2000,IF($C$12>0,$C$12*365*O59*N59/2000,IF(R59=\"\",Q59*8760/2000,R59*8760/2000)))))","v":0},{"$f":"IF(C7=\"drum mix plant\",$P$6*O59/2000,SUM($P$5:$P$7)*O59/2000)","v":0}]
[null,null,null,null,null,null,null,null,null,null,null,null,"Benzene"]
[null,null,null,null,{"$f":"IF($C$4>2,\"Stock Pile Area\",\"\")","v":""},null,null,null,null,null,null,null,{"$f":"IF($C$5=\"\",\"\",$C$5)","v":""},{"$f":"SUM($N$5:$N$7)","v":0},{"$f":"IF(N61=0,0,IF(M61=\"Batch Mix Plant\",0.00028,IF(M61=\"Drum Mix Plant\",0.00039)))","v":0},{"$f":"IF(O61=\"\",\"\",\"lb/ton\")","v":"lb/ton"},{"$f":"N61*O61","v":0},null,{"$f":"IF(N61=0,0,IF($C$10>0,$C$10*O61/2000,IF($C$11>0,$C$11*365*O61/2000,IF($C$12>0,$C$12*365*O61*N61/2000,IF(R61=\"\",Q61*8760/2000,R61*8760/2000)))))","v":0},{"$f":"SUM($P$5:$P$7)*O61/2000","v":0}]
[null,null,null,null,null,{"$f":"IF($C$4>2,\"Emission Unit #\",\"\")","v":""},{"$f":"IF($C$4>2,\"Maximum Storage Area (acres)\",\"\")","v":""},{"$f":"IF($C$4>2,\"Actual Storage Area (acres)\",\"\")","v":""},{"$f":"IF($C$4>2,\"Actual Days in Existence (days)\",\"\")","v":""},null,null,null,"Ethylbenzene"]
[null,null,null,null,null,null,null,null,null,null,null,null,{"$f":"IF($C$5=\"\",\"\",$C$5)","v":""},{"$f":"SUM($N$5:$N$7)","v":0},{"$f":"IF(N63=0,0,IF(M63=\"Batch Mix Plant\",0.0022,IF(M63=\"Drum Mix Plant\",0.00024)))","v":0},{"$f":"IF(O63=\"\",\"\",\"lb/ton\")","v":"lb/ton"},{"$f":"N63*O63","v":0},null,{"$f":"IF(N63=0,0,IF($C$10>0,$C$10*O63/2000,IF($C$11>0,$C$11*365*O63/2000,IF($C$12>0,$C$12*365*O63*N63/2000,IF(R63=\"\",Q63*8760/2000,R63*8760/2000)))))","v":0},{"$f":"SUM($P$5:$P$7)*O63/2000","v":0}]
[null,null,null,null,null,null,null,null,null,null,null,null,"Formaldehyde"]
[null,{"$f":"IF($C$4>3,\"Asphalt Plant\",\"\")","v":""},{"$f":"IF($C$4>3,\"Site 4\",\"\")","v":""},null,{"$f":"IF($C$4>3,\"Emission Point #\",\"\")","v":""},{"$f":"IF($C$4>3,\"Emission    Unit #\",\"\")","v":""},{"$f":"IF($C$4>3,\"Process\",\"\")","v":""},{"$f":"IF($C$4>3,\"Maximum Hourly     Design Rate\",\"\")","v":""},{"$f":"IF($C$4>3,('Facility Information'!G50&\" Annual Throughput\"),\"\")","v":""},null,null,null,{"$f":"IF($C$5=\"\",\"\",$C$5)","v":""},{"$f":"SUM($N$5:$N$7)","v":0},{"$f":"IF(N65=0,0,IF(M65=\"Batch Mix Plant\",0.00074,IF(M65=\"Drum Mix Plant\",0.0031)))","v":0},{"$f":"IF(O65=\"\",\"\",\"lb/ton\")","v":"lb/ton"},{"$f":"N65*O65","v":0},null,{"$f":"IF(N65=0,0,IF($C$10>0,$C$10*O65/2000,IF($C$11>0,$C$11*365*O65/2000,IF($C$12>0,$C$12*365*O65*N65/2000,IF(R65=\"\",Q65*8760/2000,R65*8760/2000)))))","v":0},{"$f":"SUM($P$5:$P$7)*O65/2000","v":0}]
[null,null,null,null,null,null,null,null,null,null,null,null,{"$f":"\"Natural Gas Fired Heater\"","v":"Natural Gas Fired Heater"},{"$f":"N10","v":0},{"$f":"IF(N66=0,0,0.026)","v":0},{"$f":"IF(O66=\"\",\"\",\"lb/MMCF\")","v":"lb/MMCF"},{"$f":"N66*O66","v":0},null,{"$f":"IF(N66=0,0,IF(R66=\"\",Q66*8760/2000,R66*8760/2000))","v":0},{"$f":"($P$10*O66/2000)","v":0}]
[null,{"$f":"IF($C$4>3,\"Site Name\",\"\")","v":""},null," ",{"$f":"IF($C$4>3,\"Dryers, Hot Screens, Mixer\",\"\")","v":""},null,null,{"$f":"IF($C$4>3,\"(tons/hr)\",\"\")","v":""},{"$f":"IF($C$4>3,\"(tons/yr)\",\"\")","v":""},"PM2.5","PM10",null,"Hexane"]
[null,{"$f":"IF($C$4>3,\"County:\",\"\")","v":""},null,null,{"$f":"IF(C70=\"\",\"\",\"AP-3 EP-1\")","v":""},{"$f":"IF(C70=\"\",\"\",\"AP-3 EU-1\")","v":""},{"$f":"IF(C70=\"\",\"\",C5 & \" - \"&C70)","v":""},null,null,{"$f":"IF(C71=\"\",\"\",IF(C71=\"yes\",LOOKUP(G68,'Emission Factors'!$A$12:$A$17,'Emission Factors'!$D$12:$D$17),LOOKUP(G68,'Emission Factors'!$A$5:$A$10,'Emission Factors'!$D$5:$D$10)))","v":""},{"$f":"IF(C71=\"\",\"\",IF(C71=\"yes\",LOOKUP(G68,'Emission Factors'!$A$12:$A$17,'Emission Factors'!$F$12:$F$17),LOOKUP(G68,'Emission Factors'!$A$5:$A$10,'Emission Factors'!$F$5:$F$10)))","v":""},null,{"$f":"IF($C$5=\"\",\"\",$C$5)","v":""},{"$f":"IF(C5=\"drum mix plant\",SUM(N5:N7),0)","v":0},{"$f":"IF(N68=0,0,0.00092)","v":0},{"$f":"IF(O68=\"\",\"\",\"lb/ton\")","v":"lb/ton"},{"$f":"N68*O68","v":0},null,{"$f":"IF(N68=0,0,IF($C$10>0,$C$10*O68/2000,IF($C$11>0,$C$11*365*O68/2000,IF($C$12>0,$C$12*365*O68*N68/2000,IF(R68=\"\",Q68*8760/2000,R68*8760/2000)))))","v":0},{"$f":"IF(N68>0,SUM($P$5:$P$7)*O68/2000,0)","v":0}]
[null,{"$f":"IF($C$4>3,\"Production Period (Dates):\",\"\")","v":""},null,null,{"$f":"IF($C$4>3,\"Liquid Asphalt Heater\",\"\")","v":""},null,null,{"$f":"IF($C$4>3,IF(C70=\"natural gas\",\"(MMCF/hr)\",\"(gallons/hr)\"),\"\")","v":""},{"$f":"IF($C$4>3,IF(C70=\"natural gas\",\"(MMCF/yr)\",\"(gallons/yr)\"),\"\")","v":""},null,null,null,"Hydrochloric Acid"]
[null,{"$f":"IF($C$4>3,\"Type of Fuel Used:\",\"\")","v":""},null,null,{"$f":"IF(C70=\"\",\"\",\"AP-3 EP-2\")","v":""},{"$f":"IF(C70=\"\",\"\",\"AP-3 EU-2\")","v":""},{"$f":"IF(C70=\"\",\"\",C70& \" Fired Heater\")","v":""},null,null,null,null,null,{"$f":"IF($C$5=\"\",\"\",$C$5)","v":""},{"$f":"IF(C5=\"drum mix plant\",SUM(N5:$N$6),0)","v":0},{"$f":"IF(N70=0,0,0.00021)","v":0},{"$f":"IF(O70=\"\",\"\",\"lb/ton\")","v":"lb/ton"},{"$f":"N70*O70","v":0},null,{"$f":"IF(N70=0,0,IF($C$10>0,$C$10*O70/2000,IF($C$11>0,$C$11*365*O70/2000,IF($C$12>0,$C$12*365*O70*N70/2000,IF(R70=\"\",Q70*8760/2000,R70*8760/2000)))))","v":0},{"$f":"IF(N70>0,$P$6*O70/2000,0)","v":0}]
[null,{"$f":"IF($C$4>3,\"Is Your Operation Controlled?:\",\"\")","v":""},null,null,{"$f":"IF($C$4>3,\"Silo Filling, Truck Loadout, Aggregate Transfer\",\"\")","v":""},null,null,{"$f":"IF($C$4>3,\"(tons/hr)\",\"\")","v":""},{"$f":"IF($C$4>3,\"(tons/yr)\",\"\")","v":""},null,null,null,"Methyl Chloroform"]
[null,null,null,null,{"$f":"IF($C$4>3,\"AP-3 EP-3\",\"\")","v":""},{"$f":"IF($C$4>3,\"AP-3 EU-3\",\"\")","v":""},{"$f":"IF($C$4>3,\"Silo Filling\",\"\")","v":""},null,null,null,null,null,{"$f":"IF($C$5=\"\",\"\",$C$5)","v":""},{"$f":"IF(C5=\"drum mix plant\",SUM(N5:N7),0)","v":0},{"$f":"IF(N72=0,0,0.000048)","v":0},{"$f":"IF(O72=\"\",\"\",\"lb/ton\")","v":"lb/ton"},{"$f":"N72*O72","v":0},null,{"$f":"IF(N72=0,0,IF($C$10>0,$C$10*O72/2000,IF($C$11>0,$C$11*365*O72/2000,IF($C$12>0,$C$12*365*O72*N72/2000,IF(R72=\"\",Q72*8760/2000,R72*8760/2000)))))","v":0},{"$f":"IF(N72>0,SUM($P$5:$P$7)*O72/2000,0)","v":0}]
[null,null,null,null,{"$f":"IF($C$4>3,\"AP-3 EP-3\",\"\")","v":""},{"$f":"IF($C$4>3,\"AP-3 EU-4\",\"\")","v":""},{"$f":"IF($C$4>3,\"Truck Loadout\",\"\")","v":""},null,null,null,null,null,"Propionaldehyde"]
[null,null,null,null,{"$f":"IF($C$4>3,\"AP-3 EP-3\",\"\")","v":""},{"$f":"IF($C$4>3,\"AP-3 EU-5\",\"\")","v":""},{"$f":"IF($C$4>3,\"Cold Aggregate Bins\",\"\")","v":""},null,null,null,null,null,{"$f":"IF($C$5=\"\",\"\",$C$5)","v":""},{"$f":"IF(C5=\"drum mix plant\",SUM(N5:$N$6),0)","v":0},{"$f":"IF(N74=0,0,0.00013)","v":0},{"$f":"IF(O74=\"\",\"\",\"lb/ton\")","v":"lb/ton"},{"$f":"N74*O74","v":0},null,{"$f":"IF(N74=0,0,IF($C$10>0,$C$10*O74/2000,IF($C$11>0,$C$11*365*O74/2000,IF($C$12>0,$C$12*365*O74*N74/2000,IF(R74=\"\",Q74*8760/2000,R74*8760/2000)))))","v":0},{"$f":"IF(N74>0,$P$6*O74/2000,0)","v":0}]
[null,null,null,null,null,null,null,null,null,null,null,null,"Quinone"]
[null,null,null,null,{"$f":"IF($C$4>3,\"Stock Pile Area\",\"\")","v":""},null,null,null,null,null,null,null,{"$f":"IF($C$5=\"\",\"\",$C$5)","v":""},{"$f":"IF(C5=\"drum mix plant\",SUM(N5:$N$6),SUM($N$5:$N$7))","v":0},{"$f":"IF(N76=0,0,IF(M76=\"Batch Mix Plant\",0.00027,IF(M76=\"Drum Mix Plant\",0.00016)))","v":0},{"$f":"IF(O76=\"\",\"\",\"lb/ton\")","v":"lb/ton"},{"$f":"N76*O76","v":0},null,{"$f":"IF(N76=0,0,IF($C$10>0,$C$10*O76/2000,IF($C$11>0,$C$11*365*O76/2000,IF($C$12>0,$C$12*365*O76*N76/2000,IF(R76=\"\",Q76*8760/2000,R76*8760/2000)))))","v":0},{"$f":"IF(C24=\"drum mix plant\",$P$6*O76/2000,SUM($P$5:$P$7)*O76/2000)","v":0}]
[null,null,null,null,null,{"$f":"IF($C$4>3,\"Emission Unit #\",\"\")","v":""},{"$f":"IF($C$4>3,\"Maximum Storage Area (acres)\",\"\")","v":""},{"$f":"IF($C$4>3,\"Actual Storage Area (acres)\",\"\")","v":""},{"$f":"IF($C$4>3,\"Actual Days in Existence (days)\",\"\")","v":""},null,null,null,"Toluene"]
[null,null,null,null,null,null,null,null,null,null,null,null,{"$f":"$C$5 & \" - Fuel Oil\"","v":" - Fuel Oil"},{"$f":"$N$5","v":0},{"$f":"IF(N78=0,0,LOOKUP(M78,'Emission Factors'!$A$5:$A$10,'Emission Factors'!$AJ$5:$AJ$10))","v":0},{"$f":"IF(O78=\"\",\"\",\"lb/ton\")","v":"lb/ton"},{"$f":"N78*O78","v":0},null,{"$f":"IF(N78=0,0,IF($C$10>0,$C$10*O78/2000,IF($C$11>0,$C$11*365*O78/2000,IF($C$12>0,$C$12*365*O78*N78/2000,IF(R78=\"\",Q78*8760/2000,R78*8760/2000)))))","v":0},{"$f":"P5*O78/2000","v":0}]
[null,null,null,null,null,null,null,null,null,null,null,null,{"$f":"$C$5 & \" - Waste Oil\"","v":" - Waste Oil"},{"$f":"$N$6","v":0},{"$f":"IF(N79=0,0,LOOKUP(M79,'Emission Factors'!$A$5:$A$10,'Emission Factors'!$AJ$5:$AJ$10))","v":0},{"$f":"IF(O79=\"\",\"\",\"lb/ton\")","v":"lb/ton"},{"$f":"N79*O79","v":0},null,{"$f":"IF(N79=0,0,IF(OR(AND($C$10>0,$N$78>0),AND($C$11>0,$N$78>0),AND($C$12>0,$N$78>0)),\"\",IF($C$10>0,$C$10*O79/2000,IF($C$11>0,$C$11*365*O79/2000,IF($C$12>0,$C$12*365*O79*N79/2000,IF(R79=\"\",Q79*8760/2000,R79*8760/2000))))))","v":0},{"$f":"P6*O79/2000","v":0}]
[null,{"$f":"IF($C$4>4,\"Asphalt Plant\",\"\")","v":""},{"$f":"IF($C$4>4,\"Site 5\",\"\")","v":""},null,{"$f":"IF($C$4>4,\"Emission Point #\",\"\")","v":""},{"$f":"IF($C$4>4,\"Emission    Unit #\",\"\")","v":""},{"$f":"IF($C$4>4,\"Process\",\"\")","v":""},{"$f":"IF($C$4>4,\"Maximum Hourly     Design Rate\",\"\")","v":""},{"$f":"IF($C$4>4,('Facility Information'!G65&\" Annual Throughput\"),\"\")","v":""},null,null,null,{"$f":"$C$5 & \" - Natural Gas\"","v":" - Natural Gas"},{"$f":"$N$7","v":0},{"$f":"IF(N80=0,0,LOOKUP(M80,'Emission Factors'!$A$5:$A$10,'Emission Factors'!$AJ$5:$AJ$10))","v":0},{"$f":"IF(O80=\"\",\"\",\"lb/ton\")","v":"lb/ton"},{"$f":"N80*O80","v":0},null,{"$f":"IF(N80=0,0,IF(OR(AND($C$10>0,$N$78>0),AND($C$11>0,$N$78>0),AND($C$12>0,$N$78>0)),\"\",IF(OR(AND($C$10>0,$N$79>0),AND($C$11>0,$N$79>0),AND($C$12>0,$N$79>0)),\"\",IF($C$10>0,$C$10*O80/2000,IF($C$11>0,$C$11*365*O80/2000,IF($C$12>0,$C$12*365*O80*N80/2000,IF(R80=\"\",Q80*8760/2000,R80*8760/2000)))))))","v":0},{"$f":"P7*O80/2000","v":0}]
[null,null,null,null,null,null,null,null,null,null,null,null,"Xylene"]
[null,{"$f":"IF($C$4>4,\"Site Name\",\"\")","v":""},null,null,{"$f":"IF($C$4>4,\"Dryers, Hot Screens, Mixer\",\"\")","v":""},null,null,{"$f":"IF($C$4>4,\"(tons/hr)\",\"\")","v":""},{"$f":"IF($C$4>4,\"(tons/yr)\",\"\")","v":""},"PM2.5","PM10",null,{"$f":"IF($C$5=\"\",\"\",$C$5)","v":""},{"$f":"SUM($N$5:$N$7)","v":0},{"$f":"IF(N82=0,0,IF(M82=\"Batch Mix Plant\",0.0027,IF(M82=\"Drum Mix Plant\",0.0002)))","v":0},{"$f":"IF(O82=\"\",\"\",\"lb/ton\")","v":"lb/ton"},{"$f":"N82*O82","v":0},null,{"$f":"IF(N82=0,0,IF($C$10>0,$C$10*O82/2000,IF($C$11>0,$C$11*365*O82/2000,IF($C$12>0,$C$12*365*O82*N82/2000,IF(R82=\"\",Q82*8760/2000,R82*8760/2000)))))","v":0},{"$f":"SUM($P$5:$P$7)*O82/2000","v":0}]
[null,{"$f":"IF($C$4>4,\"County:\",\"\")","v":""},null,null,{"$f":"IF(C85=\"\",\"\",\"AP-3 EP-1\")","v":""},{"$f":"IF(C85=\"\",\"\",\"AP-3 EU-1\")","v":""},{"$f":"IF(C85=\"\",\"\",C5 & \" - \"&C85)","v":""},null,null,{"$f":"IF(C86=\"\",\"\",IF(C86=\"yes\",LOOKUP(G83,'Emission Factors'!$A$12:$A$17,'Emission Factors'!$D$12:$D$17),LOOKUP(G83,'Emission Factors'!$A$5:$A$10,'Emission Factors'!$D$5:$D$10)))","v":""},{"$f":"IF(C86=\"\",\"\",IF(C86=\"yes\",LOOKUP(G83,'Emission Factors'!$A$12:$A$17,'Emission Factors'!$F$12:$F$17),LOOKUP(G83,'Emission Factors'!$A$5:$A$10,'Emission Factors'!$F$5:$F$10)))","v":""},null,"2,2,4-Trimethylpentane"]
[null,{"$f":"IF($C$4>4,\"Production Period (Dates):\",\"\")","v":""},null,null,{"$f":"IF($C$4>4,\"Liquid Asphalt Heater\",\"\")","v":""},null,null,{"$f":"IF($C$4>4,IF(C85=\"natural gas\",\"(MMCF/hr)\",\"(gallons/hr)\"),\"\")","v":""},{"$f":"IF($C$4>4,IF(C85=\"natural gas\",\"(MMCF/yr)\",\"(gallons/yr)\"),\"\")","v":""},null,null,null,{"$f":"IF($C$5=\"\",\"\",$C$5)","v":""},{"$f":"IF(C5=\"drum mix plant\",SUM(N5:N7),0)","v":0},{"$f":"IF(N84=0,0,0.00004)","v":0},{"$f":"IF(O84=\"\",\"\",\"lb/ton\")","v":"lb/ton"},{"$f":"N84*O84","v":0},null,{"$f":"IF(N84=0,0,IF($C$10>0,$C$10*O84/2000,IF($C$11>0,$C$11*365*O84/2000,IF($C$12>0,$C$12*365*O84*N84/2000,IF(R84=\"\",Q84*8760/2000,R84*8760/2000)))))","v":0},{"$f":"IF(N84>0,SUM($P$5:$P$7)*O84/2000,0)","v":0}]
[null,{"$f":"IF($C$4>4,\"Type of Fuel Used:\",\"\")","v":""},null,null,{"$f":"IF(C85=\"\",\"\",\"AP-3 EP-2\")","v":""},{"$f":"IF(C85=\"\",\"\",\"AP-3 EU-2\")","v":""},{"$f":"IF(C85=\"\",\"\",C85& \" Fired Heater\")","v":""},null,null,null,"Controlled?",null,"Chromium Compounds"]
[null,{"$f":"IF($C$4>4,\"Is Your Operation Controlled?:\",\"\")","v":""},null,null,{"$f":"IF($C$4>4,\"Silo Filling, Truck Loadout, Aggregate Transfer\",\"\")","v":""},null,null,{"$f":"IF($C$4>4,\"(tons/hr)\",\"\")","v":""},{"$f":"IF($C$4>4,\"(tons/yr)\",\"\")","v":""},null,{"$f":"IF(OR(C26=\"yes\",C41=\"yes\",C71=\"yes\",C86=\"yes\",C101=\"yes\",C116=\"yes\",C131=\"yes\",C146=\"yes\",C161=\"yes\"),1,0)","v":0},null,{"$f":"IF($C$5=\"\",\"\",$C$5)","v":""},{"$f":"IF(C5=\"drum mix plant\",SUM(N5:N6),0)","v":0},{"$f":"IF(N86=0,0,IF($K$86=1,0.0000055,0.000024))","v":0},{"$f":"IF(O86=\"\",\"\",\"lb/ton\")","v":"lb/ton"},{"$f":"IF($K$86=1,\"\",N86*O86)","v":0},{"$f":"IF($K$86=1,N86*O86,\"\")","v":""},{"$f":"IF(N86=0,0,IF($C$10>0,$C$10*O86/2000,IF($C$11>0,$C$11*365*O86/2000,IF($C$12>0,$C$12*365*O86*N86/2000,IF(R86=\"\",Q86*8760/2000,R86*8760/2000)))))","v":0},{"$f":"IF(N86>0,$P$5*O86/2000,0)","v":0}]
[null,null,null,null,{"$f":"IF($C$4>4,\"AP-3 EP-3\",\"\")","v":""},{"$f":"IF($C$4>4,\"AP-3 EU-3\",\"\")","v":""},{"$f":"IF($C$4>4,\"Silo Filling\",\"\")","v":""},null,null,null,null,null,"Lead Compounds"]
[null,null,null,null,{"$f":"IF($C$4>4,\"AP-3 EP-3\",\"\")","v":""},{"$f":"IF($C$4>4,\"AP-3 EU-4\",\"\")","v":""},{"$f":"IF($C$4>4,\"Truck Loadout\",\"\")","v":""},null,null,null,null,null,{"$f":"IF($C$5=\"\",\"\",$C$5)","v":""},{"$f":"IF(C5=\"drum mix plant\",SUM(N5:N6),0)","v":0},{"$f":"IF(N88=0,0,IF($K$86=1,0.000015,0.00054))","v":0},{"$f":"IF(O88=\"\",\"\",\"lb/ton\")","v":"lb/ton"},{"$f":"IF($K$86=1,\"\",N88*O88)","v":0},{"$f":"IF($K$86=1,N88*O88,\"\")","v":""},{"$f":"IF(N88=0,0,IF($C$10>0,$C$10*O88/2000,IF($C$11>0,$C$11*365*O88/2000,IF($C$12>0,$C$12*365*O88*N88/2000,IF(R88=\"\",Q88*8760/2000,R88*8760/2000)))))","v":0},{"$f":"IF(N88>0,$P$5*O88/2000,0)","v":0}]
[null,null,null,null,{"$f":"IF($C$4>4,\"AP-3 EP-3\",\"\")","v":""},{"$f":"IF($C$4>4,\"AP-3 EU-5\",\"\")","v":""},{"$f":"IF($C$4>4,\"Cold Aggregate Bins\",\"\")","v":""},null,null,null,null,null,"Manganese Compounds",null,null,null,0]
[null,null,null,null,null,null,null,null,null,null,null,null,{"$f":"IF($C$5=\"\",\"\",$C$5)","v":""},{"$f":"IF(C5=\"drum mix plant\",SUM(N5:N6),0)","v":0},{"$f":"IF(N90=0,0,IF($K$86=1,0.0000077,0.00065))","v":0},{"$f":"IF(O90=\"\",\"\",\"lb/ton\")","v":"lb/ton"},0,{"$f":"IF($K$86=1,N90*O90,\"\")","v":""},{"$f":"IF(N90=0,0,IF($C$10>0,$C$10*O90/2000,IF($C$11>0,$C$11*365*O90/2000,IF($C$12>0,$C$12*365*O90*N90/2000,IF(R90=\"\",Q90*8760/2000,R90*8760/2000)))))","v":0},{"$f":"IF(N90>0,$P$5*O90/2000,0)","v":0}]
[null,null,null,null,{"$f":"IF($C$4>4,\"Stock Pile Area\",\"\")","v":""},null,null,null,null,null,null,null,"Nickel Compounds",null,null,null,0]
[null,null,null,null,null,{"$f":"IF($C$4>4,\"Emission Unit #\",\"\")","v":""},{"$f":"IF($C$4>4,\"Maximum Storage Area (acres)\",\"\")","v":""},{"$f":"IF($C$4>4,\"Actual Storage Area (acres)\",\"\")","v":""},{"$f":"IF($C$4>4,\"Actual Days in Existence (days)\",\"\")","v":""},null,null,null,{"$f":"$C$5 & \" - Fuel Oil\"","v":" - Fuel Oil"},{"$f":"IF(C5=\"drum mix plant\",N5,0)","v":0},{"$f":"IF(N92=0,0,IF($K$86=1,0.000015,0.0013))","v":0},{"$f":"IF(O92=\"\",\"\",\"lb/ton\")","v":"lb/ton"},0,{"$f":"IF($K$86=1,N92*O92,\"\")","v":""},{"$f":"IF(N92=0,0,IF($C$10>0,$C$10*O92/2000,IF($C$11>0,$C$11*365*O92/2000,IF($C$12>0,$C$12*365*O92*N92/2000,IF(R92=\"\",Q92*8760/2000,R92*8760/2000)))))","v":0},{"$f":"IF(N92>0,$P$5*O92/2000,0)","v":0}]
[null,null,null,null,null,null,null,null,null,null,null,null,{"$f":"$C$5 & \" - Waste Oil\"","v":" - Waste Oil"},{"$f":"IF(C5=\"drum mix plant\",N6,0)","v":0},{"$f":"IF(N93=0,0,IF($K$86=1,0.000015,0.0013))","v":0},{"$f":"IF(O93=\"\",\"\",\"lb/ton\")","v":"lb/ton"},0,{"$f":"IF($K$86=1,N93*O93,\"\")","v":""},{"$f":"IF(N93=0,0,IF($C$10>0,$C$10*O93/2000,IF($C$11>0,$C$11*365*O93/2000,IF($C$12>0,$C$12*365*O93*N93/2000,IF(R93=\"\",Q93*8760/2000,R93*8760/2000)))))","v":0},{"$f":"IF(N93>0,$P$6*O93/2000,0)","v":0}]
[null,null,null,null,null,null,null,null,null,null,null,null,{"$f":"$C$5 & \" - Natural Gas\"","v":" - Natural Gas"},{"$f":"IF(C5=\"drum mix plant\",N7,0)","v":0},{"$f":"IF(N94=0,0,IF($K$86=1,0.000063,0.00063))","v":0},{"$f":"IF(O94=\"\",\"\",\"lb/ton\")","v":"lb/ton"},{"$f":"IF($K$86=1,\"\",N94*O94)","v":0},{"$f":"IF($K$86=1,N94*O94,\"\")","v":""},{"$f":"IF(N94=0,0,IF($C$10>0,$C$10*O94/2000,IF($C$11>0,$C$11*365*O94/2000,IF($C$12>0,$C$12*365*O94*N94/2000,IF(R94=\"\",Q94*8760/2000,R94*8760/2000)))))","v":0},{"$f":"IF(N94>0,$P$7*O94/2000,0)","v":0}]
[null,{"$f":"IF($C$4>5,\"Asphalt Plant\",\"\")","v":""},{"$f":"IF($C$4>5,\"Site 6\",\"\")","v":""},null,{"$f":"IF($C$4>5,\"Emission Point #\",\"\")","v":""},{"$f":"IF($C$4>5,\"Emission    Unit #\",\"\")","v":""},{"$f":"IF($C$4>5,\"Process\",\"\")","v":""},{"$f":"IF($C$4>5,\"Maximum Hourly     Design Rate\",\"\")","v":""},{"$f":"IF($C$4>5,('Facility Information'!G80&\" Annual Throughput\"),\"\")","v":""}]
[]
[null,{"$f":"IF($C$4>5,\"Site Name\",\"\")","v":""},null,null,{"$f":"IF($C$4>5,\"Dryers, Hot Screens, Mixer\",\"\")","v":""},null,null,{"$f":"IF($C$4>5,\"(tons/hr)\",\"\")","v":""},{"$f":"IF($C$4>5,\"(tons/yr)\",\"\")","v":""},"PM2.5","PM10"]
[null,{"$f":"IF($C$4>5,\"County:\",\"\")","v":""},null,null,{"$f":"IF(C100=\"\",\"\",\"AP-3 EP-1\")","v":""},{"$f":"IF(C100=\"\",\"\",\"AP-3 EU-1\")","v":""},{"$f":"IF(C100=\"\",\"\",C5 & \" - \"&C100)","v":""},null,null,{"$f":"IF(C101=\"\",\"\",IF(C101=\"yes\",LOOKUP(G98,'Emission Factors'!$A$12:$A$17,'Emission Factors'!$D$12:$D$17),LOOKUP(G98,'Emission Factors'!$A$5:$A$10,'Emission Factors'!$D$5:$D$10)))","v":""},{"$f":"IF(C101=\"\",\"\",IF(C101=\"yes\",LOOKUP(G98,'Emission Factors'!$A$12:$A$17,'Emission Factors'!$F$12:$F$17),LOOKUP(G98,'Emission Factors'!$A$5:$A$10,'Emission Factors'!$F$5:$F$10)))","v":""}]
[null,{"$f":"IF($C$4>5,\"Production Period (Dates):\",\"\")","v":""},null,null,{"$f":"IF($C$4>5,\"Liquid Asphalt Heater\",\"\")","v":""},null,null,{"$f":"IF($C$4>5,IF(C100=\"natural gas\",\"(MMCF/hr)\",\"(gallons/hr)\"),\"\")","v":""},{"$f":"IF($C$4>5,IF(C100=\"natural gas\",\"(MMCF/yr)\",\"(gallons/yr)\"),\"\")","v":""}]
[null,{"$f":"IF($C$4>5,\"Type of Fuel Used:\",\"\")","v":""},null,null,{"$f":"IF(C100=\"\",\"\",\"AP-3 EP-2\")","v":""},{"$f":"IF(C100=\"\",\"\",\"AP-3 EU-2\")","v":""},{"$f":"IF(C100=\"\",\"\",C100& \" Fired Heater\")","v":""}]
[null,{"$f":"IF($C$4>5,\"Is Your Operation Controlled?:\",\"\")","v":""},null,null,{"$f":"IF($C$4>5,\"Silo Filling, Truck Loadout, Aggregate Transfer\",\"\")","v":""},null,null,{"$f":"IF($C$4>5,\"(tons/hr)\",\"\")","v":""},{"$f":"IF($C$4>5,\"(tons/yr)\",\"\")","v":""}]
[null,null,null,null,{"$f":"IF($C$4>5,\"AP-3 EP-3\",\"\")","v":""},{"$f":"IF($C$4>5,\"AP-3 EU-3\",\"\")","v":""},{"$f":"IF($C$4>5,\"Silo Filling\",\"\")","v":""}]
[null,null,null,null,{"$f":"IF($C$4>5,\"AP-3 EP-3\",\"\")","v":""},{"$f":"IF($C$4>5,\"AP-3 EU-4\",\"\")","v":""},{"$f":"IF($C$4>5,\"Truck Loadout\",\"\")","v":""}]
[null,null,null,null,{"$f":"IF($C$4>5,\"AP-3 EP-3\",\"\")","v":""},{"$f":"IF($C$4>5,\"AP-3 EU-5\",\"\")","v":""},{"$f":"IF($C$4>5,\"Cold Aggregate Bins\",\"\")","v":""}]
[]
[null,null,null,null,{"$f":"IF($C$4>5,\"Stock Pile Area\",\"\")","v":""}]
[null,null,null,null,null,{"$f":"IF($C$4>5,\"Emission Unit #\",\"\")","v":""},{"$f":"IF($C$4>5,\"Maximum Storage Area (acres)\",\"\")","v":""},{"$f":"IF($C$4>5,\"Actual Storage Area (acres)\",\"\")","v":""},{"$f":"IF($C$4>5,\"Actual Days in Existence (days)\",\"\")","v":""}]
[]
[]
[null,{"$f":"IF($C$4>6,\"Asphalt Plant\",\"\")","v":""},{"$f":"IF($C$4>6,\"Site 7\",\"\")","v":""},null,{"$f":"IF($C$4>6,\"Emission Point #\",\"\")","v":""},{"$f":"IF($C$4>6,\"Emission    Unit #\",\"\")","v":""},{"$f":"IF($C$4>6,\"Process\",\"\")","v":""},{"$f":"IF($C$4>6,\"Maximum Hourly     Design Rate\",\"\")","v":""},{"$f":"IF($C$4>6,('Facility Information'!G95&\" Annual Throughput\"),\"\")","v":""}]
[]
[null,{"$f":"IF($C$4>6,\"Site Name\",\"\")","v":""},null,null,{"$f":"IF($C$4>6,\"Dryers, Hot Screens, Mixer\",\"\")","v":""},null,null,{"$f":"IF($C$4>6,\"(tons/hr)\",\"\")","v":""},{"$f":"IF($C$4>6,\"(tons/yr)\",\"\")","v":""},"PM2.5","PM10"]
[null,{"$f":"IF($C$4>6,\"County:\",\"\")","v":""},null,null,{"$f":"IF(C115=\"\",\"\",\"AP-3 EP-1\")","v":""},{"$f":"IF(C115=\"\",\"\",\"AP-3 EU-1\")","v":""},{"$f":"IF(C115=\"\",\"\",C5 & \" - \"&C115)","v":""},null,null,{"$f":"IF(C116=\"\",\"\",IF(C116=\"yes\",LOOKUP(G113,'Emission Factors'!$A$12:$A$17,'Emission Factors'!$D$12:$D$17),LOOKUP(G113,'Emission Factors'!$A$5:$A$10,'Emission Factors'!$D$5:$D$10)))","v":""},{"$f":"IF(C116=\"\",\"\",IF(C116=\"yes\",LOOKUP(G113,'Emission Factors'!$A$12:$A$17,'Emission Factors'!$F$12:$F$17),LOOKUP(G113,'Emission Factors'!$A$5:$A$10,'Emission Factors'!$F$5:$F$10)))","v":""}]
[null,{"$f":"IF($C$4>6,\"Production Period (Dates):\",\"\")","v":""},null,null,{"$f":"IF($C$4>6,\"Liquid Asphalt Heater\",\"\")","v":""},null,null,{"$f":"IF($C$4>6,IF(C115=\"natural gas\",\"(MMCF/hr)\",\"(gallons/hr)\"),\"\")","v":""},{"$f":"IF($C$4>6,IF(C115=\"natural gas\",\"(MMCF/yr)\",\"(gallons/yr)\"),\"\")","v":""}]
[null,{"$f":"IF($C$4>6,\"Type of Fuel Used:\",\"\")","v":""},null,null,{"$f":"IF(C115=\"\",\"\",\"AP-3 EP-2\")","v":""},{"$f":"IF(C115=\"\",\"\",\"AP-3 EU-2\")","v":""},{"$f":"IF(C115=\"\",\"\",C115& \" Fired Heater\")","v":""}]
[null,{"$f":"IF($C$4>6,\"Is Your Operation Controlled?:\",\"\")","v":""},null,null,{"$f":"IF($C$4>6,\"Silo Filling, Truck Loadout, Aggregate Transfer\",\"\")","v":""},null,null,{"$f":"IF($C$4>6,\"(tons/hr)\",\"\")","v":""},{"$f":"IF($C$4>6,\"(tons/yr)\",\"\")","v":""}]
[null,null,null,null,{"$f":"IF($C$4>6,\"AP-3 EP-3\",\"\")","v":""},{"$f":"IF($C$4>6,\"AP-3 EU-3\",\"\")","v":""},{"$f":"IF($C$4>6,\"Silo Filling\",\"\")","v":""}]
[null,null,null,null,{"$f":"IF($C$4>6,\"AP-3 EP-3\",\"\")","v":""},{"$f":"IF($C$4>6,\"AP-3 EU-4\",\"\")","v":""},{"$f":"IF($C$4>6,\"Truck Loadout\",\"\")","v":""}]
[null,null,null,null,{"$f":"IF($C$4>6,\"AP-3 EP-3\",\"\")","v":""},{"$f":"IF($C$4>6,\"AP-3 EU-5\",\"\")","v":""},{"$f":"IF($C$4>6,\"Cold Aggregate Bins\",\"\")","v":""}]
[]
[null,null,null,null,{"$f":"IF($C$4>6,\"Stock Pile Area\",\"\")","v":""}]
[null,null,null,null,null,{"$f":"IF($C$4>6,\"Emission Unit #\",\"\")","v":""},{"$f":"IF($C$4>6,\"Maximum Storage Area (acres)\",\"\")","v":""},{"$f":"IF($C$4>6,\"Actual Storage Area (acres)\",\"\")","v":""},{"$f":"IF($C$4>6,\"Actual Days in Existence (days)\",\"\")","v":""}]
[]
[]
[null,{"$f":"IF($C$4>7,\"Asphalt Plant\",\"\")","v":""},{"$f":"IF($C$4>7,\"Site 8\",\"\")","v":""},null,{"$f":"IF($C$4>7,\"Emission Point #\",\"\")","v":""},{"$f":"IF($C$4>7,\"Emission    Unit #\",\"\")","v":""},{"$f":"IF($C$4>7,\"Process\",\"\")","v":""},{"$f":"IF($C$4>7,\"Maximum Hourly     Design Rate\",\"\")","v":""},{"$f":"IF($C$4>7,('Facility Information'!G110&\" Annual Throughput\"),\"\")","v":""}]
[]
[null,{"$f":"IF($C$4>7,\"Site Name\",\"\")","v":""},null,null,{"$f":"IF($C$4>7,\"Dryers, Hot Screens, Mixer\",\"\")","v":""},null,null,{"$f":"IF($C$4>7,\"(tons/hr)\",\"\")","v":""},{"$f":"IF($C$4>7,\"(tons/yr)\",\"\")","v":""},"PM2.5","PM10"]
[null,{"$f":"IF($C$4>7,\"County:\",\"\")","v":""},null,null,{"$f":"IF(C130=\"\",\"\",\"AP-3 EP-1\")","v":""},{"$f":"IF(C130=\"\",\"\",\"AP-3 EU-1\")","v":""},{"$f":"IF(C130=\"\",\"\",C5 & \" - \"&C130)","v":""},null,null,{"$f":"IF(C131=\"\",\"\",IF(C131=\"yes\",LOOKUP(G128,'Emission Factors'!$A$12:$A$17,'Emission Factors'!$D$12:$D$17),LOOKUP(G128,'Emission Factors'!$A$5:$A$10,'Emission Factors'!$D$5:$D$10)))","v":""},{"$f":"IF(C131=\"\",\"\",IF(C131=\"yes\",LOOKUP(G128,'Emission Factors'!$A$12:$A$17,'Emission Factors'!$F$12:$F$17),LOOKUP(G128,'Emission Factors'!$A$5:$A$10,'Emission Factors'!$F$5:$F$10)))","v":""}]
[null,{"$f":"IF($C$4>7,\"Production Period (Dates):\",\"\")","v":""},null,null,{"$f":"IF($C$4>7,\"Liquid Asphalt Heater\",\"\")","v":""},null,null,{"$f":"IF($C$4>7,IF(C130=\"natural gas\",\"(MMCF/hr)\",\"(gallons/hr)\"),\"\")","v":""},{"$f":"IF($C$4>7,IF(C130=\"natural gas\",\"(MMCF/yr)\",\"(gallons/yr)\"),\"\")","v":""}]
[null,{"$f":"IF($C$4>7,\"Type of Fuel Used:\",\"\")","v":""},null,null,{"$f":"IF(C130=\"\",\"\",\"AP-3 EP-2\")","v":""},{"$f":"IF(C130=\"\",\"\",\"AP-3 EU-2\")","v":""},{"$f":"IF(C130=\"\",\"\",C130& \" Fired Heater\")","v":""}]
[null,{"$f":"IF($C$4>7,\"Is Your Operation Controlled?:\",\"\")","v":""},null,null,{"$f":"IF($C$4>7,\"Silo Filling, Truck Loadout, Aggregate Transfer\",\"\")","v":""},null,null,{"$f":"IF($C$4>7,\"(tons/hr)\",\"\")","v":""},{"$f":"IF($C$4>7,\"(tons/yr)\",\"\")","v":""}]
[null,null,null,null,{"$f":"IF($C$4>7,\"AP-3 EP-3\",\"\")","v":""},{"$f":"IF($C$4>7,\"AP-3 EU-3\",\"\")","v":""},{"$f":"IF($C$4>7,\"Silo Filling\",\"\")","v":""}]
[null,null,null,null,{"$f":"IF($C$4>7,\"AP-3 EP-3\",\"\")","v":""},{"$f":"IF($C$4>7,\"AP-3 EU-4\",\"\")","v":""},{"$f":"IF($C$4>7,\"Truck Loadout\",\"\")","v":""}]
[null,null,null,null,{"$f":"IF($C$4>7,\"AP-3 EP-3\",\"\")","v":""},{"$f":"IF($C$4>7,\"AP-3 EU-5\",\"\")","v":""},{"$f":"IF($C$4>7,\"Cold Aggregate Bins\",\"\")","v":""}]
[]
[null,null,null,null,{"$f":"IF($C$4>7,\"Stock Pile Area\",\"\")","v":""}]
[null,null,null,null,null,{"$f":"IF($C$4>7,\"Emission Unit #\",\"\")","v":""},{"$f":"IF($C$4>7,\"Maximum Storage Area (acres)\",\"\")","v":""},{"$f":"IF($C$4>7,\"Actual Storage Area (acres)\",\"\")","v":""},{"$f":"IF($C$4>7,\"Actual Days in Existence (days)\",\"\")","v":""}]
[]
[]
[null,{"$f":"IF($C$4>8,\"Asphalt Plant\",\"\")","v":""},{"$f":"IF($C$4>8,\"Site 9\",\"\")","v":""},null,{"$f":"IF($C$4>8,\"Emission Point #\",\"\")","v":""},{"$f":"IF($C$4>8,\"Emission    Unit #\",\"\")","v":""},{"$f":"IF($C$4>8,\"Process\",\"\")","v":""},{"$f":"IF($C$4>8,\"Maximum Hourly     Design Rate\",\"\")","v":""},{"$f":"IF($C$4>8,('Facility Information'!G125&\" Annual Throughput\"),\"\")","v":""}]
[]
[null,{"$f":"IF($C$4>8,\"Site Name\",\"\")","v":""},null,null,{"$f":"IF($C$4>8,\"Dryers, Hot Screens, Mixer\",\"\")","v":""},null,null,{"$f":"IF($C$4>8,\"(tons/hr)\",\"\")","v":""},{"$f":"IF($C$4>8,\"(tons/yr)\",\"\")","v":""},"PM2.5","PM10"]
[null,{"$f":"IF($C$4>8,\"County:\",\"\")","v":""},null,null,{"$f":"IF(C145=\"\",\"\",\"AP-3 EP-1\")","v":""},{"$f":"IF(C145=\"\",\"\",\"AP-3 EU-1\")","v":""},{"$f":"IF(C145=\"\",\"\",C5 & \" - \"&C145)","v":""},null,null,{"$f":"IF(C146=\"\",\"\",IF(C146=\"yes\",LOOKUP(G143,'Emission Factors'!$A$12:$A$17,'Emission Factors'!$D$12:$D$17),LOOKUP(G143,'Emission Factors'!$A$5:$A$10,'Emission Factors'!$D$5:$D$10)))","v":""},{"$f":"IF(C146=\"\",\"\",IF(C146=\"yes\",LOOKUP(G143,'Emission Factors'!$A$12:$A$17,'Emission Factors'!$F$12:$F$17),LOOKUP(G143,'Emission Factors'!$A$5:$A$10,'Emission Factors'!$F$5:$F$10)))","v":""}]
[null,{"$f":"IF($C$4>8,\"Production Period (Dates):\",\"\")","v":""},null,null,{"$f":"IF($C$4>8,\"Liquid Asphalt Heater\",\"\")","v":""},null,null,{"$f":"IF($C$4>8,IF(C145=\"natural gas\",\"(MMCF/hr)\",\"(gallons/hr)\"),\"\")","v":""},{"$f":"IF($C$4>8,IF(C145=\"natural gas\",\"(MMCF/yr)\",\"(gallons/yr)\"),\"\")","v":""}]
[null,{"$f":"IF($C$4>8,\"Type of Fuel Used:\",\"\")","v":""},null,null,{"$f":"IF(C145=\"\",\"\",\"AP-3 EP-2\")","v":""},{"$f":"IF(C145=\"\",\"\",\"AP-3 EU-2\")","v":""},{"$f":"IF(C145=\"\",\"\",C145& \" Fired Heater\")","v":""}]
[null,{"$f":"IF($C$4>8,\"Is Your Operation Controlled?:\",\"\")","v":""},null,null,{"$f":"IF($C$4>8,\"Silo Filling, Truck Loadout, Aggregate Transfer\",\"\")","v":""},null,null,{"$f":"IF($C$4>8,\"(tons/hr)\",\"\")","v":""},{"$f":"IF($C$4>8,\"(tons/yr)\",\"\")","v":""}]
[null,null,null,null,{"$f":"IF($C$4>8,\"AP-3 EP-3\",\"\")","v":""},{"$f":"IF($C$4>8,\"AP-3 EU-3\",\"\")","v":""},{"$f":"IF($C$4>8,\"Silo Filling\",\"\")","v":""}]
[null,null,null,null,{"$f":"IF($C$4>8,\"AP-3 EP-3\",\"\")","v":""},{"$f":"IF($C$4>8,\"AP-3 EU-4\",\"\")","v":""},{"$f":"IF($C$4>8,\"Truck Loadout\",\"\")","v":""}]
[null,null,null,null,{"$f":"IF($C$4>8,\"AP-3 EP-3\",\"\")","v":""},{"$f":"IF($C$4>8,\"AP-3 EU-5\",\"\")","v":""},{"$f":"IF($C$4>8,\"Cold Aggregate Bins\",\"\")","v":""}]
[]
[null,null,null,null,{"$f":"IF($C$4>8,\"Stock Pile Area\",\"\")","v":""}]
[null,null,null,null,null,{"$f":"IF($C$4>8,\"Emission Unit #\",\"\")","v":""},{"$f":"IF($C$4>8,\"Maximum Storage Area (acres)\",\"\")","v":""},{"$f":"IF($C$4>8,\"Actual Storage Area (acres)\",\"\")","v":""},{"$f":"IF($C$4>8,\"Actual Days in Existence (days)\",\"\")","v":""}]
[]
[]
[null,{"$f":"IF($C$4>9,\"Asphalt Plant\",\"\")","v":""},{"$f":"IF($C$4>9,\"Site 10\",\"\")","v":""},null,{"$f":"IF($C$4>9,\"Emission Point #\",\"\")","v":""},{"$f":"IF($C$4>9,\"Emission    Unit #\",\"\")","v":""},{"$f":"IF($C$4>9,\"Process\",\"\")","v":""},{"$f":"IF($C$4>9,\"Maximum Hourly     Design Rate\",\"\")","v":""},{"$f":"IF($C$4>9,('Facility Information'!G140&\" Annual Throughput\"),\"\")","v":""}]
[]
[null,{"$f":"IF($C$4>9,\"Site Name\",\"\")","v":""},null,null,{"$f":"IF($C$4>9,\"Dryers, Hot Screens, Mixer\",\"\")","v":""},null,null,{"$f":"IF($C$4>9,\"(tons/hr)\",\"\")","v":""},{"$f":"IF($C$4>9,\"(tons/yr)\",\"\")","v":""},"PM2.5","PM10"]
[null,{"$f":"IF($C$4>9,\"County:\",\"\")","v":""},null,null,{"$f":"IF(C160=\"\",\"\",\"AP-3 EP-1\")","v":""},{"$f":"IF(C160=\"\",\"\",\"AP-3 EU-1\")","v":""},{"$f":"IF(C160=\"\",\"\",C5 & \" - \"&C160)","v":""},null,null,{"$f":"IF(C161=\"\",\"\",IF(C161=\"yes\",LOOKUP(G158,'Emission Factors'!$A$12:$A$17,'Emission Factors'!$D$12:$D$17),LOOKUP(G158,'Emission Factors'!$A$5:$A$10,'Emission Factors'!$D$5:$D$10)))","v":""},{"$f":"IF(C161=\"\",\"\",IF(C161=\"yes\",LOOKUP(G158,'Emission Factors'!$A$12:$A$17,'Emission Factors'!$F$12:$F$17),LOOKUP(G158,'Emission Factors'!$A$5:$A$10,'Emission Factors'!$F$5:$F$10)))","v":""}]
[null,{"$f":"IF($C$4>9,\"Production Period (Dates):\",\"\")","v":""},null,null,{"$f":"IF($C$4>9,\"Liquid Asphalt Heater\",\"\")","v":""},null,null,{"$f":"IF($C$4>9,IF(C160=\"natural gas\",\"(MMCF/hr)\",\"(gallons/hr)\"),\"\")","v":""},{"$f":"IF($C$4>9,IF(C160=\"natural gas\",\"(MMCF/yr)\",\"(gallons/yr)\"),\"\")","v":""}]
[null,{"$f":"IF($C$4>9,\"Type of Fuel Used:\",\"\")","v":""},null,null,{"$f":"IF(C160=\"\",\"\",\"AP-3 EP-2\")","v":""},{"$f":"IF(C160=\"\",\"\",\"AP-3 EU-2\")","v":""},{"$f":"IF(C160=\"\",\"\",C160& \" Fired Heater\")","v":""}]
[null,{"$f":"IF($C$4>9,\"Is Your Operation Controlled?:\",\"\")","v":""},null,null,{"$f":"IF($C$4>9,\"Silo Filling, Truck Loadout, Aggregate Transfer\",\"\")","v":""},null,null,{"$f":"IF($C$4>9,\"(tons/hr)\",\"\")","v":""},{"$f":"IF($C$4>9,\"(tons/yr)\",\"\")","v":""}]
[null,null,null,null,{"$f":"IF($C$4>9,\"AP-3 EP-3\",\"\")","v":""},{"$f":"IF($C$4>9,\"AP-3 EU-3\",\"\")","v":""},{"$f":"IF($C$4>9,\"Silo Filling\",\"\")","v":""}]
[null,null,null,null,{"$f":"IF($C$4>9,\"AP-3 EP-3\",\"\")","v":""},{"$f":"IF($C$4>9,\"AP-3 EU-4\",\"\")","v":""},{"$f":"IF($C$4>9,\"Truck Loadout\",\"\")","v":""}]
[null,null,null,null,{"$f":"IF($C$4>9,\"AP-3 EP-3\",\"\")","v":""},{"$f":"IF($C$4>9,\"AP-3 EU-5\",\"\")","v":""},{"$f":"IF($C$4>9,\"Cold Aggregate Bins\",\"\")","v":""}]
[]
[null,null,null,null,{"$f":"IF($C$4>9,\"Stock Pile Area\",\"\")","v":""}]
[null,null,null,null,null,{"$f":"IF($C$4>9,\"Emission Unit #\",\"\")","v":""},{"$f":"IF($C$4>9,\"Maximum Storage Area (acres)\",\"\")","v":""},{"$f":"IF($C$4>9,\"Actual Storage Area (acres)\",\"\")","v":""},{"$f":"IF($C$4>9,\"Actual Days in Existence (days)\",\"\")","v":""}]

{"sheet":"Asphalt Plant (AP-4)","index":4,"n_rows":167,"n_cols":20,"rows_kept":167,"cut":false,"hidden":true,"merged":[[156,4,156,6],[158,4,158,6],[160,4,160,6],[139,7,140,7],[139,8,140,8],[141,4,141,6],[143,4,143,6],[145,4,145,6],[154,4,155,4],[154,5,155,5],[154,6,155,6],[154,7,155,7],[154,8,155,8],[126,4,126,6],[128,4,128,6],[130,4,130,6],[139,4,140,4],[139,5,140,5],[139,6,140,6],[109,7,110,7],[109,8,110,8],[111,4,111,6],[113,4,113,6],[115,4,115,6],[124,4,125,4],[124,5,125,5],[124,6,125,6],[124,7,125,7],[124,8,125,8],[96,4,96,6],[98,4,98,6],[100,4,100,6],[109,4,110,4],[109,5,110,5],[109,6,110,6],[79,7,80,7],[79,8,80,8],[81,4,81,6],[83,4,83,6],[85,4,85,6],[94,4,95,4],[94,5,95,5],[94,6,95,6],[94,7,95,7],[94,8,95,8],[66,4,66,6],[68,4,68,6],[70,4,70,6],[79,4,80,4],[79,5,80,5],[79,6,80,6],[49,8,50,8],[51,4,51,6],[53,4,53,6],[55,4,55,6],[64,4,65,4],[64,5,65,5],[64,6,65,6],[64,7,65,7],[64,8,65,8],[38,4,38,6],[40,4,40,6],[49,4,50,4],[49,5,50,5],[49,6,50,6],[49,7,50,7],[34,15,35,15],[34,16,35,16],[34,17,35,17],[34,18,35,18],[34,19,35,19],[36,4,36,6],[34,4,35,4],[34,5,35,5],[34,6,35,6],[34,7,35,7],[34,8,35,8],[34,14,35,14],[18,17,19,17],[18,18,19,18],[18,19,19,19],[19,4,20,4],[19,5,20,5],[19,6,20,6],[19,7,20,7],[19,8,20,8],[2,15,3,15],[2,16,3,16],[3,17,4,19],[12,1,14,2],[13,14,13,15],[14,14,14,15],[18,13,19,13],[18,14,19,14],[18,15,19,15],[18,16,19,16],[0,1,0,2],[1,1,1,2],[1,7,1,8],[2,12,3,12],[2,13,3,13],[2,14,3,14]]}
[null,"ASPHALT PLANT (AP-4)"]
[null,"Please fill in the yellow boxes as applicable for your facility. ",null,null,null,null,null,"Values used for calculating emissions →",null,null,null,null,"Values Used to Calculate Potential and Actual Emissions for the Listed Processes at this Plant"]
[null,null,null,null,null,null,null,null,null,null,null,null,"Process","Maximum Design Rate","Units","Actual throughput","Units"]
[null,{"$f":"\"Number of Sites this Plant operated at in \"&'Facility Information'!G5&\":\"","v":"Number of Sites this Plant operated at in :"},null,null,null,null,null,null,null,null,null,null,null,null,null,null,null,"** As of 2016 Potential Emissions are no longer required to be reported in the Minor Source Emissions Inventory**"]
[null,"Plant Type:",null,null,null,null,null,null,null,null,null,null,{"$f":"$C$5 & \" - Fuel Oil\"","v":" - Fuel Oil"},{"$f":"MAX((IFERROR(OFFSET($G$22,MATCH(M5,$G$23,0),1),0)),((IFERROR(OFFSET($G$37,MATCH(M5,$G$38,0),1),0))),((IFERROR(OFFSET($G$52,MATCH(M5,$G$53,0),1),0))),((IFERROR(OFFSET($G$67,MATCH(M5,$G$68,0),1),0))),((IFERROR(OFFSET($G$82,MATCH(M5,$G$83,0),1),0))),((IFERROR(OFFSET($G$97,MATCH(M5,$G$98,0),1),0))),((IFERROR(OFFSET($G$112,MATCH(M5,$G$113,0),1),0))),((IFERROR(OFFSET($G$127,MATCH(M5,$G$128,0),1),0))),((IFERROR(OFFSET($G$142,MATCH(M5,$G$143,0),1),0))),((IFERROR(OFFSET($G$157,MATCH(M5,$G$158,0),1),0))))","v":0},"tons/hr",{"$f":"SUM((IFERROR(OFFSET($G$22,MATCH(M5,$G$23,0),2),0)),((IFERROR(OFFSET($G$37,MATCH(M5,$G$38,0),2),0))),((IFERROR(OFFSET($G$52,MATCH(M5,$G$53,0),2),0))),((IFERROR(OFFSET($G$67,MATCH(M5,$G$68,0),2),0))),((IFERROR(OFFSET($G$82,MATCH(M5,$G$83,0),2),0))),((IFERROR(OFFSET($G$97,MATCH(M5,$G$98,0),2),0))),((IFERROR(OFFSET($G$112,MATCH(M5,$G$113,0),2),0))),((IFERROR(OFFSET($G$127,MATCH(M5,$G$128,0),2),0))),((IFERROR(OFFSET($G$142,MATCH(M5,$G$143,0),2),0))),((IFERROR(OFFSET($G$157,MATCH(M5,$G$158,0),2),0))))","v":0},"tons/yr"]
[null,null,null,null,null,null,null,null,null,null,null,null,{"$f":"$C$5 & \" - Waste Oil\"","v":" - Waste Oil"},{"$f":"MAX((IFERROR(OFFSET($G$22,MATCH(M6,$G$23,0),1),0)),((IFERROR(OFFSET($G$37,MATCH(M6,$G$38,0),1),0))),((IFERROR(OFFSET($G$52,MATCH(M6,$G$53,0),1),0))),((IFERROR(OFFSET($G$67,MATCH(M6,$G$68,0),1),0))),((IFERROR(OFFSET($G$82,MATCH(M6,$G$83,0),1),0))),((IFERROR(OFFSET($G$97,MATCH(M6,$G$98,0),1),0))),((IFERROR(OFFSET($G$112,MATCH(M6,$G$113,0),1),0))),((IFERROR(OFFSET($G$127,MATCH(M6,$G$128,0),1),0))),((IFERROR(OFFSET($G$142,MATCH(M6,$G$143,0),1),0))),((IFERROR(OFFSET($G$157,MATCH(M6,$G$158,0),1),0))))","v":0},"tons/hr",{"$f":"SUM((IFERROR(OFFSET($G$22,MATCH(M6,$G$23,0),2),0)),((IFERROR(OFFSET($G$37,MATCH(M6,$G$38,0),2),0))),((IFERROR(OFFSET($G$52,MATCH(M6,$G$53,0),2),0))),((IFERROR(OFFSET($G$67,MATCH(M6,$G$68,0),2),0))),((IFERROR(OFFSET($G$82,MATCH(M6,$G$83,0),2),0))),((IFERROR(OFFSET($G$97,MATCH(M6,$G$98,0),2),0))),((IFERROR(OFFSET($G$112,MATCH(M6,$G$113,0),2),0))),((IFERROR(OFFSET($G$127,MATCH(M6,$G$128,0),2),0))),((IFERROR(OFFSET($G$142,MATCH(M6,$G$143,0),2),0))),((IFERROR(OFFSET($G$157,MATCH(M6,$G$158,0),2),0))))","v":0},"tons/yr"]
[null,"Plant Specific Permit Number: ",null,null,null,null,null,null,null,null,null,null,{"$f":"$C$5 & \" - Natural Gas\"","v":" - Natural Gas"},{"$f":"MAX((IFERROR(OFFSET($G$22,MATCH(M7,$G$23,0),1),0)),((IFERROR(OFFSET($G$37,MATCH(M7,$G$38,0),1),0))),((IFERROR(OFFSET($G$52,MATCH(M7,$G$53,0),1),0))),((IFERROR(OFFSET($G$67,MATCH(M7,$G$68,0),1),0))),((IFERROR(OFFSET($G$82,MATCH(M7,$G$83,0),1),0))),((IFERROR(OFFSET($G$97,MATCH(M7,$G$98,0),1),0))),((IFERROR(OFFSET($G$112,MATCH(M7,$G$113,0),1),0))),((IFERROR(OFFSET($G$127,MATCH(M7,$G$128,0),1),0))),((IFERROR(OFFSET($G$142,MATCH(M7,$G$143,0),1),0))),((IFERROR(OFFSET($G$157,MATCH(M7,$G$158,0),1),0))))","v":0},"tons/hr",{"$f":"SUM((IFERROR(OFFSET($G$22,MATCH(M7,$G$23,0),2),0)),((IFERROR(OFFSET($G$37,MATCH(M7,$G$38,0),2),0))),((IFERROR(OFFSET($G$52,MATCH(M7,$G$53,0),2),0))),((IFERROR(OFFSET($G$67,MATCH(M7,$G$68,0),2),0))),((IFERROR(OFFSET($G$82,MATCH(M7,$G$83,0),2),0))),((IFERROR(OFFSET($G$97,MATCH(M7,$G$98,0),2),0))),((IFERROR(OFFSET($G$112,MATCH(M7,$G$113,0),2),0))),((IFERROR(OFFSET($G$127,MATCH(M7,$G$128,0),2),0))),((IFERROR(OFFSET($G$142,MATCH(M7,$G$143,0),2),0))),((IFERROR(OFFSET($G$157,MATCH(M7,$G$158,0),2),0))))","v":0},"tons/yr"]
[null,null,null,null,null,null,null,null,null,null,null,null,"Fuel Oil Fired Heater",{"$f":"MAX((IFERROR(OFFSET($G$24,MATCH(\"Fuel Oil Fired Heater\",$G$25,0),1),0)),((IFERROR(OFFSET($G$39,MATCH(\"Fuel Oil Fired Heater\",$G$40,0),1),0))),((IFERROR(OFFSET($G$54,MATCH(\"Fuel Oil Fired Heater\",$G$55,0),1),0))),((IFERROR(OFFSET($G$69,MATCH(\"Fuel Oil Fired Heater\",$G$70,0),1),0))),((IFERROR(OFFSET($G$84,MATCH(\"Fuel Oil Fired Heater\",$G$85,0),1),0))),((IFERROR(OFFSET($G$99,MATCH(\"Fuel Oil Fired Heater\",$G$100,0),1),0))),((IFERROR(OFFSET($G$114,MATCH(\"Fuel Oil Fired Heater\",$G$115,0),1),0))),((IFERROR(OFFSET($G$129,MATCH(\"Fuel Oil Fired Heater\",$G$130,0),1),0))),((IFERROR(OFFSET($G$144,MATCH(\"Fuel Oil Fired Heater\",$G$145,0),1),0))),((IFERROR(OFFSET($G$159,MATCH(\"Fuel Oil Fired Heater\",$G$160,0),1),0))))","v":0},"gallons/hr",{"$f":"SUM((IFERROR(OFFSET($G$24,MATCH(\"Fuel Oil Fired Heater\",$G$25,0),2),0)),((IFERROR(OFFSET($G$39,MATCH(\"Fuel Oil Fired Heater\",$G$40,0),2),0))),((IFERROR(OFFSET($G$54,MATCH(\"Fuel Oil Fired Heater\",$G$55,0),2),0))),((IFERROR(OFFSET($G$69,MATCH(\"Fuel Oil Fired Heater\",$G$70,0),2),0))),((IFERROR(OFFSET($G$84,MATCH(\"Fuel Oil Fired Heater\",$G$85,0),2),0))),((IFERROR(OFFSET($G$99,MATCH(\"Fuel Oil Fired Heater\",$G$100,0),2),0))),((IFERROR(OFFSET($G$114,MATCH(\"Fuel Oil Fired Heater\",$G$115,0),2),0))),((IFERROR(OFFSET($G$129,MATCH(\"Fuel Oil Fired Heater\",$G$130,0),2),0))),((IFERROR(OFFSET($G$144,MATCH(\"Fuel Oil Fired Heater\",$G$145,0),2),0))),((IFERROR(OFFSET($G$159,MATCH(\"Fuel Oil Fired Heater\",$G$160,0),2),0))))","v":0},"gallons/yr"]
[null,"Plant Specific Operating Limits:",null,null,"Plant Specific Emission Limits:",null,null,null,null,null,null,null,"Waste Oil Fired Heater",{"$f":"MAX((IFERROR(OFFSET($G$24,MATCH(\"waste oil Fired Heater\",$G$25,0),1),0)),((IFERROR(OFFSET($G$39,MATCH(\"waste oil Fired Heater\",$G$40,0),1),0))),((IFERROR(OFFSET($G$54,MATCH(\"waste oil Fired Heater\",$G$55,0),1),0))),((IFERROR(OFFSET($G$69,MATCH(\"waste oil Fired Heater\",$G$70,0),1),0))),((IFERROR(OFFSET($G$84,MATCH(\"waste oil Fired Heater\",$G$85,0),1),0))),((IFERROR(OFFSET($G$99,MATCH(\"waste oil Fired Heater\",$G$100,0),1),0))),((IFERROR(OFFSET($G$114,MATCH(\"waste oil Fired Heater\",$G$115,0),1),0))),((IFERROR(OFFSET($G$129,MATCH(\"waste oil Fired Heater\",$G$130,0),1),0))),((IFERROR(OFFSET($G$144,MATCH(\"waste oil Fired Heater\",$G$145,0),1),0))),((IFERROR(OFFSET($G$159,MATCH(\"waste oil Fired Heater\",$G$160,0),1),0))))","v":0},"gallons/hr",{"$f":"SUM((IFERROR(OFFSET($G$24,MATCH(\"waste oil Fired Heater\",$G$25,0),2),0)),((IFERROR(OFFSET($G$39,MATCH(\"waste oil Fired Heater\",$G$40,0),2),0))),((IFERROR(OFFSET($G$54,MATCH(\"waste oil Fired Heater\",$G$55,0),2),0))),((IFERROR(OFFSET($G$69,MATCH(\"waste oil Fired Heater\",$G$70,0),2),0))),((IFERROR(OFFSET($G$84,MATCH(\"waste oil Fired Heater\",$G$85,0),2),0))),((IFERROR(OFFSET($G$99,MATCH(\"waste oil Fired Heater\",$G$100,0),2),0))),((IFERROR(OFFSET($G$114,MATCH(\"waste oil Fired Heater\",$G$115,0),2),0))),((IFERROR(OFFSET($G$129,MATCH(\"waste oil Fired Heater\",$G$130,0),2),0))),((IFERROR(OFFSET($G$144,MATCH(\"waste oil Fired Heater\",$G$145,0),2),0))),((IFERROR(OFFSET($G$159,MATCH(\"waste oil Fired Heater\",$G$160,0),2),0))))","v":0},"gallons/yr"]
[null,"Throughput Limit (tons/yr):",null,null,"Pollutant","lb/hr","tons/yr",null,null,null,null,null,"Natural Gas Fired Heater",{"$f":"MAX((IFERROR(OFFSET($G$24,MATCH(\"Natural Gas Fired Heater\",$G$25,0),1),0)),((IFERROR(OFFSET($G$39,MATCH(\"Natural Gas Fired Heater\",$G$40,0),1),0))),((IFERROR(OFFSET($G$54,MATCH(\"Natural Gas Fired Heater\",$G$55,0),1),0))),((IFERROR(OFFSET($G$69,MATCH(\"Natural Gas Fired Heater\",$G$70,0),1),0))),((IFERROR(OFFSET($G$84,MATCH(\"Natural Gas Fired Heater\",$G$85,0),1),0))),((IFERROR(OFFSET($G$99,MATCH(\"Natural Gas Fired Heater\",$G$100,0),1),0))),((IFERROR(OFFSET($G$114,MATCH(\"Natural Gas Fired Heater\",$G$115,0),1),0))),((IFERROR(OFFSET($G$129,MATCH(\"Natural Gas Fired Heater\",$G$130,0),1),0))),((IFERROR(OFFSET($G$144,MATCH(\"Natural Gas Fired Heater\",$G$145,0),1),0))),((IFERROR(OFFSET($G$159,MATCH(\"Natural Gas Fired Heater\",$G$160,0),1),0))))","v":0},"MMCF/hr",{"$f":"SUM((IFERROR(OFFSET($G$24,MATCH(\"Natural Gas Fired Heater\",$G$25,0),2),0)),((IFERROR(OFFSET($G$39,MATCH(\"Natural Gas Fired Heater\",$G$40,0),2),0))),((IFERROR(OFFSET($G$54,MATCH(\"Natural Gas Fired Heater\",$G$55,0),2),0))),((IFERROR(OFFSET($G$69,MATCH(\"Natural Gas Fired Heater\",$G$70,0),2),0))),((IFERROR(OFFSET($G$84,MATCH(\"Natural Gas Fired Heater\",$G$85,0),2),0))),((IFERROR(OFFSET($G$99,MATCH(\"Natural Gas Fired Heater\",$G$100,0),2),0))),((IFERROR(OFFSET($G$114,MATCH(\"Natural Gas Fired Heater\",$G$115,0),2),0))),((IFERROR(OFFSET($G$129,MATCH(\"Natural Gas Fired Heater\",$G$130,0),2),0))),((IFERROR(OFFSET($G$144,MATCH(\"Natural Gas Fired Heater\",$G$145,0),2),0))),((IFERROR(OFFSET($G$159,MATCH(\"Natural Gas Fired Heater\",$G$160,0),2),0))))","v":0},"MMCF/yr"]
[null,"Daily Throughput Limit (tons/day):",null,null,"PM2.5",null,null,null,null,null,null,null,"Silo Filling",{"$f":"MAX((IFERROR(OFFSET($G$26,MATCH(\"Silo Filling\",$G$27,0),1),0)),((IFERROR(OFFSET($G$41,MATCH(\"Silo Filling\",$G$42,0),1),0))),((IFERROR(OFFSET($G$56,MATCH(\"Silo Filling\",$G$57,0),1),0))),((IFERROR(OFFSET($G$71,MATCH(\"Silo Filling\",$G$72,0),1),0))),((IFERROR(OFFSET($G$86,MATCH(\"Silo Filling\",$G$87,0),1),0))),((IFERROR(OFFSET($G$101,MATCH(\"Silo Filling\",$G$102,0),1),0))),((IFERROR(OFFSET($G$116,MATCH(\"Silo Filling\",$G$117,0),1),0))),((IFERROR(OFFSET($G$131,MATCH(\"Silo Filling\",$G$132,0),1),0))),((IFERROR(OFFSET($G$146,MATCH(\"Silo Filling\",$G$147,0),1),0))),((IFERROR(OFFSET($G$161,MATCH(\"Silo Filling\",$G$162,0),1),0))))","v":0},"tons/hr",{"$f":"SUM((IFERROR(OFFSET($G$26,MATCH(\"Silo Filling\",$G$27,0),2),0)),((IFERROR(OFFSET($G$41,MATCH(\"Silo Filling\",$G$42,0),2),0))),((IFERROR(OFFSET($G$56,MATCH(\"Silo Filling\",$G$57,0),2),0))),((IFERROR(OFFSET($G$71,MATCH(\"Silo Filling\",$G$72,0),2),0))),((IFERROR(OFFSET($G$86,MATCH(\"Silo Filling\",$G$87,0),2),0))),((IFERROR(OFFSET($G$101,MATCH(\"Silo Filling\",$G$102,0),2),0))),((IFERROR(OFFSET($G$116,MATCH(\"Silo Filling\",$G$117,0),2),0))),((IFERROR(OFFSET($G$131,MATCH(\"Silo Filling\",$G$132,0),2),0))),((IFERROR(OFFSET($G$146,MATCH(\"Silo Filling\",$G$147,0),2),0))),((IFERROR(OFFSET($G$161,MATCH(\"Silo Filling\",$G$162,0),2),0))))","v":0},"tons/yr"]
[null,"Hours of Operation Limit (hours/day):",null,null,"PM10",null,null,null,null,null,null,null,"Truck Loadout",{"$f":"MAX((IFERROR(OFFSET(G27,MATCH(\"Truck Loadout\",G28,0),1),0)),((IFERROR(OFFSET(G42,MATCH(\"Truck Loadout\",G43,0),1),0))),((IFERROR(OFFSET(G57,MATCH(\"Truck Loadout\",G58,0),1),0))),((IFERROR(OFFSET(G72,MATCH(\"Truck Loadout\",G73,0),1),0))),((IFERROR(OFFSET(G87,MATCH(\"Truck Loadout\",G88,0),1),0))),((IFERROR(OFFSET(G102,MATCH(\"Truck Loadout\",G103,0),1),0))),((IFERROR(OFFSET(G117,MATCH(\"Truck Loadout\",G118,0),1),0))),((IFERROR(OFFSET(G132,MATCH(\"Truck Loadout\",G133,0),1),0))),((IFERROR(OFFSET(G147,MATCH(\"Truck Loadout\",G148,0),1),0))),((IFERROR(OFFSET(G162,MATCH(\"Truck Loadout\",G163,0),1),0))))","v":0},"tons/hr",{"$f":"SUM((IFERROR(OFFSET(G27,MATCH(\"Truck Loadout\",G28,0),2),0)),((IFERROR(OFFSET(G42,MATCH(\"Truck Loadout\",G43,0),2),0))),((IFERROR(OFFSET(G57,MATCH(\"Truck Loadout\",G58,0),2),0))),((IFERROR(OFFSET(G72,MATCH(\"Truck Loadout\",G73,0),2),0))),((IFERROR(OFFSET(G87,MATCH(\"Truck Loadout\",G88,0),2),0))),((IFERROR(OFFSET(G102,MATCH(\"Truck Loadout\",G103,0),2),0))),((IFERROR(OFFSET(G117,MATCH(\"Truck Loadout\",G118,0),2),0))),((IFERROR(OFFSET(G132,MATCH(\"Truck Loadout\",G133,0),2),0))),((IFERROR(OFFSET(G147,MATCH(\"Truck Loadout\",G148,0),2),0))),((IFERROR(OFFSET(G162,MATCH(\"Truck Loadout\",G163,0),2),0))))","v":0},"tons/yr"]
["Fuel Oil","Note: if the plant has an hrs/day and a tons/hr permit limit, those values should be multiplied together to calculate a tons/day limit and that value should be placed in cell C11.",null,null,"SO2",null,null,null,null,null,null,null,"Cold Aggregate Bins",{"$f":"MAX((IFERROR(OFFSET(G28,MATCH(\"Cold Aggregate Bins\",G29,0),1),0)),((IFERROR(OFFSET(G43,MATCH(\"Cold Aggregate Bins\",G44,0),1),0))),((IFERROR(OFFSET(G58,MATCH(\"Cold Aggregate Bins\",G59,0),1),0))),((IFERROR(OFFSET(G73,MATCH(\"Cold Aggregate Bins\",G74,0),1),0))),((IFERROR(OFFSET(G88,MATCH(\"Cold Aggregate Bins\",G89,0),1),0))),((IFERROR(OFFSET(G103,MATCH(\"Cold Aggregate Bins\",G104,0),1),0))),((IFERROR(OFFSET(G118,MATCH(\"Cold Aggregate Bins\",G119,0),1),0))),((IFERROR(OFFSET(G133,MATCH(\"Cold Aggregate Bins\",G134,0),1),0))),((IFERROR(OFFSET(G148,MATCH(\"Cold Aggregate Bins\",G149,0),1),0))),((IFERROR(OFFSET(G163,MATCH(\"Cold Aggregate Bins\",G164,0),1),0))))","v":0},"tons/hr",{"$f":"SUM((IFERROR(OFFSET(G28,MATCH(\"Cold Aggregate Bins\",G29,0),2),0)),((IFERROR(OFFSET(G43,MATCH(\"Cold Aggregate Bins\",G44,0),2),0))),((IFERROR(OFFSET(G58,MATCH(\"Cold Aggregate Bins\",G59,0),2),0))),((IFERROR(OFFSET(G73,MATCH(\"Cold Aggregate Bins\",G74,0),2),0))),((IFERROR(OFFSET(G88,MATCH(\"Cold Aggregate Bins\",G89,0),2),0))),((IFERROR(OFFSET(G103,MATCH(\"Cold Aggregate Bins\",G104,0),2),0))),((IFERROR(OFFSET(G118,MATCH(\"Cold Aggregate Bins\",G119,0),2),0))),((IFERROR(OFFSET(G133,MATCH(\"Cold Aggregate Bins\",G134,0),2),0))),((IFERROR(OFFSET(G148,MATCH(\"Cold Aggregate Bins\",G149,0),2),0))),((IFERROR(OFFSET(G163,MATCH(\"Cold Aggregate Bins\",G164,0),2),0))))","v":0},"tons/yr"]
["Natural Gas",null,null,null,"NOx",null,null,null,null,null,null,null,null,"Maximum (acres)","Actual (acres-day/yr)"]
["Waste Oil",null,null,null,"VOC",null,null,null,null,null,null,null,"Storage Pile",{"$f":"SUM(G33,G48,G63,G78,G93,G108,G123,G138,G153,G168,)","v":0},{"$f":"SUM(H33*I33,H48*I48,H63*I63,H78*I78,H93*I93,H108*I108,H123*I123,H138*I138,H153*I153,H168*I168)","v":0}]
[null,null,null,null,"CO"]
["Batch Mix Plant"]
["Drum Mix Plant",null,null,null,null,null,null,null,null,null,null,null,"Potential and Actual Emissions for the Listed Processes at this Plant"]
[null,null,null,null,null,null,null,null,null,null,null,null,null,"Maximum Design Rate (tons/hr)","Emission Factor","Units","Potential Uncontrolled Emissions (lb/hr)","Potential Controlled Emissions (lb/hr)","Potential Annual Emissions (tons/yr)","Actual Annual Emissions (tons/yr)"]
[null,"Asphalt Plant","Site 1",null,"Emission Point #","Emission     Unit #","Processes","Maximum Hourly     Design Rate",{"$f":"('Facility Information'!G5&\" Annual Throughput\")","v":" Annual Throughput"},null,null,null,"PM2.5"]
["YES",null,null,null,null,null,null,null,null,null,null,null,{"$f":"$C$5 & \" - Fuel Oil\"","v":" - Fuel Oil"},{"$f":"N5","v":0},{"$f":"IF(N21=0,0,IF(MAX((IFERROR(OFFSET($G$22,MATCH(M21,$G$23,0),3),0)),((IFERROR(OFFSET($G$37,MATCH(M21,$G$38,0),3),0))),((IFERROR(OFFSET($G$52,MATCH(M21,$G$53,0),3),0))),((IFERROR(OFFSET($G$67,MATCH(M21,$G$68,0),3),0))),((IFERROR(OFFSET($G$82,MATCH(M21,$G$83,0),3),0))),((IFERROR(OFFSET($G$97,MATCH(M21,$G$98,0),3),0))),((IFERROR(OFFSET($G$112,MATCH(M21,$G$113,0),3),0))),((IFERROR(OFFSET($G$127,MATCH(M21,$G$128,0),3),0))),((IFERROR(OFFSET($G$142,MATCH(M21,$G$143,0),3),0))),((IFERROR(OFFSET($G$157,MATCH(M21,$G$158,0),3),0))))=0,0,(MAX((IFERROR(OFFSET($G$22,MATCH(M21,$G$23,0),3),0)),((IFERROR(OFFSET($G$37,MATCH(M21,$G$38,0),3),0))),((IFERROR(OFFSET($G$52,MATCH(M21,$G$53,0),3),0))),((IFERROR(OFFSET($G$67,MATCH(M21,$G$68,0),3),0))),((IFERROR(OFFSET($G$82,MATCH(M21,$G$83,0),3),0))),((IFERROR(OFFSET($G$97,MATCH(M21,$G$98,0),3),0))),((IFERROR(OFFSET($G$112,MATCH(M21,$G$113,0),3),0))),((IFERROR(OFFSET($G$127,MATCH(M21,$G$128,0),3),0))),((IFERROR(OFFSET($G$142,MATCH(M21,$G$143,0),3),0))),((IFERROR(OFFSET($G$157,MATCH(M21,$G$158,0),3),0)))))))","v":0},{"$f":"IF(O21=\"\",\"\",\"lb/ton\")","v":"lb/ton"},{"$f":"IF(O21=0.27,N21*O21,IF(O21=1.54,N21*O21,\"\"))","v":""},{"$f":"IF(N21=0,\"\",IF(AND($F$11>0,$O$21>=$O$22,$O$21>=$O$23),$F$11,IF(O21=0.0083,N21*O21,IF(O21=0.007,N21*O21,\"\"))))","v":""},{"$f":"IF(N21=0,0,IF($G$11>0,$G$11,IF(AND(OR($C$10>0,$C$11>0,$C$12>0),$O$21>=$O$22,$O$21>=$O$23),(IF($C$10>0,$C$10*O21/2000,IF($C$11>0,$C$11*365*O21/2000,IF($C$12>0,$C$12*365*O21*N21/2000)))),IF(AND($F$11>0,$O$21>=$O$22,$O$21>=$O$23),$F$11*8760/2000,IF(AND(OR($C$10=\"\",$C$10=0),OR($C$11=\"\",$C$11=0),OR($C$12=\"\",$C$12=0),$F$11=\"\"),IF(R21=\"\",Q21*8760/2000,R21*8760/2000),\"\")))))","v":0},{"$f":"IF(N21=\"\",\"\",SUM((IFERROR(MATCH(M21,$G$23,0)*$I$23*$J$23/2000,0)),(IFERROR(MATCH(M21,$G$38,0)*$I$38*$J$38/2000,0)),(IFERROR(MATCH(M21,$G$53,0)*$I$53*$J$53/2000,0)),(IFERROR(MATCH(M21,$G$68,0)*$I$68*$J$68/2000,0)),(IFERROR(MATCH(M21,$G$83,0)*$I$83*$J$83/2000,0)),(IFERROR(MATCH(M21,$G$98,0)*$I$98*$J$98/2000,0)),(IFERROR(MATCH(M21,$G$113,0)*$I$113*$J$113/2000,0)),(IFERROR(MATCH(M21,$G$128,0)*$I$128*$J$128/2000,0)),(IFERROR(MATCH(M21,$G$143,0)*$I$143*$J$143/2000,0)),(IFERROR(MATCH(M21,$G$158,0)*$I$158*$J$158/2000,0))))","v":0}]
["NO","Site Name:",null,null,"Dryer, Hot Screens, Mixer",null,null,"(tons/hr)","(tons/yr)","PM2.5","PM10",null,{"$f":"$C$5 & \" - Waste Oil\"","v":" - Waste Oil"},{"$f":"N6","v":0},{"$f":"IF(N22=0,0,IF(MAX((IFERROR(OFFSET($G$22,MATCH(M22,$G$23,0),3),0)),((IFERROR(OFFSET($G$37,MATCH(M22,$G$38,0),3),0))),((IFERROR(OFFSET($G$52,MATCH(M22,$G$53,0),3),0))),((IFERROR(OFFSET($G$67,MATCH(M22,$G$68,0),3),0))),((IFERROR(OFFSET($G$82,MATCH(M22,$G$83,0),3),0))),((IFERROR(OFFSET($G$97,MATCH(M22,$G$98,0),3),0))),((IFERROR(OFFSET($G$112,MATCH(M22,$G$113,0),3),0))),((IFERROR(OFFSET($G$127,MATCH(M22,$G$128,0),3),0))),((IFERROR(OFFSET($G$142,MATCH(M22,$G$143,0),3),0))),((IFERROR(OFFSET($G$157,MATCH(M22,$G$158,0),3),0))))=0,0,(MAX((IFERROR(OFFSET($G$22,MATCH(M22,$G$23,0),3),0)),((IFERROR(OFFSET($G$37,MATCH(M22,$G$38,0),3),0))),((IFERROR(OFFSET($G$52,MATCH(M22,$G$53,0),3),0))),((IFERROR(OFFSET($G$67,MATCH(M22,$G$68,0),3),0))),((IFERROR(OFFSET($G$82,MATCH(M22,$G$83,0),3),0))),((IFERROR(OFFSET($G$97,MATCH(M22,$G$98,0),3),0))),((IFERROR(OFFSET($G$112,MATCH(M22,$G$113,0),3),0))),((IFERROR(OFFSET($G$127,MATCH(M22,$G$128,0),3),0))),((IFERROR(OFFSET($G$142,MATCH(M22,$G$143,0),3),0))),((IFERROR(OFFSET($G$157,MATCH(M22,$G$158,0),3),0)))))))","v":0},"lb/ton",{"$f":"IF(O22=0.27,N22*O22,IF(O22=1.54,N22*O22,\"\"))","v":""},{"$f":"IF(N22=0,\"\",IF(AND($F$11>0,$O$22>$O$21,$O$22>=$O$23),$F$11,IF(O22=0.0083,N22*O22,IF(O22=0.007,N22*O22,\"\"))))","v":""},{"$f":"IF(N22=0,0,IF($G$11>0,IF(S21=0,G11,\"\"),IF(AND(OR($C$10>0,$C$11>0,$C$12>0),$O$22>$O$21,$O$22>=$O$23),(IF($C$10>0,$C$10*O22/2000,IF($C$11>0,$C$11*365*O22/2000,IF($C$12>0,$C$12*365*O22*N22/2000)))),IF(AND($F$11>0,$O$22>$O$21,$O$22>=$O$23),$F$11*8760/2000,IF(AND(OR($C$10=\"\",$C$10=0),OR($C$11=\"\",$C$11=0),OR($C$12=\"\",$C$12=0),$F$11=\"\"),IF(R22=\"\",Q22*8760/2000,R22*8760/2000),\"\")))))","v":0},{"$f":"IF(N22=\"\",\"\",SUM((IFERROR(MATCH(M22,$G$23,0)*$I$23*$J$23/2000,0)),(IFERROR(MATCH(M22,$G$38,0)*$I$38*$J$38/2000,0)),(IFERROR(MATCH(M22,$G$53,0)*$I$53*$J$53/2000,0)),(IFERROR(MATCH(M22,$G$68,0)*$I$68*$J$68/2000,0)),(IFERROR(MATCH(M22,$G$83,0)*$I$83*$J$83/2000,0)),(IFERROR(MATCH(M22,$G$98,0)*$I$98*$J$98/2000,0)),(IFERROR(MATCH(M22,$G$113,0)*$I$113*$J$113/2000,0)),(IFERROR(MATCH(M22,$G$128,0)*$I$128*$J$128/2000,0)),(IFERROR(MATCH(M22,$G$143,0)*$I$143*$J$143/2000,0)),(IFERROR(MATCH(M22,$G$158,0)*$I$158*$J$158/2000,0))))","v":0}]
[null,"County:",null,null,{"$f":"IF($C$4>0,\"AP-4 EP-1\",\"\")","v":""},{"$f":"IF($C$4>0,\"AP-4 EU-1\",\"\")","v":""},{"$f":"IF(C25=\"\",\"\",C5 & \" - \"&C25)","v":""},null,null,{"$f":"IF(C26=\"\",\"\",IF(C26=\"yes\",LOOKUP(G23,'Emission Factors'!$A$12:$A$17,'Emission Factors'!$D$12:$D$17),LOOKUP(G23,'Emission Factors'!$A$5:$A$10,'Emission Factors'!$D$5:$D$10)))","v":""},{"$f":"IF(C26=\"\",\"\",IF(C26=\"yes\",LOOKUP(G23,'Emission Factors'!$A$12:$A$17,'Emission Factors'!$F$12:$F$17),LOOKUP(G23,'Emission Factors'!$A$5:$A$10,'Emission Factors'!$F$5:$F$10)))","v":""},null,{"$f":"$C$5 & \" - Natural Gas\"","v":" - Natural Gas"},{"$f":"N7","v":0},{"$f":"IF(N23=0,0,IF(MAX((IFERROR(OFFSET($G$22,MATCH(M23,$G$23,0),3),0)),((IFERROR(OFFSET($G$37,MATCH(M23,$G$38,0),3),0))),((IFERROR(OFFSET($G$52,MATCH(M23,$G$53,0),3),0))),((IFERROR(OFFSET($G$67,MATCH(M23,$G$68,0),3),0))),((IFERROR(OFFSET($G$82,MATCH(M23,$G$83,0),3),0))),((IFERROR(OFFSET($G$97,MATCH(M23,$G$98,0),3),0))),((IFERROR(OFFSET($G$112,MATCH(M23,$G$113,0),3),0))),((IFERROR(OFFSET($G$127,MATCH(M23,$G$128,0),3),0))),((IFERROR(OFFSET($G$142,MATCH(M23,$G$143,0),3),0))),((IFERROR(OFFSET($G$157,MATCH(M23,$G$158,0),3),0))))=0,0,(MAX((IFERROR(OFFSET($G$22,MATCH(M23,$G$23,0),3),0)),((IFERROR(OFFSET($G$37,MATCH(M23,$G$38,0),3),0))),((IFERROR(OFFSET($G$52,MATCH(M23,$G$53,0),3),0))),((IFERROR(OFFSET($G$67,MATCH(M23,$G$68,0),3),0))),((IFERROR(OFFSET($G$82,MATCH(M23,$G$83,0),3),0))),((IFERROR(OFFSET($G$97,MATCH(M23,$G$98,0),3),0))),((IFERROR(OFFSET($G$112,MATCH(M23,$G$113,0),3),0))),((IFERROR(OFFSET($G$127,MATCH(M23,$G$128,0),3),0))),((IFERROR(OFFSET($G$142,MATCH(M23,$G$143,0),3),0))),((IFERROR(OFFSET($G$157,MATCH(M23,$G$158,0),3),0)))))))","v":0},"lb/ton",{"$f":"IF(O23=0.27,N23*O23,IF(O23=1.54,N23*O23,\"\"))","v":""},{"$f":"IF(N23=0,\"\",IF(AND($F$11>0,$O$23>$O$21,$O$23>$O$21),$F$11,IF(O23=0.0083,N23*O23,IF(O23=0.007,N23*O23,\"\"))))","v":""},{"$f":"IF(N23=0,0,IF($G$11>0,IF(AND(S21=0,S22=0),\"\"),IF(AND(OR($C$10>0,$C$11>0,$C$12>0),$O$23>$O$21,$O$23>$O$21),(IF($C$10>0,$C$10*O23/2000,IF($C$11>0,$C$11*365*O23/2000,IF($C$12>0,$C$12*365*O23*N23/2000)))),IF(AND($F$11>0,$O$23>$O$21,$O$23>$O$21),$F$11*8760/2000,IF(AND(OR($C$10=\"\",$C$10=0),OR($C$11=\"\",$C$11=0),OR($C$12=\"\",$C$12=0),$F$11=\"\"),IF(R23=\"\",Q23*8760/2000,R23*8760/2000),\"\")))))","v":0},{"$f":"IF(N23=\"\",\"\",SUM((IFERROR(MATCH(M23,$G$23,0)*$I$23*$J$23/2000,0)),(IFERROR(MATCH(M23,$G$38,0)*$I$38*$J$38/2000,0)),(IFERROR(MATCH(M23,$G$53,0)*$I$53*$J$53/2000,0)),(IFERROR(MATCH(M23,$G$68,0)*$I$68*$J$68/2000,0)),(IFERROR(MATCH(M23,$G$83,0)*$I$83*$J$83/2000,0)),(IFERROR(MATCH(M23,$G$98,0)*$I$98*$J$98/2000,0)),(IFERROR(MATCH(M23,$G$113,0)*$I$113*$J$113/2000,0)),(IFERROR(MATCH(M23,$G$128,0)*$I$128*$J$128/2000,0)),(IFERROR(MATCH(M23,$G$143,0)*$I$143*$J$143/2000,0)),(IFERROR(MATCH(M23,$G$158,0)*$I$158*$J$158/2000,0))))","v":0}]
[null,"Production Period (Dates):",null,null,"Liquid Asphalt Heater",null,null,{"$f":"IF(C25=\"natural gas\", \"(MMCF/hr)\",\"(gallons/hr)\")","v":"(gallons/hr)"},{"$f":"IF(C25=\"natural gas\", \"(MMCF/yr)\",\"(gallons/yr)\")","v":"(gallons/yr)"},null,null,null,"Silo Filling",{"$f":"N11","v":0},{"$f":"IF(N24=0,0,IF(N24=0,0,LOOKUP(M24,'Emission Factors'!$A$23:$A$25,'Emission Factors'!$D$23:$D$25)))","v":0},"lb/ton",{"$f":"N24*O24","v":0},null,{"$f":"IF($G$11>0,\"\",IF($C$10>0,$C$10*O24/2000,IF($C$11>0,$C$11*365*O24/2000,IF($C$12>0,$C$12*365*O24*N24/2000,IF($F$11>0,\"\",IF(R24=\"\",Q24*8760/2000,R24*8760/2000))))))","v":0},{"$f":"(P11*O24/2000)","v":0}]
[null,"Type of Fuel Used:",null,null,{"$f":"IF($C$4>0,\"AP-4 EP-2\",\"\")","v":""},{"$f":"IF($C$4>0,\"AP-4 EU-2\",\"\")","v":""},{"$f":"IF(C25=\"\",\"\",C25& \" Fired Heater\")","v":""},null,null,null,null,null,"Truck Loadout",{"$f":"N12","v":0},{"$f":"IF(N25=0,0,IF(N25=0,0,LOOKUP(M25,'Emission Factors'!$A$23:$A$25,'Emission Factors'!$D$23:$D$25)))","v":0},"lb/ton",{"$f":"N25*O25","v":0},null,{"$f":"IF($G$11>0,\"\",IF($C$10>0,$C$10*O25/2000,IF($C$11>0,$C$11*365*O25/2000,IF($C$12>0,$C$12*365*O25*N25/2000,IF($F$11>0,\"\",IF(R25=\"\",Q25*8760/2000,R25*8760/2000))))))","v":0},{"$f":"(P12*O25/2000)","v":0}]
[null,"Is Your Operation Controlled?:",null,null,"Silo Filling, Truck Loadout, Aggregate Transfer",null,null,"(tons/hr)","(tons/yr)",null,null,null,"Cold Aggregate Bins",{"$f":"N13","v":0},{"$f":"IF(N26=0,0,IF(N26=0,0,LOOKUP(M26,'Emission Factors'!A23:A25,'Emission Factors'!D23:D25)))","v":0},"lb/ton",{"$f":"N26*O26","v":0},null,{"$f":"IF($G$11>0,\"\",IF($C$10>0,$C$10*O26/2000,IF($C$11>0,$C$11*365*O26/2000,IF($C$12>0,$C$12*365*O26*N26/2000,IF($F$11>0,\"\",IF(R26=\"\",Q26*8760/2000,R26*8760/2000))))))","v":0},{"$f":"(P13*O26/2000)","v":0}]
[null,null,null,null,{"$f":"IF($C$4>0,\"AP-4 EP-3\",\"\")","v":""},{"$f":"IF($C$4>0,\"AP-4 EU-3\",\"\")","v":""},{"$f":"IF(C5=\"\",\"\",\"Silo Filling\")","v":""},null,null,null,null,null,"PM10"]
[null,null,null,null,{"$f":"IF($C$4>0,\"AP-4 EP-3\",\"\")","v":""},{"$f":"IF($C$4>0,\"AP-4 EU-4\",\"\")","v":""},{"$f":"IF(C5=\"\",\"\",\"Truck Loadout\")","v":""},null,null,null,null,null,{"$f":"$C$5 & \" - Fuel Oil\"","v":" - Fuel Oil"},{"$f":"N5","v":0},{"$f":"IF(N28=0,0,IF(MAX((IFERROR(OFFSET($G$22,MATCH(M28,$G$23,0),4),0)),((IFERROR(OFFSET($G$37,MATCH(M28,$G$38,0),4),0))),((IFERROR(OFFSET($G$52,MATCH(M28,$G$53,0),4),0))),((IFERROR(OFFSET($G$67,MATCH(M28,$G$68,0),4),0))),((IFERROR(OFFSET($G$82,MATCH(M28,$G$83,0),3),0))),((IFERROR(OFFSET($G$97,MATCH(M28,$G$98,0),4),0))),((IFERROR(OFFSET($G$112,MATCH(M28,$G$113,0),4),0))),((IFERROR(OFFSET($G$127,MATCH(M28,$G$128,0),4),0))),((IFERROR(OFFSET($G$142,MATCH(M28,$G$143,0),4),0))),((IFERROR(OFFSET($G$157,MATCH(M28,$G$158,0),4),0))))=0,0,(MAX((IFERROR(OFFSET($G$22,MATCH(M28,$G$23,0),4),0)),((IFERROR(OFFSET($G$37,MATCH(M28,$G$38,0),4),0))),((IFERROR(OFFSET($G$52,MATCH(M28,$G$53,0),4),0))),((IFERROR(OFFSET($G$67,MATCH(M28,$G$68,0),4),0))),((IFERROR(OFFSET($G$82,MATCH(M28,$G$83,0),4),0))),((IFERROR(OFFSET($G$97,MATCH(M28,$G$98,0),4),0))),((IFERROR(OFFSET($G$112,MATCH(M28,$G$113,0),4),0))),((IFERROR(OFFSET($G$127,MATCH(M28,$G$128,0),4),0))),((IFERROR(OFFSET($G$142,MATCH(M28,$G$143,0),4),0))),((IFERROR(OFFSET($G$157,MATCH(M28,$G$158,0),4),0)))))))","v":0},{"$f":"IF(O28=\"\",\"\",\"lb/ton\")","v":"lb/ton"},{"$f":"IF(O28=4.5,N28*O28,IF(O28=6.5,N28*O28,\"\"))","v":""},{"$f":"IF(N28=0,\"\",IF(AND($F$12>0,$O$28>=$O$29,$O$28>=$O$30),$F$12,IF(O28=0.0098,N28*O28,IF(O28=0.023,N28*O28,\"\"))))","v":""},{"$f":"IF(N28=0,0,IF($G$12>0,$G$12,IF(AND(OR($C$10>0,$C$11>0,$C$12>0),$O$28>=$O$29,$O$28>=$O$30),(IF($C$10>0,$C$10*O28/2000,IF($C$11>0,$C$11*365*O28/2000,IF($C$12>0,$C$12*365*O28*N28/2000)))),IF(AND($F$12>0,$O$28>=$O$29,$O$28>=$O$30),$F$12*8760/2000,IF(AND(OR($C$10=\"\",$C$10=0),OR($C$11=\"\",$C$11=0),OR($C$12=\"\",$C$12=0),$F$12=\"\"),IF(R28=\"\",Q28*8760/2000,R28*8760/2000),\"\")))))","v":0},{"$f":"IF(N28=\"\",\"\",SUM((IFERROR(MATCH(M28,$G$23,0)*$I$23*$K$23/2000,0)),(IFERROR(MATCH(M28,$G$38,0)*$I$38*$K$38/2000,0)),(IFERROR(MATCH(M28,$G$53,0)*$I$53*$K$53/2000,0)),(IFERROR(MATCH(M28,$G$68,0)*$I$68*$K$68/2000,0)),(IFERROR(MATCH(M28,$G$83,0)*$I$83*$K$83/2000,0)),(IFERROR(MATCH(M28,$G$98,0)*$I$98*$K$98/2000,0)),(IFERROR(MATCH(M28,$G$113,0)*$I$113*$K$113/2000,0)),(IFERROR(MATCH(M28,$G$128,0)*$I$128*$K$128/2000,0)),(IFERROR(MATCH(M28,$G$143,0)*$I$143*$K$143/2000,0)),(IFERROR(MATCH(M28,$G$158,0)*$I$158*$K$158/2000,0))))","v":0}]
[null,null,null,null,{"$f":"IF($C$4>0,\"AP-4 EP-3\",\"\")","v":""},{"$f":"IF($C$4>0,\"AP-4 EU-5\",\"\")","v":""},{"$f":"IF(C5=\"\",\"\",\"Cold Aggregate Bins\")","v":""},null,null,null,null,null,{"$f":"$C$5 & \" - Waste Oil\"","v":" - Waste Oil"},{"$f":"N6","v":0},{"$f":"IF(N29=0,0,IF(MAX((IFERROR(OFFSET($G$22,MATCH(M29,$G$23,0),4),0)),((IFERROR(OFFSET($G$37,MATCH(M29,$G$38,0),4),0))),((IFERROR(OFFSET($G$52,MATCH(M29,$G$53,0),4),0))),((IFERROR(OFFSET($G$67,MATCH(M29,$G$68,0),4),0))),((IFERROR(OFFSET($G$82,MATCH(M29,$G$83,0),3),0))),((IFERROR(OFFSET($G$97,MATCH(M29,$G$98,0),4),0))),((IFERROR(OFFSET($G$112,MATCH(M29,$G$113,0),4),0))),((IFERROR(OFFSET($G$127,MATCH(M29,$G$128,0),4),0))),((IFERROR(OFFSET($G$142,MATCH(M29,$G$143,0),4),0))),((IFERROR(OFFSET($G$157,MATCH(M29,$G$158,0),4),0))))=0,0,(MAX((IFERROR(OFFSET($G$22,MATCH(M29,$G$23,0),4),0)),((IFERROR(OFFSET($G$37,MATCH(M29,$G$38,0),4),0))),((IFERROR(OFFSET($G$52,MATCH(M29,$G$53,0),4),0))),((IFERROR(OFFSET($G$67,MATCH(M29,$G$68,0),4),0))),((IFERROR(OFFSET($G$82,MATCH(M29,$G$83,0),4),0))),((IFERROR(OFFSET($G$97,MATCH(M29,$G$98,0),4),0))),((IFERROR(OFFSET($G$112,MATCH(M29,$G$113,0),4),0))),((IFERROR(OFFSET($G$127,MATCH(M29,$G$128,0),4),0))),((IFERROR(OFFSET($G$142,MATCH(M29,$G$143,0),4),0))),((IFERROR(OFFSET($G$157,MATCH(M29,$G$158,0),4),0)))))))","v":0},"lb/ton",{"$f":"IF(O29=4.5,N29*O29,IF(O29=6.5,N29*O29,\"\"))","v":""},{"$f":"IF(N29=0,\"\",IF(AND($F$12>0,$O$29>$O$28,$O$29>=$O$30),$F$12,IF(O29=0.0098,N29*O29,IF(O29=0.023,N29*O29,\"\"))))","v":""},{"$f":"IF(N29=0,0,IF($G$12>0,IF(S28=0,$G$12,\"\"),IF(AND(OR($C$10>0,$C$11>0,$C$12>0),$O$29>$O$28,$O$29>=$O$30),(IF($C$10>0,$C$10*O29/2000,IF($C$11>0,$C$11*365*O29/2000,IF($C$12>0,$C$12*365*O29*N29/2000)))),IF(AND($F$12>0,$O$29>$O$28,$O$29>=$O$30),$F$12*8760/2000,IF(AND(OR($C$10=\"\",$C$10=0),OR($C$11=\"\",$C$11=0),OR($C$12=\"\",$C$12=0),$F$12=\"\"),IF(R29=\"\",Q29*8760/2000,R29*8760/2000),\"\")))))","v":0},{"$f":"IF(N29=\"\",\"\",SUM((IFERROR(MATCH(M29,$G$23,0)*$I$23*$K$23/2000,0)),(IFERROR(MATCH(M29,$G$38,0)*$I$38*$K$38/2000,0)),(IFERROR(MATCH(M29,$G$53,0)*$I$53*$K$53/2000,0)),(IFERROR(MATCH(M29,$G$68,0)*$I$68*$K$68/2000,0)),(IFERROR(MATCH(M29,$G$83,0)*$I$83*$K$83/2000,0)),(IFERROR(MATCH(M29,$G$98,0)*$I$98*$K$98/2000,0)),(IFERROR(MATCH(M29,$G$113,0)*$I$113*$K$113/2000,0)),(IFERROR(MATCH(M29,$G$128,0)*$I$128*$K$128/2000,0)),(IFERROR(MATCH(M29,$G$143,0)*$I$143*$K$143/2000,0)),(IFERROR(MATCH(M29,$G$158,0)*$I$158*$K$158/2000,0))))","v":0}]
[null,null,null,null,null,null,null,null,null,null,null,null,{"$f":"$C$5 & \" - Natural Gas\"","v":" - Natural Gas"},{"$f":"N7","v":0},{"$f":"IF(N30=0,0,IF(MAX((IFERROR(OFFSET($G$22,MATCH(M30,$G$23,0),4),0)),((IFERROR(OFFSET($G$37,MATCH(M30,$G$38,0),4),0))),((IFERROR(OFFSET($G$52,MATCH(M30,$G$53,0),4),0))),((IFERROR(OFFSET($G$67,MATCH(M30,$G$68,0),4),0))),((IFERROR(OFFSET($G$82,MATCH(M30,$G$83,0),3),0))),((IFERROR(OFFSET($G$97,MATCH(M30,$G$98,0),4),0))),((IFERROR(OFFSET($G$112,MATCH(M30,$G$113,0),4),0))),((IFERROR(OFFSET($G$127,MATCH(M30,$G$128,0),4),0))),((IFERROR(OFFSET($G$142,MATCH(M30,$G$143,0),4),0))),((IFERROR(OFFSET($G$157,MATCH(M30,$G$158,0),4),0))))=0,0,(MAX((IFERROR(OFFSET($G$22,MATCH(M30,$G$23,0),4),0)),((IFERROR(OFFSET($G$37,MATCH(M30,$G$38,0),4),0))),((IFERROR(OFFSET($G$52,MATCH(M30,$G$53,0),4),0))),((IFERROR(OFFSET($G$67,MATCH(M30,$G$68,0),4),0))),((IFERROR(OFFSET($G$82,MATCH(M30,$G$83,0),4),0))),((IFERROR(OFFSET($G$97,MATCH(M30,$G$98,0),4),0))),((IFERROR(OFFSET($G$112,MATCH(M30,$G$113,0),4),0))),((IFERROR(OFFSET($G$127,MATCH(M30,$G$128,0),4),0))),((IFERROR(OFFSET($G$142,MATCH(M30,$G$143,0),4),0))),((IFERROR(OFFSET($G$157,MATCH(M30,$G$158,0),4),0)))))))","v":0},"lb/ton",{"$f":"IF(O30=4.5,N30*O30,IF(O30=6.5,N30*O30,\"\"))","v":""},{"$f":"IF(N30=0,\"\",IF(AND($F$12>0,$O$30>$O$28,$O$30>$O$29),$F$12,IF(O30=0.0098,N30*O30,IF(O30=0.023,N30*O30,\"\"))))","v":""},{"$f":"IF(N30=0,0,IF($G$12>0,IF(AND(S28=0,S29=0),$G$12,\"\"),IF(AND(OR($C$10>0,$C$11>0,$C$12>0),$O$30>$O$28,$O$30>$O$29),(IF($C$10>0,$C$10*O30/2000,IF($C$11>0,$C$11*365*O30/2000,IF($C$12>0,$C$12*365*O30*N30/2000)))),IF(AND($F$12>0,$O$30>$O$28,$O$30>$O$29),$F$12*8760/2000,IF(AND(OR($C$10=\"\",$C$10=0),OR($C$11=\"\",$C$11=0),OR($C$12=\"\",$C$12=0),$F$12=\"\"),IF(R30=\"\",Q30*8760/2000,R30*8760/2000),\"\")))))","v":0},{"$f":"IF(N30=\"\",\"\",SUM((IFERROR(MATCH(M30,$G$23,0)*$I$23*$K$23/2000,0)),(IFERROR(MATCH(M30,$G$38,0)*$I$38*$K$38/2000,0)),(IFERROR(MATCH(M30,$G$53,0)*$I$53*$K$53/2000,0)),(IFERROR(MATCH(M30,$G$68,0)*$I$68*$K$68/2000,0)),(IFERROR(MATCH(M30,$G$83,0)*$I$83*$K$83/2000,0)),(IFERROR(MATCH(M30,$G$98,0)*$I$98*$K$98/2000,0)),(IFERROR(MATCH(M30,$G$113,0)*$I$113*$K$113/2000,0)),(IFERROR(MATCH(M30,$G$128,0)*$I$128*$K$128/2000,0)),(IFERROR(MATCH(M30,$G$143,0)*$I$143*$K$143/2000,0)),(IFERROR(MATCH(M30,$G$158,0)*$I$158*$K$158/2000,0))))","v":0}]
[null,null,null,null,"Stock Pile Area",null,null,null,null,null,null,null,"Silo Filling",{"$f":"N11","v":0},{"$f":"IF(N31=0,0,IF(N31=0,0,LOOKUP(M31,'Emission Factors'!$A$23:$A$25,'Emission Factors'!$F$23:$F$25)))","v":0},"lb/ton",{"$f":"N31*O31","v":0},null,{"$f":"IF($G$12>0,\"\",IF($C$10>0,$C$10*O31/2000,IF($C$11>0,$C$11*365*O31/2000,IF($C$12>0,$C$12*365*O31*N31/2000,IF($F$11>0,\"\",IF(R31=\"\",Q31*8760/2000,R31*8760/2000))))))","v":0},{"$f":"(P11*O31/2000)","v":0}]
[null,null,null,null,null,"Emission Unit #","Maximum Storage Area (acres)","Actual Storage Area (acres)","Actual Days in Existence (days)",null,null,null,"Truck Loadout",{"$f":"N12","v":0},{"$f":"IF(N32=0,0,IF(N32=0,0,LOOKUP(M32,'Emission Factors'!$A$23:$A$25,'Emission Factors'!$F$23:$F$25)))","v":0},"lb/ton",{"$f":"N32*O32","v":0},null,{"$f":"IF($G$12>0,\"\",IF($C$10>0,$C$10*O32/2000,IF($C$11>0,$C$11*365*O32/2000,IF($C$12>0,$C$12*365*O32*N32/2000,IF($F$11>0,\"\",IF(R32=\"\",Q32*8760/2000,R32*8760/2000))))))","v":0},{"$f":"(P12*O32/2000)","v":0}]
[null,null,null,null,null,null,null,null,null,null,null,null,"Cold Aggregate Bins",{"$f":"N13","v":0},{"$f":"IF(N33=0,0,IF(N33=0,0,LOOKUP(M33,'Emission Factors'!$A$23:$A$25,'Emission Factors'!$F$23:$F$25)))","v":0},"lb/ton",{"$f":"N33*O33","v":0},null,{"$f":"IF($G$12>0,\"\",IF($C$10>0,$C$10*O33/2000,IF($C$11>0,$C$11*365*O33/2000,IF($C$12>0,$C$12*365*O33*N33/2000,IF($F$11>0,\"\",IF(R33=\"\",Q33*8760/2000,R33*8760/2000))))))","v":0},{"$f":"(P13*O33/2000)","v":0}]
[]
[null,{"$f":"IF($C$4>1,\"Asphalt Plant\",\"\")","v":""},{"$f":"IF($C$4>1,\"Site 2\",\"\")","v":""},null,{"$f":"IF($C$4>1,\"Emission Point #\",\"\")","v":""},{"$f":"IF($C$4>1,\"Emission    Unit #\",\"\")","v":""},{"$f":"IF($C$4>1,\"Process\",\"\")","v":""},{"$f":"IF($C$4>1,\"Maximum Hourly     Design Rate\",\"\")","v":""},{"$f":"IF($C$4>1,('Facility Information'!G20&\" Annual Throughput\"),\"\")","v":""},null,null,null,null,null,"Max Design Rate (acres)","Emission Factor   (lb/acre-day)","Potential Uncontrolled Emissions (lb/hr)","Potential Controlled Emissions (lb/hr)","Potential Annual Emissions (tons/yr)","Actual Annual Emissions (tons/yr)"]
[null,null,null,null,null,null,null,null,null,null,null,null,null,"Storage Pile"]
[null,{"$f":"IF($C$4>1,\"Site Name\",\"\")","v":""},null,null,{"$f":"IF($C$4>1,\"Dryers, Hot Screens, Mixer\",\"\")","v":""},null,null,{"$f":"IF($C$4>1,\"(tons/hr)\",\"\")","v":""},{"$f":"IF($C$4>1,\"(tons/yr)\",\"\")","v":""},"PM2.5","PM10",null,null,"PM2.5/PM10",{"$f":"N15","v":0},3.64,{"$f":"O37*P37*(1/24)","v":0},null,{"$f":"O37*P37*365/2000","v":0},{"$f":"O15*P37/2000","v":0}]
[null,{"$f":"IF($C$4>1,\"County:\",\"\")","v":""},null,null,{"$f":"IF(C40=\"\",\"\",\"AP-4 EP-1\")","v":""},{"$f":"IF(C40=\"\",\"\",\"AP-4 EU-1\")","v":""},{"$f":"IF(C40=\"\",\"\",C5 & \" - \"&C40)","v":""},null,null,{"$f":"IF(C41=\"\",\"\",IF(C41=\"yes\",LOOKUP(G38,'Emission Factors'!$A$12:$A$17,'Emission Factors'!$D$12:$D$17),LOOKUP(G38,'Emission Factors'!$A$5:$A$10,'Emission Factors'!$D$5:$D$10)))","v":""},{"$f":"IF(C41=\"\",\"\",IF(C41=\"yes\",LOOKUP(G38,'Emission Factors'!$A$12:$A$17,'Emission Factors'!$F$12:$F$17),LOOKUP(G38,'Emission Factors'!$A$5:$A$10,'Emission Factors'!$F$5:$F$10)))","v":""}]
[null,{"$f":"IF($C$4>1,\"Production Period (Dates):\",\"\")","v":""},null,null,{"$f":"IF($C$4>1,\"Liquid Asphalt Heater\",\"\")","v":""},null,null,{"$f":"IF($C$4>1,IF(C40=\"natural gas\",\"MMCF/hr\",\"(gallons/hr)\"),\"\")","v":""},{"$f":"IF($C$4>1,IF(C40=\"natural gas\",\"MMCF/yr\",\"(gallons/yr)\"),\"\")","v":""},null,null,null,"SO2"]
[null,{"$f":"IF($C$4>1,\"Type of Fuel Used:\",\"\")","v":""},null,null,{"$f":"IF(C40=\"\",\"\",\"AP-4 EP-2\")","v":""},{"$f":"IF(C40=\"\",\"\",\"AP-4 EU-2\")","v":""},{"$f":"IF(C40=\"\",\"\",C40& \" Fired Heater\")","v":""},null,null,null,null,null,{"$f":"$C$5 & \" - Fuel Oil\"","v":" - Fuel Oil"},{"$f":"$N$5","v":0},{"$f":"IF(N40=0,0,LOOKUP(M40,'Emission Factors'!$A$5:$A$10,'Emission Factors'!$H$5:$H$10))","v":0},{"$f":"IF(O40=\"\",\"\",\"lb/ton\")","v":"lb/ton"},{"$f":"N40*O40","v":0},{"$f":"IF(N40=0,\"\",IF(AND($F$13>0,N41=0),$F$13,\"\"))","v":""},{"$f":"IF(N40=0,0,IF($G$13>0,$G$13,IF(OR(AND($C$10>0,$N$41>0),AND($C$11>0,$N$41>0),AND($C$12>0,$N$41>0)),\"\",IF($C$10>0,$C$10*O40/2000,IF($C$11>0,$C$11*365*O40/2000,IF($C$12>0,$C$12*365*O40*N40/2000,IF(AND(N41>0,F13>0),\"\",IF(R40=\"\",Q40*8760/2000,R40*8760/2000))))))))","v":0},{"$f":"P5*O40/2000","v":0}]
[null,{"$f":"IF($C$4>1,\"Is Your Operation Controlled?:\",\"\")","v":""},null,null,{"$f":"IF($C$4>1,\"Silo Filling, Truck Loadout, Aggregate Transfer\",\"\")","v":""},null,null,{"$f":"IF($C$4>1,\"(tons/hr)\",\"\")","v":""},{"$f":"IF($C$4>1,\"(tons/yr)\",\"\")","v":""},null,null,null,{"$f":"$C$5 & \" - Waste Oil\"","v":" - Waste Oil"},{"$f":"$N$6","v":0},{"$f":"IF(N41=0,0,LOOKUP(M41,'Emission Factors'!$A$5:$A$10,'Emission Factors'!$H$5:$H$10))","v":0},{"$f":"IF(O41=\"\",\"\",\"lb/ton\")","v":"lb/ton"},{"$f":"N41*O41","v":0},{"$f":"IF(N41=0,\"\",IF($F$13>0,$F$13,\"\"))","v":""},{"$f":"IF(N41=0,0,IF($G$13>0,IF(S40=0,G13,\"\"),IF($C$10>0,$C$10*O41/2000,IF($C$11>0,$C$11*365*O41/2000,IF($C$12>0,$C$12*365*O41*N41/2000,IF(R41=\"\",Q41*8760/2000,R41*8760/2000))))))","v":0},{"$f":"P6*O41/2000","v":0}]
[null,null,null,null,{"$f":"IF($C$4>1,\"AP-4 EP-3\",\"\")","v":""},{"$f":"IF($C$4>1,\"AP-4 EU-3\",\"\")","v":""},{"$f":"IF($C$4>1,\"Silo Filling\",\"\")","v":""},null,null,null,null,null,{"$f":"$C$5 & \" - Natural Gas\"","v":" - Natural Gas"},{"$f":"$N$7","v":0},{"$f":"IF(N42=0,0,LOOKUP(M42,'Emission Factors'!$A$5:$A$10,'Emission Factors'!$H$5:$H$10))","v":0},{"$f":"IF(O42=\"\",\"\",\"lb/ton\")","v":"lb/ton"},{"$f":"N42*O42","v":0},{"$f":"IF(N42=0,\"\",IF(AND($F$13>0,N40=0,N41=0),$F$13,\"\"))","v":""},{"$f":"IF(N42=0,0,IF($G$13>0,IF(AND(S40=0,S41=0),G13,\"\"),IF(OR(AND($C$10>0,$N$41>0),AND($C$11>0,$N$41>0),AND($C$12>0,$N$41>0)),\"\",IF(OR(AND($C$10>0,$N$40>0),AND($C$11>0,$N$40>0),AND($C$12>0,$N$40>0)),\"\",IF($C$10>0,$C$10*O42/2000,IF($C$11>0,$C$11*365*O42/2000,IF($C$12>0,$C$12*365*O42*N42/2000,IF(AND(N41>0,N40>0,F13>0),\"\",IF(R42=\"\",Q42*8760/2000,R42*8760/2000)))))))))","v":0},{"$f":"P7*O42/2000","v":0}]
[null,null,null,null,{"$f":"IF($C$4>1,\"AP-4 EP-3\",\"\")","v":""},{"$f":"IF($C$4>1,\"AP-4 EU-4\",\"\")","v":""},{"$f":"IF($C$4>1,\"Truck Loadout\",\"\")","v":""},null,null,null,null,null,"NOx"]
[null,null,null,null,{"$f":"IF($C$4>1,\"AP-4 EP-3\",\"\")","v":""},{"$f":"IF($C$4>1,\"AP-4 EU-5\",\"\")","v":""},{"$f":"IF($C$4>1,\"Cold Aggregate Bins\",\"\")","v":""},null,null,null,null,null,{"$f":"$C$5 & \" - Fuel Oil\"","v":" - Fuel Oil"},{"$f":"$N$5","v":0},{"$f":"IF(N44=0,0,LOOKUP(M44,'Emission Factors'!$A$5:$A$10,'Emission Factors'!$J$5:$J$10))","v":0},{"$f":"IF(O44=\"\",\"\",\"lb/ton\")","v":"lb/ton"},{"$f":"N44*O44","v":0},{"$f":"IF(N44=0,\"\",IF(AND($F$14>0,N45=0),$F$14,\"\"))","v":""},{"$f":"IF(N44=0,0,IF($G$14>0,$G$14,IF(OR(AND($C$10>0,$N$45>0),AND($C$11>0,$N$45>0),AND($C$12>0,$N$45>0)),\"\",IF($C$10>0,$C$10*O44/2000,IF($C$11>0,$C$11*365*O44/2000,IF($C$12>0,$C$12*365*O44*N44/2000,IF(AND(N45>0,F14>0),\"\",IF(R44=\"\",Q44*8760/2000,R44*8760/2000))))))))","v":0},{"$f":"P5*O44/2000","v":0}]
[null,null,null,null,null,null,null,null,null,null,null,null,{"$f":"$C$5 & \" - Waste Oil\"","v":" - Waste Oil"},{"$f":"$N$6","v":0},{"$f":"IF(N45=0,0,LOOKUP(M45,'Emission Factors'!$A$5:$A$10,'Emission Factors'!$J$5:$J$10))","v":0},{"$f":"IF(O45=\"\",\"\",\"lb/ton\")","v":"lb/ton"},{"$f":"N45*O45","v":0},{"$f":"IF(N45=0,\"\",IF($F$14>0,$F$14,\"\"))","v":""},{"$f":"IF(N45=0,0,IF($G$14>0,IF(S44=0,G14,\"\"),IF($C$10>0,$C$10*O45/2000,IF($C$11>0,$C$11*365*O45/2000,IF($C$12>0,$C$12*365*O45*N45/2000,IF(R45=\"\",Q45*8760/2000,R45*8760/2000))))))","v":0},{"$f":"P6*O45/2000","v":0}]
[null,null,null,null,{"$f":"IF($C$4>1,\"Stock Pile Area\",\"\")","v":""},null,null,null,null,null,null,null,{"$f":"$C$5 & \" - Natural Gas\"","v":" - Natural Gas"},{"$f":"$N$7","v":0},{"$f":"IF(N46=0,0,LOOKUP(M46,'Emission Factors'!$A$5:$A$10,'Emission Factors'!$J$5:$J$10))","v":0},{"$f":"IF(O46=\"\",\"\",\"lb/ton\")","v":"lb/ton"},{"$f":"N46*O46","v":0},{"$f":"IF(N46=0,\"\",IF(AND($F$14>0,N44=0,N45=0),$F$14,\"\"))","v":""},{"$f":"IF(N46=0,0,IF($G$14>0,IF(AND(S44=0,S45=0),G14,\"\"),IF(OR(AND($C$10>0,$N$45>0),AND($C$11>0,$N$45>0),AND($C$12>0,$N$45>0)),\"\",IF(OR(AND($C$10>0,$N$44>0),AND($C$11>0,$N$44>0),AND($C$12>0,$N$44>0)),\"\",IF($C$10>0,$C$10*O46/2000,IF($C$11>0,$C$11*365*O46/2000,IF($C$12>0,$C$12*365*O46*N46/2000,IF(AND(N44>0,N45>0,F14>0),\"\",IF(R46=\"\",Q46*8760/2000,R46*8760/2000)))))))))","v":0},{"$f":"P7*O46/2000","v":0}]
[null,null,null,null,null,{"$f":"IF($C$4>1,\"Emission Unit #\",\"\")","v":""},{"$f":"IF($C$4>1,\"Maximum Storage Area (acres)\",\"\")","v":""},{"$f":"IF($C$4>1,\"Actual Storage Area (acres)\",\"\")","v":""},{"$f":"IF($C$4>1,\"Actual Days in Existence (days)\",\"\")","v":""},null,null,null,"VOC"]
[null,null,null,null,null,null,null,null,null,null,null,null,{"$f":"$C$5 & \" - Fuel Oil\"","v":" - Fuel Oil"},{"$f":"$N$5","v":0},{"$f":"IF(N48=0,0,LOOKUP(M48,'Emission Factors'!$A$5:$A$10,'Emission Factors'!$L$5:$L$10))","v":0},{"$f":"IF(O48=\"\",\"\",\"lb/ton\")","v":"lb/ton"},{"$f":"N48*O48","v":0},{"$f":"IF(N48=0,\"\",IF(AND($F$15>0,N49=0),$F$15,\"\"))","v":""},{"$f":"IF(N48=0,0,IF($G$15>0,$G$15,IF(OR(AND($C$10>0,$N$49>0),AND($C$11>0,$N$49>0),AND($C$12>0,$N$49>0)),\"\",IF($C$10>0,$C$10*O48/2000,IF($C$11>0,$C$11*365*O48/2000,IF($C$12>0,$C$12*365*O48*N48/2000,IF(AND(N49>0,F15>0),\"\",IF(R48=\"\",Q48*8760/2000,R48*8760/2000))))))))","v":0},{"$f":"P5*O48/2000","v":0}]
[null,null,null,null,null,null,null,null,null,null,null,null,{"$f":"$C$5 & \" - Waste Oil\"","v":" - Waste Oil"},{"$f":"$N$6","v":0},{"$f":"IF(N49=0,0,LOOKUP(M49,'Emission Factors'!$A$5:$A$10,'Emission Factors'!$L$5:$L$10))","v":0},{"$f":"IF(O49=\"\",\"\",\"lb/ton\")","v":"lb/ton"},{"$f":"N49*O49","v":0},{"$f":"IF(N49=0,\"\",IF($F$15>0,$F$15,\"\"))","v":""},{"$f":"IF(N49=0,0,IF($G$15>0,IF(S48=0,G15,\"\"),IF($C$10>0,$C$10*O49/2000,IF($C$11>0,$C$11*365*O49/2000,IF($C$12>0,$C$12*365*O49*N49/2000,IF(R49=\"\",Q49*8760/2000,R49*8760/2000))))))","v":0},{"$f":"P6*O49/2000","v":0}]
[null,{"$f":"IF($C$4>2,\"Asphalt Plant\",\"\")","v":""},{"$f":"IF($C$4>2,\"Site 3\",\"\")","v":""},null,{"$f":"IF($C$4>2,\"Emission Point #\",\"\")","v":""},{"$f":"IF($C$4>2,\"Emission    Unit #\",\"\")","v":""},{"$f":"IF($C$4>2,\"Process\",\"\")","v":""},{"$f":"IF($C$4>2,\"Maximum Hourly     Design Rate\",\"\")","v":""},{"$f":"IF($C$4>2,('Facility Information'!G35&\" Annual Throughput\"),\"\")","v":""},null,null,null,{"$f":"$C$5 & \" - Natural Gas\"","v":" - Natural Gas"},{"$f":"$N$7","v":0},{"$f":"IF(N50=0,0,LOOKUP(M50,'Emission Factors'!$A$5:$A$10,'Emission Factors'!$L$5:$L$10))","v":0},{"$f":"IF(O50=\"\",\"\",\"lb/ton\")","v":"lb/ton"},{"$f":"N50*O50","v":0},{"$f":"IF(N50=0,\"\",IF(AND($F$15>0,N48=0,N49=0),$F$15,\"\"))","v":""},{"$f":"IF(N50=0,0,IF($G$15>0,IF(AND(S48=0,S49=0),G15,\"\"),IF(OR(AND($C$10>0,$N$49>0),AND($C$11>0,$N$49>0),AND($C$12>0,$N$49>0)),\"\",IF(OR(AND($C$10>0,$N$48>0),AND($C$11>0,$N$48>0),AND($C$12>0,$N$48>0)),\"\",IF($C$10>0,$C$10*O50/2000,IF($C$11>0,$C$11*365*O50/2000,IF($C$12>0,$C$12*365*O50*N50/2000,IF(AND(N48>0,N49>0,F15>0),\"\",IF(R50=\"\",Q50*8760/2000,R50*8760/2000)))))))))","v":0},{"$f":"P7*O50/2000","v":0}]
[null,null,null,null,null,null,null,null,null,null,null,null,"CO"]
[null,{"$f":"IF($C$4>2,\"Site Name\",\"\")","v":""},null,null,{"$f":"IF($C$4>2,\"Dryers, Hot Screens, Mixer\",\"\")","v":""},null,null,{"$f":"IF($C$4>2,\"(tons/hr)\",\"\")","v":""},{"$f":"IF($C$4>2,\"(tons/yr)\",\"\")","v":""},"PM2.5","PM10",null,{"$f":"IF($C$5=\"\",\"\",$C$5)","v":""},{"$f":"SUM($N$5:$N$7)","v":0},{"$f":"IF(N52=0,0,IF(M52=\"Batch Mix Plant\",0.4,IF(M52=\"Drum Mix Plant\",0.13)))","v":0},{"$f":"IF(O52=\"\",\"\",\"lb/ton\")","v":"lb/ton"},{"$f":"N52*O52","v":0},{"$f":"IF(N52=0,\"\",IF($F$16>0,$F$16,\"\"))","v":""},{"$f":"IF($G$16>0,$G$16,IF(N52=0,0,IF($C$10>0,$C$10*O52/2000,IF($C$11>0,$C$11*365*O52/2000,IF($C$12>0,$C$12*365*O52*N52/2000,IF(R52=\"\",Q52*8760/2000,R52*8760/2000))))))","v":0},{"$f":"SUM($P$5:$P$7)*O52/2000","v":0}]
[null,{"$f":"IF($C$4>2,\"County:\",\"\")","v":""},null,null,{"$f":"IF(C55=\"\",\"\",\"AP-4 EP-1\")","v":""},{"$f":"IF(C55=\"\",\"\",\"AP-4 EU-1\")","v":""},{"$f":"IF(C55=\"\",\"\",C5 & \" - \"&C55)","v":""},null,null,{"$f":"IF(C56=\"\",\"\",IF(C56=\"yes\",LOOKUP(G53,'Emission Factors'!$A$12:$A$17,'Emission Factors'!$D$12:$D$17),LOOKUP(G53,'Emission Factors'!$A$5:$A$10,'Emission Factors'!$D$5:$D$10)))","v":""},{"$f":"IF(C56=\"\",\"\",IF(C56=\"yes\",LOOKUP(G53,'Emission Factors'!$A$12:$A$17,'Emission Factors'!$F$12:$F$17),LOOKUP(G53,'Emission Factors'!$A$5:$A$10,'Emission Factors'!$F$5:$F$10)))","v":""},null,"Fuel Oil Fired Heater",{"$f":"N8","v":0},{"$f":"IF(N53=0,0,LOOKUP(M53,'Emission Factors'!$A$19:$A$21,'Emission Factors'!$N$19:$N$21))","v":0},{"$f":"IF(O53=\"\",\"\",\"lb/gallon\")","v":"lb/gallon"},{"$f":"N53*O53","v":0},null,{"$f":"IF(N53=0,0,IF($G$16>0,\"\",IF($F$16>0,\"\",IF(R53=\"\",Q53*8760/2000,R53*8760/2000))))","v":0},{"$f":"(P8*O53/2000)","v":0}]
[null,{"$f":"IF($C$4>2,\"Production Period (Dates):\",\"\")","v":""},null,null,{"$f":"IF($C$4>2,\"Liquid Asphalt Heater\",\"\")","v":""},null,null,{"$f":"IF($C$4>2,IF(C55=\"natural gas\",\"(MMCF/hr)\",\"(gallons/hr)\"),\"\")","v":""},{"$f":"IF($C$4>2,IF(C55=\"natural gas\",\"(MMCF/yr)\",\"(gallons/yr)\"),\"\")","v":""},null,null,null,"Waste Oil Fired Heater",{"$f":"N9","v":0},{"$f":"IF(N54=0,0,LOOKUP(M54,'Emission Factors'!$A$19:$A$21,'Emission Factors'!$N$19:$N$21))","v":0},{"$f":"IF(O54=\"\",\"\",\"lb/gallon\")","v":"lb/gallon"},{"$f":"N54*O54","v":0},null,{"$f":"IF(N54=0,0,IF($G$16>0,\"\",IF($F$16>0,\"\",IF(R54=\"\",Q54*8760/2000,R54*8760/2000))))","v":0},{"$f":"(P9*O54/2000)","v":0}]
[null,{"$f":"IF($C$4>2,\"Type of Fuel Used:\",\"\")","v":""},null,null,{"$f":"IF(C55=\"\",\"\",\"AP-4 EP-2\")","v":""},{"$f":"IF(C55=\"\",\"\",\"AP-4 EU-2\")","v":""},{"$f":"IF(C55=\"\",\"\",C55& \" Fired Heater\")","v":""},null,null,null,null,null,"Natural Gas Fired Heater",{"$f":"N10","v":0},{"$f":"IF(N55=0,0,LOOKUP(M55,'Emission Factors'!$A$19:$A$21,'Emission Factors'!$N$19:$N$21))","v":0},{"$f":"IF(O55=\"\",\"\",\"lb/MMCF\")","v":"lb/MMCF"},{"$f":"N55*O55","v":0},null,{"$f":"IF(N55=0,0,IF($G$16>0,\"\",IF($F$16>0,\"\",IF(R55=\"\",Q55*8760/2000,R55*8760/2000))))","v":0},{"$f":"($P$10*O55/2000)","v":0}]
[null,{"$f":"IF($C$4>2,\"Is Your Operation Controlled?:\",\"\")","v":""},null,null,{"$f":"IF($C$4>2,\"Silo Filling, Truck Loadout, Aggregate Transfer\",\"\")","v":""},null,null,{"$f":"IF($C$4>2,\"(tons/hr)\",\"\")","v":""},{"$f":"IF($C$4>2,\"(tons/yr)\",\"\")","v":""},null,null,null,"Acetaldehyde"]
[null,null,null,null,{"$f":"IF($C$4>2,\"AP-4 EP-3\",\"\")","v":""},{"$f":"IF($C$4>2,\"AP-4 EU-3\",\"\")","v":""},{"$f":"IF($C$4>2,\"Silo Filling\",\"\")","v":""},null,null,null,null,null,{"$f":"IF($C$5=\"\",\"\",$C$5)","v":""},{"$f":"IF(C5=\"drum mix plant\",SUM(N5:$N$6),SUM($N$5:$N$7))","v":0},{"$f":"IF(N57=0,0,IF(M57=\"Batch Mix Plant\",0.00032,IF(M57=\"Drum Mix Plant\",0.0013)))","v":0},{"$f":"IF(O57=\"\",\"\",\"lb/ton\")","v":"lb/ton"},{"$f":"N57*O57","v":0},null,{"$f":"IF(N57=0,0,IF($C$10>0,$C$10*O57/2000,IF($C$11>0,$C$11*365*O57/2000,IF($C$12>0,$C$12*365*O57*N57/2000,IF(R57=\"\",Q57*8760/2000,R57*8760/2000)))))","v":0},{"$f":"IF(C5=\"drum mix plant\",$P$6*O57/2000,SUM($P$5:$P$7)*O57/2000)","v":0}]
[null,null,null,null,{"$f":"IF($C$4>2,\"AP-4 EP-3\",\"\")","v":""},{"$f":"IF($C$4>2,\"AP-4 EU-4\",\"\")","v":""},{"$f":"IF($C$4>2,\"Truck Loadout\",\"\")","v":""},null,null,null,null,null,"Acrolein"]
[null,null,null,null,{"$f":"IF($C$4>2,\"AP-4 EP-3\",\"\")","v":""},{"$f":"IF($C$4>2,\"AP-4 EU-5\",\"\")","v":""},{"$f":"IF($C$4>2,\"Cold Aggregate Bins\",\"\")","v":""},null,null,null,null,null,{"$f":"IF($C$5=\"\",\"\",$C$5)","v":""},{"$f":"IF(C5=\"drum mix plant\",SUM(N5:$N$6),0)","v":0},{"$f":"IF(N59=0,0,0.000026)","v":0},{"$f":"IF(O59=\"\",\"\",\"lb/ton\")","v":"lb/ton"},{"$f":"N59*O59","v":0},null,{"$f":"IF(N59=0,0,IF($C$10>0,$C$10*O59/2000,IF($C$11>0,$C$11*365*O59/2000,IF($C$12>0,$C$12*365*O59*N59/2000,IF(R59=\"\",Q59*8760/2000,R59*8760/2000)))))","v":0},{"$f":"IF(C7=\"drum mix plant\",$P$6*O59/2000,SUM($P$5:$P$7)*O59/2000)","v":0}]
[null,null,null,null,null,null,null,null,null,null,null,null,"Benzene"]
[null,null,null,null,{"$f":"IF($C$4>2,\"Stock Pile Area\",\"\")","v":""},null,null,null,null,null,null,null,{"$f":"IF($C$5=\"\",\"\",$C$5)","v":""},{"$f":"SUM($N$5:$N$7)","v":0},{"$f":"IF(N61=0,0,IF(M61=\"Batch Mix Plant\",0.00028,IF(M61=\"Drum Mix Plant\",0.00039)))","v":0},{"$f":"IF(O61=\"\",\"\",\"lb/ton\")","v":"lb/ton"},{"$f":"N61*O61","v":0},null,{"$f":"IF(N61=0,0,IF($C$10>0,$C$10*O61/2000,IF($C$11>0,$C$11*365*O61/2000,IF($C$12>0,$C$12*365*O61*N61/2000,IF(R61=\"\",Q61*8760/2000,R61*8760/2000)))))","v":0},{"$f":"SUM($P$5:$P$7)*O61/2000","v":0}]
[null,null,null,null,null,{"$f":"IF($C$4>2,\"Emission Unit #\",\"\")","v":""},{"$f":"IF($C$4>2,\"Maximum Storage Area (acres)\",\"\")","v":""},{"$f":"IF($C$4>2,\"Actual Storage Area (acres)\",\"\")","v":""},{"$f":"IF($C$4>2,\"Actual Days in Existence (days)\",\"\")","v":""},null,null,null,"Ethylbenzene"]
[null,null,null,null,null,null,null,null,null,null,null,null,{"$f":"IF($C$5=\"\",\"\",$C$5)","v":""},{"$f":"SUM($N$5:$N$7)","v":0},{"$f":"IF(N63=0,0,IF(M63=\"Batch Mix Plant\",0.0022,IF(M63=\"Drum Mix Plant\",0.00024)))","v":0},{"$f":"IF(O63=\"\",\"\",\"lb/ton\")","v":"lb/ton"},{"$f":"N63*O63","v":0},null,{"$f":"IF(N63=0,0,IF($C$10>0,$C$10*O63/2000,IF($C$11>0,$C$11*365*O63/2000,IF($C$12>0,$C$12*365*O63*N63/2000,IF(R63=\"\",Q63*8760/2000,R63*8760/2000)))))","v":0},{"$f":"SUM($P$5:$P$7)*O63/2000","v":0}]
[null,null,null,null,null,null,null,null,null,null,null,null,"Formaldehyde"]
[null,{"$f":"IF($C$4>3,\"Asphalt Plant\",\"\")","v":""},{"$f":"IF($C$4>3,\"Site 4\",\"\")","v":""},null,{"$f":"IF($C$4>3,\"Emission Point #\",\"\")","v":""},{"$f":"IF($C$4>3,\"Emission    Unit #\",\"\")","v":""},{"$f":"IF($C$4>3,\"Process\",\"\")","v":""},{"$f":"IF($C$4>3,\"Maximum Hourly     Design Rate\",\"\")","v":""},{"$f":"IF($C$4>3,('Facility Information'!G50&\" Annual Throughput\"),\"\")","v":""},null,null,null,{"$f":"IF($C$5=\"\",\"\",$C$5)","v":""},{"$f":"SUM($N$5:$N$7)","v":0},{"$f":"IF(N65=0,0,IF(M65=\"Batch Mix Plant\",0.00074,IF(M65=\"Drum Mix Plant\",0.0031)))","v":0},{"$f":"IF(O65=\"\",\"\",\"lb/ton\")","v":"lb/ton"},{"$f":"N65*O65","v":0},null,{"$f":"IF(N65=0,0,IF($C$10>0,$C$10*O65/2000,IF($C$11>0,$C$11*365*O65/2000,IF($C$12>0,$C$12*365*O65*N65/2000,IF(R65=\"\",Q65*8760/2000,R65*8760/2000)))))","v":0},{"$f":"SUM($P$5:$P$7)*O65/2000","v":0}]
[null,null,null,null,null,null,null,null,null,null,null,null,{"$f":"\"Natural Gas Fired Heater\"","v":"Natural Gas Fired Heater"},{"$f":"N10","v":0},{"$f":"IF(N66=0,0,0.026)","v":0},{"$f":"IF(O66=\"\",\"\",\"lb/MMCF\")","v":"lb/MMCF"},{"$f":"N66*O66","v":0},null,{"$f":"IF(N66=0,0,IF(R66=\"\",Q66*8760/2000,R66*8760/2000))","v":0},{"$f":"($P$10*O66/2000)","v":0}]
[null,{"$f":"IF($C$4>3,\"Site Name\",\"\")","v":""},null," ",{"$f":"IF($C$4>3,\"Dryers, Hot Screens, Mixer\",\"\")","v":""},null,null,{"$f":"IF($C$4>3,\"(tons/hr)\",\"\")","v":""},{"$f":"IF($C$4>3,\"(tons/yr)\",\"\")","v":""},"PM2.5","PM10",null,"Hexane"]
[null,{"$f":"IF($C$4>3,\"County:\",\"\")","v":""},null,null,{"$f":"IF(C70=\"\",\"\",\"AP-4 EP-1\")","v":""},{"$f":"IF(C70=\"\",\"\",\"AP-4 EU-1\")","v":""},{"$f":"IF(C70=\"\",\"\",C5 & \" - \"&C70)","v":""},null,null,{"$f":"IF(C71=\"\",\"\",IF(C71=\"yes\",LOOKUP(G68,'Emission Factors'!$A$12:$A$17,'Emission Factors'!$D$12:$D$17),LOOKUP(G68,'Emission Factors'!$A$5:$A$10,'Emission Factors'!$D$5:$D$10)))","v":""},{"$f":"IF(C71=\"\",\"\",IF(C71=\"yes\",LOOKUP(G68,'Emission Factors'!$A$12:$A$17,'Emission Factors'!$F$12:$F$17),LOOKUP(G68,'Emission Factors'!$A$5:$A$10,'Emission Factors'!$F$5:$F$10)))","v":""},null,{"$f":"IF($C$5=\"\",\"\",$C$5)","v":""},{"$f":"IF(C5=\"drum mix plant\",SUM(N5:N7),0)","v":0},{"$f":"IF(N68=0,0,0.00092)","v":0},{"$f":"IF(O68=\"\",\"\",\"lb/ton\")","v":"lb/ton"},{"$f":"N68*O68","v":0},null,{"$f":"IF(N68=0,0,IF($C$10>0,$C$10*O68/2000,IF($C$11>0,$C$11*365*O68/2000,IF($C$12>0,$C$12*365*O68*N68/2000,IF(R68=\"\",Q68*8760/2000,R68*8760/2000)))))","v":0},{"$f":"IF(N68>0,SUM($P$5:$P$7)*O68/2000,0)","v":0}]
[null,{"$f":"IF($C$4>3,\"Production Period (Dates):\",\"\")","v":""},null,null,{"$f":"IF($C$4>3,\"Liquid Asphalt Heater\",\"\")","v":""},null,null,{"$f":"IF($C$4>3,IF(C70=\"natural gas\",\"(MMCF/hr)\",\"(gallons/hr)\"),\"\")","v":""},{"$f":"IF($C$4>3,IF(C70=\"natural gas\",\"(MMCF/yr)\",\"(gallons/yr)\"),\"\")","v":""},null,null,null,"Hydrochloric Acid"]
[null,{"$f":"IF($C$4>3,\"Type of Fuel Used:\",\"\")","v":""},null,null,{"$f":"IF(C70=\"\",\"\",\"AP-4 EP-2\")","v":""},{"$f":"IF(C70=\"\",\"\",\"AP-4 EU-2\")","v":""},{"$f":"IF(C70=\"\",\"\",C70& \" Fired Heater\")","v":""},null,null,null,null,null,{"$f":"IF($C$5=\"\",\"\",$C$5)","v":""},{"$f":"IF(C5=\"drum mix plant\",SUM(N5:$N$6),0)","v":0},{"$f":"IF(N70=0,0,0.00021)","v":0},{"$f":"IF(O70=\"\",\"\",\"lb/ton\")","v":"lb/ton"},{"$f":"N70*O70","v":0},null,{"$f":"IF(N70=0,0,IF($C$10>0,$C$10*O70/2000,IF($C$11>0,$C$11*365*O70/2000,IF($C$12>0,$C$12*365*O70*N70/2000,IF(R70=\"\",Q70*8760/2000,R70*8760/2000)))))","v":0},{"$f":"IF(N70>0,$P$6*O70/2000,0)","v":0}]
[null,{"$f":"IF($C$4>3,\"Is Your Operation Controlled?:\",\"\")","v":""},null,null,{"$f":"IF($C$4>3,\"Silo Filling, Truck Loadout, Aggregate Transfer\",\"\")","v":""},null,null,{"$f":"IF($C$4>3,\"(tons/hr)\",\"\")","v":""},{"$f":"IF($C$4>3,\"(tons/yr)\",\"\")","v":""},null,null,null,"Methyl Chloroform"]
[null,null,null,null,{"$f":"IF($C$4>3,\"AP-4 EP-3\",\"\")","v":""},{"$f":"IF($C$4>3,\"AP-4 EU-3\",\"\")","v":""},{"$f":"IF($C$4>3,\"Silo Filling\",\"\")","v":""},null,null,null,null,null,{"$f":"IF($C$5=\"\",\"\",$C$5)","v":""},{"$f":"IF(C5=\"drum mix plant\",SUM(N5:N7),0)","v":0},{"$f":"IF(N72=0,0,0.000048)","v":0},{"$f":"IF(O72=\"\",\"\",\"lb/ton\")","v":"lb/ton"},{"$f":"N72*O72","v":0},null,{"$f":"IF(N72=0,0,IF($C$10>0,$C$10*O72/2000,IF($C$11>0,$C$11*365*O72/2000,IF($C$12>0,$C$12*365*O72*N72/2000,IF(R72=\"\",Q72*8760/2000,R72*8760/2000)))))","v":0},{"$f":"IF(N72>0,SUM($P$5:$P$7)*O72/2000,0)","v":0}]
[null,null,null,null,{"$f":"IF($C$4>3,\"AP-4 EP-3\",\"\")","v":""},{"$f":"IF($C$4>3,\"AP-4 EU-4\",\"\")","v":""},{"$f":"IF($C$4>3,\"Truck Loadout\",\"\")","v":""},null,null,null,null,null,"Propionaldehyde"]
[null,null,null,null,{"$f":"IF($C$4>3,\"AP-4 EP-3\",\"\")","v":""},{"$f":"IF($C$4>3,\"AP-4 EU-5\",\"\")","v":""},{"$f":"IF($C$4>3,\"Cold Aggregate Bins\",\"\")","v":""},null,null,null,null,null,{"$f":"IF($C$5=\"\",\"\",$C$5)","v":""},{"$f":"IF(C5=\"drum mix plant\",SUM(N5:$N$6),0)","v":0},{"$f":"IF(N74=0,0,0.00013)","v":0},{"$f":"IF(O74=\"\",\"\",\"lb/ton\")","v":"lb/ton"},{"$f":"N74*O74","v":0},null,{"$f":"IF(N74=0,0,IF($C$10>0,$C$10*O74/2000,IF($C$11>0,$C$11*365*O74/2000,IF($C$12>0,$C$12*365*O74*N74/2000,IF(R74=\"\",Q74*8760/2000,R74*8760/2000)))))","v":0},{"$f":"IF(N74>0,$P$6*O74/2000,0)","v":0}]
[null,null,null,null,null,null,null,null,null,null,null,null,"Quinone"]
[null,null,null,null,{"$f":"IF($C$4>3,\"Stock Pile Area\",\"\")","v":""},null,null,null,null,null,null,null,{"$f":"IF($C$5=\"\",\"\",$C$5)","v":""},{"$f":"IF(C5=\"drum mix plant\",SUM(N5:$N$6),SUM($N$5:$N$7))","v":0},{"$f":"IF(N76=0,0,IF(M76=\"Batch Mix Plant\",0.00027,IF(M76=\"Drum Mix Plant\",0.00016)))","v":0},{"$f":"IF(O76=\"\",\"\",\"lb/ton\")","v":"lb/ton"},{"$f":"N76*O76","v":0},null,{"$f":"IF(N76=0,0,IF($C$10>0,$C$10*O76/2000,IF($C$11>0,$C$11*365*O76/2000,IF($C$12>0,$C$12*365*O76*N76/2000,IF(R76=\"\",Q76*8760/2000,R76*8760/2000)))))","v":0},{"$f":"IF(C24=\"drum mix plant\",$P$6*O76/2000,SUM($P$5:$P$7)*O76/2000)","v":0}]
[null,null,null,null,null,{"$f":"IF($C$4>3,\"Emission Unit #\",\"\")","v":""},{"$f":"IF($C$4>3,\"Maximum Storage Area (acres)\",\"\")","v":""},{"$f":"IF($C$4>3,\"Actual Storage Area (acres)\",\"\")","v":""},{"$f":"IF($C$4>3,\"Actual Days in Existence (days)\",\"\")","v":""},null,null,null,"Toluene"]
[null,null,null,null,null,null,null,null,null,null,null,null,{"$f":"$C$5 & \" - Fuel Oil\"","v":" - Fuel Oil"},{"$f":"$N$5","v":0},{"$f":"IF(N78=0,0,LOOKUP(M78,'Emission Factors'!$A$5:$A$10,'Emission Factors'!$AJ$5:$AJ$10))","v":0},{"$f":"IF(O78=\"\",\"\",\"lb/ton\")","v":"lb/ton"},{"$f":"N78*O78","v":0},null,{"$f":"IF(N78=0,0,IF($C$10>0,$C$10*O78/2000,IF($C$11>0,$C$11*365*O78/2000,IF($C$12>0,$C$12*365*O78*N78/2000,IF(R78=\"\",Q78*8760/2000,R78*8760/2000)))))","v":0},{"$f":"P5*O78/2000","v":0}]
[null,null,null,null,null,null,null,null,null,null,null,null,{"$f":"$C$5 & \" - Waste Oil\"","v":" - Waste Oil"},{"$f":"$N$6","v":0},{"$f":"IF(N79=0,0,LOOKUP(M79,'Emission Factors'!$A$5:$A$10,'Emission Factors'!$AJ$5:$AJ$10))","v":0},{"$f":"IF(O79=\"\",\"\",\"lb/ton\")","v":"lb/ton"},{"$f":"N79*O79","v":0},null,{"$f":"IF(N79=0,0,IF(OR(AND($C$10>0,$N$78>0),AND($C$11>0,$N$78>0),AND($C$12>0,$N$78>0)),\"\",IF($C$10>0,$C$10*O79/2000,IF($C$11>0,$C$11*365*O79/2000,IF($C$12>0,$C$12*365*O79*N79/2000,IF(R79=\"\",Q79*8760/2000,R79*8760/2000))))))","v":0},{"$f":"P6*O79/2000","v":0}]
[null,{"$f":"IF($C$4>4,\"Asphalt Plant\",\"\")","v":""},{"$f":"IF($C$4>4,\"Site 5\",\"\")","v":""},null,{"$f":"IF($C$4>4,\"Emission Point #\",\"\")","v":""},{"$f":"IF($C$4>4,\"Emission    Unit #\",\"\")","v":""},{"$f":"IF($C$4>4,\"Process\",\"\")","v":""},{"$f":"IF($C$4>4,\"Maximum Hourly     Design Rate\",\"\")","v":""},{"$f":"IF($C$4>4,('Facility Information'!G65&\" Annual Throughput\"),\"\")","v":""},null,null,null,{"$f":"$C$5 & \" - Natural Gas\"","v":" - Natural Gas"},{"$f":"$N$7","v":0},{"$f":"IF(N80=0,0,LOOKUP(M80,'Emission Factors'!$A$5:$A$10,'Emission Factors'!$AJ$5:$AJ$10))","v":0},{"$f":"IF(O80=\"\",\"\",\"lb/ton\")","v":"lb/ton"},{"$f":"N80*O80","v":0},null,{"$f":"IF(N80=0,0,IF(OR(AND($C$10>0,$N$78>0),AND($C$11>0,$N$78>0),AND($C$12>0,$N$78>0)),\"\",IF(OR(AND($C$10>0,$N$79>0),AND($C$11>0,$N$79>0),AND($C$12>0,$N$79>0)),\"\",IF($C$10>0,$C$10*O80/2000,IF($C$11>0,$C$11*365*O80/2000,IF($C$12>0,$C$12*365*O80*N80/2000,IF(R80=\"\",Q80*8760/2000,R80*8760/2000)))))))","v":0},{"$f":"P7*O80/2000","v":0}]
[null,null,null,null,null,null,null,null,null,null,null,null,"Xylene"]
[null,{"$f":"IF($C$4>4,\"Site Name\",\"\")","v":""},null,null,{"$f":"IF($C$4>4,\"Dryers, Hot Screens, Mixer\",\"\")","v":""},null,null,{"$f":"IF($C$4>4,\"(tons/hr)\",\"\")","v":""},{"$f":"IF($C$4>4,\"(tons/yr)\",\"\")","v":""},"PM2.5","PM10",null,{"$f":"IF($C$5=\"\",\"\",$C$5)","v":""},{"$f":"SUM($N$5:$N$7)","v":0},{"$f":"IF(N82=0,0,IF(M82=\"Batch Mix Plant\",0.0027,IF(M82=\"Drum Mix Plant\",0.0002)))","v":0},{"$f":"IF(O82=\"\",\"\",\"lb/ton\")","v":"lb/ton"},{"$f":"N82*O82","v":0},null,{"$f":"IF(N82=0,0,IF($C$10>0,$C$10*O82/2000,IF($C$11>0,$C$11*365*O82/2000,IF($C$12>0,$C$12*365*O82*N82/2000,IF(R82=\"\",Q82*8760/2000,R82*8760/2000)))))","v":0},{"$f":"SUM($P$5:$P$7)*O82/2000","v":0}]
[null,{"$f":"IF($C$4>4,\"County:\",\"\")","v":""},null,null,{"$f":"IF(C85=\"\",\"\",\"AP-4 EP-1\")","v":""},{"$f":"IF(C85=\"\",\"\",\"AP-4 EU-1\")","v":""},{"$f":"IF(C85=\"\",\"\",C5 & \" - \"&C85)","v":""},null,null,{"$f":"IF(C86=\"\",\"\",IF(C86=\"yes\",LOOKUP(G83,'Emission Factors'!$A$12:$A$17,'Emission Factors'!$D$12:$D$17),LOOKUP(G83,'Emission Factors'!$A$5:$A$10,'Emission Factors'!$D$5:$D$10)))","v":""},{"$f":"IF(C86=\"\",\"\",IF(C86=\"yes\",LOOKUP(G83,'Emission Factors'!$A$12:$A$17,'Emission Factors'!$F$12:$F$17),LOOKUP(G83,'Emission Factors'!$A$5:$A$10,'Emission Factors'!$F$5:$F$10)))","v":""},null,"2,2,4-Trimethylpentane"]
[null,{"$f":"IF($C$4>4,\"Production Period (Dates):\",\"\")","v":""},null,null,{"$f":"IF($C$4>4,\"Liquid Asphalt Heater\",\"\")","v":""},null,null,{"$f":"IF($C$4>4,IF(C85=\"natural gas\",\"(MMCF/hr)\",\"(gallons/hr)\"),\"\")","v":""},{"$f":"IF($C$4>4,IF(C85=\"natural gas\",\"(MMCF/yr)\",\"(gallons/yr)\"),\"\")","v":""},null,null,null,{"$f":"IF($C$5=\"\",\"\",$C$5)","v":""},{"$f":"IF(C5=\"drum mix plant\",SUM(N5:N7),0)","v":0},{"$f":"IF(N84=0,0,0.00004)","v":0},{"$f":"IF(O84=\"\",\"\",\"lb/ton\")","v":"lb/ton"},{"$f":"N84*O84","v":0},null,{"$f":"IF(N84=0,0,IF($C$10>0,$C$10*O84/2000,IF($C$11>0,$C$11*365*O84/2000,IF($C$12>0,$C$12*365*O84*N84/2000,IF(R84=\"\",Q84*8760/2000,R84*8760/2000)))))","v":0},{"$f":"IF(N84>0,SUM($P$5:$P$7)*O84/2000,0)","v":0}]
[null,{"$f":"IF($C$4>4,\"Type of Fuel Used:\",\"\")","v":""},null,null,{"$f":"IF(C85=\"\",\"\",\"AP-4 EP-2\")","v":""},{"$f":"IF(C85=\"\",\"\",\"AP-4 EU-2\")","v":""},{"$f":"IF(C85=\"\",\"\",C85& \" Fired Heater\")","v":""},null,null,null,"Controlled?",null,"Chromium Compounds"]
[null,{"$f":"IF($C$4>4,\"Is Your Operation Controlled?:\",\"\")","v":""},null,null,{"$f":"IF($C$4>4,\"Silo Filling, Truck Loadout, Aggregate Transfer\",\"\")","v":""},null,null,{"$f":"IF($C$4>4,\"(tons/hr)\",\"\")","v":""},{"$f":"IF($C$4>4,\"(tons/yr)\",\"\")","v":""},null,{"$f":"IF(OR(C26=\"yes\",C41=\"yes\",C71=\"yes\",C86=\"yes\",C101=\"yes\",C116=\"yes\",C131=\"yes\",C146=\"yes\",C161=\"yes\"),1,0)","v":0},null,{"$f":"IF($C$5=\"\",\"\",$C$5)","v":""},{"$f":"IF(C5=\"drum mix plant\",SUM(N5:N6),0)","v":0},{"$f":"IF(N86=0,0,IF($K$86=1,0.0000055,0.000024))","v":0},{"$f":"IF(O86=\"\",\"\",\"lb/ton\")","v":"lb/ton"},{"$f":"IF($K$86=1,\"\",N86*O86)","v":0},{"$f":"IF($K$86=1,N86*O86,\"\")","v":""},{"$f":"IF(N86=0,0,IF($C$10>0,$C$10*O86/2000,IF($C$11>0,$C$11*365*O86/2000,IF($C$12>0,$C$12*365*O86*N86/2000,IF(R86=\"\",Q86*8760/2000,R86*8760/2000)))))","v":0},{"$f":"IF(N86>0,$P$5*O86/2000,0)","v":0}]
[null,null,null,null,{"$f":"IF($C$4>4,\"AP-4 EP-3\",\"\")","v":""},{"$f":"IF($C$4>4,\"AP-4 EU-3\",\"\")","v":""},{"$f":"IF($C$4>4,\"Silo Filling\",\"\")","v":""},null,null,null,null,null,"Lead Compounds"]
[null,null,null,null,{"$f":"IF($C$4>4,\"AP-4 EP-3\",\"\")","v":""},{"$f":"IF($C$4>4,\"AP-4 EU-4\",\"\")","v":""},{"$f":"IF($C$4>4,\"Truck Loadout\",\"\")","v":""},null,null,null,null,null,{"$f":"IF($C$5=\"\",\"\",$C$5)","v":""},{"$f":"IF(C5=\"drum mix plant\",SUM(N5:N6),0)","v":0},{"$f":"IF(N88=0,0,IF($K$86=1,0.000015,0.00054))","v":0},{"$f":"IF(O88=\"\",\"\",\"lb/ton\")","v":"lb/ton"},{"$f":"IF($K$86=1,\"\",N88*O88)","v":0},{"$f":"IF($K$86=1,N88*O88,\"\")","v":""},{"$f":"IF(N88=0,0,IF($C$10>0,$C$10*O88/2000,IF($C$11>0,$C$11*365*O88/2000,IF($C$12>0,$C$12*365*O88*N88/2000,IF(R88=\"\",Q88*8760/2000,R88*8760/2000)))))","v":0},{"$f":"IF(N88>0,$P$5*O88/2000,0)","v":0}]
[null,null,null,null,{"$f":"IF($C$4>4,\"AP-4 EP-3\",\"\")","v":""},{"$f":"IF($C$4>4,\"AP-4 EU-5\",\"\")","v":""},{"$f":"IF($C$4>4,\"Cold Aggregate Bins\",\"\")","v":""},null,null,null,null,null,"Manganese Compounds",null,null,null,0]
[null,null,null,null,null,null,null,null,null,null,null,null,{"$f":"IF($C$5=\"\",\"\",$C$5)","v":""},{"$f":"IF(C5=\"drum mix plant\",SUM(N5:N6),0)","v":0},{"$f":"IF(N90=0,0,IF($K$86=1,0.0000077,0.00065))","v":0},{"$f":"IF(O90=\"\",\"\",\"lb/ton\")","v":"lb/ton"},0,{"$f":"IF($K$86=1,N90*O90,\"\")","v":""},{"$f":"IF(N90=0,0,IF($C$10>0,$C$10*O90/2000,IF($C$11>0,$C$11*365*O90/2000,IF($C$12>0,$C$12*365*O90*N90/2000,IF(R90=\"\",Q90*8760/2000,R90*8760/2000)))))","v":0},{"$f":"IF(N90>0,$P$5*O90/2000,0)","v":0}]
[null,null,null,null,{"$f":"IF($C$4>4,\"Stock Pile Area\",\"\")","v":""},null,null,null,null,null,null,null,"Nickel Compounds",null,null,null,0]
[null,null,null,null,null,{"$f":"IF($C$4>4,\"Emission Unit #\",\"\")","v":""},{"$f":"IF($C$4>4,\"Maximum Storage Area (acres)\",\"\")","v":""},{"$f":"IF($C$4>4,\"Actual Storage Area (acres)\",\"\")","v":""},{"$f":"IF($C$4>4,\"Actual Days in Existence (days)\",\"\")","v":""},null,null,null,{"$f":"$C$5 & \" - Fuel Oil\"","v":" - Fuel Oil"},{"$f":"IF(C5=\"drum mix plant\",N5,0)","v":0},{"$f":"IF(N92=0,0,IF($K$86=1,0.000015,0.0013))","v":0},{"$f":"IF(O92=\"\",\"\",\"lb/ton\")","v":"lb/ton"},0,{"$f":"IF($K$86=1,N92*O92,\"\")","v":""},{"$f":"IF(N92=0,0,IF($C$10>0,$C$10*O92/2000,IF($C$11>0,$C$11*365*O92/2000,IF($C$12>0,$C$12*365*O92*N92/2000,IF(R92=\"\",Q92*8760/2000,R92*8760/2000)))))","v":0},{"$f":"IF(N92>0,$P$5*O92/2000,0)","v":0}]
[null,null,null,null,null,null,null,null,null,null,null,null,{"$f":"$C$5 & \" - Waste Oil\"","v":" - Waste Oil"},{"$f":"IF(C5=\"drum mix plant\",N6,0)","v":0},{"$f":"IF(N93=0,0,IF($K$86=1,0.000015,0.0013))","v":0},{"$f":"IF(O93=\"\",\"\",\"lb/ton\")","v":"lb/ton"},0,{"$f":"IF($K$86=1,N93*O93,\"\")","v":""},{"$f":"IF(N93=0,0,IF($C$10>0,$C$10*O93/2000,IF($C$11>0,$C$11*365*O93/2000,IF($C$12>0,$C$12*365*O93*N93/2000,IF(R93=\"\",Q93*8760/2000,R93*8760/2000)))))","v":0},{"$f":"IF(N93>0,$P$6*O93/2000,0)","v":0}]
[null,null,null,null,null,null,null,null,null,null,null,null,{"$f":"$C$5 & \" - Natural Gas\"","v":" - Natural Gas"},{"$f":"IF(C5=\"drum mix plant\",N7,0)","v":0},{"$f":"IF(N94=0,0,IF($K$86=1,0.000063,0.00063))","v":0},{"$f":"IF(O94=\"\",\"\",\"lb/ton\")","v":"lb/ton"},{"$f":"IF($K$86=1,\"\",N94*O94)","v":0},{"$f":"IF($K$86=1,N94*O94,\"\")","v":""},{"$f":"IF(N94=0,0,IF($C$10>0,$C$10*O94/2000,IF($C$11>0,$C$11*365*O94/2000,IF($C$12>0,$C$12*365*O94*N94/2000,IF(R94=\"\",Q94*8760/2000,R94*8760/2000)))))","v":0},{"$f":"IF(N94>0,$P$7*O94/2000,0)","v":0}]
[null,{"$f":"IF($C$4>5,\"Asphalt Plant\",\"\")","v":""},{"$f":"IF($C$4>5,\"Site 6\",\"\")","v":""},null,{"$f":"IF($C$4>5,\"Emission Point #\",\"\")","v":""},{"$f":"IF($C$4>5,\"Emission    Unit #\",\"\")","v":""},{"$f":"IF($C$4>5,\"Process\",\"\")","v":""},{"$f":"IF($C$4>5,\"Maximum Hourly     Design Rate\",\"\")","v":""},{"$f":"IF($C$4>5,('Facility Information'!G80&\" Annual Throughput\"),\"\")","v":""}]
[]
[null,{"$f":"IF($C$4>5,\"Site Name\",\"\")","v":""},null,null,{"$f":"IF($C$4>5,\"Dryers, Hot Screens, Mixer\",\"\")","v":""},null,null,{"$f":"IF($C$4>5,\"(tons/hr)\",\"\")","v":""},{"$f":"IF($C$4>5,\"(tons/yr)\",\"\")","v":""},"PM2.5","PM10"]
[null,{"$f":"IF($C$4>5,\"County:\",\"\")","v":""},null,null,{"$f":"IF(C100=\"\",\"\",\"AP-4 EP-1\")","v":""},{"$f":"IF(C100=\"\",\"\",\"AP-4 EU-1\")","v":""},{"$f":"IF(C100=\"\",\"\",C5 & \" - \"&C100)","v":""},null,null,{"$f":"IF(C101=\"\",\"\",IF(C101=\"yes\",LOOKUP(G98,'Emission Factors'!$A$12:$A$17,'Emission Factors'!$D$12:$D$17),LOOKUP(G98,'Emission Factors'!$A$5:$A$10,'Emission Factors'!$D$5:$D$10)))","v":""},{"$f":"IF(C101=\"\",\"\",IF(C101=\"yes\",LOOKUP(G98,'Emission Factors'!$A$12:$A$17,'Emission Factors'!$F$12:$F$17),LOOKUP(G98,'Emission Factors'!$A$5:$A$10,'Emission Factors'!$F$5:$F$10)))","v":""}]
[null,{"$f":"IF($C$4>5,\"Production Period (Dates):\",\"\")","v":""},null,null,{"$f":"IF($C$4>5,\"Liquid Asphalt Heater\",\"\")","v":""},null,null,{"$f":"IF($C$4>5,IF(C100=\"natural gas\",\"(MMCF/hr)\",\"(gallons/hr)\"),\"\")","v":""},{"$f":"IF($C$4>5,IF(C100=\"natural gas\",\"(MMCF/yr)\",\"(gallons/yr)\"),\"\")","v":""}]
[null,{"$f":"IF($C$4>5,\"Type of Fuel Used:\",\"\")","v":""},null,null,{"$f":"IF(C100=\"\",\"\",\"AP-4 EP-2\")","v":""},{"$f":"IF(C100=\"\",\"\",\"AP-4 EU-2\")","v":""},{"$f":"IF(C100=\"\",\"\",C100& \" Fired Heater\")","v":""}]
[null,{"$f":"IF($C$4>5,\"Is Your Operation Controlled?:\",\"\")","v":""},null,null,{"$f":"IF($C$4>5,\"Silo Filling, Truck Loadout, Aggregate Transfer\",\"\")","v":""},null,null,{"$f":"IF($C$4>5,\"(tons/hr)\",\"\")","v":""},{"$f":"IF($C$4>5,\"(tons/yr)\",\"\")","v":""}]
[null,null,null,null,{"$f":"IF($C$4>5,\"AP-4 EP-3\",\"\")","v":""},{"$f":"IF($C$4>5,\"AP-4 EU-3\",\"\")","v":""},{"$f":"IF($C$4>5,\"Silo Filling\",\"\")","v":""}]
[null,null,null,null,{"$f":"IF($C$4>5,\"AP-4 EP-3\",\"\")","v":""},{"$f":"IF($C$4>5,\"AP-4 EU-4\",\"\")","v":""},{"$f":"IF($C$4>5,\"Truck Loadout\",\"\")","v":""}]
[null,null,null,null,{"$f":"IF($C$4>5,\"AP-4 EP-3\",\"\")","v":""},{"$f":"IF($C$4>5,\"AP-4 EU-5\",\"\")","v":""},{"$f":"IF($C$4>5,\"Cold Aggregate Bins\",\"\")","v":""}]
[]
[null,null,null,null,{"$f":"IF($C$4>5,\"Stock Pile Area\",\"\")","v":""}]
[null,null,null,null,null,{"$f":"IF($C$4>5,\"Emission Unit #\",\"\")","v":""},{"$f":"IF($C$4>5,\"Maximum Storage Area (acres)\",\"\")","v":""},{"$f":"IF($C$4>5,\"Actual Storage Area (acres)\",\"\")","v":""},{"$f":"IF($C$4>5,\"Actual Days in Existence (days)\",\"\")","v":""}]
[]
[]
[null,{"$f":"IF($C$4>6,\"Asphalt Plant\",\"\")","v":""},{"$f":"IF($C$4>6,\"Site 7\",\"\")","v":""},null,{"$f":"IF($C$4>6,\"Emission Point #\",\"\")","v":""},{"$f":"IF($C$4>6,\"Emission    Unit #\",\"\")","v":""},{"$f":"IF($C$4>6,\"Process\",\"\")","v":""},{"$f":"IF($C$4>6,\"Maximum Hourly     Design Rate\",\"\")","v":""},{"$f":"IF($C$4>6,('Facility Information'!G95&\" Annual Throughput\"),\"\")","v":""}]
[]
[null,{"$f":"IF($C$4>6,\"Site Name\",\"\")","v":""},null,null,{"$f":"IF($C$4>6,\"Dryers, Hot Screens, Mixer\",\"\")","v":""},null,null,{"$f":"IF($C$4>6,\"(tons/hr)\",\"\")","v":""},{"$f":"IF($C$4>6,\"(tons/yr)\",\"\")","v":""},"PM2.5","PM10"]
[null,{"$f":"IF($C$4>6,\"County:\",\"\")","v":""},null,null,{"$f":"IF(C115=\"\",\"\",\"AP-4 EP-1\")","v":""},{"$f":"IF(C115=\"\",\"\",\"AP-4 EU-1\")","v":""},{"$f":"IF(C115=\"\",\"\",C5 & \" - \"&C115)","v":""},null,null,{"$f":"IF(C116=\"\",\"\",IF(C116=\"yes\",LOOKUP(G113,'Emission Factors'!$A$12:$A$17,'Emission Factors'!$D$12:$D$17),LOOKUP(G113,'Emission Factors'!$A$5:$A$10,'Emission Factors'!$D$5:$D$10)))","v":""},{"$f":"IF(C116=\"\",\"\",IF(C116=\"yes\",LOOKUP(G113,'Emission Factors'!$A$12:$A$17,'Emission Factors'!$F$12:$F$17),LOOKUP(G113,'Emission Factors'!$A$5:$A$10,'Emission Factors'!$F$5:$F$10)))","v":""}]
[null,{"$f":"IF($C$4>6,\"Production Period (Dates):\",\"\")","v":""},null,null,{"$f":"IF($C$4>6,\"Liquid Asphalt Heater\",\"\")","v":""},null,null,{"$f":"IF($C$4>6,IF(C115=\"natural gas\",\"(MMCF/hr)\",\"(gallons/hr)\"),\"\")","v":""},{"$f":"IF($C$4>6,IF(C115=\"natural gas\",\"(MMCF/yr)\",\"(gallons/yr)\"),\"\")","v":""}]
[null,{"$f":"IF($C$4>6,\"Type of Fuel Used:\",\"\")","v":""},null,null,{"$f":"IF(C115=\"\",\"\",\"AP-4 EP-2\")","v":""},{"$f":"IF(C115=\"\",\"\",\"AP-4 EU-2\")","v":""},{"$f":"IF(C115=\"\",\"\",C115& \" Fired Heater\")","v":""}]
[null,{"$f":"IF($C$4>6,\"Is Your Operation Controlled?:\",\"\")","v":""},null,null,{"$f":"IF($C$4>6,\"Silo Filling, Truck Loadout, Aggregate Transfer\",\"\")","v":""},null,null,{"$f":"IF($C$4>6,\"(tons/hr)\",\"\")","v":""},{"$f":"IF($C$4>6,\"(tons/yr)\",\"\")","v":""}]
[null,null,null,null,{"$f":"IF($C$4>6,\"AP-4 EP-3\",\"\")","v":""},{"$f":"IF($C$4>6,\"AP-4 EU-3\",\"\")","v":""},{"$f":"IF($C$4>6,\"Silo Filling\",\"\")","v":""}]
[null,null,null,null,{"$f":"IF($C$4>6,\"AP-4 EP-3\",\"\")","v":""},{"$f":"IF($C$4>6,\"AP-4 EU-4\",\"\")","v":""},{"$f":"IF($C$4>6,\"Truck Loadout\",\"\")","v":""}]
[null,null,null,null,{"$f":"IF($C$4>6,\"AP-4 EP-3\",\"\")","v":""},{"$f":"IF($C$4>6,\"AP-4 EU-5\",\"\")","v":""},{"$f":"IF($C$4>6,\"Cold Aggregate Bins\",\"\")","v":""}]
[]
[null,null,null,null,{"$f":"IF($C$4>6,\"Stock Pile Area\",\"\")","v":""}]
[null,null,null,null,null,{"$f":"IF($C$4>6,\"Emission Unit #\",\"\")","v":""},{"$f":"IF($C$4>6,\"Maximum Storage Area (acres)\",\"\")","v":""},{"$f":"IF($C$4>6,\"Actual Storage Area (acres)\",\"\")","v":""},{"$f":"IF($C$4>6,\"Actual Days in Existence (days)\",\"\")","v":""}]
[]
[]
[null,{"$f":"IF($C$4>7,\"Asphalt Plant\",\"\")","v":""},{"$f":"IF($C$4>7,\"Site 8\",\"\")","v":""},null,{"$f":"IF($C$4>7,\"Emission Point #\",\"\")","v":""},{"$f":"IF($C$4>7,\"Emission    Unit #\",\"\")","v":""},{"$f":"IF($C$4>7,\"Process\",\"\")","v":""},{"$f":"IF($C$4>7,\"Maximum Hourly     Design Rate\",\"\")","v":""},{"$f":"IF($C$4>7,('Facility Information'!G110&\" Annual Throughput\"),\"\")","v":""}]
[]
[null,{"$f":"IF($C$4>7,\"Site Name\",\"\")","v":""},null,null,{"$f":"IF($C$4>7,\"Dryers, Hot Screens, Mixer\",\"\")","v":""},null,null,{"$f":"IF($C$4>7,\"(tons/hr)\",\"\")","v":""},{"$f":"IF($C$4>7,\"(tons/yr)\",\"\")","v":""},"PM2.5","PM10"]
[null,{"$f":"IF($C$4>7,\"County:\",\"\")","v":""},null,null,{"$f":"IF(C130=\"\",\"\",\"AP-4 EP-1\")","v":""},{"$f":"IF(C130=\"\",\"\",\"AP-4 EU-1\")","v":""},{"$f":"IF(C130=\"\",\"\",C5 & \" - \"&C130)","v":""},null,null,{"$f":"IF(C131=\"\",\"\",IF(C131=\"yes\",LOOKUP(G128,'Emission Factors'!$A$12:$A$17,'Emission Factors'!$D$12:$D$17),LOOKUP(G128,'Emission Factors'!$A$5:$A$10,'Emission Factors'!$D$5:$D$10)))","v":""},{"$f":"IF(C131=\"\",\"\",IF(C131=\"yes\",LOOKUP(G128,'Emission Factors'!$A$12:$A$17,'Emission Factors'!$F$12:$F$17),LOOKUP(G128,'Emission Factors'!$A$5:$A$10,'Emission Factors'!$F$5:$F$10)))","v":""}]
[null,{"$f":"IF($C$4>7,\"Production Period (Dates):\",\"\")","v":""},null,null,{"$f":"IF($C$4>7,\"Liquid Asphalt Heater\",\"\")","v":""},null,null,{"$f":"IF($C$4>7,IF(C130=\"natural gas\",\"(MMCF/hr)\",\"(gallons/hr)\"),\"\")","v":""},{"$f":"IF($C$4>7,IF(C130=\"natural gas\",\"(MMCF/yr)\",\"(gallons/yr)\"),\"\")","v":""}]
[null,{"$f":"IF($C$4>7,\"Type of Fuel Used:\",\"\")","v":""},null,null,{"$f":"IF(C130=\"\",\"\",\"AP-4 EP-2\")","v":""},{"$f":"IF(C130=\"\",\"\",\"AP-4 EU-2\")","v":""},{"$f":"IF(C130=\"\",\"\",C130& \" Fired Heater\")","v":""}]
[null,{"$f":"IF($C$4>7,\"Is Your Operation Controlled?:\",\"\")","v":""},null,null,{"$f":"IF($C$4>7,\"Silo Filling, Truck Loadout, Aggregate Transfer\",\"\")","v":""},null,null,{"$f":"IF($C$4>7,\"(tons/hr)\",\"\")","v":""},{"$f":"IF($C$4>7,\"(tons/yr)\",\"\")","v":""}]
[null,null,null,null,{"$f":"IF($C$4>7,\"AP-4 EP-3\",\"\")","v":""},{"$f":"IF($C$4>7,\"AP-4 EU-3\",\"\")","v":""},{"$f":"IF($C$4>7,\"Silo Filling\",\"\")","v":""}]
[null,null,null,null,{"$f":"IF($C$4>7,\"AP-4 EP-3\",\"\")","v":""},{"$f":"IF($C$4>7,\"AP-4 EU-4\",\"\")","v":""},{"$f":"IF($C$4>7,\"Truck Loadout\",\"\")","v":""}]
[null,null,null,null,{"$f":"IF($C$4>7,\"AP-4 EP-3\",\"\")","v":""},{"$f":"IF($C$4>7,\"AP-4 EU-5\",\"\")","v":""},{"$f":"IF($C$4>7,\"Cold Aggregate Bins\",\"\")","v":""}]
[]
[null,null,null,null,{"$f":"IF($C$4>7,\"Stock Pile Area\",\"\")","v":""}]
[null,null,null,null,null,{"$f":"IF($C$4>7,\"Emission Unit #\",\"\")","v":""},{"$f":"IF($C$4>7,\"Maximum Storage Area (acres)\",\"\")","v":""},{"$f":"IF($C$4>7,\"Actual Storage Area (acres)\",\"\")","v":""},{"$f":"IF($C$4>7,\"Actual Days in Existence (days)\",\"\")","v":""}]
[]
[]
[null,{"$f":"IF($C$4>8,\"Asphalt Plant\",\"\")","v":""},{"$f":"IF($C$4>8,\"Site 9\",\"\")","v":""},null,{"$f":"IF($C$4>8,\"Emission Point #\",\"\")","v":""},{"$f":"IF($C$4>8,\"Emission    Unit #\",\"\")","v":""},{"$f":"IF($C$4>8,\"Process\",\"\")","v":""},{"$f":"IF($C$4>8,\"Maximum Hourly     Design Rate\",\"\")","v":""},{"$f":"IF($C$4>8,('Facility Information'!G125&\" Annual Throughput\"),\"\")","v":""}]
[]
[null,{"$f":"IF($C$4>8,\"Site Name\",\"\")","v":""},null,null,{"$f":"IF($C$4>8,\"Dryers, Hot Screens, Mixer\",\"\")","v":""},null,null,{"$f":"IF($C$4>8,\"(tons/hr)\",\"\")","v":""},{"$f":"IF($C$4>8,\"(tons/yr)\",\"\")","v":""},"PM2.5","PM10"]
[null,{"$f":"IF($C$4>8,\"County:\",\"\")","v":""},null,null,{"$f":"IF(C145=\"\",\"\",\"AP-4 EP-1\")","v":""},{"$f":"IF(C145=\"\",\"\",\"AP-4 EU-1\")","v":""},{"$f":"IF(C145=\"\",\"\",C5 & \" - \"&C145)","v":""},null,null,{"$f":"IF(C146=\"\",\"\",IF(C146=\"yes\",LOOKUP(G143,'Emission Factors'!$A$12:$A$17,'Emission Factors'!$D$12:$D$17),LOOKUP(G143,'Emission Factors'!$A$5:$A$10,'Emission Factors'!$D$5:$D$10)))","v":""},{"$f":"IF(C146=\"\",\"\",IF(C146=\"yes\",LOOKUP(G143,'Emission Factors'!$A$12:$A$17,'Emission Factors'!$F$12:$F$17),LOOKUP(G143,'Emission Factors'!$A$5:$A$10,'Emission Factors'!$F$5:$F$10)))","v":""}]
[null,{"$f":"IF($C$4>8,\"Production Period (Dates):\",\"\")","v":""},null,null,{"$f":"IF($C$4>8,\"Liquid Asphalt Heater\",\"\")","v":""},null,null,{"$f":"IF($C$4>8,IF(C145=\"natural gas\",\"(MMCF/hr)\",\"(gallons/hr)\"),\"\")","v":""},{"$f":"IF($C$4>8,IF(C145=\"natural gas\",\"(MMCF/yr)\",\"(gallons/yr)\"),\"\")","v":""}]
[null,{"$f":"IF($C$4>8,\"Type of Fuel Used:\",\"\")","v":""},null,null,{"$f":"IF(C145=\"\",\"\",\"AP-4 EP-2\")","v":""},{"$f":"IF(C145=\"\",\"\",\"AP-4 EU-2\")","v":""},{"$f":"IF(C145=\"\",\"\",C145& \" Fired Heater\")","v":""}]
[null,{"$f":"IF($C$4>8,\"Is Your Operation Controlled?:\",\"\")","v":""},null,null,{"$f":"IF($C$4>8,\"Silo Filling, Truck Loadout, Aggregate Transfer\",\"\")","v":""},null,null,{"$f":"IF($C$4>8,\"(tons/hr)\",\"\")","v":""},{"$f":"IF($C$4>8,\"(tons/yr)\",\"\")","v":""}]
[null,null,null,null,{"$f":"IF($C$4>8,\"AP-4 EP-3\",\"\")","v":""},{"$f":"IF($C$4>8,\"AP-4 EU-3\",\"\")","v":""},{"$f":"IF($C$4>8,\"Silo Filling\",\"\")","v":""}]
[null,null,null,null,{"$f":"IF($C$4>8,\"AP-4 EP-3\",\"\")","v":""},{"$f":"IF($C$4>8,\"AP-4 EU-4\",\"\")","v":""},{"$f":"IF($C$4>8,\"Truck Loadout\",\"\")","v":""}]
[null,null,null,null,{"$f":"IF($C$4>8,\"AP-4 EP-3\",\"\")","v":""},{"$f":"IF($C$4>8,\"AP-4 EU-5\",\"\")","v":""},{"$f":"IF($C$4>8,\"Cold Aggregate Bins\",\"\")","v":""}]
[]
[null,null,null,null,{"$f":"IF($C$4>8,\"Stock Pile Area\",\"\")","v":""}]
[null,null,null,null,null,{"$f":"IF($C$4>8,\"Emission Unit #\",\"\")","v":""},{"$f":"IF($C$4>8,\"Maximum Storage Area (acres)\",\"\")","v":""},{"$f":"IF($C$4>8,\"Actual Storage Area (acres)\",\"\")","v":""},{"$f":"IF($C$4>8,\"Actual Days in Existence (days)\",\"\")","v":""}]
[]
[]
[null,{"$f":"IF($C$4>9,\"Asphalt Plant\",\"\")","v":""},{"$f":"IF($C$4>9,\"Site 10\",\"\")","v":""},null,{"$f":"IF($C$4>9,\"Emission Point #\",\"\")","v":""},{"$f":"IF($C$4>9,\"Emission    Unit #\",\"\")","v":""},{"$f":"IF($C$4>9,\"Process\",\"\")","v":""},{"$f":"IF($C$4>9,\"Maximum Hourly     Design Rate\",\"\")","v":""},{"$f":"IF($C$4>9,('Facility Information'!G140&\" Annual Throughput\"),\"\")","v":""}]
[]
[null,{"$f":"IF($C$4>9,\"Site Name\",\"\")","v":""},null,null,{"$f":"IF($C$4>9,\"Dryers, Hot Screens, Mixer\",\"\")","v":""},null,null,{"$f":"IF($C$4>9,\"(tons/hr)\",\"\")","v":""},{"$f":"IF($C$4>9,\"(tons/yr)\",\"\")","v":""},"PM2.5","PM10"]
[null,{"$f":"IF($C$4>9,\"County:\",\"\")","v":""},null,null,{"$f":"IF(C160=\"\",\"\",\"AP-4 EP-1\")","v":""},{"$f":"IF(C160=\"\",\"\",\"AP-4 EU-1\")","v":""},{"$f":"IF(C160=\"\",\"\",C5 & \" - \"&C160)","v":""},null,null,{"$f":"IF(C161=\"\",\"\",IF(C161=\"yes\",LOOKUP(G158,'Emission Factors'!$A$12:$A$17,'Emission Factors'!$D$12:$D$17),LOOKUP(G158,'Emission Factors'!$A$5:$A$10,'Emission Factors'!$D$5:$D$10)))","v":""},{"$f":"IF(C161=\"\",\"\",IF(C161=\"yes\",LOOKUP(G158,'Emission Factors'!$A$12:$A$17,'Emission Factors'!$F$12:$F$17),LOOKUP(G158,'Emission Factors'!$A$5:$A$10,'Emission Factors'!$F$5:$F$10)))","v":""}]
[null,{"$f":"IF($C$4>9,\"Production Period (Dates):\",\"\")","v":""},null,null,{"$f":"IF($C$4>9,\"Liquid Asphalt Heater\",\"\")","v":""},null,null,{"$f":"IF($C$4>9,IF(C160=\"natural gas\",\"(MMCF/hr)\",\"(gallons/hr)\"),\"\")","v":""},{"$f":"IF($C$4>9,IF(C160=\"natural gas\",\"(MMCF/yr)\",\"(gallons/yr)\"),\"\")","v":""}]
[null,{"$f":"IF($C$4>9,\"Type of Fuel Used:\",\"\")","v":""},null,null,{"$f":"IF(C160=\"\",\"\",\"AP-4 EP-2\")","v":""},{"$f":"IF(C160=\"\",\"\",\"AP-4 EU-2\")","v":""},{"$f":"IF(C160=\"\",\"\",C160& \" Fired Heater\")","v":""}]
[null,{"$f":"IF($C$4>9,\"Is Your Operation Controlled?:\",\"\")","v":""},null,null,{"$f":"IF($C$4>9,\"Silo Filling, Truck Loadout, Aggregate Transfer\",\"\")","v":""},null,null,{"$f":"IF($C$4>9,\"(tons/hr)\",\"\")","v":""},{"$f":"IF($C$4>9,\"(tons/yr)\",\"\")","v":""}]
[null,null,null,null,{"$f":"IF($C$4>9,\"AP-4 EP-3\",\"\")","v":""},{"$f":"IF($C$4>9,\"AP-4 EU-3\",\"\")","v":""},{"$f":"IF($C$4>9,\"Silo Filling\",\"\")","v":""}]
[null,null,null,null,{"$f":"IF($C$4>9,\"AP-4 EP-3\",\"\")","v":""},{"$f":"IF($C$4>9,\"AP-4 EU-4\",\"\")","v":""},{"$f":"IF($C$4>9,\"Truck Loadout\",\"\")","v":""}]
[null,null,null,null,{"$f":"IF($C$4>9,\"AP-4 EP-3\",\"\")","v":""},{"$f":"IF($C$4>9,\"AP-4 EU-5\",\"\")","v":""},{"$f":"IF($C$4>9,\"Cold Aggregate Bins\",\"\")","v":""}]
[]
[null,null,null,null,{"$f":"IF($C$4>9,\"Stock Pile Area\",\"\")","v":""}]
[null,null,null,null,null,{"$f":"IF($C$4>9,\"Emission Unit #\",\"\")","v":""},{"$f":"IF($C$4>9,\"Maximum Storage Area (acres)\",\"\")","v":""},{"$f":"IF($C$4>9,\"Actual Storage Area (acres)\",\"\")","v":""},{"$f":"IF($C$4>9,\"Actual Days in Existence (days)\",\"\")","v":""}]

{"sheet":"Asphalt Plant (AP-5)","index":5,"n_rows":167,"n_cols":20,"rows_kept":167,"cut":false,"hidden":true,"merged":[[156,4,156,6],[158,4,158,6],[160,4,160,6],[139,7,140,7],[139,8,140,8],[141,4,141,6],[143,4,143,6],[145,4,145,6],[154,4,155,4],[154,5,155,5],[154,6,155,6],[154,7,155,7],[154,8,155,8],[126,4,126,6],[128,4,128,6],[130,4,130,6],[139,4,140,4],[139,5,140,5],[139,6,140,6],[109,7,110,7],[109,8,110,8],[111,4,111,6],[113,4,113,6],[115,4,115,6],[124,4,125,4],[124,5,125,5],[124,6,125,6],[124,7,125,7],[124,8,125,8],[96,4,96,6],[98,4,98,6],[100,4,100,6],[109,4,110,4],[109,5,110,5],[109,6,110,6],[79,7,80,7],[79,8,80,8],[81,4,81,6],[83,4,83,6],[85,4,85,6],[94,4,95,4],[94,5,95,5],[94,6,95,6],[94,7,95,7],[94,8,95,8],[66,4,66,6],[68,4,68,6],[70,4,70,6],[79,4,80,4],[79,5,80,5],[79,6,80,6],[49,8,50,8],[51,4,51,6],[53,4,53,6],[55,4,55,6],[64,4,65,4],[64,5,65,5],[64,6,65,6],[64,7,65,7],[64,8,65,8],[38,4,38,6],[40,4,40,6],[49,4,50,4],[49,5,50,5],[49,6,50,6],[49,7,50,7],[34,15,35,15],[34,16,35,16],[34,17,35,17],[34,18,35,18],[34,19,35,19],[36,4,36,6],[34,4,35,4],[34,5,35,5],[34,6,35,6],[34,7,35,7],[34,8,35,8],[34,14,35,14],[18,17,19,17],[18,18,19,18],[18,19,19,19],[19,4,20,4],[19,5,20,5],[19,6,20,6],[19,7,20,7],[19,8,20,8],[2,15,3,15],[2,16,3,16],[3,17,4,19],[12,1,14,2],[13,14,13,15],[14,14,14,15],[18,13,19,13],[18,14,19,14],[18,15,19,15],[18,16,19,16],[0,1,0,2],[1,1,1,2],[1,7,1,8],[2,12,3,12],[2,13,3,13],[2,14,3,14]]}
[null,"ASPHALT PLANT (AP-5)"]
[null,"Please fill in the yellow boxes as applicable for your facility. ",null,null,null,null,null,"Values used for calculating emissions →",null,null,null,null,"Values Used to Calculate Potential and Actual Emissions for the Listed Processes at this Plant"]
[null,null,null,null,null,null,null,null,null,null,null,null,"Process","Maximum Design Rate","Units","Actual throughput","Units"]
[null,{"$f":"\"Number of Sites this Plant operated at in \"&'Facility Information'!G5&\":\"","v":"Number of Sites this Plant operated at in :"},null,null,null,null,null,null,null,null,null,null,null,null,null,null,null,"** As of 2016 Potential Emissions are no longer required to be reported in the Minor Source Emissions Inventory**"]
[null,"Plant Type:",null,null,null,null,null,null,null,null,null,null,{"$f":"$C$5 & \" - Fuel Oil\"","v":" - Fuel Oil"},{"$f":"MAX((IFERROR(OFFSET($G$22,MATCH(M5,$G$23,0),1),0)),((IFERROR(OFFSET($G$37,MATCH(M5,$G$38,0),1),0))),((IFERROR(OFFSET($G$52,MATCH(M5,$G$53,0),1),0))),((IFERROR(OFFSET($G$67,MATCH(M5,$G$68,0),1),0))),((IFERROR(OFFSET($G$82,MATCH(M5,$G$83,0),1),0))),((IFERROR(OFFSET($G$97,MATCH(M5,$G$98,0),1),0))),((IFERROR(OFFSET($G$112,MATCH(M5,$G$113,0),1),0))),((IFERROR(OFFSET($G$127,MATCH(M5,$G$128,0),1),0))),((IFERROR(OFFSET($G$142,MATCH(M5,$G$143,0),1),0))),((IFERROR(OFFSET($G$157,MATCH(M5,$G$158,0),1),0))))","v":0},"tons/hr",{"$f":"SUM((IFERROR(OFFSET($G$22,MATCH(M5,$G$23,0),2),0)),((IFERROR(OFFSET($G$37,MATCH(M5,$G$38,0),2),0))),((IFERROR(OFFSET($G$52,MATCH(M5,$G$53,0),2),0))),((IFERROR(OFFSET($G$67,MATCH(M5,$G$68,0),2),0))),((IFERROR(OFFSET($G$82,MATCH(M5,$G$83,0),2),0))),((IFERROR(OFFSET($G$97,MATCH(M5,$G$98,0),2),0))),((IFERROR(OFFSET($G$112,MATCH(M5,$G$113,0),2),0))),((IFERROR(OFFSET($G$127,MATCH(M5,$G$128,0),2),0))),((IFERROR(OFFSET($G$142,MATCH(M5,$G$143,0),2),0))),((IFERROR(OFFSET($G$157,MATCH(M5,$G$158,0),2),0))))","v":0},"tons/yr"]
[null,null,null,null,null,null,null,null,null,null,null,null,{"$f":"$C$5 & \" - Waste Oil\"","v":" - Waste Oil"},{"$f":"MAX((IFERROR(OFFSET($G$22,MATCH(M6,$G$23,0),1),0)),((IFERROR(OFFSET($G$37,MATCH(M6,$G$38,0),1),0))),((IFERROR(OFFSET($G$52,MATCH(M6,$G$53,0),1),0))),((IFERROR(OFFSET($G$67,MATCH(M6,$G$68,0),1),0))),((IFERROR(OFFSET($G$82,MATCH(M6,$G$83,0),1),0))),((IFERROR(OFFSET($G$97,MATCH(M6,$G$98,0),1),0))),((IFERROR(OFFSET($G$112,MATCH(M6,$G$113,0),1),0))),((IFERROR(OFFSET($G$127,MATCH(M6,$G$128,0),1),0))),((IFERROR(OFFSET($G$142,MATCH(M6,$G$143,0),1),0))),((IFERROR(OFFSET($G$157,MATCH(M6,$G$158,0),1),0))))","v":0},"tons/hr",{"$f":"SUM((IFERROR(OFFSET($G$22,MATCH(M6,$G$23,0),2),0)),((IFERROR(OFFSET($G$37,MATCH(M6,$G$38,0),2),0))),((IFERROR(OFFSET($G$52,MATCH(M6,$G$53,0),2),0))),((IFERROR(OFFSET($G$67,MATCH(M6,$G$68,0),2),0))),((IFERROR(OFFSET($G$82,MATCH(M6,$G$83,0),2),0))),((IFERROR(OFFSET($G$97,MATCH(M6,$G$98,0),2),0))),((IFERROR(OFFSET($G$112,MATCH(M6,$G$113,0),2),0))),((IFERROR(OFFSET($G$127,MATCH(M6,$G$128,0),2),0))),((IFERROR(OFFSET($G$142,MATCH(M6,$G$143,0),2),0))),((IFERROR(OFFSET($G$157,MATCH(M6,$G$158,0),2),0))))","v":0},"tons/yr"]
[null,"Plant Specific Permit Number: ",null,null,null,null,null,null,null,null,null,null,{"$f":"$C$5 & \" - Natural Gas\"","v":" - Natural Gas"},{"$f":"MAX((IFERROR(OFFSET($G$22,MATCH(M7,$G$23,0),1),0)),((IFERROR(OFFSET($G$37,MATCH(M7,$G$38,0),1),0))),((IFERROR(OFFSET($G$52,MATCH(M7,$G$53,0),1),0))),((IFERROR(OFFSET($G$67,MATCH(M7,$G$68,0),1),0))),((IFERROR(OFFSET($G$82,MATCH(M7,$G$83,0),1),0))),((IFERROR(OFFSET($G$97,MATCH(M7,$G$98,0),1),0))),((IFERROR(OFFSET($G$112,MATCH(M7,$G$113,0),1),0))),((IFERROR(OFFSET($G$127,MATCH(M7,$G$128,0),1),0))),((IFERROR(OFFSET($G$142,MATCH(M7,$G$143,0),1),0))),((IFERROR(OFFSET($G$157,MATCH(M7,$G$158,0),1),0))))","v":0},"tons/hr",{"$f":"SUM((IFERROR(OFFSET($G$22,MATCH(M7,$G$23,0),2),0)),((IFERROR(OFFSET($G$37,MATCH(M7,$G$38,0),2),0))),((IFERROR(OFFSET($G$52,MATCH(M7,$G$53,0),2),0))),((IFERROR(OFFSET($G$67,MATCH(M7,$G$68,0),2),0))),((IFERROR(OFFSET($G$82,MATCH(M7,$G$83,0),2),0))),((IFERROR(OFFSET($G$97,MATCH(M7,$G$98,0),2),0))),((IFERROR(OFFSET($G$112,MATCH(M7,$G$113,0),2),0))),((IFERROR(OFFSET($G$127,MATCH(M7,$G$128,0),2),0))),((IFERROR(OFFSET($G$142,MATCH(M7,$G$143,0),2),0))),((IFERROR(OFFSET($G$157,MATCH(M7,$G$158,0),2),0))))","v":0},"tons/yr"]
[null,null,null,null,null,null,null,null,null,null,null,null,"Fuel Oil Fired Heater",{"$f":"MAX((IFERROR(OFFSET($G$24,MATCH(\"Fuel Oil Fired Heater\",$G$25,0),1),0)),((IFERROR(OFFSET($G$39,MATCH(\"Fuel Oil Fired Heater\",$G$40,0),1),0))),((IFERROR(OFFSET($G$54,MATCH(\"Fuel Oil Fired Heater\",$G$55,0),1),0))),((IFERROR(OFFSET($G$69,MATCH(\"Fuel Oil Fired Heater\",$G$70,0),1),0))),((IFERROR(OFFSET($G$84,MATCH(\"Fuel Oil Fired Heater\",$G$85,0),1),0))),((IFERROR(OFFSET($G$99,MATCH(\"Fuel Oil Fired Heater\",$G$100,0),1),0))),((IFERROR(OFFSET($G$114,MATCH(\"Fuel Oil Fired Heater\",$G$115,0),1),0))),((IFERROR(OFFSET($G$129,MATCH(\"Fuel Oil Fired Heater\",$G$130,0),1),0))),((IFERROR(OFFSET($G$144,MATCH(\"Fuel Oil Fired Heater\",$G$145,0),1),0))),((IFERROR(OFFSET($G$159,MATCH(\"Fuel Oil Fired Heater\",$G$160,0),1),0))))","v":0},"gallons/hr",{"$f":"SUM((IFERROR(OFFSET($G$24,MATCH(\"Fuel Oil Fired Heater\",$G$25,0),2),0)),((IFERROR(OFFSET($G$39,MATCH(\"Fuel Oil Fired Heater\",$G$40,0),2),0))),((IFERROR(OFFSET($G$54,MATCH(\"Fuel Oil Fired Heater\",$G$55,0),2),0))),((IFERROR(OFFSET($G$69,MATCH(\"Fuel Oil Fired Heater\",$G$70,0),2),0))),((IFERROR(OFFSET($G$84,MATCH(\"Fuel Oil Fired Heater\",$G$85,0),2),0))),((IFERROR(OFFSET($G$99,MATCH(\"Fuel Oil Fired Heater\",$G$100,0),2),0))),((IFERROR(OFFSET($G$114,MATCH(\"Fuel Oil Fired Heater\",$G$115,0),2),0))),((IFERROR(OFFSET($G$129,MATCH(\"Fuel Oil Fired Heater\",$G$130,0),2),0))),((IFERROR(OFFSET($G$144,MATCH(\"Fuel Oil Fired Heater\",$G$145,0),2),0))),((IFERROR(OFFSET($G$159,MATCH(\"Fuel Oil Fired Heater\",$G$160,0),2),0))))","v":0},"gallons/yr"]
[null,"Plant Specific Operating Limits:",null,null,"Plant Specific Emission Limits:",null,null,null,null,null,null,null,"Waste Oil Fired Heater",{"$f":"MAX((IFERROR(OFFSET($G$24,MATCH(\"waste oil Fired Heater\",$G$25,0),1),0)),((IFERROR(OFFSET($G$39,MATCH(\"waste oil Fired Heater\",$G$40,0),1),0))),((IFERROR(OFFSET($G$54,MATCH(\"waste oil Fired Heater\",$G$55,0),1),0))),((IFERROR(OFFSET($G$69,MATCH(\"waste oil Fired Heater\",$G$70,0),1),0))),((IFERROR(OFFSET($G$84,MATCH(\"waste oil Fired Heater\",$G$85,0),1),0))),((IFERROR(OFFSET($G$99,MATCH(\"waste oil Fired Heater\",$G$100,0),1),0))),((IFERROR(OFFSET($G$114,MATCH(\"waste oil Fired Heater\",$G$115,0),1),0))),((IFERROR(OFFSET($G$129,MATCH(\"waste oil Fired Heater\",$G$130,0),1),0))),((IFERROR(OFFSET($G$144,MATCH(\"waste oil Fired Heater\",$G$145,0),1),0))),((IFERROR(OFFSET($G$159,MATCH(\"waste oil Fired Heater\",$G$160,0),1),0))))","v":0},"gallons/hr",{"$f":"SUM((IFERROR(OFFSET($G$24,MATCH(\"waste oil Fired Heater\",$G$25,0),2),0)),((IFERROR(OFFSET($G$39,MATCH(\"waste oil Fired Heater\",$G$40,0),2),0))),((IFERROR(OFFSET($G$54,MATCH(\"waste oil Fired Heater\",$G$55,0),2),0))),((IFERROR(OFFSET($G$69,MATCH(\"waste oil Fired Heater\",$G$70,0),2),0))),((IFERROR(OFFSET($G$84,MATCH(\"waste oil Fired Heater\",$G$85,0),2),0))),((IFERROR(OFFSET($G$99,MATCH(\"waste oil Fired Heater\",$G$100,0),2),0))),((IFERROR(OFFSET($G$114,MATCH(\"waste oil Fired Heater\",$G$115,0),2),0))),((IFERROR(OFFSET($G$129,MATCH(\"waste oil Fired Heater\",$G$130,0),2),0))),((IFERROR(OFFSET($G$144,MATCH(\"waste oil Fired Heater\",$G$145,0),2),0))),((IFERROR(OFFSET($G$159,MATCH(\"waste oil Fired Heater\",$G$160,0),2),0))))","v":0},"gallons/yr"]
[null,"Throughput Limit (tons/yr):",null,null,"Pollutant","lb/hr","tons/yr",null,null,null,null,null,"Natural Gas Fired Heater",{"$f":"MAX((IFERROR(OFFSET($G$24,MATCH(\"Natural Gas Fired Heater\",$G$25,0),1),0)),((IFERROR(OFFSET($G$39,MATCH(\"Natural Gas Fired Heater\",$G$40,0),1),0))),((IFERROR(OFFSET($G$54,MATCH(\"Natural Gas Fired Heater\",$G$55,0),1),0))),((IFERROR(OFFSET($G$69,MATCH(\"Natural Gas Fired Heater\",$G$70,0),1),0))),((IFERROR(OFFSET($G$84,MATCH(\"Natural Gas Fired Heater\",$G$85,0),1),0))),((IFERROR(OFFSET($G$99,MATCH(\"Natural Gas Fired Heater\",$G$100,0),1),0))),((IFERROR(OFFSET($G$114,MATCH(\"Natural Gas Fired Heater\",$G$115,0),1),0))),((IFERROR(OFFSET($G$129,MATCH(\"Natural Gas Fired Heater\",$G$130,0),1),0))),((IFERROR(OFFSET($G$144,MATCH(\"Natural Gas Fired Heater\",$G$145,0),1),0))),((IFERROR(OFFSET($G$159,MATCH(\"Natural Gas Fired Heater\",$G$160,0),1),0))))","v":0},"MMCF/hr",{"$f":"SUM((IFERROR(OFFSET($G$24,MATCH(\"Natural Gas Fired Heater\",$G$25,0),2),0)),((IFERROR(OFFSET($G$39,MATCH(\"Natural Gas Fired Heater\",$G$40,0),2),0))),((IFERROR(OFFSET($G$54,MATCH(\"Natural Gas Fired Heater\",$G$55,0),2),0))),((IFERROR(OFFSET($G$69,MATCH(\"Natural Gas Fired Heater\",$G$70,0),2),0))),((IFERROR(OFFSET($G$84,MATCH(\"Natural Gas Fired Heater\",$G$85,0),2),0))),((IFERROR(OFFSET($G$99,MATCH(\"Natural Gas Fired Heater\",$G$100,0),2),0))),((IFERROR(OFFSET($G$114,MATCH(\"Natural Gas Fired Heater\",$G$115,0),2),0))),((IFERROR(OFFSET($G$129,MATCH(\"Natural Gas Fired Heater\",$G$130,0),2),0))),((IFERROR(OFFSET($G$144,MATCH(\"Natural Gas Fired Heater\",$G$145,0),2),0))),((IFERROR(OFFSET($G$159,MATCH(\"Natural Gas Fired Heater\",$G$160,0),2),0))))","v":0},"MMCF/yr"]
[null,"Daily Throughput Limit (tons/day):",null,null,"PM2.5",null,null,null,null,null,null,null,"Silo Filling",{"$f":"MAX((IFERROR(OFFSET($G$26,MATCH(\"Silo Filling\",$G$27,0),1),0)),((IFERROR(OFFSET($G$41,MATCH(\"Silo Filling\",$G$42,0),1),0))),((IFERROR(OFFSET($G$56,MATCH(\"Silo Filling\",$G$57,0),1),0))),((IFERROR(OFFSET($G$71,MATCH(\"Silo Filling\",$G$72,0),1),0))),((IFERROR(OFFSET($G$86,MATCH(\"Silo Filling\",$G$87,0),1),0))),((IFERROR(OFFSET($G$101,MATCH(\"Silo Filling\",$G$102,0),1),0))),((IFERROR(OFFSET($G$116,MATCH(\"Silo Filling\",$G$117,0),1),0))),((IFERROR(OFFSET($G$131,MATCH(\"Silo Filling\",$G$132,0),1),0))),((IFERROR(OFFSET($G$146,MATCH(\"Silo Filling\",$G$147,0),1),0))),((IFERROR(OFFSET($G$161,MATCH(\"Silo Filling\",$G$162,0),1),0))))","v":0},"tons/hr",{"$f":"SUM((IFERROR(OFFSET($G$26,MATCH(\"Silo Filling\",$G$27,0),2),0)),((IFERROR(OFFSET($G$41,MATCH(\"Silo Filling\",$G$42,0),2),0))),((IFERROR(OFFSET($G$56,MATCH(\"Silo Filling\",$G$57,0),2),0))),((IFERROR(OFFSET($G$71,MATCH(\"Silo Filling\",$G$72,0),2),0))),((IFERROR(OFFSET($G$86,MATCH(\"Silo Filling\",$G$87,0),2),0))),((IFERROR(OFFSET($G$101,MATCH(\"Silo Filling\",$G$102,0),2),0))),((IFERROR(OFFSET($G$116,MATCH(\"Silo Filling\",$G$117,0),2),0))),((IFERROR(OFFSET($G$131,MATCH(\"Silo Filling\",$G$132,0),2),0))),((IFERROR(OFFSET($G$146,MATCH(\"Silo Filling\",$G$147,0),2),0))),((IFERROR(OFFSET($G$161,MATCH(\"Silo Filling\",$G$162,0),2),0))))","v":0},"tons/yr"]
[null,"Hours of Operation Limit (hours/day):",null,null,"PM10",null,null,null,null,null,null,null,"Truck Loadout",{"$f":"MAX((IFERROR(OFFSET(G27,MATCH(\"Truck Loadout\",G28,0),1),0)),((IFERROR(OFFSET(G42,MATCH(\"Truck Loadout\",G43,0),1),0))),((IFERROR(OFFSET(G57,MATCH(\"Truck Loadout\",G58,0),1),0))),((IFERROR(OFFSET(G72,MATCH(\"Truck Loadout\",G73,0),1),0))),((IFERROR(OFFSET(G87,MATCH(\"Truck Loadout\",G88,0),1),0))),((IFERROR(OFFSET(G102,MATCH(\"Truck Loadout\",G103,0),1),0))),((IFERROR(OFFSET(G117,MATCH(\"Truck Loadout\",G118,0),1),0))),((IFERROR(OFFSET(G132,MATCH(\"Truck Loadout\",G133,0),1),0))),((IFERROR(OFFSET(G147,MATCH(\"Truck Loadout\",G148,0),1),0))),((IFERROR(OFFSET(G162,MATCH(\"Truck Loadout\",G163,0),1),0))))","v":0},"tons/hr",{"$f":"SUM((IFERROR(OFFSET(G27,MATCH(\"Truck Loadout\",G28,0),2),0)),((IFERROR(OFFSET(G42,MATCH(\"Truck Loadout\",G43,0),2),0))),((IFERROR(OFFSET(G57,MATCH(\"Truck Loadout\",G58,0),2),0))),((IFERROR(OFFSET(G72,MATCH(\"Truck Loadout\",G73,0),2),0))),((IFERROR(OFFSET(G87,MATCH(\"Truck Loadout\",G88,0),2),0))),((IFERROR(OFFSET(G102,MATCH(\"Truck Loadout\",G103,0),2),0))),((IFERROR(OFFSET(G117,MATCH(\"Truck Loadout\",G118,0),2),0))),((IFERROR(OFFSET(G132,MATCH(\"Truck Loadout\",G133,0),2),0))),((IFERROR(OFFSET(G147,MATCH(\"Truck Loadout\",G148,0),2),0))),((IFERROR(OFFSET(G162,MATCH(\"Truck Loadout\",G163,0),2),0))))","v":0},"tons/yr"]
["Fuel Oil","Note: if the plant has an hrs/day and a tons/hr permit limit, those values should be multiplied together to calculate a tons/day limit and that value should be placed in cell C11.",null,null,"SO2",null,null,null,null,null,null,null,"Cold Aggregate Bins",{"$f":"MAX((IFERROR(OFFSET(G28,MATCH(\"Cold Aggregate Bins\",G29,0),1),0)),((IFERROR(OFFSET(G43,MATCH(\"Cold Aggregate Bins\",G44,0),1),0))),((IFERROR(OFFSET(G58,MATCH(\"Cold Aggregate Bins\",G59,0),1),0))),((IFERROR(OFFSET(G73,MATCH(\"Cold Aggregate Bins\",G74,0),1),0))),((IFERROR(OFFSET(G88,MATCH(\"Cold Aggregate Bins\",G89,0),1),0))),((IFERROR(OFFSET(G103,MATCH(\"Cold Aggregate Bins\",G104,0),1),0))),((IFERROR(OFFSET(G118,MATCH(\"Cold Aggregate Bins\",G119,0),1),0))),((IFERROR(OFFSET(G133,MATCH(\"Cold Aggregate Bins\",G134,0),1),0))),((IFERROR(OFFSET(G148,MATCH(\"Cold Aggregate Bins\",G149,0),1),0))),((IFERROR(OFFSET(G163,MATCH(\"Cold Aggregate Bins\",G164,0),1),0))))","v":0},"tons/hr",{"$f":"SUM((IFERROR(OFFSET(G28,MATCH(\"Cold Aggregate Bins\",G29,0),2),0)),((IFERROR(OFFSET(G43,MATCH(\"Cold Aggregate Bins\",G44,0),2),0))),((IFERROR(OFFSET(G58,MATCH(\"Cold Aggregate Bins\",G59,0),2),0))),((IFERROR(OFFSET(G73,MATCH(\"Cold Aggregate Bins\",G74,0),2),0))),((IFERROR(OFFSET(G88,MATCH(\"Cold Aggregate Bins\",G89,0),2),0))),((IFERROR(OFFSET(G103,MATCH(\"Cold Aggregate Bins\",G104,0),2),0))),((IFERROR(OFFSET(G118,MATCH(\"Cold Aggregate Bins\",G119,0),2),0))),((IFERROR(OFFSET(G133,MATCH(\"Cold Aggregate Bins\",G134,0),2),0))),((IFERROR(OFFSET(G148,MATCH(\"Cold Aggregate Bins\",G149,0),2),0))),((IFERROR(OFFSET(G163,MATCH(\"Cold Aggregate Bins\",G164,0),2),0))))","v":0},"tons/yr"]
["Natural Gas",null,null,null,"NOx",null,null,null,null,null,null,null,null,"Maximum (acres)","Actual (acres-day/yr)"]
["Waste Oil",null,null,null,"VOC",null,null,null,null,null,null,null,"Storage Pile",{"$f":"SUM(G33,G48,G63,G78,G93,G108,G123,G138,G153,G168,)","v":0},{"$f":"SUM(H33*I33,H48*I48,H63*I63,H78*I78,H93*I93,H108*I108,H123*I123,H138*I138,H153*I153,H168*I168)","v":0}]
[null,null,null,null,"CO"]
["Batch Mix Plant"]
["Drum Mix Plant",null,null,null,null,null,null,null,null,null,null,null,"Potential and Actual Emissions for the Listed Processes at this Plant"]
[null,null,null,null,null,null,null,null,null,null,null,null,null,"Maximum Design Rate (tons/hr)","Emission Factor","Units","Potential Uncontrolled Emissions (lb/hr)","Potential Controlled Emissions (lb/hr)","Potential Annual Emissions (tons/yr)","Actual Annual Emissions (tons/yr)"]
[null,"Asphalt Plant","Site 1",null,"Emission Point #","Emission     Unit #","Processes","Maximum Hourly     Design Rate",{"$f":"('Facility Information'!G5&\" Annual Throughput\")","v":" Annual Throughput"},null,null,null,"PM2.5"]
["YES",null,null,null,null,null,null,null,null,null,null,null,{"$f":"$C$5 & \" - Fuel Oil\"","v":" - Fuel Oil"},{"$f":"N5","v":0},{"$f":"IF(N21=0,0,IF(MAX((IFERROR(OFFSET($G$22,MATCH(M21,$G$23,0),3),0)),((IFERROR(OFFSET($G$37,MATCH(M21,$G$38,0),3),0))),((IFERROR(OFFSET($G$52,MATCH(M21,$G$53,0),3),0))),((IFERROR(OFFSET($G$67,MATCH(M21,$G$68,0),3),0))),((IFERROR(OFFSET($G$82,MATCH(M21,$G$83,0),3),0))),((IFERROR(OFFSET($G$97,MATCH(M21,$G$98,0),3),0))),((IFERROR(OFFSET($G$112,MATCH(M21,$G$113,0),3),0))),((IFERROR(OFFSET($G$127,MATCH(M21,$G$128,0),3),0))),((IFERROR(OFFSET($G$142,MATCH(M21,$G$143,0),3),0))),((IFERROR(OFFSET($G$157,MATCH(M21,$G$158,0),3),0))))=0,0,(MAX((IFERROR(OFFSET($G$22,MATCH(M21,$G$23,0),3),0)),((IFERROR(OFFSET($G$37,MATCH(M21,$G$38,0),3),0))),((IFERROR(OFFSET($G$52,MATCH(M21,$G$53,0),3),0))),((IFERROR(OFFSET($G$67,MATCH(M21,$G$68,0),3),0))),((IFERROR(OFFSET($G$82,MATCH(M21,$G$83,0),3),0))),((IFERROR(OFFSET($G$97,MATCH(M21,$G$98,0),3),0))),((IFERROR(OFFSET($G$112,MATCH(M21,$G$113,0),3),0))),((IFERROR(OFFSET($G$127,MATCH(M21,$G$128,0),3),0))),((IFERROR(OFFSET($G$142,MATCH(M21,$G$143,0),3),0))),((IFERROR(OFFSET($G$157,MATCH(M21,$G$158,0),3),0)))))))","v":0},{"$f":"IF(O21=\"\",\"\",\"lb/ton\")","v":"lb/ton"},{"$f":"IF(O21=0.27,N21*O21,IF(O21=1.54,N21*O21,\"\"))","v":""},{"$f":"IF(N21=0,\"\",IF(AND($F$11>0,$O$21>=$O$22,$O$21>=$O$23),$F$11,IF(O21=0.0083,N21*O21,IF(O21=0.007,N21*O21,\"\"))))","v":""},{"$f":"IF(N21=0,0,IF($G$11>0,$G$11,IF(AND(OR($C$10>0,$C$11>0,$C$12>0),$O$21>=$O$22,$O$21>=$O$23),(IF($C$10>0,$C$10*O21/2000,IF($C$11>0,$C$11*365*O21/2000,IF($C$12>0,$C$12*365*O21*N21/2000)))),IF(AND($F$11>0,$O$21>=$O$22,$O$21>=$O$23),$F$11*8760/2000,IF(AND(OR($C$10=\"\",$C$10=0),OR($C$11=\"\",$C$11=0),OR($C$12=\"\",$C$12=0),$F$11=\"\"),IF(R21=\"\",Q21*8760/2000,R21*8760/2000),\"\")))))","v":0},{"$f":"IF(N21=\"\",\"\",SUM((IFERROR(MATCH(M21,$G$23,0)*$I$23*$J$23/2000,0)),(IFERROR(MATCH(M21,$G$38,0)*$I$38*$J$38/2000,0)),(IFERROR(MATCH(M21,$G$53,0)*$I$53*$J$53/2000,0)),(IFERROR(MATCH(M21,$G$68,0)*$I$68*$J$68/2000,0)),(IFERROR(MATCH(M21,$G$83,0)*$I$83*$J$83/2000,0)),(IFERROR(MATCH(M21,$G$98,0)*$I$98*$J$98/2000,0)),(IFERROR(MATCH(M21,$G$113,0)*$I$113*$J$113/2000,0)),(IFERROR(MATCH(M21,$G$128,0)*$I$128*$J$128/2000,0)),(IFERROR(MATCH(M21,$G$143,0)*$I$143*$J$143/2000,0)),(IFERROR(MATCH(M21,$G$158,0)*$I$158*$J$158/2000,0))))","v":0}]
["NO","Site Name:",null,null,"Dryer, Hot Screens, Mixer",null,null,"(tons/hr)","(tons/yr)","PM2.5","PM10",null,{"$f":"$C$5 & \" - Waste Oil\"","v":" - Waste Oil"},{"$f":"N6","v":0},{"$f":"IF(N22=0,0,IF(MAX((IFERROR(OFFSET($G$22,MATCH(M22,$G$23,0),3),0)),((IFERROR(OFFSET($G$37,MATCH(M22,$G$38,0),3),0))),((IFERROR(OFFSET($G$52,MATCH(M22,$G$53,0),3),0))),((IFERROR(OFFSET($G$67,MATCH(M22,$G$68,0),3),0))),((IFERROR(OFFSET($G$82,MATCH(M22,$G$83,0),3),0))),((IFERROR(OFFSET($G$97,MATCH(M22,$G$98,0),3),0))),((IFERROR(OFFSET($G$112,MATCH(M22,$G$113,0),3),0))),((IFERROR(OFFSET($G$127,MATCH(M22,$G$128,0),3),0))),((IFERROR(OFFSET($G$142,MATCH(M22,$G$143,0),3),0))),((IFERROR(OFFSET($G$157,MATCH(M22,$G$158,0),3),0))))=0,0,(MAX((IFERROR(OFFSET($G$22,MATCH(M22,$G$23,0),3),0)),((IFERROR(OFFSET($G$37,MATCH(M22,$G$38,0),3),0))),((IFERROR(OFFSET($G$52,MATCH(M22,$G$53,0),3),0))),((IFERROR(OFFSET($G$67,MATCH(M22,$G$68,0),3),0))),((IFERROR(OFFSET($G$82,MATCH(M22,$G$83,0),3),0))),((IFERROR(OFFSET($G$97,MATCH(M22,$G$98,0),3),0))),((IFERROR(OFFSET($G$112,MATCH(M22,$G$113,0),3),0))),((IFERROR(OFFSET($G$127,MATCH(M22,$G$128,0),3),0))),((IFERROR(OFFSET($G$142,MATCH(M22,$G$143,0),3),0))),((IFERROR(OFFSET($G$157,MATCH(M22,$G$158,0),3),0)))))))","v":0},"lb/ton",{"$f":"IF(O22=0.27,N22*O22,IF(O22=1.54,N22*O22,\"\"))","v":""},{"$f":"IF(N22=0,\"\",IF(AND($F$11>0,$O$22>$O$21,$O$22>=$O$23),$F$11,IF(O22=0.0083,N22*O22,IF(O22=0.007,N22*O22,\"\"))))","v":""},{"$f":"IF(N22=0,0,IF($G$11>0,IF(S21=0,G11,\"\"),IF(AND(OR($C$10>0,$C$11>0,$C$12>0),$O$22>$O$21,$O$22>=$O$23),(IF($C$10>0,$C$10*O22/2000,IF($C$11>0,$C$11*365*O22/2000,IF($C$12>0,$C$12*365*O22*N22/2000)))),IF(AND($F$11>0,$O$22>$O$21,$O$22>=$O$23),$F$11*8760/2000,IF(AND(OR($C$10=\"\",$C$10=0),OR($C$11=\"\",$C$11=0),OR($C$12=\"\",$C$12=0),$F$11=\"\"),IF(R22=\"\",Q22*8760/2000,R22*8760/2000),\"\")))))","v":0},{"$f":"IF(N22=\"\",\"\",SUM((IFERROR(MATCH(M22,$G$23,0)*$I$23*$J$23/2000,0)),(IFERROR(MATCH(M22,$G$38,0)*$I$38*$J$38/2000,0)),(IFERROR(MATCH(M22,$G$53,0)*$I$53*$J$53/2000,0)),(IFERROR(MATCH(M22,$G$68,0)*$I$68*$J$68/2000,0)),(IFERROR(MATCH(M22,$G$83,0)*$I$83*$J$83/2000,0)),(IFERROR(MATCH(M22,$G$98,0)*$I$98*$J$98/2000,0)),(IFERROR(MATCH(M22,$G$113,0)*$I$113*$J$113/2000,0)),(IFERROR(MATCH(M22,$G$128,0)*$I$128*$J$128/2000,0)),(IFERROR(MATCH(M22,$G$143,0)*$I$143*$J$143/2000,0)),(IFERROR(MATCH(M22,$G$158,0)*$I$158*$J$158/2000,0))))","v":0}]
[null,"County:",null,null,{"$f":"IF($C$4>0,\"AP-5 EP-1\",\"\")","v":""},{"$f":"IF($C$4>0,\"AP-5 EU-1\",\"\")","v":""},{"$f":"IF(C25=\"\",\"\",C5 & \" - \"&C25)","v":""},null,null,{"$f":"IF(C26=\"\",\"\",IF(C26=\"yes\",LOOKUP(G23,'Emission Factors'!$A$12:$A$17,'Emission Factors'!$D$12:$D$17),LOOKUP(G23,'Emission Factors'!$A$5:$A$10,'Emission Factors'!$D$5:$D$10)))","v":""},{"$f":"IF(C26=\"\",\"\",IF(C26=\"yes\",LOOKUP(G23,'Emission Factors'!$A$12:$A$17,'Emission Factors'!$F$12:$F$17),LOOKUP(G23,'Emission Factors'!$A$5:$A$10,'Emission Factors'!$F$5:$F$10)))","v":""},null,{"$f":"$C$5 & \" - Natural Gas\"","v":" - Natural Gas"},{"$f":"N7","v":0},{"$f":"IF(N23=0,0,IF(MAX((IFERROR(OFFSET($G$22,MATCH(M23,$G$23,0),3),0)),((IFERROR(OFFSET($G$37,MATCH(M23,$G$38,0),3),0))),((IFERROR(OFFSET($G$52,MATCH(M23,$G$53,0),3),0))),((IFERROR(OFFSET($G$67,MATCH(M23,$G$68,0),3),0))),((IFERROR(OFFSET($G$82,MATCH(M23,$G$83,0),3),0))),((IFERROR(OFFSET($G$97,MATCH(M23,$G$98,0),3),0))),((IFERROR(OFFSET($G$112,MATCH(M23,$G$113,0),3),0))),((IFERROR(OFFSET($G$127,MATCH(M23,$G$128,0),3),0))),((IFERROR(OFFSET($G$142,MATCH(M23,$G$143,0),3),0))),((IFERROR(OFFSET($G$157,MATCH(M23,$G$158,0),3),0))))=0,0,(MAX((IFERROR(OFFSET($G$22,MATCH(M23,$G$23,0),3),0)),((IFERROR(OFFSET($G$37,MATCH(M23,$G$38,0),3),0))),((IFERROR(OFFSET($G$52,MATCH(M23,$G$53,0),3),0))),((IFERROR(OFFSET($G$67,MATCH(M23,$G$68,0),3),0))),((IFERROR(OFFSET($G$82,MATCH(M23,$G$83,0),3),0))),((IFERROR(OFFSET($G$97,MATCH(M23,$G$98,0),3),0))),((IFERROR(OFFSET($G$112,MATCH(M23,$G$113,0),3),0))),((IFERROR(OFFSET($G$127,MATCH(M23,$G$128,0),3),0))),((IFERROR(OFFSET($G$142,MATCH(M23,$G$143,0),3),0))),((IFERROR(OFFSET($G$157,MATCH(M23,$G$158,0),3),0)))))))","v":0},"lb/ton",{"$f":"IF(O23=0.27,N23*O23,IF(O23=1.54,N23*O23,\"\"))","v":""},{"$f":"IF(N23=0,\"\",IF(AND($F$11>0,$O$23>$O$21,$O$23>$O$21),$F$11,IF(O23=0.0083,N23*O23,IF(O23=0.007,N23*O23,\"\"))))","v":""},{"$f":"IF(N23=0,0,IF($G$11>0,IF(AND(S21=0,S22=0),\"\"),IF(AND(OR($C$10>0,$C$11>0,$C$12>0),$O$23>$O$21,$O$23>$O$21),(IF($C$10>0,$C$10*O23/2000,IF($C$11>0,$C$11*365*O23/2000,IF($C$12>0,$C$12*365*O23*N23/2000)))),IF(AND($F$11>0,$O$23>$O$21,$O$23>$O$21),$F$11*8760/2000,IF(AND(OR($C$10=\"\",$C$10=0),OR($C$11=\"\",$C$11=0),OR($C$12=\"\",$C$12=0),$F$11=\"\"),IF(R23=\"\",Q23*8760/2000,R23*8760/2000),\"\")))))","v":0},{"$f":"IF(N23=\"\",\"\",SUM((IFERROR(MATCH(M23,$G$23,0)*$I$23*$J$23/2000,0)),(IFERROR(MATCH(M23,$G$38,0)*$I$38*$J$38/2000,0)),(IFERROR(MATCH(M23,$G$53,0)*$I$53*$J$53/2000,0)),(IFERROR(MATCH(M23,$G$68,0)*$I$68*$J$68/2000,0)),(IFERROR(MATCH(M23,$G$83,0)*$I$83*$J$83/2000,0)),(IFERROR(MATCH(M23,$G$98,0)*$I$98*$J$98/2000,0)),(IFERROR(MATCH(M23,$G$113,0)*$I$113*$J$113/2000,0)),(IFERROR(MATCH(M23,$G$128,0)*$I$128*$J$128/2000,0)),(IFERROR(MATCH(M23,$G$143,0)*$I$143*$J$143/2000,0)),(IFERROR(MATCH(M23,$G$158,0)*$I$158*$J$158/2000,0))))","v":0}]
[null,"Production Period (Dates):",null,null,"Liquid Asphalt Heater",null,null,{"$f":"IF(C25=\"natural gas\", \"(MMCF/hr)\",\"(gallons/hr)\")","v":"(gallons/hr)"},{"$f":"IF(C25=\"natural gas\", \"(MMCF/yr)\",\"(gallons/yr)\")","v":"(gallons/yr)"},null,null,null,"Silo Filling",{"$f":"N11","v":0},{"$f":"IF(N24=0,0,IF(N24=0,0,LOOKUP(M24,'Emission Factors'!$A$23:$A$25,'Emission Factors'!$D$23:$D$25)))","v":0},"lb/ton",{"$f":"N24*O24","v":0},null,{"$f":"IF($G$11>0,\"\",IF($C$10>0,$C$10*O24/2000,IF($C$11>0,$C$11*365*O24/2000,IF($C$12>0,$C$12*365*O24*N24/2000,IF($F$11>0,\"\",IF(R24=\"\",Q24*8760/2000,R24*8760/2000))))))","v":0},{"$f":"(P11*O24/2000)","v":0}]
[null,"Type of Fuel Used:",null,null,{"$f":"IF($C$4>0,\"AP-5 EP-2\",\"\")","v":""},{"$f":"IF($C$4>0,\"AP-5 EU-2\",\"\")","v":""},{"$f":"IF(C25=\"\",\"\",C25& \" Fired Heater\")","v":""},null,null,null,null,null,"Truck Loadout",{"$f":"N12","v":0},{"$f":"IF(N25=0,0,IF(N25=0,0,LOOKUP(M25,'Emission Factors'!$A$23:$A$25,'Emission Factors'!$D$23:$D$25)))","v":0},"lb/ton",{"$f":"N25*O25","v":0},null,{"$f":"IF($G$11>0,\"\",IF($C$10>0,$C$10*O25/2000,IF($C$11>0,$C$11*365*O25/2000,IF($C$12>0,$C$12*365*O25*N25/2000,IF($F$11>0,\"\",IF(R25=\"\",Q25*8760/2000,R25*8760/2000))))))","v":0},{"$f":"(P12*O25/2000)","v":0}]
[null,"Is Your Operation Controlled?:",null,null,"Silo Filling, Truck Loadout, Aggregate Transfer",null,null,"(tons/hr)","(tons/yr)",null,null,null,"Cold Aggregate Bins",{"$f":"N13","v":0},{"$f":"IF(N26=0,0,IF(N26=0,0,LOOKUP(M26,'Emission Factors'!A23:A25,'Emission Factors'!D23:D25)))","v":0},"lb/ton",{"$f":"N26*O26","v":0},null,{"$f":"IF($G$11>0,\"\",IF($C$10>0,$C$10*O26/2000,IF($C$11>0,$C$11*365*O26/2000,IF($C$12>0,$C$12*365*O26*N26/2000,IF($F$11>0,\"\",IF(R26=\"\",Q26*8760/2000,R26*8760/2000))))))","v":0},{"$f":"(P13*O26/2000)","v":0}]
[null,null,null,null,{"$f":"IF($C$4>0,\"AP-5 EP-3\",\"\")","v":""},{"$f":"IF($C$4>0,\"AP-5 EU-3\",\"\")","v":""},{"$f":"IF(C5=\"\",\"\",\"Silo Filling\")","v":""},null,null,null,null,null,"PM10"]
[null,null,null,null,{"$f":"IF($C$4>0,\"AP-5 EP-3\",\"\")","v":""},{"$f":"IF($C$4>0,\"AP-5 EU-4\",\"\")","v":""},{"$f":"IF(C5=\"\",\"\",\"Truck Loadout\")","v":""},null,null,null,null,null,{"$f":"$C$5 & \" - Fuel Oil\"","v":" - Fuel Oil"},{"$f":"N5","v":0},{"$f":"IF(N28=0,0,IF(MAX((IFERROR(OFFSET($G$22,MATCH(M28,$G$23,0),4),0)),((IFERROR(OFFSET($G$37,MATCH(M28,$G$38,0),4),0))),((IFERROR(OFFSET($G$52,MATCH(M28,$G$53,0),4),0))),((IFERROR(OFFSET($G$67,MATCH(M28,$G$68,0),4),0))),((IFERROR(OFFSET($G$82,MATCH(M28,$G$83,0),3),0))),((IFERROR(OFFSET($G$97,MATCH(M28,$G$98,0),4),0))),((IFERROR(OFFSET($G$112,MATCH(M28,$G$113,0),4),0))),((IFERROR(OFFSET($G$127,MATCH(M28,$G$128,0),4),0))),((IFERROR(OFFSET($G$142,MATCH(M28,$G$143,0),4),0))),((IFERROR(OFFSET($G$157,MATCH(M28,$G$158,0),4),0))))=0,0,(MAX((IFERROR(OFFSET($G$22,MATCH(M28,$G$23,0),4),0)),((IFERROR(OFFSET($G$37,MATCH(M28,$G$38,0),4),0))),((IFERROR(OFFSET($G$52,MATCH(M28,$G$53,0),4),0))),((IFERROR(OFFSET($G$67,MATCH(M28,$G$68,0),4),0))),((IFERROR(OFFSET($G$82,MATCH(M28,$G$83,0),4),0))),((IFERROR(OFFSET($G$97,MATCH(M28,$G$98,0),4),0))),((IFERROR(OFFSET($G$112,MATCH(M28,$G$113,0),4),0))),((IFERROR(OFFSET($G$127,MATCH(M28,$G$128,0),4),0))),((IFERROR(OFFSET($G$142,MATCH(M28,$G$143,0),4),0))),((IFERROR(OFFSET($G$157,MATCH(M28,$G$158,0),4),0)))))))","v":0},{"$f":"IF(O28=\"\",\"\",\"lb/ton\")","v":"lb/ton"},{"$f":"IF(O28=4.5,N28*O28,IF(O28=6.5,N28*O28,\"\"))","v":""},{"$f":"IF(N28=0,\"\",IF(AND($F$12>0,$O$28>=$O$29,$O$28>=$O$30),$F$12,IF(O28=0.0098,N28*O28,IF(O28=0.023,N28*O28,\"\"))))","v":""},{"$f":"IF(N28=0,0,IF($G$12>0,$G$12,IF(AND(OR($C$10>0,$C$11>0,$C$12>0),$O$28>=$O$29,$O$28>=$O$30),(IF($C$10>0,$C$10*O28/2000,IF($C$11>0,$C$11*365*O28/2000,IF($C$12>0,$C$12*365*O28*N28/2000)))),IF(AND($F$12>0,$O$28>=$O$29,$O$28>=$O$30),$F$12*8760/2000,IF(AND(OR($C$10=\"\",$C$10=0),OR($C$11=\"\",$C$11=0),OR($C$12=\"\",$C$12=0),$F$12=\"\"),IF(R28=\"\",Q28*8760/2000,R28*8760/2000),\"\")))))","v":0},{"$f":"IF(N28=\"\",\"\",SUM((IFERROR(MATCH(M28,$G$23,0)*$I$23*$K$23/2000,0)),(IFERROR(MATCH(M28,$G$38,0)*$I$38*$K$38/2000,0)),(IFERROR(MATCH(M28,$G$53,0)*$I$53*$K$53/2000,0)),(IFERROR(MATCH(M28,$G$68,0)*$I$68*$K$68/2000,0)),(IFERROR(MATCH(M28,$G$83,0)*$I$83*$K$83/2000,0)),(IFERROR(MATCH(M28,$G$98,0)*$I$98*$K$98/2000,0)),(IFERROR(MATCH(M28,$G$113,0)*$I$113*$K$113/2000,0)),(IFERROR(MATCH(M28,$G$128,0)*$I$128*$K$128/2000,0)),(IFERROR(MATCH(M28,$G$143,0)*$I$143*$K$143/2000,0)),(IFERROR(MATCH(M28,$G$158,0)*$I$158*$K$158/2000,0))))","v":0}]
[null,null,null,null,{"$f":"IF($C$4>0,\"AP-5 EP-3\",\"\")","v":""},{"$f":"IF($C$4>0,\"AP-5 EU-5\",\"\")","v":""},{"$f":"IF(C5=\"\",\"\",\"Cold Aggregate Bins\")","v":""},null,null,null,null,null,{"$f":"$C$5 & \" - Waste Oil\"","v":" - Waste Oil"},{"$f":"N6","v":0},{"$f":"IF(N29=0,0,IF(MAX((IFERROR(OFFSET($G$22,MATCH(M29,$G$23,0),4),0)),((IFERROR(OFFSET($G$37,MATCH(M29,$G$38,0),4),0))),((IFERROR(OFFSET($G$52,MATCH(M29,$G$53,0),4),0))),((IFERROR(OFFSET($G$67,MATCH(M29,$G$68,0),4),0))),((IFERROR(OFFSET($G$82,MATCH(M29,$G$83,0),3),0))),((IFERROR(OFFSET($G$97,MATCH(M29,$G$98,0),4),0))),((IFERROR(OFFSET($G$112,MATCH(M29,$G$113,0),4),0))),((IFERROR(OFFSET($G$127,MATCH(M29,$G$128,0),4),0))),((IFERROR(OFFSET($G$142,MATCH(M29,$G$143,0),4),0))),((IFERROR(OFFSET($G$157,MATCH(M29,$G$158,0),4),0))))=0,0,(MAX((IFERROR(OFFSET($G$22,MATCH(M29,$G$23,0),4),0)),((IFERROR(OFFSET($G$37,MATCH(M29,$G$38,0),4),0))),((IFERROR(OFFSET($G$52,MATCH(M29,$G$53,0),4),0))),((IFERROR(OFFSET($G$67,MATCH(M29,$G$68,0),4),0))),((IFERROR(OFFSET($G$82,MATCH(M29,$G$83,0),4),0))),((IFERROR(OFFSET($G$97,MATCH(M29,$G$98,0),4),0))),((IFERROR(OFFSET($G$112,MATCH(M29,$G$113,0),4),0))),((IFERROR(OFFSET($G$127,MATCH(M29,$G$128,0),4),0))),((IFERROR(OFFSET($G$142,MATCH(M29,$G$143,0),4),0))),((IFERROR(OFFSET($G$157,MATCH(M29,$G$158,0),4),0)))))))","v":0},"lb/ton",{"$f":"IF(O29=4.5,N29*O29,IF(O29=6.5,N29*O29,\"\"))","v":""},{"$f":"IF(N29=0,\"\",IF(AND($F$12>0,$O$29>$O$28,$O$29>=$O$30),$F$12,IF(O29=0.0098,N29*O29,IF(O29=0.023,N29*O29,\"\"))))","v":""},{"$f":"IF(N29=0,0,IF($G$12>0,IF(S28=0,$G$12,\"\"),IF(AND(OR($C$10>0,$C$11>0,$C$12>0),$O$29>$O$28,$O$29>=$O$30),(IF($C$10>0,$C$10*O29/2000,IF($C$11>0,$C$11*365*O29/2000,IF($C$12>0,$C$12*365*O29*N29/2000)))),IF(AND($F$12>0,$O$29>$O$28,$O$29>=$O$30),$F$12*8760/2000,IF(AND(OR($C$10=\"\",$C$10=0),OR($C$11=\"\",$C$11=0),OR($C$12=\"\",$C$12=0),$F$12=\"\"),IF(R29=\"\",Q29*8760/2000,R29*8760/2000),\"\")))))","v":0},{"$f":"IF(N29=\"\",\"\",SUM((IFERROR(MATCH(M29,$G$23,0)*$I$23*$K$23/2000,0)),(IFERROR(MATCH(M29,$G$38,0)*$I$38*$K$38/2000,0)),(IFERROR(MATCH(M29,$G$53,0)*$I$53*$K$53/2000,0)),(IFERROR(MATCH(M29,$G$68,0)*$I$68*$K$68/2000,0)),(IFERROR(MATCH(M29,$G$83,0)*$I$83*$K$83/2000,0)),(IFERROR(MATCH(M29,$G$98,0)*$I$98*$K$98/2000,0)),(IFERROR(MATCH(M29,$G$113,0)*$I$113*$K$113/2000,0)),(IFERROR(MATCH(M29,$G$128,0)*$I$128*$K$128/2000,0)),(IFERROR(MATCH(M29,$G$143,0)*$I$143*$K$143/2000,0)),(IFERROR(MATCH(M29,$G$158,0)*$I$158*$K$158/2000,0))))","v":0}]
[null,null,null,null,null,null,null,null,null,null,null,null,{"$f":"$C$5 & \" - Natural Gas\"","v":" - Natural Gas"},{"$f":"N7","v":0},{"$f":"IF(N30=0,0,IF(MAX((IFERROR(OFFSET($G$22,MATCH(M30,$G$23,0),4),0)),((IFERROR(OFFSET($G$37,MATCH(M30,$G$38,0),4),0))),((IFERROR(OFFSET($G$52,MATCH(M30,$G$53,0),4),0))),((IFERROR(OFFSET($G$67,MATCH(M30,$G$68,0),4),0))),((IFERROR(OFFSET($G$82,MATCH(M30,$G$83,0),3),0))),((IFERROR(OFFSET($G$97,MATCH(M30,$G$98,0),4),0))),((IFERROR(OFFSET($G$112,MATCH(M30,$G$113,0),4),0))),((IFERROR(OFFSET($G$127,MATCH(M30,$G$128,0),4),0))),((IFERROR(OFFSET($G$142,MATCH(M30,$G$143,0),4),0))),((IFERROR(OFFSET($G$157,MATCH(M30,$G$158,0),4),0))))=0,0,(MAX((IFERROR(OFFSET($G$22,MATCH(M30,$G$23,0),4),0)),((IFERROR(OFFSET($G$37,MATCH(M30,$G$38,0),4),0))),((IFERROR(OFFSET($G$52,MATCH(M30,$G$53,0),4),0))),((IFERROR(OFFSET($G$67,MATCH(M30,$G$68,0),4),0))),((IFERROR(OFFSET($G$82,MATCH(M30,$G$83,0),4),0))),((IFERROR(OFFSET($G$97,MATCH(M30,$G$98,0),4),0))),((IFERROR(OFFSET($G$112,MATCH(M30,$G$113,0),4),0))),((IFERROR(OFFSET($G$127,MATCH(M30,$G$128,0),4),0))),((IFERROR(OFFSET($G$142,MATCH(M30,$G$143,0),4),0))),((IFERROR(OFFSET($G$157,MATCH(M30,$G$158,0),4),0)))))))","v":0},"lb/ton",{"$f":"IF(O30=4.5,N30*O30,IF(O30=6.5,N30*O30,\"\"))","v":""},{"$f":"IF(N30=0,\"\",IF(AND($F$12>0,$O$30>$O$28,$O$30>$O$29),$F$12,IF(O30=0.0098,N30*O30,IF(O30=0.023,N30*O30,\"\"))))","v":""},{"$f":"IF(N30=0,0,IF($G$12>0,IF(AND(S28=0,S29=0),$G$12,\"\"),IF(AND(OR($C$10>0,$C$11>0,$C$12>0),$O$30>$O$28,$O$30>$O$29),(IF($C$10>0,$C$10*O30/2000,IF($C$11>0,$C$11*365*O30/2000,IF($C$12>0,$C$12*365*O30*N30/2000)))),IF(AND($F$12>0,$O$30>$O$28,$O$30>$O$29),$F$12*8760/2000,IF(AND(OR($C$10=\"\",$C$10=0),OR($C$11=\"\",$C$11=0),OR($C$12=\"\",$C$12=0),$F$12=\"\"),IF(R30=\"\",Q30*8760/2000,R30*8760/2000),\"\")))))","v":0},{"$f":"IF(N30=\"\",\"\",SUM((IFERROR(MATCH(M30,$G$23,0)*$I$23*$K$23/2000,0)),(IFERROR(MATCH(M30,$G$38,0)*$I$38*$K$38/2000,0)),(IFERROR(MATCH(M30,$G$53,0)*$I$53*$K$53/2000,0)),(IFERROR(MATCH(M30,$G$68,0)*$I$68*$K$68/2000,0)),(IFERROR(MATCH(M30,$G$83,0)*$I$83*$K$83/2000,0)),(IFERROR(MATCH(M30,$G$98,0)*$I$98*$K$98/2000,0)),(IFERROR(MATCH(M30,$G$113,0)*$I$113*$K$113/2000,0)),(IFERROR(MATCH(M30,$G$128,0)*$I$128*$K$128/2000,0)),(IFERROR(MATCH(M30,$G$143,0)*$I$143*$K$143/2000,0)),(IFERROR(MATCH(M30,$G$158,0)*$I$158*$K$158/2000,0))))","v":0}]
[null,null,null,null,"Stock Pile Area",null,null,null,null,null,null,null,"Silo Filling",{"$f":"N11","v":0},{"$f":"IF(N31=0,0,IF(N31=0,0,LOOKUP(M31,'Emission Factors'!$A$23:$A$25,'Emission Factors'!$F$23:$F$25)))","v":0},"lb/ton",{"$f":"N31*O31","v":0},null,{"$f":"IF($G$12>0,\"\",IF($C$10>0,$C$10*O31/2000,IF($C$11>0,$C$11*365*O31/2000,IF($C$12>0,$C$12*365*O31*N31/2000,IF($F$11>0,\"\",IF(R31=\"\",Q31*8760/2000,R31*8760/2000))))))","v":0},{"$f":"(P11*O31/2000)","v":0}]
[null,null,null,null,null,"Emission Unit #","Maximum Storage Area (acres)","Actual Storage Area (acres)","Actual Days in Existence (days)",null,null,null,"Truck Loadout",{"$f":"N12","v":0},{"$f":"IF(N32=0,0,IF(N32=0,0,LOOKUP(M32,'Emission Factors'!$A$23:$A$25,'Emission Factors'!$F$23:$F$25)))","v":0},"lb/ton",{"$f":"N32*O32","v":0},null,{"$f":"IF($G$12>0,\"\",IF($C$10>0,$C$10*O32/2000,IF($C$11>0,$C$11*365*O32/2000,IF($C$12>0,$C$12*365*O32*N32/2000,IF($F$11>0,\"\",IF(R32=\"\",Q32*8760/2000,R32*8760/2000))))))","v":0},{"$f":"(P12*O32/2000)","v":0}]
[null,null,null,null,null,null,null,null,null,null,null,null,"Cold Aggregate Bins",{"$f":"N13","v":0},{"$f":"IF(N33=0,0,IF(N33=0,0,LOOKUP(M33,'Emission Factors'!$A$23:$A$25,'Emission Factors'!$F$23:$F$25)))","v":0},"lb/ton",{"$f":"N33*O33","v":0},null,{"$f":"IF($G$12>0,\"\",IF($C$10>0,$C$10*O33/2000,IF($C$11>0,$C$11*365*O33/2000,IF($C$12>0,$C$12*365*O33*N33/2000,IF($F$11>0,\"\",IF(R33=\"\",Q33*8760/2000,R33*8760/2000))))))","v":0},{"$f":"(P13*O33/2000)","v":0}]
[]
[null,{"$f":"IF($C$4>1,\"Asphalt Plant\",\"\")","v":""},{"$f":"IF($C$4>1,\"Site 2\",\"\")","v":""},null,{"$f":"IF($C$4>1,\"Emission Point #\",\"\")","v":""},{"$f":"IF($C$4>1,\"Emission    Unit #\",\"\")","v":""},{"$f":"IF($C$4>1,\"Process\",\"\")","v":""},{"$f":"IF($C$4>1,\"Maximum Hourly     Design Rate\",\"\")","v":""},{"$f":"IF($C$4>1,('Facility Information'!G20&\" Annual Throughput\"),\"\")","v":""},null,null,null,null,null,"Max Design Rate (acres)","Emission Factor   (lb/acre-day)","Potential Uncontrolled Emissions (lb/hr)","Potential Controlled Emissions (lb/hr)","Potential Annual Emissions (tons/yr)","Actual Annual Emissions (tons/yr)"]
[null,null,null,null,null,null,null,null,null,null,null,null,null,"Storage Pile"]
[null,{"$f":"IF($C$4>1,\"Site Name\",\"\")","v":""},null,null,{"$f":"IF($C$4>1,\"Dryers, Hot Screens, Mixer\",\"\")","v":""},null,null,{"$f":"IF($C$4>1,\"(tons/hr)\",\"\")","v":""},{"$f":"IF($C$4>1,\"(tons/yr)\",\"\")","v":""},"PM2.5","PM10",null,null,"PM2.5/PM10",{"$f":"N15","v":0},3.64,{"$f":"O37*P37*(1/24)","v":0},null,{"$f":"O37*P37*365/2000","v":0},{"$f":"O15*P37/2000","v":0}]
[null,{"$f":"IF($C$4>1,\"County:\",\"\")","v":""},null,null,{"$f":"IF(C40=\"\",\"\",\"AP-5 EP-1\")","v":""},{"$f":"IF(C40=\"\",\"\",\"AP-5 EU-1\")","v":""},{"$f":"IF(C40=\"\",\"\",C5 & \" - \"&C40)","v":""},null,null,{"$f":"IF(C41=\"\",\"\",IF(C41=\"yes\",LOOKUP(G38,'Emission Factors'!$A$12:$A$17,'Emission Factors'!$D$12:$D$17),LOOKUP(G38,'Emission Factors'!$A$5:$A$10,'Emission Factors'!$D$5:$D$10)))","v":""},{"$f":"IF(C41=\"\",\"\",IF(C41=\"yes\",LOOKUP(G38,'Emission Factors'!$A$12:$A$17,'Emission Factors'!$F$12:$F$17),LOOKUP(G38,'Emission Factors'!$A$5:$A$10,'Emission Factors'!$F$5:$F$10)))","v":""}]
[null,{"$f":"IF($C$4>1,\"Production Period (Dates):\",\"\")","v":""},null,null,{"$f":"IF($C$4>1,\"Liquid Asphalt Heater\",\"\")","v":""},null,null,{"$f":"IF($C$4>1,IF(C40=\"natural gas\",\"MMCF/hr\",\"(gallons/hr)\"),\"\")","v":""},{"$f":"IF($C$4>1,IF(C40=\"natural gas\",\"MMCF/yr\",\"(gallons/yr)\"),\"\")","v":""},null,null,null,"SO2"]
[null,{"$f":"IF($C$4>1,\"Type of Fuel Used:\",\"\")","v":""},null,null,{"$f":"IF(C40=\"\",\"\",\"AP-5 EP-2\")","v":""},{"$f":"IF(C40=\"\",\"\",\"AP-5 EU-2\")","v":""},{"$f":"IF(C40=\"\",\"\",C40& \" Fired Heater\")","v":""},null,null,null,null,null,{"$f":"$C$5 & \" - Fuel Oil\"","v":" - Fuel Oil"},{"$f":"$N$5","v":0},{"$f":"IF(N40=0,0,LOOKUP(M40,'Emission Factors'!$A$5:$A$10,'Emission Factors'!$H$5:$H$10))","v":0},{"$f":"IF(O40=\"\",\"\",\"lb/ton\")","v":"lb/ton"},{"$f":"N40*O40","v":0},{"$f":"IF(N40=0,\"\",IF(AND($F$13>0,N41=0),$F$13,\"\"))","v":""},{"$f":"IF(N40=0,0,IF($G$13>0,$G$13,IF(OR(AND($C$10>0,$N$41>0),AND($C$11>0,$N$41>0),AND($C$12>0,$N$41>0)),\"\",IF($C$10>0,$C$10*O40/2000,IF($C$11>0,$C$11*365*O40/2000,IF($C$12>0,$C$12*365*O40*N40/2000,IF(AND(N41>0,F13>0),\"\",IF(R40=\"\",Q40*8760/2000,R40*8760/2000))))))))","v":0},{"$f":"P5*O40/2000","v":0}]
[null,{"$f":"IF($C$4>1,\"Is Your Operation Controlled?:\",\"\")","v":""},null,null,{"$f":"IF($C$4>1,\"Silo Filling, Truck Loadout, Aggregate Transfer\",\"\")","v":""},null,null,{"$f":"IF($C$4>1,\"(tons/hr)\",\"\")","v":""},{"$f":"IF($C$4>1,\"(tons/yr)\",\"\")","v":""},null,null,null,{"$f":"$C$5 & \" - Waste Oil\"","v":" - Waste Oil"},{"$f":"$N$6","v":0},{"$f":"IF(N41=0,0,LOOKUP(M41,'Emission Factors'!$A$5:$A$10,'Emission Factors'!$H$5:$H$10))","v":0},{"$f":"IF(O41=\"\",\"\",\"lb/ton\")","v":"lb/ton"},{"$f":"N41*O41","v":0},{"$f":"IF(N41=0,\"\",IF($F$13>0,$F$13,\"\"))","v":""},{"$f":"IF(N41=0,0,IF($G$13>0,IF(S40=0,G13,\"\"),IF($C$10>0,$C$10*O41/2000,IF($C$11>0,$C$11*365*O41/2000,IF($C$12>0,$C$12*365*O41*N41/2000,IF(R41=\"\",Q41*8760/2000,R41*8760/2000))))))","v":0},{"$f":"P6*O41/2000","v":0}]
[null,null,null,null,{"$f":"IF($C$4>1,\"AP-5 EP-3\",\"\")","v":""},{"$f":"IF($C$4>1,\"AP-5 EU-3\",\"\")","v":""},{"$f":"IF($C$4>1,\"Silo Filling\",\"\")","v":""},null,null,null,null,null,{"$f":"$C$5 & \" - Natural Gas\"","v":" - Natural Gas"},{"$f":"$N$7","v":0},{"$f":"IF(N42=0,0,LOOKUP(M42,'Emission Factors'!$A$5:$A$10,'Emission Factors'!$H$5:$H$10))","v":0},{"$f":"IF(O42=\"\",\"\",\"lb/ton\")","v":"lb/ton"},{"$f":"N42*O42","v":0},{"$f":"IF(N42=0,\"\",IF(AND($F$13>0,N40=0,N41=0),$F$13,\"\"))","v":""},{"$f":"IF(N42=0,0,IF($G$13>0,IF(AND(S40=0,S41=0),G13,\"\"),IF(OR(AND($C$10>0,$N$41>0),AND($C$11>0,$N$41>0),AND($C$12>0,$N$41>0)),\"\",IF(OR(AND($C$10>0,$N$40>0),AND($C$11>0,$N$40>0),AND($C$12>0,$N$40>0)),\"\",IF($C$10>0,$C$10*O42/2000,IF($C$11>0,$C$11*365*O42/2000,IF($C$12>0,$C$12*365*O42*N42/2000,IF(AND(N41>0,N40>0,F13>0),\"\",IF(R42=\"\",Q42*8760/2000,R42*8760/2000)))))))))","v":0},{"$f":"P7*O42/2000","v":0}]
[null,null,null,null,{"$f":"IF($C$4>1,\"AP-5 EP-3\",\"\")","v":""},{"$f":"IF($C$4>1,\"AP-5 EU-4\",\"\")","v":""},{"$f":"IF($C$4>1,\"Truck Loadout\",\"\")","v":""},null,null,null,null,null,"NOx"]
[null,null,null,null,{"$f":"IF($C$4>1,\"AP-5 EP-3\",\"\")","v":""},{"$f":"IF($C$4>1,\"AP-5 EU-5\",\"\")","v":""},{"$f":"IF($C$4>1,\"Cold Aggregate Bins\",\"\")","v":""},null,null,null,null,null,{"$f":"$C$5 & \" - Fuel Oil\"","v":" - Fuel Oil"},{"$f":"$N$5","v":0},{"$f":"IF(N44=0,0,LOOKUP(M44,'Emission Factors'!$A$5:$A$10,'Emission Factors'!$J$5:$J$10))","v":0},{"$f":"IF(O44=\"\",\"\",\"lb/ton\")","v":"lb/ton"},{"$f":"N44*O44","v":0},{"$f":"IF(N44=0,\"\",IF(AND($F$14>0,N45=0),$F$14,\"\"))","v":""},{"$f":"IF(N44=0,0,IF($G$14>0,$G$14,IF(OR(AND($C$10>0,$N$45>0),AND($C$11>0,$N$45>0),AND($C$12>0,$N$45>0)),\"\",IF($C$10>0,$C$10*O44/2000,IF($C$11>0,$C$11*365*O44/2000,IF($C$12>0,$C$12*365*O44*N44/2000,IF(AND(N45>0,F14>0),\"\",IF(R44=\"\",Q44*8760/2000,R44*8760/2000))))))))","v":0},{"$f":"P5*O44/2000","v":0}]
[null,null,null,null,null,null,null,null,null,null,null,null,{"$f":"$C$5 & \" - Waste Oil\"","v":" - Waste Oil"},{"$f":"$N$6","v":0},{"$f":"IF(N45=0,0,LOOKUP(M45,'Emission Factors'!$A$5:$A$10,'Emission Factors'!$J$5:$J$10))","v":0},{"$f":"IF(O45=\"\",\"\",\"lb/ton\")","v":"lb/ton"},{"$f":"N45*O45","v":0},{"$f":"IF(N45=0,\"\",IF($F$14>0,$F$14,\"\"))","v":""},{"$f":"IF(N45=0,0,IF($G$14>0,IF(S44=0,G14,\"\"),IF($C$10>0,$C$10*O45/2000,IF($C$11>0,$C$11*365*O45/2000,IF($C$12>0,$C$12*365*O45*N45/2000,IF(R45=\"\",Q45*8760/2000,R45*8760/2000))))))","v":0},{"$f":"P6*O45/2000","v":0}]
[null,null,null,null,{"$f":"IF($C$4>1,\"Stock Pile Area\",\"\")","v":""},null,null,null,null,null,null,null,{"$f":"$C$5 & \" - Natural Gas\"","v":" - Natural Gas"},{"$f":"$N$7","v":0},{"$f":"IF(N46=0,0,LOOKUP(M46,'Emission Factors'!$A$5:$A$10,'Emission Factors'!$J$5:$J$10))","v":0},{"$f":"IF(O46=\"\",\"\",\"lb/ton\")","v":"lb/ton"},{"$f":"N46*O46","v":0},{"$f":"IF(N46=0,\"\",IF(AND($F$14>0,N44=0,N45=0),$F$14,\"\"))","v":""},{"$f":"IF(N46=0,0,IF($G$14>0,IF(AND(S44=0,S45=0),G14,\"\"),IF(OR(AND($C$10>0,$N$45>0),AND($C$11>0,$N$45>0),AND($C$12>0,$N$45>0)),\"\",IF(OR(AND($C$10>0,$N$44>0),AND($C$11>0,$N$44>0),AND($C$12>0,$N$44>0)),\"\",IF($C$10>0,$C$10*O46/2000,IF($C$11>0,$C$11*365*O46/2000,IF($C$12>0,$C$12*365*O46*N46/2000,IF(AND(N44>0,N45>0,F14>0),\"\",IF(R46=\"\",Q46*8760/2000,R46*8760/2000)))))))))","v":0},{"$f":"P7*O46/2000","v":0}]
[null,null,null,null,null,{"$f":"IF($C$4>1,\"Emission Unit #\",\"\")","v":""},{"$f":"IF($C$4>1,\"Maximum Storage Area (acres)\",\"\")","v":""},{"$f":"IF($C$4>1,\"Actual Storage Area (acres)\",\"\")","v":""},{"$f":"IF($C$4>1,\"Actual Days in Existence (days)\",\"\")","v":""},null,null,null,"VOC"]
[null,null,null,null,null,null,null,null,null,null,null,null,{"$f":"$C$5 & \" - Fuel Oil\"","v":" - Fuel Oil"},{"$f":"$N$5","v":0},{"$f":"IF(N48=0,0,LOOKUP(M48,'Emission Factors'!$A$5:$A$10,'Emission Factors'!$L$5:$L$10))","v":0},{"$f":"IF(O48=\"\",\"\",\"lb/ton\")","v":"lb/ton"},{"$f":"N48*O48","v":0},{"$f":"IF(N48=0,\"\",IF(AND($F$15>0,N49=0),$F$15,\"\"))","v":""},{"$f":"IF(N48=0,0,IF($G$15>0,$G$15,IF(OR(AND($C$10>0,$N$49>0),AND($C$11>0,$N$49>0),AND($C$12>0,$N$49>0)),\"\",IF($C$10>0,$C$10*O48/2000,IF($C$11>0,$C$11*365*O48/2000,IF($C$12>0,$C$12*365*O48*N48/2000,IF(AND(N49>0,F15>0),\"\",IF(R48=\"\",Q48*8760/2000,R48*8760/2000))))))))","v":0},{"$f":"P5*O48/2000","v":0}]
[null,null,null,null,null,null,null,null,null,null,null,null,{"$f":"$C$5 & \" - Waste Oil\"","v":" - Waste Oil"},{"$f":"$N$6","v":0},{"$f":"IF(N49=0,0,LOOKUP(M49,'Emission Factors'!$A$5:$A$10,'Emission Factors'!$L$5:$L$10))","v":0},{"$f":"IF(O49=\"\",\"\",\"lb/ton\")","v":"lb/ton"},{"$f":"N49*O49","v":0},{"$f":"IF(N49=0,\"\",IF($F$15>0,$F$15,\"\"))","v":""},{"$f":"IF(N49=0,0,IF($G$15>0,IF(S48=0,G15,\"\"),IF($C$10>0,$C$10*O49/2000,IF($C$11>0,$C$11*365*O49/2000,IF($C$12>0,$C$12*365*O49*N49/2000,IF(R49=\"\",Q49*8760/2000,R49*8760/2000))))))","v":0},{"$f":"P6*O49/2000","v":0}]
[null,{"$f":"IF($C$4>2,\"Asphalt Plant\",\"\")","v":""},{"$f":"IF($C$4>2,\"Site 3\",\"\")","v":""},null,{"$f":"IF($C$4>2,\"Emission Point #\",\"\")","v":""},{"$f":"IF($C$4>2,\"Emission    Unit #\",\"\")","v":""},{"$f":"IF($C$4>2,\"Process\",\"\")","v":""},{"$f":"IF($C$4>2,\"Maximum Hourly     Design Rate\",\"\")","v":""},{"$f":"IF($C$4>2,('Facility Information'!G35&\" Annual Throughput\"),\"\")","v":""},null,null,null,{"$f":"$C$5 & \" - Natural Gas\"","v":" - Natural Gas"},{"$f":"$N$7","v":0},{"$f":"IF(N50=0,0,LOOKUP(M50,'Emission Factors'!$A$5:$A$10,'Emission Factors'!$L$5:$L$10))","v":0},{"$f":"IF(O50=\"\",\"\",\"lb/ton\")","v":"lb/ton"},{"$f":"N50*O50","v":0},{"$f":"IF(N50=0,\"\",IF(AND($F$15>0,N48=0,N49=0),$F$15,\"\"))","v":""},{"$f":"IF(N50=0,0,IF($G$15>0,IF(AND(S48=0,S49=0),G15,\"\"),IF(OR(AND($C$10>0,$N$49>0),AND($C$11>0,$N$49>0),AND($C$12>0,$N$49>0)),\"\",IF(OR(AND($C$10>0,$N$48>0),AND($C$11>0,$N$48>0),AND($C$12>0,$N$48>0)),\"\",IF($C$10>0,$C$10*O50/2000,IF($C$11>0,$C$11*365*O50/2000,IF($C$12>0,$C$12*365*O50*N50/2000,IF(AND(N48>0,N49>0,F15>0),\"\",IF(R50=\"\",Q50*8760/2000,R50*8760/2000)))))))))","v":0},{"$f":"P7*O50/2000","v":0}]
[null,null,null,null,null,null,null,null,null,null,null,null,"CO"]
[null,{"$f":"IF($C$4>2,\"Site Name\",\"\")","v":""},null,null,{"$f":"IF($C$4>2,\"Dryers, Hot Screens, Mixer\",\"\")","v":""},null,null,{"$f":"IF($C$4>2,\"(tons/hr)\",\"\")","v":""},{"$f":"IF($C$4>2,\"(tons/yr)\",\"\")","v":""},"PM2.5","PM10",null,{"$f":"IF($C$5=\"\",\"\",$C$5)","v":""},{"$f":"SUM($N$5:$N$7)","v":0},{"$f":"IF(N52=0,0,IF(M52=\"Batch Mix Plant\",0.4,IF(M52=\"Drum Mix Plant\",0.13)))","v":0},{"$f":"IF(O52=\"\",\"\",\"lb/ton\")","v":"lb/ton"},{"$f":"N52*O52","v":0},{"$f":"IF(N52=0,\"\",IF($F$16>0,$F$16,\"\"))","v":""},{"$f":"IF($G$16>0,$G$16,IF(N52=0,0,IF($C$10>0,$C$10*O52/2000,IF($C$11>0,$C$11*365*O52/2000,IF($C$12>0,$C$12*365*O52*N52/2000,IF(R52=\"\",Q52*8760/2000,R52*8760/2000))))))","v":0},{"$f":"SUM($P$5:$P$7)*O52/2000","v":0}]
[null,{"$f":"IF($C$4>2,\"County:\",\"\")","v":""},null,null,{"$f":"IF(C55=\"\",\"\",\"AP-5 EP-1\")","v":""},{"$f":"IF(C55=\"\",\"\",\"AP-5 EU-1\")","v":""},{"$f":"IF(C55=\"\",\"\",C5 & \" - \"&C55)","v":""},null,null,{"$f":"IF(C56=\"\",\"\",IF(C56=\"yes\",LOOKUP(G53,'Emission Factors'!$A$12:$A$17,'Emission Factors'!$D$12:$D$17),LOOKUP(G53,'Emission Factors'!$A$5:$A$10,'Emission Factors'!$D$5:$D$10)))","v":""},{"$f":"IF(C56=\"\",\"\",IF(C56=\"yes\",LOOKUP(G53,'Emission Factors'!$A$12:$A$17,'Emission Factors'!$F$12:$F$17),LOOKUP(G53,'Emission Factors'!$A$5:$A$10,'Emission Factors'!$F$5:$F$10)))","v":""},null,"Fuel Oil Fired Heater",{"$f":"N8","v":0},{"$f":"IF(N53=0,0,LOOKUP(M53,'Emission Factors'!$A$19:$A$21,'Emission Factors'!$N$19:$N$21))","v":0},{"$f":"IF(O53=\"\",\"\",\"lb/gallon\")","v":"lb/gallon"},{"$f":"N53*O53","v":0},null,{"$f":"IF(N53=0,0,IF($G$16>0,\"\",IF($F$16>0,\"\",IF(R53=\"\",Q53*8760/2000,R53*8760/2000))))","v":0},{"$f":"(P8*O53/2000)","v":0}]
[null,{"$f":"IF($C$4>2,\"Production Period (Dates):\",\"\")","v":""},null,null,{"$f":"IF($C$4>2,\"Liquid Asphalt Heater\",\"\")","v":""},null,null,{"$f":"IF($C$4>2,IF(C55=\"natural gas\",\"(MMCF/hr)\",\"(gallons/hr)\"),\"\")","v":""},{"$f":"IF($C$4>2,IF(C55=\"natural gas\",\"(MMCF/yr)\",\"(gallons/yr)\"),\"\")","v":""},null,null,null,"Waste Oil Fired Heater",{"$f":"N9","v":0},{"$f":"IF(N54=0,0,LOOKUP(M54,'Emission Factors'!$A$19:$A$21,'Emission Factors'!$N$19:$N$21))","v":0},{"$f":"IF(O54=\"\",\"\",\"lb/gallon\")","v":"lb/gallon"},{"$f":"N54*O54","v":0},null,{"$f":"IF(N54=0,0,IF($G$16>0,\"\",IF($F$16>0,\"\",IF(R54=\"\",Q54*8760/2000,R54*8760/2000))))","v":0},{"$f":"(P9*O54/2000)","v":0}]
[null,{"$f":"IF($C$4>2,\"Type of Fuel Used:\",\"\")","v":""},null,null,{"$f":"IF(C55=\"\",\"\",\"AP-5 EP-2\")","v":""},{"$f":"IF(C55=\"\",\"\",\"AP-5 EU-2\")","v":""},{"$f":"IF(C55=\"\",\"\",C55& \" Fired Heater\")","v":""},null,null,null,null,null,"Natural Gas Fired Heater",{"$f":"N10","v":0},{"$f":"IF(N55=0,0,LOOKUP(M55,'Emission Factors'!$A$19:$A$21,'Emission Factors'!$N$19:$N$21))","v":0},{"$f":"IF(O55=\"\",\"\",\"lb/MMCF\")","v":"lb/MMCF"},{"$f":"N55*O55","v":0},null,{"$f":"IF(N55=0,0,IF($G$16>0,\"\",IF($F$16>0,\"\",IF(R55=\"\",Q55*8760/2000,R55*8760/2000))))","v":0},{"$f":"($P$10*O55/2000)","v":0}]
[null,{"$f":"IF($C$4>2,\"Is Your Operation Controlled?:\",\"\")","v":""},null,null,{"$f":"IF($C$4>2,\"Silo Filling, Truck Loadout, Aggregate Transfer\",\"\")","v":""},null,null,{"$f":"IF($C$4>2,\"(tons/hr)\",\"\")","v":""},{"$f":"IF($C$4>2,\"(tons/yr)\",\"\")","v":""},null,null,null,"Acetaldehyde"]
[null,null,null,null,{"$f":"IF($C$4>2,\"AP-5 EP-3\",\"\")","v":""},{"$f":"IF($C$4>2,\"AP-5 EU-3\",\"\")","v":""},{"$f":"IF($C$4>2,\"Silo Filling\",\"\")","v":""},null,null,null,null,null,{"$f":"IF($C$5=\"\",\"\",$C$5)","v":""},{"$f":"IF(C5=\"drum mix plant\",SUM(N5:$N$6),SUM($N$5:$N$7))","v":0},{"$f":"IF(N57=0,0,IF(M57=\"Batch Mix Plant\",0.00032,IF(M57=\"Drum Mix Plant\",0.0013)))","v":0},{"$f":"IF(O57=\"\",\"\",\"lb/ton\")","v":"lb/ton"},{"$f":"N57*O57","v":0},null,{"$f":"IF(N57=0,0,IF($C$10>0,$C$10*O57/2000,IF($C$11>0,$C$11*365*O57/2000,IF($C$12>0,$C$12*365*O57*N57/2000,IF(R57=\"\",Q57*8760/2000,R57*8760/2000)))))","v":0},{"$f":"IF(C5=\"drum mix plant\",$P$6*O57/2000,SUM($P$5:$P$7)*O57/2000)","v":0}]
[null,null,null,null,{"$f":"IF($C$4>2,\"AP-5 EP-3\",\"\")","v":""},{"$f":"IF($C$4>2,\"AP-5 EU-4\",\"\")","v":""},{"$f":"IF($C$4>2,\"Truck Loadout\",\"\")","v":""},null,null,null,null,null,"Acrolein"]
[null,null,null,null,{"$f":"IF($C$4>2,\"AP-5 EP-3\",\"\")","v":""},{"$f":"IF($C$4>2,\"AP-5 EU-5\",\"\")","v":""},{"$f":"IF($C$4>2,\"Cold Aggregate Bins\",\"\")","v":""},null,null,null,null,null,{"$f":"IF($C$5=\"\",\"\",$C$5)","v":""},{"$f":"IF(C5=\"drum mix plant\",SUM(N5:$N$6),0)","v":0},{"$f":"IF(N59=0,0,0.000026)","v":0},{"$f":"IF(O59=\"\",\"\",\"lb/ton\")","v":"lb/ton"},{"$f":"N59*O59","v":0},null,{"$f":"IF(N59=0,0,IF($C$10>0,$C$10*O59/2000,IF($C$11>0,$C$11*365*O59/2000,IF($C$12>0,$C$12*365*O59*N59/2000,IF(R59=\"\",Q59*8760/2000,R59*8760/2000)))))","v":0},{"$f":"IF(C7=\"drum mix plant\",$P$6*O59/2000,SUM($P$5:$P$7)*O59/2000)","v":0}]
[null,null,null,null,null,null,null,null,null,null,null,null,"Benzene"]
[null,null,null,null,{"$f":"IF($C$4>2,\"Stock Pile Area\",\"\")","v":""},null,null,null,null,null,null,null,{"$f":"IF($C$5=\"\",\"\",$C$5)","v":""},{"$f":"SUM($N$5:$N$7)","v":0},{"$f":"IF(N61=0,0,IF(M61=\"Batch Mix Plant\",0.00028,IF(M61=\"Drum Mix Plant\",0.00039)))","v":0},{"$f":"IF(O61=\"\",\"\",\"lb/ton\")","v":"lb/ton"},{"$f":"N61*O61","v":0},null,{"$f":"IF(N61=0,0,IF($C$10>0,$C$10*O61/2000,IF($C$11>0,$C$11*365*O61/2000,IF($C$12>0,$C$12*365*O61*N61/2000,IF(R61=\"\",Q61*8760/2000,R61*8760/2000)))))","v":0},{"$f":"SUM($P$5:$P$7)*O61/2000","v":0}]
[null,null,null,null,null,{"$f":"IF($C$4>2,\"Emission Unit #\",\"\")","v":""},{"$f":"IF($C$4>2,\"Maximum Storage Area (acres)\",\"\")","v":""},{"$f":"IF($C$4>2,\"Actual Storage Area (acres)\",\"\")","v":""},{"$f":"IF($C$4>2,\"Actual Days in Existence (days)\",\"\")","v":""},null,null,null,"Ethylbenzene"]
[null,null,null,null,null,null,null,null,null,null,null,null,{"$f":"IF($C$5=\"\",\"\",$C$5)","v":""},{"$f":"SUM($N$5:$N$7)","v":0},{"$f":"IF(N63=0,0,IF(M63=\"Batch Mix Plant\",0.0022,IF(M63=\"Drum Mix Plant\",0.00024)))","v":0},{"$f":"IF(O63=\"\",\"\",\"lb/ton\")","v":"lb/ton"},{"$f":"N63*O63","v":0},null,{"$f":"IF(N63=0,0,IF($C$10>0,$C$10*O63/2000,IF($C$11>0,$C$11*365*O63/2000,IF($C$12>0,$C$12*365*O63*N63/2000,IF(R63=\"\",Q63*8760/2000,R63*8760/2000)))))","v":0},{"$f":"SUM($P$5:$P$7)*O63/2000","v":0}]
[null,null,null,null,null,null,null,null,null,null,null,null,"Formaldehyde"]
[null,{"$f":"IF($C$4>3,\"Asphalt Plant\",\"\")","v":""},{"$f":"IF($C$4>3,\"Site 4\",\"\")","v":""},null,{"$f":"IF($C$4>3,\"Emission Point #\",\"\")","v":""},{"$f":"IF($C$4>3,\"Emission    Unit #\",\"\")","v":""},{"$f":"IF($C$4>3,\"Process\",\"\")","v":""},{"$f":"IF($C$4>3,\"Maximum Hourly     Design Rate\",\"\")","v":""},{"$f":"IF($C$4>3,('Facility Information'!G50&\" Annual Throughput\"),\"\")","v":""},null,null,null,{"$f":"IF($C$5=\"\",\"\",$C$5)","v":""},{"$f":"SUM($N$5:$N$7)","v":0},{"$f":"IF(N65=0,0,IF(M65=\"Batch Mix Plant\",0.00074,IF(M65=\"Drum Mix Plant\",0.0031)))","v":0},{"$f":"IF(O65=\"\",\"\",\"lb/ton\")","v":"lb/ton"},{"$f":"N65*O65","v":0},null,{"$f":"IF(N65=0,0,IF($C$10>0,$C$10*O65/2000,IF($C$11>0,$C$11*365*O65/2000,IF($C$12>0,$C$12*365*O65*N65/2000,IF(R65=\"\",Q65*8760/2000,R65*8760/2000)))))","v":0},{"$f":"SUM($P$5:$P$7)*O65/2000","v":0}]
[null,null,null,null,null,null,null,null,null,null,null,null,{"$f":"\"Natural Gas Fired Heater\"","v":"Natural Gas Fired Heater"},{"$f":"N10","v":0},{"$f":"IF(N66=0,0,0.026)","v":0},{"$f":"IF(O66=\"\",\"\",\"lb/MMCF\")","v":"lb/MMCF"},{"$f":"N66*O66","v":0},null,{"$f":"IF(N66=0,0,IF(R66=\"\",Q66*8760/2000,R66*8760/2000))","v":0},{"$f":"($P$10*O66/2000)","v":0}]
[null,{"$f":"IF($C$4>3,\"Site Name\",\"\")","v":""},null," ",{"$f":"IF($C$4>3,\"Dryers, Hot Screens, Mixer\",\"\")","v":""},null,null,{"$f":"IF($C$4>3,\"(tons/hr)\",\"\")","v":""},{"$f":"IF($C$4>3,\"(tons/yr)\",\"\")","v":""},"PM2.5","PM10",null,"Hexane"]
[null,{"$f":"IF($C$4>3,\"County:\",\"\")","v":""},null,null,{"$f":"IF(C70=\"\",\"\",\"AP-5 EP-1\")","v":""},{"$f":"IF(C70=\"\",\"\",\"AP-5 EU-1\")","v":""},{"$f":"IF(C70=\"\",\"\",C5 & \" - \"&C70)","v":""},null,null,{"$f":"IF(C71=\"\",\"\",IF(C71=\"yes\",LOOKUP(G68,'Emission Factors'!$A$12:$A$17,'Emission Factors'!$D$12:$D$17),LOOKUP(G68,'Emission Factors'!$A$5:$A$10,'Emission Factors'!$D$5:$D$10)))","v":""},{"$f":"IF(C71=\"\",\"\",IF(C71=\"yes\",LOOKUP(G68,'Emission Factors'!$A$12:$A$17,'Emission Factors'!$F$12:$F$17),LOOKUP(G68,'Emission Factors'!$A$5:$A$10,'Emission Factors'!$F$5:$F$10)))","v":""},null,{"$f":"IF($C$5=\"\",\"\",$C$5)","v":""},{"$f":"IF(C5=\"drum mix plant\",SUM(N5:N7),0)","v":0},{"$f":"IF(N68=0,0,0.00092)","v":0},{"$f":"IF(O68=\"\",\"\",\"lb/ton\")","v":"lb/ton"},{"$f":"N68*O68","v":0},null,{"$f":"IF(N68=0,0,IF($C$10>0,$C$10*O68/2000,IF($C$11>0,$C$11*365*O68/2000,IF($C$12>0,$C$12*365*O68*N68/2000,IF(R68=\"\",Q68*8760/2000,R68*8760/2000)))))","v":0},{"$f":"IF(N68>0,SUM($P$5:$P$7)*O68/2000,0)","v":0}]
[null,{"$f":"IF($C$4>3,\"Production Period (Dates):\",\"\")","v":""},null,null,{"$f":"IF($C$4>3,\"Liquid Asphalt Heater\",\"\")","v":""},null,null,{"$f":"IF($C$4>3,IF(C70=\"natural gas\",\"(MMCF/hr)\",\"(gallons/hr)\"),\"\")","v":""},{"$f":"IF($C$4>3,IF(C70=\"natural gas\",\"(MMCF/yr)\",\"(gallons/yr)\"),\"\")","v":""},null,null,null,"Hydrochloric Acid"]
[null,{"$f":"IF($C$4>3,\"Type of Fuel Used:\",\"\")","v":""},null,null,{"$f":"IF(C70=\"\",\"\",\"AP-5 EP-2\")","v":""},{"$f":"IF(C70=\"\",\"\",\"AP-5 EU-2\")","v":""},{"$f":"IF(C70=\"\",\"\",C70& \" Fired Heater\")","v":""},null,null,null,null,null,{"$f":"IF($C$5=\"\",\"\",$C$5)","v":""},{"$f":"IF(C5=\"drum mix plant\",SUM(N5:$N$6),0)","v":0},{"$f":"IF(N70=0,0,0.00021)","v":0},{"$f":"IF(O70=\"\",\"\",\"lb/ton\")","v":"lb/ton"},{"$f":"N70*O70","v":0},null,{"$f":"IF(N70=0,0,IF($C$10>0,$C$10*O70/2000,IF($C$11>0,$C$11*365*O70/2000,IF($C$12>0,$C$12*365*O70*N70/2000,IF(R70=\"\",Q70*8760/2000,R70*8760/2000)))))","v":0},{"$f":"IF(N70>0,$P$6*O70/2000,0)","v":0}]
[null,{"$f":"IF($C$4>3,\"Is Your Operation Controlled?:\",\"\")","v":""},null,null,{"$f":"IF($C$4>3,\"Silo Filling, Truck Loadout, Aggregate Transfer\",\"\")","v":""},null,null,{"$f":"IF($C$4>3,\"(tons/hr)\",\"\")","v":""},{"$f":"IF($C$4>3,\"(tons/yr)\",\"\")","v":""},null,null,null,"Methyl Chloroform"]
[null,null,null,null,{"$f":"IF($C$4>3,\"AP-5 EP-3\",\"\")","v":""},{"$f":"IF($C$4>3,\"AP-5 EU-3\",\"\")","v":""},{"$f":"IF($C$4>3,\"Silo Filling\",\"\")","v":""},null,null,null,null,null,{"$f":"IF($C$5=\"\",\"\",$C$5)","v":""},{"$f":"IF(C5=\"drum mix plant\",SUM(N5:N7),0)","v":0},{"$f":"IF(N72=0,0,0.000048)","v":0},{"$f":"IF(O72=\"\",\"\",\"lb/ton\")","v":"lb/ton"},{"$f":"N72*O72","v":0},null,{"$f":"IF(N72=0,0,IF($C$10>0,$C$10*O72/2000,IF($C$11>0,$C$11*365*O72/2000,IF($C$12>0,$C$12*365*O72*N72/2000,IF(R72=\"\",Q72*8760/2000,R72*8760/2000)))))","v":0},{"$f":"IF(N72>0,SUM($P$5:$P$7)*O72/2000,0)","v":0}]
[null,null,null,null,{"$f":"IF($C$4>3,\"AP-5 EP-3\",\"\")","v":""},{"$f":"IF($C$4>3,\"AP-5 EU-4\",\"\")","v":""},{"$f":"IF($C$4>3,\"Truck Loadout\",\"\")","v":""},null,null,null,null,null,"Propionaldehyde"]
[null,null,null,null,{"$f":"IF($C$4>3,\"AP-5 EP-3\",\"\")","v":""},{"$f":"IF($C$4>3,\"AP-5 EU-5\",\"\")","v":""},{"$f":"IF($C$4>3,\"Cold Aggregate Bins\",\"\")","v":""},null,null,null,null,null,{"$f":"IF($C$5=\"\",\"\",$C$5)","v":""},{"$f":"IF(C5=\"drum mix plant\",SUM(N5:$N$6),0)","v":0},{"$f":"IF(N74=0,0,0.00013)","v":0},{"$f":"IF(O74=\"\",\"\",\"lb/ton\")","v":"lb/ton"},{"$f":"N74*O74","v":0},null,{"$f":"IF(N74=0,0,IF($C$10>0,$C$10*O74/2000,IF($C$11>0,$C$11*365*O74/2000,IF($C$12>0,$C$12*365*O74*N74/2000,IF(R74=\"\",Q74*8760/2000,R74*8760/2000)))))","v":0},{"$f":"IF(N74>0,$P$6*O74/2000,0)","v":0}]
[null,null,null,null,null,null,null,null,null,null,null,null,"Quinone"]
[null,null,null,null,{"$f":"IF($C$4>3,\"Stock Pile Area\",\"\")","v":""},null,null,null,null,null,null,null,{"$f":"IF($C$5=\"\",\"\",$C$5)","v":""},{"$f":"IF(C5=\"drum mix plant\",SUM(N5:$N$6),SUM($N$5:$N$7))","v":0},{"$f":"IF(N76=0,0,IF(M76=\"Batch Mix Plant\",0.00027,IF(M76=\"Drum Mix Plant\",0.00016)))","v":0},{"$f":"IF(O76=\"\",\"\",\"lb/ton\")","v":"lb/ton"},{"$f":"N76*O76","v":0},null,{"$f":"IF(N76=0,0,IF($C$10>0,$C$10*O76/2000,IF($C$11>0,$C$11*365*O76/2000,IF($C$12>0,$C$12*365*O76*N76/2000,IF(R76=\"\",Q76*8760/2000,R76*8760/2000)))))","v":0},{"$f":"IF(C24=\"drum mix plant\",$P$6*O76/2000,SUM($P$5:$P$7)*O76/2000)","v":0}]
[null,null,null,null,null,{"$f":"IF($C$4>3,\"Emission Unit #\",\"\")","v":""},{"$f":"IF($C$4>3,\"Maximum Storage Area (acres)\",\"\")","v":""},{"$f":"IF($C$4>3,\"Actual Storage Area (acres)\",\"\")","v":""},{"$f":"IF($C$4>3,\"Actual Days in Existence (days)\",\"\")","v":""},null,null,null,"Toluene"]
[null,null,null,null,null,null,null,null,null,null,null,null,{"$f":"$C$5 & \" - Fuel Oil\"","v":" - Fuel Oil"},{"$f":"$N$5","v":0},{"$f":"IF(N78=0,0,LOOKUP(M78,'Emission Factors'!$A$5:$A$10,'Emission Factors'!$AJ$5:$AJ$10))","v":0},{"$f":"IF(O78=\"\",\"\",\"lb/ton\")","v":"lb/ton"},{"$f":"N78*O78","v":0},null,{"$f":"IF(N78=0,0,IF($C$10>0,$C$10*O78/2000,IF($C$11>0,$C$11*365*O78/2000,IF($C$12>0,$C$12*365*O78*N78/2000,IF(R78=\"\",Q78*8760/2000,R78*8760/2000)))))","v":0},{"$f":"P5*O78/2000","v":0}]
[null,null,null,null,null,null,null,null,null,null,null,null,{"$f":"$C$5 & \" - Waste Oil\"","v":" - Waste Oil"},{"$f":"$N$6","v":0},{"$f":"IF(N79=0,0,LOOKUP(M79,'Emission Factors'!$A$5:$A$10,'Emission Factors'!$AJ$5:$AJ$10))","v":0},{"$f":"IF(O79=\"\",\"\",\"lb/ton\")","v":"lb/ton"},{"$f":"N79*O79","v":0},null,{"$f":"IF(N79=0,0,IF(OR(AND($C$10>0,$N$78>0),AND($C$11>0,$N$78>0),AND($C$12>0,$N$78>0)),\"\",IF($C$10>0,$C$10*O79/2000,IF($C$11>0,$C$11*365*O79/2000,IF($C$12>0,$C$12*365*O79*N79/2000,IF(R79=\"\",Q79*8760/2000,R79*8760/2000))))))","v":0},{"$f":"P6*O79/2000","v":0}]
[null,{"$f":"IF($C$4>4,\"Asphalt Plant\",\"\")","v":""},{"$f":"IF($C$4>4,\"Site 5\",\"\")","v":""},null,{"$f":"IF($C$4>4,\"Emission Point #\",\"\")","v":""},{"$f":"IF($C$4>4,\"Emission    Unit #\",\"\")","v":""},{"$f":"IF($C$4>4,\"Process\",\"\")","v":""},{"$f":"IF($C$4>4,\"Maximum Hourly     Design Rate\",\"\")","v":""},{"$f":"IF($C$4>4,('Facility Information'!G65&\" Annual Throughput\"),\"\")","v":""},null,null,null,{"$f":"$C$5 & \" - Natural Gas\"","v":" - Natural Gas"},{"$f":"$N$7","v":0},{"$f":"IF(N80=0,0,LOOKUP(M80,'Emission Factors'!$A$5:$A$10,'Emission Factors'!$AJ$5:$AJ$10))","v":0},{"$f":"IF(O80=\"\",\"\",\"lb/ton\")","v":"lb/ton"},{"$f":"N80*O80","v":0},null,{"$f":"IF(N80=0,0,IF(OR(AND($C$10>0,$N$78>0),AND($C$11>0,$N$78>0),AND($C$12>0,$N$78>0)),\"\",IF(OR(AND($C$10>0,$N$79>0),AND($C$11>0,$N$79>0),AND($C$12>0,$N$79>0)),\"\",IF($C$10>0,$C$10*O80/2000,IF($C$11>0,$C$11*365*O80/2000,IF($C$12>0,$C$12*365*O80*N80/2000,IF(R80=\"\",Q80*8760/2000,R80*8760/2000)))))))","v":0},{"$f":"P7*O80/2000","v":0}]
[null,null,null,null,null,null,null,null,null,null,null,null,"Xylene"]
[null,{"$f":"IF($C$4>4,\"Site Name\",\"\")","v":""},null,null,{"$f":"IF($C$4>4,\"Dryers, Hot Screens, Mixer\",\"\")","v":""},null,null,{"$f":"IF($C$4>4,\"(tons/hr)\",\"\")","v":""},{"$f":"IF($C$4>4,\"(tons/yr)\",\"\")","v":""},"PM2.5","PM10",null,{"$f":"IF($C$5=\"\",\"\",$C$5)","v":""},{"$f":"SUM($N$5:$N$7)","v":0},{"$f":"IF(N82=0,0,IF(M82=\"Batch Mix Plant\",0.0027,IF(M82=\"Drum Mix Plant\",0.0002)))","v":0},{"$f":"IF(O82=\"\",\"\",\"lb/ton\")","v":"lb/ton"},{"$f":"N82*O82","v":0},null,{"$f":"IF(N82=0,0,IF($C$10>0,$C$10*O82/2000,IF($C$11>0,$C$11*365*O82/2000,IF($C$12>0,$C$12*365*O82*N82/2000,IF(R82=\"\",Q82*8760/2000,R82*8760/2000)))))","v":0},{"$f":"SUM($P$5:$P$7)*O82/2000","v":0}]
[null,{"$f":"IF($C$4>4,\"County:\",\"\")","v":""},null,null,{"$f":"IF(C85=\"\",\"\",\"AP-5 EP-1\")","v":""},{"$f":"IF(C85=\"\",\"\",\"AP-5 EU-1\")","v":""},{"$f":"IF(C85=\"\",\"\",C5 & \" - \"&C85)","v":""},null,null,{"$f":"IF(C86=\"\",\"\",IF(C86=\"yes\",LOOKUP(G83,'Emission Factors'!$A$12:$A$17,'Emission Factors'!$D$12:$D$17),LOOKUP(G83,'Emission Factors'!$A$5:$A$10,'Emission Factors'!$D$5:$D$10)))","v":""},{"$f":"IF(C86=\"\",\"\",IF(C86=\"yes\",LOOKUP(G83,'Emission Factors'!$A$12:$A$17,'Emission Factors'!$F$12:$F$17),LOOKUP(G83,'Emission Factors'!$A$5:$A$10,'Emission Factors'!$F$5:$F$10)))","v":""},null,"2,2,4-Trimethylpentane"]
[null,{"$f":"IF($C$4>4,\"Production Period (Dates):\",\"\")","v":""},null,null,{"$f":"IF($C$4>4,\"Liquid Asphalt Heater\",\"\")","v":""},null,null,{"$f":"IF($C$4>4,IF(C85=\"natural gas\",\"(MMCF/hr)\",\"(gallons/hr)\"),\"\")","v":""},{"$f":"IF($C$4>4,IF(C85=\"natural gas\",\"(MMCF/yr)\",\"(gallons/yr)\"),\"\")","v":""},null,null,null,{"$f":"IF($C$5=\"\",\"\",$C$5)","v":""},{"$f":"IF(C5=\"drum mix plant\",SUM(N5:N7),0)","v":0},{"$f":"IF(N84=0,0,0.00004)","v":0},{"$f":"IF(O84=\"\",\"\",\"lb/ton\")","v":"lb/ton"},{"$f":"N84*O84","v":0},null,{"$f":"IF(N84=0,0,IF($C$10>0,$C$10*O84/2000,IF($C$11>0,$C$11*365*O84/2000,IF($C$12>0,$C$12*365*O84*N84/2000,IF(R84=\"\",Q84*8760/2000,R84*8760/2000)))))","v":0},{"$f":"IF(N84>0,SUM($P$5:$P$7)*O84/2000,0)","v":0}]
[null,{"$f":"IF($C$4>4,\"Type of Fuel Used:\",\"\")","v":""},null,null,{"$f":"IF(C85=\"\",\"\",\"AP-5 EP-2\")","v":""},{"$f":"IF(C85=\"\",\"\",\"AP-5 EU-2\")","v":""},{"$f":"IF(C85=\"\",\"\",C85& \" Fired Heater\")","v":""},null,null,null,"Controlled?",null,"Chromium Compounds"]
[null,{"$f":"IF($C$4>4,\"Is Your Operation Controlled?:\",\"\")","v":""},null,null,{"$f":"IF($C$4>4,\"Silo Filling, Truck Loadout, Aggregate Transfer\",\"\")","v":""},null,null,{"$f":"IF($C$4>4,\"(tons/hr)\",\"\")","v":""},{"$f":"IF($C$4>4,\"(tons/yr)\",\"\")","v":""},null,{"$f":"IF(OR(C26=\"yes\",C41=\"yes\",C71=\"yes\",C86=\"yes\",C101=\"yes\",C116=\"yes\",C131=\"yes\",C146=\"yes\",C161=\"yes\"),1,0)","v":0},null,{"$f":"IF($C$5=\"\",\"\",$C$5)","v":""},{"$f":"IF(C5=\"drum mix plant\",SUM(N5:N6),0)","v":0},{"$f":"IF(N86=0,0,IF($K$86=1,0.0000055,0.000024))","v":0},{"$f":"IF(O86=\"\",\"\",\"lb/ton\")","v":"lb/ton"},{"$f":"IF($K$86=1,\"\",N86*O86)","v":0},{"$f":"IF($K$86=1,N86*O86,\"\")","v":""},{"$f":"IF(N86=0,0,IF($C$10>0,$C$10*O86/2000,IF($C$11>0,$C$11*365*O86/2000,IF($C$12>0,$C$12*365*O86*N86/2000,IF(R86=\"\",Q86*8760/2000,R86*8760/2000)))))","v":0},{"$f":"IF(N86>0,$P$5*O86/2000,0)","v":0}]
[null,null,null,null,{"$f":"IF($C$4>4,\"AP-5 EP-3\",\"\")","v":""},{"$f":"IF($C$4>4,\"AP-5 EU-3\",\"\")","v":""},{"$f":"IF($C$4>4,\"Silo Filling\",\"\")","v":""},null,null,null,null,null,"Lead Compounds"]
[null,null,null,null,{"$f":"IF($C$4>4,\"AP-5 EP-3\",\"\")","v":""},{"$f":"IF($C$4>4,\"AP-5 EU-4\",\"\")","v":""},{"$f":"IF($C$4>4,\"Truck Loadout\",\"\")","v":""},null,null,null,null,null,{"$f":"IF($C$5=\"\",\"\",$C$5)","v":""},{"$f":"IF(C5=\"drum mix plant\",SUM(N5:N6),0)","v":0},{"$f":"IF(N88=0,0,IF($K$86=1,0.000015,0.00054))","v":0},{"$f":"IF(O88=\"\",\"\",\"lb/ton\")","v":"lb/ton"},{"$f":"IF($K$86=1,\"\",N88*O88)","v":0},{"$f":"IF($K$86=1,N88*O88,\"\")","v":""},{"$f":"IF(N88=0,0,IF($C$10>0,$C$10*O88/2000,IF($C$11>0,$C$11*365*O88/2000,IF($C$12>0,$C$12*365*O88*N88/2000,IF(R88=\"\",Q88*8760/2000,R88*8760/2000)))))","v":0},{"$f":"IF(N88>0,$P$5*O88/2000,0)","v":0}]
[null,null,null,null,{"$f":"IF($C$4>4,\"AP-5 EP-3\",\"\")","v":""},{"$f":"IF($C$4>4,\"AP-5 EU-5\",\"\")","v":""},{"$f":"IF($C$4>4,\"Cold Aggregate Bins\",\"\")","v":""},null,null,null,null,null,"Manganese Compounds",null,null,null,0]
[null,null,null,null,null,null,null,null,null,null,null,null,{"$f":"IF($C$5=\"\",\"\",$C$5)","v":""},{"$f":"IF(C5=\"drum mix plant\",SUM(N5:N6),0)","v":0},{"$f":"IF(N90=0,0,IF($K$86=1,0.0000077,0.00065))","v":0},{"$f":"IF(O90=\"\",\"\",\"lb/ton\")","v":"lb/ton"},0,{"$f":"IF($K$86=1,N90*O90,\"\")","v":""},{"$f":"IF(N90=0,0,IF($C$10>0,$C$10*O90/2000,IF($C$11>0,$C$11*365*O90/2000,IF($C$12>0,$C$12*365*O90*N90/2000,IF(R90=\"\",Q90*8760/2000,R90*8760/2000)))))","v":0},{"$f":"IF(N90>0,$P$5*O90/2000,0)","v":0}]
[null,null,null,null,{"$f":"IF($C$4>4,\"Stock Pile Area\",\"\")","v":""},null,null,null,null,null,null,null,"Nickel Compounds",null,null,null,0]
[null,null,null,null,null,{"$f":"IF($C$4>4,\"Emission Unit #\",\"\")","v":""},{"$f":"IF($C$4>4,\"Maximum Storage Area (acres)\",\"\")","v":""},{"$f":"IF($C$4>4,\"Actual Storage Area (acres)\",\"\")","v":""},{"$f":"IF($C$4>4,\"Actual Days in Existence (days)\",\"\")","v":""},null,null,null,{"$f":"$C$5 & \" - Fuel Oil\"","v":" - Fuel Oil"},{"$f":"IF(C5=\"drum mix plant\",N5,0)","v":0},{"$f":"IF(N92=0,0,IF($K$86=1,0.000015,0.0013))","v":0},{"$f":"IF(O92=\"\",\"\",\"lb/ton\")","v":"lb/ton"},0,{"$f":"IF($K$86=1,N92*O92,\"\")","v":""},{"$f":"IF(N92=0,0,IF($C$10>0,$C$10*O92/2000,IF($C$11>0,$C$11*365*O92/2000,IF($C$12>0,$C$12*365*O92*N92/2000,IF(R92=\"\",Q92*8760/2000,R92*8760/2000)))))","v":0},{"$f":"IF(N92>0,$P$5*O92/2000,0)","v":0}]
[null,null,null,null,null,null,null,null,null,null,null,null,{"$f":"$C$5 & \" - Waste Oil\"","v":" - Waste Oil"},{"$f":"IF(C5=\"drum mix plant\",N6,0)","v":0},{"$f":"IF(N93=0,0,IF($K$86=1,0.000015,0.0013))","v":0},{"$f":"IF(O93=\"\",\"\",\"lb/ton\")","v":"lb/ton"},0,{"$f":"IF($K$86=1,N93*O93,\"\")","v":""},{"$f":"IF(N93=0,0,IF($C$10>0,$C$10*O93/2000,IF($C$11>0,$C$11*365*O93/2000,IF($C$12>0,$C$12*365*O93*N93/2000,IF(R93=\"\",Q93*8760/2000,R93*8760/2000)))))","v":0},{"$f":"IF(N93>0,$P$6*O93/2000,0)","v":0}]
[null,null,null,null,null,null,null,null,null,null,null,null,{"$f":"$C$5 & \" - Natural Gas\"","v":" - Natural Gas"},{"$f":"IF(C5=\"drum mix plant\",N7,0)","v":0},{"$f":"IF(N94=0,0,IF($K$86=1,0.000063,0.00063))","v":0},{"$f":"IF(O94=\"\",\"\",\"lb/ton\")","v":"lb/ton"},{"$f":"IF($K$86=1,\"\",N94*O94)","v":0},{"$f":"IF($K$86=1,N94*O94,\"\")","v":""},{"$f":"IF(N94=0,0,IF($C$10>0,$C$10*O94/2000,IF($C$11>0,$C$11*365*O94/2000,IF($C$12>0,$C$12*365*O94*N94/2000,IF(R94=\"\",Q94*8760/2000,R94*8760/2000)))))","v":0},{"$f":"IF(N94>0,$P$7*O94/2000,0)","v":0}]
[null,{"$f":"IF($C$4>5,\"Asphalt Plant\",\"\")","v":""},{"$f":"IF($C$4>5,\"Site 6\",\"\")","v":""},null,{"$f":"IF($C$4>5,\"Emission Point #\",\"\")","v":""},{"$f":"IF($C$4>5,\"Emission    Unit #\",\"\")","v":""},{"$f":"IF($C$4>5,\"Process\",\"\")","v":""},{"$f":"IF($C$4>5,\"Maximum Hourly     Design Rate\",\"\")","v":""},{"$f":"IF($C$4>5,('Facility Information'!G80&\" Annual Throughput\"),\"\")","v":""}]
[]
[null,{"$f":"IF($C$4>5,\"Site Name\",\"\")","v":""},null,null,{"$f":"IF($C$4>5,\"Dryers, Hot Screens, Mixer\",\"\")","v":""},null,null,{"$f":"IF($C$4>5,\"(tons/hr)\",\"\")","v":""},{"$f":"IF($C$4>5,\"(tons/yr)\",\"\")","v":""},"PM2.5","PM10"]
[null,{"$f":"IF($C$4>5,\"County:\",\"\")","v":""},null,null,{"$f":"IF(C100=\"\",\"\",\"AP-5 EP-1\")","v":""},{"$f":"IF(C100=\"\",\"\",\"AP-5 EU-1\")","v":""},{"$f":"IF(C100=\"\",\"\",C5 & \" - \"&C100)","v":""},null,null,{"$f":"IF(C101=\"\",\"\",IF(C101=\"yes\",LOOKUP(G98,'Emission Factors'!$A$12:$A$17,'Emission Factors'!$D$12:$D$17),LOOKUP(G98,'Emission Factors'!$A$5:$A$10,'Emission Factors'!$D$5:$D$10)))","v":""},{"$f":"IF(C101=\"\",\"\",IF(C101=\"yes\",LOOKUP(G98,'Emission Factors'!$A$12:$A$17,'Emission Factors'!$F$12:$F$17),LOOKUP(G98,'Emission Factors'!$A$5:$A$10,'Emission Factors'!$F$5:$F$10)))","v":""}]
[null,{"$f":"IF($C$4>5,\"Production Period (Dates):\",\"\")","v":""},null,null,{"$f":"IF($C$4>5,\"Liquid Asphalt Heater\",\"\")","v":""},null,null,{"$f":"IF($C$4>5,IF(C100=\"natural gas\",\"(MMCF/hr)\",\"(gallons/hr)\"),\"\")","v":""},{"$f":"IF($C$4>5,IF(C100=\"natural gas\",\"(MMCF/yr)\",\"(gallons/yr)\"),\"\")","v":""}]
[null,{"$f":"IF($C$4>5,\"Type of Fuel Used:\",\"\")","v":""},null,null,{"$f":"IF(C100=\"\",\"\",\"AP-5 EP-2\")","v":""},{"$f":"IF(C100=\"\",\"\",\"AP-5 EU-2\")","v":""},{"$f":"IF(C100=\"\",\"\",C100& \" Fired Heater\")","v":""}]
[null,{"$f":"IF($C$4>5,\"Is Your Operation Controlled?:\",\"\")","v":""},null,null,{"$f":"IF($C$4>5,\"Silo Filling, Truck Loadout, Aggregate Transfer\",\"\")","v":""},null,null,{"$f":"IF($C$4>5,\"(tons/hr)\",\"\")","v":""},{"$f":"IF($C$4>5,\"(tons/yr)\",\"\")","v":""}]
[null,null,null,null,{"$f":"IF($C$4>5,\"AP-5 EP-3\",\"\")","v":""},{"$f":"IF($C$4>5,\"AP-5 EU-3\",\"\")","v":""},{"$f":"IF($C$4>5,\"Silo Filling\",\"\")","v":""}]
[null,null,null,null,{"$f":"IF($C$4>5,\"AP-5 EP-3\",\"\")","v":""},{"$f":"IF($C$4>5,\"AP-5 EU-4\",\"\")","v":""},{"$f":"IF($C$4>5,\"Truck Loadout\",\"\")","v":""}]
[null,null,null,null,{"$f":"IF($C$4>5,\"AP-5 EP-3\",\"\")","v":""},{"$f":"IF($C$4>5,\"AP-5 EU-5\",\"\")","v":""},{"$f":"IF($C$4>5,\"Cold Aggregate Bins\",\"\")","v":""}]
[]
[null,null,null,null,{"$f":"IF($C$4>5,\"Stock Pile Area\",\"\")","v":""}]
[null,null,null,null,null,{"$f":"IF($C$4>5,\"Emission Unit #\",\"\")","v":""},{"$f":"IF($C$4>5,\"Maximum Storage Area (acres)\",\"\")","v":""},{"$f":"IF($C$4>5,\"Actual Storage Area (acres)\",\"\")","v":""},{"$f":"IF($C$4>5,\"Actual Days in Existence (days)\",\"\")","v":""}]
[]
[]
[null,{"$f":"IF($C$4>6,\"Asphalt Plant\",\"\")","v":""},{"$f":"IF($C$4>6,\"Site 7\",\"\")","v":""},null,{"$f":"IF($C$4>6,\"Emission Point #\",\"\")","v":""},{"$f":"IF($C$4>6,\"Emission    Unit #\",\"\")","v":""},{"$f":"IF($C$4>6,\"Process\",\"\")","v":""},{"$f":"IF($C$4>6,\"Maximum Hourly     Design Rate\",\"\")","v":""},{"$f":"IF($C$4>6,('Facility Information'!G95&\" Annual Throughput\"),\"\")","v":""}]
[]
[null,{"$f":"IF($C$4>6,\"Site Name\",\"\")","v":""},null,null,{"$f":"IF($C$4>6,\"Dryers, Hot Screens, Mixer\",\"\")","v":""},null,null,{"$f":"IF($C$4>6,\"(tons/hr)\",\"\")","v":""},{"$f":"IF($C$4>6,\"(tons/yr)\",\"\")","v":""},"PM2.5","PM10"]
[null,{"$f":"IF($C$4>6,\"County:\",\"\")","v":""},null,null,{"$f":"IF(C115=\"\",\"\",\"AP-5 EP-1\")","v":""},{"$f":"IF(C115=\"\",\"\",\"AP-5 EU-1\")","v":""},{"$f":"IF(C115=\"\",\"\",C5 & \" - \"&C115)","v":""},null,null,{"$f":"IF(C116=\"\",\"\",IF(C116=\"yes\",LOOKUP(G113,'Emission Factors'!$A$12:$A$17,'Emission Factors'!$D$12:$D$17),LOOKUP(G113,'Emission Factors'!$A$5:$A$10,'Emission Factors'!$D$5:$D$10)))","v":""},{"$f":"IF(C116=\"\",\"\",IF(C116=\"yes\",LOOKUP(G113,'Emission Factors'!$A$12:$A$17,'Emission Factors'!$F$12:$F$17),LOOKUP(G113,'Emission Factors'!$A$5:$A$10,'Emission Factors'!$F$5:$F$10)))","v":""}]
[null,{"$f":"IF($C$4>6,\"Production Period (Dates):\",\"\")","v":""},null,null,{"$f":"IF($C$4>6,\"Liquid Asphalt Heater\",\"\")","v":""},null,null,{"$f":"IF($C$4>6,IF(C115=\"natural gas\",\"(MMCF/hr)\",\"(gallons/hr)\"),\"\")","v":""},{"$f":"IF($C$4>6,IF(C115=\"natural gas\",\"(MMCF/yr)\",\"(gallons/yr)\"),\"\")","v":""}]
[null,{"$f":"IF($C$4>6,\"Type of Fuel Used:\",\"\")","v":""},null,null,{"$f":"IF(C115=\"\",\"\",\"AP-5 EP-2\")","v":""},{"$f":"IF(C115=\"\",\"\",\"AP-5 EU-2\")","v":""},{"$f":"IF(C115=\"\",\"\",C115& \" Fired Heater\")","v":""}]
[null,{"$f":"IF($C$4>6,\"Is Your Operation Controlled?:\",\"\")","v":""},null,null,{"$f":"IF($C$4>6,\"Silo Filling, Truck Loadout, Aggregate Transfer\",\"\")","v":""},null,null,{"$f":"IF($C$4>6,\"(tons/hr)\",\"\")","v":""},{"$f":"IF($C$4>6,\"(tons/yr)\",\"\")","v":""}]
[null,null,null,null,{"$f":"IF($C$4>6,\"AP-5 EP-3\",\"\")","v":""},{"$f":"IF($C$4>6,\"AP-5 EU-3\",\"\")","v":""},{"$f":"IF($C$4>6,\"Silo Filling\",\"\")","v":""}]
[null,null,null,null,{"$f":"IF($C$4>6,\"AP-5 EP-3\",\"\")","v":""},{"$f":"IF($C$4>6,\"AP-5 EU-4\",\"\")","v":""},{"$f":"IF($C$4>6,\"Truck Loadout\",\"\")","v":""}]
[null,null,null,null,{"$f":"IF($C$4>6,\"AP-5 EP-3\",\"\")","v":""},{"$f":"IF($C$4>6,\"AP-5 EU-5\",\"\")","v":""},{"$f":"IF($C$4>6,\"Cold Aggregate Bins\",\"\")","v":""}]
[]
[null,null,null,null,{"$f":"IF($C$4>6,\"Stock Pile Area\",\"\")","v":""}]
[null,null,null,null,null,{"$f":"IF($C$4>6,\"Emission Unit #\",\"\")","v":""},{"$f":"IF($C$4>6,\"Maximum Storage Area (acres)\",\"\")","v":""},{"$f":"IF($C$4>6,\"Actual Storage Area (acres)\",\"\")","v":""},{"$f":"IF($C$4>6,\"Actual Days in Existence (days)\",\"\")","v":""}]
[]
[]
[null,{"$f":"IF($C$4>7,\"Asphalt Plant\",\"\")","v":""},{"$f":"IF($C$4>7,\"Site 8\",\"\")","v":""},null,{"$f":"IF($C$4>7,\"Emission Point #\",\"\")","v":""},{"$f":"IF($C$4>7,\"Emission    Unit #\",\"\")","v":""},{"$f":"IF($C$4>7,\"Process\",\"\")","v":""},{"$f":"IF($C$4>7,\"Maximum Hourly     Design Rate\",\"\")","v":""},{"$f":"IF($C$4>7,('Facility Information'!G110&\" Annual Throughput\"),\"\")","v":""}]
[]
[null,{"$f":"IF($C$4>7,\"Site Name\",\"\")","v":""},null,null,{"$f":"IF($C$4>7,\"Dryers, Hot Screens, Mixer\",\"\")","v":""},null,null,{"$f":"IF($C$4>7,\"(tons/hr)\",\"\")","v":""},{"$f":"IF($C$4>7,\"(tons/yr)\",\"\")","v":""},"PM2.5","PM10"]
[null,{"$f":"IF($C$4>7,\"County:\",\"\")","v":""},null,null,{"$f":"IF(C130=\"\",\"\",\"AP-5 EP-1\")","v":""},{"$f":"IF(C130=\"\",\"\",\"AP-5 EU-1\")","v":""},{"$f":"IF(C130=\"\",\"\",C5 & \" - \"&C130)","v":""},null,null,{"$f":"IF(C131=\"\",\"\",IF(C131=\"yes\",LOOKUP(G128,'Emission Factors'!$A$12:$A$17,'Emission Factors'!$D$12:$D$17),LOOKUP(G128,'Emission Factors'!$A$5:$A$10,'Emission Factors'!$D$5:$D$10)))","v":""},{"$f":"IF(C131=\"\",\"\",IF(C131=\"yes\",LOOKUP(G128,'Emission Factors'!$A$12:$A$17,'Emission Factors'!$F$12:$F$17),LOOKUP(G128,'Emission Factors'!$A$5:$A$10,'Emission Factors'!$F$5:$F$10)))","v":""}]
[null,{"$f":"IF($C$4>7,\"Production Period (Dates):\",\"\")","v":""},null,null,{"$f":"IF($C$4>7,\"Liquid Asphalt Heater\",\"\")","v":""},null,null,{"$f":"IF($C$4>7,IF(C130=\"natural gas\",\"(MMCF/hr)\",\"(gallons/hr)\"),\"\")","v":""},{"$f":"IF($C$4>7,IF(C130=\"natural gas\",\"(MMCF/yr)\",\"(gallons/yr)\"),\"\")","v":""}]
[null,{"$f":"IF($C$4>7,\"Type of Fuel Used:\",\"\")","v":""},null,null,{"$f":"IF(C130=\"\",\"\",\"AP-5 EP-2\")","v":""},{"$f":"IF(C130=\"\",\"\",\"AP-5 EU-2\")","v":""},{"$f":"IF(C130=\"\",\"\",C130& \" Fired Heater\")","v":""}]
[null,{"$f":"IF($C$4>7,\"Is Your Operation Controlled?:\",\"\")","v":""},null,null,{"$f":"IF($C$4>7,\"Silo Filling, Truck Loadout, Aggregate Transfer\",\"\")","v":""},null,null,{"$f":"IF($C$4>7,\"(tons/hr)\",\"\")","v":""},{"$f":"IF($C$4>7,\"(tons/yr)\",\"\")","v":""}]
[null,null,null,null,{"$f":"IF($C$4>7,\"AP-5 EP-3\",\"\")","v":""},{"$f":"IF($C$4>7,\"AP-5 EU-3\",\"\")","v":""},{"$f":"IF($C$4>7,\"Silo Filling\",\"\")","v":""}]
[null,null,null,null,{"$f":"IF($C$4>7,\"AP-5 EP-3\",\"\")","v":""},{"$f":"IF($C$4>7,\"AP-5 EU-4\",\"\")","v":""},{"$f":"IF($C$4>7,\"Truck Loadout\",\"\")","v":""}]
[null,null,null,null,{"$f":"IF($C$4>7,\"AP-5 EP-3\",\"\")","v":""},{"$f":"IF($C$4>7,\"AP-5 EU-5\",\"\")","v":""},{"$f":"IF($C$4>7,\"Cold Aggregate Bins\",\"\")","v":""}]
[]
[null,null,null,null,{"$f":"IF($C$4>7,\"Stock Pile Area\",\"\")","v":""}]
[null,null,null,null,null,{"$f":"IF($C$4>7,\"Emission Unit #\",\"\")","v":""},{"$f":"IF($C$4>7,\"Maximum Storage Area (acres)\",\"\")","v":""},{"$f":"IF($C$4>7,\"Actual Storage Area (acres)\",\"\")","v":""},{"$f":"IF($C$4>7,\"Actual Days in Existence (days)\",\"\")","v":""}]
[]
[]
[null,{"$f":"IF($C$4>8,\"Asphalt Plant\",\"\")","v":""},{"$f":"IF($C$4>8,\"Site 9\",\"\")","v":""},null,{"$f":"IF($C$4>8,\"Emission Point #\",\"\")","v":""},{"$f":"IF($C$4>8,\"Emission    Unit #\",\"\")","v":""},{"$f":"IF($C$4>8,\"Process\",\"\")","v":""},{"$f":"IF($C$4>8,\"Maximum Hourly     Design Rate\",\"\")","v":""},{"$f":"IF($C$4>8,('Facility Information'!G125&\" Annual Throughput\"),\"\")","v":""}]
[]
[null,{"$f":"IF($C$4>8,\"Site Name\",\"\")","v":""},null,null,{"$f":"IF($C$4>8,\"Dryers, Hot Screens, Mixer\",\"\")","v":""},null,null,{"$f":"IF($C$4>8,\"(tons/hr)\",\"\")","v":""},{"$f":"IF($C$4>8,\"(tons/yr)\",\"\")","v":""},"PM2.5","PM10"]
[null,{"$f":"IF($C$4>8,\"County:\",\"\")","v":""},null,null,{"$f":"IF(C145=\"\",\"\",\"AP-5 EP-1\")","v":""},{"$f":"IF(C145=\"\",\"\",\"AP-5 EU-1\")","v":""},{"$f":"IF(C145=\"\",\"\",C5 & \" - \"&C145)","v":""},null,null,{"$f":"IF(C146=\"\",\"\",IF(C146=\"yes\",LOOKUP(G143,'Emission Factors'!$A$12:$A$17,'Emission Factors'!$D$12:$D$17),LOOKUP(G143,'Emission Factors'!$A$5:$A$10,'Emission Factors'!$D$5:$D$10)))","v":""},{"$f":"IF(C146=\"\",\"\",IF(C146=\"yes\",LOOKUP(G143,'Emission Factors'!$A$12:$A$17,'Emission Factors'!$F$12:$F$17),LOOKUP(G143,'Emission Factors'!$A$5:$A$10,'Emission Factors'!$F$5:$F$10)))","v":""}]
[null,{"$f":"IF($C$4>8,\"Production Period (Dates):\",\"\")","v":""},null,null,{"$f":"IF($C$4>8,\"Liquid Asphalt Heater\",\"\")","v":""},null,null,{"$f":"IF($C$4>8,IF(C145=\"natural gas\",\"(MMCF/hr)\",\"(gallons/hr)\"),\"\")","v":""},{"$f":"IF($C$4>8,IF(C145=\"natural gas\",\"(MMCF/yr)\",\"(gallons/yr)\"),\"\")","v":""}]
[null,{"$f":"IF($C$4>8,\"Type of Fuel Used:\",\"\")","v":""},null,null,{"$f":"IF(C145=\"\",\"\",\"AP-5 EP-2\")","v":""},{"$f":"IF(C145=\"\",\"\",\"AP-5 EU-2\")","v":""},{"$f":"IF(C145=\"\",\"\",C145& \" Fired Heater\")","v":""}]
[null,{"$f":"IF($C$4>8,\"Is Your Operation Controlled?:\",\"\")","v":""},null,null,{"$f":"IF($C$4>8,\"Silo Filling, Truck Loadout, Aggregate Transfer\",\"\")","v":""},null,null,{"$f":"IF($C$4>8,\"(tons/hr)\",\"\")","v":""},{"$f":"IF($C$4>8,\"(tons/yr)\",\"\")","v":""}]
[null,null,null,null,{"$f":"IF($C$4>8,\"AP-5 EP-3\",\"\")","v":""},{"$f":"IF($C$4>8,\"AP-5 EU-3\",\"\")","v":""},{"$f":"IF($C$4>8,\"Silo Filling\",\"\")","v":""}]
[null,null,null,null,{"$f":"IF($C$4>8,\"AP-5 EP-3\",\"\")","v":""},{"$f":"IF($C$4>8,\"AP-5 EU-4\",\"\")","v":""},{"$f":"IF($C$4>8,\"Truck Loadout\",\"\")","v":""}]
[null,null,null,null,{"$f":"IF($C$4>8,\"AP-5 EP-3\",\"\")","v":""},{"$f":"IF($C$4>8,\"AP-5 EU-5\",\"\")","v":""},{"$f":"IF($C$4>8,\"Cold Aggregate Bins\",\"\")","v":""}]
[]
[null,null,null,null,{"$f":"IF($C$4>8,\"Stock Pile Area\",\"\")","v":""}]
[null,null,null,null,null,{"$f":"IF($C$4>8,\"Emission Unit #\",\"\")","v":""},{"$f":"IF($C$4>8,\"Maximum Storage Area (acres)\",\"\")","v":""},{"$f":"IF($C$4>8,\"Actual Storage Area (acres)\",\"\")","v":""},{"$f":"IF($C$4>8,\"Actual Days in Existence (days)\",\"\")","v":""}]
[]
[]
[null,{"$f":"IF($C$4>9,\"Asphalt Plant\",\"\")","v":""},{"$f":"IF($C$4>9,\"Site 10\",\"\")","v":""},null,{"$f":"IF($C$4>9,\"Emission Point #\",\"\")","v":""},{"$f":"IF($C$4>9,\"Emission    Unit #\",\"\")","v":""},{"$f":"IF($C$4>9,\"Process\",\"\")","v":""},{"$f":"IF($C$4>9,\"Maximum Hourly     Design Rate\",\"\")","v":""},{"$f":"IF($C$4>9,('Facility Information'!G140&\" Annual Throughput\"),\"\")","v":""}]
[]
[null,{"$f":"IF($C$4>9,\"Site Name\",\"\")","v":""},null,null,{"$f":"IF($C$4>9,\"Dryers, Hot Screens, Mixer\",\"\")","v":""},null,null,{"$f":"IF($C$4>9,\"(tons/hr)\",\"\")","v":""},{"$f":"IF($C$4>9,\"(tons/yr)\",\"\")","v":""},"PM2.5","PM10"]
[null,{"$f":"IF($C$4>9,\"County:\",\"\")","v":""},null,null,{"$f":"IF(C160=\"\",\"\",\"AP-5 EP-1\")","v":""},{"$f":"IF(C160=\"\",\"\",\"AP-5 EU-1\")","v":""},{"$f":"IF(C160=\"\",\"\",C5 & \" - \"&C160)","v":""},null,null,{"$f":"IF(C161=\"\",\"\",IF(C161=\"yes\",LOOKUP(G158,'Emission Factors'!$A$12:$A$17,'Emission Factors'!$D$12:$D$17),LOOKUP(G158,'Emission Factors'!$A$5:$A$10,'Emission Factors'!$D$5:$D$10)))","v":""},{"$f":"IF(C161=\"\",\"\",IF(C161=\"yes\",LOOKUP(G158,'Emission Factors'!$A$12:$A$17,'Emission Factors'!$F$12:$F$17),LOOKUP(G158,'Emission Factors'!$A$5:$A$10,'Emission Factors'!$F$5:$F$10)))","v":""}]
[null,{"$f":"IF($C$4>9,\"Production Period (Dates):\",\"\")","v":""},null,null,{"$f":"IF($C$4>9,\"Liquid Asphalt Heater\",\"\")","v":""},null,null,{"$f":"IF($C$4>9,IF(C160=\"natural gas\",\"(MMCF/hr)\",\"(gallons/hr)\"),\"\")","v":""},{"$f":"IF($C$4>9,IF(C160=\"natural gas\",\"(MMCF/yr)\",\"(gallons/yr)\"),\"\")","v":""}]
[null,{"$f":"IF($C$4>9,\"Type of Fuel Used:\",\"\")","v":""},null,null,{"$f":"IF(C160=\"\",\"\",\"AP-5 EP-2\")","v":""},{"$f":"IF(C160=\"\",\"\",\"AP-5 EU-2\")","v":""},{"$f":"IF(C160=\"\",\"\",C160& \" Fired Heater\")","v":""}]
[null,{"$f":"IF($C$4>9,\"Is Your Operation Controlled?:\",\"\")","v":""},null,null,{"$f":"IF($C$4>9,\"Silo Filling, Truck Loadout, Aggregate Transfer\",\"\")","v":""},null,null,{"$f":"IF($C$4>9,\"(tons/hr)\",\"\")","v":""},{"$f":"IF($C$4>9,\"(tons/yr)\",\"\")","v":""}]
[null,null,null,null,{"$f":"IF($C$4>9,\"AP-5 EP-3\",\"\")","v":""},{"$f":"IF($C$4>9,\"AP-5 EU-3\",\"\")","v":""},{"$f":"IF($C$4>9,\"Silo Filling\",\"\")","v":""}]
[null,null,null,null,{"$f":"IF($C$4>9,\"AP-5 EP-3\",\"\")","v":""},{"$f":"IF($C$4>9,\"AP-5 EU-4\",\"\")","v":""},{"$f":"IF($C$4>9,\"Truck Loadout\",\"\")","v":""}]
[null,null,null,null,{"$f":"IF($C$4>9,\"AP-5 EP-3\",\"\")","v":""},{"$f":"IF($C$4>9,\"AP-5 EU-5\",\"\")","v":""},{"$f":"IF($C$4>9,\"Cold Aggregate Bins\",\"\")","v":""}]
[]
[null,null,null,null,{"$f":"IF($C$4>9,\"Stock Pile Area\",\"\")","v":""}]
[null,null,null,null,null,{"$f":"IF($C$4>9,\"Emission Unit #\",\"\")","v":""},{"$f":"IF($C$4>9,\"Maximum Storage Area (acres)\",\"\")","v":""},{"$f":"IF($C$4>9,\"Actual Storage Area (acres)\",\"\")","v":""},{"$f":"IF($C$4>9,\"Actual Days in Existence (days)\",\"\")","v":""}]

{"sheet":"Asphalt Plant (AP-6)","index":6,"n_rows":167,"n_cols":20,"rows_kept":167,"cut":false,"hidden":true,"merged":[[156,4,156,6],[158,4,158,6],[160,4,160,6],[139,7,140,7],[139,8,140,8],[141,4,141,6],[143,4,143,6],[145,4,145,6],[154,4,155,4],[154,5,155,5],[154,6,155,6],[154,7,155,7],[154,8,155,8],[126,4,126,6],[128,4,128,6],[130,4,130,6],[139,4,140,4],[139,5,140,5],[139,6,140,6],[109,7,110,7],[109,8,110,8],[111,4,111,6],[113,4,113,6],[115,4,115,6],[124,4,125,4],[124,5,125,5],[124,6,125,6],[124,7,125,7],[124,8,125,8],[96,4,96,6],[98,4,98,6],[100,4,100,6],[109,4,110,4],[109,5,110,5],[109,6,110,6],[79,7,80,7],[79,8,80,8],[81,4,81,6],[83,4,83,6],[85,4,85,6],[94,4,95,4],[94,5,95,5],[94,6,95,6],[94,7,95,7],[94,8,95,8],[66,4,66,6],[68,4,68,6],[70,4,70,6],[79,4,80,4],[79,5,80,5],[79,6,80,6],[49,8,50,8],[51,4,51,6],[53,4,53,6],[55,4,55,6],[64,4,65,4],[64,5,65,5],[64,6,65,6],[64,7,65,7],[64,8,65,8],[38,4,38,6],[40,4,40,6],[49,4,50,4],[49,5,50,5],[49,6,50,6],[49,7,50,7],[34,15,35,15],[34,16,35,16],[34,17,35,17],[34,18,35,18],[34,19,35,19],[36,4,36,6],[34,4,35,4],[34,5,35,5],[34,6,35,6],[34,7,35,7],[34,8,35,8],[34,14,35,14],[18,17,19,17],[18,18,19,18],[18,19,19,19],[19,4,20,4],[19,5,20,5],[19,6,20,6],[19,7,20,7],[19,8,20,8],[2,15,3,15],[2,16,3,16],[3,17,4,19],[12,1,14,2],[13,14,13,15],[14,14,14,15],[18,13,19,13],[18,14,19,14],[18,15,19,15],[18,16,19,16],[0,1,0,2],[1,1,1,2],[1,7,1,8],[2,12,3,12],[2,13,3,13],[2,14,3,14]]}
[null,"ASPHALT PLANT (AP-6)"]
[null,"Please fill in the yellow boxes as applicable for your facility. ",null,null,null,null,null,"Values used for calculating emissions →",null,null,null,null,"Values Used to Calculate Potential and Actual Emissions for the Listed Processes at this Plant"]
[null,null,null,null,null,null,null,null,null,null,null,null,"Process","Maximum Design Rate","Units","Actual throughput","Units"]
[null,{"$f":"\"Number of Sites this Plant operated at in \"&'Facility Information'!G5&\":\"","v":"Number of Sites this Plant operated at in :"},null,null,null,null,null,null,null,null,null,null,null,null,null,null,null,"** As of 2016 Potential Emissions are no longer required to be reported in the Minor Source Emissions Inventory**"]
[null,"Plant Type:",null,null,null,null,null,null,null,null,null,null,{"$f":"$C$5 & \" - Fuel Oil\"","v":" - Fuel Oil"},{"$f":"MAX((IFERROR(OFFSET($G$22,MATCH(M5,$G$23,0),1),0)),((IFERROR(OFFSET($G$37,MATCH(M5,$G$38,0),1),0))),((IFERROR(OFFSET($G$52,MATCH(M5,$G$53,0),1),0))),((IFERROR(OFFSET($G$67,MATCH(M5,$G$68,0),1),0))),((IFERROR(OFFSET($G$82,MATCH(M5,$G$83,0),1),0))),((IFERROR(OFFSET($G$97,MATCH(M5,$G$98,0),1),0))),((IFERROR(OFFSET($G$112,MATCH(M5,$G$113,0),1),0))),((IFERROR(OFFSET($G$127,MATCH(M5,$G$128,0),1),0))),((IFERROR(OFFSET($G$142,MATCH(M5,$G$143,0),1),0))),((IFERROR(OFFSET($G$157,MATCH(M5,$G$158,0),1),0))))","v":0},"tons/hr",{"$f":"SUM((IFERROR(OFFSET($G$22,MATCH(M5,$G$23,0),2),0)),((IFERROR(OFFSET($G$37,MATCH(M5,$G$38,0),2),0))),((IFERROR(OFFSET($G$52,MATCH(M5,$G$53,0),2),0))),((IFERROR(OFFSET($G$67,MATCH(M5,$G$68,0),2),0))),((IFERROR(OFFSET($G$82,MATCH(M5,$G$83,0),2),0))),((IFERROR(OFFSET($G$97,MATCH(M5,$G$98,0),2),0))),((IFERROR(OFFSET($G$112,MATCH(M5,$G$113,0),2),0))),((IFERROR(OFFSET($G$127,MATCH(M5,$G$128,0),2),0))),((IFERROR(OFFSET($G$142,MATCH(M5,$G$143,0),2),0))),((IFERROR(OFFSET($G$157,MATCH(M5,$G$158,0),2),0))))","v":0},"tons/yr"]
[null,null,null,null,null,null,null,null,null,null,null,null,{"$f":"$C$5 & \" - Waste Oil\"","v":" - Waste Oil"},{"$f":"MAX((IFERROR(OFFSET($G$22,MATCH(M6,$G$23,0),1),0)),((IFERROR(OFFSET($G$37,MATCH(M6,$G$38,0),1),0))),((IFERROR(OFFSET($G$52,MATCH(M6,$G$53,0),1),0))),((IFERROR(OFFSET($G$67,MATCH(M6,$G$68,0),1),0))),((IFERROR(OFFSET($G$82,MATCH(M6,$G$83,0),1),0))),((IFERROR(OFFSET($G$97,MATCH(M6,$G$98,0),1),0))),((IFERROR(OFFSET($G$112,MATCH(M6,$G$113,0),1),0))),((IFERROR(OFFSET($G$127,MATCH(M6,$G$128,0),1),0))),((IFERROR(OFFSET($G$142,MATCH(M6,$G$143,0),1),0))),((IFERROR(OFFSET($G$157,MATCH(M6,$G$158,0),1),0))))","v":0},"tons/hr",{"$f":"SUM((IFERROR(OFFSET($G$22,MATCH(M6,$G$23,0),2),0)),((IFERROR(OFFSET($G$37,MATCH(M6,$G$38,0),2),0))),((IFERROR(OFFSET($G$52,MATCH(M6,$G$53,0),2),0))),((IFERROR(OFFSET($G$67,MATCH(M6,$G$68,0),2),0))),((IFERROR(OFFSET($G$82,MATCH(M6,$G$83,0),2),0))),((IFERROR(OFFSET($G$97,MATCH(M6,$G$98,0),2),0))),((IFERROR(OFFSET($G$112,MATCH(M6,$G$113,0),2),0))),((IFERROR(OFFSET($G$127,MATCH(M6,$G$128,0),2),0))),((IFERROR(OFFSET($G$142,MATCH(M6,$G$143,0),2),0))),((IFERROR(OFFSET($G$157,MATCH(M6,$G$158,0),2),0))))","v":0},"tons/yr"]
[null,"Plant Specific Permit Number: ",null,null,null,null,null,null,null,null,null,null,{"$f":"$C$5 & \" - Natural Gas\"","v":" - Natural Gas"},{"$f":"MAX((IFERROR(OFFSET($G$22,MATCH(M7,$G$23,0),1),0)),((IFERROR(OFFSET($G$37,MATCH(M7,$G$38,0),1),0))),((IFERROR(OFFSET($G$52,MATCH(M7,$G$53,0),1),0))),((IFERROR(OFFSET($G$67,MATCH(M7,$G$68,0),1),0))),((IFERROR(OFFSET($G$82,MATCH(M7,$G$83,0),1),0))),((IFERROR(OFFSET($G$97,MATCH(M7,$G$98,0),1),0))),((IFERROR(OFFSET($G$112,MATCH(M7,$G$113,0),1),0))),((IFERROR(OFFSET($G$127,MATCH(M7,$G$128,0),1),0))),((IFERROR(OFFSET($G$142,MATCH(M7,$G$143,0),1),0))),((IFERROR(OFFSET($G$157,MATCH(M7,$G$158,0),1),0))))","v":0},"tons/hr",{"$f":"SUM((IFERROR(OFFSET($G$22,MATCH(M7,$G$23,0),2),0)),((IFERROR(OFFSET($G$37,MATCH(M7,$G$38,0),2),0))),((IFERROR(OFFSET($G$52,MATCH(M7,$G$53,0),2),0))),((IFERROR(OFFSET($G$67,MATCH(M7,$G$68,0),2),0))),((IFERROR(OFFSET($G$82,MATCH(M7,$G$83,0),2),0))),((IFERROR(OFFSET($G$97,MATCH(M7,$G$98,0),2),0))),((IFERROR(OFFSET($G$112,MATCH(M7,$G$113,0),2),0))),((IFERROR(OFFSET($G$127,MATCH(M7,$G$128,0),2),0))),((IFERROR(OFFSET($G$142,MATCH(M7,$G$143,0),2),0))),((IFERROR(OFFSET($G$157,MATCH(M7,$G$158,0),2),0))))","v":0},"tons/yr"]
[null,null,null,null,null,null,null,null,null,null,null,null,"Fuel Oil Fired Heater",{"$f":"MAX((IFERROR(OFFSET($G$24,MATCH(\"Fuel Oil Fired Heater\",$G$25,0),1),0)),((IFERROR(OFFSET($G$39,MATCH(\"Fuel Oil Fired Heater\",$G$40,0),1),0))),((IFERROR(OFFSET($G$54,MATCH(\"Fuel Oil Fired Heater\",$G$55,0),1),0))),((IFERROR(OFFSET($G$69,MATCH(\"Fuel Oil Fired Heater\",$G$70,0),1),0))),((IFERROR(OFFSET($G$84,MATCH(\"Fuel Oil Fired Heater\",$G$85,0),1),0))),((IFERROR(OFFSET($G$99,MATCH(\"Fuel Oil Fired Heater\",$G$100,0),1),0))),((IFERROR(OFFSET($G$114,MATCH(\"Fuel Oil Fired Heater\",$G$115,0),1),0))),((IFERROR(OFFSET($G$129,MATCH(\"Fuel Oil Fired Heater\",$G$130,0),1),0))),((IFERROR(OFFSET($G$144,MATCH(\"Fuel Oil Fired Heater\",$G$145,0),1),0))),((IFERROR(OFFSET($G$159,MATCH(\"Fuel Oil Fired Heater\",$G$160,0),1),0))))","v":0},"gallons/hr",{"$f":"SUM((IFERROR(OFFSET($G$24,MATCH(\"Fuel Oil Fired Heater\",$G$25,0),2),0)),((IFERROR(OFFSET($G$39,MATCH(\"Fuel Oil Fired Heater\",$G$40,0),2),0))),((IFERROR(OFFSET($G$54,MATCH(\"Fuel Oil Fired Heater\",$G$55,0),2),0))),((IFERROR(OFFSET($G$69,MATCH(\"Fuel Oil Fired Heater\",$G$70,0),2),0))),((IFERROR(OFFSET($G$84,MATCH(\"Fuel Oil Fired Heater\",$G$85,0),2),0))),((IFERROR(OFFSET($G$99,MATCH(\"Fuel Oil Fired Heater\",$G$100,0),2),0))),((IFERROR(OFFSET($G$114,MATCH(\"Fuel Oil Fired Heater\",$G$115,0),2),0))),((IFERROR(OFFSET($G$129,MATCH(\"Fuel Oil Fired Heater\",$G$130,0),2),0))),((IFERROR(OFFSET($G$144,MATCH(\"Fuel Oil Fired Heater\",$G$145,0),2),0))),((IFERROR(OFFSET($G$159,MATCH(\"Fuel Oil Fired Heater\",$G$160,0),2),0))))","v":0},"gallons/yr"]
[null,"Plant Specific Operating Limits:",null,null,"Plant Specific Emission Limits:",null,null,null,null,null,null,null,"Waste Oil Fired Heater",{"$f":"MAX((IFERROR(OFFSET($G$24,MATCH(\"waste oil Fired Heater\",$G$25,0),1),0)),((IFERROR(OFFSET($G$39,MATCH(\"waste oil Fired Heater\",$G$40,0),1),0))),((IFERROR(OFFSET($G$54,MATCH(\"waste oil Fired Heater\",$G$55,0),1),0))),((IFERROR(OFFSET($G$69,MATCH(\"waste oil Fired Heater\",$G$70,0),1),0))),((IFERROR(OFFSET($G$84,MATCH(\"waste oil Fired Heater\",$G$85,0),1),0))),((IFERROR(OFFSET($G$99,MATCH(\"waste oil Fired Heater\",$G$100,0),1),0))),((IFERROR(OFFSET($G$114,MATCH(\"waste oil Fired Heater\",$G$115,0),1),0))),((IFERROR(OFFSET($G$129,MATCH(\"waste oil Fired Heater\",$G$130,0),1),0))),((IFERROR(OFFSET($G$144,MATCH(\"waste oil Fired Heater\",$G$145,0),1),0))),((IFERROR(OFFSET($G$159,MATCH(\"waste oil Fired Heater\",$G$160,0),1),0))))","v":0},"gallons/hr",{"$f":"SUM((IFERROR(OFFSET($G$24,MATCH(\"waste oil Fired Heater\",$G$25,0),2),0)),((IFERROR(OFFSET($G$39,MATCH(\"waste oil Fired Heater\",$G$40,0),2),0))),((IFERROR(OFFSET($G$54,MATCH(\"waste oil Fired Heater\",$G$55,0),2),0))),((IFERROR(OFFSET($G$69,MATCH(\"waste oil Fired Heater\",$G$70,0),2),0))),((IFERROR(OFFSET($G$84,MATCH(\"waste oil Fired Heater\",$G$85,0),2),0))),((IFERROR(OFFSET($G$99,MATCH(\"waste oil Fired Heater\",$G$100,0),2),0))),((IFERROR(OFFSET($G$114,MATCH(\"waste oil Fired Heater\",$G$115,0),2),0))),((IFERROR(OFFSET($G$129,MATCH(\"waste oil Fired Heater\",$G$130,0),2),0))),((IFERROR(OFFSET($G$144,MATCH(\"waste oil Fired Heater\",$G$145,0),2),0))),((IFERROR(OFFSET($G$159,MATCH(\"waste oil Fired Heater\",$G$160,0),2),0))))","v":0},"gallons/yr"]
[null,"Throughput Limit (tons/yr):",null,null,"Pollutant","lb/hr","tons/yr",null,null,null,null,null,"Natural Gas Fired Heater",{"$f":"MAX((IFERROR(OFFSET($G$24,MATCH(\"Natural Gas Fired Heater\",$G$25,0),1),0)),((IFERROR(OFFSET($G$39,MATCH(\"Natural Gas Fired Heater\",$G$40,0),1),0))),((IFERROR(OFFSET($G$54,MATCH(\"Natural Gas Fired Heater\",$G$55,0),1),0))),((IFERROR(OFFSET($G$69,MATCH(\"Natural Gas Fired Heater\",$G$70,0),1),0))),((IFERROR(OFFSET($G$84,MATCH(\"Natural Gas Fired Heater\",$G$85,0),1),0))),((IFERROR(OFFSET($G$99,MATCH(\"Natural Gas Fired Heater\",$G$100,0),1),0))),((IFERROR(OFFSET($G$114,MATCH(\"Natural Gas Fired Heater\",$G$115,0),1),0))),((IFERROR(OFFSET($G$129,MATCH(\"Natural Gas Fired Heater\",$G$130,0),1),0))),((IFERROR(OFFSET($G$144,MATCH(\"Natural Gas Fired Heater\",$G$145,0),1),0))),((IFERROR(OFFSET($G$159,MATCH(\"Natural Gas Fired Heater\",$G$160,0),1),0))))","v":0},"MMCF/hr",{"$f":"SUM((IFERROR(OFFSET($G$24,MATCH(\"Natural Gas Fired Heater\",$G$25,0),2),0)),((IFERROR(OFFSET($G$39,MATCH(\"Natural Gas Fired Heater\",$G$40,0),2),0))),((IFERROR(OFFSET($G$54,MATCH(\"Natural Gas Fired Heater\",$G$55,0),2),0))),((IFERROR(OFFSET($G$69,MATCH(\"Natural Gas Fired Heater\",$G$70,0),2),0))),((IFERROR(OFFSET($G$84,MATCH(\"Natural Gas Fired Heater\",$G$85,0),2),0))),((IFERROR(OFFSET($G$99,MATCH(\"Natural Gas Fired Heater\",$G$100,0),2),0))),((IFERROR(OFFSET($G$114,MATCH(\"Natural Gas Fired Heater\",$G$115,0),2),0))),((IFERROR(OFFSET($G$129,MATCH(\"Natural Gas Fired Heater\",$G$130,0),2),0))),((IFERROR(OFFSET($G$144,MATCH(\"Natural Gas Fired Heater\",$G$145,0),2),0))),((IFERROR(OFFSET($G$159,MATCH(\"Natural Gas Fired Heater\",$G$160,0),2),0))))","v":0},"MMCF/yr"]
[null,"Daily Throughput Limit (tons/day):",null,null,"PM2.5",null,null,null,null,null,null,null,"Silo Filling",{"$f":"MAX((IFERROR(OFFSET($G$26,MATCH(\"Silo Filling\",$G$27,0),1),0)),((IFERROR(OFFSET($G$41,MATCH(\"Silo Filling\",$G$42,0),1),0))),((IFERROR(OFFSET($G$56,MATCH(\"Silo Filling\",$G$57,0),1),0))),((IFERROR(OFFSET($G$71,MATCH(\"Silo Filling\",$G$72,0),1),0))),((IFERROR(OFFSET($G$86,MATCH(\"Silo Filling\",$G$87,0),1),0))),((IFERROR(OFFSET($G$101,MATCH(\"Silo Filling\",$G$102,0),1),0))),((IFERROR(OFFSET($G$116,MATCH(\"Silo Filling\",$G$117,0),1),0))),((IFERROR(OFFSET($G$131,MATCH(\"Silo Filling\",$G$132,0),1),0))),((IFERROR(OFFSET($G$146,MATCH(\"Silo Filling\",$G$147,0),1),0))),((IFERROR(OFFSET($G$161,MATCH(\"Silo Filling\",$G$162,0),1),0))))","v":0},"tons/hr",{"$f":"SUM((IFERROR(OFFSET($G$26,MATCH(\"Silo Filling\",$G$27,0),2),0)),((IFERROR(OFFSET($G$41,MATCH(\"Silo Filling\",$G$42,0),2),0))),((IFERROR(OFFSET($G$56,MATCH(\"Silo Filling\",$G$57,0),2),0))),((IFERROR(OFFSET($G$71,MATCH(\"Silo Filling\",$G$72,0),2),0))),((IFERROR(OFFSET($G$86,MATCH(\"Silo Filling\",$G$87,0),2),0))),((IFERROR(OFFSET($G$101,MATCH(\"Silo Filling\",$G$102,0),2),0))),((IFERROR(OFFSET($G$116,MATCH(\"Silo Filling\",$G$117,0),2),0))),((IFERROR(OFFSET($G$131,MATCH(\"Silo Filling\",$G$132,0),2),0))),((IFERROR(OFFSET($G$146,MATCH(\"Silo Filling\",$G$147,0),2),0))),((IFERROR(OFFSET($G$161,MATCH(\"Silo Filling\",$G$162,0),2),0))))","v":0},"tons/yr"]
[null,"Hours of Operation Limit (hours/day):",null,null,"PM10",null,null,null,null,null,null,null,"Truck Loadout",{"$f":"MAX((IFERROR(OFFSET(G27,MATCH(\"Truck Loadout\",G28,0),1),0)),((IFERROR(OFFSET(G42,MATCH(\"Truck Loadout\",G43,0),1),0))),((IFERROR(OFFSET(G57,MATCH(\"Truck Loadout\",G58,0),1),0))),((IFERROR(OFFSET(G72,MATCH(\"Truck Loadout\",G73,0),1),0))),((IFERROR(OFFSET(G87,MATCH(\"Truck Loadout\",G88,0),1),0))),((IFERROR(OFFSET(G102,MATCH(\"Truck Loadout\",G103,0),1),0))),((IFERROR(OFFSET(G117,MATCH(\"Truck Loadout\",G118,0),1),0))),((IFERROR(OFFSET(G132,MATCH(\"Truck Loadout\",G133,0),1),0))),((IFERROR(OFFSET(G147,MATCH(\"Truck Loadout\",G148,0),1),0))),((IFERROR(OFFSET(G162,MATCH(\"Truck Loadout\",G163,0),1),0))))","v":0},"tons/hr",{"$f":"SUM((IFERROR(OFFSET(G27,MATCH(\"Truck Loadout\",G28,0),2),0)),((IFERROR(OFFSET(G42,MATCH(\"Truck Loadout\",G43,0),2),0))),((IFERROR(OFFSET(G57,MATCH(\"Truck Loadout\",G58,0),2),0))),((IFERROR(OFFSET(G72,MATCH(\"Truck Loadout\",G73,0),2),0))),((IFERROR(OFFSET(G87,MATCH(\"Truck Loadout\",G88,0),2),0))),((IFERROR(OFFSET(G102,MATCH(\"Truck Loadout\",G103,0),2),0))),((IFERROR(OFFSET(G117,MATCH(\"Truck Loadout\",G118,0),2),0))),((IFERROR(OFFSET(G132,MATCH(\"Truck Loadout\",G133,0),2),0))),((IFERROR(OFFSET(G147,MATCH(\"Truck Loadout\",G148,0),2),0))),((IFERROR(OFFSET(G162,MATCH(\"Truck Loadout\",G163,0),2),0))))","v":0},"tons/yr"]
["Fuel Oil","Note: if the plant has an hrs/day and a tons/hr permit limit, those values should be multiplied together to calculate a tons/day limit and that value should be placed in cell C11.",null,null,"SO2",null,null,null,null,null,null,null,"Cold Aggregate Bins",{"$f":"MAX((IFERROR(OFFSET(G28,MATCH(\"Cold Aggregate Bins\",G29,0),1),0)),((IFERROR(OFFSET(G43,MATCH(\"Cold Aggregate Bins\",G44,0),1),0))),((IFERROR(OFFSET(G58,MATCH(\"Cold Aggregate Bins\",G59,0),1),0))),((IFERROR(OFFSET(G73,MATCH(\"Cold Aggregate Bins\",G74,0),1),0))),((IFERROR(OFFSET(G88,MATCH(\"Cold Aggregate Bins\",G89,0),1),0))),((IFERROR(OFFSET(G103,MATCH(\"Cold Aggregate Bins\",G104,0),1),0))),((IFERROR(OFFSET(G118,MATCH(\"Cold Aggregate Bins\",G119,0),1),0))),((IFERROR(OFFSET(G133,MATCH(\"Cold Aggregate Bins\",G134,0),1),0))),((IFERROR(OFFSET(G148,MATCH(\"Cold Aggregate Bins\",G149,0),1),0))),((IFERROR(OFFSET(G163,MATCH(\"Cold Aggregate Bins\",G164,0),1),0))))","v":0},"tons/hr",{"$f":"SUM((IFERROR(OFFSET(G28,MATCH(\"Cold Aggregate Bins\",G29,0),2),0)),((IFERROR(OFFSET(G43,MATCH(\"Cold Aggregate Bins\",G44,0),2),0))),((IFERROR(OFFSET(G58,MATCH(\"Cold Aggregate Bins\",G59,0),2),0))),((IFERROR(OFFSET(G73,MATCH(\"Cold Aggregate Bins\",G74,0),2),0))),((IFERROR(OFFSET(G88,MATCH(\"Cold Aggregate Bins\",G89,0),2),0))),((IFERROR(OFFSET(G103,MATCH(\"Cold Aggregate Bins\",G104,0),2),0))),((IFERROR(OFFSET(G118,MATCH(\"Cold Aggregate Bins\",G119,0),2),0))),((IFERROR(OFFSET(G133,MATCH(\"Cold Aggregate Bins\",G134,0),2),0))),((IFERROR(OFFSET(G148,MATCH(\"Cold Aggregate Bins\",G149,0),2),0))),((IFERROR(OFFSET(G163,MATCH(\"Cold Aggregate Bins\",G164,0),2),0))))","v":0},"tons/yr"]
["Natural Gas",null,null,null,"NOx",null,null,null,null,null,null,null,null,"Maximum (acres)","Actual (acres-day/yr)"]
["Waste Oil",null,null,null,"VOC",null,null,null,null,null,null,null,"Storage Pile",{"$f":"SUM(G33,G48,G63,G78,G93,G108,G123,G138,G153,G168,)","v":0},{"$f":"SUM(H33*I33,H48*I48,H63*I63,H78*I78,H93*I93,H108*I108,H123*I123,H138*I138,H153*I153,H168*I168)","v":0}]
[null,null,null,null,"CO"]
["Batch Mix Plant"]
["Drum Mix Plant",null,null,null,null,null,null,null,null,null,null,null,"Potential and Actual Emissions for the Listed Processes at this Plant"]
[null,null,null,null,null,null,null,null,null,null,null,null,null,"Maximum Design Rate (tons/hr)","Emission Factor","Units","Potential Uncontrolled Emissions (lb/hr)","Potential Controlled Emissions (lb/hr)","Potential Annual Emissions (tons/yr)","Actual Annual Emissions (tons/yr)"]
[null,"Asphalt Plant","Site 1",null,"Emission Point #","Emission     Unit #","Processes","Maximum Hourly     Design Rate",{"$f":"('Facility Information'!G5&\" Annual Throughput\")","v":" Annual Throughput"},null,null,null,"PM2.5"]
["YES",null,null,null,null,null,null,null,null,null,null,null,{"$f":"$C$5 & \" - Fuel Oil\"","v":" - Fuel Oil"},{"$f":"N5","v":0},{"$f":"IF(N21=0,0,IF(MAX((IFERROR(OFFSET($G$22,MATCH(M21,$G$23,0),3),0)),((IFERROR(OFFSET($G$37,MATCH(M21,$G$38,0),3),0))),((IFERROR(OFFSET($G$52,MATCH(M21,$G$53,0),3),0))),((IFERROR(OFFSET($G$67,MATCH(M21,$G$68,0),3),0))),((IFERROR(OFFSET($G$82,MATCH(M21,$G$83,0),3),0))),((IFERROR(OFFSET($G$97,MATCH(M21,$G$98,0),3),0))),((IFERROR(OFFSET($G$112,MATCH(M21,$G$113,0),3),0))),((IFERROR(OFFSET($G$127,MATCH(M21,$G$128,0),3),0))),((IFERROR(OFFSET($G$142,MATCH(M21,$G$143,0),3),0))),((IFERROR(OFFSET($G$157,MATCH(M21,$G$158,0),3),0))))=0,0,(MAX((IFERROR(OFFSET($G$22,MATCH(M21,$G$23,0),3),0)),((IFERROR(OFFSET($G$37,MATCH(M21,$G$38,0),3),0))),((IFERROR(OFFSET($G$52,MATCH(M21,$G$53,0),3),0))),((IFERROR(OFFSET($G$67,MATCH(M21,$G$68,0),3),0))),((IFERROR(OFFSET($G$82,MATCH(M21,$G$83,0),3),0))),((IFERROR(OFFSET($G$97,MATCH(M21,$G$98,0),3),0))),((IFERROR(OFFSET($G$112,MATCH(M21,$G$113,0),3),0))),((IFERROR(OFFSET($G$127,MATCH(M21,$G$128,0),3),0))),((IFERROR(OFFSET($G$142,MATCH(M21,$G$143,0),3),0))),((IFERROR(OFFSET($G$157,MATCH(M21,$G$158,0),3),0)))))))","v":0},{"$f":"IF(O21=\"\",\"\",\"lb/ton\")","v":"lb/ton"},{"$f":"IF(O21=0.27,N21*O21,IF(O21=1.54,N21*O21,\"\"))","v":""},{"$f":"IF(N21=0,\"\",IF(AND($F$11>0,$O$21>=$O$22,$O$21>=$O$23),$F$11,IF(O21=0.0083,N21*O21,IF(O21=0.007,N21*O21,\"\"))))","v":""},{"$f":"IF(N21=0,0,IF($G$11>0,$G$11,IF(AND(OR($C$10>0,$C$11>0,$C$12>0),$O$21>=$O$22,$O$21>=$O$23),(IF($C$10>0,$C$10*O21/2000,IF($C$11>0,$C$11*365*O21/2000,IF($C$12>0,$C$12*365*O21*N21/2000)))),IF(AND($F$11>0,$O$21>=$O$22,$O$21>=$O$23),$F$11*8760/2000,IF(AND(OR($C$10=\"\",$C$10=0),OR($C$11=\"\",$C$11=0),OR($C$12=\"\",$C$12=0),$F$11=\"\"),IF(R21=\"\",Q21*8760/2000,R21*8760/2000),\"\")))))","v":0},{"$f":"IF(N21=\"\",\"\",SUM((IFERROR(MATCH(M21,$G$23,0)*$I$23*$J$23/2000,0)),(IFERROR(MATCH(M21,$G$38,0)*$I$38*$J$38/2000,0)),(IFERROR(MATCH(M21,$G$53,0)*$I$53*$J$53/2000,0)),(IFERROR(MATCH(M21,$G$68,0)*$I$68*$J$68/2000,0)),(IFERROR(MATCH(M21,$G$83,0)*$I$83*$J$83/2000,0)),(IFERROR(MATCH(M21,$G$98,0)*$I$98*$J$98/2000,0)),(IFERROR(MATCH(M21,$G$113,0)*$I$113*$J$113/2000,0)),(IFERROR(MATCH(M21,$G$128,0)*$I$128*$J$128/2000,0)),(IFERROR(MATCH(M21,$G$143,0)*$I$143*$J$143/2000,0)),(IFERROR(MATCH(M21,$G$158,0)*$I$158*$J$158/2000,0))))","v":0}]
["NO","Site Name:",null,null,"Dryer, Hot Screens, Mixer",null,null,"(tons/hr)","(tons/yr)","PM2.5","PM10",null,{"$f":"$C$5 & \" - Waste Oil\"","v":" - Waste Oil"},{"$f":"N6","v":0},{"$f":"IF(N22=0,0,IF(MAX((IFERROR(OFFSET($G$22,MATCH(M22,$G$23,0),3),0)),((IFERROR(OFFSET($G$37,MATCH(M22,$G$38,0),3),0))),((IFERROR(OFFSET($G$52,MATCH(M22,$G$53,0),3),0))),((IFERROR(OFFSET($G$67,MATCH(M22,$G$68,0),3),0))),((IFERROR(OFFSET($G$82,MATCH(M22,$G$83,0),3),0))),((IFERROR(OFFSET($G$97,MATCH(M22,$G$98,0),3),0))),((IFERROR(OFFSET($G$112,MATCH(M22,$G$113,0),3),0))),((IFERROR(OFFSET($G$127,MATCH(M22,$G$128,0),3),0))),((IFERROR(OFFSET($G$142,MATCH(M22,$G$143,0),3),0))),((IFERROR(OFFSET($G$157,MATCH(M22,$G$158,0),3),0))))=0,0,(MAX((IFERROR(OFFSET($G$22,MATCH(M22,$G$23,0),3),0)),((IFERROR(OFFSET($G$37,MATCH(M22,$G$38,0),3),0))),((IFERROR(OFFSET($G$52,MATCH(M22,$G$53,0),3),0))),((IFERROR(OFFSET($G$67,MATCH(M22,$G$68,0),3),0))),((IFERROR(OFFSET($G$82,MATCH(M22,$G$83,0),3),0))),((IFERROR(OFFSET($G$97,MATCH(M22,$G$98,0),3),0))),((IFERROR(OFFSET($G$112,MATCH(M22,$G$113,0),3),0))),((IFERROR(OFFSET($G$127,MATCH(M22,$G$128,0),3),0))),((IFERROR(OFFSET($G$142,MATCH(M22,$G$143,0),3),0))),((IFERROR(OFFSET($G$157,MATCH(M22,$G$158,0),3),0)))))))","v":0},"lb/ton",{"$f":"IF(O22=0.27,N22*O22,IF(O22=1.54,N22*O22,\"\"))","v":""},{"$f":"IF(N22=0,\"\",IF(AND($F$11>0,$O$22>$O$21,$O$22>=$O$23),$F$11,IF(O22=0.0083,N22*O22,IF(O22=0.007,N22*O22,\"\"))))","v":""},{"$f":"IF(N22=0,0,IF($G$11>0,IF(S21=0,G11,\"\"),IF(AND(OR($C$10>0,$C$11>0,$C$12>0),$O$22>$O$21,$O$22>=$O$23),(IF($C$10>0,$C$10*O22/2000,IF($C$11>0,$C$11*365*O22/2000,IF($C$12>0,$C$12*365*O22*N22/2000)))),IF(AND($F$11>0,$O$22>$O$21,$O$22>=$O$23),$F$11*8760/2000,IF(AND(OR($C$10=\"\",$C$10=0),OR($C$11=\"\",$C$11=0),OR($C$12=\"\",$C$12=0),$F$11=\"\"),IF(R22=\"\",Q22*8760/2000,R22*8760/2000),\"\")))))","v":0},{"$f":"IF(N22=\"\",\"\",SUM((IFERROR(MATCH(M22,$G$23,0)*$I$23*$J$23/2000,0)),(IFERROR(MATCH(M22,$G$38,0)*$I$38*$J$38/2000,0)),(IFERROR(MATCH(M22,$G$53,0)*$I$53*$J$53/2000,0)),(IFERROR(MATCH(M22,$G$68,0)*$I$68*$J$68/2000,0)),(IFERROR(MATCH(M22,$G$83,0)*$I$83*$J$83/2000,0)),(IFERROR(MATCH(M22,$G$98,0)*$I$98*$J$98/2000,0)),(IFERROR(MATCH(M22,$G$113,0)*$I$113*$J$113/2000,0)),(IFERROR(MATCH(M22,$G$128,0)*$I$128*$J$128/2000,0)),(IFERROR(MATCH(M22,$G$143,0)*$I$143*$J$143/2000,0)),(IFERROR(MATCH(M22,$G$158,0)*$I$158*$J$158/2000,0))))","v":0}]
[null,"County:",null,null,{"$f":"IF($C$4>0,\"AP-6 EP-1\",\"\")","v":""},{"$f":"IF($C$4>0,\"AP-6 EU-1\",\"\")","v":""},{"$f":"IF(C25=\"\",\"\",C5 & \" - \"&C25)","v":""},null,null,{"$f":"IF(C26=\"\",\"\",IF(C26=\"yes\",LOOKUP(G23,'Emission Factors'!$A$12:$A$17,'Emission Factors'!$D$12:$D$17),LOOKUP(G23,'Emission Factors'!$A$5:$A$10,'Emission Factors'!$D$5:$D$10)))","v":""},{"$f":"IF(C26=\"\",\"\",IF(C26=\"yes\",LOOKUP(G23,'Emission Factors'!$A$12:$A$17,'Emission Factors'!$F$12:$F$17),LOOKUP(G23,'Emission Factors'!$A$5:$A$10,'Emission Factors'!$F$5:$F$10)))","v":""},null,{"$f":"$C$5 & \" - Natural Gas\"","v":" - Natural Gas"},{"$f":"N7","v":0},{"$f":"IF(N23=0,0,IF(MAX((IFERROR(OFFSET($G$22,MATCH(M23,$G$23,0),3),0)),((IFERROR(OFFSET($G$37,MATCH(M23,$G$38,0),3),0))),((IFERROR(OFFSET($G$52,MATCH(M23,$G$53,0),3),0))),((IFERROR(OFFSET($G$67,MATCH(M23,$G$68,0),3),0))),((IFERROR(OFFSET($G$82,MATCH(M23,$G$83,0),3),0))),((IFERROR(OFFSET($G$97,MATCH(M23,$G$98,0),3),0))),((IFERROR(OFFSET($G$112,MATCH(M23,$G$113,0),3),0))),((IFERROR(OFFSET($G$127,MATCH(M23,$G$128,0),3),0))),((IFERROR(OFFSET($G$142,MATCH(M23,$G$143,0),3),0))),((IFERROR(OFFSET($G$157,MATCH(M23,$G$158,0),3),0))))=0,0,(MAX((IFERROR(OFFSET($G$22,MATCH(M23,$G$23,0),3),0)),((IFERROR(OFFSET($G$37,MATCH(M23,$G$38,0),3),0))),((IFERROR(OFFSET($G$52,MATCH(M23,$G$53,0),3),0))),((IFERROR(OFFSET($G$67,MATCH(M23,$G$68,0),3),0))),((IFERROR(OFFSET($G$82,MATCH(M23,$G$83,0),3),0))),((IFERROR(OFFSET($G$97,MATCH(M23,$G$98,0),3),0))),((IFERROR(OFFSET($G$112,MATCH(M23,$G$113,0),3),0))),((IFERROR(OFFSET($G$127,MATCH(M23,$G$128,0),3),0))),((IFERROR(OFFSET($G$142,MATCH(M23,$G$143,0),3),0))),((IFERROR(OFFSET($G$157,MATCH(M23,$G$158,0),3),0)))))))","v":0},"lb/ton",{"$f":"IF(O23=0.27,N23*O23,IF(O23=1.54,N23*O23,\"\"))","v":""},{"$f":"IF(N23=0,\"\",IF(AND($F$11>0,$O$23>$O$21,$O$23>$O$21),$F$11,IF(O23=0.0083,N23*O23,IF(O23=0.007,N23*O23,\"\"))))","v":""},{"$f":"IF(N23=0,0,IF($G$11>0,IF(AND(S21=0,S22=0),\"\"),IF(AND(OR($C$10>0,$C$11>0,$C$12>0),$O$23>$O$21,$O$23>$O$21),(IF($C$10>0,$C$10*O23/2000,IF($C$11>0,$C$11*365*O23/2000,IF($C$12>0,$C$12*365*O23*N23/2000)))),IF(AND($F$11>0,$O$23>$O$21,$O$23>$O$21),$F$11*8760/2000,IF(AND(OR($C$10=\"\",$C$10=0),OR($C$11=\"\",$C$11=0),OR($C$12=\"\",$C$12=0),$F$11=\"\"),IF(R23=\"\",Q23*8760/2000,R23*8760/2000),\"\")))))","v":0},{"$f":"IF(N23=\"\",\"\",SUM((IFERROR(MATCH(M23,$G$23,0)*$I$23*$J$23/2000,0)),(IFERROR(MATCH(M23,$G$38,0)*$I$38*$J$38/2000,0)),(IFERROR(MATCH(M23,$G$53,0)*$I$53*$J$53/2000,0)),(IFERROR(MATCH(M23,$G$68,0)*$I$68*$J$68/2000,0)),(IFERROR(MATCH(M23,$G$83,0)*$I$83*$J$83/2000,0)),(IFERROR(MATCH(M23,$G$98,0)*$I$98*$J$98/2000,0)),(IFERROR(MATCH(M23,$G$113,0)*$I$113*$J$113/2000,0)),(IFERROR(MATCH(M23,$G$128,0)*$I$128*$J$128/2000,0)),(IFERROR(MATCH(M23,$G$143,0)*$I$143*$J$143/2000,0)),(IFERROR(MATCH(M23,$G$158,0)*$I$158*$J$158/2000,0))))","v":0}]
[null,"Production Period (Dates):",null,null,"Liquid Asphalt Heater",null,null,{"$f":"IF(C25=\"natural gas\", \"(MMCF/hr)\",\"(gallons/hr)\")","v":"(gallons/hr)"},{"$f":"IF(C25=\"natural gas\", \"(MMCF/yr)\",\"(gallons/yr)\")","v":"(gallons/yr)"},null,null,null,"Silo Filling",{"$f":"N11","v":0},{"$f":"IF(N24=0,0,IF(N24=0,0,LOOKUP(M24,'Emission Factors'!$A$23:$A$25,'Emission Factors'!$D$23:$D$25)))","v":0},"lb/ton",{"$f":"N24*O24","v":0},null,{"$f":"IF($G$11>0,\"\",IF($C$10>0,$C$10*O24/2000,IF($C$11>0,$C$11*365*O24/2000,IF($C$12>0,$C$12*365*O24*N24/2000,IF($F$11>0,\"\",IF(R24=\"\",Q24*8760/2000,R24*8760/2000))))))","v":0},{"$f":"(P11*O24/2000)","v":0}]
[null,"Type of Fuel Used:",null,null,{"$f":"IF($C$4>0,\"AP-6 EP-2\",\"\")","v":""},{"$f":"IF($C$4>0,\"AP-6 EU-2\",\"\")","v":""},{"$f":"IF(C25=\"\",\"\",C25& \" Fired Heater\")","v":""},null,null,null,null,null,"Truck Loadout",{"$f":"N12","v":0},{"$f":"IF(N25=0,0,IF(N25=0,0,LOOKUP(M25,'Emission Factors'!$A$23:$A$25,'Emission Factors'!$D$23:$D$25)))","v":0},"lb/ton",{"$f":"N25*O25","v":0},null,{"$f":"IF($G$11>0,\"\",IF($C$10>0,$C$10*O25/2000,IF($C$11>0,$C$11*365*O25/2000,IF($C$12>0,$C$12*365*O25*N25/2000,IF($F$11>0,\"\",IF(R25=\"\",Q25*8760/2000,R25*8760/2000))))))","v":0},{"$f":"(P12*O25/2000)","v":0}]
[null,"Is Your Operation Controlled?:",null,null,"Silo Filling, Truck Loadout, Aggregate Transfer",null,null,"(tons/hr)","(tons/yr)",null,null,null,"Cold Aggregate Bins",{"$f":"N13","v":0},{"$f":"IF(N26=0,0,IF(N26=0,0,LOOKUP(M26,'Emission Factors'!A23:A25,'Emission Factors'!D23:D25)))","v":0},"lb/ton",{"$f":"N26*O26","v":0},null,{"$f":"IF($G$11>0,\"\",IF($C$10>0,$C$10*O26/2000,IF($C$11>0,$C$11*365*O26/2000,IF($C$12>0,$C$12*365*O26*N26/2000,IF($F$11>0,\"\",IF(R26=\"\",Q26*8760/2000,R26*8760/2000))))))","v":0},{"$f":"(P13*O26/2000)","v":0}]
[null,null,null,null,{"$f":"IF($C$4>0,\"AP-6 EP-3\",\"\")","v":""},{"$f":"IF($C$4>0,\"AP-6 EU-3\",\"\")","v":""},{"$f":"IF(C5=\"\",\"\",\"Silo Filling\")","v":""},null,null,null,null,null,"PM10"]
[null,null,null,null,{"$f":"IF($C$4>0,\"AP-6 EP-3\",\"\")","v":""},{"$f":"IF($C$4>0,\"AP-6 EU-4\",\"\")","v":""},{"$f":"IF(C5=\"\",\"\",\"Truck Loadout\")","v":""},null,null,null,null,null,{"$f":"$C$5 & \" - Fuel Oil\"","v":" - Fuel Oil"},{"$f":"N5","v":0},{"$f":"IF(N28=0,0,IF(MAX((IFERROR(OFFSET($G$22,MATCH(M28,$G$23,0),4),0)),((IFERROR(OFFSET($G$37,MATCH(M28,$G$38,0),4),0))),((IFERROR(OFFSET($G$52,MATCH(M28,$G$53,0),4),0))),((IFERROR(OFFSET($G$67,MATCH(M28,$G$68,0),4),0))),((IFERROR(OFFSET($G$82,MATCH(M28,$G$83,0),3),0))),((IFERROR(OFFSET($G$97,MATCH(M28,$G$98,0),4),0))),((IFERROR(OFFSET($G$112,MATCH(M28,$G$113,0),4),0))),((IFERROR(OFFSET($G$127,MATCH(M28,$G$128,0),4),0))),((IFERROR(OFFSET($G$142,MATCH(M28,$G$143,0),4),0))),((IFERROR(OFFSET($G$157,MATCH(M28,$G$158,0),4),0))))=0,0,(MAX((IFERROR(OFFSET($G$22,MATCH(M28,$G$23,0),4),0)),((IFERROR(OFFSET($G$37,MATCH(M28,$G$38,0),4),0))),((IFERROR(OFFSET($G$52,MATCH(M28,$G$53,0),4),0))),((IFERROR(OFFSET($G$67,MATCH(M28,$G$68,0),4),0))),((IFERROR(OFFSET($G$82,MATCH(M28,$G$83,0),4),0))),((IFERROR(OFFSET($G$97,MATCH(M28,$G$98,0),4),0))),((IFERROR(OFFSET($G$112,MATCH(M28,$G$113,0),4),0))),((IFERROR(OFFSET($G$127,MATCH(M28,$G$128,0),4),0))),((IFERROR(OFFSET($G$142,MATCH(M28,$G$143,0),4),0))),((IFERROR(OFFSET($G$157,MATCH(M28,$G$158,0),4),0)))))))","v":0},{"$f":"IF(O28=\"\",\"\",\"lb/ton\")","v":"lb/ton"},{"$f":"IF(O28=4.5,N28*O28,IF(O28=6.5,N28*O28,\"\"))","v":""},{"$f":"IF(N28=0,\"\",IF(AND($F$12>0,$O$28>=$O$29,$O$28>=$O$30),$F$12,IF(O28=0.0098,N28*O28,IF(O28=0.023,N28*O28,\"\"))))","v":""},{"$f":"IF(N28=0,0,IF($G$12>0,$G$12,IF(AND(OR($C$10>0,$C$11>0,$C$12>0),$O$28>=$O$29,$O$28>=$O$30),(IF($C$10>0,$C$10*O28/2000,IF($C$11>0,$C$11*365*O28/2000,IF($C$12>0,$C$12*365*O28*N28/2000)))),IF(AND($F$12>0,$O$28>=$O$29,$O$28>=$O$30),$F$12*8760/2000,IF(AND(OR($C$10=\"\",$C$10=0),OR($C$11=\"\",$C$11=0),OR($C$12=\"\",$C$12=0),$F$12=\"\"),IF(R28=\"\",Q28*8760/2000,R28*8760/2000),\"\")))))","v":0},{"$f":"IF(N28=\"\",\"\",SUM((IFERROR(MATCH(M28,$G$23,0)*$I$23*$K$23/2000,0)),(IFERROR(MATCH(M28,$G$38,0)*$I$38*$K$38/2000,0)),(IFERROR(MATCH(M28,$G$53,0)*$I$53*$K$53/2000,0)),(IFERROR(MATCH(M28,$G$68,0)*$I$68*$K$68/2000,0)),(IFERROR(MATCH(M28,$G$83,0)*$I$83*$K$83/2000,0)),(IFERROR(MATCH(M28,$G$98,0)*$I$98*$K$98/2000,0)),(IFERROR(MATCH(M28,$G$113,0)*$I$113*$K$113/2000,0)),(IFERROR(MATCH(M28,$G$128,0)*$I$128*$K$128/2000,0)),(IFERROR(MATCH(M28,$G$143,0)*$I$143*$K$143/2000,0)),(IFERROR(MATCH(M28,$G$158,0)*$I$158*$K$158/2000,0))))","v":0}]
[null,null,null,null,{"$f":"IF($C$4>0,\"AP-6 EP-3\",\"\")","v":""},{"$f":"IF($C$4>0,\"AP-6 EU-5\",\"\")","v":""},{"$f":"IF(C5=\"\",\"\",\"Cold Aggregate Bins\")","v":""},null,null,null,null,null,{"$f":"$C$5 & \" - Waste Oil\"","v":" - Waste Oil"},{"$f":"N6","v":0},{"$f":"IF(N29=0,0,IF(MAX((IFERROR(OFFSET($G$22,MATCH(M29,$G$23,0),4),0)),((IFERROR(OFFSET($G$37,MATCH(M29,$G$38,0),4),0))),((IFERROR(OFFSET($G$52,MATCH(M29,$G$53,0),4),0))),((IFERROR(OFFSET($G$67,MATCH(M29,$G$68,0),4),0))),((IFERROR(OFFSET($G$82,MATCH(M29,$G$83,0),3),0))),((IFERROR(OFFSET($G$97,MATCH(M29,$G$98,0),4),0))),((IFERROR(OFFSET($G$112,MATCH(M29,$G$113,0),4),0))),((IFERROR(OFFSET($G$127,MATCH(M29,$G$128,0),4),0))),((IFERROR(OFFSET($G$142,MATCH(M29,$G$143,0),4),0))),((IFERROR(OFFSET($G$157,MATCH(M29,$G$158,0),4),0))))=0,0,(MAX((IFERROR(OFFSET($G$22,MATCH(M29,$G$23,0),4),0)),((IFERROR(OFFSET($G$37,MATCH(M29,$G$38,0),4),0))),((IFERROR(OFFSET($G$52,MATCH(M29,$G$53,0),4),0))),((IFERROR(OFFSET($G$67,MATCH(M29,$G$68,0),4),0))),((IFERROR(OFFSET($G$82,MATCH(M29,$G$83,0),4),0))),((IFERROR(OFFSET($G$97,MATCH(M29,$G$98,0),4),0))),((IFERROR(OFFSET($G$112,MATCH(M29,$G$113,0),4),0))),((IFERROR(OFFSET($G$127,MATCH(M29,$G$128,0),4),0))),((IFERROR(OFFSET($G$142,MATCH(M29,$G$143,0),4),0))),((IFERROR(OFFSET($G$157,MATCH(M29,$G$158,0),4),0)))))))","v":0},"lb/ton",{"$f":"IF(O29=4.5,N29*O29,IF(O29=6.5,N29*O29,\"\"))","v":""},{"$f":"IF(N29=0,\"\",IF(AND($F$12>0,$O$29>$O$28,$O$29>=$O$30),$F$12,IF(O29=0.0098,N29*O29,IF(O29=0.023,N29*O29,\"\"))))","v":""},{"$f":"IF(N29=0,0,IF($G$12>0,IF(S28=0,$G$12,\"\"),IF(AND(OR($C$10>0,$C$11>0,$C$12>0),$O$29>$O$28,$O$29>=$O$30),(IF($C$10>0,$C$10*O29/2000,IF($C$11>0,$C$11*365*O29/2000,IF($C$12>0,$C$12*365*O29*N29/2000)))),IF(AND($F$12>0,$O$29>$O$28,$O$29>=$O$30),$F$12*8760/2000,IF(AND(OR($C$10=\"\",$C$10=0),OR($C$11=\"\",$C$11=0),OR($C$12=\"\",$C$12=0),$F$12=\"\"),IF(R29=\"\",Q29*8760/2000,R29*8760/2000),\"\")))))","v":0},{"$f":"IF(N29=\"\",\"\",SUM((IFERROR(MATCH(M29,$G$23,0)*$I$23*$K$23/2000,0)),(IFERROR(MATCH(M29,$G$38,0)*$I$38*$K$38/2000,0)),(IFERROR(MATCH(M29,$G$53,0)*$I$53*$K$53/2000,0)),(IFERROR(MATCH(M29,$G$68,0)*$I$68*$K$68/2000,0)),(IFERROR(MATCH(M29,$G$83,0)*$I$83*$K$83/2000,0)),(IFERROR(MATCH(M29,$G$98,0)*$I$98*$K$98/2000,0)),(IFERROR(MATCH(M29,$G$113,0)*$I$113*$K$113/2000,0)),(IFERROR(MATCH(M29,$G$128,0)*$I$128*$K$128/2000,0)),(IFERROR(MATCH(M29,$G$143,0)*$I$143*$K$143/2000,0)),(IFERROR(MATCH(M29,$G$158,0)*$I$158*$K$158/2000,0))))","v":0}]
[null,null,null,null,null,null,null,null,null,null,null,null,{"$f":"$C$5 & \" - Natural Gas\"","v":" - Natural Gas"},{"$f":"N7","v":0},{"$f":"IF(N30=0,0,IF(MAX((IFERROR(OFFSET($G$22,MATCH(M30,$G$23,0),4),0)),((IFERROR(OFFSET($G$37,MATCH(M30,$G$38,0),4),0))),((IFERROR(OFFSET($G$52,MATCH(M30,$G$53,0),4),0))),((IFERROR(OFFSET($G$67,MATCH(M30,$G$68,0),4),0))),((IFERROR(OFFSET($G$82,MATCH(M30,$G$83,0),3),0))),((IFERROR(OFFSET($G$97,MATCH(M30,$G$98,0),4),0))),((IFERROR(OFFSET($G$112,MATCH(M30,$G$113,0),4),0))),((IFERROR(OFFSET($G$127,MATCH(M30,$G$128,0),4),0))),((IFERROR(OFFSET($G$142,MATCH(M30,$G$143,0),4),0))),((IFERROR(OFFSET($G$157,MATCH(M30,$G$158,0),4),0))))=0,0,(MAX((IFERROR(OFFSET($G$22,MATCH(M30,$G$23,0),4),0)),((IFERROR(OFFSET($G$37,MATCH(M30,$G$38,0),4),0))),((IFERROR(OFFSET($G$52,MATCH(M30,$G$53,0),4),0))),((IFERROR(OFFSET($G$67,MATCH(M30,$G$68,0),4),0))),((IFERROR(OFFSET($G$82,MATCH(M30,$G$83,0),4),0))),((IFERROR(OFFSET($G$97,MATCH(M30,$G$98,0),4),0))),((IFERROR(OFFSET($G$112,MATCH(M30,$G$113,0),4),0))),((IFERROR(OFFSET($G$127,MATCH(M30,$G$128,0),4),0))),((IFERROR(OFFSET($G$142,MATCH(M30,$G$143,0),4),0))),((IFERROR(OFFSET($G$157,MATCH(M30,$G$158,0),4),0)))))))","v":0},"lb/ton",{"$f":"IF(O30=4.5,N30*O30,IF(O30=6.5,N30*O30,\"\"))","v":""},{"$f":"IF(N30=0,\"\",IF(AND($F$12>0,$O$30>$O$28,$O$30>$O$29),$F$12,IF(O30=0.0098,N30*O30,IF(O30=0.023,N30*O30,\"\"))))","v":""},{"$f":"IF(N30=0,0,IF($G$12>0,IF(AND(S28=0,S29=0),$G$12,\"\"),IF(AND(OR($C$10>0,$C$11>0,$C$12>0),$O$30>$O$28,$O$30>$O$29),(IF($C$10>0,$C$10*O30/2000,IF($C$11>0,$C$11*365*O30/2000,IF($C$12>0,$C$12*365*O30*N30/2000)))),IF(AND($F$12>0,$O$30>$O$28,$O$30>$O$29),$F$12*8760/2000,IF(AND(OR($C$10=\"\",$C$10=0),OR($C$11=\"\",$C$11=0),OR($C$12=\"\",$C$12=0),$F$12=\"\"),IF(R30=\"\",Q30*8760/2000,R30*8760/2000),\"\")))))","v":0},{"$f":"IF(N30=\"\",\"\",SUM((IFERROR(MATCH(M30,$G$23,0)*$I$23*$K$23/2000,0)),(IFERROR(MATCH(M30,$G$38,0)*$I$38*$K$38/2000,0)),(IFERROR(MATCH(M30,$G$53,0)*$I$53*$K$53/2000,0)),(IFERROR(MATCH(M30,$G$68,0)*$I$68*$K$68/2000,0)),(IFERROR(MATCH(M30,$G$83,0)*$I$83*$K$83/2000,0)),(IFERROR(MATCH(M30,$G$98,0)*$I$98*$K$98/2000,0)),(IFERROR(MATCH(M30,$G$113,0)*$I$113*$K$113/2000,0)),(IFERROR(MATCH(M30,$G$128,0)*$I$128*$K$128/2000,0)),(IFERROR(MATCH(M30,$G$143,0)*$I$143*$K$143/2000,0)),(IFERROR(MATCH(M30,$G$158,0)*$I$158*$K$158/2000,0))))","v":0}]
[null,null,null,null,"Stock Pile Area",null,null,null,null,null,null,null,"Silo Filling",{"$f":"N11","v":0},{"$f":"IF(N31=0,0,IF(N31=0,0,LOOKUP(M31,'Emission Factors'!$A$23:$A$25,'Emission Factors'!$F$23:$F$25)))","v":0},"lb/ton",{"$f":"N31*O31","v":0},null,{"$f":"IF($G$12>0,\"\",IF($C$10>0,$C$10*O31/2000,IF($C$11>0,$C$11*365*O31/2000,IF($C$12>0,$C$12*365*O31*N31/2000,IF($F$11>0,\"\",IF(R31=\"\",Q31*8760/2000,R31*8760/2000))))))","v":0},{"$f":"(P11*O31/2000)","v":0}]
[null,null,null,null,null,"Emission Unit #","Maximum Storage Area (acres)","Actual Storage Area (acres)","Actual Days in Existence (days)",null,null,null,"Truck Loadout",{"$f":"N12","v":0},{"$f":"IF(N32=0,0,IF(N32=0,0,LOOKUP(M32,'Emission Factors'!$A$23:$A$25,'Emission Factors'!$F$23:$F$25)))","v":0},"lb/ton",{"$f":"N32*O32","v":0},null,{"$f":"IF($G$12>0,\"\",IF($C$10>0,$C$10*O32/2000,IF($C$11>0,$C$11*365*O32/2000,IF($C$12>0,$C$12*365*O32*N32/2000,IF($F$11>0,\"\",IF(R32=\"\",Q32*8760/2000,R32*8760/2000))))))","v":0},{"$f":"(P12*O32/2000)","v":0}]
[null,null,null,null,null,null,null,null,null,null,null,null,"Cold Aggregate Bins",{"$f":"N13","v":0},{"$f":"IF(N33=0,0,IF(N33=0,0,LOOKUP(M33,'Emission Factors'!$A$23:$A$25,'Emission Factors'!$F$23:$F$25)))","v":0},"lb/ton",{"$f":"N33*O33","v":0},null,{"$f":"IF($G$12>0,\"\",IF($C$10>0,$C$10*O33/2000,IF($C$11>0,$C$11*365*O33/2000,IF($C$12>0,$C$12*365*O33*N33/2000,IF($F$11>0,\"\",IF(R33=\"\",Q33*8760/2000,R33*8760/2000))))))","v":0},{"$f":"(P13*O33/2000)","v":0}]
[]
[null,{"$f":"IF($C$4>1,\"Asphalt Plant\",\"\")","v":""},{"$f":"IF($C$4>1,\"Site 2\",\"\")","v":""},null,{"$f":"IF($C$4>1,\"Emission Point #\",\"\")","v":""},{"$f":"IF($C$4>1,\"Emission    Unit #\",\"\")","v":""},{"$f":"IF($C$4>1,\"Process\",\"\")","v":""},{"$f":"IF($C$4>1,\"Maximum Hourly     Design Rate\",\"\")","v":""},{"$f":"IF($C$4>1,('Facility Information'!G20&\" Annual Throughput\"),\"\")","v":""},null,null,null,null,null,"Max Design Rate (acres)","Emission Factor   (lb/acre-day)","Potential Uncontrolled Emissions (lb/hr)","Potential Controlled Emissions (lb/hr)","Potential Annual Emissions (tons/yr)","Actual Annual Emissions (tons/yr)"]
[null,null,null,null,null,null,null,null,null,null,null,null,null,"Storage Pile"]
[null,{"$f":"IF($C$4>1,\"Site Name\",\"\")","v":""},null,null,{"$f":"IF($C$4>1,\"Dryers, Hot Screens, Mixer\",\"\")","v":""},null,null,{"$f":"IF($C$4>1,\"(tons/hr)\",\"\")","v":""},{"$f":"IF($C$4>1,\"(tons/yr)\",\"\")","v":""},"PM2.5","PM10",null,null,"PM2.5/PM10",{"$f":"N15","v":0},3.64,{"$f":"O37*P37*(1/24)","v":0},null,{"$f":"O37*P37*365/2000","v":0},{"$f":"O15*P37/2000","v":0}]
[null,{"$f":"IF($C$4>1,\"County:\",\"\")","v":""},null,null,{"$f":"IF(C40=\"\",\"\",\"AP-6 EP-1\")","v":""},{"$f":"IF(C40=\"\",\"\",\"AP-6 EU-1\")","v":""},{"$f":"IF(C40=\"\",\"\",C5 & \" - \"&C40)","v":""},null,null,{"$f":"IF(C41=\"\",\"\",IF(C41=\"yes\",LOOKUP(G38,'Emission Factors'!$A$12:$A$17,'Emission Factors'!$D$12:$D$17),LOOKUP(G38,'Emission Factors'!$A$5:$A$10,'Emission Factors'!$D$5:$D$10)))","v":""},{"$f":"IF(C41=\"\",\"\",IF(C41=\"yes\",LOOKUP(G38,'Emission Factors'!$A$12:$A$17,'Emission Factors'!$F$12:$F$17),LOOKUP(G38,'Emission Factors'!$A$5:$A$10,'Emission Factors'!$F$5:$F$10)))","v":""}]
[null,{"$f":"IF($C$4>1,\"Production Period (Dates):\",\"\")","v":""},null,null,{"$f":"IF($C$4>1,\"Liquid Asphalt Heater\",\"\")","v":""},null,null,{"$f":"IF($C$4>1,IF(C40=\"natural gas\",\"MMCF/hr\",\"(gallons/hr)\"),\"\")","v":""},{"$f":"IF($C$4>1,IF(C40=\"natural gas\",\"MMCF/yr\",\"(gallons/yr)\"),\"\")","v":""},null,null,null,"SO2"]
[null,{"$f":"IF($C$4>1,\"Type of Fuel Used:\",\"\")","v":""},null,null,{"$f":"IF(C40=\"\",\"\",\"AP-6 EP-2\")","v":""},{"$f":"IF(C40=\"\",\"\",\"AP-6 EU-2\")","v":""},{"$f":"IF(C40=\"\",\"\",C40& \" Fired Heater\")","v":""},null,null,null,null,null,{"$f":"$C$5 & \" - Fuel Oil\"","v":" - Fuel Oil"},{"$f":"$N$5","v":0},{"$f":"IF(N40=0,0,LOOKUP(M40,'Emission Factors'!$A$5:$A$10,'Emission Factors'!$H$5:$H$10))","v":0},{"$f":"IF(O40=\"\",\"\",\"lb/ton\")","v":"lb/ton"},{"$f":"N40*O40","v":0},{"$f":"IF(N40=0,\"\",IF(AND($F$13>0,N41=0),$F$13,\"\"))","v":""},{"$f":"IF(N40=0,0,IF($G$13>0,$G$13,IF(OR(AND($C$10>0,$N$41>0),AND($C$11>0,$N$41>0),AND($C$12>0,$N$41>0)),\"\",IF($C$10>0,$C$10*O40/2000,IF($C$11>0,$C$11*365*O40/2000,IF($C$12>0,$C$12*365*O40*N40/2000,IF(AND(N41>0,F13>0),\"\",IF(R40=\"\",Q40*8760/2000,R40*8760/2000))))))))","v":0},{"$f":"P5*O40/2000","v":0}]
[null,{"$f":"IF($C$4>1,\"Is Your Operation Controlled?:\",\"\")","v":""},null,null,{"$f":"IF($C$4>1,\"Silo Filling, Truck Loadout, Aggregate Transfer\",\"\")","v":""},null,null,{"$f":"IF($C$4>1,\"(tons/hr)\",\"\")","v":""},{"$f":"IF($C$4>1,\"(tons/yr)\",\"\")","v":""},null,null,null,{"$f":"$C$5 & \" - Waste Oil\"","v":" - Waste Oil"},{"$f":"$N$6","v":0},{"$f":"IF(N41=0,0,LOOKUP(M41,'Emission Factors'!$A$5:$A$10,'Emission Factors'!$H$5:$H$10))","v":0},{"$f":"IF(O41=\"\",\"\",\"lb/ton\")","v":"lb/ton"},{"$f":"N41*O41","v":0},{"$f":"IF(N41=0,\"\",IF($F$13>0,$F$13,\"\"))","v":""},{"$f":"IF(N41=0,0,IF($G$13>0,IF(S40=0,G13,\"\"),IF($C$10>0,$C$10*O41/2000,IF($C$11>0,$C$11*365*O41/2000,IF($C$12>0,$C$12*365*O41*N41/2000,IF(R41=\"\",Q41*8760/2000,R41*8760/2000))))))","v":0},{"$f":"P6*O41/2000","v":0}]
[null,null,null,null,{"$f":"IF($C$4>1,\"AP-6 EP-3\",\"\")","v":""},{"$f":"IF($C$4>1,\"AP-6 EU-3\",\"\")","v":""},{"$f":"IF($C$4>1,\"Silo Filling\",\"\")","v":""},null,null,null,null,null,{"$f":"$C$5 & \" - Natural Gas\"","v":" - Natural Gas"},{"$f":"$N$7","v":0},{"$f":"IF(N42=0,0,LOOKUP(M42,'Emission Factors'!$A$5:$A$10,'Emission Factors'!$H$5:$H$10))","v":0},{"$f":"IF(O42=\"\",\"\",\"lb/ton\")","v":"lb/ton"},{"$f":"N42*O42","v":0},{"$f":"IF(N42=0,\"\",IF(AND($F$13>0,N40=0,N41=0),$F$13,\"\"))","v":""},{"$f":"IF(N42=0,0,IF($G$13>0,IF(AND(S40=0,S41=0),G13,\"\"),IF(OR(AND($C$10>0,$N$41>0),AND($C$11>0,$N$41>0),AND($C$12>0,$N$41>0)),\"\",IF(OR(AND($C$10>0,$N$40>0),AND($C$11>0,$N$40>0),AND($C$12>0,$N$40>0)),\"\",IF($C$10>0,$C$10*O42/2000,IF($C$11>0,$C$11*365*O42/2000,IF($C$12>0,$C$12*365*O42*N42/2000,IF(AND(N41>0,N40>0,F13>0),\"\",IF(R42=\"\",Q42*8760/2000,R42*8760/2000)))))))))","v":0},{"$f":"P7*O42/2000","v":0}]
[null,null,null,null,{"$f":"IF($C$4>1,\"AP-6 EP-3\",\"\")","v":""},{"$f":"IF($C$4>1,\"AP-6 EU-4\",\"\")","v":""},{"$f":"IF($C$4>1,\"Truck Loadout\",\"\")","v":""},null,null,null,null,null,"NOx"]
[null,null,null,null,{"$f":"IF($C$4>1,\"AP-6 EP-3\",\"\")","v":""},{"$f":"IF($C$4>1,\"AP-6 EU-5\",\"\")","v":""},{"$f":"IF($C$4>1,\"Cold Aggregate Bins\",\"\")","v":""},null,null,null,null,null,{"$f":"$C$5 & \" - Fuel Oil\"","v":" - Fuel Oil"},{"$f":"$N$5","v":0},{"$f":"IF(N44=0,0,LOOKUP(M44,'Emission Factors'!$A$5:$A$10,'Emission Factors'!$J$5:$J$10))","v":0},{"$f":"IF(O44=\"\",\"\",\"lb/ton\")","v":"lb/ton"},{"$f":"N44*O44","v":0},{"$f":"IF(N44=0,\"\",IF(AND($F$14>0,N45=0),$F$14,\"\"))","v":""},{"$f":"IF(N44=0,0,IF($G$14>0,$G$14,IF(OR(AND($C$10>0,$N$45>0),AND($C$11>0,$N$45>0),AND($C$12>0,$N$45>0)),\"\",IF($C$10>0,$C$10*O44/2000,IF($C$11>0,$C$11*365*O44/2000,IF($C$12>0,$C$12*365*O44*N44/2000,IF(AND(N45>0,F14>0),\"\",IF(R44=\"\",Q44*8760/2000,R44*8760/2000))))))))","v":0},{"$f":"P5*O44/2000","v":0}]
[null,null,null,null,null,null,null,null,null,null,null,null,{"$f":"$C$5 & \" - Waste Oil\"","v":" - Waste Oil"},{"$f":"$N$6","v":0},{"$f":"IF(N45=0,0,LOOKUP(M45,'Emission Factors'!$A$5:$A$10,'Emission Factors'!$J$5:$J$10))","v":0},{"$f":"IF(O45=\"\",\"\",\"lb/ton\")","v":"lb/ton"},{"$f":"N45*O45","v":0},{"$f":"IF(N45=0,\"\",IF($F$14>0,$F$14,\"\"))","v":""},{"$f":"IF(N45=0,0,IF($G$14>0,IF(S44=0,G14,\"\"),IF($C$10>0,$C$10*O45/2000,IF($C$11>0,$C$11*365*O45/2000,IF($C$12>0,$C$12*365*O45*N45/2000,IF(R45=\"\",Q45*8760/2000,R45*8760/2000))))))","v":0},{"$f":"P6*O45/2000","v":0}]
[null,null,null,null,{"$f":"IF($C$4>1,\"Stock Pile Area\",\"\")","v":""},null,null,null,null,null,null,null,{"$f":"$C$5 & \" - Natural Gas\"","v":" - Natural Gas"},{"$f":"$N$7","v":0},{"$f":"IF(N46=0,0,LOOKUP(M46,'Emission Factors'!$A$5:$A$10,'Emission Factors'!$J$5:$J$10))","v":0},{"$f":"IF(O46=\"\",\"\",\"lb/ton\")","v":"lb/ton"},{"$f":"N46*O46","v":0},{"$f":"IF(N46=0,\"\",IF(AND($F$14>0,N44=0,N45=0),$F$14,\"\"))","v":""},{"$f":"IF(N46=0,0,IF($G$14>0,IF(AND(S44=0,S45=0),G14,\"\"),IF(OR(AND($C$10>0,$N$45>0),AND($C$11>0,$N$45>0),AND($C$12>0,$N$45>0)),\"\",IF(OR(AND($C$10>0,$N$44>0),AND($C$11>0,$N$44>0),AND($C$12>0,$N$44>0)),\"\",IF($C$10>0,$C$10*O46/2000,IF($C$11>0,$C$11*365*O46/2000,IF($C$12>0,$C$12*365*O46*N46/2000,IF(AND(N44>0,N45>0,F14>0),\"\",IF(R46=\"\",Q46*8760/2000,R46*8760/2000)))))))))","v":0},{"$f":"P7*O46/2000","v":0}]
[null,null,null,null,null,{"$f":"IF($C$4>1,\"Emission Unit #\",\"\")","v":""},{"$f":"IF($C$4>1,\"Maximum Storage Area (acres)\",\"\")","v":""},{"$f":"IF($C$4>1,\"Actual Storage Area (acres)\",\"\")","v":""},{"$f":"IF($C$4>1,\"Actual Days in Existence (days)\",\"\")","v":""},null,null,null,"VOC"]
[null,null,null,null,null,null,null,null,null,null,null,null,{"$f":"$C$5 & \" - Fuel Oil\"","v":" - Fuel Oil"},{"$f":"$N$5","v":0},{"$f":"IF(N48=0,0,LOOKUP(M48,'Emission Factors'!$A$5:$A$10,'Emission Factors'!$L$5:$L$10))","v":0},{"$f":"IF(O48=\"\",\"\",\"lb/ton\")","v":"lb/ton"},{"$f":"N48*O48","v":0},{"$f":"IF(N48=0,\"\",IF(AND($F$15>0,N49=0),$F$15,\"\"))","v":""},{"$f":"IF(N48=0,0,IF($G$15>0,$G$15,IF(OR(AND($C$10>0,$N$49>0),AND($C$11>0,$N$49>0),AND($C$12>0,$N$49>0)),\"\",IF($C$10>0,$C$10*O48/2000,IF($C$11>0,$C$11*365*O48/2000,IF($C$12>0,$C$12*365*O48*N48/2000,IF(AND(N49>0,F15>0),\"\",IF(R48=\"\",Q48*8760/2000,R48*8760/2000))))))))","v":0},{"$f":"P5*O48/2000","v":0}]
[null,null,null,null,null,null,null,null,null,null,null,null,{"$f":"$C$5 & \" - Waste Oil\"","v":" - Waste Oil"},{"$f":"$N$6","v":0},{"$f":"IF(N49=0,0,LOOKUP(M49,'Emission Factors'!$A$5:$A$10,'Emission Factors'!$L$5:$L$10))","v":0},{"$f":"IF(O49=\"\",\"\",\"lb/ton\")","v":"lb/ton"},{"$f":"N49*O49","v":0},{"$f":"IF(N49=0,\"\",IF($F$15>0,$F$15,\"\"))","v":""},{"$f":"IF(N49=0,0,IF($G$15>0,IF(S48=0,G15,\"\"),IF($C$10>0,$C$10*O49/2000,IF($C$11>0,$C$11*365*O49/2000,IF($C$12>0,$C$12*365*O49*N49/2000,IF(R49=\"\",Q49*8760/2000,R49*8760/2000))))))","v":0},{"$f":"P6*O49/2000","v":0}]
[null,{"$f":"IF($C$4>2,\"Asphalt Plant\",\"\")","v":""},{"$f":"IF($C$4>2,\"Site 3\",\"\")","v":""},null,{"$f":"IF($C$4>2,\"Emission Point #\",\"\")","v":""},{"$f":"IF($C$4>2,\"Emission    Unit #\",\"\")","v":""},{"$f":"IF($C$4>2,\"Process\",\"\")","v":""},{"$f":"IF($C$4>2,\"Maximum Hourly     Design Rate\",\"\")","v":""},{"$f":"IF($C$4>2,('Facility Information'!G35&\" Annual Throughput\"),\"\")","v":""},null,null,null,{"$f":"$C$5 & \" - Natural Gas\"","v":" - Natural Gas"},{"$f":"$N$7","v":0},{"$f":"IF(N50=0,0,LOOKUP(M50,'Emission Factors'!$A$5:$A$10,'Emission Factors'!$L$5:$L$10))","v":0},{"$f":"IF(O50=\"\",\"\",\"lb/ton\")","v":"lb/ton"},{"$f":"N50*O50","v":0},{"$f":"IF(N50=0,\"\",IF(AND($F$15>0,N48=0,N49=0),$F$15,\"\"))","v":""},{"$f":"IF(N50=0,0,IF($G$15>0,IF(AND(S48=0,S49=0),G15,\"\"),IF(OR(AND($C$10>0,$N$49>0),AND($C$11>0,$N$49>0),AND($C$12>0,$N$49>0)),\"\",IF(OR(AND($C$10>0,$N$48>0),AND($C$11>0,$N$48>0),AND($C$12>0,$N$48>0)),\"\",IF($C$10>0,$C$10*O50/2000,IF($C$11>0,$C$11*365*O50/2000,IF($C$12>0,$C$12*365*O50*N50/2000,IF(AND(N48>0,N49>0,F15>0),\"\",IF(R50=\"\",Q50*8760/2000,R50*8760/2000)))))))))","v":0},{"$f":"P7*O50/2000","v":0}]
[null,null,null,null,null,null,null,null,null,null,null,null,"CO"]
[null,{"$f":"IF($C$4>2,\"Site Name\",\"\")","v":""},null,null,{"$f":"IF($C$4>2,\"Dryers, Hot Screens, Mixer\",\"\")","v":""},null,null,{"$f":"IF($C$4>2,\"(tons/hr)\",\"\")","v":""},{"$f":"IF($C$4>2,\"(tons/yr)\",\"\")","v":""},"PM2.5","PM10",null,{"$f":"IF($C$5=\"\",\"\",$C$5)","v":""},{"$f":"SUM($N$5:$N$7)","v":0},{"$f":"IF(N52=0,0,IF(M52=\"Batch Mix Plant\",0.4,IF(M52=\"Drum Mix Plant\",0.13)))","v":0},{"$f":"IF(O52=\"\",\"\",\"lb/ton\")","v":"lb/ton"},{"$f":"N52*O52","v":0},{"$f":"IF(N52=0,\"\",IF($F$16>0,$F$16,\"\"))","v":""},{"$f":"IF($G$16>0,$G$16,IF(N52=0,0,IF($C$10>0,$C$10*O52/2000,IF($C$11>0,$C$11*365*O52/2000,IF($C$12>0,$C$12*365*O52*N52/2000,IF(R52=\"\",Q52*8760/2000,R52*8760/2000))))))","v":0},{"$f":"SUM($P$5:$P$7)*O52/2000","v":0}]
[null,{"$f":"IF($C$4>2,\"County:\",\"\")","v":""},null,null,{"$f":"IF(C55=\"\",\"\",\"AP-6 EP-1\")","v":""},{"$f":"IF(C55=\"\",\"\",\"AP-6 EU-1\")","v":""},{"$f":"IF(C55=\"\",\"\",C5 & \" - \"&C55)","v":""},null,null,{"$f":"IF(C56=\"\",\"\",IF(C56=\"yes\",LOOKUP(G53,'Emission Factors'!$A$12:$A$17,'Emission Factors'!$D$12:$D$17),LOOKUP(G53,'Emission Factors'!$A$5:$A$10,'Emission Factors'!$D$5:$D$10)))","v":""},{"$f":"IF(C56=\"\",\"\",IF(C56=\"yes\",LOOKUP(G53,'Emission Factors'!$A$12:$A$17,'Emission Factors'!$F$12:$F$17),LOOKUP(G53,'Emission Factors'!$A$5:$A$10,'Emission Factors'!$F$5:$F$10)))","v":""},null,"Fuel Oil Fired Heater",{"$f":"N8","v":0},{"$f":"IF(N53=0,0,LOOKUP(M53,'Emission Factors'!$A$19:$A$21,'Emission Factors'!$N$19:$N$21))","v":0},{"$f":"IF(O53=\"\",\"\",\"lb/gallon\")","v":"lb/gallon"},{"$f":"N53*O53","v":0},null,{"$f":"IF(N53=0,0,IF($G$16>0,\"\",IF($F$16>0,\"\",IF(R53=\"\",Q53*8760/2000,R53*8760/2000))))","v":0},{"$f":"(P8*O53/2000)","v":0}]
[null,{"$f":"IF($C$4>2,\"Production Period (Dates):\",\"\")","v":""},null,null,{"$f":"IF($C$4>2,\"Liquid Asphalt Heater\",\"\")","v":""},null,null,{"$f":"IF($C$4>2,IF(C55=\"natural gas\",\"(MMCF/hr)\",\"(gallons/hr)\"),\"\")","v":""},{"$f":"IF($C$4>2,IF(C55=\"natural gas\",\"(MMCF/yr)\",\"(gallons/yr)\"),\"\")","v":""},null,null,null,"Waste Oil Fired Heater",{"$f":"N9","v":0},{"$f":"IF(N54=0,0,LOOKUP(M54,'Emission Factors'!$A$19:$A$21,'Emission Factors'!$N$19:$N$21))","v":0},{"$f":"IF(O54=\"\",\"\",\"lb/gallon\")","v":"lb/gallon"},{"$f":"N54*O54","v":0},null,{"$f":"IF(N54=0,0,IF($G$16>0,\"\",IF($F$16>0,\"\",IF(R54=\"\",Q54*8760/2000,R54*8760/2000))))","v":0},{"$f":"(P9*O54/2000)","v":0}]
[null,{"$f":"IF($C$4>2,\"Type of Fuel Used:\",\"\")","v":""},null,null,{"$f":"IF(C55=\"\",\"\",\"AP-6 EP-2\")","v":""},{"$f":"IF(C55=\"\",\"\",\"AP-6 EU-2\")","v":""},{"$f":"IF(C55=\"\",\"\",C55& \" Fired Heater\")","v":""},null,null,null,null,null,"Natural Gas Fired Heater",{"$f":"N10","v":0},{"$f":"IF(N55=0,0,LOOKUP(M55,'Emission Factors'!$A$19:$A$21,'Emission Factors'!$N$19:$N$21))","v":0},{"$f":"IF(O55=\"\",\"\",\"lb/MMCF\")","v":"lb/MMCF"},{"$f":"N55*O55","v":0},null,{"$f":"IF(N55=0,0,IF($G$16>0,\"\",IF($F$16>0,\"\",IF(R55=\"\",Q55*8760/2000,R55*8760/2000))))","v":0},{"$f":"($P$10*O55/2000)","v":0}]
[null,{"$f":"IF($C$4>2,\"Is Your Operation Controlled?:\",\"\")","v":""},null,null,{"$f":"IF($C$4>2,\"Silo Filling, Truck Loadout, Aggregate Transfer\",\"\")","v":""},null,null,{"$f":"IF($C$4>2,\"(tons/hr)\",\"\")","v":""},{"$f":"IF($C$4>2,\"(tons/yr)\",\"\")","v":""},null,null,null,"Acetaldehyde"]
[null,null,null,null,{"$f":"IF($C$4>2,\"AP-6 EP-3\",\"\")","v":""},{"$f":"IF($C$4>2,\"AP-6 EU-3\",\"\")","v":""},{"$f":"IF($C$4>2,\"Silo Filling\",\"\")","v":""},null,null,null,null,null,{"$f":"IF($C$5=\"\",\"\",$C$5)","v":""},{"$f":"IF(C5=\"drum mix plant\",SUM(N5:$N$6),SUM($N$5:$N$7))","v":0},{"$f":"IF(N57=0,0,IF(M57=\"Batch Mix Plant\",0.00032,IF(M57=\"Drum Mix Plant\",0.0013)))","v":0},{"$f":"IF(O57=\"\",\"\",\"lb/ton\")","v":"lb/ton"},{"$f":"N57*O57","v":0},null,{"$f":"IF(N57=0,0,IF($C$10>0,$C$10*O57/2000,IF($C$11>0,$C$11*365*O57/2000,IF($C$12>0,$C$12*365*O57*N57/2000,IF(R57=\"\",Q57*8760/2000,R57*8760/2000)))))","v":0},{"$f":"IF(C5=\"drum mix plant\",$P$6*O57/2000,SUM($P$5:$P$7)*O57/2000)","v":0}]
[null,null,null,null,{"$f":"IF($C$4>2,\"AP-6 EP-3\",\"\")","v":""},{"$f":"IF($C$4>2,\"AP-6 EU-4\",\"\")","v":""},{"$f":"IF($C$4>2,\"Truck Loadout\",\"\")","v":""},null,null,null,null,null,"Acrolein"]
[null,null,null,null,{"$f":"IF($C$4>2,\"AP-6 EP-3\",\"\")","v":""},{"$f":"IF($C$4>2,\"AP-6 EU-5\",\"\")","v":""},{"$f":"IF($C$4>2,\"Cold Aggregate Bins\",\"\")","v":""},null,null,null,null,null,{"$f":"IF($C$5=\"\",\"\",$C$5)","v":""},{"$f":"IF(C5=\"drum mix plant\",SUM(N5:$N$6),0)","v":0},{"$f":"IF(N59=0,0,0.000026)","v":0},{"$f":"IF(O59=\"\",\"\",\"lb/ton\")","v":"lb/ton"},{"$f":"N59*O59","v":0},null,{"$f":"IF(N59=0,0,IF($C$10>0,$C$10*O59/2000,IF($C$11>0,$C$11*365*O59/2000,IF($C$12>0,$C$12*365*O59*N59/2000,IF(R59=\"\",Q59*8760/2000,R59*8760/2000)))))","v":0},{"$f":"IF(C7=\"drum mix plant\",$P$6*O59/2000,SUM($P$5:$P$7)*O59/2000)","v":0}]
[null,null,null,null,null,null,null,null,null,null,null,null,"Benzene"]
[null,null,null,null,{"$f":"IF($C$4>2,\"Stock Pile Area\",\"\")","v":""},null,null,null,null,null,null,null,{"$f":"IF($C$5=\"\",\"\",$C$5)","v":""},{"$f":"SUM($N$5:$N$7)","v":0},{"$f":"IF(N61=0,0,IF(M61=\"Batch Mix Plant\",0.00028,IF(M61=\"Drum Mix Plant\",0.00039)))","v":0},{"$f":"IF(O61=\"\",\"\",\"lb/ton\")","v":"lb/ton"},{"$f":"N61*O61","v":0},null,{"$f":"IF(N61=0,0,IF($C$10>0,$C$10*O61/2000,IF($C$11>0,$C$11*365*O61/2000,IF($C$12>0,$C$12*365*O61*N61/2000,IF(R61=\"\",Q61*8760/2000,R61*8760/2000)))))","v":0},{"$f":"SUM($P$5:$P$7)*O61/2000","v":0}]
[null,null,null,null,null,{"$f":"IF($C$4>2,\"Emission Unit #\",\"\")","v":""},{"$f":"IF($C$4>2,\"Maximum Storage Area (acres)\",\"\")","v":""},{"$f":"IF($C$4>2,\"Actual Storage Area (acres)\",\"\")","v":""},{"$f":"IF($C$4>2,\"Actual Days in Existence (days)\",\"\")","v":""},null,null,null,"Ethylbenzene"]
[null,null,null,null,null,null,null,null,null,null,null,null,{"$f":"IF($C$5=\"\",\"\",$C$5)","v":""},{"$f":"SUM($N$5:$N$7)","v":0},{"$f":"IF(N63=0,0,IF(M63=\"Batch Mix Plant\",0.0022,IF(M63=\"Drum Mix Plant\",0.00024)))","v":0},{"$f":"IF(O63=\"\",\"\",\"lb/ton\")","v":"lb/ton"},{"$f":"N63*O63","v":0},null,{"$f":"IF(N63=0,0,IF($C$10>0,$C$10*O63/2000,IF($C$11>0,$C$11*365*O63/2000,IF($C$12>0,$C$12*365*O63*N63/2000,IF(R63=\"\",Q63*8760/2000,R63*8760/2000)))))","v":0},{"$f":"SUM($P$5:$P$7)*O63/2000","v":0}]
[null,null,null,null,null,null,null,null,null,null,null,null,"Formaldehyde"]
[null,{"$f":"IF($C$4>3,\"Asphalt Plant\",\"\")","v":""},{"$f":"IF($C$4>3,\"Site 4\",\"\")","v":""},null,{"$f":"IF($C$4>3,\"Emission Point #\",\"\")","v":""},{"$f":"IF($C$4>3,\"Emission    Unit #\",\"\")","v":""},{"$f":"IF($C$4>3,\"Process\",\"\")","v":""},{"$f":"IF($C$4>3,\"Maximum Hourly     Design Rate\",\"\")","v":""},{"$f":"IF($C$4>3,('Facility Information'!G50&\" Annual Throughput\"),\"\")","v":""},null,null,null,{"$f":"IF($C$5=\"\",\"\",$C$5)","v":""},{"$f":"SUM($N$5:$N$7)","v":0},{"$f":"IF(N65=0,0,IF(M65=\"Batch Mix Plant\",0.00074,IF(M65=\"Drum Mix Plant\",0.0031)))","v":0},{"$f":"IF(O65=\"\",\"\",\"lb/ton\")","v":"lb/ton"},{"$f":"N65*O65","v":0},null,{"$f":"IF(N65=0,0,IF($C$10>0,$C$10*O65/2000,IF($C$11>0,$C$11*365*O65/2000,IF($C$12>0,$C$12*365*O65*N65/2000,IF(R65=\"\",Q65*8760/2000,R65*8760/2000)))))","v":0},{"$f":"SUM($P$5:$P$7)*O65/2000","v":0}]
[null,null,null,null,null,null,null,null,null,null,null,null,{"$f":"\"Natural Gas Fired Heater\"","v":"Natural Gas Fired Heater"},{"$f":"N10","v":0},{"$f":"IF(N66=0,0,0.026)","v":0},{"$f":"IF(O66=\"\",\"\",\"lb/MMCF\")","v":"lb/MMCF"},{"$f":"N66*O66","v":0},null,{"$f":"IF(N66=0,0,IF(R66=\"\",Q66*8760/2000,R66*8760/2000))","v":0},{"$f":"($P$10*O66/2000)","v":0}]
[null,{"$f":"IF($C$4>3,\"Site Name\",\"\")","v":""},null," ",{"$f":"IF($C$4>3,\"Dryers, Hot Screens, Mixer\",\"\")","v":""},null,null,{"$f":"IF($C$4>3,\"(tons/hr)\",\"\")","v":""},{"$f":"IF($C$4>3,\"(tons/yr)\",\"\")","v":""},"PM2.5","PM10",null,"Hexane"]
[null,{"$f":"IF($C$4>3,\"County:\",\"\")","v":""},null,null,{"$f":"IF(C70=\"\",\"\",\"AP-6 EP-1\")","v":""},{"$f":"IF(C70=\"\",\"\",\"AP-6 EU-1\")","v":""},{"$f":"IF(C70=\"\",\"\",C5 & \" - \"&C70)","v":""},null,null,{"$f":"IF(C71=\"\",\"\",IF(C71=\"yes\",LOOKUP(G68,'Emission Factors'!$A$12:$A$17,'Emission Factors'!$D$12:$D$17),LOOKUP(G68,'Emission Factors'!$A$5:$A$10,'Emission Factors'!$D$5:$D$10)))","v":""},{"$f":"IF(C71=\"\",\"\",IF(C71=\"yes\",LOOKUP(G68,'Emission Factors'!$A$12:$A$17,'Emission Factors'!$F$12:$F$17),LOOKUP(G68,'Emission Factors'!$A$5:$A$10,'Emission Factors'!$F$5:$F$10)))","v":""},null,{"$f":"IF($C$5=\"\",\"\",$C$5)","v":""},{"$f":"IF(C5=\"drum mix plant\",SUM(N5:N7),0)","v":0},{"$f":"IF(N68=0,0,0.00092)","v":0},{"$f":"IF(O68=\"\",\"\",\"lb/ton\")","v":"lb/ton"},{"$f":"N68*O68","v":0},null,{"$f":"IF(N68=0,0,IF($C$10>0,$C$10*O68/2000,IF($C$11>0,$C$11*365*O68/2000,IF($C$12>0,$C$12*365*O68*N68/2000,IF(R68=\"\",Q68*8760/2000,R68*8760/2000)))))","v":0},{"$f":"IF(N68>0,SUM($P$5:$P$7)*O68/2000,0)","v":0}]
[null,{"$f":"IF($C$4>3,\"Production Period (Dates):\",\"\")","v":""},null,null,{"$f":"IF($C$4>3,\"Liquid Asphalt Heater\",\"\")","v":""},null,null,{"$f":"IF($C$4>3,IF(C70=\"natural gas\",\"(MMCF/hr)\",\"(gallons/hr)\"),\"\")","v":""},{"$f":"IF($C$4>3,IF(C70=\"natural gas\",\"(MMCF/yr)\",\"(gallons/yr)\"),\"\")","v":""},null,null,null,"Hydrochloric Acid"]
[null,{"$f":"IF($C$4>3,\"Type of Fuel Used:\",\"\")","v":""},null,null,{"$f":"IF(C70=\"\",\"\",\"AP-6 EP-2\")","v":""},{"$f":"IF(C70=\"\",\"\",\"AP-6 EU-2\")","v":""},{"$f":"IF(C70=\"\",\"\",C70& \" Fired Heater\")","v":""},null,null,null,null,null,{"$f":"IF($C$5=\"\",\"\",$C$5)","v":""},{"$f":"IF(C5=\"drum mix plant\",SUM(N5:$N$6),0)","v":0},{"$f":"IF(N70=0,0,0.00021)","v":0},{"$f":"IF(O70=\"\",\"\",\"lb/ton\")","v":"lb/ton"},{"$f":"N70*O70","v":0},null,{"$f":"IF(N70=0,0,IF($C$10>0,$C$10*O70/2000,IF($C$11>0,$C$11*365*O70/2000,IF($C$12>0,$C$12*365*O70*N70/2000,IF(R70=\"\",Q70*8760/2000,R70*8760/2000)))))","v":0},{"$f":"IF(N70>0,$P$6*O70/2000,0)","v":0}]
[null,{"$f":"IF($C$4>3,\"Is Your Operation Controlled?:\",\"\")","v":""},null,null,{"$f":"IF($C$4>3,\"Silo Filling, Truck Loadout, Aggregate Transfer\",\"\")","v":""},null,null,{"$f":"IF($C$4>3,\"(tons/hr)\",\"\")","v":""},{"$f":"IF($C$4>3,\"(tons/yr)\",\"\")","v":""},null,null,null,"Methyl Chloroform"]
[null,null,null,null,{"$f":"IF($C$4>3,\"AP-6 EP-3\",\"\")","v":""},{"$f":"IF($C$4>3,\"AP-6 EU-3\",\"\")","v":""},{"$f":"IF($C$4>3,\"Silo Filling\",\"\")","v":""},null,null,null,null,null,{"$f":"IF($C$5=\"\",\"\",$C$5)","v":""},{"$f":"IF(C5=\"drum mix plant\",SUM(N5:N7),0)","v":0},{"$f":"IF(N72=0,0,0.000048)","v":0},{"$f":"IF(O72=\"\",\"\",\"lb/ton\")","v":"lb/ton"},{"$f":"N72*O72","v":0},null,{"$f":"IF(N72=0,0,IF($C$10>0,$C$10*O72/2000,IF($C$11>0,$C$11*365*O72/2000,IF($C$12>0,$C$12*365*O72*N72/2000,IF(R72=\"\",Q72*8760/2000,R72*8760/2000)))))","v":0},{"$f":"IF(N72>0,SUM($P$5:$P$7)*O72/2000,0)","v":0}]
[null,null,null,null,{"$f":"IF($C$4>3,\"AP-6 EP-3\",\"\")","v":""},{"$f":"IF($C$4>3,\"AP-6 EU-4\",\"\")","v":""},{"$f":"IF($C$4>3,\"Truck Loadout\",\"\")","v":""},null,null,null,null,null,"Propionaldehyde"]
[null,null,null,null,{"$f":"IF($C$4>3,\"AP-6 EP-3\",\"\")","v":""},{"$f":"IF($C$4>3,\"AP-6 EU-5\",\"\")","v":""},{"$f":"IF($C$4>3,\"Cold Aggregate Bins\",\"\")","v":""},null,null,null,null,null,{"$f":"IF($C$5=\"\",\"\",$C$5)","v":""},{"$f":"IF(C5=\"drum mix plant\",SUM(N5:$N$6),0)","v":0},{"$f":"IF(N74=0,0,0.00013)","v":0},{"$f":"IF(O74=\"\",\"\",\"lb/ton\")","v":"lb/ton"},{"$f":"N74*O74","v":0},null,{"$f":"IF(N74=0,0,IF($C$10>0,$C$10*O74/2000,IF($C$11>0,$C$11*365*O74/2000,IF($C$12>0,$C$12*365*O74*N74/2000,IF(R74=\"\",Q74*8760/2000,R74*8760/2000)))))","v":0},{"$f":"IF(N74>0,$P$6*O74/2000,0)","v":0}]
[null,null,null,null,null,null,null,null,null,null,null,null,"Quinone"]
[null,null,null,null,{"$f":"IF($C$4>3,\"Stock Pile Area\",\"\")","v":""},null,null,null,null,null,null,null,{"$f":"IF($C$5=\"\",\"\",$C$5)","v":""},{"$f":"IF(C5=\"drum mix plant\",SUM(N5:$N$6),SUM($N$5:$N$7))","v":0},{"$f":"IF(N76=0,0,IF(M76=\"Batch Mix Plant\",0.00027,IF(M76=\"Drum Mix Plant\",0.00016)))","v":0},{"$f":"IF(O76=\"\",\"\",\"lb/ton\")","v":"lb/ton"},{"$f":"N76*O76","v":0},null,{"$f":"IF(N76=0,0,IF($C$10>0,$C$10*O76/2000,IF($C$11>0,$C$11*365*O76/2000,IF($C$12>0,$C$12*365*O76*N76/2000,IF(R76=\"\",Q76*8760/2000,R76*8760/2000)))))","v":0},{"$f":"IF(C24=\"drum mix plant\",$P$6*O76/2000,SUM($P$5:$P$7)*O76/2000)","v":0}]
[null,null,null,null,null,{"$f":"IF($C$4>3,\"Emission Unit #\",\"\")","v":""},{"$f":"IF($C$4>3,\"Maximum Storage Area (acres)\",\"\")","v":""},{"$f":"IF($C$4>3,\"Actual Storage Area (acres)\",\"\")","v":""},{"$f":"IF($C$4>3,\"Actual Days in Existence (days)\",\"\")","v":""},null,null,null,"Toluene"]
[null,null,null,null,null,null,null,null,null,null,null,null,{"$f":"$C$5 & \" - Fuel Oil\"","v":" - Fuel Oil"},{"$f":"$N$5","v":0},{"$f":"IF(N78=0,0,LOOKUP(M78,'Emission Factors'!$A$5:$A$10,'Emission Factors'!$AJ$5:$AJ$10))","v":0},{"$f":"IF(O78=\"\",\"\",\"lb/ton\")","v":"lb/ton"},{"$f":"N78*O78","v":0},null,{"$f":"IF(N78=0,0,IF($C$10>0,$C$10*O78/2000,IF($C$11>0,$C$11*365*O78/2000,IF($C$12>0,$C$12*365*O78*N78/2000,IF(R78=\"\",Q78*8760/2000,R78*8760/2000)))))","v":0},{"$f":"P5*O78/2000","v":0}]
[null,null,null,null,null,null,null,null,null,null,null,null,{"$f":"$C$5 & \" - Waste Oil\"","v":" - Waste Oil"},{"$f":"$N$6","v":0},{"$f":"IF(N79=0,0,LOOKUP(M79,'Emission Factors'!$A$5:$A$10,'Emission Factors'!$AJ$5:$AJ$10))","v":0},{"$f":"IF(O79=\"\",\"\",\"lb/ton\")","v":"lb/ton"},{"$f":"N79*O79","v":0},null,{"$f":"IF(N79=0,0,IF(OR(AND($C$10>0,$N$78>0),AND($C$11>0,$N$78>0),AND($C$12>0,$N$78>0)),\"\",IF($C$10>0,$C$10*O79/2000,IF($C$11>0,$C$11*365*O79/2000,IF($C$12>0,$C$12*365*O79*N79/2000,IF(R79=\"\",Q79*8760/2000,R79*8760/2000))))))","v":0},{"$f":"P6*O79/2000","v":0}]
[null,{"$f":"IF($C$4>4,\"Asphalt Plant\",\"\")","v":""},{"$f":"IF($C$4>4,\"Site 5\",\"\")","v":""},null,{"$f":"IF($C$4>4,\"Emission Point #\",\"\")","v":""},{"$f":"IF($C$4>4,\"Emission    Unit #\",\"\")","v":""},{"$f":"IF($C$4>4,\"Process\",\"\")","v":""},{"$f":"IF($C$4>4,\"Maximum Hourly     Design Rate\",\"\")","v":""},{"$f":"IF($C$4>4,('Facility Information'!G65&\" Annual Throughput\"),\"\")","v":""},null,null,null,{"$f":"$C$5 & \" - Natural Gas\"","v":" - Natural Gas"},{"$f":"$N$7","v":0},{"$f":"IF(N80=0,0,LOOKUP(M80,'Emission Factors'!$A$5:$A$10,'Emission Factors'!$AJ$5:$AJ$10))","v":0},{"$f":"IF(O80=\"\",\"\",\"lb/ton\")","v":"lb/ton"},{"$f":"N80*O80","v":0},null,{"$f":"IF(N80=0,0,IF(OR(AND($C$10>0,$N$78>0),AND($C$11>0,$N$78>0),AND($C$12>0,$N$78>0)),\"\",IF(OR(AND($C$10>0,$N$79>0),AND($C$11>0,$N$79>0),AND($C$12>0,$N$79>0)),\"\",IF($C$10>0,$C$10*O80/2000,IF($C$11>0,$C$11*365*O80/2000,IF($C$12>0,$C$12*365*O80*N80/2000,IF(R80=\"\",Q80*8760/2000,R80*8760/2000)))))))","v":0},{"$f":"P7*O80/2000","v":0}]
[null,null,null,null,null,null,null,null,null,null,null,null,"Xylene"]
[null,{"$f":"IF($C$4>4,\"Site Name\",\"\")","v":""},null,null,{"$f":"IF($C$4>4,\"Dryers, Hot Screens, Mixer\",\"\")","v":""},null,null,{"$f":"IF($C$4>4,\"(tons/hr)\",\"\")","v":""},{"$f":"IF($C$4>4,\"(tons/yr)\",\"\")","v":""},"PM2.5","PM10",null,{"$f":"IF($C$5=\"\",\"\",$C$5)","v":""},{"$f":"SUM($N$5:$N$7)","v":0},{"$f":"IF(N82=0,0,IF(M82=\"Batch Mix Plant\",0.0027,IF(M82=\"Drum Mix Plant\",0.0002)))","v":0},{"$f":"IF(O82=\"\",\"\",\"lb/ton\")","v":"lb/ton"},{"$f":"N82*O82","v":0},null,{"$f":"IF(N82=0,0,IF($C$10>0,$C$10*O82/2000,IF($C$11>0,$C$11*365*O82/2000,IF($C$12>0,$C$12*365*O82*N82/2000,IF(R82=\"\",Q82*8760/2000,R82*8760/2000)))))","v":0},{"$f":"SUM($P$5:$P$7)*O82/2000","v":0}]
[null,{"$f":"IF($C$4>4,\"County:\",\"\")","v":""},null,null,{"$f":"IF(C85=\"\",\"\",\"AP-6 EP-1\")","v":""},{"$f":"IF(C85=\"\",\"\",\"AP-6 EU-1\")","v":""},{"$f":"IF(C85=\"\",\"\",C5 & \" - \"&C85)","v":""},null,null,{"$f":"IF(C86=\"\",\"\",IF(C86=\"yes\",LOOKUP(G83,'Emission Factors'!$A$12:$A$17,'Emission Factors'!$D$12:$D$17),LOOKUP(G83,'Emission Factors'!$A$5:$A$10,'Emission Factors'!$D$5:$D$10)))","v":""},{"$f":"IF(C86=\"\",\"\",IF(C86=\"yes\",LOOKUP(G83,'Emission Factors'!$A$12:$A$17,'Emission Factors'!$F$12:$F$17),LOOKUP(G83,'Emission Factors'!$A$5:$A$10,'Emission Factors'!$F$5:$F$10)))","v":""},null,"2,2,4-Trimethylpentane"]
[null,{"$f":"IF($C$4>4,\"Production Period (Dates):\",\"\")","v":""},null,null,{"$f":"IF($C$4>4,\"Liquid Asphalt Heater\",\"\")","v":""},null,null,{"$f":"IF($C$4>4,IF(C85=\"natural gas\",\"(MMCF/hr)\",\"(gallons/hr)\"),\"\")","v":""},{"$f":"IF($C$4>4,IF(C85=\"natural gas\",\"(MMCF/yr)\",\"(gallons/yr)\"),\"\")","v":""},null,null,null,{"$f":"IF($C$5=\"\",\"\",$C$5)","v":""},{"$f":"IF(C5=\"drum mix plant\",SUM(N5:N7),0)","v":0},{"$f":"IF(N84=0,0,0.00004)","v":0},{"$f":"IF(O84=\"\",\"\",\"lb/ton\")","v":"lb/ton"},{"$f":"N84*O84","v":0},null,{"$f":"IF(N84=0,0,IF($C$10>0,$C$10*O84/2000,IF($C$11>0,$C$11*365*O84/2000,IF($C$12>0,$C$12*365*O84*N84/2000,IF(R84=\"\",Q84*8760/2000,R84*8760/2000)))))","v":0},{"$f":"IF(N84>0,SUM($P$5:$P$7)*O84/2000,0)","v":0}]
[null,{"$f":"IF($C$4>4,\"Type of Fuel Used:\",\"\")","v":""},null,null,{"$f":"IF(C85=\"\",\"\",\"AP-6 EP-2\")","v":""},{"$f":"IF(C85=\"\",\"\",\"AP-6 EU-2\")","v":""},{"$f":"IF(C85=\"\",\"\",C85& \" Fired Heater\")","v":""},null,null,null,"Controlled?",null,"Chromium Compounds"]
[null,{"$f":"IF($C$4>4,\"Is Your Operation Controlled?:\",\"\")","v":""},null,null,{"$f":"IF($C$4>4,\"Silo Filling, Truck Loadout, Aggregate Transfer\",\"\")","v":""},null,null,{"$f":"IF($C$4>4,\"(tons/hr)\",\"\")","v":""},{"$f":"IF($C$4>4,\"(tons/yr)\",\"\")","v":""},null,{"$f":"IF(OR(C26=\"yes\",C41=\"yes\",C71=\"yes\",C86=\"yes\",C101=\"yes\",C116=\"yes\",C131=\"yes\",C146=\"yes\",C161=\"yes\"),1,0)","v":0},null,{"$f":"IF($C$5=\"\",\"\",$C$5)","v":""},{"$f":"IF(C5=\"drum mix plant\",SUM(N5:N6),0)","v":0},{"$f":"IF(N86=0,0,IF($K$86=1,0.0000055,0.000024))","v":0},{"$f":"IF(O86=\"\",\"\",\"lb/ton\")","v":"lb/ton"},{"$f":"IF($K$86=1,\"\",N86*O86)","v":0},{"$f":"IF($K$86=1,N86*O86,\"\")","v":""},{"$f":"IF(N86=0,0,IF($C$10>0,$C$10*O86/2000,IF($C$11>0,$C$11*365*O86/2000,IF($C$12>0,$C$12*365*O86*N86/2000,IF(R86=\"\",Q86*8760/2000,R86*8760/2000)))))","v":0},{"$f":"IF(N86>0,$P$5*O86/2000,0)","v":0}]
[null,null,null,null,{"$f":"IF($C$4>4,\"AP-6 EP-3\",\"\")","v":""},{"$f":"IF($C$4>4,\"AP-6 EU-3\",\"\")","v":""},{"$f":"IF($C$4>4,\"Silo Filling\",\"\")","v":""},null,null,null,null,null,"Lead Compounds"]
[null,null,null,null,{"$f":"IF($C$4>4,\"AP-6 EP-3\",\"\")","v":""},{"$f":"IF($C$4>4,\"AP-6 EU-4\",\"\")","v":""},{"$f":"IF($C$4>4,\"Truck Loadout\",\"\")","v":""},null,null,null,null,null,{"$f":"IF($C$5=\"\",\"\",$C$5)","v":""},{"$f":"IF(C5=\"drum mix plant\",SUM(N5:N6),0)","v":0},{"$f":"IF(N88=0,0,IF($K$86=1,0.000015,0.00054))","v":0},{"$f":"IF(O88=\"\",\"\",\"lb/ton\")","v":"lb/ton"},{"$f":"IF($K$86=1,\"\",N88*O88)","v":0},{"$f":"IF($K$86=1,N88*O88,\"\")","v":""},{"$f":"IF(N88=0,0,IF($C$10>0,$C$10*O88/2000,IF($C$11>0,$C$11*365*O88/2000,IF($C$12>0,$C$12*365*O88*N88/2000,IF(R88=\"\",Q88*8760/2000,R88*8760/2000)))))","v":0},{"$f":"IF(N88>0,$P$5*O88/2000,0)","v":0}]
[null,null,null,null,{"$f":"IF($C$4>4,\"AP-6 EP-3\",\"\")","v":""},{"$f":"IF($C$4>4,\"AP-6 EU-5\",\"\")","v":""},{"$f":"IF($C$4>4,\"Cold Aggregate Bins\",\"\")","v":""},null,null,null,null,null,"Manganese Compounds",null,null,null,0]
[null,null,null,null,null,null,null,null,null,null,null,null,{"$f":"IF($C$5=\"\",\"\",$C$5)","v":""},{"$f":"IF(C5=\"drum mix plant\",SUM(N5:N6),0)","v":0},{"$f":"IF(N90=0,0,IF($K$86=1,0.0000077,0.00065))","v":0},{"$f":"IF(O90=\"\",\"\",\"lb/ton\")","v":"lb/ton"},0,{"$f":"IF($K$86=1,N90*O90,\"\")","v":""},{"$f":"IF(N90=0,0,IF($C$10>0,$C$10*O90/2000,IF($C$11>0,$C$11*365*O90/2000,IF($C$12>0,$C$12*365*O90*N90/2000,IF(R90=\"\",Q90*8760/2000,R90*8760/2000)))))","v":0},{"$f":"IF(N90>0,$P$5*O90/2000,0)","v":0}]
[null,null,null,null,{"$f":"IF($C$4>4,\"Stock Pile Area\",\"\")","v":""},null,null,null,null,null,null,null,"Nickel Compounds",null,null,null,0]
[null,null,null,null,null,{"$f":"IF($C$4>4,\"Emission Unit #\",\"\")","v":""},{"$f":"IF($C$4>4,\"Maximum Storage Area (acres)\",\"\")","v":""},{"$f":"IF($C$4>4,\"Actual Storage Area (acres)\",\"\")","v":""},{"$f":"IF($C$4>4,\"Actual Days in Existence (days)\",\"\")","v":""},null,null,null,{"$f":"$C$5 & \" - Fuel Oil\"","v":" - Fuel Oil"},{"$f":"IF(C5=\"drum mix plant\",N5,0)","v":0},{"$f":"IF(N92=0,0,IF($K$86=1,0.000015,0.0013))","v":0},{"$f":"IF(O92=\"\",\"\",\"lb/ton\")","v":"lb/ton"},0,{"$f":"IF($K$86=1,N92*O92,\"\")","v":""},{"$f":"IF(N92=0,0,IF($C$10>0,$C$10*O92/2000,IF($C$11>0,$C$11*365*O92/2000,IF($C$12>0,$C$12*365*O92*N92/2000,IF(R92=\"\",Q92*8760/2000,R92*8760/2000)))))","v":0},{"$f":"IF(N92>0,$P$5*O92/2000,0)","v":0}]
[null,null,null,null,null,null,null,null,null,null,null,null,{"$f":"$C$5 & \" - Waste Oil\"","v":" - Waste Oil"},{"$f":"IF(C5=\"drum mix plant\",N6,0)","v":0},{"$f":"IF(N93=0,0,IF($K$86=1,0.000015,0.0013))","v":0},{"$f":"IF(O93=\"\",\"\",\"lb/ton\")","v":"lb/ton"},0,{"$f":"IF($K$86=1,N93*O93,\"\")","v":""},{"$f":"IF(N93=0,0,IF($C$10>0,$C$10*O93/2000,IF($C$11>0,$C$11*365*O93/2000,IF($C$12>0,$C$12*365*O93*N93/2000,IF(R93=\"\",Q93*8760/2000,R93*8760/2000)))))","v":0},{"$f":"IF(N93>0,$P$6*O93/2000,0)","v":0}]
[null,null,null,null,null,null,null,null,null,null,null,null,{"$f":"$C$5 & \" - Natural Gas\"","v":" - Natural Gas"},{"$f":"IF(C5=\"drum mix plant\",N7,0)","v":0},{"$f":"IF(N94=0,0,IF($K$86=1,0.000063,0.00063))","v":0},{"$f":"IF(O94=\"\",\"\",\"lb/ton\")","v":"lb/ton"},{"$f":"IF($K$86=1,\"\",N94*O94)","v":0},{"$f":"IF($K$86=1,N94*O94,\"\")","v":""},{"$f":"IF(N94=0,0,IF($C$10>0,$C$10*O94/2000,IF($C$11>0,$C$11*365*O94/2000,IF($C$12>0,$C$12*365*O94*N94/2000,IF(R94=\"\",Q94*8760/2000,R94*8760/2000)))))","v":0},{"$f":"IF(N94>0,$P$7*O94/2000,0)","v":0}]
[null,{"$f":"IF($C$4>5,\"Asphalt Plant\",\"\")","v":""},{"$f":"IF($C$4>5,\"Site 6\",\"\")","v":""},null,{"$f":"IF($C$4>5,\"Emission Point #\",\"\")","v":""},{"$f":"IF($C$4>5,\"Emission    Unit #\",\"\")","v":""},{"$f":"IF($C$4>5,\"Process\",\"\")","v":""},{"$f":"IF($C$4>5,\"Maximum Hourly     Design Rate\",\"\")","v":""},{"$f":"IF($C$4>5,('Facility Information'!G80&\" Annual Throughput\"),\"\")","v":""}]
[]
[null,{"$f":"IF($C$4>5,\"Site Name\",\"\")","v":""},null,null,{"$f":"IF($C$4>5,\"Dryers, Hot Screens, Mixer\",\"\")","v":""},null,null,{"$f":"IF($C$4>5,\"(tons/hr)\",\"\")","v":""},{"$f":"IF($C$4>5,\"(tons/yr)\",\"\")","v":""},"PM2.5","PM10"]
[null,{"$f":"IF($C$4>5,\"County:\",\"\")","v":""},null,null,{"$f":"IF(C100=\"\",\"\",\"AP-6 EP-1\")","v":""},{"$f":"IF(C100=\"\",\"\",\"AP-6 EU-1\")","v":""},{"$f":"IF(C100=\"\",\"\",C5 & \" - \"&C100)","v":""},null,null,{"$f":"IF(C101=\"\",\"\",IF(C101=\"yes\",LOOKUP(G98,'Emission Factors'!$A$12:$A$17,'Emission Factors'!$D$12:$D$17),LOOKUP(G98,'Emission Factors'!$A$5:$A$10,'Emission Factors'!$D$5:$D$10)))","v":""},{"$f":"IF(C101=\"\",\"\",IF(C101=\"yes\",LOOKUP(G98,'Emission Factors'!$A$12:$A$17,'Emission Factors'!$F$12:$F$17),LOOKUP(G98,'Emission Factors'!$A$5:$A$10,'Emission Factors'!$F$5:$F$10)))","v":""}]
[null,{"$f":"IF($C$4>5,\"Production Period (Dates):\",\"\")","v":""},null,null,{"$f":"IF($C$4>5,\"Liquid Asphalt Heater\",\"\")","v":""},null,null,{"$f":"IF($C$4>5,IF(C100=\"natural gas\",\"(MMCF/hr)\",\"(gallons/hr)\"),\"\")","v":""},{"$f":"IF($C$4>5,IF(C100=\"natural gas\",\"(MMCF/yr)\",\"(gallons/yr)\"),\"\")","v":""}]
[null,{"$f":"IF($C$4>5,\"Type of Fuel Used:\",\"\")","v":""},null,null,{"$f":"IF(C100=\"\",\"\",\"AP-6 EP-2\")","v":""},{"$f":"IF(C100=\"\",\"\",\"AP-6 EU-2\")","v":""},{"$f":"IF(C100=\"\",\"\",C100& \" Fired Heater\")","v":""}]
[null,{"$f":"IF($C$4>5,\"Is Your Operation Controlled?:\",\"\")","v":""},null,null,{"$f":"IF($C$4>5,\"Silo Filling, Truck Loadout, Aggregate Transfer\",\"\")","v":""},null,null,{"$f":"IF($C$4>5,\"(tons/hr)\",\"\")","v":""},{"$f":"IF($C$4>5,\"(tons/yr)\",\"\")","v":""}]
[null,null,null,null,{"$f":"IF($C$4>5,\"AP-6 EP-3\",\"\")","v":""},{"$f":"IF($C$4>5,\"AP-6 EU-3\",\"\")","v":""},{"$f":"IF($C$4>5,\"Silo Filling\",\"\")","v":""}]
[null,null,null,null,{"$f":"IF($C$4>5,\"AP-6 EP-3\",\"\")","v":""},{"$f":"IF($C$4>5,\"AP-6 EU-4\",\"\")","v":""},{"$f":"IF($C$4>5,\"Truck Loadout\",\"\")","v":""}]
[null,null,null,null,{"$f":"IF($C$4>5,\"AP-6 EP-3\",\"\")","v":""},{"$f":"IF($C$4>5,\"AP-6 EU-5\",\"\")","v":""},{"$f":"IF($C$4>5,\"Cold Aggregate Bins\",\"\")","v":""}]
[]
[null,null,null,null,{"$f":"IF($C$4>5,\"Stock Pile Area\",\"\")","v":""}]
[null,null,null,null,null,{"$f":"IF($C$4>5,\"Emission Unit #\",\"\")","v":""},{"$f":"IF($C$4>5,\"Maximum Storage Area (acres)\",\"\")","v":""},{"$f":"IF($C$4>5,\"Actual Storage Area (acres)\",\"\")","v":""},{"$f":"IF($C$4>5,\"Actual Days in Existence (days)\",\"\")","v":""}]
[]
[]
[null,{"$f":"IF($C$4>6,\"Asphalt Plant\",\"\")","v":""},{"$f":"IF($C$4>6,\"Site 7\",\"\")","v":""},null,{"$f":"IF($C$4>6,\"Emission Point #\",\"\")","v":""},{"$f":"IF($C$4>6,\"Emission    Unit #\",\"\")","v":""},{"$f":"IF($C$4>6,\"Process\",\"\")","v":""},{"$f":"IF($C$4>6,\"Maximum Hourly     Design Rate\",\"\")","v":""},{"$f":"IF($C$4>6,('Facility Information'!G95&\" Annual Throughput\"),\"\")","v":""}]
[]
[null,{"$f":"IF($C$4>6,\"Site Name\",\"\")","v":""},null,null,{"$f":"IF($C$4>6,\"Dryers, Hot Screens, Mixer\",\"\")","v":""},null,null,{"$f":"IF($C$4>6,\"(tons/hr)\",\"\")","v":""},{"$f":"IF($C$4>6,\"(tons/yr)\",\"\")","v":""},"PM2.5","PM10"]
[null,{"$f":"IF($C$4>6,\"County:\",\"\")","v":""},null,null,{"$f":"IF(C115=\"\",\"\",\"AP-6 EP-1\")","v":""},{"$f":"IF(C115=\"\",\"\",\"AP-6 EU-1\")","v":""},{"$f":"IF(C115=\"\",\"\",C5 & \" - \"&C115)","v":""},null,null,{"$f":"IF(C116=\"\",\"\",IF(C116=\"yes\",LOOKUP(G113,'Emission Factors'!$A$12:$A$17,'Emission Factors'!$D$12:$D$17),LOOKUP(G113,'Emission Factors'!$A$5:$A$10,'Emission Factors'!$D$5:$D$10)))","v":""},{"$f":"IF(C116=\"\",\"\",IF(C116=\"yes\",LOOKUP(G113,'Emission Factors'!$A$12:$A$17,'Emission Factors'!$F$12:$F$17),LOOKUP(G113,'Emission Factors'!$A$5:$A$10,'Emission Factors'!$F$5:$F$10)))","v":""}]
[null,{"$f":"IF($C$4>6,\"Production Period (Dates):\",\"\")","v":""},null,null,{"$f":"IF($C$4>6,\"Liquid Asphalt Heater\",\"\")","v":""},null,null,{"$f":"IF($C$4>6,IF(C115=\"natural gas\",\"(MMCF/hr)\",\"(gallons/hr)\"),\"\")","v":""},{"$f":"IF($C$4>6,IF(C115=\"natural gas\",\"(MMCF/yr)\",\"(gallons/yr)\"),\"\")","v":""}]
[null,{"$f":"IF($C$4>6,\"Type of Fuel Used:\",\"\")","v":""},null,null,{"$f":"IF(C115=\"\",\"\",\"AP-6 EP-2\")","v":""},{"$f":"IF(C115=\"\",\"\",\"AP-6 EU-2\")","v":""},{"$f":"IF(C115=\"\",\"\",C115& \" Fired Heater\")","v":""}]
[null,{"$f":"IF($C$4>6,\"Is Your Operation Controlled?:\",\"\")","v":""},null,null,{"$f":"IF($C$4>6,\"Silo Filling, Truck Loadout, Aggregate Transfer\",\"\")","v":""},null,null,{"$f":"IF($C$4>6,\"(tons/hr)\",\"\")","v":""},{"$f":"IF($C$4>6,\"(tons/yr)\",\"\")","v":""}]
[null,null,null,null,{"$f":"IF($C$4>6,\"AP-6 EP-3\",\"\")","v":""},{"$f":"IF($C$4>6,\"AP-6 EU-3\",\"\")","v":""},{"$f":"IF($C$4>6,\"Silo Filling\",\"\")","v":""}]
[null,null,null,null,{"$f":"IF($C$4>6,\"AP-6 EP-3\",\"\")","v":""},{"$f":"IF($C$4>6,\"AP-6 EU-4\",\"\")","v":""},{"$f":"IF($C$4>6,\"Truck Loadout\",\"\")","v":""}]
[null,null,null,null,{"$f":"IF($C$4>6,\"AP-6 EP-3\",\"\")","v":""},{"$f":"IF($C$4>6,\"AP-6 EU-5\",\"\")","v":""},{"$f":"IF($C$4>6,\"Cold Aggregate Bins\",\"\")","v":""}]
[]
[null,null,null,null,{"$f":"IF($C$4>6,\"Stock Pile Area\",\"\")","v":""}]
[null,null,null,null,null,{"$f":"IF($C$4>6,\"Emission Unit #\",\"\")","v":""},{"$f":"IF($C$4>6,\"Maximum Storage Area (acres)\",\"\")","v":""},{"$f":"IF($C$4>6,\"Actual Storage Area (acres)\",\"\")","v":""},{"$f":"IF($C$4>6,\"Actual Days in Existence (days)\",\"\")","v":""}]
[]
[]
[null,{"$f":"IF($C$4>7,\"Asphalt Plant\",\"\")","v":""},{"$f":"IF($C$4>7,\"Site 8\",\"\")","v":""},null,{"$f":"IF($C$4>7,\"Emission Point #\",\"\")","v":""},{"$f":"IF($C$4>7,\"Emission    Unit #\",\"\")","v":""},{"$f":"IF($C$4>7,\"Process\",\"\")","v":""},{"$f":"IF($C$4>7,\"Maximum Hourly     Design Rate\",\"\")","v":""},{"$f":"IF($C$4>7,('Facility Information'!G110&\" Annual Throughput\"),\"\")","v":""}]
[]
[null,{"$f":"IF($C$4>7,\"Site Name\",\"\")","v":""},null,null,{"$f":"IF($C$4>7,\"Dryers, Hot Screens, Mixer\",\"\")","v":""},null,null,{"$f":"IF($C$4>7,\"(tons/hr)\",\"\")","v":""},{"$f":"IF($C$4>7,\"(tons/yr)\",\"\")","v":""},"PM2.5","PM10"]
[null,{"$f":"IF($C$4>7,\"County:\",\"\")","v":""},null,null,{"$f":"IF(C130=\"\",\"\",\"AP-6 EP-1\")","v":""},{"$f":"IF(C130=\"\",\"\",\"AP-6 EU-1\")","v":""},{"$f":"IF(C130=\"\",\"\",C5 & \" - \"&C130)","v":""},null,null,{"$f":"IF(C131=\"\",\"\",IF(C131=\"yes\",LOOKUP(G128,'Emission Factors'!$A$12:$A$17,'Emission Factors'!$D$12:$D$17),LOOKUP(G128,'Emission Factors'!$A$5:$A$10,'Emission Factors'!$D$5:$D$10)))","v":""},{"$f":"IF(C131=\"\",\"\",IF(C131=\"yes\",LOOKUP(G128,'Emission Factors'!$A$12:$A$17,'Emission Factors'!$F$12:$F$17),LOOKUP(G128,'Emission Factors'!$A$5:$A$10,'Emission Factors'!$F$5:$F$10)))","v":""}]
[null,{"$f":"IF($C$4>7,\"Production Period (Dates):\",\"\")","v":""},null,null,{"$f":"IF($C$4>7,\"Liquid Asphalt Heater\",\"\")","v":""},null,null,{"$f":"IF($C$4>7,IF(C130=\"natural gas\",\"(MMCF/hr)\",\"(gallons/hr)\"),\"\")","v":""},{"$f":"IF($C$4>7,IF(C130=\"natural gas\",\"(MMCF/yr)\",\"(gallons/yr)\"),\"\")","v":""}]
[null,{"$f":"IF($C$4>7,\"Type of Fuel Used:\",\"\")","v":""},null,null,{"$f":"IF(C130=\"\",\"\",\"AP-6 EP-2\")","v":""},{"$f":"IF(C130=\"\",\"\",\"AP-6 EU-2\")","v":""},{"$f":"IF(C130=\"\",\"\",C130& \" Fired Heater\")","v":""}]
[null,{"$f":"IF($C$4>7,\"Is Your Operation Controlled?:\",\"\")","v":""},null,null,{"$f":"IF($C$4>7,\"Silo Filling, Truck Loadout, Aggregate Transfer\",\"\")","v":""},null,null,{"$f":"IF($C$4>7,\"(tons/hr)\",\"\")","v":""},{"$f":"IF($C$4>7,\"(tons/yr)\",\"\")","v":""}]
[null,null,null,null,{"$f":"IF($C$4>7,\"AP-6 EP-3\",\"\")","v":""},{"$f":"IF($C$4>7,\"AP-6 EU-3\",\"\")","v":""},{"$f":"IF($C$4>7,\"Silo Filling\",\"\")","v":""}]
[null,null,null,null,{"$f":"IF($C$4>7,\"AP-6 EP-3\",\"\")","v":""},{"$f":"IF($C$4>7,\"AP-6 EU-4\",\"\")","v":""},{"$f":"IF($C$4>7,\"Truck Loadout\",\"\")","v":""}]
[null,null,null,null,{"$f":"IF($C$4>7,\"AP-6 EP-3\",\"\")","v":""},{"$f":"IF($C$4>7,\"AP-6 EU-5\",\"\")","v":""},{"$f":"IF($C$4>7,\"Cold Aggregate Bins\",\"\")","v":""}]
[]
[null,null,null,null,{"$f":"IF($C$4>7,\"Stock Pile Area\",\"\")","v":""}]
[null,null,null,null,null,{"$f":"IF($C$4>7,\"Emission Unit #\",\"\")","v":""},{"$f":"IF($C$4>7,\"Maximum Storage Area (acres)\",\"\")","v":""},{"$f":"IF($C$4>7,\"Actual Storage Area (acres)\",\"\")","v":""},{"$f":"IF($C$4>7,\"Actual Days in Existence (days)\",\"\")","v":""}]
[]
[]
[null,{"$f":"IF($C$4>8,\"Asphalt Plant\",\"\")","v":""},{"$f":"IF($C$4>8,\"Site 9\",\"\")","v":""},null,{"$f":"IF($C$4>8,\"Emission Point #\",\"\")","v":""},{"$f":"IF($C$4>8,\"Emission    Unit #\",\"\")","v":""},{"$f":"IF($C$4>8,\"Process\",\"\")","v":""},{"$f":"IF($C$4>8,\"Maximum Hourly     Design Rate\",\"\")","v":""},{"$f":"IF($C$4>8,('Facility Information'!G125&\" Annual Throughput\"),\"\")","v":""}]
[]
[null,{"$f":"IF($C$4>8,\"Site Name\",\"\")","v":""},null,null,{"$f":"IF($C$4>8,\"Dryers, Hot Screens, Mixer\",\"\")","v":""},null,null,{"$f":"IF($C$4>8,\"(tons/hr)\",\"\")","v":""},{"$f":"IF($C$4>8,\"(tons/yr)\",\"\")","v":""},"PM2.5","PM10"]
[null,{"$f":"IF($C$4>8,\"County:\",\"\")","v":""},null,null,{"$f":"IF(C145=\"\",\"\",\"AP-6 EP-1\")","v":""},{"$f":"IF(C145=\"\",\"\",\"AP-6 EU-1\")","v":""},{"$f":"IF(C145=\"\",\"\",C5 & \" - \"&C145)","v":""},null,null,{"$f":"IF(C146=\"\",\"\",IF(C146=\"yes\",LOOKUP(G143,'Emission Factors'!$A$12:$A$17,'Emission Factors'!$D$12:$D$17),LOOKUP(G143,'Emission Factors'!$A$5:$A$10,'Emission Factors'!$D$5:$D$10)))","v":""},{"$f":"IF(C146=\"\",\"\",IF(C146=\"yes\",LOOKUP(G143,'Emission Factors'!$A$12:$A$17,'Emission Factors'!$F$12:$F$17),LOOKUP(G143,'Emission Factors'!$A$5:$A$10,'Emission Factors'!$F$5:$F$10)))","v":""}]
[null,{"$f":"IF($C$4>8,\"Production Period (Dates):\",\"\")","v":""},null,null,{"$f":"IF($C$4>8,\"Liquid Asphalt Heater\",\"\")","v":""},null,null,{"$f":"IF($C$4>8,IF(C145=\"natural gas\",\"(MMCF/hr)\",\"(gallons/hr)\"),\"\")","v":""},{"$f":"IF($C$4>8,IF(C145=\"natural gas\",\"(MMCF/yr)\",\"(gallons/yr)\"),\"\")","v":""}]
[null,{"$f":"IF($C$4>8,\"Type of Fuel Used:\",\"\")","v":""},null,null,{"$f":"IF(C145=\"\",\"\",\"AP-6 EP-2\")","v":""},{"$f":"IF(C145=\"\",\"\",\"AP-6 EU-2\")","v":""},{"$f":"IF(C145=\"\",\"\",C145& \" Fired Heater\")","v":""}]
[null,{"$f":"IF($C$4>8,\"Is Your Operation Controlled?:\",\"\")","v":""},null,null,{"$f":"IF($C$4>8,\"Silo Filling, Truck Loadout, Aggregate Transfer\",\"\")","v":""},null,null,{"$f":"IF($C$4>8,\"(tons/hr)\",\"\")","v":""},{"$f":"IF($C$4>8,\"(tons/yr)\",\"\")","v":""}]
[null,null,null,null,{"$f":"IF($C$4>8,\"AP-6 EP-3\",\"\")","v":""},{"$f":"IF($C$4>8,\"AP-6 EU-3\",\"\")","v":""},{"$f":"IF($C$4>8,\"Silo Filling\",\"\")","v":""}]
[null,null,null,null,{"$f":"IF($C$4>8,\"AP-6 EP-3\",\"\")","v":""},{"$f":"IF($C$4>8,\"AP-6 EU-4\",\"\")","v":""},{"$f":"IF($C$4>8,\"Truck Loadout\",\"\")","v":""}]
[null,null,null,null,{"$f":"IF($C$4>8,\"AP-6 EP-3\",\"\")","v":""},{"$f":"IF($C$4>8,\"AP-6 EU-5\",\"\")","v":""},{"$f":"IF($C$4>8,\"Cold Aggregate Bins\",\"\")","v":""}]
[]
[null,null,null,null,{"$f":"IF($C$4>8,\"Stock Pile Area\",\"\")","v":""}]
[null,null,null,null,null,{"$f":"IF($C$4>8,\"Emission Unit #\",\"\")","v":""},{"$f":"IF($C$4>8,\"Maximum Storage Area (acres)\",\"\")","v":""},{"$f":"IF($C$4>8,\"Actual Storage Area (acres)\",\"\")","v":""},{"$f":"IF($C$4>8,\"Actual Days in Existence (days)\",\"\")","v":""}]
[]
[]
[null,{"$f":"IF($C$4>9,\"Asphalt Plant\",\"\")","v":""},{"$f":"IF($C$4>9,\"Site 10\",\"\")","v":""},null,{"$f":"IF($C$4>9,\"Emission Point #\",\"\")","v":""},{"$f":"IF($C$4>9,\"Emission    Unit #\",\"\")","v":""},{"$f":"IF($C$4>9,\"Process\",\"\")","v":""},{"$f":"IF($C$4>9,\"Maximum Hourly     Design Rate\",\"\")","v":""},{"$f":"IF($C$4>9,('Facility Information'!G140&\" Annual Throughput\"),\"\")","v":""}]
[]
[null,{"$f":"IF($C$4>9,\"Site Name\",\"\")","v":""},null,null,{"$f":"IF($C$4>9,\"Dryers, Hot Screens, Mixer\",\"\")","v":""},null,null,{"$f":"IF($C$4>9,\"(tons/hr)\",\"\")","v":""},{"$f":"IF($C$4>9,\"(tons/yr)\",\"\")","v":""},"PM2.5","PM10"]
[null,{"$f":"IF($C$4>9,\"County:\",\"\")","v":""},null,null,{"$f":"IF(C160=\"\",\"\",\"AP-6 EP-1\")","v":""},{"$f":"IF(C160=\"\",\"\",\"AP-6 EU-1\")","v":""},{"$f":"IF(C160=\"\",\"\",C5 & \" - \"&C160)","v":""},null,null,{"$f":"IF(C161=\"\",\"\",IF(C161=\"yes\",LOOKUP(G158,'Emission Factors'!$A$12:$A$17,'Emission Factors'!$D$12:$D$17),LOOKUP(G158,'Emission Factors'!$A$5:$A$10,'Emission Factors'!$D$5:$D$10)))","v":""},{"$f":"IF(C161=\"\",\"\",IF(C161=\"yes\",LOOKUP(G158,'Emission Factors'!$A$12:$A$17,'Emission Factors'!$F$12:$F$17),LOOKUP(G158,'Emission Factors'!$A$5:$A$10,'Emission Factors'!$F$5:$F$10)))","v":""}]
[null,{"$f":"IF($C$4>9,\"Production Period (Dates):\",\"\")","v":""},null,null,{"$f":"IF($C$4>9,\"Liquid Asphalt Heater\",\"\")","v":""},null,null,{"$f":"IF($C$4>9,IF(C160=\"natural gas\",\"(MMCF/hr)\",\"(gallons/hr)\"),\"\")","v":""},{"$f":"IF($C$4>9,IF(C160=\"natural gas\",\"(MMCF/yr)\",\"(gallons/yr)\"),\"\")","v":""}]
[null,{"$f":"IF($C$4>9,\"Type of Fuel Used:\",\"\")","v":""},null,null,{"$f":"IF(C160=\"\",\"\",\"AP-6 EP-2\")","v":""},{"$f":"IF(C160=\"\",\"\",\"AP-6 EU-2\")","v":""},{"$f":"IF(C160=\"\",\"\",C160& \" Fired Heater\")","v":""}]
[null,{"$f":"IF($C$4>9,\"Is Your Operation Controlled?:\",\"\")","v":""},null,null,{"$f":"IF($C$4>9,\"Silo Filling, Truck Loadout, Aggregate Transfer\",\"\")","v":""},null,null,{"$f":"IF($C$4>9,\"(tons/hr)\",\"\")","v":""},{"$f":"IF($C$4>9,\"(tons/yr)\",\"\")","v":""}]
[null,null,null,null,{"$f":"IF($C$4>9,\"AP-6 EP-3\",\"\")","v":""},{"$f":"IF($C$4>9,\"AP-6 EU-3\",\"\")","v":""},{"$f":"IF($C$4>9,\"Silo Filling\",\"\")","v":""}]
[null,null,null,null,{"$f":"IF($C$4>9,\"AP-6 EP-3\",\"\")","v":""},{"$f":"IF($C$4>9,\"AP-6 EU-4\",\"\")","v":""},{"$f":"IF($C$4>9,\"Truck Loadout\",\"\")","v":""}]
[null,null,null,null,{"$f":"IF($C$4>9,\"AP-6 EP-3\",\"\")","v":""},{"$f":"IF($C$4>9,\"AP-6 EU-5\",\"\")","v":""},{"$f":"IF($C$4>9,\"Cold Aggregate Bins\",\"\")","v":""}]
[]
[null,null,null,null,{"$f":"IF($C$4>9,\"Stock Pile Area\",\"\")","v":""}]
[null,null,null,null,null,{"$f":"IF($C$4>9,\"Emission Unit #\",\"\")","v":""},{"$f":"IF($C$4>9,\"Maximum Storage Area (acres)\",\"\")","v":""},{"$f":"IF($C$4>9,\"Actual Storage Area (acres)\",\"\")","v":""},{"$f":"IF($C$4>9,\"Actual Days in Existence (days)\",\"\")","v":""}]

{"sheet":"Asphalt Plant (AP-7)","index":7,"n_rows":167,"n_cols":20,"rows_kept":167,"cut":false,"hidden":true,"merged":[[156,4,156,6],[158,4,158,6],[160,4,160,6],[139,7,140,7],[139,8,140,8],[141,4,141,6],[143,4,143,6],[145,4,145,6],[154,4,155,4],[154,5,155,5],[154,6,155,6],[154,7,155,7],[154,8,155,8],[126,4,126,6],[128,4,128,6],[130,4,130,6],[139,4,140,4],[139,5,140,5],[139,6,140,6],[109,7,110,7],[109,8,110,8],[111,4,111,6],[113,4,113,6],[115,4,115,6],[124,4,125,4],[124,5,125,5],[124,6,125,6],[124,7,125,7],[124,8,125,8],[96,4,96,6],[98,4,98,6],[100,4,100,6],[109,4,110,4],[109,5,110,5],[109,6,110,6],[79,7,80,7],[79,8,80,8],[81,4,81,6],[83,4,83,6],[85,4,85,6],[94,4,95,4],[94,5,95,5],[94,6,95,6],[94,7,95,7],[94,8,95,8],[66,4,66,6],[68,4,68,6],[70,4,70,6],[79,4,80,4],[79,5,80,5],[79,6,80,6],[49,8,50,8],[51,4,51,6],[53,4,53,6],[55,4,55,6],[64,4,65,4],[64,5,65,5],[64,6,65,6],[64,7,65,7],[64,8,65,8],[38,4,38,6],[40,4,40,6],[49,4,50,4],[49,5,50,5],[49,6,50,6],[49,7,50,7],[34,15,35,15],[34,16,35,16],[34,17,35,17],[34,18,35,18],[34,19,35,19],[36,4,36,6],[34,4,35,4],[34,5,35,5],[34,6,35,6],[34,7,35,7],[34,8,35,8],[34,14,35,14],[18,17,19,17],[18,18,19,18],[18,19,19,19],[19,4,20,4],[19,5,20,5],[19,6,20,6],[19,7,20,7],[19,8,20,8],[2,15,3,15],[2,16,3,16],[3,17,4,19],[12,1,14,2],[13,14,13,15],[14,14,14,15],[18,13,19,13],[18,14,19,14],[18,15,19,15],[18,16,19,16],[0,1,0,2],[1,1,1,2],[1,7,1,8],[2,12,3,12],[2,13,3,13],[2,14,3,14]]}
[null,"ASPHALT PLANT (AP-7)"]
[null,"Please fill in the yellow boxes as applicable for your facility. ",null,null,null,null,null,"Values used for calculating emissions →",null,null,null,null,"Values Used to Calculate Potential and Actual Emissions for the Listed Processes at this Plant"]
[null,null,null,null,null,null,null,null,null,null,null,null,"Process","Maximum Design Rate","Units","Actual throughput","Units"]
[null,{"$f":"\"Number of Sites this Plant operated at in \"&'Facility Information'!G5&\":\"","v":"Number of Sites this Plant operated at in :"},null,null,null,null,null,null,null,null,null,null,null,null,null,null,null,"** As of 2016 Potential Emissions are no longer required to be reported in the Minor Source Emissions Inventory**"]
[null,"Plant Type:",null,null,null,null,null,null,null,null,null,null,{"$f":"$C$5 & \" - Fuel Oil\"","v":" - Fuel Oil"},{"$f":"MAX((IFERROR(OFFSET($G$22,MATCH(M5,$G$23,0),1),0)),((IFERROR(OFFSET($G$37,MATCH(M5,$G$38,0),1),0))),((IFERROR(OFFSET($G$52,MATCH(M5,$G$53,0),1),0))),((IFERROR(OFFSET($G$67,MATCH(M5,$G$68,0),1),0))),((IFERROR(OFFSET($G$82,MATCH(M5,$G$83,0),1),0))),((IFERROR(OFFSET($G$97,MATCH(M5,$G$98,0),1),0))),((IFERROR(OFFSET($G$112,MATCH(M5,$G$113,0),1),0))),((IFERROR(OFFSET($G$127,MATCH(M5,$G$128,0),1),0))),((IFERROR(OFFSET($G$142,MATCH(M5,$G$143,0),1),0))),((IFERROR(OFFSET($G$157,MATCH(M5,$G$158,0),1),0))))","v":0},"tons/hr",{"$f":"SUM((IFERROR(OFFSET($G$22,MATCH(M5,$G$23,0),2),0)),((IFERROR(OFFSET($G$37,MATCH(M5,$G$38,0),2),0))),((IFERROR(OFFSET($G$52,MATCH(M5,$G$53,0),2),0))),((IFERROR(OFFSET($G$67,MATCH(M5,$G$68,0),2),0))),((IFERROR(OFFSET($G$82,MATCH(M5,$G$83,0),2),0))),((IFERROR(OFFSET($G$97,MATCH(M5,$G$98,0),2),0))),((IFERROR(OFFSET($G$112,MATCH(M5,$G$113,0),2),0))),((IFERROR(OFFSET($G$127,MATCH(M5,$G$128,0),2),0))),((IFERROR(OFFSET($G$142,MATCH(M5,$G$143,0),2),0))),((IFERROR(OFFSET($G$157,MATCH(M5,$G$158,0),2),0))))","v":0},"tons/yr"]
[null,null,null,null,null,null,null,null,null,null,null,null,{"$f":"$C$5 & \" - Waste Oil\"","v":" - Waste Oil"},{"$f":"MAX((IFERROR(OFFSET($G$22,MATCH(M6,$G$23,0),1),0)),((IFERROR(OFFSET($G$37,MATCH(M6,$G$38,0),1),0))),((IFERROR(OFFSET($G$52,MATCH(M6,$G$53,0),1),0))),((IFERROR(OFFSET($G$67,MATCH(M6,$G$68,0),1),0))),((IFERROR(OFFSET($G$82,MATCH(M6,$G$83,0),1),0))),((IFERROR(OFFSET($G$97,MATCH(M6,$G$98,0),1),0))),((IFERROR(OFFSET($G$112,MATCH(M6,$G$113,0),1),0))),((IFERROR(OFFSET($G$127,MATCH(M6,$G$128,0),1),0))),((IFERROR(OFFSET($G$142,MATCH(M6,$G$143,0),1),0))),((IFERROR(OFFSET($G$157,MATCH(M6,$G$158,0),1),0))))","v":0},"tons/hr",{"$f":"SUM((IFERROR(OFFSET($G$22,MATCH(M6,$G$23,0),2),0)),((IFERROR(OFFSET($G$37,MATCH(M6,$G$38,0),2),0))),((IFERROR(OFFSET($G$52,MATCH(M6,$G$53,0),2),0))),((IFERROR(OFFSET($G$67,MATCH(M6,$G$68,0),2),0))),((IFERROR(OFFSET($G$82,MATCH(M6,$G$83,0),2),0))),((IFERROR(OFFSET($G$97,MATCH(M6,$G$98,0),2),0))),((IFERROR(OFFSET($G$112,MATCH(M6,$G$113,0),2),0))),((IFERROR(OFFSET($G$127,MATCH(M6,$G$128,0),2),0))),((IFERROR(OFFSET($G$142,MATCH(M6,$G$143,0),2),0))),((IFERROR(OFFSET($G$157,MATCH(M6,$G$158,0),2),0))))","v":0},"tons/yr"]
[null,"Plant Specific Permit Number: ",null,null,null,null,null,null,null,null,null,null,{"$f":"$C$5 & \" - Natural Gas\"","v":" - Natural Gas"},{"$f":"MAX((IFERROR(OFFSET($G$22,MATCH(M7,$G$23,0),1),0)),((IFERROR(OFFSET($G$37,MATCH(M7,$G$38,0),1),0))),((IFERROR(OFFSET($G$52,MATCH(M7,$G$53,0),1),0))),((IFERROR(OFFSET($G$67,MATCH(M7,$G$68,0),1),0))),((IFERROR(OFFSET($G$82,MATCH(M7,$G$83,0),1),0))),((IFERROR(OFFSET($G$97,MATCH(M7,$G$98,0),1),0))),((IFERROR(OFFSET($G$112,MATCH(M7,$G$113,0),1),0))),((IFERROR(OFFSET($G$127,MATCH(M7,$G$128,0),1),0))),((IFERROR(OFFSET($G$142,MATCH(M7,$G$143,0),1),0))),((IFERROR(OFFSET($G$157,MATCH(M7,$G$158,0),1),0))))","v":0},"tons/hr",{"$f":"SUM((IFERROR(OFFSET($G$22,MATCH(M7,$G$23,0),2),0)),((IFERROR(OFFSET($G$37,MATCH(M7,$G$38,0),2),0))),((IFERROR(OFFSET($G$52,MATCH(M7,$G$53,0),2),0))),((IFERROR(OFFSET($G$67,MATCH(M7,$G$68,0),2),0))),((IFERROR(OFFSET($G$82,MATCH(M7,$G$83,0),2),0))),((IFERROR(OFFSET($G$97,MATCH(M7,$G$98,0),2),0))),((IFERROR(OFFSET($G$112,MATCH(M7,$G$113,0),2),0))),((IFERROR(OFFSET($G$127,MATCH(M7,$G$128,0),2),0))),((IFERROR(OFFSET($G$142,MATCH(M7,$G$143,0),2),0))),((IFERROR(OFFSET($G$157,MATCH(M7,$G$158,0),2),0))))","v":0},"tons/yr"]
[null,null,null,null,null,null,null,null,null,null,null,null,"Fuel Oil Fired Heater",{"$f":"MAX((IFERROR(OFFSET($G$24,MATCH(\"Fuel Oil Fired Heater\",$G$25,0),1),0)),((IFERROR(OFFSET($G$39,MATCH(\"Fuel Oil Fired Heater\",$G$40,0),1),0))),((IFERROR(OFFSET($G$54,MATCH(\"Fuel Oil Fired Heater\",$G$55,0),1),0))),((IFERROR(OFFSET($G$69,MATCH(\"Fuel Oil Fired Heater\",$G$70,0),1),0))),((IFERROR(OFFSET($G$84,MATCH(\"Fuel Oil Fired Heater\",$G$85,0),1),0))),((IFERROR(OFFSET($G$99,MATCH(\"Fuel Oil Fired Heater\",$G$100,0),1),0))),((IFERROR(OFFSET($G$114,MATCH(\"Fuel Oil Fired Heater\",$G$115,0),1),0))),((IFERROR(OFFSET($G$129,MATCH(\"Fuel Oil Fired Heater\",$G$130,0),1),0))),((IFERROR(OFFSET($G$144,MATCH(\"Fuel Oil Fired Heater\",$G$145,0),1),0))),((IFERROR(OFFSET($G$159,MATCH(\"Fuel Oil Fired Heater\",$G$160,0),1),0))))","v":0},"gallons/hr",{"$f":"SUM((IFERROR(OFFSET($G$24,MATCH(\"Fuel Oil Fired Heater\",$G$25,0),2),0)),((IFERROR(OFFSET($G$39,MATCH(\"Fuel Oil Fired Heater\",$G$40,0),2),0))),((IFERROR(OFFSET($G$54,MATCH(\"Fuel Oil Fired Heater\",$G$55,0),2),0))),((IFERROR(OFFSET($G$69,MATCH(\"Fuel Oil Fired Heater\",$G$70,0),2),0))),((IFERROR(OFFSET($G$84,MATCH(\"Fuel Oil Fired Heater\",$G$85,0),2),0))),((IFERROR(OFFSET($G$99,MATCH(\"Fuel Oil Fired Heater\",$G$100,0),2),0))),((IFERROR(OFFSET($G$114,MATCH(\"Fuel Oil Fired Heater\",$G$115,0),2),0))),((IFERROR(OFFSET($G$129,MATCH(\"Fuel Oil Fired Heater\",$G$130,0),2),0))),((IFERROR(OFFSET($G$144,MATCH(\"Fuel Oil Fired Heater\",$G$145,0),2),0))),((IFERROR(OFFSET($G$159,MATCH(\"Fuel Oil Fired Heater\",$G$160,0),2),0))))","v":0},"gallons/yr"]
[null,"Plant Specific Operating Limits:",null,null,"Plant Specific Emission Limits:",null,null,null,null,null,null,null,"Waste Oil Fired Heater",{"$f":"MAX((IFERROR(OFFSET($G$24,MATCH(\"waste oil Fired Heater\",$G$25,0),1),0)),((IFERROR(OFFSET($G$39,MATCH(\"waste oil Fired Heater\",$G$40,0),1),0))),((IFERROR(OFFSET($G$54,MATCH(\"waste oil Fired Heater\",$G$55,0),1),0))),((IFERROR(OFFSET($G$69,MATCH(\"waste oil Fired Heater\",$G$70,0),1),0))),((IFERROR(OFFSET($G$84,MATCH(\"waste oil Fired Heater\",$G$85,0),1),0))),((IFERROR(OFFSET($G$99,MATCH(\"waste oil Fired Heater\",$G$100,0),1),0))),((IFERROR(OFFSET($G$114,MATCH(\"waste oil Fired Heater\",$G$115,0),1),0))),((IFERROR(OFFSET($G$129,MATCH(\"waste oil Fired Heater\",$G$130,0),1),0))),((IFERROR(OFFSET($G$144,MATCH(\"waste oil Fired Heater\",$G$145,0),1),0))),((IFERROR(OFFSET($G$159,MATCH(\"waste oil Fired Heater\",$G$160,0),1),0))))","v":0},"gallons/hr",{"$f":"SUM((IFERROR(OFFSET($G$24,MATCH(\"waste oil Fired Heater\",$G$25,0),2),0)),((IFERROR(OFFSET($G$39,MATCH(\"waste oil Fired Heater\",$G$40,0),2),0))),((IFERROR(OFFSET($G$54,MATCH(\"waste oil Fired Heater\",$G$55,0),2),0))),((IFERROR(OFFSET($G$69,MATCH(\"waste oil Fired Heater\",$G$70,0),2),0))),((IFERROR(OFFSET($G$84,MATCH(\"waste oil Fired Heater\",$G$85,0),2),0))),((IFERROR(OFFSET($G$99,MATCH(\"waste oil Fired Heater\",$G$100,0),2),0))),((IFERROR(OFFSET($G$114,MATCH(\"waste oil Fired Heater\",$G$115,0),2),0))),((IFERROR(OFFSET($G$129,MATCH(\"waste oil Fired Heater\",$G$130,0),2),0))),((IFERROR(OFFSET($G$144,MATCH(\"waste oil Fired Heater\",$G$145,0),2),0))),((IFERROR(OFFSET($G$159,MATCH(\"waste oil Fired Heater\",$G$160,0),2),0))))","v":0},"gallons/yr"]
[null,"Throughput Limit (tons/yr):",null,null,"Pollutant","lb/hr","tons/yr",null,null,null,null,null,"Natural Gas Fired Heater",{"$f":"MAX((IFERROR(OFFSET($G$24,MATCH(\"Natural Gas Fired Heater\",$G$25,0),1),0)),((IFERROR(OFFSET($G$39,MATCH(\"Natural Gas Fired Heater\",$G$40,0),1),0))),((IFERROR(OFFSET($G$54,MATCH(\"Natural Gas Fired Heater\",$G$55,0),1),0))),((IFERROR(OFFSET($G$69,MATCH(\"Natural Gas Fired Heater\",$G$70,0),1),0))),((IFERROR(OFFSET($G$84,MATCH(\"Natural Gas Fired Heater\",$G$85,0),1),0))),((IFERROR(OFFSET($G$99,MATCH(\"Natural Gas Fired Heater\",$G$100,0),1),0))),((IFERROR(OFFSET($G$114,MATCH(\"Natural Gas Fired Heater\",$G$115,0),1),0))),((IFERROR(OFFSET($G$129,MATCH(\"Natural Gas Fired Heater\",$G$130,0),1),0))),((IFERROR(OFFSET($G$144,MATCH(\"Natural Gas Fired Heater\",$G$145,0),1),0))),((IFERROR(OFFSET($G$159,MATCH(\"Natural Gas Fired Heater\",$G$160,0),1),0))))","v":0},"MMCF/hr",{"$f":"SUM((IFERROR(OFFSET($G$24,MATCH(\"Natural Gas Fired Heater\",$G$25,0),2),0)),((IFERROR(OFFSET($G$39,MATCH(\"Natural Gas Fired Heater\",$G$40,0),2),0))),((IFERROR(OFFSET($G$54,MATCH(\"Natural Gas Fired Heater\",$G$55,0),2),0))),((IFERROR(OFFSET($G$69,MATCH(\"Natural Gas Fired Heater\",$G$70,0),2),0))),((IFERROR(OFFSET($G$84,MATCH(\"Natural Gas Fired Heater\",$G$85,0),2),0))),((IFERROR(OFFSET($G$99,MATCH(\"Natural Gas Fired Heater\",$G$100,0),2),0))),((IFERROR(OFFSET($G$114,MATCH(\"Natural Gas Fired Heater\",$G$115,0),2),0))),((IFERROR(OFFSET($G$129,MATCH(\"Natural Gas Fired Heater\",$G$130,0),2),0))),((IFERROR(OFFSET($G$144,MATCH(\"Natural Gas Fired Heater\",$G$145,0),2),0))),((IFERROR(OFFSET($G$159,MATCH(\"Natural Gas Fired Heater\",$G$160,0),2),0))))","v":0},"MMCF/yr"]
[null,"Daily Throughput Limit (tons/day):",null,null,"PM2.5",null,null,null,null,null,null,null,"Silo Filling",{"$f":"MAX((IFERROR(OFFSET($G$26,MATCH(\"Silo Filling\",$G$27,0),1),0)),((IFERROR(OFFSET($G$41,MATCH(\"Silo Filling\",$G$42,0),1),0))),((IFERROR(OFFSET($G$56,MATCH(\"Silo Filling\",$G$57,0),1),0))),((IFERROR(OFFSET($G$71,MATCH(\"Silo Filling\",$G$72,0),1),0))),((IFERROR(OFFSET($G$86,MATCH(\"Silo Filling\",$G$87,0),1),0))),((IFERROR(OFFSET($G$101,MATCH(\"Silo Filling\",$G$102,0),1),0))),((IFERROR(OFFSET($G$116,MATCH(\"Silo Filling\",$G$117,0),1),0))),((IFERROR(OFFSET($G$131,MATCH(\"Silo Filling\",$G$132,0),1),0))),((IFERROR(OFFSET($G$146,MATCH(\"Silo Filling\",$G$147,0),1),0))),((IFERROR(OFFSET($G$161,MATCH(\"Silo Filling\",$G$162,0),1),0))))","v":0},"tons/hr",{"$f":"SUM((IFERROR(OFFSET($G$26,MATCH(\"Silo Filling\",$G$27,0),2),0)),((IFERROR(OFFSET($G$41,MATCH(\"Silo Filling\",$G$42,0),2),0))),((IFERROR(OFFSET($G$56,MATCH(\"Silo Filling\",$G$57,0),2),0))),((IFERROR(OFFSET($G$71,MATCH(\"Silo Filling\",$G$72,0),2),0))),((IFERROR(OFFSET($G$86,MATCH(\"Silo Filling\",$G$87,0),2),0))),((IFERROR(OFFSET($G$101,MATCH(\"Silo Filling\",$G$102,0),2),0))),((IFERROR(OFFSET($G$116,MATCH(\"Silo Filling\",$G$117,0),2),0))),((IFERROR(OFFSET($G$131,MATCH(\"Silo Filling\",$G$132,0),2),0))),((IFERROR(OFFSET($G$146,MATCH(\"Silo Filling\",$G$147,0),2),0))),((IFERROR(OFFSET($G$161,MATCH(\"Silo Filling\",$G$162,0),2),0))))","v":0},"tons/yr"]
[null,"Hours of Operation Limit (hours/day):",null,null,"PM10",null,null,null,null,null,null,null,"Truck Loadout",{"$f":"MAX((IFERROR(OFFSET(G27,MATCH(\"Truck Loadout\",G28,0),1),0)),((IFERROR(OFFSET(G42,MATCH(\"Truck Loadout\",G43,0),1),0))),((IFERROR(OFFSET(G57,MATCH(\"Truck Loadout\",G58,0),1),0))),((IFERROR(OFFSET(G72,MATCH(\"Truck Loadout\",G73,0),1),0))),((IFERROR(OFFSET(G87,MATCH(\"Truck Loadout\",G88,0),1),0))),((IFERROR(OFFSET(G102,MATCH(\"Truck Loadout\",G103,0),1),0))),((IFERROR(OFFSET(G117,MATCH(\"Truck Loadout\",G118,0),1),0))),((IFERROR(OFFSET(G132,MATCH(\"Truck Loadout\",G133,0),1),0))),((IFERROR(OFFSET(G147,MATCH(\"Truck Loadout\",G148,0),1),0))),((IFERROR(OFFSET(G162,MATCH(\"Truck Loadout\",G163,0),1),0))))","v":0},"tons/hr",{"$f":"SUM((IFERROR(OFFSET(G27,MATCH(\"Truck Loadout\",G28,0),2),0)),((IFERROR(OFFSET(G42,MATCH(\"Truck Loadout\",G43,0),2),0))),((IFERROR(OFFSET(G57,MATCH(\"Truck Loadout\",G58,0),2),0))),((IFERROR(OFFSET(G72,MATCH(\"Truck Loadout\",G73,0),2),0))),((IFERROR(OFFSET(G87,MATCH(\"Truck Loadout\",G88,0),2),0))),((IFERROR(OFFSET(G102,MATCH(\"Truck Loadout\",G103,0),2),0))),((IFERROR(OFFSET(G117,MATCH(\"Truck Loadout\",G118,0),2),0))),((IFERROR(OFFSET(G132,MATCH(\"Truck Loadout\",G133,0),2),0))),((IFERROR(OFFSET(G147,MATCH(\"Truck Loadout\",G148,0),2),0))),((IFERROR(OFFSET(G162,MATCH(\"Truck Loadout\",G163,0),2),0))))","v":0},"tons/yr"]
["Fuel Oil","Note: if the plant has an hrs/day and a tons/hr permit limit, those values should be multiplied together to calculate a tons/day limit and that value should be placed in cell C11.",null,null,"SO2",null,null,null,null,null,null,null,"Cold Aggregate Bins",{"$f":"MAX((IFERROR(OFFSET(G28,MATCH(\"Cold Aggregate Bins\",G29,0),1),0)),((IFERROR(OFFSET(G43,MATCH(\"Cold Aggregate Bins\",G44,0),1),0))),((IFERROR(OFFSET(G58,MATCH(\"Cold Aggregate Bins\",G59,0),1),0))),((IFERROR(OFFSET(G73,MATCH(\"Cold Aggregate Bins\",G74,0),1),0))),((IFERROR(OFFSET(G88,MATCH(\"Cold Aggregate Bins\",G89,0),1),0))),((IFERROR(OFFSET(G103,MATCH(\"Cold Aggregate Bins\",G104,0),1),0))),((IFERROR(OFFSET(G118,MATCH(\"Cold Aggregate Bins\",G119,0),1),0))),((IFERROR(OFFSET(G133,MATCH(\"Cold Aggregate Bins\",G134,0),1),0))),((IFERROR(OFFSET(G148,MATCH(\"Cold Aggregate Bins\",G149,0),1),0))),((IFERROR(OFFSET(G163,MATCH(\"Cold Aggregate Bins\",G164,0),1),0))))","v":0},"tons/hr",{"$f":"SUM((IFERROR(OFFSET(G28,MATCH(\"Cold Aggregate Bins\",G29,0),2),0)),((IFERROR(OFFSET(G43,MATCH(\"Cold Aggregate Bins\",G44,0),2),0))),((IFERROR(OFFSET(G58,MATCH(\"Cold Aggregate Bins\",G59,0),2),0))),((IFERROR(OFFSET(G73,MATCH(\"Cold Aggregate Bins\",G74,0),2),0))),((IFERROR(OFFSET(G88,MATCH(\"Cold Aggregate Bins\",G89,0),2),0))),((IFERROR(OFFSET(G103,MATCH(\"Cold Aggregate Bins\",G104,0),2),0))),((IFERROR(OFFSET(G118,MATCH(\"Cold Aggregate Bins\",G119,0),2),0))),((IFERROR(OFFSET(G133,MATCH(\"Cold Aggregate Bins\",G134,0),2),0))),((IFERROR(OFFSET(G148,MATCH(\"Cold Aggregate Bins\",G149,0),2),0))),((IFERROR(OFFSET(G163,MATCH(\"Cold Aggregate Bins\",G164,0),2),0))))","v":0},"tons/yr"]
["Natural Gas",null,null,null,"NOx",null,null,null,null,null,null,null,null,"Maximum (acres)","Actual (acres-day/yr)"]
["Waste Oil",null,null,null,"VOC",null,null,null,null,null,null,null,"Storage Pile",{"$f":"SUM(G33,G48,G63,G78,G93,G108,G123,G138,G153,G168,)","v":0},{"$f":"SUM(H33*I33,H48*I48,H63*I63,H78*I78,H93*I93,H108*I108,H123*I123,H138*I138,H153*I153,H168*I168)","v":0}]
[null,null,null,null,"CO"]
["Batch Mix Plant"]
["Drum Mix Plant",null,null,null,null,null,null,null,null,null,null,null,"Potential and Actual Emissions for the Listed Processes at this Plant"]
[null,null,null,null,null,null,null,null,null,null,null,null,null,"Maximum Design Rate (tons/hr)","Emission Factor","Units","Potential Uncontrolled Emissions (lb/hr)","Potential Controlled Emissions (lb/hr)","Potential Annual Emissions (tons/yr)","Actual Annual Emissions (tons/yr)"]
[null,"Asphalt Plant","Site 1",null,"Emission Point #","Emission     Unit #","Processes","Maximum Hourly     Design Rate",{"$f":"('Facility Information'!G5&\" Annual Throughput\")","v":" Annual Throughput"},null,null,null,"PM2.5"]
["YES",null,null,null,null,null,null,null,null,null,null,null,{"$f":"$C$5 & \" - Fuel Oil\"","v":" - Fuel Oil"},{"$f":"N5","v":0},{"$f":"IF(N21=0,0,IF(MAX((IFERROR(OFFSET($G$22,MATCH(M21,$G$23,0),3),0)),((IFERROR(OFFSET($G$37,MATCH(M21,$G$38,0),3),0))),((IFERROR(OFFSET($G$52,MATCH(M21,$G$53,0),3),0))),((IFERROR(OFFSET($G$67,MATCH(M21,$G$68,0),3),0))),((IFERROR(OFFSET($G$82,MATCH(M21,$G$83,0),3),0))),((IFERROR(OFFSET($G$97,MATCH(M21,$G$98,0),3),0))),((IFERROR(OFFSET($G$112,MATCH(M21,$G$113,0),3),0))),((IFERROR(OFFSET($G$127,MATCH(M21,$G$128,0),3),0))),((IFERROR(OFFSET($G$142,MATCH(M21,$G$143,0),3),0))),((IFERROR(OFFSET($G$157,MATCH(M21,$G$158,0),3),0))))=0,0,(MAX((IFERROR(OFFSET($G$22,MATCH(M21,$G$23,0),3),0)),((IFERROR(OFFSET($G$37,MATCH(M21,$G$38,0),3),0))),((IFERROR(OFFSET($G$52,MATCH(M21,$G$53,0),3),0))),((IFERROR(OFFSET($G$67,MATCH(M21,$G$68,0),3),0))),((IFERROR(OFFSET($G$82,MATCH(M21,$G$83,0),3),0))),((IFERROR(OFFSET($G$97,MATCH(M21,$G$98,0),3),0))),((IFERROR(OFFSET($G$112,MATCH(M21,$G$113,0),3),0))),((IFERROR(OFFSET($G$127,MATCH(M21,$G$128,0),3),0))),((IFERROR(OFFSET($G$142,MATCH(M21,$G$143,0),3),0))),((IFERROR(OFFSET($G$157,MATCH(M21,$G$158,0),3),0)))))))","v":0},{"$f":"IF(O21=\"\",\"\",\"lb/ton\")","v":"lb/ton"},{"$f":"IF(O21=0.27,N21*O21,IF(O21=1.54,N21*O21,\"\"))","v":""},{"$f":"IF(N21=0,\"\",IF(AND($F$11>0,$O$21>=$O$22,$O$21>=$O$23),$F$11,IF(O21=0.0083,N21*O21,IF(O21=0.007,N21*O21,\"\"))))","v":""},{"$f":"IF(N21=0,0,IF($G$11>0,$G$11,IF(AND(OR($C$10>0,$C$11>0,$C$12>0),$O$21>=$O$22,$O$21>=$O$23),(IF($C$10>0,$C$10*O21/2000,IF($C$11>0,$C$11*365*O21/2000,IF($C$12>0,$C$12*365*O21*N21/2000)))),IF(AND($F$11>0,$O$21>=$O$22,$O$21>=$O$23),$F$11*8760/2000,IF(AND(OR($C$10=\"\",$C$10=0),OR($C$11=\"\",$C$11=0),OR($C$12=\"\",$C$12=0),$F$11=\"\"),IF(R21=\"\",Q21*8760/2000,R21*8760/2000),\"\")))))","v":0},{"$f":"IF(N21=\"\",\"\",SUM((IFERROR(MATCH(M21,$G$23,0)*$I$23*$J$23/2000,0)),(IFERROR(MATCH(M21,$G$38,0)*$I$38*$J$38/2000,0)),(IFERROR(MATCH(M21,$G$53,0)*$I$53*$J$53/2000,0)),(IFERROR(MATCH(M21,$G$68,0)*$I$68*$J$68/2000,0)),(IFERROR(MATCH(M21,$G$83,0)*$I$83*$J$83/2000,0)),(IFERROR(MATCH(M21,$G$98,0)*$I$98*$J$98/2000,0)),(IFERROR(MATCH(M21,$G$113,0)*$I$113*$J$113/2000,0)),(IFERROR(MATCH(M21,$G$128,0)*$I$128*$J$128/2000,0)),(IFERROR(MATCH(M21,$G$143,0)*$I$143*$J$143/2000,0)),(IFERROR(MATCH(M21,$G$158,0)*$I$158*$J$158/2000,0))))","v":0}]
["NO","Site Name:",null,null,"Dryer, Hot Screens, Mixer",null,null,"(tons/hr)","(tons/yr)","PM2.5","PM10",null,{"$f":"$C$5 & \" - Waste Oil\"","v":" - Waste Oil"},{"$f":"N6","v":0},{"$f":"IF(N22=0,0,IF(MAX((IFERROR(OFFSET($G$22,MATCH(M22,$G$23,0),3),0)),((IFERROR(OFFSET($G$37,MATCH(M22,$G$38,0),3),0))),((IFERROR(OFFSET($G$52,MATCH(M22,$G$53,0),3),0))),((IFERROR(OFFSET($G$67,MATCH(M22,$G$68,0),3),0))),((IFERROR(OFFSET($G$82,MATCH(M22,$G$83,0),3),0))),((IFERROR(OFFSET($G$97,MATCH(M22,$G$98,0),3),0))),((IFERROR(OFFSET($G$112,MATCH(M22,$G$113,0),3),0))),((IFERROR(OFFSET($G$127,MATCH(M22,$G$128,0),3),0))),((IFERROR(OFFSET($G$142,MATCH(M22,$G$143,0),3),0))),((IFERROR(OFFSET($G$157,MATCH(M22,$G$158,0),3),0))))=0,0,(MAX((IFERROR(OFFSET($G$22,MATCH(M22,$G$23,0),3),0)),((IFERROR(OFFSET($G$37,MATCH(M22,$G$38,0),3),0))),((IFERROR(OFFSET($G$52,MATCH(M22,$G$53,0),3),0))),((IFERROR(OFFSET($G$67,MATCH(M22,$G$68,0),3),0))),((IFERROR(OFFSET($G$82,MATCH(M22,$G$83,0),3),0))),((IFERROR(OFFSET($G$97,MATCH(M22,$G$98,0),3),0))),((IFERROR(OFFSET($G$112,MATCH(M22,$G$113,0),3),0))),((IFERROR(OFFSET($G$127,MATCH(M22,$G$128,0),3),0))),((IFERROR(OFFSET($G$142,MATCH(M22,$G$143,0),3),0))),((IFERROR(OFFSET($G$157,MATCH(M22,$G$158,0),3),0)))))))","v":0},"lb/ton",{"$f":"IF(O22=0.27,N22*O22,IF(O22=1.54,N22*O22,\"\"))","v":""},{"$f":"IF(N22=0,\"\",IF(AND($F$11>0,$O$22>$O$21,$O$22>=$O$23),$F$11,IF(O22=0.0083,N22*O22,IF(O22=0.007,N22*O22,\"\"))))","v":""},{"$f":"IF(N22=0,0,IF($G$11>0,IF(S21=0,G11,\"\"),IF(AND(OR($C$10>0,$C$11>0,$C$12>0),$O$22>$O$21,$O$22>=$O$23),(IF($C$10>0,$C$10*O22/2000,IF($C$11>0,$C$11*365*O22/2000,IF($C$12>0,$C$12*365*O22*N22/2000)))),IF(AND($F$11>0,$O$22>$O$21,$O$22>=$O$23),$F$11*8760/2000,IF(AND(OR($C$10=\"\",$C$10=0),OR($C$11=\"\",$C$11=0),OR($C$12=\"\",$C$12=0),$F$11=\"\"),IF(R22=\"\",Q22*8760/2000,R22*8760/2000),\"\")))))","v":0},{"$f":"IF(N22=\"\",\"\",SUM((IFERROR(MATCH(M22,$G$23,0)*$I$23*$J$23/2000,0)),(IFERROR(MATCH(M22,$G$38,0)*$I$38*$J$38/2000,0)),(IFERROR(MATCH(M22,$G$53,0)*$I$53*$J$53/2000,0)),(IFERROR(MATCH(M22,$G$68,0)*$I$68*$J$68/2000,0)),(IFERROR(MATCH(M22,$G$83,0)*$I$83*$J$83/2000,0)),(IFERROR(MATCH(M22,$G$98,0)*$I$98*$J$98/2000,0)),(IFERROR(MATCH(M22,$G$113,0)*$I$113*$J$113/2000,0)),(IFERROR(MATCH(M22,$G$128,0)*$I$128*$J$128/2000,0)),(IFERROR(MATCH(M22,$G$143,0)*$I$143*$J$143/2000,0)),(IFERROR(MATCH(M22,$G$158,0)*$I$158*$J$158/2000,0))))","v":0}]
[null,"County:",null,null,{"$f":"IF($C$4>0,\"AP-7 EP-1\",\"\")","v":""},{"$f":"IF($C$4>0,\"AP-7 EU-1\",\"\")","v":""},{"$f":"IF(C25=\"\",\"\",C5 & \" - \"&C25)","v":""},null,null,{"$f":"IF(C26=\"\",\"\",IF(C26=\"yes\",LOOKUP(G23,'Emission Factors'!$A$12:$A$17,'Emission Factors'!$D$12:$D$17),LOOKUP(G23,'Emission Factors'!$A$5:$A$10,'Emission Factors'!$D$5:$D$10)))","v":""},{"$f":"IF(C26=\"\",\"\",IF(C26=\"yes\",LOOKUP(G23,'Emission Factors'!$A$12:$A$17,'Emission Factors'!$F$12:$F$17),LOOKUP(G23,'Emission Factors'!$A$5:$A$10,'Emission Factors'!$F$5:$F$10)))","v":""},null,{"$f":"$C$5 & \" - Natural Gas\"","v":" - Natural Gas"},{"$f":"N7","v":0},{"$f":"IF(N23=0,0,IF(MAX((IFERROR(OFFSET($G$22,MATCH(M23,$G$23,0),3),0)),((IFERROR(OFFSET($G$37,MATCH(M23,$G$38,0),3),0))),((IFERROR(OFFSET($G$52,MATCH(M23,$G$53,0),3),0))),((IFERROR(OFFSET($G$67,MATCH(M23,$G$68,0),3),0))),((IFERROR(OFFSET($G$82,MATCH(M23,$G$83,0),3),0))),((IFERROR(OFFSET($G$97,MATCH(M23,$G$98,0),3),0))),((IFERROR(OFFSET($G$112,MATCH(M23,$G$113,0),3),0))),((IFERROR(OFFSET($G$127,MATCH(M23,$G$128,0),3),0))),((IFERROR(OFFSET($G$142,MATCH(M23,$G$143,0),3),0))),((IFERROR(OFFSET($G$157,MATCH(M23,$G$158,0),3),0))))=0,0,(MAX((IFERROR(OFFSET($G$22,MATCH(M23,$G$23,0),3),0)),((IFERROR(OFFSET($G$37,MATCH(M23,$G$38,0),3),0))),((IFERROR(OFFSET($G$52,MATCH(M23,$G$53,0),3),0))),((IFERROR(OFFSET($G$67,MATCH(M23,$G$68,0),3),0))),((IFERROR(OFFSET($G$82,MATCH(M23,$G$83,0),3),0))),((IFERROR(OFFSET($G$97,MATCH(M23,$G$98,0),3),0))),((IFERROR(OFFSET($G$112,MATCH(M23,$G$113,0),3),0))),((IFERROR(OFFSET($G$127,MATCH(M23,$G$128,0),3),0))),((IFERROR(OFFSET($G$142,MATCH(M23,$G$143,0),3),0))),((IFERROR(OFFSET($G$157,MATCH(M23,$G$158,0),3),0)))))))","v":0},"lb/ton",{"$f":"IF(O23=0.27,N23*O23,IF(O23=1.54,N23*O23,\"\"))","v":""},{"$f":"IF(N23=0,\"\",IF(AND($F$11>0,$O$23>$O$21,$O$23>$O$21),$F$11,IF(O23=0.0083,N23*O23,IF(O23=0.007,N23*O23,\"\"))))","v":""},{"$f":"IF(N23=0,0,IF($G$11>0,IF(AND(S21=0,S22=0),\"\"),IF(AND(OR($C$10>0,$C$11>0,$C$12>0),$O$23>$O$21,$O$23>$O$21),(IF($C$10>0,$C$10*O23/2000,IF($C$11>0,$C$11*365*O23/2000,IF($C$12>0,$C$12*365*O23*N23/2000)))),IF(AND($F$11>0,$O$23>$O$21,$O$23>$O$21),$F$11*8760/2000,IF(AND(OR($C$10=\"\",$C$10=0),OR($C$11=\"\",$C$11=0),OR($C$12=\"\",$C$12=0),$F$11=\"\"),IF(R23=\"\",Q23*8760/2000,R23*8760/2000),\"\")))))","v":0},{"$f":"IF(N23=\"\",\"\",SUM((IFERROR(MATCH(M23,$G$23,0)*$I$23*$J$23/2000,0)),(IFERROR(MATCH(M23,$G$38,0)*$I$38*$J$38/2000,0)),(IFERROR(MATCH(M23,$G$53,0)*$I$53*$J$53/2000,0)),(IFERROR(MATCH(M23,$G$68,0)*$I$68*$J$68/2000,0)),(IFERROR(MATCH(M23,$G$83,0)*$I$83*$J$83/2000,0)),(IFERROR(MATCH(M23,$G$98,0)*$I$98*$J$98/2000,0)),(IFERROR(MATCH(M23,$G$113,0)*$I$113*$J$113/2000,0)),(IFERROR(MATCH(M23,$G$128,0)*$I$128*$J$128/2000,0)),(IFERROR(MATCH(M23,$G$143,0)*$I$143*$J$143/2000,0)),(IFERROR(MATCH(M23,$G$158,0)*$I$158*$J$158/2000,0))))","v":0}]
[null,"Production Period (Dates):",null,null,"Liquid Asphalt Heater",null,null,{"$f":"IF(C25=\"natural gas\", \"(MMCF/hr)\",\"(gallons/hr)\")","v":"(gallons/hr)"},{"$f":"IF(C25=\"natural gas\", \"(MMCF/yr)\",\"(gallons/yr)\")","v":"(gallons/yr)"},null,null,null,"Silo Filling",{"$f":"N11","v":0},{"$f":"IF(N24=0,0,IF(N24=0,0,LOOKUP(M24,'Emission Factors'!$A$23:$A$25,'Emission Factors'!$D$23:$D$25)))","v":0},"lb/ton",{"$f":"N24*O24","v":0},null,{"$f":"IF($G$11>0,\"\",IF($C$10>0,$C$10*O24/2000,IF($C$11>0,$C$11*365*O24/2000,IF($C$12>0,$C$12*365*O24*N24/2000,IF($F$11>0,\"\",IF(R24=\"\",Q24*8760/2000,R24*8760/2000))))))","v":0},{"$f":"(P11*O24/2000)","v":0}]
[null,"Type of Fuel Used:",null,null,{"$f":"IF($C$4>0,\"AP-7 EP-2\",\"\")","v":""},{"$f":"IF($C$4>0,\"AP-7 EU-2\",\"\")","v":""},{"$f":"IF(C25=\"\",\"\",C25& \" Fired Heater\")","v":""},null,null,null,null,null,"Truck Loadout",{"$f":"N12","v":0},{"$f":"IF(N25=0,0,IF(N25=0,0,LOOKUP(M25,'Emission Factors'!$A$23:$A$25,'Emission Factors'!$D$23:$D$25)))","v":0},"lb/ton",{"$f":"N25*O25","v":0},null,{"$f":"IF($G$11>0,\"\",IF($C$10>0,$C$10*O25/2000,IF($C$11>0,$C$11*365*O25/2000,IF($C$12>0,$C$12*365*O25*N25/2000,IF($F$11>0,\"\",IF(R25=\"\",Q25*8760/2000,R25*8760/2000))))))","v":0},{"$f":"(P12*O25/2000)","v":0}]
[null,"Is Your Operation Controlled?:",null,null,"Silo Filling, Truck Loadout, Aggregate Transfer",null,null,"(tons/hr)","(tons/yr)",null,null,null,"Cold Aggregate Bins",{"$f":"N13","v":0},{"$f":"IF(N26=0,0,IF(N26=0,0,LOOKUP(M26,'Emission Factors'!A23:A25,'Emission Factors'!D23:D25)))","v":0},"lb/ton",{"$f":"N26*O26","v":0},null,{"$f":"IF($G$11>0,\"\",IF($C$10>0,$C$10*O26/2000,IF($C$11>0,$C$11*365*O26/2000,IF($C$12>0,$C$12*365*O26*N26/2000,IF($F$11>0,\"\",IF(R26=\"\",Q26*8760/2000,R26*8760/2000))))))","v":0},{"$f":"(P13*O26/2000)","v":0}]
[null,null,null,null,{"$f":"IF($C$4>0,\"AP-7 EP-3\",\"\")","v":""},{"$f":"IF($C$4>0,\"AP-7 EU-3\",\"\")","v":""},{"$f":"IF(C5=\"\",\"\",\"Silo Filling\")","v":""},null,null,null,null,null,"PM10"]
[null,null,null,null,{"$f":"IF($C$4>0,\"AP-7 EP-3\",\"\")","v":""},{"$f":"IF($C$4>0,\"AP-7 EU-4\",\"\")","v":""},{"$f":"IF(C5=\"\",\"\",\"Truck Loadout\")","v":""},null,null,null,null,null,{"$f":"$C$5 & \" - Fuel Oil\"","v":" - Fuel Oil"},{"$f":"N5","v":0},{"$f":"IF(N28=0,0,IF(MAX((IFERROR(OFFSET($G$22,MATCH(M28,$G$23,0),4),0)),((IFERROR(OFFSET($G$37,MATCH(M28,$G$38,0),4),0))),((IFERROR(OFFSET($G$52,MATCH(M28,$G$53,0),4),0))),((IFERROR(OFFSET($G$67,MATCH(M28,$G$68,0),4),0))),((IFERROR(OFFSET($G$82,MATCH(M28,$G$83,0),3),0))),((IFERROR(OFFSET($G$97,MATCH(M28,$G$98,0),4),0))),((IFERROR(OFFSET($G$112,MATCH(M28,$G$113,0),4),0))),((IFERROR(OFFSET($G$127,MATCH(M28,$G$128,0),4),0))),((IFERROR(OFFSET($G$142,MATCH(M28,$G$143,0),4),0))),((IFERROR(OFFSET($G$157,MATCH(M28,$G$158,0),4),0))))=0,0,(MAX((IFERROR(OFFSET($G$22,MATCH(M28,$G$23,0),4),0)),((IFERROR(OFFSET($G$37,MATCH(M28,$G$38,0),4),0))),((IFERROR(OFFSET($G$52,MATCH(M28,$G$53,0),4),0))),((IFERROR(OFFSET($G$67,MATCH(M28,$G$68,0),4),0))),((IFERROR(OFFSET($G$82,MATCH(M28,$G$83,0),4),0))),((IFERROR(OFFSET($G$97,MATCH(M28,$G$98,0),4),0))),((IFERROR(OFFSET($G$112,MATCH(M28,$G$113,0),4),0))),((IFERROR(OFFSET($G$127,MATCH(M28,$G$128,0),4),0))),((IFERROR(OFFSET($G$142,MATCH(M28,$G$143,0),4),0))),((IFERROR(OFFSET($G$157,MATCH(M28,$G$158,0),4),0)))))))","v":0},{"$f":"IF(O28=\"\",\"\",\"lb/ton\")","v":"lb/ton"},{"$f":"IF(O28=4.5,N28*O28,IF(O28=6.5,N28*O28,\"\"))","v":""},{"$f":"IF(N28=0,\"\",IF(AND($F$12>0,$O$28>=$O$29,$O$28>=$O$30),$F$12,IF(O28=0.0098,N28*O28,IF(O28=0.023,N28*O28,\"\"))))","v":""},{"$f":"IF(N28=0,0,IF($G$12>0,$G$12,IF(AND(OR($C$10>0,$C$11>0,$C$12>0),$O$28>=$O$29,$O$28>=$O$30),(IF($C$10>0,$C$10*O28/2000,IF($C$11>0,$C$11*365*O28/2000,IF($C$12>0,$C$12*365*O28*N28/2000)))),IF(AND($F$12>0,$O$28>=$O$29,$O$28>=$O$30),$F$12*8760/2000,IF(AND(OR($C$10=\"\",$C$10=0),OR($C$11=\"\",$C$11=0),OR($C$12=\"\",$C$12=0),$F$12=\"\"),IF(R28=\"\",Q28*8760/2000,R28*8760/2000),\"\")))))","v":0},{"$f":"IF(N28=\"\",\"\",SUM((IFERROR(MATCH(M28,$G$23,0)*$I$23*$K$23/2000,0)),(IFERROR(MATCH(M28,$G$38,0)*$I$38*$K$38/2000,0)),(IFERROR(MATCH(M28,$G$53,0)*$I$53*$K$53/2000,0)),(IFERROR(MATCH(M28,$G$68,0)*$I$68*$K$68/2000,0)),(IFERROR(MATCH(M28,$G$83,0)*$I$83*$K$83/2000,0)),(IFERROR(MATCH(M28,$G$98,0)*$I$98*$K$98/2000,0)),(IFERROR(MATCH(M28,$G$113,0)*$I$113*$K$113/2000,0)),(IFERROR(MATCH(M28,$G$128,0)*$I$128*$K$128/2000,0)),(IFERROR(MATCH(M28,$G$143,0)*$I$143*$K$143/2000,0)),(IFERROR(MATCH(M28,$G$158,0)*$I$158*$K$158/2000,0))))","v":0}]
[null,null,null,null,{"$f":"IF($C$4>0,\"AP-7 EP-3\",\"\")","v":""},{"$f":"IF($C$4>0,\"AP-7 EU-5\",\"\")","v":""},{"$f":"IF(C5=\"\",\"\",\"Cold Aggregate Bins\")","v":""},null,null,null,null,null,{"$f":"$C$5 & \" - Waste Oil\"","v":" - Waste Oil"},{"$f":"N6","v":0},{"$f":"IF(N29=0,0,IF(MAX((IFERROR(OFFSET($G$22,MATCH(M29,$G$23,0),4),0)),((IFERROR(OFFSET($G$37,MATCH(M29,$G$38,0),4),0))),((IFERROR(OFFSET($G$52,MATCH(M29,$G$53,0),4),0))),((IFERROR(OFFSET($G$67,MATCH(M29,$G$68,0),4),0))),((IFERROR(OFFSET($G$82,MATCH(M29,$G$83,0),3),0))),((IFERROR(OFFSET($G$97,MATCH(M29,$G$98,0),4),0))),((IFERROR(OFFSET($G$112,MATCH(M29,$G$113,0),4),0))),((IFERROR(OFFSET($G$127,MATCH(M29,$G$128,0),4),0))),((IFERROR(OFFSET($G$142,MATCH(M29,$G$143,0),4),0))),((IFERROR(OFFSET($G$157,MATCH(M29,$G$158,0),4),0))))=0,0,(MAX((IFERROR(OFFSET($G$22,MATCH(M29,$G$23,0),4),0)),((IFERROR(OFFSET($G$37,MATCH(M29,$G$38,0),4),0))),((IFERROR(OFFSET($G$52,MATCH(M29,$G$53,0),4),0))),((IFERROR(OFFSET($G$67,MATCH(M29,$G$68,0),4),0))),((IFERROR(OFFSET($G$82,MATCH(M29,$G$83,0),4),0))),((IFERROR(OFFSET($G$97,MATCH(M29,$G$98,0),4),0))),((IFERROR(OFFSET($G$112,MATCH(M29,$G$113,0),4),0))),((IFERROR(OFFSET($G$127,MATCH(M29,$G$128,0),4),0))),((IFERROR(OFFSET($G$142,MATCH(M29,$G$143,0),4),0))),((IFERROR(OFFSET($G$157,MATCH(M29,$G$158,0),4),0)))))))","v":0},"lb/ton",{"$f":"IF(O29=4.5,N29*O29,IF(O29=6.5,N29*O29,\"\"))","v":""},{"$f":"IF(N29=0,\"\",IF(AND($F$12>0,$O$29>$O$28,$O$29>=$O$30),$F$12,IF(O29=0.0098,N29*O29,IF(O29=0.023,N29*O29,\"\"))))","v":""},{"$f":"IF(N29=0,0,IF($G$12>0,IF(S28=0,$G$12,\"\"),IF(AND(OR($C$10>0,$C$11>0,$C$12>0),$O$29>$O$28,$O$29>=$O$30),(IF($C$10>0,$C$10*O29/2000,IF($C$11>0,$C$11*365*O29/2000,IF($C$12>0,$C$12*365*O29*N29/2000)))),IF(AND($F$12>0,$O$29>$O$28,$O$29>=$O$30),$F$12*8760/2000,IF(AND(OR($C$10=\"\",$C$10=0),OR($C$11=\"\",$C$11=0),OR($C$12=\"\",$C$12=0),$F$12=\"\"),IF(R29=\"\",Q29*8760/2000,R29*8760/2000),\"\")))))","v":0},{"$f":"IF(N29=\"\",\"\",SUM((IFERROR(MATCH(M29,$G$23,0)*$I$23*$K$23/2000,0)),(IFERROR(MATCH(M29,$G$38,0)*$I$38*$K$38/2000,0)),(IFERROR(MATCH(M29,$G$53,0)*$I$53*$K$53/2000,0)),(IFERROR(MATCH(M29,$G$68,0)*$I$68*$K$68/2000,0)),(IFERROR(MATCH(M29,$G$83,0)*$I$83*$K$83/2000,0)),(IFERROR(MATCH(M29,$G$98,0)*$I$98*$K$98/2000,0)),(IFERROR(MATCH(M29,$G$113,0)*$I$113*$K$113/2000,0)),(IFERROR(MATCH(M29,$G$128,0)*$I$128*$K$128/2000,0)),(IFERROR(MATCH(M29,$G$143,0)*$I$143*$K$143/2000,0)),(IFERROR(MATCH(M29,$G$158,0)*$I$158*$K$158/2000,0))))","v":0}]
[null,null,null,null,null,null,null,null,null,null,null,null,{"$f":"$C$5 & \" - Natural Gas\"","v":" - Natural Gas"},{"$f":"N7","v":0},{"$f":"IF(N30=0,0,IF(MAX((IFERROR(OFFSET($G$22,MATCH(M30,$G$23,0),4),0)),((IFERROR(OFFSET($G$37,MATCH(M30,$G$38,0),4),0))),((IFERROR(OFFSET($G$52,MATCH(M30,$G$53,0),4),0))),((IFERROR(OFFSET($G$67,MATCH(M30,$G$68,0),4),0))),((IFERROR(OFFSET($G$82,MATCH(M30,$G$83,0),3),0))),((IFERROR(OFFSET($G$97,MATCH(M30,$G$98,0),4),0))),((IFERROR(OFFSET($G$112,MATCH(M30,$G$113,0),4),0))),((IFERROR(OFFSET($G$127,MATCH(M30,$G$128,0),4),0))),((IFERROR(OFFSET($G$142,MATCH(M30,$G$143,0),4),0))),((IFERROR(OFFSET($G$157,MATCH(M30,$G$158,0),4),0))))=0,0,(MAX((IFERROR(OFFSET($G$22,MATCH(M30,$G$23,0),4),0)),((IFERROR(OFFSET($G$37,MATCH(M30,$G$38,0),4),0))),((IFERROR(OFFSET($G$52,MATCH(M30,$G$53,0),4),0))),((IFERROR(OFFSET($G$67,MATCH(M30,$G$68,0),4),0))),((IFERROR(OFFSET($G$82,MATCH(M30,$G$83,0),4),0))),((IFERROR(OFFSET($G$97,MATCH(M30,$G$98,0),4),0))),((IFERROR(OFFSET($G$112,MATCH(M30,$G$113,0),4),0))),((IFERROR(OFFSET($G$127,MATCH(M30,$G$128,0),4),0))),((IFERROR(OFFSET($G$142,MATCH(M30,$G$143,0),4),0))),((IFERROR(OFFSET($G$157,MATCH(M30,$G$158,0),4),0)))))))","v":0},"lb/ton",{"$f":"IF(O30=4.5,N30*O30,IF(O30=6.5,N30*O30,\"\"))","v":""},{"$f":"IF(N30=0,\"\",IF(AND($F$12>0,$O$30>$O$28,$O$30>$O$29),$F$12,IF(O30=0.0098,N30*O30,IF(O30=0.023,N30*O30,\"\"))))","v":""},{"$f":"IF(N30=0,0,IF($G$12>0,IF(AND(S28=0,S29=0),$G$12,\"\"),IF(AND(OR($C$10>0,$C$11>0,$C$12>0),$O$30>$O$28,$O$30>$O$29),(IF($C$10>0,$C$10*O30/2000,IF($C$11>0,$C$11*365*O30/2000,IF($C$12>0,$C$12*365*O30*N30/2000)))),IF(AND($F$12>0,$O$30>$O$28,$O$30>$O$29),$F$12*8760/2000,IF(AND(OR($C$10=\"\",$C$10=0),OR($C$11=\"\",$C$11=0),OR($C$12=\"\",$C$12=0),$F$12=\"\"),IF(R30=\"\",Q30*8760/2000,R30*8760/2000),\"\")))))","v":0},{"$f":"IF(N30=\"\",\"\",SUM((IFERROR(MATCH(M30,$G$23,0)*$I$23*$K$23/2000,0)),(IFERROR(MATCH(M30,$G$38,0)*$I$38*$K$38/2000,0)),(IFERROR(MATCH(M30,$G$53,0)*$I$53*$K$53/2000,0)),(IFERROR(MATCH(M30,$G$68,0)*$I$68*$K$68/2000,0)),(IFERROR(MATCH(M30,$G$83,0)*$I$83*$K$83/2000,0)),(IFERROR(MATCH(M30,$G$98,0)*$I$98*$K$98/2000,0)),(IFERROR(MATCH(M30,$G$113,0)*$I$113*$K$113/2000,0)),(IFERROR(MATCH(M30,$G$128,0)*$I$128*$K$128/2000,0)),(IFERROR(MATCH(M30,$G$143,0)*$I$143*$K$143/2000,0)),(IFERROR(MATCH(M30,$G$158,0)*$I$158*$K$158/2000,0))))","v":0}]
[null,null,null,null,"Stock Pile Area",null,null,null,null,null,null,null,"Silo Filling",{"$f":"N11","v":0},{"$f":"IF(N31=0,0,IF(N31=0,0,LOOKUP(M31,'Emission Factors'!$A$23:$A$25,'Emission Factors'!$F$23:$F$25)))","v":0},"lb/ton",{"$f":"N31*O31","v":0},null,{"$f":"IF($G$12>0,\"\",IF($C$10>0,$C$10*O31/2000,IF($C$11>0,$C$11*365*O31/2000,IF($C$12>0,$C$12*365*O31*N31/2000,IF($F$11>0,\"\",IF(R31=\"\",Q31*8760/2000,R31*8760/2000))))))","v":0},{"$f":"(P11*O31/2000)","v":0}]
[null,null,null,null,null,"Emission Unit #","Maximum Storage Area (acres)","Actual Storage Area (acres)","Actual Days in Existence (days)",null,null,null,"Truck Loadout",{"$f":"N12","v":0},{"$f":"IF(N32=0,0,IF(N32=0,0,LOOKUP(M32,'Emission Factors'!$A$23:$A$25,'Emission Factors'!$F$23:$F$25)))","v":0},"lb/ton",{"$f":"N32*O32","v":0},null,{"$f":"IF($G$12>0,\"\",IF($C$10>0,$C$10*O32/2000,IF($C$11>0,$C$11*365*O32/2000,IF($C$12>0,$C$12*365*O32*N32/2000,IF($F$11>0,\"\",IF(R32=\"\",Q32*8760/2000,R32*8760/2000))))))","v":0},{"$f":"(P12*O32/2000)","v":0}]
[null,null,null,null,null,null,null,null,null,null,null,null,"Cold Aggregate Bins",{"$f":"N13","v":0},{"$f":"IF(N33=0,0,IF(N33=0,0,LOOKUP(M33,'Emission Factors'!$A$23:$A$25,'Emission Factors'!$F$23:$F$25)))","v":0},"lb/ton",{"$f":"N33*O33","v":0},null,{"$f":"IF($G$12>0,\"\",IF($C$10>0,$C$10*O33/2000,IF($C$11>0,$C$11*365*O33/2000,IF($C$12>0,$C$12*365*O33*N33/2000,IF($F$11>0,\"\",IF(R33=\"\",Q33*8760/2000,R33*8760/2000))))))","v":0},{"$f":"(P13*O33/2000)","v":0}]
[]
[null,{"$f":"IF($C$4>1,\"Asphalt Plant\",\"\")","v":""},{"$f":"IF($C$4>1,\"Site 2\",\"\")","v":""},null,{"$f":"IF($C$4>1,\"Emission Point #\",\"\")","v":""},{"$f":"IF($C$4>1,\"Emission    Unit #\",\"\")","v":""},{"$f":"IF($C$4>1,\"Process\",\"\")","v":""},{"$f":"IF($C$4>1,\"Maximum Hourly     Design Rate\",\"\")","v":""},{"$f":"IF($C$4>1,('Facility Information'!G20&\" Annual Throughput\"),\"\")","v":""},null,null,null,null,null,"Max Design Rate (acres)","Emission Factor   (lb/acre-day)","Potential Uncontrolled Emissions (lb/hr)","Potential Controlled Emissions (lb/hr)","Potential Annual Emissions (tons/yr)","Actual Annual Emissions (tons/yr)"]
[null,null,null,null,null,null,null,null,null,null,null,null,null,"Storage Pile"]
[null,{"$f":"IF($C$4>1,\"Site Name\",\"\")","v":""},null,null,{"$f":"IF($C$4>1,\"Dryers, Hot Screens, Mixer\",\"\")","v":""},null,null,{"$f":"IF($C$4>1,\"(tons/hr)\",\"\")","v":""},{"$f":"IF($C$4>1,\"(tons/yr)\",\"\")","v":""},"PM2.5","PM10",null,null,"PM2.5/PM10",{"$f":"N15","v":0},3.64,{"$f":"O37*P37*(1/24)","v":0},null,{"$f":"O37*P37*365/2000","v":0},{"$f":"O15*P37/2000","v":0}]
[null,{"$f":"IF($C$4>1,\"County:\",\"\")","v":""},null,null,{"$f":"IF(C40=\"\",\"\",\"AP-7 EP-1\")","v":""},{"$f":"IF(C40=\"\",\"\",\"AP-7 EU-1\")","v":""},{"$f":"IF(C40=\"\",\"\",C5 & \" - \"&C40)","v":""},null,null,{"$f":"IF(C41=\"\",\"\",IF(C41=\"yes\",LOOKUP(G38,'Emission Factors'!$A$12:$A$17,'Emission Factors'!$D$12:$D$17),LOOKUP(G38,'Emission Factors'!$A$5:$A$10,'Emission Factors'!$D$5:$D$10)))","v":""},{"$f":"IF(C41=\"\",\"\",IF(C41=\"yes\",LOOKUP(G38,'Emission Factors'!$A$12:$A$17,'Emission Factors'!$F$12:$F$17),LOOKUP(G38,'Emission Factors'!$A$5:$A$10,'Emission Factors'!$F$5:$F$10)))","v":""}]
[null,{"$f":"IF($C$4>1,\"Production Period (Dates):\",\"\")","v":""},null,null,{"$f":"IF($C$4>1,\"Liquid Asphalt Heater\",\"\")","v":""},null,null,{"$f":"IF($C$4>1,IF(C40=\"natural gas\",\"MMCF/hr\",\"(gallons/hr)\"),\"\")","v":""},{"$f":"IF($C$4>1,IF(C40=\"natural gas\",\"MMCF/yr\",\"(gallons/yr)\"),\"\")","v":""},null,null,null,"SO2"]
[null,{"$f":"IF($C$4>1,\"Type of Fuel Used:\",\"\")","v":""},null,null,{"$f":"IF(C40=\"\",\"\",\"AP-7 EP-2\")","v":""},{"$f":"IF(C40=\"\",\"\",\"AP-7 EU-2\")","v":""},{"$f":"IF(C40=\"\",\"\",C40& \" Fired Heater\")","v":""},null,null,null,null,null,{"$f":"$C$5 & \" - Fuel Oil\"","v":" - Fuel Oil"},{"$f":"$N$5","v":0},{"$f":"IF(N40=0,0,LOOKUP(M40,'Emission Factors'!$A$5:$A$10,'Emission Factors'!$H$5:$H$10))","v":0},{"$f":"IF(O40=\"\",\"\",\"lb/ton\")","v":"lb/ton"},{"$f":"N40*O40","v":0},{"$f":"IF(N40=0,\"\",IF(AND($F$13>0,N41=0),$F$13,\"\"))","v":""},{"$f":"IF(N40=0,0,IF($G$13>0,$G$13,IF(OR(AND($C$10>0,$N$41>0),AND($C$11>0,$N$41>0),AND($C$12>0,$N$41>0)),\"\",IF($C$10>0,$C$10*O40/2000,IF($C$11>0,$C$11*365*O40/2000,IF($C$12>0,$C$12*365*O40*N40/2000,IF(AND(N41>0,F13>0),\"\",IF(R40=\"\",Q40*8760/2000,R40*8760/2000))))))))","v":0},{"$f":"P5*O40/2000","v":0}]
[null,{"$f":"IF($C$4>1,\"Is Your Operation Controlled?:\",\"\")","v":""},null,null,{"$f":"IF($C$4>1,\"Silo Filling, Truck Loadout, Aggregate Transfer\",\"\")","v":""},null,null,{"$f":"IF($C$4>1,\"(tons/hr)\",\"\")","v":""},{"$f":"IF($C$4>1,\"(tons/yr)\",\"\")","v":""},null,null,null,{"$f":"$C$5 & \" - Waste Oil\"","v":" - Waste Oil"},{"$f":"$N$6","v":0},{"$f":"IF(N41=0,0,LOOKUP(M41,'Emission Factors'!$A$5:$A$10,'Emission Factors'!$H$5:$H$10))","v":0},{"$f":"IF(O41=\"\",\"\",\"lb/ton\")","v":"lb/ton"},{"$f":"N41*O41","v":0},{"$f":"IF(N41=0,\"\",IF($F$13>0,$F$13,\"\"))","v":""},{"$f":"IF(N41=0,0,IF($G$13>0,IF(S40=0,G13,\"\"),IF($C$10>0,$C$10*O41/2000,IF($C$11>0,$C$11*365*O41/2000,IF($C$12>0,$C$12*365*O41*N41/2000,IF(R41=\"\",Q41*8760/2000,R41*8760/2000))))))","v":0},{"$f":"P6*O41/2000","v":0}]
[null,null,null,null,{"$f":"IF($C$4>1,\"AP-7 EP-3\",\"\")","v":""},{"$f":"IF($C$4>1,\"AP-7 EU-3\",\"\")","v":""},{"$f":"IF($C$4>1,\"Silo Filling\",\"\")","v":""},null,null,null,null,null,{"$f":"$C$5 & \" - Natural Gas\"","v":" - Natural Gas"},{"$f":"$N$7","v":0},{"$f":"IF(N42=0,0,LOOKUP(M42,'Emission Factors'!$A$5:$A$10,'Emission Factors'!$H$5:$H$10))","v":0},{"$f":"IF(O42=\"\",\"\",\"lb/ton\")","v":"lb/ton"},{"$f":"N42*O42","v":0},{"$f":"IF(N42=0,\"\",IF(AND($F$13>0,N40=0,N41=0),$F$13,\"\"))","v":""},{"$f":"IF(N42=0,0,IF($G$13>0,IF(AND(S40=0,S41=0),G13,\"\"),IF(OR(AND($C$10>0,$N$41>0),AND($C$11>0,$N$41>0),AND($C$12>0,$N$41>0)),\"\",IF(OR(AND($C$10>0,$N$40>0),AND($C$11>0,$N$40>0),AND($C$12>0,$N$40>0)),\"\",IF($C$10>0,$C$10*O42/2000,IF($C$11>0,$C$11*365*O42/2000,IF($C$12>0,$C$12*365*O42*N42/2000,IF(AND(N41>0,N40>0,F13>0),\"\",IF(R42=\"\",Q42*8760/2000,R42*8760/2000)))))))))","v":0},{"$f":"P7*O42/2000","v":0}]
[null,null,null,null,{"$f":"IF($C$4>1,\"AP-7 EP-3\",\"\")","v":""},{"$f":"IF($C$4>1,\"AP-7 EU-4\",\"\")","v":""},{"$f":"IF($C$4>1,\"Truck Loadout\",\"\")","v":""},null,null,null,null,null,"NOx"]
[null,null,null,null,{"$f":"IF($C$4>1,\"AP-7 EP-3\",\"\")","v":""},{"$f":"IF($C$4>1,\"AP-7 EU-5\",\"\")","v":""},{"$f":"IF($C$4>1,\"Cold Aggregate Bins\",\"\")","v":""},null,null,null,null,null,{"$f":"$C$5 & \" - Fuel Oil\"","v":" - Fuel Oil"},{"$f":"$N$5","v":0},{"$f":"IF(N44=0,0,LOOKUP(M44,'Emission Factors'!$A$5:$A$10,'Emission Factors'!$J$5:$J$10))","v":0},{"$f":"IF(O44=\"\",\"\",\"lb/ton\")","v":"lb/ton"},{"$f":"N44*O44","v":0},{"$f":"IF(N44=0,\"\",IF(AND($F$14>0,N45=0),$F$14,\"\"))","v":""},{"$f":"IF(N44=0,0,IF($G$14>0,$G$14,IF(OR(AND($C$10>0,$N$45>0),AND($C$11>0,$N$45>0),AND($C$12>0,$N$45>0)),\"\",IF($C$10>0,$C$10*O44/2000,IF($C$11>0,$C$11*365*O44/2000,IF($C$12>0,$C$12*365*O44*N44/2000,IF(AND(N45>0,F14>0),\"\",IF(R44=\"\",Q44*8760/2000,R44*8760/2000))))))))","v":0},{"$f":"P5*O44/2000","v":0}]
[null,null,null,null,null,null,null,null,null,null,null,null,{"$f":"$C$5 & \" - Waste Oil\"","v":" - Waste Oil"},{"$f":"$N$6","v":0},{"$f":"IF(N45=0,0,LOOKUP(M45,'Emission Factors'!$A$5:$A$10,'Emission Factors'!$J$5:$J$10))","v":0},{"$f":"IF(O45=\"\",\"\",\"lb/ton\")","v":"lb/ton"},{"$f":"N45*O45","v":0},{"$f":"IF(N45=0,\"\",IF($F$14>0,$F$14,\"\"))","v":""},{"$f":"IF(N45=0,0,IF($G$14>0,IF(S44=0,G14,\"\"),IF($C$10>0,$C$10*O45/2000,IF($C$11>0,$C$11*365*O45/2000,IF($C$12>0,$C$12*365*O45*N45/2000,IF(R45=\"\",Q45*8760/2000,R45*8760/2000))))))","v":0},{"$f":"P6*O45/2000","v":0}]
[null,null,null,null,{"$f":"IF($C$4>1,\"Stock Pile Area\",\"\")","v":""},null,null,null,null,null,null,null,{"$f":"$C$5 & \" - Natural Gas\"","v":" - Natural Gas"},{"$f":"$N$7","v":0},{"$f":"IF(N46=0,0,LOOKUP(M46,'Emission Factors'!$A$5:$A$10,'Emission Factors'!$J$5:$J$10))","v":0},{"$f":"IF(O46=\"\",\"\",\"lb/ton\")","v":"lb/ton"},{"$f":"N46*O46","v":0},{"$f":"IF(N46=0,\"\",IF(AND($F$14>0,N44=0,N45=0),$F$14,\"\"))","v":""},{"$f":"IF(N46=0,0,IF($G$14>0,IF(AND(S44=0,S45=0),G14,\"\"),IF(OR(AND($C$10>0,$N$45>0),AND($C$11>0,$N$45>0),AND($C$12>0,$N$45>0)),\"\",IF(OR(AND($C$10>0,$N$44>0),AND($C$11>0,$N$44>0),AND($C$12>0,$N$44>0)),\"\",IF($C$10>0,$C$10*O46/2000,IF($C$11>0,$C$11*365*O46/2000,IF($C$12>0,$C$12*365*O46*N46/2000,IF(AND(N44>0,N45>0,F14>0),\"\",IF(R46=\"\",Q46*8760/2000,R46*8760/2000)))))))))","v":0},{"$f":"P7*O46/2000","v":0}]
[null,null,null,null,null,{"$f":"IF($C$4>1,\"Emission Unit #\",\"\")","v":""},{"$f":"IF($C$4>1,\"Maximum Storage Area (acres)\",\"\")","v":""},{"$f":"IF($C$4>1,\"Actual Storage Area (acres)\",\"\")","v":""},{"$f":"IF($C$4>1,\"Actual Days in Existence (days)\",\"\")","v":""},null,null,null,"VOC"]
[null,null,null,null,null,null,null,null,null,null,null,null,{"$f":"$C$5 & \" - Fuel Oil\"","v":" - Fuel Oil"},{"$f":"$N$5","v":0},{"$f":"IF(N48=0,0,LOOKUP(M48,'Emission Factors'!$A$5:$A$10,'Emission Factors'!$L$5:$L$10))","v":0},{"$f":"IF(O48=\"\",\"\",\"lb/ton\")","v":"lb/ton"},{"$f":"N48*O48","v":0},{"$f":"IF(N48=0,\"\",IF(AND($F$15>0,N49=0),$F$15,\"\"))","v":""},{"$f":"IF(N48=0,0,IF($G$15>0,$G$15,IF(OR(AND($C$10>0,$N$49>0),AND($C$11>0,$N$49>0),AND($C$12>0,$N$49>0)),\"\",IF($C$10>0,$C$10*O48/2000,IF($C$11>0,$C$11*365*O48/2000,IF($C$12>0,$C$12*365*O48*N48/2000,IF(AND(N49>0,F15>0),\"\",IF(R48=\"\",Q48*8760/2000,R48*8760/2000))))))))","v":0},{"$f":"P5*O48/2000","v":0}]
[null,null,null,null,null,null,null,null,null,null,null,null,{"$f":"$C$5 & \" - Waste Oil\"","v":" - Waste Oil"},{"$f":"$N$6","v":0},{"$f":"IF(N49=0,0,LOOKUP(M49,'Emission Factors'!$A$5:$A$10,'Emission Factors'!$L$5:$L$10))","v":0},{"$f":"IF(O49=\"\",\"\",\"lb/ton\")","v":"lb/ton"},{"$f":"N49*O49","v":0},{"$f":"IF(N49=0,\"\",IF($F$15>0,$F$15,\"\"))","v":""},{"$f":"IF(N49=0,0,IF($G$15>0,IF(S48=0,G15,\"\"),IF($C$10>0,$C$10*O49/2000,IF($C$11>0,$C$11*365*O49/2000,IF($C$12>0,$C$12*365*O49*N49/2000,IF(R49=\"\",Q49*8760/2000,R49*8760/2000))))))","v":0},{"$f":"P6*O49/2000","v":0}]
[null,{"$f":"IF($C$4>2,\"Asphalt Plant\",\"\")","v":""},{"$f":"IF($C$4>2,\"Site 3\",\"\")","v":""},null,{"$f":"IF($C$4>2,\"Emission Point #\",\"\")","v":""},{"$f":"IF($C$4>2,\"Emission    Unit #\",\"\")","v":""},{"$f":"IF($C$4>2,\"Process\",\"\")","v":""},{"$f":"IF($C$4>2,\"Maximum Hourly     Design Rate\",\"\")","v":""},{"$f":"IF($C$4>2,('Facility Information'!G35&\" Annual Throughput\"),\"\")","v":""},null,null,null,{"$f":"$C$5 & \" - Natural Gas\"","v":" - Natural Gas"},{"$f":"$N$7","v":0},{"$f":"IF(N50=0,0,LOOKUP(M50,'Emission Factors'!$A$5:$A$10,'Emission Factors'!$L$5:$L$10))","v":0},{"$f":"IF(O50=\"\",\"\",\"lb/ton\")","v":"lb/ton"},{"$f":"N50*O50","v":0},{"$f":"IF(N50=0,\"\",IF(AND($F$15>0,N48=0,N49=0),$F$15,\"\"))","v":""},{"$f":"IF(N50=0,0,IF($G$15>0,IF(AND(S48=0,S49=0),G15,\"\"),IF(OR(AND($C$10>0,$N$49>0),AND($C$11>0,$N$49>0),AND($C$12>0,$N$49>0)),\"\",IF(OR(AND($C$10>0,$N$48>0),AND($C$11>0,$N$48>0),AND($C$12>0,$N$48>0)),\"\",IF($C$10>0,$C$10*O50/2000,IF($C$11>0,$C$11*365*O50/2000,IF($C$12>0,$C$12*365*O50*N50/2000,IF(AND(N48>0,N49>0,F15>0),\"\",IF(R50=\"\",Q50*8760/2000,R50*8760/2000)))))))))","v":0},{"$f":"P7*O50/2000","v":0}]
[null,null,null,null,null,null,null,null,null,null,null,null,"CO"]
[null,{"$f":"IF($C$4>2,\"Site Name\",\"\")","v":""},null,null,{"$f":"IF($C$4>2,\"Dryers, Hot Screens, Mixer\",\"\")","v":""},null,null,{"$f":"IF($C$4>2,\"(tons/hr)\",\"\")","v":""},{"$f":"IF($C$4>2,\"(tons/yr)\",\"\")","v":""},"PM2.5","PM10",null,{"$f":"IF($C$5=\"\",\"\",$C$5)","v":""},{"$f":"SUM($N$5:$N$7)","v":0},{"$f":"IF(N52=0,0,IF(M52=\"Batch Mix Plant\",0.4,IF(M52=\"Drum Mix Plant\",0.13)))","v":0},{"$f":"IF(O52=\"\",\"\",\"lb/ton\")","v":"lb/ton"},{"$f":"N52*O52","v":0},{"$f":"IF(N52=0,\"\",IF($F$16>0,$F$16,\"\"))","v":""},{"$f":"IF($G$16>0,$G$16,IF(N52=0,0,IF($C$10>0,$C$10*O52/2000,IF($C$11>0,$C$11*365*O52/2000,IF($C$12>0,$C$12*365*O52*N52/2000,IF(R52=\"\",Q52*8760/2000,R52*8760/2000))))))","v":0},{"$f":"SUM($P$5:$P$7)*O52/2000","v":0}]
[null,{"$f":"IF($C$4>2,\"County:\",\"\")","v":""},null,null,{"$f":"IF(C55=\"\",\"\",\"AP-7 EP-1\")","v":""},{"$f":"IF(C55=\"\",\"\",\"AP-7 EU-1\")","v":""},{"$f":"IF(C55=\"\",\"\",C5 & \" - \"&C55)","v":""},null,null,{"$f":"IF(C56=\"\",\"\",IF(C56=\"yes\",LOOKUP(G53,'Emission Factors'!$A$12:$A$17,'Emission Factors'!$D$12:$D$17),LOOKUP(G53,'Emission Factors'!$A$5:$A$10,'Emission Factors'!$D$5:$D$10)))","v":""},{"$f":"IF(C56=\"\",\"\",IF(C56=\"yes\",LOOKUP(G53,'Emission Factors'!$A$12:$A$17,'Emission Factors'!$F$12:$F$17),LOOKUP(G53,'Emission Factors'!$A$5:$A$10,'Emission Factors'!$F$5:$F$10)))","v":""},null,"Fuel Oil Fired Heater",{"$f":"N8","v":0},{"$f":"IF(N53=0,0,LOOKUP(M53,'Emission Factors'!$A$19:$A$21,'Emission Factors'!$N$19:$N$21))","v":0},{"$f":"IF(O53=\"\",\"\",\"lb/gallon\")","v":"lb/gallon"},{"$f":"N53*O53","v":0},null,{"$f":"IF(N53=0,0,IF($G$16>0,\"\",IF($F$16>0,\"\",IF(R53=\"\",Q53*8760/2000,R53*8760/2000))))","v":0},{"$f":"(P8*O53/2000)","v":0}]
[null,{"$f":"IF($C$4>2,\"Production Period (Dates):\",\"\")","v":""},null,null,{"$f":"IF($C$4>2,\"Liquid Asphalt Heater\",\"\")","v":""},null,null,{"$f":"IF($C$4>2,IF(C55=\"natural gas\",\"(MMCF/hr)\",\"(gallons/hr)\"),\"\")","v":""},{"$f":"IF($C$4>2,IF(C55=\"natural gas\",\"(MMCF/yr)\",\"(gallons/yr)\"),\"\")","v":""},null,null,null,"Waste Oil Fired Heater",{"$f":"N9","v":0},{"$f":"IF(N54=0,0,LOOKUP(M54,'Emission Factors'!$A$19:$A$21,'Emission Factors'!$N$19:$N$21))","v":0},{"$f":"IF(O54=\"\",\"\",\"lb/gallon\")","v":"lb/gallon"},{"$f":"N54*O54","v":0},null,{"$f":"IF(N54=0,0,IF($G$16>0,\"\",IF($F$16>0,\"\",IF(R54=\"\",Q54*8760/2000,R54*8760/2000))))","v":0},{"$f":"(P9*O54/2000)","v":0}]
[null,{"$f":"IF($C$4>2,\"Type of Fuel Used:\",\"\")","v":""},null,null,{"$f":"IF(C55=\"\",\"\",\"AP-7 EP-2\")","v":""},{"$f":"IF(C55=\"\",\"\",\"AP-7 EU-2\")","v":""},{"$f":"IF(C55=\"\",\"\",C55& \" Fired Heater\")","v":""},null,null,null,null,null,"Natural Gas Fired Heater",{"$f":"N10","v":0},{"$f":"IF(N55=0,0,LOOKUP(M55,'Emission Factors'!$A$19:$A$21,'Emission Factors'!$N$19:$N$21))","v":0},{"$f":"IF(O55=\"\",\"\",\"lb/MMCF\")","v":"lb/MMCF"},{"$f":"N55*O55","v":0},null,{"$f":"IF(N55=0,0,IF($G$16>0,\"\",IF($F$16>0,\"\",IF(R55=\"\",Q55*8760/2000,R55*8760/2000))))","v":0},{"$f":"($P$10*O55/2000)","v":0}]
[null,{"$f":"IF($C$4>2,\"Is Your Operation Controlled?:\",\"\")","v":""},null,null,{"$f":"IF($C$4>2,\"Silo Filling, Truck Loadout, Aggregate Transfer\",\"\")","v":""},null,null,{"$f":"IF($C$4>2,\"(tons/hr)\",\"\")","v":""},{"$f":"IF($C$4>2,\"(tons/yr)\",\"\")","v":""},null,null,null,"Acetaldehyde"]
[null,null,null,null,{"$f":"IF($C$4>2,\"AP-7 EP-3\",\"\")","v":""},{"$f":"IF($C$4>2,\"AP-7 EU-3\",\"\")","v":""},{"$f":"IF($C$4>2,\"Silo Filling\",\"\")","v":""},null,null,null,null,null,{"$f":"IF($C$5=\"\",\"\",$C$5)","v":""},{"$f":"IF(C5=\"drum mix plant\",SUM(N5:$N$6),SUM($N$5:$N$7))","v":0},{"$f":"IF(N57=0,0,IF(M57=\"Batch Mix Plant\",0.00032,IF(M57=\"Drum Mix Plant\",0.0013)))","v":0},{"$f":"IF(O57=\"\",\"\",\"lb/ton\")","v":"lb/ton"},{"$f":"N57*O57","v":0},null,{"$f":"IF(N57=0,0,IF($C$10>0,$C$10*O57/2000,IF($C$11>0,$C$11*365*O57/2000,IF($C$12>0,$C$12*365*O57*N57/2000,IF(R57=\"\",Q57*8760/2000,R57*8760/2000)))))","v":0},{"$f":"IF(C5=\"drum mix plant\",$P$6*O57/2000,SUM($P$5:$P$7)*O57/2000)","v":0}]
[null,null,null,null,{"$f":"IF($C$4>2,\"AP-7 EP-3\",\"\")","v":""},{"$f":"IF($C$4>2,\"AP-7 EU-4\",\"\")","v":""},{"$f":"IF($C$4>2,\"Truck Loadout\",\"\")","v":""},null,null,null,null,null,"Acrolein"]
[null,null,null,null,{"$f":"IF($C$4>2,\"AP-7 EP-3\",\"\")","v":""},{"$f":"IF($C$4>2,\"AP-7 EU-5\",\"\")","v":""},{"$f":"IF($C$4>2,\"Cold Aggregate Bins\",\"\")","v":""},null,null,null,null,null,{"$f":"IF($C$5=\"\",\"\",$C$5)","v":""},{"$f":"IF(C5=\"drum mix plant\",SUM(N5:$N$6),0)","v":0},{"$f":"IF(N59=0,0,0.000026)","v":0},{"$f":"IF(O59=\"\",\"\",\"lb/ton\")","v":"lb/ton"},{"$f":"N59*O59","v":0},null,{"$f":"IF(N59=0,0,IF($C$10>0,$C$10*O59/2000,IF($C$11>0,$C$11*365*O59/2000,IF($C$12>0,$C$12*365*O59*N59/2000,IF(R59=\"\",Q59*8760/2000,R59*8760/2000)))))","v":0},{"$f":"IF(C7=\"drum mix plant\",$P$6*O59/2000,SUM($P$5:$P$7)*O59/2000)","v":0}]
[null,null,null,null,null,null,null,null,null,null,null,null,"Benzene"]
[null,null,null,null,{"$f":"IF($C$4>2,\"Stock Pile Area\",\"\")","v":""},null,null,null,null,null,null,null,{"$f":"IF($C$5=\"\",\"\",$C$5)","v":""},{"$f":"SUM($N$5:$N$7)","v":0},{"$f":"IF(N61=0,0,IF(M61=\"Batch Mix Plant\",0.00028,IF(M61=\"Drum Mix Plant\",0.00039)))","v":0},{"$f":"IF(O61=\"\",\"\",\"lb/ton\")","v":"lb/ton"},{"$f":"N61*O61","v":0},null,{"$f":"IF(N61=0,0,IF($C$10>0,$C$10*O61/2000,IF($C$11>0,$C$11*365*O61/2000,IF($C$12>0,$C$12*365*O61*N61/2000,IF(R61=\"\",Q61*8760/2000,R61*8760/2000)))))","v":0},{"$f":"SUM($P$5:$P$7)*O61/2000","v":0}]
[null,null,null,null,null,{"$f":"IF($C$4>2,\"Emission Unit #\",\"\")","v":""},{"$f":"IF($C$4>2,\"Maximum Storage Area (acres)\",\"\")","v":""},{"$f":"IF($C$4>2,\"Actual Storage Area (acres)\",\"\")","v":""},{"$f":"IF($C$4>2,\"Actual Days in Existence (days)\",\"\")","v":""},null,null,null,"Ethylbenzene"]
[null,null,null,null,null,null,null,null,null,null,null,null,{"$f":"IF($C$5=\"\",\"\",$C$5)","v":""},{"$f":"SUM($N$5:$N$7)","v":0},{"$f":"IF(N63=0,0,IF(M63=\"Batch Mix Plant\",0.0022,IF(M63=\"Drum Mix Plant\",0.00024)))","v":0},{"$f":"IF(O63=\"\",\"\",\"lb/ton\")","v":"lb/ton"},{"$f":"N63*O63","v":0},null,{"$f":"IF(N63=0,0,IF($C$10>0,$C$10*O63/2000,IF($C$11>0,$C$11*365*O63/2000,IF($C$12>0,$C$12*365*O63*N63/2000,IF(R63=\"\",Q63*8760/2000,R63*8760/2000)))))","v":0},{"$f":"SUM($P$5:$P$7)*O63/2000","v":0}]
[null,null,null,null,null,null,null,null,null,null,null,null,"Formaldehyde"]
[null,{"$f":"IF($C$4>3,\"Asphalt Plant\",\"\")","v":""},{"$f":"IF($C$4>3,\"Site 4\",\"\")","v":""},null,{"$f":"IF($C$4>3,\"Emission Point #\",\"\")","v":""},{"$f":"IF($C$4>3,\"Emission    Unit #\",\"\")","v":""},{"$f":"IF($C$4>3,\"Process\",\"\")","v":""},{"$f":"IF($C$4>3,\"Maximum Hourly     Design Rate\",\"\")","v":""},{"$f":"IF($C$4>3,('Facility Information'!G50&\" Annual Throughput\"),\"\")","v":""},null,null,null,{"$f":"IF($C$5=\"\",\"\",$C$5)","v":""},{"$f":"SUM($N$5:$N$7)","v":0},{"$f":"IF(N65=0,0,IF(M65=\"Batch Mix Plant\",0.00074,IF(M65=\"Drum Mix Plant\",0.0031)))","v":0},{"$f":"IF(O65=\"\",\"\",\"lb/ton\")","v":"lb/ton"},{"$f":"N65*O65","v":0},null,{"$f":"IF(N65=0,0,IF($C$10>0,$C$10*O65/2000,IF($C$11>0,$C$11*365*O65/2000,IF($C$12>0,$C$12*365*O65*N65/2000,IF(R65=\"\",Q65*8760/2000,R65*8760/2000)))))","v":0},{"$f":"SUM($P$5:$P$7)*O65/2000","v":0}]
[null,null,null,null,null,null,null,null,null,null,null,null,{"$f":"\"Natural Gas Fired Heater\"","v":"Natural Gas Fired Heater"},{"$f":"N10","v":0},{"$f":"IF(N66=0,0,0.026)","v":0},{"$f":"IF(O66=\"\",\"\",\"lb/MMCF\")","v":"lb/MMCF"},{"$f":"N66*O66","v":0},null,{"$f":"IF(N66=0,0,IF(R66=\"\",Q66*8760/2000,R66*8760/2000))","v":0},{"$f":"($P$10*O66/2000)","v":0}]
[null,{"$f":"IF($C$4>3,\"Site Name\",\"\")","v":""},null," ",{"$f":"IF($C$4>3,\"Dryers, Hot Screens, Mixer\",\"\")","v":""},null,null,{"$f":"IF($C$4>3,\"(tons/hr)\",\"\")","v":""},{"$f":"IF($C$4>3,\"(tons/yr)\",\"\")","v":""},"PM2.5","PM10",null,"Hexane"]
[null,{"$f":"IF($C$4>3,\"County:\",\"\")","v":""},null,null,{"$f":"IF(C70=\"\",\"\",\"AP-7 EP-1\")","v":""},{"$f":"IF(C70=\"\",\"\",\"AP-7 EU-1\")","v":""},{"$f":"IF(C70=\"\",\"\",C5 & \" - \"&C70)","v":""},null,null,{"$f":"IF(C71=\"\",\"\",IF(C71=\"yes\",LOOKUP(G68,'Emission Factors'!$A$12:$A$17,'Emission Factors'!$D$12:$D$17),LOOKUP(G68,'Emission Factors'!$A$5:$A$10,'Emission Factors'!$D$5:$D$10)))","v":""},{"$f":"IF(C71=\"\",\"\",IF(C71=\"yes\",LOOKUP(G68,'Emission Factors'!$A$12:$A$17,'Emission Factors'!$F$12:$F$17),LOOKUP(G68,'Emission Factors'!$A$5:$A$10,'Emission Factors'!$F$5:$F$10)))","v":""},null,{"$f":"IF($C$5=\"\",\"\",$C$5)","v":""},{"$f":"IF(C5=\"drum mix plant\",SUM(N5:N7),0)","v":0},{"$f":"IF(N68=0,0,0.00092)","v":0},{"$f":"IF(O68=\"\",\"\",\"lb/ton\")","v":"lb/ton"},{"$f":"N68*O68","v":0},null,{"$f":"IF(N68=0,0,IF($C$10>0,$C$10*O68/2000,IF($C$11>0,$C$11*365*O68/2000,IF($C$12>0,$C$12*365*O68*N68/2000,IF(R68=\"\",Q68*8760/2000,R68*8760/2000)))))","v":0},{"$f":"IF(N68>0,SUM($P$5:$P$7)*O68/2000,0)","v":0}]
[null,{"$f":"IF($C$4>3,\"Production Period (Dates):\",\"\")","v":""},null,null,{"$f":"IF($C$4>3,\"Liquid Asphalt Heater\",\"\")","v":""},null,null,{"$f":"IF($C$4>3,IF(C70=\"natural gas\",\"(MMCF/hr)\",\"(gallons/hr)\"),\"\")","v":""},{"$f":"IF($C$4>3,IF(C70=\"natural gas\",\"(MMCF/yr)\",\"(gallons/yr)\"),\"\")","v":""},null,null,null,"Hydrochloric Acid"]
[null,{"$f":"IF($C$4>3,\"Type of Fuel Used:\",\"\")","v":""},null,null,{"$f":"IF(C70=\"\",\"\",\"AP-7 EP-2\")","v":""},{"$f":"IF(C70=\"\",\"\",\"AP-7 EU-2\")","v":""},{"$f":"IF(C70=\"\",\"\",C70& \" Fired Heater\")","v":""},null,null,null,null,null,{"$f":"IF($C$5=\"\",\"\",$C$5)","v":""},{"$f":"IF(C5=\"drum mix plant\",SUM(N5:$N$6),0)","v":0},{"$f":"IF(N70=0,0,0.00021)","v":0},{"$f":"IF(O70=\"\",\"\",\"lb/ton\")","v":"lb/ton"},{"$f":"N70*O70","v":0},null,{"$f":"IF(N70=0,0,IF($C$10>0,$C$10*O70/2000,IF($C$11>0,$C$11*365*O70/2000,IF($C$12>0,$C$12*365*O70*N70/2000,IF(R70=\"\",Q70*8760/2000,R70*8760/2000)))))","v":0},{"$f":"IF(N70>0,$P$6*O70/2000,0)","v":0}]
[null,{"$f":"IF($C$4>3,\"Is Your Operation Controlled?:\",\"\")","v":""},null,null,{"$f":"IF($C$4>3,\"Silo Filling, Truck Loadout, Aggregate Transfer\",\"\")","v":""},null,null,{"$f":"IF($C$4>3,\"(tons/hr)\",\"\")","v":""},{"$f":"IF($C$4>3,\"(tons/yr)\",\"\")","v":""},null,null,null,"Methyl Chloroform"]
[null,null,null,null,{"$f":"IF($C$4>3,\"AP-7 EP-3\",\"\")","v":""},{"$f":"IF($C$4>3,\"AP-7 EU-3\",\"\")","v":""},{"$f":"IF($C$4>3,\"Silo Filling\",\"\")","v":""},null,null,null,null,null,{"$f":"IF($C$5=\"\",\"\",$C$5)","v":""},{"$f":"IF(C5=\"drum mix plant\",SUM(N5:N7),0)","v":0},{"$f":"IF(N72=0,0,0.000048)","v":0},{"$f":"IF(O72=\"\",\"\",\"lb/ton\")","v":"lb/ton"},{"$f":"N72*O72","v":0},null,{"$f":"IF(N72=0,0,IF($C$10>0,$C$10*O72/2000,IF($C$11>0,$C$11*365*O72/2000,IF($C$12>0,$C$12*365*O72*N72/2000,IF(R72=\"\",Q72*8760/2000,R72*8760/2000)))))","v":0},{"$f":"IF(N72>0,SUM($P$5:$P$7)*O72/2000,0)","v":0}]
[null,null,null,null,{"$f":"IF($C$4>3,\"AP-7 EP-3\",\"\")","v":""},{"$f":"IF($C$4>3,\"AP-7 EU-4\",\"\")","v":""},{"$f":"IF($C$4>3,\"Truck Loadout\",\"\")","v":""},null,null,null,null,null,"Propionaldehyde"]
[null,null,null,null,{"$f":"IF($C$4>3,\"AP-7 EP-3\",\"\")","v":""},{"$f":"IF($C$4>3,\"AP-7 EU-5\",\"\")","v":""},{"$f":"IF($C$4>3,\"Cold Aggregate Bins\",\"\")","v":""},null,null,null,null,null,{"$f":"IF($C$5=\"\",\"\",$C$5)","v":""},{"$f":"IF(C5=\"drum mix plant\",SUM(N5:$N$6),0)","v":0},{"$f":"IF(N74=0,0,0.00013)","v":0},{"$f":"IF(O74=\"\",\"\",\"lb/ton\")","v":"lb/ton"},{"$f":"N74*O74","v":0},null,{"$f":"IF(N74=0,0,IF($C$10>0,$C$10*O74/2000,IF($C$11>0,$C$11*365*O74/2000,IF($C$12>0,$C$12*365*O74*N74/2000,IF(R74=\"\",Q74*8760/2000,R74*8760/2000)))))","v":0},{"$f":"IF(N74>0,$P$6*O74/2000,0)","v":0}]
[null,null,null,null,null,null,null,null,null,null,null,null,"Quinone"]
[null,null,null,null,{"$f":"IF($C$4>3,\"Stock Pile Area\",\"\")","v":""},null,null,null,null,null,null,null,{"$f":"IF($C$5=\"\",\"\",$C$5)","v":""},{"$f":"IF(C5=\"drum mix plant\",SUM(N5:$N$6),SUM($N$5:$N$7))","v":0},{"$f":"IF(N76=0,0,IF(M76=\"Batch Mix Plant\",0.00027,IF(M76=\"Drum Mix Plant\",0.00016)))","v":0},{"$f":"IF(O76=\"\",\"\",\"lb/ton\")","v":"lb/ton"},{"$f":"N76*O76","v":0},null,{"$f":"IF(N76=0,0,IF($C$10>0,$C$10*O76/2000,IF($C$11>0,$C$11*365*O76/2000,IF($C$12>0,$C$12*365*O76*N76/2000,IF(R76=\"\",Q76*8760/2000,R76*8760/2000)))))","v":0},{"$f":"IF(C24=\"drum mix plant\",$P$6*O76/2000,SUM($P$5:$P$7)*O76/2000)","v":0}]
[null,null,null,null,null,{"$f":"IF($C$4>3,\"Emission Unit #\",\"\")","v":""},{"$f":"IF($C$4>3,\"Maximum Storage Area (acres)\",\"\")","v":""},{"$f":"IF($C$4>3,\"Actual Storage Area (acres)\",\"\")","v":""},{"$f":"IF($C$4>3,\"Actual Days in Existence (days)\",\"\")","v":""},null,null,null,"Toluene"]
[null,null,null,null,null,null,null,null,null,null,null,null,{"$f":"$C$5 & \" - Fuel Oil\"","v":" - Fuel Oil"},{"$f":"$N$5","v":0},{"$f":"IF(N78=0,0,LOOKUP(M78,'Emission Factors'!$A$5:$A$10,'Emission Factors'!$AJ$5:$AJ$10))","v":0},{"$f":"IF(O78=\"\",\"\",\"lb/ton\")","v":"lb/ton"},{"$f":"N78*O78","v":0},null,{"$f":"IF(N78=0,0,IF($C$10>0,$C$10*O78/2000,IF($C$11>0,$C$11*365*O78/2000,IF($C$12>0,$C$12*365*O78*N78/2000,IF(R78=\"\",Q78*8760/2000,R78*8760/2000)))))","v":0},{"$f":"P5*O78/2000","v":0}]
[null,null,null,null,null,null,null,null,null,null,null,null,{"$f":"$C$5 & \" - Waste Oil\"","v":" - Waste Oil"},{"$f":"$N$6","v":0},{"$f":"IF(N79=0,0,LOOKUP(M79,'Emission Factors'!$A$5:$A$10,'Emission Factors'!$AJ$5:$AJ$10))","v":0},{"$f":"IF(O79=\"\",\"\",\"lb/ton\")","v":"lb/ton"},{"$f":"N79*O79","v":0},null,{"$f":"IF(N79=0,0,IF(OR(AND($C$10>0,$N$78>0),AND($C$11>0,$N$78>0),AND($C$12>0,$N$78>0)),\"\",IF($C$10>0,$C$10*O79/2000,IF($C$11>0,$C$11*365*O79/2000,IF($C$12>0,$C$12*365*O79*N79/2000,IF(R79=\"\",Q79*8760/2000,R79*8760/2000))))))","v":0},{"$f":"P6*O79/2000","v":0}]
[null,{"$f":"IF($C$4>4,\"Asphalt Plant\",\"\")","v":""},{"$f":"IF($C$4>4,\"Site 5\",\"\")","v":""},null,{"$f":"IF($C$4>4,\"Emission Point #\",\"\")","v":""},{"$f":"IF($C$4>4,\"Emission    Unit #\",\"\")","v":""},{"$f":"IF($C$4>4,\"Process\",\"\")","v":""},{"$f":"IF($C$4>4,\"Maximum Hourly     Design Rate\",\"\")","v":""},{"$f":"IF($C$4>4,('Facility Information'!G65&\" Annual Throughput\"),\"\")","v":""},null,null,null,{"$f":"$C$5 & \" - Natural Gas\"","v":" - Natural Gas"},{"$f":"$N$7","v":0},{"$f":"IF(N80=0,0,LOOKUP(M80,'Emission Factors'!$A$5:$A$10,'Emission Factors'!$AJ$5:$AJ$10))","v":0},{"$f":"IF(O80=\"\",\"\",\"lb/ton\")","v":"lb/ton"},{"$f":"N80*O80","v":0},null,{"$f":"IF(N80=0,0,IF(OR(AND($C$10>0,$N$78>0),AND($C$11>0,$N$78>0),AND($C$12>0,$N$78>0)),\"\",IF(OR(AND($C$10>0,$N$79>0),AND($C$11>0,$N$79>0),AND($C$12>0,$N$79>0)),\"\",IF($C$10>0,$C$10*O80/2000,IF($C$11>0,$C$11*365*O80/2000,IF($C$12>0,$C$12*365*O80*N80/2000,IF(R80=\"\",Q80*8760/2000,R80*8760/2000)))))))","v":0},{"$f":"P7*O80/2000","v":0}]
[null,null,null,null,null,null,null,null,null,null,null,null,"Xylene"]
[null,{"$f":"IF($C$4>4,\"Site Name\",\"\")","v":""},null,null,{"$f":"IF($C$4>4,\"Dryers, Hot Screens, Mixer\",\"\")","v":""},null,null,{"$f":"IF($C$4>4,\"(tons/hr)\",\"\")","v":""},{"$f":"IF($C$4>4,\"(tons/yr)\",\"\")","v":""},"PM2.5","PM10",null,{"$f":"IF($C$5=\"\",\"\",$C$5)","v":""},{"$f":"SUM($N$5:$N$7)","v":0},{"$f":"IF(N82=0,0,IF(M82=\"Batch Mix Plant\",0.0027,IF(M82=\"Drum Mix Plant\",0.0002)))","v":0},{"$f":"IF(O82=\"\",\"\",\"lb/ton\")","v":"lb/ton"},{"$f":"N82*O82","v":0},null,{"$f":"IF(N82=0,0,IF($C$10>0,$C$10*O82/2000,IF($C$11>0,$C$11*365*O82/2000,IF($C$12>0,$C$12*365*O82*N82/2000,IF(R82=\"\",Q82*8760/2000,R82*8760/2000)))))","v":0},{"$f":"SUM($P$5:$P$7)*O82/2000","v":0}]
[null,{"$f":"IF($C$4>4,\"County:\",\"\")","v":""},null,null,{"$f":"IF(C85=\"\",\"\",\"AP-7 EP-1\")","v":""},{"$f":"IF(C85=\"\",\"\",\"AP-7 EU-1\")","v":""},{"$f":"IF(C85=\"\",\"\",C5 & \" - \"&C85)","v":""},null,null,{"$f":"IF(C86=\"\",\"\",IF(C86=\"yes\",LOOKUP(G83,'Emission Factors'!$A$12:$A$17,'Emission Factors'!$D$12:$D$17),LOOKUP(G83,'Emission Factors'!$A$5:$A$10,'Emission Factors'!$D$5:$D$10)))","v":""},{"$f":"IF(C86=\"\",\"\",IF(C86=\"yes\",LOOKUP(G83,'Emission Factors'!$A$12:$A$17,'Emission Factors'!$F$12:$F$17),LOOKUP(G83,'Emission Factors'!$A$5:$A$10,'Emission Factors'!$F$5:$F$10)))","v":""},null,"2,2,4-Trimethylpentane"]
[null,{"$f":"IF($C$4>4,\"Production Period (Dates):\",\"\")","v":""},null,null,{"$f":"IF($C$4>4,\"Liquid Asphalt Heater\",\"\")","v":""},null,null,{"$f":"IF($C$4>4,IF(C85=\"natural gas\",\"(MMCF/hr)\",\"(gallons/hr)\"),\"\")","v":""},{"$f":"IF($C$4>4,IF(C85=\"natural gas\",\"(MMCF/yr)\",\"(gallons/yr)\"),\"\")","v":""},null,null,null,{"$f":"IF($C$5=\"\",\"\",$C$5)","v":""},{"$f":"IF(C5=\"drum mix plant\",SUM(N5:N7),0)","v":0},{"$f":"IF(N84=0,0,0.00004)","v":0},{"$f":"IF(O84=\"\",\"\",\"lb/ton\")","v":"lb/ton"},{"$f":"N84*O84","v":0},null,{"$f":"IF(N84=0,0,IF($C$10>0,$C$10*O84/2000,IF($C$11>0,$C$11*365*O84/2000,IF($C$12>0,$C$12*365*O84*N84/2000,IF(R84=\"\",Q84*8760/2000,R84*8760/2000)))))","v":0},{"$f":"IF(N84>0,SUM($P$5:$P$7)*O84/2000,0)","v":0}]
[null,{"$f":"IF($C$4>4,\"Type of Fuel Used:\",\"\")","v":""},null,null,{"$f":"IF(C85=\"\",\"\",\"AP-7 EP-2\")","v":""},{"$f":"IF(C85=\"\",\"\",\"AP-7 EU-2\")","v":""},{"$f":"IF(C85=\"\",\"\",C85& \" Fired Heater\")","v":""},null,null,null,"Controlled?",null,"Chromium Compounds"]
[null,{"$f":"IF($C$4>4,\"Is Your Operation Controlled?:\",\"\")","v":""},null,null,{"$f":"IF($C$4>4,\"Silo Filling, Truck Loadout, Aggregate Transfer\",\"\")","v":""},null,null,{"$f":"IF($C$4>4,\"(tons/hr)\",\"\")","v":""},{"$f":"IF($C$4>4,\"(tons/yr)\",\"\")","v":""},null,{"$f":"IF(OR(C26=\"yes\",C41=\"yes\",C71=\"yes\",C86=\"yes\",C101=\"yes\",C116=\"yes\",C131=\"yes\",C146=\"yes\",C161=\"yes\"),1,0)","v":0},null,{"$f":"IF($C$5=\"\",\"\",$C$5)","v":""},{"$f":"IF(C5=\"drum mix plant\",SUM(N5:N6),0)","v":0},{"$f":"IF(N86=0,0,IF($K$86=1,0.0000055,0.000024))","v":0},{"$f":"IF(O86=\"\",\"\",\"lb/ton\")","v":"lb/ton"},{"$f":"IF($K$86=1,\"\",N86*O86)","v":0},{"$f":"IF($K$86=1,N86*O86,\"\")","v":""},{"$f":"IF(N86=0,0,IF($C$10>0,$C$10*O86/2000,IF($C$11>0,$C$11*365*O86/2000,IF($C$12>0,$C$12*365*O86*N86/2000,IF(R86=\"\",Q86*8760/2000,R86*8760/2000)))))","v":0},{"$f":"IF(N86>0,$P$5*O86/2000,0)","v":0}]
[null,null,null,null,{"$f":"IF($C$4>4,\"AP-7 EP-3\",\"\")","v":""},{"$f":"IF($C$4>4,\"AP-7 EU-3\",\"\")","v":""},{"$f":"IF($C$4>4,\"Silo Filling\",\"\")","v":""},null,null,null,null,null,"Lead Compounds"]
[null,null,null,null,{"$f":"IF($C$4>4,\"AP-7 EP-3\",\"\")","v":""},{"$f":"IF($C$4>4,\"AP-7 EU-4\",\"\")","v":""},{"$f":"IF($C$4>4,\"Truck Loadout\",\"\")","v":""},null,null,null,null,null,{"$f":"IF($C$5=\"\",\"\",$C$5)","v":""},{"$f":"IF(C5=\"drum mix plant\",SUM(N5:N6),0)","v":0},{"$f":"IF(N88=0,0,IF($K$86=1,0.000015,0.00054))","v":0},{"$f":"IF(O88=\"\",\"\",\"lb/ton\")","v":"lb/ton"},{"$f":"IF($K$86=1,\"\",N88*O88)","v":0},{"$f":"IF($K$86=1,N88*O88,\"\")","v":""},{"$f":"IF(N88=0,0,IF($C$10>0,$C$10*O88/2000,IF($C$11>0,$C$11*365*O88/2000,IF($C$12>0,$C$12*365*O88*N88/2000,IF(R88=\"\",Q88*8760/2000,R88*8760/2000)))))","v":0},{"$f":"IF(N88>0,$P$5*O88/2000,0)","v":0}]
[null,null,null,null,{"$f":"IF($C$4>4,\"AP-7 EP-3\",\"\")","v":""},{"$f":"IF($C$4>4,\"AP-7 EU-5\",\"\")","v":""},{"$f":"IF($C$4>4,\"Cold Aggregate Bins\",\"\")","v":""},null,null,null,null,null,"Manganese Compounds",null,null,null,0]
[null,null,null,null,null,null,null,null,null,null,null,null,{"$f":"IF($C$5=\"\",\"\",$C$5)","v":""},{"$f":"IF(C5=\"drum mix plant\",SUM(N5:N6),0)","v":0},{"$f":"IF(N90=0,0,IF($K$86=1,0.0000077,0.00065))","v":0},{"$f":"IF(O90=\"\",\"\",\"lb/ton\")","v":"lb/ton"},0,{"$f":"IF($K$86=1,N90*O90,\"\")","v":""},{"$f":"IF(N90=0,0,IF($C$10>0,$C$10*O90/2000,IF($C$11>0,$C$11*365*O90/2000,IF($C$12>0,$C$12*365*O90*N90/2000,IF(R90=\"\",Q90*8760/2000,R90*8760/2000)))))","v":0},{"$f":"IF(N90>0,$P$5*O90/2000,0)","v":0}]
[null,null,null,null,{"$f":"IF($C$4>4,\"Stock Pile Area\",\"\")","v":""},null,null,null,null,null,null,null,"Nickel Compounds",null,null,null,0]
[null,null,null,null,null,{"$f":"IF($C$4>4,\"Emission Unit #\",\"\")","v":""},{"$f":"IF($C$4>4,\"Maximum Storage Area (acres)\",\"\")","v":""},{"$f":"IF($C$4>4,\"Actual Storage Area (acres)\",\"\")","v":""},{"$f":"IF($C$4>4,\"Actual Days in Existence (days)\",\"\")","v":""},null,null,null,{"$f":"$C$5 & \" - Fuel Oil\"","v":" - Fuel Oil"},{"$f":"IF(C5=\"drum mix plant\",N5,0)","v":0},{"$f":"IF(N92=0,0,IF($K$86=1,0.000015,0.0013))","v":0},{"$f":"IF(O92=\"\",\"\",\"lb/ton\")","v":"lb/ton"},0,{"$f":"IF($K$86=1,N92*O92,\"\")","v":""},{"$f":"IF(N92=0,0,IF($C$10>0,$C$10*O92/2000,IF($C$11>0,$C$11*365*O92/2000,IF($C$12>0,$C$12*365*O92*N92/2000,IF(R92=\"\",Q92*8760/2000,R92*8760/2000)))))","v":0},{"$f":"IF(N92>0,$P$5*O92/2000,0)","v":0}]
[null,null,null,null,null,null,null,null,null,null,null,null,{"$f":"$C$5 & \" - Waste Oil\"","v":" - Waste Oil"},{"$f":"IF(C5=\"drum mix plant\",N6,0)","v":0},{"$f":"IF(N93=0,0,IF($K$86=1,0.000015,0.0013))","v":0},{"$f":"IF(O93=\"\",\"\",\"lb/ton\")","v":"lb/ton"},0,{"$f":"IF($K$86=1,N93*O93,\"\")","v":""},{"$f":"IF(N93=0,0,IF($C$10>0,$C$10*O93/2000,IF($C$11>0,$C$11*365*O93/2000,IF($C$12>0,$C$12*365*O93*N93/2000,IF(R93=\"\",Q93*8760/2000,R93*8760/2000)))))","v":0},{"$f":"IF(N93>0,$P$6*O93/2000,0)","v":0}]
[null,null,null,null,null,null,null,null,null,null,null,null,{"$f":"$C$5 & \" - Natural Gas\"","v":" - Natural Gas"},{"$f":"IF(C5=\"drum mix plant\",N7,0)","v":0},{"$f":"IF(N94=0,0,IF($K$86=1,0.000063,0.00063))","v":0},{"$f":"IF(O94=\"\",\"\",\"lb/ton\")","v":"lb/ton"},{"$f":"IF($K$86=1,\"\",N94*O94)","v":0},{"$f":"IF($K$86=1,N94*O94,\"\")","v":""},{"$f":"IF(N94=0,0,IF($C$10>0,$C$10*O94/2000,IF($C$11>0,$C$11*365*O94/2000,IF($C$12>0,$C$12*365*O94*N94/2000,IF(R94=\"\",Q94*8760/2000,R94*8760/2000)))))","v":0},{"$f":"IF(N94>0,$P$7*O94/2000,0)","v":0}]
[null,{"$f":"IF($C$4>5,\"Asphalt Plant\",\"\")","v":""},{"$f":"IF($C$4>5,\"Site 6\",\"\")","v":""},null,{"$f":"IF($C$4>5,\"Emission Point #\",\"\")","v":""},{"$f":"IF($C$4>5,\"Emission    Unit #\",\"\")","v":""},{"$f":"IF($C$4>5,\"Process\",\"\")","v":""},{"$f":"IF($C$4>5,\"Maximum Hourly     Design Rate\",\"\")","v":""},{"$f":"IF($C$4>5,('Facility Information'!G80&\" Annual Throughput\"),\"\")","v":""}]
[]
[null,{"$f":"IF($C$4>5,\"Site Name\",\"\")","v":""},null,null,{"$f":"IF($C$4>5,\"Dryers, Hot Screens, Mixer\",\"\")","v":""},null,null,{"$f":"IF($C$4>5,\"(tons/hr)\",\"\")","v":""},{"$f":"IF($C$4>5,\"(tons/yr)\",\"\")","v":""},"PM2.5","PM10"]
[null,{"$f":"IF($C$4>5,\"County:\",\"\")","v":""},null,null,{"$f":"IF(C100=\"\",\"\",\"AP-7 EP-1\")","v":""},{"$f":"IF(C100=\"\",\"\",\"AP-7 EU-1\")","v":""},{"$f":"IF(C100=\"\",\"\",C5 & \" - \"&C100)","v":""},null,null,{"$f":"IF(C101=\"\",\"\",IF(C101=\"yes\",LOOKUP(G98,'Emission Factors'!$A$12:$A$17,'Emission Factors'!$D$12:$D$17),LOOKUP(G98,'Emission Factors'!$A$5:$A$10,'Emission Factors'!$D$5:$D$10)))","v":""},{"$f":"IF(C101=\"\",\"\",IF(C101=\"yes\",LOOKUP(G98,'Emission Factors'!$A$12:$A$17,'Emission Factors'!$F$12:$F$17),LOOKUP(G98,'Emission Factors'!$A$5:$A$10,'Emission Factors'!$F$5:$F$10)))","v":""}]
[null,{"$f":"IF($C$4>5,\"Production Period (Dates):\",\"\")","v":""},null,null,{"$f":"IF($C$4>5,\"Liquid Asphalt Heater\",\"\")","v":""},null,null,{"$f":"IF($C$4>5,IF(C100=\"natural gas\",\"(MMCF/hr)\",\"(gallons/hr)\"),\"\")","v":""},{"$f":"IF($C$4>5,IF(C100=\"natural gas\",\"(MMCF/yr)\",\"(gallons/yr)\"),\"\")","v":""}]
[null,{"$f":"IF($C$4>5,\"Type of Fuel Used:\",\"\")","v":""},null,null,{"$f":"IF(C100=\"\",\"\",\"AP-7 EP-2\")","v":""},{"$f":"IF(C100=\"\",\"\",\"AP-7 EU-2\")","v":""},{"$f":"IF(C100=\"\",\"\",C100& \" Fired Heater\")","v":""}]
[null,{"$f":"IF($C$4>5,\"Is Your Operation Controlled?:\",\"\")","v":""},null,null,{"$f":"IF($C$4>5,\"Silo Filling, Truck Loadout, Aggregate Transfer\",\"\")","v":""},null,null,{"$f":"IF($C$4>5,\"(tons/hr)\",\"\")","v":""},{"$f":"IF($C$4>5,\"(tons/yr)\",\"\")","v":""}]
[null,null,null,null,{"$f":"IF($C$4>5,\"AP-7 EP-3\",\"\")","v":""},{"$f":"IF($C$4>5,\"AP-7 EU-3\",\"\")","v":""},{"$f":"IF($C$4>5,\"Silo Filling\",\"\")","v":""}]
[null,null,null,null,{"$f":"IF($C$4>5,\"AP-7 EP-3\",\"\")","v":""},{"$f":"IF($C$4>5,\"AP-7 EU-4\",\"\")","v":""},{"$f":"IF($C$4>5,\"Truck Loadout\",\"\")","v":""}]
[null,null,null,null,{"$f":"IF($C$4>5,\"AP-7 EP-3\",\"\")","v":""},{"$f":"IF($C$4>5,\"AP-7 EU-5\",\"\")","v":""},{"$f":"IF($C$4>5,\"Cold Aggregate Bins\",\"\")","v":""}]
[]
[null,null,null,null,{"$f":"IF($C$4>5,\"Stock Pile Area\",\"\")","v":""}]
[null,null,null,null,null,{"$f":"IF($C$4>5,\"Emission Unit #\",\"\")","v":""},{"$f":"IF($C$4>5,\"Maximum Storage Area (acres)\",\"\")","v":""},{"$f":"IF($C$4>5,\"Actual Storage Area (acres)\",\"\")","v":""},{"$f":"IF($C$4>5,\"Actual Days in Existence (days)\",\"\")","v":""}]
[]
[]
[null,{"$f":"IF($C$4>6,\"Asphalt Plant\",\"\")","v":""},{"$f":"IF($C$4>6,\"Site 7\",\"\")","v":""},null,{"$f":"IF($C$4>6,\"Emission Point #\",\"\")","v":""},{"$f":"IF($C$4>6,\"Emission    Unit #\",\"\")","v":""},{"$f":"IF($C$4>6,\"Process\",\"\")","v":""},{"$f":"IF($C$4>6,\"Maximum Hourly     Design Rate\",\"\")","v":""},{"$f":"IF($C$4>6,('Facility Information'!G95&\" Annual Throughput\"),\"\")","v":""}]
[]
[null,{"$f":"IF($C$4>6,\"Site Name\",\"\")","v":""},null,null,{"$f":"IF($C$4>6,\"Dryers, Hot Screens, Mixer\",\"\")","v":""},null,null,{"$f":"IF($C$4>6,\"(tons/hr)\",\"\")","v":""},{"$f":"IF($C$4>6,\"(tons/yr)\",\"\")","v":""},"PM2.5","PM10"]
[null,{"$f":"IF($C$4>6,\"County:\",\"\")","v":""},null,null,{"$f":"IF(C115=\"\",\"\",\"AP-7 EP-1\")","v":""},{"$f":"IF(C115=\"\",\"\",\"AP-7 EU-1\")","v":""},{"$f":"IF(C115=\"\",\"\",C5 & \" - \"&C115)","v":""},null,null,{"$f":"IF(C116=\"\",\"\",IF(C116=\"yes\",LOOKUP(G113,'Emission Factors'!$A$12:$A$17,'Emission Factors'!$D$12:$D$17),LOOKUP(G113,'Emission Factors'!$A$5:$A$10,'Emission Factors'!$D$5:$D$10)))","v":""},{"$f":"IF(C116=\"\",\"\",IF(C116=\"yes\",LOOKUP(G113,'Emission Factors'!$A$12:$A$17,'Emission Factors'!$F$12:$F$17),LOOKUP(G113,'Emission Factors'!$A$5:$A$10,'Emission Factors'!$F$5:$F$10)))","v":""}]
[null,{"$f":"IF($C$4>6,\"Production Period (Dates):\",\"\")","v":""},null,null,{"$f":"IF($C$4>6,\"Liquid Asphalt Heater\",\"\")","v":""},null,null,{"$f":"IF($C$4>6,IF(C115=\"natural gas\",\"(MMCF/hr)\",\"(gallons/hr)\"),\"\")","v":""},{"$f":"IF($C$4>6,IF(C115=\"natural gas\",\"(MMCF/yr)\",\"(gallons/yr)\"),\"\")","v":""}]
[null,{"$f":"IF($C$4>6,\"Type of Fuel Used:\",\"\")","v":""},null,null,{"$f":"IF(C115=\"\",\"\",\"AP-7 EP-2\")","v":""},{"$f":"IF(C115=\"\",\"\",\"AP-7 EU-2\")","v":""},{"$f":"IF(C115=\"\",\"\",C115& \" Fired Heater\")","v":""}]
[null,{"$f":"IF($C$4>6,\"Is Your Operation Controlled?:\",\"\")","v":""},null,null,{"$f":"IF($C$4>6,\"Silo Filling, Truck Loadout, Aggregate Transfer\",\"\")","v":""},null,null,{"$f":"IF($C$4>6,\"(tons/hr)\",\"\")","v":""},{"$f":"IF($C$4>6,\"(tons/yr)\",\"\")","v":""}]
[null,null,null,null,{"$f":"IF($C$4>6,\"AP-7 EP-3\",\"\")","v":""},{"$f":"IF($C$4>6,\"AP-7 EU-3\",\"\")","v":""},{"$f":"IF($C$4>6,\"Silo Filling\",\"\")","v":""}]
[null,null,null,null,{"$f":"IF($C$4>6,\"AP-7 EP-3\",\"\")","v":""},{"$f":"IF($C$4>6,\"AP-7 EU-4\",\"\")","v":""},{"$f":"IF($C$4>6,\"Truck Loadout\",\"\")","v":""}]
[null,null,null,null,{"$f":"IF($C$4>6,\"AP-7 EP-3\",\"\")","v":""},{"$f":"IF($C$4>6,\"AP-7 EU-5\",\"\")","v":""},{"$f":"IF($C$4>6,\"Cold Aggregate Bins\",\"\")","v":""}]
[]
[null,null,null,null,{"$f":"IF($C$4>6,\"Stock Pile Area\",\"\")","v":""}]
[null,null,null,null,null,{"$f":"IF($C$4>6,\"Emission Unit #\",\"\")","v":""},{"$f":"IF($C$4>6,\"Maximum Storage Area (acres)\",\"\")","v":""},{"$f":"IF($C$4>6,\"Actual Storage Area (acres)\",\"\")","v":""},{"$f":"IF($C$4>6,\"Actual Days in Existence (days)\",\"\")","v":""}]
[]
[]
[null,{"$f":"IF($C$4>7,\"Asphalt Plant\",\"\")","v":""},{"$f":"IF($C$4>7,\"Site 8\",\"\")","v":""},null,{"$f":"IF($C$4>7,\"Emission Point #\",\"\")","v":""},{"$f":"IF($C$4>7,\"Emission    Unit #\",\"\")","v":""},{"$f":"IF($C$4>7,\"Process\",\"\")","v":""},{"$f":"IF($C$4>7,\"Maximum Hourly     Design Rate\",\"\")","v":""},{"$f":"IF($C$4>7,('Facility Information'!G110&\" Annual Throughput\"),\"\")","v":""}]
[]
[null,{"$f":"IF($C$4>7,\"Site Name\",\"\")","v":""},null,null,{"$f":"IF($C$4>7,\"Dryers, Hot Screens, Mixer\",\"\")","v":""},null,null,{"$f":"IF($C$4>7,\"(tons/hr)\",\"\")","v":""},{"$f":"IF($C$4>7,\"(tons/yr)\",\"\")","v":""},"PM2.5","PM10"]
[null,{"$f":"IF($C$4>7,\"County:\",\"\")","v":""},null,null,{"$f":"IF(C130=\"\",\"\",\"AP-7 EP-1\")","v":""},{"$f":"IF(C130=\"\",\"\",\"AP-7 EU-1\")","v":""},{"$f":"IF(C130=\"\",\"\",C5 & \" - \"&C130)","v":""},null,null,{"$f":"IF(C131=\"\",\"\",IF(C131=\"yes\",LOOKUP(G128,'Emission Factors'!$A$12:$A$17,'Emission Factors'!$D$12:$D$17),LOOKUP(G128,'Emission Factors'!$A$5:$A$10,'Emission Factors'!$D$5:$D$10)))","v":""},{"$f":"IF(C131=\"\",\"\",IF(C131=\"yes\",LOOKUP(G128,'Emission Factors'!$A$12:$A$17,'Emission Factors'!$F$12:$F$17),LOOKUP(G128,'Emission Factors'!$A$5:$A$10,'Emission Factors'!$F$5:$F$10)))","v":""}]
[null,{"$f":"IF($C$4>7,\"Production Period (Dates):\",\"\")","v":""},null,null,{"$f":"IF($C$4>7,\"Liquid Asphalt Heater\",\"\")","v":""},null,null,{"$f":"IF($C$4>7,IF(C130=\"natural gas\",\"(MMCF/hr)\",\"(gallons/hr)\"),\"\")","v":""},{"$f":"IF($C$4>7,IF(C130=\"natural gas\",\"(MMCF/yr)\",\"(gallons/yr)\"),\"\")","v":""}]
[null,{"$f":"IF($C$4>7,\"Type of Fuel Used:\",\"\")","v":""},null,null,{"$f":"IF(C130=\"\",\"\",\"AP-7 EP-2\")","v":""},{"$f":"IF(C130=\"\",\"\",\"AP-7 EU-2\")","v":""},{"$f":"IF(C130=\"\",\"\",C130& \" Fired Heater\")","v":""}]
[null,{"$f":"IF($C$4>7,\"Is Your Operation Controlled?:\",\"\")","v":""},null,null,{"$f":"IF($C$4>7,\"Silo Filling, Truck Loadout, Aggregate Transfer\",\"\")","v":""},null,null,{"$f":"IF($C$4>7,\"(tons/hr)\",\"\")","v":""},{"$f":"IF($C$4>7,\"(tons/yr)\",\"\")","v":""}]
[null,null,null,null,{"$f":"IF($C$4>7,\"AP-7 EP-3\",\"\")","v":""},{"$f":"IF($C$4>7,\"AP-7 EU-3\",\"\")","v":""},{"$f":"IF($C$4>7,\"Silo Filling\",\"\")","v":""}]
[null,null,null,null,{"$f":"IF($C$4>7,\"AP-7 EP-3\",\"\")","v":""},{"$f":"IF($C$4>7,\"AP-7 EU-4\",\"\")","v":""},{"$f":"IF($C$4>7,\"Truck Loadout\",\"\")","v":""}]
[null,null,null,null,{"$f":"IF($C$4>7,\"AP-7 EP-3\",\"\")","v":""},{"$f":"IF($C$4>7,\"AP-7 EU-5\",\"\")","v":""},{"$f":"IF($C$4>7,\"Cold Aggregate Bins\",\"\")","v":""}]
[]
[null,null,null,null,{"$f":"IF($C$4>7,\"Stock Pile Area\",\"\")","v":""}]
[null,null,null,null,null,{"$f":"IF($C$4>7,\"Emission Unit #\",\"\")","v":""},{"$f":"IF($C$4>7,\"Maximum Storage Area (acres)\",\"\")","v":""},{"$f":"IF($C$4>7,\"Actual Storage Area (acres)\",\"\")","v":""},{"$f":"IF($C$4>7,\"Actual Days in Existence (days)\",\"\")","v":""}]
[]
[]
[null,{"$f":"IF($C$4>8,\"Asphalt Plant\",\"\")","v":""},{"$f":"IF($C$4>8,\"Site 9\",\"\")","v":""},null,{"$f":"IF($C$4>8,\"Emission Point #\",\"\")","v":""},{"$f":"IF($C$4>8,\"Emission    Unit #\",\"\")","v":""},{"$f":"IF($C$4>8,\"Process\",\"\")","v":""},{"$f":"IF($C$4>8,\"Maximum Hourly     Design Rate\",\"\")","v":""},{"$f":"IF($C$4>8,('Facility Information'!G125&\" Annual Throughput\"),\"\")","v":""}]
[]
[null,{"$f":"IF($C$4>8,\"Site Name\",\"\")","v":""},null,null,{"$f":"IF($C$4>8,\"Dryers, Hot Screens, Mixer\",\"\")","v":""},null,null,{"$f":"IF($C$4>8,\"(tons/hr)\",\"\")","v":""},{"$f":"IF($C$4>8,\"(tons/yr)\",\"\")","v":""},"PM2.5","PM10"]
[null,{"$f":"IF($C$4>8,\"County:\",\"\")","v":""},null,null,{"$f":"IF(C145=\"\",\"\",\"AP-7 EP-1\")","v":""},{"$f":"IF(C145=\"\",\"\",\"AP-7 EU-1\")","v":""},{"$f":"IF(C145=\"\",\"\",C5 & \" - \"&C145)","v":""},null,null,{"$f":"IF(C146=\"\",\"\",IF(C146=\"yes\",LOOKUP(G143,'Emission Factors'!$A$12:$A$17,'Emission Factors'!$D$12:$D$17),LOOKUP(G143,'Emission Factors'!$A$5:$A$10,'Emission Factors'!$D$5:$D$10)))","v":""},{"$f":"IF(C146=\"\",\"\",IF(C146=\"yes\",LOOKUP(G143,'Emission Factors'!$A$12:$A$17,'Emission Factors'!$F$12:$F$17),LOOKUP(G143,'Emission Factors'!$A$5:$A$10,'Emission Factors'!$F$5:$F$10)))","v":""}]
[null,{"$f":"IF($C$4>8,\"Production Period (Dates):\",\"\")","v":""},null,null,{"$f":"IF($C$4>8,\"Liquid Asphalt Heater\",\"\")","v":""},null,null,{"$f":"IF($C$4>8,IF(C145=\"natural gas\",\"(MMCF/hr)\",\"(gallons/hr)\"),\"\")","v":""},{"$f":"IF($C$4>8,IF(C145=\"natural gas\",\"(MMCF/yr)\",\"(gallons/yr)\"),\"\")","v":""}]
[null,{"$f":"IF($C$4>8,\"Type of Fuel Used:\",\"\")","v":""},null,null,{"$f":"IF(C145=\"\",\"\",\"AP-7 EP-2\")","v":""},{"$f":"IF(C145=\"\",\"\",\"AP-7 EU-2\")","v":""},{"$f":"IF(C145=\"\",\"\",C145& \" Fired Heater\")","v":""}]
[null,{"$f":"IF($C$4>8,\"Is Your Operation Controlled?:\",\"\")","v":""},null,null,{"$f":"IF($C$4>8,\"Silo Filling, Truck Loadout, Aggregate Transfer\",\"\")","v":""},null,null,{"$f":"IF($C$4>8,\"(tons/hr)\",\"\")","v":""},{"$f":"IF($C$4>8,\"(tons/yr)\",\"\")","v":""}]
[null,null,null,null,{"$f":"IF($C$4>8,\"AP-7 EP-3\",\"\")","v":""},{"$f":"IF($C$4>8,\"AP-7 EU-3\",\"\")","v":""},{"$f":"IF($C$4>8,\"Silo Filling\",\"\")","v":""}]
[null,null,null,null,{"$f":"IF($C$4>8,\"AP-7 EP-3\",\"\")","v":""},{"$f":"IF($C$4>8,\"AP-7 EU-4\",\"\")","v":""},{"$f":"IF($C$4>8,\"Truck Loadout\",\"\")","v":""}]
[null,null,null,null,{"$f":"IF($C$4>8,\"AP-7 EP-3\",\"\")","v":""},{"$f":"IF($C$4>8,\"AP-7 EU-5\",\"\")","v":""},{"$f":"IF($C$4>8,\"Cold Aggregate Bins\",\"\")","v":""}]
[]
[null,null,null,null,{"$f":"IF($C$4>8,\"Stock Pile Area\",\"\")","v":""}]
[null,null,null,null,null,{"$f":"IF($C$4>8,\"Emission Unit #\",\"\")","v":""},{"$f":"IF($C$4>8,\"Maximum Storage Area (acres)\",\"\")","v":""},{"$f":"IF($C$4>8,\"Actual Storage Area (acres)\",\"\")","v":""},{"$f":"IF($C$4>8,\"Actual Days in Existence (days)\",\"\")","v":""}]
[]
[]
[null,{"$f":"IF($C$4>9,\"Asphalt Plant\",\"\")","v":""},{"$f":"IF($C$4>9,\"Site 10\",\"\")","v":""},null,{"$f":"IF($C$4>9,\"Emission Point #\",\"\")","v":""},{"$f":"IF($C$4>9,\"Emission    Unit #\",\"\")","v":""},{"$f":"IF($C$4>9,\"Process\",\"\")","v":""},{"$f":"IF($C$4>9,\"Maximum Hourly     Design Rate\",\"\")","v":""},{"$f":"IF($C$4>9,('Facility Information'!G140&\" Annual Throughput\"),\"\")","v":""}]
[]
[null,{"$f":"IF($C$4>9,\"Site Name\",\"\")","v":""},null,null,{"$f":"IF($C$4>9,\"Dryers, Hot Screens, Mixer\",\"\")","v":""},null,null,{"$f":"IF($C$4>9,\"(tons/hr)\",\"\")","v":""},{"$f":"IF($C$4>9,\"(tons/yr)\",\"\")","v":""},"PM2.5","PM10"]
[null,{"$f":"IF($C$4>9,\"County:\",\"\")","v":""},null,null,{"$f":"IF(C160=\"\",\"\",\"AP-7 EP-1\")","v":""},{"$f":"IF(C160=\"\",\"\",\"AP-7 EU-1\")","v":""},{"$f":"IF(C160=\"\",\"\",C5 & \" - \"&C160)","v":""},null,null,{"$f":"IF(C161=\"\",\"\",IF(C161=\"yes\",LOOKUP(G158,'Emission Factors'!$A$12:$A$17,'Emission Factors'!$D$12:$D$17),LOOKUP(G158,'Emission Factors'!$A$5:$A$10,'Emission Factors'!$D$5:$D$10)))","v":""},{"$f":"IF(C161=\"\",\"\",IF(C161=\"yes\",LOOKUP(G158,'Emission Factors'!$A$12:$A$17,'Emission Factors'!$F$12:$F$17),LOOKUP(G158,'Emission Factors'!$A$5:$A$10,'Emission Factors'!$F$5:$F$10)))","v":""}]
[null,{"$f":"IF($C$4>9,\"Production Period (Dates):\",\"\")","v":""},null,null,{"$f":"IF($C$4>9,\"Liquid Asphalt Heater\",\"\")","v":""},null,null,{"$f":"IF($C$4>9,IF(C160=\"natural gas\",\"(MMCF/hr)\",\"(gallons/hr)\"),\"\")","v":""},{"$f":"IF($C$4>9,IF(C160=\"natural gas\",\"(MMCF/yr)\",\"(gallons/yr)\"),\"\")","v":""}]
[null,{"$f":"IF($C$4>9,\"Type of Fuel Used:\",\"\")","v":""},null,null,{"$f":"IF(C160=\"\",\"\",\"AP-7 EP-2\")","v":""},{"$f":"IF(C160=\"\",\"\",\"AP-7 EU-2\")","v":""},{"$f":"IF(C160=\"\",\"\",C160& \" Fired Heater\")","v":""}]
[null,{"$f":"IF($C$4>9,\"Is Your Operation Controlled?:\",\"\")","v":""},null,null,{"$f":"IF($C$4>9,\"Silo Filling, Truck Loadout, Aggregate Transfer\",\"\")","v":""},null,null,{"$f":"IF($C$4>9,\"(tons/hr)\",\"\")","v":""},{"$f":"IF($C$4>9,\"(tons/yr)\",\"\")","v":""}]
[null,null,null,null,{"$f":"IF($C$4>9,\"AP-7 EP-3\",\"\")","v":""},{"$f":"IF($C$4>9,\"AP-7 EU-3\",\"\")","v":""},{"$f":"IF($C$4>9,\"Silo Filling\",\"\")","v":""}]
[null,null,null,null,{"$f":"IF($C$4>9,\"AP-7 EP-3\",\"\")","v":""},{"$f":"IF($C$4>9,\"AP-7 EU-4\",\"\")","v":""},{"$f":"IF($C$4>9,\"Truck Loadout\",\"\")","v":""}]
[null,null,null,null,{"$f":"IF($C$4>9,\"AP-7 EP-3\",\"\")","v":""},{"$f":"IF($C$4>9,\"AP-7 EU-5\",\"\")","v":""},{"$f":"IF($C$4>9,\"Cold Aggregate Bins\",\"\")","v":""}]
[]
[null,null,null,null,{"$f":"IF($C$4>9,\"Stock Pile Area\",\"\")","v":""}]
[null,null,null,null,null,{"$f":"IF($C$4>9,\"Emission Unit #\",\"\")","v":""},{"$f":"IF($C$4>9,\"Maximum Storage Area (acres)\",\"\")","v":""},{"$f":"IF($C$4>9,\"Actual Storage Area (acres)\",\"\")","v":""},{"$f":"IF($C$4>9,\"Actual Days in Existence (days)\",\"\")","v":""}]

{"sheet":"Asphalt Plant (AP-8)","index":8,"n_rows":167,"n_cols":20,"rows_kept":167,"cut":false,"hidden":true,"merged":[[156,4,156,6],[158,4,158,6],[160,4,160,6],[139,7,140,7],[139,8,140,8],[141,4,141,6],[143,4,143,6],[145,4,145,6],[154,4,155,4],[154,5,155,5],[154,6,155,6],[154,7,155,7],[154,8,155,8],[126,4,126,6],[128,4,128,6],[130,4,130,6],[139,4,140,4],[139,5,140,5],[139,6,140,6],[109,7,110,7],[109,8,110,8],[111,4,111,6],[113,4,113,6],[115,4,115,6],[124,4,125,4],[124,5,125,5],[124,6,125,6],[124,7,125,7],[124,8,125,8],[96,4,96,6],[98,4,98,6],[100,4,100,6],[109,4,110,4],[109,5,110,5],[109,6,110,6],[79,7,80,7],[79,8,80,8],[81,4,81,6],[83,4,83,6],[85,4,85,6],[94,4,95,4],[94,5,95,5],[94,6,95,6],[94,7,95,7],[94,8,95,8],[66,4,66,6],[68,4,68,6],[70,4,70,6],[79,4,80,4],[79,5,80,5],[79,6,80,6],[49,8,50,8],[51,4,51,6],[53,4,53,6],[55,4,55,6],[64,4,65,4],[64,5,65,5],[64,6,65,6],[64,7,65,7],[64,8,65,8],[38,4,38,6],[40,4,40,6],[49,4,50,4],[49,5,50,5],[49,6,50,6],[49,7,50,7],[34,15,35,15],[34,16,35,16],[34,17,35,17],[34,18,35,18],[34,19,35,19],[36,4,36,6],[34,4,35,4],[34,5,35,5],[34,6,35,6],[34,7,35,7],[34,8,35,8],[34,14,35,14],[18,17,19,17],[18,18,19,18],[18,19,19,19],[19,4,20,4],[19,5,20,5],[19,6,20,6],[19,7,20,7],[19,8,20,8],[2,15,3,15],[2,16,3,16],[3,17,4,19],[12,1,14,2],[13,14,13,15],[14,14,14,15],[18,13,19,13],[18,14,19,14],[18,15,19,15],[18,16,19,16],[0,1,0,2],[1,1,1,2],[1,7,1,8],[2,12,3,12],[2,13,3,13],[2,14,3,14]]}
[null,"ASPHALT PLANT (AP-8)"]
[null,"Please fill in the yellow boxes as applicable for your facility. ",null,null,null,null,null,"Values used for calculating emissions →",null,null,null,null,"Values Used to Calculate Potential and Actual Emissions for the Listed Processes at this Plant"]
[null,null,null,null,null,null,null,null,null,null,null,null,"Process","Maximum Design Rate","Units","Actual throughput","Units"]
[null,{"$f":"\"Number of Sites this Plant operated at in \"&'Facility Information'!G5&\":\"","v":"Number of Sites this Plant operated at in :"},null,null,null,null,null,null,null,null,null,null,null,null,null,null,null,"** As of 2016 Potential Emissions are no longer required to be reported in the Minor Source Emissions Inventory**"]
[null,"Plant Type:",null,null,null,null,null,null,null,null,null,null,{"$f":"$C$5 & \" - Fuel Oil\"","v":" - Fuel Oil"},{"$f":"MAX((IFERROR(OFFSET($G$22,MATCH(M5,$G$23,0),1),0)),((IFERROR(OFFSET($G$37,MATCH(M5,$G$38,0),1),0))),((IFERROR(OFFSET($G$52,MATCH(M5,$G$53,0),1),0))),((IFERROR(OFFSET($G$67,MATCH(M5,$G$68,0),1),0))),((IFERROR(OFFSET($G$82,MATCH(M5,$G$83,0),1),0))),((IFERROR(OFFSET($G$97,MATCH(M5,$G$98,0),1),0))),((IFERROR(OFFSET($G$112,MATCH(M5,$G$113,0),1),0))),((IFERROR(OFFSET($G$127,MATCH(M5,$G$128,0),1),0))),((IFERROR(OFFSET($G$142,MATCH(M5,$G$143,0),1),0))),((IFERROR(OFFSET($G$157,MATCH(M5,$G$158,0),1),0))))","v":0},"tons/hr",{"$f":"SUM((IFERROR(OFFSET($G$22,MATCH(M5,$G$23,0),2),0)),((IFERROR(OFFSET($G$37,MATCH(M5,$G$38,0),2),0))),((IFERROR(OFFSET($G$52,MATCH(M5,$G$53,0),2),0))),((IFERROR(OFFSET($G$67,MATCH(M5,$G$68,0),2),0))),((IFERROR(OFFSET($G$82,MATCH(M5,$G$83,0),2),0))),((IFERROR(OFFSET($G$97,MATCH(M5,$G$98,0),2),0))),((IFERROR(OFFSET($G$112,MATCH(M5,$G$113,0),2),0))),((IFERROR(OFFSET($G$127,MATCH(M5,$G$128,0),2),0))),((IFERROR(OFFSET($G$142,MATCH(M5,$G$143,0),2),0))),((IFERROR(OFFSET($G$157,MATCH(M5,$G$158,0),2),0))))","v":0},"tons/yr"]
[null,null,null,null,null,null,null,null,null,null,null,null,{"$f":"$C$5 & \" - Waste Oil\"","v":" - Waste Oil"},{"$f":"MAX((IFERROR(OFFSET($G$22,MATCH(M6,$G$23,0),1),0)),((IFERROR(OFFSET($G$37,MATCH(M6,$G$38,0),1),0))),((IFERROR(OFFSET($G$52,MATCH(M6,$G$53,0),1),0))),((IFERROR(OFFSET($G$67,MATCH(M6,$G$68,0),1),0))),((IFERROR(OFFSET($G$82,MATCH(M6,$G$83,0),1),0))),((IFERROR(OFFSET($G$97,MATCH(M6,$G$98,0),1),0))),((IFERROR(OFFSET($G$112,MATCH(M6,$G$113,0),1),0))),((IFERROR(OFFSET($G$127,MATCH(M6,$G$128,0),1),0))),((IFERROR(OFFSET($G$142,MATCH(M6,$G$143,0),1),0))),((IFERROR(OFFSET($G$157,MATCH(M6,$G$158,0),1),0))))","v":0},"tons/hr",{"$f":"SUM((IFERROR(OFFSET($G$22,MATCH(M6,$G$23,0),2),0)),((IFERROR(OFFSET($G$37,MATCH(M6,$G$38,0),2),0))),((IFERROR(OFFSET($G$52,MATCH(M6,$G$53,0),2),0))),((IFERROR(OFFSET($G$67,MATCH(M6,$G$68,0),2),0))),((IFERROR(OFFSET($G$82,MATCH(M6,$G$83,0),2),0))),((IFERROR(OFFSET($G$97,MATCH(M6,$G$98,0),2),0))),((IFERROR(OFFSET($G$112,MATCH(M6,$G$113,0),2),0))),((IFERROR(OFFSET($G$127,MATCH(M6,$G$128,0),2),0))),((IFERROR(OFFSET($G$142,MATCH(M6,$G$143,0),2),0))),((IFERROR(OFFSET($G$157,MATCH(M6,$G$158,0),2),0))))","v":0},"tons/yr"]
[null,"Plant Specific Permit Number: ",null,null,null,null,null,null,null,null,null,null,{"$f":"$C$5 & \" - Natural Gas\"","v":" - Natural Gas"},{"$f":"MAX((IFERROR(OFFSET($G$22,MATCH(M7,$G$23,0),1),0)),((IFERROR(OFFSET($G$37,MATCH(M7,$G$38,0),1),0))),((IFERROR(OFFSET($G$52,MATCH(M7,$G$53,0),1),0))),((IFERROR(OFFSET($G$67,MATCH(M7,$G$68,0),1),0))),((IFERROR(OFFSET($G$82,MATCH(M7,$G$83,0),1),0))),((IFERROR(OFFSET($G$97,MATCH(M7,$G$98,0),1),0))),((IFERROR(OFFSET($G$112,MATCH(M7,$G$113,0),1),0))),((IFERROR(OFFSET($G$127,MATCH(M7,$G$128,0),1),0))),((IFERROR(OFFSET($G$142,MATCH(M7,$G$143,0),1),0))),((IFERROR(OFFSET($G$157,MATCH(M7,$G$158,0),1),0))))","v":0},"tons/hr",{"$f":"SUM((IFERROR(OFFSET($G$22,MATCH(M7,$G$23,0),2),0)),((IFERROR(OFFSET($G$37,MATCH(M7,$G$38,0),2),0))),((IFERROR(OFFSET($G$52,MATCH(M7,$G$53,0),2),0))),((IFERROR(OFFSET($G$67,MATCH(M7,$G$68,0),2),0))),((IFERROR(OFFSET($G$82,MATCH(M7,$G$83,0),2),0))),((IFERROR(OFFSET($G$97,MATCH(M7,$G$98,0),2),0))),((IFERROR(OFFSET($G$112,MATCH(M7,$G$113,0),2),0))),((IFERROR(OFFSET($G$127,MATCH(M7,$G$128,0),2),0))),((IFERROR(OFFSET($G$142,MATCH(M7,$G$143,0),2),0))),((IFERROR(OFFSET($G$157,MATCH(M7,$G$158,0),2),0))))","v":0},"tons/yr"]
[null,null,null,null,null,null,null,null,null,null,null,null,"Fuel Oil Fired Heater",{"$f":"MAX((IFERROR(OFFSET($G$24,MATCH(\"Fuel Oil Fired Heater\",$G$25,0),1),0)),((IFERROR(OFFSET($G$39,MATCH(\"Fuel Oil Fired Heater\",$G$40,0),1),0))),((IFERROR(OFFSET($G$54,MATCH(\"Fuel Oil Fired Heater\",$G$55,0),1),0))),((IFERROR(OFFSET($G$69,MATCH(\"Fuel Oil Fired Heater\",$G$70,0),1),0))),((IFERROR(OFFSET($G$84,MATCH(\"Fuel Oil Fired Heater\",$G$85,0),1),0))),((IFERROR(OFFSET($G$99,MATCH(\"Fuel Oil Fired Heater\",$G$100,0),1),0))),((IFERROR(OFFSET($G$114,MATCH(\"Fuel Oil Fired Heater\",$G$115,0),1),0))),((IFERROR(OFFSET($G$129,MATCH(\"Fuel Oil Fired Heater\",$G$130,0),1),0))),((IFERROR(OFFSET($G$144,MATCH(\"Fuel Oil Fired Heater\",$G$145,0),1),0))),((IFERROR(OFFSET($G$159,MATCH(\"Fuel Oil Fired Heater\",$G$160,0),1),0))))","v":0},"gallons/hr",{"$f":"SUM((IFERROR(OFFSET($G$24,MATCH(\"Fuel Oil Fired Heater\",$G$25,0),2),0)),((IFERROR(OFFSET($G$39,MATCH(\"Fuel Oil Fired Heater\",$G$40,0),2),0))),((IFERROR(OFFSET($G$54,MATCH(\"Fuel Oil Fired Heater\",$G$55,0),2),0))),((IFERROR(OFFSET($G$69,MATCH(\"Fuel Oil Fired Heater\",$G$70,0),2),0))),((IFERROR(OFFSET($G$84,MATCH(\"Fuel Oil Fired Heater\",$G$85,0),2),0))),((IFERROR(OFFSET($G$99,MATCH(\"Fuel Oil Fired Heater\",$G$100,0),2),0))),((IFERROR(OFFSET($G$114,MATCH(\"Fuel Oil Fired Heater\",$G$115,0),2),0))),((IFERROR(OFFSET($G$129,MATCH(\"Fuel Oil Fired Heater\",$G$130,0),2),0))),((IFERROR(OFFSET($G$144,MATCH(\"Fuel Oil Fired Heater\",$G$145,0),2),0))),((IFERROR(OFFSET($G$159,MATCH(\"Fuel Oil Fired Heater\",$G$160,0),2),0))))","v":0},"gallons/yr"]
[null,"Plant Specific Operating Limits:",null,null,"Plant Specific Emission Limits:",null,null,null,null,null,null,null,"Waste Oil Fired Heater",{"$f":"MAX((IFERROR(OFFSET($G$24,MATCH(\"waste oil Fired Heater\",$G$25,0),1),0)),((IFERROR(OFFSET($G$39,MATCH(\"waste oil Fired Heater\",$G$40,0),1),0))),((IFERROR(OFFSET($G$54,MATCH(\"waste oil Fired Heater\",$G$55,0),1),0))),((IFERROR(OFFSET($G$69,MATCH(\"waste oil Fired Heater\",$G$70,0),1),0))),((IFERROR(OFFSET($G$84,MATCH(\"waste oil Fired Heater\",$G$85,0),1),0))),((IFERROR(OFFSET($G$99,MATCH(\"waste oil Fired Heater\",$G$100,0),1),0))),((IFERROR(OFFSET($G$114,MATCH(\"waste oil Fired Heater\",$G$115,0),1),0))),((IFERROR(OFFSET($G$129,MATCH(\"waste oil Fired Heater\",$G$130,0),1),0))),((IFERROR(OFFSET($G$144,MATCH(\"waste oil Fired Heater\",$G$145,0),1),0))),((IFERROR(OFFSET($G$159,MATCH(\"waste oil Fired Heater\",$G$160,0),1),0))))","v":0},"gallons/hr",{"$f":"SUM((IFERROR(OFFSET($G$24,MATCH(\"waste oil Fired Heater\",$G$25,0),2),0)),((IFERROR(OFFSET($G$39,MATCH(\"waste oil Fired Heater\",$G$40,0),2),0))),((IFERROR(OFFSET($G$54,MATCH(\"waste oil Fired Heater\",$G$55,0),2),0))),((IFERROR(OFFSET($G$69,MATCH(\"waste oil Fired Heater\",$G$70,0),2),0))),((IFERROR(OFFSET($G$84,MATCH(\"waste oil Fired Heater\",$G$85,0),2),0))),((IFERROR(OFFSET($G$99,MATCH(\"waste oil Fired Heater\",$G$100,0),2),0))),((IFERROR(OFFSET($G$114,MATCH(\"waste oil Fired Heater\",$G$115,0),2),0))),((IFERROR(OFFSET($G$129,MATCH(\"waste oil Fired Heater\",$G$130,0),2),0))),((IFERROR(OFFSET($G$144,MATCH(\"waste oil Fired Heater\",$G$145,0),2),0))),((IFERROR(OFFSET($G$159,MATCH(\"waste oil Fired Heater\",$G$160,0),2),0))))","v":0},"gallons/yr"]
[null,"Throughput Limit (tons/yr):",null,null,"Pollutant","lb/hr","tons/yr",null,null,null,null,null,"Natural Gas Fired Heater",{"$f":"MAX((IFERROR(OFFSET($G$24,MATCH(\"Natural Gas Fired Heater\",$G$25,0),1),0)),((IFERROR(OFFSET($G$39,MATCH(\"Natural Gas Fired Heater\",$G$40,0),1),0))),((IFERROR(OFFSET($G$54,MATCH(\"Natural Gas Fired Heater\",$G$55,0),1),0))),((IFERROR(OFFSET($G$69,MATCH(\"Natural Gas Fired Heater\",$G$70,0),1),0))),((IFERROR(OFFSET($G$84,MATCH(\"Natural Gas Fired Heater\",$G$85,0),1),0))),((IFERROR(OFFSET($G$99,MATCH(\"Natural Gas Fired Heater\",$G$100,0),1),0))),((IFERROR(OFFSET($G$114,MATCH(\"Natural Gas Fired Heater\",$G$115,0),1),0))),((IFERROR(OFFSET($G$129,MATCH(\"Natural Gas Fired Heater\",$G$130,0),1),0))),((IFERROR(OFFSET($G$144,MATCH(\"Natural Gas Fired Heater\",$G$145,0),1),0))),((IFERROR(OFFSET($G$159,MATCH(\"Natural Gas Fired Heater\",$G$160,0),1),0))))","v":0},"MMCF/hr",{"$f":"SUM((IFERROR(OFFSET($G$24,MATCH(\"Natural Gas Fired Heater\",$G$25,0),2),0)),((IFERROR(OFFSET($G$39,MATCH(\"Natural Gas Fired Heater\",$G$40,0),2),0))),((IFERROR(OFFSET($G$54,MATCH(\"Natural Gas Fired Heater\",$G$55,0),2),0))),((IFERROR(OFFSET($G$69,MATCH(\"Natural Gas Fired Heater\",$G$70,0),2),0))),((IFERROR(OFFSET($G$84,MATCH(\"Natural Gas Fired Heater\",$G$85,0),2),0))),((IFERROR(OFFSET($G$99,MATCH(\"Natural Gas Fired Heater\",$G$100,0),2),0))),((IFERROR(OFFSET($G$114,MATCH(\"Natural Gas Fired Heater\",$G$115,0),2),0))),((IFERROR(OFFSET($G$129,MATCH(\"Natural Gas Fired Heater\",$G$130,0),2),0))),((IFERROR(OFFSET($G$144,MATCH(\"Natural Gas Fired Heater\",$G$145,0),2),0))),((IFERROR(OFFSET($G$159,MATCH(\"Natural Gas Fired Heater\",$G$160,0),2),0))))","v":0},"MMCF/yr"]
[null,"Daily Throughput Limit (tons/day):",null,null,"PM2.5",null,null,null,null,null,null,null,"Silo Filling",{"$f":"MAX((IFERROR(OFFSET($G$26,MATCH(\"Silo Filling\",$G$27,0),1),0)),((IFERROR(OFFSET($G$41,MATCH(\"Silo Filling\",$G$42,0),1),0))),((IFERROR(OFFSET($G$56,MATCH(\"Silo Filling\",$G$57,0),1),0))),((IFERROR(OFFSET($G$71,MATCH(\"Silo Filling\",$G$72,0),1),0))),((IFERROR(OFFSET($G$86,MATCH(\"Silo Filling\",$G$87,0),1),0))),((IFERROR(OFFSET($G$101,MATCH(\"Silo Filling\",$G$102,0),1),0))),((IFERROR(OFFSET($G$116,MATCH(\"Silo Filling\",$G$117,0),1),0))),((IFERROR(OFFSET($G$131,MATCH(\"Silo Filling\",$G$132,0),1),0))),((IFERROR(OFFSET($G$146,MATCH(\"Silo Filling\",$G$147,0),1),0))),((IFERROR(OFFSET($G$161,MATCH(\"Silo Filling\",$G$162,0),1),0))))","v":0},"tons/hr",{"$f":"SUM((IFERROR(OFFSET($G$26,MATCH(\"Silo Filling\",$G$27,0),2),0)),((IFERROR(OFFSET($G$41,MATCH(\"Silo Filling\",$G$42,0),2),0))),((IFERROR(OFFSET($G$56,MATCH(\"Silo Filling\",$G$57,0),2),0))),((IFERROR(OFFSET($G$71,MATCH(\"Silo Filling\",$G$72,0),2),0))),((IFERROR(OFFSET($G$86,MATCH(\"Silo Filling\",$G$87,0),2),0))),((IFERROR(OFFSET($G$101,MATCH(\"Silo Filling\",$G$102,0),2),0))),((IFERROR(OFFSET($G$116,MATCH(\"Silo Filling\",$G$117,0),2),0))),((IFERROR(OFFSET($G$131,MATCH(\"Silo Filling\",$G$132,0),2),0))),((IFERROR(OFFSET($G$146,MATCH(\"Silo Filling\",$G$147,0),2),0))),((IFERROR(OFFSET($G$161,MATCH(\"Silo Filling\",$G$162,0),2),0))))","v":0},"tons/yr"]
[null,"Hours of Operation Limit (hours/day):",null,null,"PM10",null,null,null,null,null,null,null,"Truck Loadout",{"$f":"MAX((IFERROR(OFFSET(G27,MATCH(\"Truck Loadout\",G28,0),1),0)),((IFERROR(OFFSET(G42,MATCH(\"Truck Loadout\",G43,0),1),0))),((IFERROR(OFFSET(G57,MATCH(\"Truck Loadout\",G58,0),1),0))),((IFERROR(OFFSET(G72,MATCH(\"Truck Loadout\",G73,0),1),0))),((IFERROR(OFFSET(G87,MATCH(\"Truck Loadout\",G88,0),1),0))),((IFERROR(OFFSET(G102,MATCH(\"Truck Loadout\",G103,0),1),0))),((IFERROR(OFFSET(G117,MATCH(\"Truck Loadout\",G118,0),1),0))),((IFERROR(OFFSET(G132,MATCH(\"Truck Loadout\",G133,0),1),0))),((IFERROR(OFFSET(G147,MATCH(\"Truck Loadout\",G148,0),1),0))),((IFERROR(OFFSET(G162,MATCH(\"Truck Loadout\",G163,0),1),0))))","v":0},"tons/hr",{"$f":"SUM((IFERROR(OFFSET(G27,MATCH(\"Truck Loadout\",G28,0),2),0)),((IFERROR(OFFSET(G42,MATCH(\"Truck Loadout\",G43,0),2),0))),((IFERROR(OFFSET(G57,MATCH(\"Truck Loadout\",G58,0),2),0))),((IFERROR(OFFSET(G72,MATCH(\"Truck Loadout\",G73,0),2),0))),((IFERROR(OFFSET(G87,MATCH(\"Truck Loadout\",G88,0),2),0))),((IFERROR(OFFSET(G102,MATCH(\"Truck Loadout\",G103,0),2),0))),((IFERROR(OFFSET(G117,MATCH(\"Truck Loadout\",G118,0),2),0))),((IFERROR(OFFSET(G132,MATCH(\"Truck Loadout\",G133,0),2),0))),((IFERROR(OFFSET(G147,MATCH(\"Truck Loadout\",G148,0),2),0))),((IFERROR(OFFSET(G162,MATCH(\"Truck Loadout\",G163,0),2),0))))","v":0},"tons/yr"]
["Fuel Oil","Note: if the plant has an hrs/day and a tons/hr permit limit, those values should be multiplied together to calculate a tons/day limit and that value should be placed in cell C11.",null,null,"SO2",null,null,null,null,null,null,null,"Cold Aggregate Bins",{"$f":"MAX((IFERROR(OFFSET(G28,MATCH(\"Cold Aggregate Bins\",G29,0),1),0)),((IFERROR(OFFSET(G43,MATCH(\"Cold Aggregate Bins\",G44,0),1),0))),((IFERROR(OFFSET(G58,MATCH(\"Cold Aggregate Bins\",G59,0),1),0))),((IFERROR(OFFSET(G73,MATCH(\"Cold Aggregate Bins\",G74,0),1),0))),((IFERROR(OFFSET(G88,MATCH(\"Cold Aggregate Bins\",G89,0),1),0))),((IFERROR(OFFSET(G103,MATCH(\"Cold Aggregate Bins\",G104,0),1),0))),((IFERROR(OFFSET(G118,MATCH(\"Cold Aggregate Bins\",G119,0),1),0))),((IFERROR(OFFSET(G133,MATCH(\"Cold Aggregate Bins\",G134,0),1),0))),((IFERROR(OFFSET(G148,MATCH(\"Cold Aggregate Bins\",G149,0),1),0))),((IFERROR(OFFSET(G163,MATCH(\"Cold Aggregate Bins\",G164,0),1),0))))","v":0},"tons/hr",{"$f":"SUM((IFERROR(OFFSET(G28,MATCH(\"Cold Aggregate Bins\",G29,0),2),0)),((IFERROR(OFFSET(G43,MATCH(\"Cold Aggregate Bins\",G44,0),2),0))),((IFERROR(OFFSET(G58,MATCH(\"Cold Aggregate Bins\",G59,0),2),0))),((IFERROR(OFFSET(G73,MATCH(\"Cold Aggregate Bins\",G74,0),2),0))),((IFERROR(OFFSET(G88,MATCH(\"Cold Aggregate Bins\",G89,0),2),0))),((IFERROR(OFFSET(G103,MATCH(\"Cold Aggregate Bins\",G104,0),2),0))),((IFERROR(OFFSET(G118,MATCH(\"Cold Aggregate Bins\",G119,0),2),0))),((IFERROR(OFFSET(G133,MATCH(\"Cold Aggregate Bins\",G134,0),2),0))),((IFERROR(OFFSET(G148,MATCH(\"Cold Aggregate Bins\",G149,0),2),0))),((IFERROR(OFFSET(G163,MATCH(\"Cold Aggregate Bins\",G164,0),2),0))))","v":0},"tons/yr"]
["Natural Gas",null,null,null,"NOx",null,null,null,null,null,null,null,null,"Maximum (acres)","Actual (acres-day/yr)"]
["Waste Oil",null,null,null,"VOC",null,null,null,null,null,null,null,"Storage Pile",{"$f":"SUM(G33,G48,G63,G78,G93,G108,G123,G138,G153,G168,)","v":0},{"$f":"SUM(H33*I33,H48*I48,H63*I63,H78*I78,H93*I93,H108*I108,H123*I123,H138*I138,H153*I153,H168*I168)","v":0}]
[null,null,null,null,"CO"]
["Batch Mix Plant"]
["Drum Mix Plant",null,null,null,null,null,null,null,null,null,null,null,"Potential and Actual Emissions for the Listed Processes at this Plant"]
[null,null,null,null,null,null,null,null,null,null,null,null,null,"Maximum Design Rate (tons/hr)","Emission Factor","Units","Potential Uncontrolled Emissions (lb/hr)","Potential Controlled Emissions (lb/hr)","Potential Annual Emissions (tons/yr)","Actual Annual Emissions (tons/yr)"]
[null,"Asphalt Plant","Site 1",null,"Emission Point #","Emission     Unit #","Processes","Maximum Hourly     Design Rate",{"$f":"('Facility Information'!G5&\" Annual Throughput\")","v":" Annual Throughput"},null,null,null,"PM2.5"]
["YES",null,null,null,null,null,null,null,null,null,null,null,{"$f":"$C$5 & \" - Fuel Oil\"","v":" - Fuel Oil"},{"$f":"N5","v":0},{"$f":"IF(N21=0,0,IF(MAX((IFERROR(OFFSET($G$22,MATCH(M21,$G$23,0),3),0)),((IFERROR(OFFSET($G$37,MATCH(M21,$G$38,0),3),0))),((IFERROR(OFFSET($G$52,MATCH(M21,$G$53,0),3),0))),((IFERROR(OFFSET($G$67,MATCH(M21,$G$68,0),3),0))),((IFERROR(OFFSET($G$82,MATCH(M21,$G$83,0),3),0))),((IFERROR(OFFSET($G$97,MATCH(M21,$G$98,0),3),0))),((IFERROR(OFFSET($G$112,MATCH(M21,$G$113,0),3),0))),((IFERROR(OFFSET($G$127,MATCH(M21,$G$128,0),3),0))),((IFERROR(OFFSET($G$142,MATCH(M21,$G$143,0),3),0))),((IFERROR(OFFSET($G$157,MATCH(M21,$G$158,0),3),0))))=0,0,(MAX((IFERROR(OFFSET($G$22,MATCH(M21,$G$23,0),3),0)),((IFERROR(OFFSET($G$37,MATCH(M21,$G$38,0),3),0))),((IFERROR(OFFSET($G$52,MATCH(M21,$G$53,0),3),0))),((IFERROR(OFFSET($G$67,MATCH(M21,$G$68,0),3),0))),((IFERROR(OFFSET($G$82,MATCH(M21,$G$83,0),3),0))),((IFERROR(OFFSET($G$97,MATCH(M21,$G$98,0),3),0))),((IFERROR(OFFSET($G$112,MATCH(M21,$G$113,0),3),0))),((IFERROR(OFFSET($G$127,MATCH(M21,$G$128,0),3),0))),((IFERROR(OFFSET($G$142,MATCH(M21,$G$143,0),3),0))),((IFERROR(OFFSET($G$157,MATCH(M21,$G$158,0),3),0)))))))","v":0},{"$f":"IF(O21=\"\",\"\",\"lb/ton\")","v":"lb/ton"},{"$f":"IF(O21=0.27,N21*O21,IF(O21=1.54,N21*O21,\"\"))","v":""},{"$f":"IF(N21=0,\"\",IF(AND($F$11>0,$O$21>=$O$22,$O$21>=$O$23),$F$11,IF(O21=0.0083,N21*O21,IF(O21=0.007,N21*O21,\"\"))))","v":""},{"$f":"IF(N21=0,0,IF($G$11>0,$G$11,IF(AND(OR($C$10>0,$C$11>0,$C$12>0),$O$21>=$O$22,$O$21>=$O$23),(IF($C$10>0,$C$10*O21/2000,IF($C$11>0,$C$11*365*O21/2000,IF($C$12>0,$C$12*365*O21*N21/2000)))),IF(AND($F$11>0,$O$21>=$O$22,$O$21>=$O$23),$F$11*8760/2000,IF(AND(OR($C$10=\"\",$C$10=0),OR($C$11=\"\",$C$11=0),OR($C$12=\"\",$C$12=0),$F$11=\"\"),IF(R21=\"\",Q21*8760/2000,R21*8760/2000),\"\")))))","v":0},{"$f":"IF(N21=\"\",\"\",SUM((IFERROR(MATCH(M21,$G$23,0)*$I$23*$J$23/2000,0)),(IFERROR(MATCH(M21,$G$38,0)*$I$38*$J$38/2000,0)),(IFERROR(MATCH(M21,$G$53,0)*$I$53*$J$53/2000,0)),(IFERROR(MATCH(M21,$G$68,0)*$I$68*$J$68/2000,0)),(IFERROR(MATCH(M21,$G$83,0)*$I$83*$J$83/2000,0)),(IFERROR(MATCH(M21,$G$98,0)*$I$98*$J$98/2000,0)),(IFERROR(MATCH(M21,$G$113,0)*$I$113*$J$113/2000,0)),(IFERROR(MATCH(M21,$G$128,0)*$I$128*$J$128/2000,0)),(IFERROR(MATCH(M21,$G$143,0)*$I$143*$J$143/2000,0)),(IFERROR(MATCH(M21,$G$158,0)*$I$158*$J$158/2000,0))))","v":0}]
["NO","Site Name:",null,null,"Dryer, Hot Screens, Mixer",null,null,"(tons/hr)","(tons/yr)","PM2.5","PM10",null,{"$f":"$C$5 & \" - Waste Oil\"","v":" - Waste Oil"},{"$f":"N6","v":0},{"$f":"IF(N22=0,0,IF(MAX((IFERROR(OFFSET($G$22,MATCH(M22,$G$23,0),3),0)),((IFERROR(OFFSET($G$37,MATCH(M22,$G$38,0),3),0))),((IFERROR(OFFSET($G$52,MATCH(M22,$G$53,0),3),0))),((IFERROR(OFFSET($G$67,MATCH(M22,$G$68,0),3),0))),((IFERROR(OFFSET($G$82,MATCH(M22,$G$83,0),3),0))),((IFERROR(OFFSET($G$97,MATCH(M22,$G$98,0),3),0))),((IFERROR(OFFSET($G$112,MATCH(M22,$G$113,0),3),0))),((IFERROR(OFFSET($G$127,MATCH(M22,$G$128,0),3),0))),((IFERROR(OFFSET($G$142,MATCH(M22,$G$143,0),3),0))),((IFERROR(OFFSET($G$157,MATCH(M22,$G$158,0),3),0))))=0,0,(MAX((IFERROR(OFFSET($G$22,MATCH(M22,$G$23,0),3),0)),((IFERROR(OFFSET($G$37,MATCH(M22,$G$38,0),3),0))),((IFERROR(OFFSET($G$52,MATCH(M22,$G$53,0),3),0))),((IFERROR(OFFSET($G$67,MATCH(M22,$G$68,0),3),0))),((IFERROR(OFFSET($G$82,MATCH(M22,$G$83,0),3),0))),((IFERROR(OFFSET($G$97,MATCH(M22,$G$98,0),3),0))),((IFERROR(OFFSET($G$112,MATCH(M22,$G$113,0),3),0))),((IFERROR(OFFSET($G$127,MATCH(M22,$G$128,0),3),0))),((IFERROR(OFFSET($G$142,MATCH(M22,$G$143,0),3),0))),((IFERROR(OFFSET($G$157,MATCH(M22,$G$158,0),3),0)))))))","v":0},"lb/ton",{"$f":"IF(O22=0.27,N22*O22,IF(O22=1.54,N22*O22,\"\"))","v":""},{"$f":"IF(N22=0,\"\",IF(AND($F$11>0,$O$22>$O$21,$O$22>=$O$23),$F$11,IF(O22=0.0083,N22*O22,IF(O22=0.007,N22*O22,\"\"))))","v":""},{"$f":"IF(N22=0,0,IF($G$11>0,IF(S21=0,G11,\"\"),IF(AND(OR($C$10>0,$C$11>0,$C$12>0),$O$22>$O$21,$O$22>=$O$23),(IF($C$10>0,$C$10*O22/2000,IF($C$11>0,$C$11*365*O22/2000,IF($C$12>0,$C$12*365*O22*N22/2000)))),IF(AND($F$11>0,$O$22>$O$21,$O$22>=$O$23),$F$11*8760/2000,IF(AND(OR($C$10=\"\",$C$10=0),OR($C$11=\"\",$C$11=0),OR($C$12=\"\",$C$12=0),$F$11=\"\"),IF(R22=\"\",Q22*8760/2000,R22*8760/2000),\"\")))))","v":0},{"$f":"IF(N22=\"\",\"\",SUM((IFERROR(MATCH(M22,$G$23,0)*$I$23*$J$23/2000,0)),(IFERROR(MATCH(M22,$G$38,0)*$I$38*$J$38/2000,0)),(IFERROR(MATCH(M22,$G$53,0)*$I$53*$J$53/2000,0)),(IFERROR(MATCH(M22,$G$68,0)*$I$68*$J$68/2000,0)),(IFERROR(MATCH(M22,$G$83,0)*$I$83*$J$83/2000,0)),(IFERROR(MATCH(M22,$G$98,0)*$I$98*$J$98/2000,0)),(IFERROR(MATCH(M22,$G$113,0)*$I$113*$J$113/2000,0)),(IFERROR(MATCH(M22,$G$128,0)*$I$128*$J$128/2000,0)),(IFERROR(MATCH(M22,$G$143,0)*$I$143*$J$143/2000,0)),(IFERROR(MATCH(M22,$G$158,0)*$I$158*$J$158/2000,0))))","v":0}]
[null,"County:",null,null,{"$f":"IF($C$4>0,\"AP-8 EP-1\",\"\")","v":""},{"$f":"IF($C$4>0,\"AP-8 EU-1\",\"\")","v":""},{"$f":"IF(C25=\"\",\"\",C5 & \" - \"&C25)","v":""},null,null,{"$f":"IF(C26=\"\",\"\",IF(C26=\"yes\",LOOKUP(G23,'Emission Factors'!$A$12:$A$17,'Emission Factors'!$D$12:$D$17),LOOKUP(G23,'Emission Factors'!$A$5:$A$10,'Emission Factors'!$D$5:$D$10)))","v":""},{"$f":"IF(C26=\"\",\"\",IF(C26=\"yes\",LOOKUP(G23,'Emission Factors'!$A$12:$A$17,'Emission Factors'!$F$12:$F$17),LOOKUP(G23,'Emission Factors'!$A$5:$A$10,'Emission Factors'!$F$5:$F$10)))","v":""},null,{"$f":"$C$5 & \" - Natural Gas\"","v":" - Natural Gas"},{"$f":"N7","v":0},{"$f":"IF(N23=0,0,IF(MAX((IFERROR(OFFSET($G$22,MATCH(M23,$G$23,0),3),0)),((IFERROR(OFFSET($G$37,MATCH(M23,$G$38,0),3),0))),((IFERROR(OFFSET($G$52,MATCH(M23,$G$53,0),3),0))),((IFERROR(OFFSET($G$67,MATCH(M23,$G$68,0),3),0))),((IFERROR(OFFSET($G$82,MATCH(M23,$G$83,0),3),0))),((IFERROR(OFFSET($G$97,MATCH(M23,$G$98,0),3),0))),((IFERROR(OFFSET($G$112,MATCH(M23,$G$113,0),3),0))),((IFERROR(OFFSET($G$127,MATCH(M23,$G$128,0),3),0))),((IFERROR(OFFSET($G$142,MATCH(M23,$G$143,0),3),0))),((IFERROR(OFFSET($G$157,MATCH(M23,$G$158,0),3),0))))=0,0,(MAX((IFERROR(OFFSET($G$22,MATCH(M23,$G$23,0),3),0)),((IFERROR(OFFSET($G$37,MATCH(M23,$G$38,0),3),0))),((IFERROR(OFFSET($G$52,MATCH(M23,$G$53,0),3),0))),((IFERROR(OFFSET($G$67,MATCH(M23,$G$68,0),3),0))),((IFERROR(OFFSET($G$82,MATCH(M23,$G$83,0),3),0))),((IFERROR(OFFSET($G$97,MATCH(M23,$G$98,0),3),0))),((IFERROR(OFFSET($G$112,MATCH(M23,$G$113,0),3),0))),((IFERROR(OFFSET($G$127,MATCH(M23,$G$128,0),3),0))),((IFERROR(OFFSET($G$142,MATCH(M23,$G$143,0),3),0))),((IFERROR(OFFSET($G$157,MATCH(M23,$G$158,0),3),0)))))))","v":0},"lb/ton",{"$f":"IF(O23=0.27,N23*O23,IF(O23=1.54,N23*O23,\"\"))","v":""},{"$f":"IF(N23=0,\"\",IF(AND($F$11>0,$O$23>$O$21,$O$23>$O$21),$F$11,IF(O23=0.0083,N23*O23,IF(O23=0.007,N23*O23,\"\"))))","v":""},{"$f":"IF(N23=0,0,IF($G$11>0,IF(AND(S21=0,S22=0),\"\"),IF(AND(OR($C$10>0,$C$11>0,$C$12>0),$O$23>$O$21,$O$23>$O$21),(IF($C$10>0,$C$10*O23/2000,IF($C$11>0,$C$11*365*O23/2000,IF($C$12>0,$C$12*365*O23*N23/2000)))),IF(AND($F$11>0,$O$23>$O$21,$O$23>$O$21),$F$11*8760/2000,IF(AND(OR($C$10=\"\",$C$10=0),OR($C$11=\"\",$C$11=0),OR($C$12=\"\",$C$12=0),$F$11=\"\"),IF(R23=\"\",Q23*8760/2000,R23*8760/2000),\"\")))))","v":0},{"$f":"IF(N23=\"\",\"\",SUM((IFERROR(MATCH(M23,$G$23,0)*$I$23*$J$23/2000,0)),(IFERROR(MATCH(M23,$G$38,0)*$I$38*$J$38/2000,0)),(IFERROR(MATCH(M23,$G$53,0)*$I$53*$J$53/2000,0)),(IFERROR(MATCH(M23,$G$68,0)*$I$68*$J$68/2000,0)),(IFERROR(MATCH(M23,$G$83,0)*$I$83*$J$83/2000,0)),(IFERROR(MATCH(M23,$G$98,0)*$I$98*$J$98/2000,0)),(IFERROR(MATCH(M23,$G$113,0)*$I$113*$J$113/2000,0)),(IFERROR(MATCH(M23,$G$128,0)*$I$128*$J$128/2000,0)),(IFERROR(MATCH(M23,$G$143,0)*$I$143*$J$143/2000,0)),(IFERROR(MATCH(M23,$G$158,0)*$I$158*$J$158/2000,0))))","v":0}]
[null,"Production Period (Dates):",null,null,"Liquid Asphalt Heater",null,null,{"$f":"IF(C25=\"natural gas\", \"(MMCF/hr)\",\"(gallons/hr)\")","v":"(gallons/hr)"},{"$f":"IF(C25=\"natural gas\", \"(MMCF/yr)\",\"(gallons/yr)\")","v":"(gallons/yr)"},null,null,null,"Silo Filling",{"$f":"N11","v":0},{"$f":"IF(N24=0,0,IF(N24=0,0,LOOKUP(M24,'Emission Factors'!$A$23:$A$25,'Emission Factors'!$D$23:$D$25)))","v":0},"lb/ton",{"$f":"N24*O24","v":0},null,{"$f":"IF($G$11>0,\"\",IF($C$10>0,$C$10*O24/2000,IF($C$11>0,$C$11*365*O24/2000,IF($C$12>0,$C$12*365*O24*N24/2000,IF($F$11>0,\"\",IF(R24=\"\",Q24*8760/2000,R24*8760/2000))))))","v":0},{"$f":"(P11*O24/2000)","v":0}]
[null,"Type of Fuel Used:",null,null,{"$f":"IF($C$4>0,\"AP-8 EP-2\",\"\")","v":""},{"$f":"IF($C$4>0,\"AP-8 EU-2\",\"\")","v":""},{"$f":"IF(C25=\"\",\"\",C25& \" Fired Heater\")","v":""},null,null,null,null,null,"Truck Loadout",{"$f":"N12","v":0},{"$f":"IF(N25=0,0,IF(N25=0,0,LOOKUP(M25,'Emission Factors'!$A$23:$A$25,'Emission Factors'!$D$23:$D$25)))","v":0},"lb/ton",{"$f":"N25*O25","v":0},null,{"$f":"IF($G$11>0,\"\",IF($C$10>0,$C$10*O25/2000,IF($C$11>0,$C$11*365*O25/2000,IF($C$12>0,$C$12*365*O25*N25/2000,IF($F$11>0,\"\",IF(R25=\"\",Q25*8760/2000,R25*8760/2000))))))","v":0},{"$f":"(P12*O25/2000)","v":0}]
[null,"Is Your Operation Controlled?:",null,null,"Silo Filling, Truck Loadout, Aggregate Transfer",null,null,"(tons/hr)","(tons/yr)",null,null,null,"Cold Aggregate Bins",{"$f":"N13","v":0},{"$f":"IF(N26=0,0,IF(N26=0,0,LOOKUP(M26,'Emission Factors'!A23:A25,'Emission Factors'!D23:D25)))","v":0},"lb/ton",{"$f":"N26*O26","v":0},null,{"$f":"IF($G$11>0,\"\",IF($C$10>0,$C$10*O26/2000,IF($C$11>0,$C$11*365*O26/2000,IF($C$12>0,$C$12*365*O26*N26/2000,IF($F$11>0,\"\",IF(R26=\"\",Q26*8760/2000,R26*8760/2000))))))","v":0},{"$f":"(P13*O26/2000)","v":0}]
[null,null,null,null,{"$f":"IF($C$4>0,\"AP-8 EP-3\",\"\")","v":""},{"$f":"IF($C$4>0,\"AP-8 EU-3\",\"\")","v":""},{"$f":"IF(C5=\"\",\"\",\"Silo Filling\")","v":""},null,null,null,null,null,"PM10"]
[null,null,null,null,{"$f":"IF($C$4>0,\"AP-8 EP-3\",\"\")","v":""},{"$f":"IF($C$4>0,\"AP-8 EU-4\",\"\")","v":""},{"$f":"IF(C5=\"\",\"\",\"Truck Loadout\")","v":""},null,null,null,null,null,{"$f":"$C$5 & \" - Fuel Oil\"","v":" - Fuel Oil"},{"$f":"N5","v":0},{"$f":"IF(N28=0,0,IF(MAX((IFERROR(OFFSET($G$22,MATCH(M28,$G$23,0),4),0)),((IFERROR(OFFSET($G$37,MATCH(M28,$G$38,0),4),0))),((IFERROR(OFFSET($G$52,MATCH(M28,$G$53,0),4),0))),((IFERROR(OFFSET($G$67,MATCH(M28,$G$68,0),4),0))),((IFERROR(OFFSET($G$82,MATCH(M28,$G$83,0),3),0))),((IFERROR(OFFSET($G$97,MATCH(M28,$G$98,0),4),0))),((IFERROR(OFFSET($G$112,MATCH(M28,$G$113,0),4),0))),((IFERROR(OFFSET($G$127,MATCH(M28,$G$128,0),4),0))),((IFERROR(OFFSET($G$142,MATCH(M28,$G$143,0),4),0))),((IFERROR(OFFSET($G$157,MATCH(M28,$G$158,0),4),0))))=0,0,(MAX((IFERROR(OFFSET($G$22,MATCH(M28,$G$23,0),4),0)),((IFERROR(OFFSET($G$37,MATCH(M28,$G$38,0),4),0))),((IFERROR(OFFSET($G$52,MATCH(M28,$G$53,0),4),0))),((IFERROR(OFFSET($G$67,MATCH(M28,$G$68,0),4),0))),((IFERROR(OFFSET($G$82,MATCH(M28,$G$83,0),4),0))),((IFERROR(OFFSET($G$97,MATCH(M28,$G$98,0),4),0))),((IFERROR(OFFSET($G$112,MATCH(M28,$G$113,0),4),0))),((IFERROR(OFFSET($G$127,MATCH(M28,$G$128,0),4),0))),((IFERROR(OFFSET($G$142,MATCH(M28,$G$143,0),4),0))),((IFERROR(OFFSET($G$157,MATCH(M28,$G$158,0),4),0)))))))","v":0},{"$f":"IF(O28=\"\",\"\",\"lb/ton\")","v":"lb/ton"},{"$f":"IF(O28=4.5,N28*O28,IF(O28=6.5,N28*O28,\"\"))","v":""},{"$f":"IF(N28=0,\"\",IF(AND($F$12>0,$O$28>=$O$29,$O$28>=$O$30),$F$12,IF(O28=0.0098,N28*O28,IF(O28=0.023,N28*O28,\"\"))))","v":""},{"$f":"IF(N28=0,0,IF($G$12>0,$G$12,IF(AND(OR($C$10>0,$C$11>0,$C$12>0),$O$28>=$O$29,$O$28>=$O$30),(IF($C$10>0,$C$10*O28/2000,IF($C$11>0,$C$11*365*O28/2000,IF($C$12>0,$C$12*365*O28*N28/2000)))),IF(AND($F$12>0,$O$28>=$O$29,$O$28>=$O$30),$F$12*8760/2000,IF(AND(OR($C$10=\"\",$C$10=0),OR($C$11=\"\",$C$11=0),OR($C$12=\"\",$C$12=0),$F$12=\"\"),IF(R28=\"\",Q28*8760/2000,R28*8760/2000),\"\")))))","v":0},{"$f":"IF(N28=\"\",\"\",SUM((IFERROR(MATCH(M28,$G$23,0)*$I$23*$K$23/2000,0)),(IFERROR(MATCH(M28,$G$38,0)*$I$38*$K$38/2000,0)),(IFERROR(MATCH(M28,$G$53,0)*$I$53*$K$53/2000,0)),(IFERROR(MATCH(M28,$G$68,0)*$I$68*$K$68/2000,0)),(IFERROR(MATCH(M28,$G$83,0)*$I$83*$K$83/2000,0)),(IFERROR(MATCH(M28,$G$98,0)*$I$98*$K$98/2000,0)),(IFERROR(MATCH(M28,$G$113,0)*$I$113*$K$113/2000,0)),(IFERROR(MATCH(M28,$G$128,0)*$I$128*$K$128/2000,0)),(IFERROR(MATCH(M28,$G$143,0)*$I$143*$K$143/2000,0)),(IFERROR(MATCH(M28,$G$158,0)*$I$158*$K$158/2000,0))))","v":0}]
[null,null,null,null,{"$f":"IF($C$4>0,\"AP-8 EP-3\",\"\")","v":""},{"$f":"IF($C$4>0,\"AP-8 EU-5\",\"\")","v":""},{"$f":"IF(C5=\"\",\"\",\"Cold Aggregate Bins\")","v":""},null,null,null,null,null,{"$f":"$C$5 & \" - Waste Oil\"","v":" - Waste Oil"},{"$f":"N6","v":0},{"$f":"IF(N29=0,0,IF(MAX((IFERROR(OFFSET($G$22,MATCH(M29,$G$23,0),4),0)),((IFERROR(OFFSET($G$37,MATCH(M29,$G$38,0),4),0))),((IFERROR(OFFSET($G$52,MATCH(M29,$G$53,0),4),0))),((IFERROR(OFFSET($G$67,MATCH(M29,$G$68,0),4),0))),((IFERROR(OFFSET($G$82,MATCH(M29,$G$83,0),3),0))),((IFERROR(OFFSET($G$97,MATCH(M29,$G$98,0),4),0))),((IFERROR(OFFSET($G$112,MATCH(M29,$G$113,0),4),0))),((IFERROR(OFFSET($G$127,MATCH(M29,$G$128,0),4),0))),((IFERROR(OFFSET($G$142,MATCH(M29,$G$143,0),4),0))),((IFERROR(OFFSET($G$157,MATCH(M29,$G$158,0),4),0))))=0,0,(MAX((IFERROR(OFFSET($G$22,MATCH(M29,$G$23,0),4),0)),((IFERROR(OFFSET($G$37,MATCH(M29,$G$38,0),4),0))),((IFERROR(OFFSET($G$52,MATCH(M29,$G$53,0),4),0))),((IFERROR(OFFSET($G$67,MATCH(M29,$G$68,0),4),0))),((IFERROR(OFFSET($G$82,MATCH(M29,$G$83,0),4),0))),((IFERROR(OFFSET($G$97,MATCH(M29,$G$98,0),4),0))),((IFERROR(OFFSET($G$112,MATCH(M29,$G$113,0),4),0))),((IFERROR(OFFSET($G$127,MATCH(M29,$G$128,0),4),0))),((IFERROR(OFFSET($G$142,MATCH(M29,$G$143,0),4),0))),((IFERROR(OFFSET($G$157,MATCH(M29,$G$158,0),4),0)))))))","v":0},"lb/ton",{"$f":"IF(O29=4.5,N29*O29,IF(O29=6.5,N29*O29,\"\"))","v":""},{"$f":"IF(N29=0,\"\",IF(AND($F$12>0,$O$29>$O$28,$O$29>=$O$30),$F$12,IF(O29=0.0098,N29*O29,IF(O29=0.023,N29*O29,\"\"))))","v":""},{"$f":"IF(N29=0,0,IF($G$12>0,IF(S28=0,$G$12,\"\"),IF(AND(OR($C$10>0,$C$11>0,$C$12>0),$O$29>$O$28,$O$29>=$O$30),(IF($C$10>0,$C$10*O29/2000,IF($C$11>0,$C$11*365*O29/2000,IF($C$12>0,$C$12*365*O29*N29/2000)))),IF(AND($F$12>0,$O$29>$O$28,$O$29>=$O$30),$F$12*8760/2000,IF(AND(OR($C$10=\"\",$C$10=0),OR($C$11=\"\",$C$11=0),OR($C$12=\"\",$C$12=0),$F$12=\"\"),IF(R29=\"\",Q29*8760/2000,R29*8760/2000),\"\")))))","v":0},{"$f":"IF(N29=\"\",\"\",SUM((IFERROR(MATCH(M29,$G$23,0)*$I$23*$K$23/2000,0)),(IFERROR(MATCH(M29,$G$38,0)*$I$38*$K$38/2000,0)),(IFERROR(MATCH(M29,$G$53,0)*$I$53*$K$53/2000,0)),(IFERROR(MATCH(M29,$G$68,0)*$I$68*$K$68/2000,0)),(IFERROR(MATCH(M29,$G$83,0)*$I$83*$K$83/2000,0)),(IFERROR(MATCH(M29,$G$98,0)*$I$98*$K$98/2000,0)),(IFERROR(MATCH(M29,$G$113,0)*$I$113*$K$113/2000,0)),(IFERROR(MATCH(M29,$G$128,0)*$I$128*$K$128/2000,0)),(IFERROR(MATCH(M29,$G$143,0)*$I$143*$K$143/2000,0)),(IFERROR(MATCH(M29,$G$158,0)*$I$158*$K$158/2000,0))))","v":0}]
[null,null,null,null,null,null,null,null,null,null,null,null,{"$f":"$C$5 & \" - Natural Gas\"","v":" - Natural Gas"},{"$f":"N7","v":0},{"$f":"IF(N30=0,0,IF(MAX((IFERROR(OFFSET($G$22,MATCH(M30,$G$23,0),4),0)),((IFERROR(OFFSET($G$37,MATCH(M30,$G$38,0),4),0))),((IFERROR(OFFSET($G$52,MATCH(M30,$G$53,0),4),0))),((IFERROR(OFFSET($G$67,MATCH(M30,$G$68,0),4),0))),((IFERROR(OFFSET($G$82,MATCH(M30,$G$83,0),3),0))),((IFERROR(OFFSET($G$97,MATCH(M30,$G$98,0),4),0))),((IFERROR(OFFSET($G$112,MATCH(M30,$G$113,0),4),0))),((IFERROR(OFFSET($G$127,MATCH(M30,$G$128,0),4),0))),((IFERROR(OFFSET($G$142,MATCH(M30,$G$143,0),4),0))),((IFERROR(OFFSET($G$157,MATCH(M30,$G$158,0),4),0))))=0,0,(MAX((IFERROR(OFFSET($G$22,MATCH(M30,$G$23,0),4),0)),((IFERROR(OFFSET($G$37,MATCH(M30,$G$38,0),4),0))),((IFERROR(OFFSET($G$52,MATCH(M30,$G$53,0),4),0))),((IFERROR(OFFSET($G$67,MATCH(M30,$G$68,0),4),0))),((IFERROR(OFFSET($G$82,MATCH(M30,$G$83,0),4),0))),((IFERROR(OFFSET($G$97,MATCH(M30,$G$98,0),4),0))),((IFERROR(OFFSET($G$112,MATCH(M30,$G$113,0),4),0))),((IFERROR(OFFSET($G$127,MATCH(M30,$G$128,0),4),0))),((IFERROR(OFFSET($G$142,MATCH(M30,$G$143,0),4),0))),((IFERROR(OFFSET($G$157,MATCH(M30,$G$158,0),4),0)))))))","v":0},"lb/ton",{"$f":"IF(O30=4.5,N30*O30,IF(O30=6.5,N30*O30,\"\"))","v":""},{"$f":"IF(N30=0,\"\",IF(AND($F$12>0,$O$30>$O$28,$O$30>$O$29),$F$12,IF(O30=0.0098,N30*O30,IF(O30=0.023,N30*O30,\"\"))))","v":""},{"$f":"IF(N30=0,0,IF($G$12>0,IF(AND(S28=0,S29=0),$G$12,\"\"),IF(AND(OR($C$10>0,$C$11>0,$C$12>0),$O$30>$O$28,$O$30>$O$29),(IF($C$10>0,$C$10*O30/2000,IF($C$11>0,$C$11*365*O30/2000,IF($C$12>0,$C$12*365*O30*N30/2000)))),IF(AND($F$12>0,$O$30>$O$28,$O$30>$O$29),$F$12*8760/2000,IF(AND(OR($C$10=\"\",$C$10=0),OR($C$11=\"\",$C$11=0),OR($C$12=\"\",$C$12=0),$F$12=\"\"),IF(R30=\"\",Q30*8760/2000,R30*8760/2000),\"\")))))","v":0},{"$f":"IF(N30=\"\",\"\",SUM((IFERROR(MATCH(M30,$G$23,0)*$I$23*$K$23/2000,0)),(IFERROR(MATCH(M30,$G$38,0)*$I$38*$K$38/2000,0)),(IFERROR(MATCH(M30,$G$53,0)*$I$53*$K$53/2000,0)),(IFERROR(MATCH(M30,$G$68,0)*$I$68*$K$68/2000,0)),(IFERROR(MATCH(M30,$G$83,0)*$I$83*$K$83/2000,0)),(IFERROR(MATCH(M30,$G$98,0)*$I$98*$K$98/2000,0)),(IFERROR(MATCH(M30,$G$113,0)*$I$113*$K$113/2000,0)),(IFERROR(MATCH(M30,$G$128,0)*$I$128*$K$128/2000,0)),(IFERROR(MATCH(M30,$G$143,0)*$I$143*$K$143/2000,0)),(IFERROR(MATCH(M30,$G$158,0)*$I$158*$K$158/2000,0))))","v":0}]
[null,null,null,null,"Stock Pile Area",null,null,null,null,null,null,null,"Silo Filling",{"$f":"N11","v":0},{"$f":"IF(N31=0,0,IF(N31=0,0,LOOKUP(M31,'Emission Factors'!$A$23:$A$25,'Emission Factors'!$F$23:$F$25)))","v":0},"lb/ton",{"$f":"N31*O31","v":0},null,{"$f":"IF($G$12>0,\"\",IF($C$10>0,$C$10*O31/2000,IF($C$11>0,$C$11*365*O31/2000,IF($C$12>0,$C$12*365*O31*N31/2000,IF($F$11>0,\"\",IF(R31=\"\",Q31*8760/2000,R31*8760/2000))))))","v":0},{"$f":"(P11*O31/2000)","v":0}]
[null,null,null,null,null,"Emission Unit #","Maximum Storage Area (acres)","Actual Storage Area (acres)","Actual Days in Existence (days)",null,null,null,"Truck Loadout",{"$f":"N12","v":0},{"$f":"IF(N32=0,0,IF(N32=0,0,LOOKUP(M32,'Emission Factors'!$A$23:$A$25,'Emission Factors'!$F$23:$F$25)))","v":0},"lb/ton",{"$f":"N32*O32","v":0},null,{"$f":"IF($G$12>0,\"\",IF($C$10>0,$C$10*O32/2000,IF($C$11>0,$C$11*365*O32/2000,IF($C$12>0,$C$12*365*O32*N32/2000,IF($F$11>0,\"\",IF(R32=\"\",Q32*8760/2000,R32*8760/2000))))))","v":0},{"$f":"(P12*O32/2000)","v":0}]
[null,null,null,null,null,null,null,null,null,null,null,null,"Cold Aggregate Bins",{"$f":"N13","v":0},{"$f":"IF(N33=0,0,IF(N33=0,0,LOOKUP(M33,'Emission Factors'!$A$23:$A$25,'Emission Factors'!$F$23:$F$25)))","v":0},"lb/ton",{"$f":"N33*O33","v":0},null,{"$f":"IF($G$12>0,\"\",IF($C$10>0,$C$10*O33/2000,IF($C$11>0,$C$11*365*O33/2000,IF($C$12>0,$C$12*365*O33*N33/2000,IF($F$11>0,\"\",IF(R33=\"\",Q33*8760/2000,R33*8760/2000))))))","v":0},{"$f":"(P13*O33/2000)","v":0}]
[]
[null,{"$f":"IF($C$4>1,\"Asphalt Plant\",\"\")","v":""},{"$f":"IF($C$4>1,\"Site 2\",\"\")","v":""},null,{"$f":"IF($C$4>1,\"Emission Point #\",\"\")","v":""},{"$f":"IF($C$4>1,\"Emission    Unit #\",\"\")","v":""},{"$f":"IF($C$4>1,\"Process\",\"\")","v":""},{"$f":"IF($C$4>1,\"Maximum Hourly     Design Rate\",\"\")","v":""},{"$f":"IF($C$4>1,('Facility Information'!G20&\" Annual Throughput\"),\"\")","v":""},null,null,null,null,null,"Max Design Rate (acres)","Emission Factor   (lb/acre-day)","Potential Uncontrolled Emissions (lb/hr)","Potential Controlled Emissions (lb/hr)","Potential Annual Emissions (tons/yr)","Actual Annual Emissions (tons/yr)"]
[null,null,null,null,null,null,null,null,null,null,null,null,null,"Storage Pile"]
[null,{"$f":"IF($C$4>1,\"Site Name\",\"\")","v":""},null,null,{"$f":"IF($C$4>1,\"Dryers, Hot Screens, Mixer\",\"\")","v":""},null,null,{"$f":"IF($C$4>1,\"(tons/hr)\",\"\")","v":""},{"$f":"IF($C$4>1,\"(tons/yr)\",\"\")","v":""},"PM2.5","PM10",null,null,"PM2.5/PM10",{"$f":"N15","v":0},3.64,{"$f":"O37*P37*(1/24)","v":0},null,{"$f":"O37*P37*365/2000","v":0},{"$f":"O15*P37/2000","v":0}]
[null,{"$f":"IF($C$4>1,\"County:\",\"\")","v":""},null,null,{"$f":"IF(C40=\"\",\"\",\"AP-8 EP-1\")","v":""},{"$f":"IF(C40=\"\",\"\",\"AP-8 EU-1\")","v":""},{"$f":"IF(C40=\"\",\"\",C5 & \" - \"&C40)","v":""},null,null,{"$f":"IF(C41=\"\",\"\",IF(C41=\"yes\",LOOKUP(G38,'Emission Factors'!$A$12:$A$17,'Emission Factors'!$D$12:$D$17),LOOKUP(G38,'Emission Factors'!$A$5:$A$10,'Emission Factors'!$D$5:$D$10)))","v":""},{"$f":"IF(C41=\"\",\"\",IF(C41=\"yes\",LOOKUP(G38,'Emission Factors'!$A$12:$A$17,'Emission Factors'!$F$12:$F$17),LOOKUP(G38,'Emission Factors'!$A$5:$A$10,'Emission Factors'!$F$5:$F$10)))","v":""}]
[null,{"$f":"IF($C$4>1,\"Production Period (Dates):\",\"\")","v":""},null,null,{"$f":"IF($C$4>1,\"Liquid Asphalt Heater\",\"\")","v":""},null,null,{"$f":"IF($C$4>1,IF(C40=\"natural gas\",\"MMCF/hr\",\"(gallons/hr)\"),\"\")","v":""},{"$f":"IF($C$4>1,IF(C40=\"natural gas\",\"MMCF/yr\",\"(gallons/yr)\"),\"\")","v":""},null,null,null,"SO2"]
[null,{"$f":"IF($C$4>1,\"Type of Fuel Used:\",\"\")","v":""},null,null,{"$f":"IF(C40=\"\",\"\",\"AP-8 EP-2\")","v":""},{"$f":"IF(C40=\"\",\"\",\"AP-8 EU-2\")","v":""},{"$f":"IF(C40=\"\",\"\",C40& \" Fired Heater\")","v":""},null,null,null,null,null,{"$f":"$C$5 & \" - Fuel Oil\"","v":" - Fuel Oil"},{"$f":"$N$5","v":0},{"$f":"IF(N40=0,0,LOOKUP(M40,'Emission Factors'!$A$5:$A$10,'Emission Factors'!$H$5:$H$10))","v":0},{"$f":"IF(O40=\"\",\"\",\"lb/ton\")","v":"lb/ton"},{"$f":"N40*O40","v":0},{"$f":"IF(N40=0,\"\",IF(AND($F$13>0,N41=0),$F$13,\"\"))","v":""},{"$f":"IF(N40=0,0,IF($G$13>0,$G$13,IF(OR(AND($C$10>0,$N$41>0),AND($C$11>0,$N$41>0),AND($C$12>0,$N$41>0)),\"\",IF($C$10>0,$C$10*O40/2000,IF($C$11>0,$C$11*365*O40/2000,IF($C$12>0,$C$12*365*O40*N40/2000,IF(AND(N41>0,F13>0),\"\",IF(R40=\"\",Q40*8760/2000,R40*8760/2000))))))))","v":0},{"$f":"P5*O40/2000","v":0}]
[null,{"$f":"IF($C$4>1,\"Is Your Operation Controlled?:\",\"\")","v":""},null,null,{"$f":"IF($C$4>1,\"Silo Filling, Truck Loadout, Aggregate Transfer\",\"\")","v":""},null,null,{"$f":"IF($C$4>1,\"(tons/hr)\",\"\")","v":""},{"$f":"IF($C$4>1,\"(tons/yr)\",\"\")","v":""},null,null,null,{"$f":"$C$5 & \" - Waste Oil\"","v":" - Waste Oil"},{"$f":"$N$6","v":0},{"$f":"IF(N41=0,0,LOOKUP(M41,'Emission Factors'!$A$5:$A$10,'Emission Factors'!$H$5:$H$10))","v":0},{"$f":"IF(O41=\"\",\"\",\"lb/ton\")","v":"lb/ton"},{"$f":"N41*O41","v":0},{"$f":"IF(N41=0,\"\",IF($F$13>0,$F$13,\"\"))","v":""},{"$f":"IF(N41=0,0,IF($G$13>0,IF(S40=0,G13,\"\"),IF($C$10>0,$C$10*O41/2000,IF($C$11>0,$C$11*365*O41/2000,IF($C$12>0,$C$12*365*O41*N41/2000,IF(R41=\"\",Q41*8760/2000,R41*8760/2000))))))","v":0},{"$f":"P6*O41/2000","v":0}]
[null,null,null,null,{"$f":"IF($C$4>1,\"AP-8 EP-3\",\"\")","v":""},{"$f":"IF($C$4>1,\"AP-8 EU-3\",\"\")","v":""},{"$f":"IF($C$4>1,\"Silo Filling\",\"\")","v":""},null,null,null,null,null,{"$f":"$C$5 & \" - Natural Gas\"","v":" - Natural Gas"},{"$f":"$N$7","v":0},{"$f":"IF(N42=0,0,LOOKUP(M42,'Emission Factors'!$A$5:$A$10,'Emission Factors'!$H$5:$H$10))","v":0},{"$f":"IF(O42=\"\",\"\",\"lb/ton\")","v":"lb/ton"},{"$f":"N42*O42","v":0},{"$f":"IF(N42=0,\"\",IF(AND($F$13>0,N40=0,N41=0),$F$13,\"\"))","v":""},{"$f":"IF(N42=0,0,IF($G$13>0,IF(AND(S40=0,S41=0),G13,\"\"),IF(OR(AND($C$10>0,$N$41>0),AND($C$11>0,$N$41>0),AND($C$12>0,$N$41>0)),\"\",IF(OR(AND($C$10>0,$N$40>0),AND($C$11>0,$N$40>0),AND($C$12>0,$N$40>0)),\"\",IF($C$10>0,$C$10*O42/2000,IF($C$11>0,$C$11*365*O42/2000,IF($C$12>0,$C$12*365*O42*N42/2000,IF(AND(N41>0,N40>0,F13>0),\"\",IF(R42=\"\",Q42*8760/2000,R42*8760/2000)))))))))","v":0},{"$f":"P7*O42/2000","v":0}]
[null,null,null,null,{"$f":"IF($C$4>1,\"AP-8 EP-3\",\"\")","v":""},{"$f":"IF($C$4>1,\"AP-8 EU-4\",\"\")","v":""},{"$f":"IF($C$4>1,\"Truck Loadout\",\"\")","v":""},null,null,null,null,null,"NOx"]
[null,null,null,null,{"$f":"IF($C$4>1,\"AP-8 EP-3\",\"\")","v":""},{"$f":"IF($C$4>1,\"AP-8 EU-5\",\"\")","v":""},{"$f":"IF($C$4>1,\"Cold Aggregate Bins\",\"\")","v":""},null,null,null,null,null,{"$f":"$C$5 & \" - Fuel Oil\"","v":" - Fuel Oil"},{"$f":"$N$5","v":0},{"$f":"IF(N44=0,0,LOOKUP(M44,'Emission Factors'!$A$5:$A$10,'Emission Factors'!$J$5:$J$10))","v":0},{"$f":"IF(O44=\"\",\"\",\"lb/ton\")","v":"lb/ton"},{"$f":"N44*O44","v":0},{"$f":"IF(N44=0,\"\",IF(AND($F$14>0,N45=0),$F$14,\"\"))","v":""},{"$f":"IF(N44=0,0,IF($G$14>0,$G$14,IF(OR(AND($C$10>0,$N$45>0),AND($C$11>0,$N$45>0),AND($C$12>0,$N$45>0)),\"\",IF($C$10>0,$C$10*O44/2000,IF($C$11>0,$C$11*365*O44/2000,IF($C$12>0,$C$12*365*O44*N44/2000,IF(AND(N45>0,F14>0),\"\",IF(R44=\"\",Q44*8760/2000,R44*8760/2000))))))))","v":0},{"$f":"P5*O44/2000","v":0}]
[null,null,null,null,null,null,null,null,null,null,null,null,{"$f":"$C$5 & \" - Waste Oil\"","v":" - Waste Oil"},{"$f":"$N$6","v":0},{"$f":"IF(N45=0,0,LOOKUP(M45,'Emission Factors'!$A$5:$A$10,'Emission Factors'!$J$5:$J$10))","v":0},{"$f":"IF(O45=\"\",\"\",\"lb/ton\")","v":"lb/ton"},{"$f":"N45*O45","v":0},{"$f":"IF(N45=0,\"\",IF($F$14>0,$F$14,\"\"))","v":""},{"$f":"IF(N45=0,0,IF($G$14>0,IF(S44=0,G14,\"\"),IF($C$10>0,$C$10*O45/2000,IF($C$11>0,$C$11*365*O45/2000,IF($C$12>0,$C$12*365*O45*N45/2000,IF(R45=\"\",Q45*8760/2000,R45*8760/2000))))))","v":0},{"$f":"P6*O45/2000","v":0}]
[null,null,null,null,{"$f":"IF($C$4>1,\"Stock Pile Area\",\"\")","v":""},null,null,null,null,null,null,null,{"$f":"$C$5 & \" - Natural Gas\"","v":" - Natural Gas"},{"$f":"$N$7","v":0},{"$f":"IF(N46=0,0,LOOKUP(M46,'Emission Factors'!$A$5:$A$10,'Emission Factors'!$J$5:$J$10))","v":0},{"$f":"IF(O46=\"\",\"\",\"lb/ton\")","v":"lb/ton"},{"$f":"N46*O46","v":0},{"$f":"IF(N46=0,\"\",IF(AND($F$14>0,N44=0,N45=0),$F$14,\"\"))","v":""},{"$f":"IF(N46=0,0,IF($G$14>0,IF(AND(S44=0,S45=0),G14,\"\"),IF(OR(AND($C$10>0,$N$45>0),AND($C$11>0,$N$45>0),AND($C$12>0,$N$45>0)),\"\",IF(OR(AND($C$10>0,$N$44>0),AND($C$11>0,$N$44>0),AND($C$12>0,$N$44>0)),\"\",IF($C$10>0,$C$10*O46/2000,IF($C$11>0,$C$11*365*O46/2000,IF($C$12>0,$C$12*365*O46*N46/2000,IF(AND(N44>0,N45>0,F14>0),\"\",IF(R46=\"\",Q46*8760/2000,R46*8760/2000)))))))))","v":0},{"$f":"P7*O46/2000","v":0}]
[null,null,null,null,null,{"$f":"IF($C$4>1,\"Emission Unit #\",\"\")","v":""},{"$f":"IF($C$4>1,\"Maximum Storage Area (acres)\",\"\")","v":""},{"$f":"IF($C$4>1,\"Actual Storage Area (acres)\",\"\")","v":""},{"$f":"IF($C$4>1,\"Actual Days in Existence (days)\",\"\")","v":""},null,null,null,"VOC"]
[null,null,null,null,null,null,null,null,null,null,null,null,{"$f":"$C$5 & \" - Fuel Oil\"","v":" - Fuel Oil"},{"$f":"$N$5","v":0},{"$f":"IF(N48=0,0,LOOKUP(M48,'Emission Factors'!$A$5:$A$10,'Emission Factors'!$L$5:$L$10))","v":0},{"$f":"IF(O48=\"\",\"\",\"lb/ton\")","v":"lb/ton"},{"$f":"N48*O48","v":0},{"$f":"IF(N48=0,\"\",IF(AND($F$15>0,N49=0),$F$15,\"\"))","v":""},{"$f":"IF(N48=0,0,IF($G$15>0,$G$15,IF(OR(AND($C$10>0,$N$49>0),AND($C$11>0,$N$49>0),AND($C$12>0,$N$49>0)),\"\",IF($C$10>0,$C$10*O48/2000,IF($C$11>0,$C$11*365*O48/2000,IF($C$12>0,$C$12*365*O48*N48/2000,IF(AND(N49>0,F15>0),\"\",IF(R48=\"\",Q48*8760/2000,R48*8760/2000))))))))","v":0},{"$f":"P5*O48/2000","v":0}]
[null,null,null,null,null,null,null,null,null,null,null,null,{"$f":"$C$5 & \" - Waste Oil\"","v":" - Waste Oil"},{"$f":"$N$6","v":0},{"$f":"IF(N49=0,0,LOOKUP(M49,'Emission Factors'!$A$5:$A$10,'Emission Factors'!$L$5:$L$10))","v":0},{"$f":"IF(O49=\"\",\"\",\"lb/ton\")","v":"lb/ton"},{"$f":"N49*O49","v":0},{"$f":"IF(N49=0,\"\",IF($F$15>0,$F$15,\"\"))","v":""},{"$f":"IF(N49=0,0,IF($G$15>0,IF(S48=0,G15,\"\"),IF($C$10>0,$C$10*O49/2000,IF($C$11>0,$C$11*365*O49/2000,IF($C$12>0,$C$12*365*O49*N49/2000,IF(R49=\"\",Q49*8760/2000,R49*8760/2000))))))","v":0},{"$f":"P6*O49/2000","v":0}]
[null,{"$f":"IF($C$4>2,\"Asphalt Plant\",\"\")","v":""},{"$f":"IF($C$4>2,\"Site 3\",\"\")","v":""},null,{"$f":"IF($C$4>2,\"Emission Point #\",\"\")","v":""},{"$f":"IF($C$4>2,\"Emission    Unit #\",\"\")","v":""},{"$f":"IF($C$4>2,\"Process\",\"\")","v":""},{"$f":"IF($C$4>2,\"Maximum Hourly     Design Rate\",\"\")","v":""},{"$f":"IF($C$4>2,('Facility Information'!G35&\" Annual Throughput\"),\"\")","v":""},null,null,null,{"$f":"$C$5 & \" - Natural Gas\"","v":" - Natural Gas"},{"$f":"$N$7","v":0},{"$f":"IF(N50=0,0,LOOKUP(M50,'Emission Factors'!$A$5:$A$10,'Emission Factors'!$L$5:$L$10))","v":0},{"$f":"IF(O50=\"\",\"\",\"lb/ton\")","v":"lb/ton"},{"$f":"N50*O50","v":0},{"$f":"IF(N50=0,\"\",IF(AND($F$15>0,N48=0,N49=0),$F$15,\"\"))","v":""},{"$f":"IF(N50=0,0,IF($G$15>0,IF(AND(S48=0,S49=0),G15,\"\"),IF(OR(AND($C$10>0,$N$49>0),AND($C$11>0,$N$49>0),AND($C$12>0,$N$49>0)),\"\",IF(OR(AND($C$10>0,$N$48>0),AND($C$11>0,$N$48>0),AND($C$12>0,$N$48>0)),\"\",IF($C$10>0,$C$10*O50/2000,IF($C$11>0,$C$11*365*O50/2000,IF($C$12>0,$C$12*365*O50*N50/2000,IF(AND(N48>0,N49>0,F15>0),\"\",IF(R50=\"\",Q50*8760/2000,R50*8760/2000)))))))))","v":0},{"$f":"P7*O50/2000","v":0}]
[null,null,null,null,null,null,null,null,null,null,null,null,"CO"]
[null,{"$f":"IF($C$4>2,\"Site Name\",\"\")","v":""},null,null,{"$f":"IF($C$4>2,\"Dryers, Hot Screens, Mixer\",\"\")","v":""},null,null,{"$f":"IF($C$4>2,\"(tons/hr)\",\"\")","v":""},{"$f":"IF($C$4>2,\"(tons/yr)\",\"\")","v":""},"PM2.5","PM10",null,{"$f":"IF($C$5=\"\",\"\",$C$5)","v":""},{"$f":"SUM($N$5:$N$7)","v":0},{"$f":"IF(N52=0,0,IF(M52=\"Batch Mix Plant\",0.4,IF(M52=\"Drum Mix Plant\",0.13)))","v":0},{"$f":"IF(O52=\"\",\"\",\"lb/ton\")","v":"lb/ton"},{"$f":"N52*O52","v":0},{"$f":"IF(N52=0,\"\",IF($F$16>0,$F$16,\"\"))","v":""},{"$f":"IF($G$16>0,$G$16,IF(N52=0,0,IF($C$10>0,$C$10*O52/2000,IF($C$11>0,$C$11*365*O52/2000,IF($C$12>0,$C$12*365*O52*N52/2000,IF(R52=\"\",Q52*8760/2000,R52*8760/2000))))))","v":0},{"$f":"SUM($P$5:$P$7)*O52/2000","v":0}]
[null,{"$f":"IF($C$4>2,\"County:\",\"\")","v":""},null,null,{"$f":"IF(C55=\"\",\"\",\"AP-8 EP-1\")","v":""},{"$f":"IF(C55=\"\",\"\",\"AP-8 EU-1\")","v":""},{"$f":"IF(C55=\"\",\"\",C5 & \" - \"&C55)","v":""},null,null,{"$f":"IF(C56=\"\",\"\",IF(C56=\"yes\",LOOKUP(G53,'Emission Factors'!$A$12:$A$17,'Emission Factors'!$D$12:$D$17),LOOKUP(G53,'Emission Factors'!$A$5:$A$10,'Emission Factors'!$D$5:$D$10)))","v":""},{"$f":"IF(C56=\"\",\"\",IF(C56=\"yes\",LOOKUP(G53,'Emission Factors'!$A$12:$A$17,'Emission Factors'!$F$12:$F$17),LOOKUP(G53,'Emission Factors'!$A$5:$A$10,'Emission Factors'!$F$5:$F$10)))","v":""},null,"Fuel Oil Fired Heater",{"$f":"N8","v":0},{"$f":"IF(N53=0,0,LOOKUP(M53,'Emission Factors'!$A$19:$A$21,'Emission Factors'!$N$19:$N$21))","v":0},{"$f":"IF(O53=\"\",\"\",\"lb/gallon\")","v":"lb/gallon"},{"$f":"N53*O53","v":0},null,{"$f":"IF(N53=0,0,IF($G$16>0,\"\",IF($F$16>0,\"\",IF(R53=\"\",Q53*8760/2000,R53*8760/2000))))","v":0},{"$f":"(P8*O53/2000)","v":0}]
[null,{"$f":"IF($C$4>2,\"Production Period (Dates):\",\"\")","v":""},null,null,{"$f":"IF($C$4>2,\"Liquid Asphalt Heater\",\"\")","v":""},null,null,{"$f":"IF($C$4>2,IF(C55=\"natural gas\",\"(MMCF/hr)\",\"(gallons/hr)\"),\"\")","v":""},{"$f":"IF($C$4>2,IF(C55=\"natural gas\",\"(MMCF/yr)\",\"(gallons/yr)\"),\"\")","v":""},null,null,null,"Waste Oil Fired Heater",{"$f":"N9","v":0},{"$f":"IF(N54=0,0,LOOKUP(M54,'Emission Factors'!$A$19:$A$21,'Emission Factors'!$N$19:$N$21))","v":0},{"$f":"IF(O54=\"\",\"\",\"lb/gallon\")","v":"lb/gallon"},{"$f":"N54*O54","v":0},null,{"$f":"IF(N54=0,0,IF($G$16>0,\"\",IF($F$16>0,\"\",IF(R54=\"\",Q54*8760/2000,R54*8760/2000))))","v":0},{"$f":"(P9*O54/2000)","v":0}]
[null,{"$f":"IF($C$4>2,\"Type of Fuel Used:\",\"\")","v":""},null,null,{"$f":"IF(C55=\"\",\"\",\"AP-8 EP-2\")","v":""},{"$f":"IF(C55=\"\",\"\",\"AP-8 EU-2\")","v":""},{"$f":"IF(C55=\"\",\"\",C55& \" Fired Heater\")","v":""},null,null,null,null,null,"Natural Gas Fired Heater",{"$f":"N10","v":0},{"$f":"IF(N55=0,0,LOOKUP(M55,'Emission Factors'!$A$19:$A$21,'Emission Factors'!$N$19:$N$21))","v":0},{"$f":"IF(O55=\"\",\"\",\"lb/MMCF\")","v":"lb/MMCF"},{"$f":"N55*O55","v":0},null,{"$f":"IF(N55=0,0,IF($G$16>0,\"\",IF($F$16>0,\"\",IF(R55=\"\",Q55*8760/2000,R55*8760/2000))))","v":0},{"$f":"($P$10*O55/2000)","v":0}]
[null,{"$f":"IF($C$4>2,\"Is Your Operation Controlled?:\",\"\")","v":""},null,null,{"$f":"IF($C$4>2,\"Silo Filling, Truck Loadout, Aggregate Transfer\",\"\")","v":""},null,null,{"$f":"IF($C$4>2,\"(tons/hr)\",\"\")","v":""},{"$f":"IF($C$4>2,\"(tons/yr)\",\"\")","v":""},null,null,null,"Acetaldehyde"]
[null,null,null,null,{"$f":"IF($C$4>2,\"AP-8 EP-3\",\"\")","v":""},{"$f":"IF($C$4>2,\"AP-8 EU-3\",\"\")","v":""},{"$f":"IF($C$4>2,\"Silo Filling\",\"\")","v":""},null,null,null,null,null,{"$f":"IF($C$5=\"\",\"\",$C$5)","v":""},{"$f":"IF(C5=\"drum mix plant\",SUM(N5:$N$6),SUM($N$5:$N$7))","v":0},{"$f":"IF(N57=0,0,IF(M57=\"Batch Mix Plant\",0.00032,IF(M57=\"Drum Mix Plant\",0.0013)))","v":0},{"$f":"IF(O57=\"\",\"\",\"lb/ton\")","v":"lb/ton"},{"$f":"N57*O57","v":0},null,{"$f":"IF(N57=0,0,IF($C$10>0,$C$10*O57/2000,IF($C$11>0,$C$11*365*O57/2000,IF($C$12>0,$C$12*365*O57*N57/2000,IF(R57=\"\",Q57*8760/2000,R57*8760/2000)))))","v":0},{"$f":"IF(C5=\"drum mix plant\",$P$6*O57/2000,SUM($P$5:$P$7)*O57/2000)","v":0}]
[null,null,null,null,{"$f":"IF($C$4>2,\"AP-8 EP-3\",\"\")","v":""},{"$f":"IF($C$4>2,\"AP-8 EU-4\",\"\")","v":""},{"$f":"IF($C$4>2,\"Truck Loadout\",\"\")","v":""},null,null,null,null,null,"Acrolein"]
[null,null,null,null,{"$f":"IF($C$4>2,\"AP-8 EP-3\",\"\")","v":""},{"$f":"IF($C$4>2,\"AP-8 EU-5\",\"\")","v":""},{"$f":"IF($C$4>2,\"Cold Aggregate Bins\",\"\")","v":""},null,null,null,null,null,{"$f":"IF($C$5=\"\",\"\",$C$5)","v":""},{"$f":"IF(C5=\"drum mix plant\",SUM(N5:$N$6),0)","v":0},{"$f":"IF(N59=0,0,0.000026)","v":0},{"$f":"IF(O59=\"\",\"\",\"lb/ton\")","v":"lb/ton"},{"$f":"N59*O59","v":0},null,{"$f":"IF(N59=0,0,IF($C$10>0,$C$10*O59/2000,IF($C$11>0,$C$11*365*O59/2000,IF($C$12>0,$C$12*365*O59*N59/2000,IF(R59=\"\",Q59*8760/2000,R59*8760/2000)))))","v":0},{"$f":"IF(C7=\"drum mix plant\",$P$6*O59/2000,SUM($P$5:$P$7)*O59/2000)","v":0}]
[null,null,null,null,null,null,null,null,null,null,null,null,"Benzene"]
[null,null,null,null,{"$f":"IF($C$4>2,\"Stock Pile Area\",\"\")","v":""},null,null,null,null,null,null,null,{"$f":"IF($C$5=\"\",\"\",$C$5)","v":""},{"$f":"SUM($N$5:$N$7)","v":0},{"$f":"IF(N61=0,0,IF(M61=\"Batch Mix Plant\",0.00028,IF(M61=\"Drum Mix Plant\",0.00039)))","v":0},{"$f":"IF(O61=\"\",\"\",\"lb/ton\")","v":"lb/ton"},{"$f":"N61*O61","v":0},null,{"$f":"IF(N61=0,0,IF($C$10>0,$C$10*O61/2000,IF($C$11>0,$C$11*365*O61/2000,IF($C$12>0,$C$12*365*O61*N61/2000,IF(R61=\"\",Q61*8760/2000,R61*8760/2000)))))","v":0},{"$f":"SUM($P$5:$P$7)*O61/2000","v":0}]
[null,null,null,null,null,{"$f":"IF($C$4>2,\"Emission Unit #\",\"\")","v":""},{"$f":"IF($C$4>2,\"Maximum Storage Area (acres)\",\"\")","v":""},{"$f":"IF($C$4>2,\"Actual Storage Area (acres)\",\"\")","v":""},{"$f":"IF($C$4>2,\"Actual Days in Existence (days)\",\"\")","v":""},null,null,null,"Ethylbenzene"]
[null,null,null,null,null,null,null,null,null,null,null,null,{"$f":"IF($C$5=\"\",\"\",$C$5)","v":""},{"$f":"SUM($N$5:$N$7)","v":0},{"$f":"IF(N63=0,0,IF(M63=\"Batch Mix Plant\",0.0022,IF(M63=\"Drum Mix Plant\",0.00024)))","v":0},{"$f":"IF(O63=\"\",\"\",\"lb/ton\")","v":"lb/ton"},{"$f":"N63*O63","v":0},null,{"$f":"IF(N63=0,0,IF($C$10>0,$C$10*O63/2000,IF($C$11>0,$C$11*365*O63/2000,IF($C$12>0,$C$12*365*O63*N63/2000,IF(R63=\"\",Q63*8760/2000,R63*8760/2000)))))","v":0},{"$f":"SUM($P$5:$P$7)*O63/2000","v":0}]
[null,null,null,null,null,null,null,null,null,null,null,null,"Formaldehyde"]
[null,{"$f":"IF($C$4>3,\"Asphalt Plant\",\"\")","v":""},{"$f":"IF($C$4>3,\"Site 4\",\"\")","v":""},null,{"$f":"IF($C$4>3,\"Emission Point #\",\"\")","v":""},{"$f":"IF($C$4>3,\"Emission    Unit #\",\"\")","v":""},{"$f":"IF($C$4>3,\"Process\",\"\")","v":""},{"$f":"IF($C$4>3,\"Maximum Hourly     Design Rate\",\"\")","v":""},{"$f":"IF($C$4>3,('Facility Information'!G50&\" Annual Throughput\"),\"\")","v":""},null,null,null,{"$f":"IF($C$5=\"\",\"\",$C$5)","v":""},{"$f":"SUM($N$5:$N$7)","v":0},{"$f":"IF(N65=0,0,IF(M65=\"Batch Mix Plant\",0.00074,IF(M65=\"Drum Mix Plant\",0.0031)))","v":0},{"$f":"IF(O65=\"\",\"\",\"lb/ton\")","v":"lb/ton"},{"$f":"N65*O65","v":0},null,{"$f":"IF(N65=0,0,IF($C$10>0,$C$10*O65/2000,IF($C$11>0,$C$11*365*O65/2000,IF($C$12>0,$C$12*365*O65*N65/2000,IF(R65=\"\",Q65*8760/2000,R65*8760/2000)))))","v":0},{"$f":"SUM($P$5:$P$7)*O65/2000","v":0}]
[null,null,null,null,null,null,null,null,null,null,null,null,{"$f":"\"Natural Gas Fired Heater\"","v":"Natural Gas Fired Heater"},{"$f":"N10","v":0},{"$f":"IF(N66=0,0,0.026)","v":0},{"$f":"IF(O66=\"\",\"\",\"lb/MMCF\")","v":"lb/MMCF"},{"$f":"N66*O66","v":0},null,{"$f":"IF(N66=0,0,IF(R66=\"\",Q66*8760/2000,R66*8760/2000))","v":0},{"$f":"($P$10*O66/2000)","v":0}]
[null,{"$f":"IF($C$4>3,\"Site Name\",\"\")","v":""},null," ",{"$f":"IF($C$4>3,\"Dryers, Hot Screens, Mixer\",\"\")","v":""},null,null,{"$f":"IF($C$4>3,\"(tons/hr)\",\"\")","v":""},{"$f":"IF($C$4>3,\"(tons/yr)\",\"\")","v":""},"PM2.5","PM10",null,"Hexane"]
[null,{"$f":"IF($C$4>3,\"County:\",\"\")","v":""},null,null,{"$f":"IF(C70=\"\",\"\",\"AP-8 EP-1\")","v":""},{"$f":"IF(C70=\"\",\"\",\"AP-8 EU-1\")","v":""},{"$f":"IF(C70=\"\",\"\",C5 & \" - \"&C70)","v":""},null,null,{"$f":"IF(C71=\"\",\"\",IF(C71=\"yes\",LOOKUP(G68,'Emission Factors'!$A$12:$A$17,'Emission Factors'!$D$12:$D$17),LOOKUP(G68,'Emission Factors'!$A$5:$A$10,'Emission Factors'!$D$5:$D$10)))","v":""},{"$f":"IF(C71=\"\",\"\",IF(C71=\"yes\",LOOKUP(G68,'Emission Factors'!$A$12:$A$17,'Emission Factors'!$F$12:$F$17),LOOKUP(G68,'Emission Factors'!$A$5:$A$10,'Emission Factors'!$F$5:$F$10)))","v":""},null,{"$f":"IF($C$5=\"\",\"\",$C$5)","v":""},{"$f":"IF(C5=\"drum mix plant\",SUM(N5:N7),0)","v":0},{"$f":"IF(N68=0,0,0.00092)","v":0},{"$f":"IF(O68=\"\",\"\",\"lb/ton\")","v":"lb/ton"},{"$f":"N68*O68","v":0},null,{"$f":"IF(N68=0,0,IF($C$10>0,$C$10*O68/2000,IF($C$11>0,$C$11*365*O68/2000,IF($C$12>0,$C$12*365*O68*N68/2000,IF(R68=\"\",Q68*8760/2000,R68*8760/2000)))))","v":0},{"$f":"IF(N68>0,SUM($P$5:$P$7)*O68/2000,0)","v":0}]
[null,{"$f":"IF($C$4>3,\"Production Period (Dates):\",\"\")","v":""},null,null,{"$f":"IF($C$4>3,\"Liquid Asphalt Heater\",\"\")","v":""},null,null,{"$f":"IF($C$4>3,IF(C70=\"natural gas\",\"(MMCF/hr)\",\"(gallons/hr)\"),\"\")","v":""},{"$f":"IF($C$4>3,IF(C70=\"natural gas\",\"(MMCF/yr)\",\"(gallons/yr)\"),\"\")","v":""},null,null,null,"Hydrochloric Acid"]
[null,{"$f":"IF($C$4>3,\"Type of Fuel Used:\",\"\")","v":""},null,null,{"$f":"IF(C70=\"\",\"\",\"AP-8 EP-2\")","v":""},{"$f":"IF(C70=\"\",\"\",\"AP-8 EU-2\")","v":""},{"$f":"IF(C70=\"\",\"\",C70& \" Fired Heater\")","v":""},null,null,null,null,null,{"$f":"IF($C$5=\"\",\"\",$C$5)","v":""},{"$f":"IF(C5=\"drum mix plant\",SUM(N5:$N$6),0)","v":0},{"$f":"IF(N70=0,0,0.00021)","v":0},{"$f":"IF(O70=\"\",\"\",\"lb/ton\")","v":"lb/ton"},{"$f":"N70*O70","v":0},null,{"$f":"IF(N70=0,0,IF($C$10>0,$C$10*O70/2000,IF($C$11>0,$C$11*365*O70/2000,IF($C$12>0,$C$12*365*O70*N70/2000,IF(R70=\"\",Q70*8760/2000,R70*8760/2000)))))","v":0},{"$f":"IF(N70>0,$P$6*O70/2000,0)","v":0}]
[null,{"$f":"IF($C$4>3,\"Is Your Operation Controlled?:\",\"\")","v":""},null,null,{"$f":"IF($C$4>3,\"Silo Filling, Truck Loadout, Aggregate Transfer\",\"\")","v":""},null,null,{"$f":"IF($C$4>3,\"(tons/hr)\",\"\")","v":""},{"$f":"IF($C$4>3,\"(tons/yr)\",\"\")","v":""},null,null,null,"Methyl Chloroform"]
[null,null,null,null,{"$f":"IF($C$4>3,\"AP-8 EP-3\",\"\")","v":""},{"$f":"IF($C$4>3,\"AP-8 EU-3\",\"\")","v":""},{"$f":"IF($C$4>3,\"Silo Filling\",\"\")","v":""},null,null,null,null,null,{"$f":"IF($C$5=\"\",\"\",$C$5)","v":""},{"$f":"IF(C5=\"drum mix plant\",SUM(N5:N7),0)","v":0},{"$f":"IF(N72=0,0,0.000048)","v":0},{"$f":"IF(O72=\"\",\"\",\"lb/ton\")","v":"lb/ton"},{"$f":"N72*O72","v":0},null,{"$f":"IF(N72=0,0,IF($C$10>0,$C$10*O72/2000,IF($C$11>0,$C$11*365*O72/2000,IF($C$12>0,$C$12*365*O72*N72/2000,IF(R72=\"\",Q72*8760/2000,R72*8760/2000)))))","v":0},{"$f":"IF(N72>0,SUM($P$5:$P$7)*O72/2000,0)","v":0}]
[null,null,null,null,{"$f":"IF($C$4>3,\"AP-8 EP-3\",\"\")","v":""},{"$f":"IF($C$4>3,\"AP-8 EU-4\",\"\")","v":""},{"$f":"IF($C$4>3,\"Truck Loadout\",\"\")","v":""},null,null,null,null,null,"Propionaldehyde"]
[null,null,null,null,{"$f":"IF($C$4>3,\"AP-8 EP-3\",\"\")","v":""},{"$f":"IF($C$4>3,\"AP-8 EU-5\",\"\")","v":""},{"$f":"IF($C$4>3,\"Cold Aggregate Bins\",\"\")","v":""},null,null,null,null,null,{"$f":"IF($C$5=\"\",\"\",$C$5)","v":""},{"$f":"IF(C5=\"drum mix plant\",SUM(N5:$N$6),0)","v":0},{"$f":"IF(N74=0,0,0.00013)","v":0},{"$f":"IF(O74=\"\",\"\",\"lb/ton\")","v":"lb/ton"},{"$f":"N74*O74","v":0},null,{"$f":"IF(N74=0,0,IF($C$10>0,$C$10*O74/2000,IF($C$11>0,$C$11*365*O74/2000,IF($C$12>0,$C$12*365*O74*N74/2000,IF(R74=\"\",Q74*8760/2000,R74*8760/2000)))))","v":0},{"$f":"IF(N74>0,$P$6*O74/2000,0)","v":0}]
[null,null,null,null,null,null,null,null,null,null,null,null,"Quinone"]
[null,null,null,null,{"$f":"IF($C$4>3,\"Stock Pile Area\",\"\")","v":""},null,null,null,null,null,null,null,{"$f":"IF($C$5=\"\",\"\",$C$5)","v":""},{"$f":"IF(C5=\"drum mix plant\",SUM(N5:$N$6),SUM($N$5:$N$7))","v":0},{"$f":"IF(N76=0,0,IF(M76=\"Batch Mix Plant\",0.00027,IF(M76=\"Drum Mix Plant\",0.00016)))","v":0},{"$f":"IF(O76=\"\",\"\",\"lb/ton\")","v":"lb/ton"},{"$f":"N76*O76","v":0},null,{"$f":"IF(N76=0,0,IF($C$10>0,$C$10*O76/2000,IF($C$11>0,$C$11*365*O76/2000,IF($C$12>0,$C$12*365*O76*N76/2000,IF(R76=\"\",Q76*8760/2000,R76*8760/2000)))))","v":0},{"$f":"IF(C24=\"drum mix plant\",$P$6*O76/2000,SUM($P$5:$P$7)*O76/2000)","v":0}]
[null,null,null,null,null,{"$f":"IF($C$4>3,\"Emission Unit #\",\"\")","v":""},{"$f":"IF($C$4>3,\"Maximum Storage Area (acres)\",\"\")","v":""},{"$f":"IF($C$4>3,\"Actual Storage Area (acres)\",\"\")","v":""},{"$f":"IF($C$4>3,\"Actual Days in Existence (days)\",\"\")","v":""},null,null,null,"Toluene"]
[null,null,null,null,null,null,null,null,null,null,null,null,{"$f":"$C$5 & \" - Fuel Oil\"","v":" - Fuel Oil"},{"$f":"$N$5","v":0},{"$f":"IF(N78=0,0,LOOKUP(M78,'Emission Factors'!$A$5:$A$10,'Emission Factors'!$AJ$5:$AJ$10))","v":0},{"$f":"IF(O78=\"\",\"\",\"lb/ton\")","v":"lb/ton"},{"$f":"N78*O78","v":0},null,{"$f":"IF(N78=0,0,IF($C$10>0,$C$10*O78/2000,IF($C$11>0,$C$11*365*O78/2000,IF($C$12>0,$C$12*365*O78*N78/2000,IF(R78=\"\",Q78*8760/2000,R78*8760/2000)))))","v":0},{"$f":"P5*O78/2000","v":0}]
[null,null,null,null,null,null,null,null,null,null,null,null,{"$f":"$C$5 & \" - Waste Oil\"","v":" - Waste Oil"},{"$f":"$N$6","v":0},{"$f":"IF(N79=0,0,LOOKUP(M79,'Emission Factors'!$A$5:$A$10,'Emission Factors'!$AJ$5:$AJ$10))","v":0},{"$f":"IF(O79=\"\",\"\",\"lb/ton\")","v":"lb/ton"},{"$f":"N79*O79","v":0},null,{"$f":"IF(N79=0,0,IF(OR(AND($C$10>0,$N$78>0),AND($C$11>0,$N$78>0),AND($C$12>0,$N$78>0)),\"\",IF($C$10>0,$C$10*O79/2000,IF($C$11>0,$C$11*365*O79/2000,IF($C$12>0,$C$12*365*O79*N79/2000,IF(R79=\"\",Q79*8760/2000,R79*8760/2000))))))","v":0},{"$f":"P6*O79/2000","v":0}]
[null,{"$f":"IF($C$4>4,\"Asphalt Plant\",\"\")","v":""},{"$f":"IF($C$4>4,\"Site 5\",\"\")","v":""},null,{"$f":"IF($C$4>4,\"Emission Point #\",\"\")","v":""},{"$f":"IF($C$4>4,\"Emission    Unit #\",\"\")","v":""},{"$f":"IF($C$4>4,\"Process\",\"\")","v":""},{"$f":"IF($C$4>4,\"Maximum Hourly     Design Rate\",\"\")","v":""},{"$f":"IF($C$4>4,('Facility Information'!G65&\" Annual Throughput\"),\"\")","v":""},null,null,null,{"$f":"$C$5 & \" - Natural Gas\"","v":" - Natural Gas"},{"$f":"$N$7","v":0},{"$f":"IF(N80=0,0,LOOKUP(M80,'Emission Factors'!$A$5:$A$10,'Emission Factors'!$AJ$5:$AJ$10))","v":0},{"$f":"IF(O80=\"\",\"\",\"lb/ton\")","v":"lb/ton"},{"$f":"N80*O80","v":0},null,{"$f":"IF(N80=0,0,IF(OR(AND($C$10>0,$N$78>0),AND($C$11>0,$N$78>0),AND($C$12>0,$N$78>0)),\"\",IF(OR(AND($C$10>0,$N$79>0),AND($C$11>0,$N$79>0),AND($C$12>0,$N$79>0)),\"\",IF($C$10>0,$C$10*O80/2000,IF($C$11>0,$C$11*365*O80/2000,IF($C$12>0,$C$12*365*O80*N80/2000,IF(R80=\"\",Q80*8760/2000,R80*8760/2000)))))))","v":0},{"$f":"P7*O80/2000","v":0}]
[null,null,null,null,null,null,null,null,null,null,null,null,"Xylene"]
[null,{"$f":"IF($C$4>4,\"Site Name\",\"\")","v":""},null,null,{"$f":"IF($C$4>4,\"Dryers, Hot Screens, Mixer\",\"\")","v":""},null,null,{"$f":"IF($C$4>4,\"(tons/hr)\",\"\")","v":""},{"$f":"IF($C$4>4,\"(tons/yr)\",\"\")","v":""},"PM2.5","PM10",null,{"$f":"IF($C$5=\"\",\"\",$C$5)","v":""},{"$f":"SUM($N$5:$N$7)","v":0},{"$f":"IF(N82=0,0,IF(M82=\"Batch Mix Plant\",0.0027,IF(M82=\"Drum Mix Plant\",0.0002)))","v":0},{"$f":"IF(O82=\"\",\"\",\"lb/ton\")","v":"lb/ton"},{"$f":"N82*O82","v":0},null,{"$f":"IF(N82=0,0,IF($C$10>0,$C$10*O82/2000,IF($C$11>0,$C$11*365*O82/2000,IF($C$12>0,$C$12*365*O82*N82/2000,IF(R82=\"\",Q82*8760/2000,R82*8760/2000)))))","v":0},{"$f":"SUM($P$5:$P$7)*O82/2000","v":0}]
[null,{"$f":"IF($C$4>4,\"County:\",\"\")","v":""},null,null,{"$f":"IF(C85=\"\",\"\",\"AP-8 EP-1\")","v":""},{"$f":"IF(C85=\"\",\"\",\"AP-8 EU-1\")","v":""},{"$f":"IF(C85=\"\",\"\",C5 & \" - \"&C85)","v":""},null,null,{"$f":"IF(C86=\"\",\"\",IF(C86=\"yes\",LOOKUP(G83,'Emission Factors'!$A$12:$A$17,'Emission Factors'!$D$12:$D$17),LOOKUP(G83,'Emission Factors'!$A$5:$A$10,'Emission Factors'!$D$5:$D$10)))","v":""},{"$f":"IF(C86=\"\",\"\",IF(C86=\"yes\",LOOKUP(G83,'Emission Factors'!$A$12:$A$17,'Emission Factors'!$F$12:$F$17),LOOKUP(G83,'Emission Factors'!$A$5:$A$10,'Emission Factors'!$F$5:$F$10)))","v":""},null,"2,2,4-Trimethylpentane"]
[null,{"$f":"IF($C$4>4,\"Production Period (Dates):\",\"\")","v":""},null,null,{"$f":"IF($C$4>4,\"Liquid Asphalt Heater\",\"\")","v":""},null,null,{"$f":"IF($C$4>4,IF(C85=\"natural gas\",\"(MMCF/hr)\",\"(gallons/hr)\"),\"\")","v":""},{"$f":"IF($C$4>4,IF(C85=\"natural gas\",\"(MMCF/yr)\",\"(gallons/yr)\"),\"\")","v":""},null,null,null,{"$f":"IF($C$5=\"\",\"\",$C$5)","v":""},{"$f":"IF(C5=\"drum mix plant\",SUM(N5:N7),0)","v":0},{"$f":"IF(N84=0,0,0.00004)","v":0},{"$f":"IF(O84=\"\",\"\",\"lb/ton\")","v":"lb/ton"},{"$f":"N84*O84","v":0},null,{"$f":"IF(N84=0,0,IF($C$10>0,$C$10*O84/2000,IF($C$11>0,$C$11*365*O84/2000,IF($C$12>0,$C$12*365*O84*N84/2000,IF(R84=\"\",Q84*8760/2000,R84*8760/2000)))))","v":0},{"$f":"IF(N84>0,SUM($P$5:$P$7)*O84/2000,0)","v":0}]
[null,{"$f":"IF($C$4>4,\"Type of Fuel Used:\",\"\")","v":""},null,null,{"$f":"IF(C85=\"\",\"\",\"AP-8 EP-2\")","v":""},{"$f":"IF(C85=\"\",\"\",\"AP-8 EU-2\")","v":""},{"$f":"IF(C85=\"\",\"\",C85& \" Fired Heater\")","v":""},null,null,null,"Controlled?",null,"Chromium Compounds"]
[null,{"$f":"IF($C$4>4,\"Is Your Operation Controlled?:\",\"\")","v":""},null,null,{"$f":"IF($C$4>4,\"Silo Filling, Truck Loadout, Aggregate Transfer\",\"\")","v":""},null,null,{"$f":"IF($C$4>4,\"(tons/hr)\",\"\")","v":""},{"$f":"IF($C$4>4,\"(tons/yr)\",\"\")","v":""},null,{"$f":"IF(OR(C26=\"yes\",C41=\"yes\",C71=\"yes\",C86=\"yes\",C101=\"yes\",C116=\"yes\",C131=\"yes\",C146=\"yes\",C161=\"yes\"),1,0)","v":0},null,{"$f":"IF($C$5=\"\",\"\",$C$5)","v":""},{"$f":"IF(C5=\"drum mix plant\",SUM(N5:N6),0)","v":0},{"$f":"IF(N86=0,0,IF($K$86=1,0.0000055,0.000024))","v":0},{"$f":"IF(O86=\"\",\"\",\"lb/ton\")","v":"lb/ton"},{"$f":"IF($K$86=1,\"\",N86*O86)","v":0},{"$f":"IF($K$86=1,N86*O86,\"\")","v":""},{"$f":"IF(N86=0,0,IF($C$10>0,$C$10*O86/2000,IF($C$11>0,$C$11*365*O86/2000,IF($C$12>0,$C$12*365*O86*N86/2000,IF(R86=\"\",Q86*8760/2000,R86*8760/2000)))))","v":0},{"$f":"IF(N86>0,$P$5*O86/2000,0)","v":0}]
[null,null,null,null,{"$f":"IF($C$4>4,\"AP-8 EP-3\",\"\")","v":""},{"$f":"IF($C$4>4,\"AP-8 EU-3\",\"\")","v":""},{"$f":"IF($C$4>4,\"Silo Filling\",\"\")","v":""},null,null,null,null,null,"Lead Compounds"]
[null,null,null,null,{"$f":"IF($C$4>4,\"AP-8 EP-3\",\"\")","v":""},{"$f":"IF($C$4>4,\"AP-8 EU-4\",\"\")","v":""},{"$f":"IF($C$4>4,\"Truck Loadout\",\"\")","v":""},null,null,null,null,null,{"$f":"IF($C$5=\"\",\"\",$C$5)","v":""},{"$f":"IF(C5=\"drum mix plant\",SUM(N5:N6),0)","v":0},{"$f":"IF(N88=0,0,IF($K$86=1,0.000015,0.00054))","v":0},{"$f":"IF(O88=\"\",\"\",\"lb/ton\")","v":"lb/ton"},{"$f":"IF($K$86=1,\"\",N88*O88)","v":0},{"$f":"IF($K$86=1,N88*O88,\"\")","v":""},{"$f":"IF(N88=0,0,IF($C$10>0,$C$10*O88/2000,IF($C$11>0,$C$11*365*O88/2000,IF($C$12>0,$C$12*365*O88*N88/2000,IF(R88=\"\",Q88*8760/2000,R88*8760/2000)))))","v":0},{"$f":"IF(N88>0,$P$5*O88/2000,0)","v":0}]
[null,null,null,null,{"$f":"IF($C$4>4,\"AP-8 EP-3\",\"\")","v":""},{"$f":"IF($C$4>4,\"AP-8 EU-5\",\"\")","v":""},{"$f":"IF($C$4>4,\"Cold Aggregate Bins\",\"\")","v":""},null,null,null,null,null,"Manganese Compounds",null,null,null,0]
[null,null,null,null,null,null,null,null,null,null,null,null,{"$f":"IF($C$5=\"\",\"\",$C$5)","v":""},{"$f":"IF(C5=\"drum mix plant\",SUM(N5:N6),0)","v":0},{"$f":"IF(N90=0,0,IF($K$86=1,0.0000077,0.00065))","v":0},{"$f":"IF(O90=\"\",\"\",\"lb/ton\")","v":"lb/ton"},0,{"$f":"IF($K$86=1,N90*O90,\"\")","v":""},{"$f":"IF(N90=0,0,IF($C$10>0,$C$10*O90/2000,IF($C$11>0,$C$11*365*O90/2000,IF($C$12>0,$C$12*365*O90*N90/2000,IF(R90=\"\",Q90*8760/2000,R90*8760/2000)))))","v":0},{"$f":"IF(N90>0,$P$5*O90/2000,0)","v":0}]
[null,null,null,null,{"$f":"IF($C$4>4,\"Stock Pile Area\",\"\")","v":""},null,null,null,null,null,null,null,"Nickel Compounds",null,null,null,0]
[null,null,null,null,null,{"$f":"IF($C$4>4,\"Emission Unit #\",\"\")","v":""},{"$f":"IF($C$4>4,\"Maximum Storage Area (acres)\",\"\")","v":""},{"$f":"IF($C$4>4,\"Actual Storage Area (acres)\",\"\")","v":""},{"$f":"IF($C$4>4,\"Actual Days in Existence (days)\",\"\")","v":""},null,null,null,{"$f":"$C$5 & \" - Fuel Oil\"","v":" - Fuel Oil"},{"$f":"IF(C5=\"drum mix plant\",N5,0)","v":0},{"$f":"IF(N92=0,0,IF($K$86=1,0.000015,0.0013))","v":0},{"$f":"IF(O92=\"\",\"\",\"lb/ton\")","v":"lb/ton"},0,{"$f":"IF($K$86=1,N92*O92,\"\")","v":""},{"$f":"IF(N92=0,0,IF($C$10>0,$C$10*O92/2000,IF($C$11>0,$C$11*365*O92/2000,IF($C$12>0,$C$12*365*O92*N92/2000,IF(R92=\"\",Q92*8760/2000,R92*8760/2000)))))","v":0},{"$f":"IF(N92>0,$P$5*O92/2000,0)","v":0}]
[null,null,null,null,null,null,null,null,null,null,null,null,{"$f":"$C$5 & \" - Waste Oil\"","v":" - Waste Oil"},{"$f":"IF(C5=\"drum mix plant\",N6,0)","v":0},{"$f":"IF(N93=0,0,IF($K$86=1,0.000015,0.0013))","v":0},{"$f":"IF(O93=\"\",\"\",\"lb/ton\")","v":"lb/ton"},0,{"$f":"IF($K$86=1,N93*O93,\"\")","v":""},{"$f":"IF(N93=0,0,IF($C$10>0,$C$10*O93/2000,IF($C$11>0,$C$11*365*O93/2000,IF($C$12>0,$C$12*365*O93*N93/2000,IF(R93=\"\",Q93*8760/2000,R93*8760/2000)))))","v":0},{"$f":"IF(N93>0,$P$6*O93/2000,0)","v":0}]
[null,null,null,null,null,null,null,null,null,null,null,null,{"$f":"$C$5 & \" - Natural Gas\"","v":" - Natural Gas"},{"$f":"IF(C5=\"drum mix plant\",N7,0)","v":0},{"$f":"IF(N94=0,0,IF($K$86=1,0.000063,0.00063))","v":0},{"$f":"IF(O94=\"\",\"\",\"lb/ton\")","v":"lb/ton"},{"$f":"IF($K$86=1,\"\",N94*O94)","v":0},{"$f":"IF($K$86=1,N94*O94,\"\")","v":""},{"$f":"IF(N94=0,0,IF($C$10>0,$C$10*O94/2000,IF($C$11>0,$C$11*365*O94/2000,IF($C$12>0,$C$12*365*O94*N94/2000,IF(R94=\"\",Q94*8760/2000,R94*8760/2000)))))","v":0},{"$f":"IF(N94>0,$P$7*O94/2000,0)","v":0}]
[null,{"$f":"IF($C$4>5,\"Asphalt Plant\",\"\")","v":""},{"$f":"IF($C$4>5,\"Site 6\",\"\")","v":""},null,{"$f":"IF($C$4>5,\"Emission Point #\",\"\")","v":""},{"$f":"IF($C$4>5,\"Emission    Unit #\",\"\")","v":""},{"$f":"IF($C$4>5,\"Process\",\"\")","v":""},{"$f":"IF($C$4>5,\"Maximum Hourly     Design Rate\",\"\")","v":""},{"$f":"IF($C$4>5,('Facility Information'!G80&\" Annual Throughput\"),\"\")","v":""}]
[]
[null,{"$f":"IF($C$4>5,\"Site Name\",\"\")","v":""},null,null,{"$f":"IF($C$4>5,\"Dryers, Hot Screens, Mixer\",\"\")","v":""},null,null,{"$f":"IF($C$4>5,\"(tons/hr)\",\"\")","v":""},{"$f":"IF($C$4>5,\"(tons/yr)\",\"\")","v":""},"PM2.5","PM10"]
[null,{"$f":"IF($C$4>5,\"County:\",\"\")","v":""},null,null,{"$f":"IF(C100=\"\",\"\",\"AP-8 EP-1\")","v":""},{"$f":"IF(C100=\"\",\"\",\"AP-8 EU-1\")","v":""},{"$f":"IF(C100=\"\",\"\",C5 & \" - \"&C100)","v":""},null,null,{"$f":"IF(C101=\"\",\"\",IF(C101=\"yes\",LOOKUP(G98,'Emission Factors'!$A$12:$A$17,'Emission Factors'!$D$12:$D$17),LOOKUP(G98,'Emission Factors'!$A$5:$A$10,'Emission Factors'!$D$5:$D$10)))","v":""},{"$f":"IF(C101=\"\",\"\",IF(C101=\"yes\",LOOKUP(G98,'Emission Factors'!$A$12:$A$17,'Emission Factors'!$F$12:$F$17),LOOKUP(G98,'Emission Factors'!$A$5:$A$10,'Emission Factors'!$F$5:$F$10)))","v":""}]
[null,{"$f":"IF($C$4>5,\"Production Period (Dates):\",\"\")","v":""},null,null,{"$f":"IF($C$4>5,\"Liquid Asphalt Heater\",\"\")","v":""},null,null,{"$f":"IF($C$4>5,IF(C100=\"natural gas\",\"(MMCF/hr)\",\"(gallons/hr)\"),\"\")","v":""},{"$f":"IF($C$4>5,IF(C100=\"natural gas\",\"(MMCF/yr)\",\"(gallons/yr)\"),\"\")","v":""}]
[null,{"$f":"IF($C$4>5,\"Type of Fuel Used:\",\"\")","v":""},null,null,{"$f":"IF(C100=\"\",\"\",\"AP-8 EP-2\")","v":""},{"$f":"IF(C100=\"\",\"\",\"AP-8 EU-2\")","v":""},{"$f":"IF(C100=\"\",\"\",C100& \" Fired Heater\")","v":""}]
[null,{"$f":"IF($C$4>5,\"Is Your Operation Controlled?:\",\"\")","v":""},null,null,{"$f":"IF($C$4>5,\"Silo Filling, Truck Loadout, Aggregate Transfer\",\"\")","v":""},null,null,{"$f":"IF($C$4>5,\"(tons/hr)\",\"\")","v":""},{"$f":"IF($C$4>5,\"(tons/yr)\",\"\")","v":""}]
[null,null,null,null,{"$f":"IF($C$4>5,\"AP-8 EP-3\",\"\")","v":""},{"$f":"IF($C$4>5,\"AP-8 EU-3\",\"\")","v":""},{"$f":"IF($C$4>5,\"Silo Filling\",\"\")","v":""}]
[null,null,null,null,{"$f":"IF($C$4>5,\"AP-8 EP-3\",\"\")","v":""},{"$f":"IF($C$4>5,\"AP-8 EU-4\",\"\")","v":""},{"$f":"IF($C$4>5,\"Truck Loadout\",\"\")","v":""}]
[null,null,null,null,{"$f":"IF($C$4>5,\"AP-8 EP-3\",\"\")","v":""},{"$f":"IF($C$4>5,\"AP-8 EU-5\",\"\")","v":""},{"$f":"IF($C$4>5,\"Cold Aggregate Bins\",\"\")","v":""}]
[]
[null,null,null,null,{"$f":"IF($C$4>5,\"Stock Pile Area\",\"\")","v":""}]
[null,null,null,null,null,{"$f":"IF($C$4>5,\"Emission Unit #\",\"\")","v":""},{"$f":"IF($C$4>5,\"Maximum Storage Area (acres)\",\"\")","v":""},{"$f":"IF($C$4>5,\"Actual Storage Area (acres)\",\"\")","v":""},{"$f":"IF($C$4>5,\"Actual Days in Existence (days)\",\"\")","v":""}]
[]
[]
[null,{"$f":"IF($C$4>6,\"Asphalt Plant\",\"\")","v":""},{"$f":"IF($C$4>6,\"Site 7\",\"\")","v":""},null,{"$f":"IF($C$4>6,\"Emission Point #\",\"\")","v":""},{"$f":"IF($C$4>6,\"Emission    Unit #\",\"\")","v":""},{"$f":"IF($C$4>6,\"Process\",\"\")","v":""},{"$f":"IF($C$4>6,\"Maximum Hourly     Design Rate\",\"\")","v":""},{"$f":"IF($C$4>6,('Facility Information'!G95&\" Annual Throughput\"),\"\")","v":""}]
[]
[null,{"$f":"IF($C$4>6,\"Site Name\",\"\")","v":""},null,null,{"$f":"IF($C$4>6,\"Dryers, Hot Screens, Mixer\",\"\")","v":""},null,null,{"$f":"IF($C$4>6,\"(tons/hr)\",\"\")","v":""},{"$f":"IF($C$4>6,\"(tons/yr)\",\"\")","v":""},"PM2.5","PM10"]
[null,{"$f":"IF($C$4>6,\"County:\",\"\")","v":""},null,null,{"$f":"IF(C115=\"\",\"\",\"AP-8 EP-1\")","v":""},{"$f":"IF(C115=\"\",\"\",\"AP-8 EU-1\")","v":""},{"$f":"IF(C115=\"\",\"\",C5 & \" - \"&C115)","v":""},null,null,{"$f":"IF(C116=\"\",\"\",IF(C116=\"yes\",LOOKUP(G113,'Emission Factors'!$A$12:$A$17,'Emission Factors'!$D$12:$D$17),LOOKUP(G113,'Emission Factors'!$A$5:$A$10,'Emission Factors'!$D$5:$D$10)))","v":""},{"$f":"IF(C116=\"\",\"\",IF(C116=\"yes\",LOOKUP(G113,'Emission Factors'!$A$12:$A$17,'Emission Factors'!$F$12:$F$17),LOOKUP(G113,'Emission Factors'!$A$5:$A$10,'Emission Factors'!$F$5:$F$10)))","v":""}]
[null,{"$f":"IF($C$4>6,\"Production Period (Dates):\",\"\")","v":""},null,null,{"$f":"IF($C$4>6,\"Liquid Asphalt Heater\",\"\")","v":""},null,null,{"$f":"IF($C$4>6,IF(C115=\"natural gas\",\"(MMCF/hr)\",\"(gallons/hr)\"),\"\")","v":""},{"$f":"IF($C$4>6,IF(C115=\"natural gas\",\"(MMCF/yr)\",\"(gallons/yr)\"),\"\")","v":""}]
[null,{"$f":"IF($C$4>6,\"Type of Fuel Used:\",\"\")","v":""},null,null,{"$f":"IF(C115=\"\",\"\",\"AP-8 EP-2\")","v":""},{"$f":"IF(C115=\"\",\"\",\"AP-8 EU-2\")","v":""},{"$f":"IF(C115=\"\",\"\",C115& \" Fired Heater\")","v":""}]
[null,{"$f":"IF($C$4>6,\"Is Your Operation Controlled?:\",\"\")","v":""},null,null,{"$f":"IF($C$4>6,\"Silo Filling, Truck Loadout, Aggregate Transfer\",\"\")","v":""},null,null,{"$f":"IF($C$4>6,\"(tons/hr)\",\"\")","v":""},{"$f":"IF($C$4>6,\"(tons/yr)\",\"\")","v":""}]
[null,null,null,null,{"$f":"IF($C$4>6,\"AP-8 EP-3\",\"\")","v":""},{"$f":"IF($C$4>6,\"AP-8 EU-3\",\"\")","v":""},{"$f":"IF($C$4>6,\"Silo Filling\",\"\")","v":""}]
[null,null,null,null,{"$f":"IF($C$4>6,\"AP-8 EP-3\",\"\")","v":""},{"$f":"IF($C$4>6,\"AP-8 EU-4\",\"\")","v":""},{"$f":"IF($C$4>6,\"Truck Loadout\",\"\")","v":""}]
[null,null,null,null,{"$f":"IF($C$4>6,\"AP-8 EP-3\",\"\")","v":""},{"$f":"IF($C$4>6,\"AP-8 EU-5\",\"\")","v":""},{"$f":"IF($C$4>6,\"Cold Aggregate Bins\",\"\")","v":""}]
[]
[null,null,null,null,{"$f":"IF($C$4>6,\"Stock Pile Area\",\"\")","v":""}]
[null,null,null,null,null,{"$f":"IF($C$4>6,\"Emission Unit #\",\"\")","v":""},{"$f":"IF($C$4>6,\"Maximum Storage Area (acres)\",\"\")","v":""},{"$f":"IF($C$4>6,\"Actual Storage Area (acres)\",\"\")","v":""},{"$f":"IF($C$4>6,\"Actual Days in Existence (days)\",\"\")","v":""}]
[]
[]
[null,{"$f":"IF($C$4>7,\"Asphalt Plant\",\"\")","v":""},{"$f":"IF($C$4>7,\"Site 8\",\"\")","v":""},null,{"$f":"IF($C$4>7,\"Emission Point #\",\"\")","v":""},{"$f":"IF($C$4>7,\"Emission    Unit #\",\"\")","v":""},{"$f":"IF($C$4>7,\"Process\",\"\")","v":""},{"$f":"IF($C$4>7,\"Maximum Hourly     Design Rate\",\"\")","v":""},{"$f":"IF($C$4>7,('Facility Information'!G110&\" Annual Throughput\"),\"\")","v":""}]
[]
[null,{"$f":"IF($C$4>7,\"Site Name\",\"\")","v":""},null,null,{"$f":"IF($C$4>7,\"Dryers, Hot Screens, Mixer\",\"\")","v":""},null,null,{"$f":"IF($C$4>7,\"(tons/hr)\",\"\")","v":""},{"$f":"IF($C$4>7,\"(tons/yr)\",\"\")","v":""},"PM2.5","PM10"]
[null,{"$f":"IF($C$4>7,\"County:\",\"\")","v":""},null,null,{"$f":"IF(C130=\"\",\"\",\"AP-8 EP-1\")","v":""},{"$f":"IF(C130=\"\",\"\",\"AP-8 EU-1\")","v":""},{"$f":"IF(C130=\"\",\"\",C5 & \" - \"&C130)","v":""},null,null,{"$f":"IF(C131=\"\",\"\",IF(C131=\"yes\",LOOKUP(G128,'Emission Factors'!$A$12:$A$17,'Emission Factors'!$D$12:$D$17),LOOKUP(G128,'Emission Factors'!$A$5:$A$10,'Emission Factors'!$D$5:$D$10)))","v":""},{"$f":"IF(C131=\"\",\"\",IF(C131=\"yes\",LOOKUP(G128,'Emission Factors'!$A$12:$A$17,'Emission Factors'!$F$12:$F$17),LOOKUP(G128,'Emission Factors'!$A$5:$A$10,'Emission Factors'!$F$5:$F$10)))","v":""}]
[null,{"$f":"IF($C$4>7,\"Production Period (Dates):\",\"\")","v":""},null,null,{"$f":"IF($C$4>7,\"Liquid Asphalt Heater\",\"\")","v":""},null,null,{"$f":"IF($C$4>7,IF(C130=\"natural gas\",\"(MMCF/hr)\",\"(gallons/hr)\"),\"\")","v":""},{"$f":"IF($C$4>7,IF(C130=\"natural gas\",\"(MMCF/yr)\",\"(gallons/yr)\"),\"\")","v":""}]
[null,{"$f":"IF($C$4>7,\"Type of Fuel Used:\",\"\")","v":""},null,null,{"$f":"IF(C130=\"\",\"\",\"AP-8 EP-2\")","v":""},{"$f":"IF(C130=\"\",\"\",\"AP-8 EU-2\")","v":""},{"$f":"IF(C130=\"\",\"\",C130& \" Fired Heater\")","v":""}]
[null,{"$f":"IF($C$4>7,\"Is Your Operation Controlled?:\",\"\")","v":""},null,null,{"$f":"IF($C$4>7,\"Silo Filling, Truck Loadout, Aggregate Transfer\",\"\")","v":""},null,null,{"$f":"IF($C$4>7,\"(tons/hr)\",\"\")","v":""},{"$f":"IF($C$4>7,\"(tons/yr)\",\"\")","v":""}]
[null,null,null,null,{"$f":"IF($C$4>7,\"AP-8 EP-3\",\"\")","v":""},{"$f":"IF($C$4>7,\"AP-8 EU-3\",\"\")","v":""},{"$f":"IF($C$4>7,\"Silo Filling\",\"\")","v":""}]
[null,null,null,null,{"$f":"IF($C$4>7,\"AP-8 EP-3\",\"\")","v":""},{"$f":"IF($C$4>7,\"AP-8 EU-4\",\"\")","v":""},{"$f":"IF($C$4>7,\"Truck Loadout\",\"\")","v":""}]
[null,null,null,null,{"$f":"IF($C$4>7,\"AP-8 EP-3\",\"\")","v":""},{"$f":"IF($C$4>7,\"AP-8 EU-5\",\"\")","v":""},{"$f":"IF($C$4>7,\"Cold Aggregate Bins\",\"\")","v":""}]
[]
[null,null,null,null,{"$f":"IF($C$4>7,\"Stock Pile Area\",\"\")","v":""}]
[null,null,null,null,null,{"$f":"IF($C$4>7,\"Emission Unit #\",\"\")","v":""},{"$f":"IF($C$4>7,\"Maximum Storage Area (acres)\",\"\")","v":""},{"$f":"IF($C$4>7,\"Actual Storage Area (acres)\",\"\")","v":""},{"$f":"IF($C$4>7,\"Actual Days in Existence (days)\",\"\")","v":""}]
[]
[]
[null,{"$f":"IF($C$4>8,\"Asphalt Plant\",\"\")","v":""},{"$f":"IF($C$4>8,\"Site 9\",\"\")","v":""},null,{"$f":"IF($C$4>8,\"Emission Point #\",\"\")","v":""},{"$f":"IF($C$4>8,\"Emission    Unit #\",\"\")","v":""},{"$f":"IF($C$4>8,\"Process\",\"\")","v":""},{"$f":"IF($C$4>8,\"Maximum Hourly     Design Rate\",\"\")","v":""},{"$f":"IF($C$4>8,('Facility Information'!G125&\" Annual Throughput\"),\"\")","v":""}]
[]
[null,{"$f":"IF($C$4>8,\"Site Name\",\"\")","v":""},null,null,{"$f":"IF($C$4>8,\"Dryers, Hot Screens, Mixer\",\"\")","v":""},null,null,{"$f":"IF($C$4>8,\"(tons/hr)\",\"\")","v":""},{"$f":"IF($C$4>8,\"(tons/yr)\",\"\")","v":""},"PM2.5","PM10"]
[null,{"$f":"IF($C$4>8,\"County:\",\"\")","v":""},null,null,{"$f":"IF(C145=\"\",\"\",\"AP-8 EP-1\")","v":""},{"$f":"IF(C145=\"\",\"\",\"AP-8 EU-1\")","v":""},{"$f":"IF(C145=\"\",\"\",C5 & \" - \"&C145)","v":""},null,null,{"$f":"IF(C146=\"\",\"\",IF(C146=\"yes\",LOOKUP(G143,'Emission Factors'!$A$12:$A$17,'Emission Factors'!$D$12:$D$17),LOOKUP(G143,'Emission Factors'!$A$5:$A$10,'Emission Factors'!$D$5:$D$10)))","v":""},{"$f":"IF(C146=\"\",\"\",IF(C146=\"yes\",LOOKUP(G143,'Emission Factors'!$A$12:$A$17,'Emission Factors'!$F$12:$F$17),LOOKUP(G143,'Emission Factors'!$A$5:$A$10,'Emission Factors'!$F$5:$F$10)))","v":""}]
[null,{"$f":"IF($C$4>8,\"Production Period (Dates):\",\"\")","v":""},null,null,{"$f":"IF($C$4>8,\"Liquid Asphalt Heater\",\"\")","v":""},null,null,{"$f":"IF($C$4>8,IF(C145=\"natural gas\",\"(MMCF/hr)\",\"(gallons/hr)\"),\"\")","v":""},{"$f":"IF($C$4>8,IF(C145=\"natural gas\",\"(MMCF/yr)\",\"(gallons/yr)\"),\"\")","v":""}]
[null,{"$f":"IF($C$4>8,\"Type of Fuel Used:\",\"\")","v":""},null,null,{"$f":"IF(C145=\"\",\"\",\"AP-8 EP-2\")","v":""},{"$f":"IF(C145=\"\",\"\",\"AP-8 EU-2\")","v":""},{"$f":"IF(C145=\"\",\"\",C145& \" Fired Heater\")","v":""}]
[null,{"$f":"IF($C$4>8,\"Is Your Operation Controlled?:\",\"\")","v":""},null,null,{"$f":"IF($C$4>8,\"Silo Filling, Truck Loadout, Aggregate Transfer\",\"\")","v":""},null,null,{"$f":"IF($C$4>8,\"(tons/hr)\",\"\")","v":""},{"$f":"IF($C$4>8,\"(tons/yr)\",\"\")","v":""}]
[null,null,null,null,{"$f":"IF($C$4>8,\"AP-8 EP-3\",\"\")","v":""},{"$f":"IF($C$4>8,\"AP-8 EU-3\",\"\")","v":""},{"$f":"IF($C$4>8,\"Silo Filling\",\"\")","v":""}]
[null,null,null,null,{"$f":"IF($C$4>8,\"AP-8 EP-3\",\"\")","v":""},{"$f":"IF($C$4>8,\"AP-8 EU-4\",\"\")","v":""},{"$f":"IF($C$4>8,\"Truck Loadout\",\"\")","v":""}]
[null,null,null,null,{"$f":"IF($C$4>8,\"AP-8 EP-3\",\"\")","v":""},{"$f":"IF($C$4>8,\"AP-8 EU-5\",\"\")","v":""},{"$f":"IF($C$4>8,\"Cold Aggregate Bins\",\"\")","v":""}]
[]
[null,null,null,null,{"$f":"IF($C$4>8,\"Stock Pile Area\",\"\")","v":""}]
[null,null,null,null,null,{"$f":"IF($C$4>8,\"Emission Unit #\",\"\")","v":""},{"$f":"IF($C$4>8,\"Maximum Storage Area (acres)\",\"\")","v":""},{"$f":"IF($C$4>8,\"Actual Storage Area (acres)\",\"\")","v":""},{"$f":"IF($C$4>8,\"Actual Days in Existence (days)\",\"\")","v":""}]
[]
[]
[null,{"$f":"IF($C$4>9,\"Asphalt Plant\",\"\")","v":""},{"$f":"IF($C$4>9,\"Site 10\",\"\")","v":""},null,{"$f":"IF($C$4>9,\"Emission Point #\",\"\")","v":""},{"$f":"IF($C$4>9,\"Emission    Unit #\",\"\")","v":""},{"$f":"IF($C$4>9,\"Process\",\"\")","v":""},{"$f":"IF($C$4>9,\"Maximum Hourly     Design Rate\",\"\")","v":""},{"$f":"IF($C$4>9,('Facility Information'!G140&\" Annual Throughput\"),\"\")","v":""}]
[]
[null,{"$f":"IF($C$4>9,\"Site Name\",\"\")","v":""},null,null,{"$f":"IF($C$4>9,\"Dryers, Hot Screens, Mixer\",\"\")","v":""},null,null,{"$f":"IF($C$4>9,\"(tons/hr)\",\"\")","v":""},{"$f":"IF($C$4>9,\"(tons/yr)\",\"\")","v":""},"PM2.5","PM10"]
[null,{"$f":"IF($C$4>9,\"County:\",\"\")","v":""},null,null,{"$f":"IF(C160=\"\",\"\",\"AP-8 EP-1\")","v":""},{"$f":"IF(C160=\"\",\"\",\"AP-8 EU-1\")","v":""},{"$f":"IF(C160=\"\",\"\",C5 & \" - \"&C160)","v":""},null,null,{"$f":"IF(C161=\"\",\"\",IF(C161=\"yes\",LOOKUP(G158,'Emission Factors'!$A$12:$A$17,'Emission Factors'!$D$12:$D$17),LOOKUP(G158,'Emission Factors'!$A$5:$A$10,'Emission Factors'!$D$5:$D$10)))","v":""},{"$f":"IF(C161=\"\",\"\",IF(C161=\"yes\",LOOKUP(G158,'Emission Factors'!$A$12:$A$17,'Emission Factors'!$F$12:$F$17),LOOKUP(G158,'Emission Factors'!$A$5:$A$10,'Emission Factors'!$F$5:$F$10)))","v":""}]
[null,{"$f":"IF($C$4>9,\"Production Period (Dates):\",\"\")","v":""},null,null,{"$f":"IF($C$4>9,\"Liquid Asphalt Heater\",\"\")","v":""},null,null,{"$f":"IF($C$4>9,IF(C160=\"natural gas\",\"(MMCF/hr)\",\"(gallons/hr)\"),\"\")","v":""},{"$f":"IF($C$4>9,IF(C160=\"natural gas\",\"(MMCF/yr)\",\"(gallons/yr)\"),\"\")","v":""}]
[null,{"$f":"IF($C$4>9,\"Type of Fuel Used:\",\"\")","v":""},null,null,{"$f":"IF(C160=\"\",\"\",\"AP-8 EP-2\")","v":""},{"$f":"IF(C160=\"\",\"\",\"AP-8 EU-2\")","v":""},{"$f":"IF(C160=\"\",\"\",C160& \" Fired Heater\")","v":""}]
[null,{"$f":"IF($C$4>9,\"Is Your Operation Controlled?:\",\"\")","v":""},null,null,{"$f":"IF($C$4>9,\"Silo Filling, Truck Loadout, Aggregate Transfer\",\"\")","v":""},null,null,{"$f":"IF($C$4>9,\"(tons/hr)\",\"\")","v":""},{"$f":"IF($C$4>9,\"(tons/yr)\",\"\")","v":""}]
[null,null,null,null,{"$f":"IF($C$4>9,\"AP-8 EP-3\",\"\")","v":""},{"$f":"IF($C$4>9,\"AP-8 EU-3\",\"\")","v":""},{"$f":"IF($C$4>9,\"Silo Filling\",\"\")","v":""}]
[null,null,null,null,{"$f":"IF($C$4>9,\"AP-8 EP-3\",\"\")","v":""},{"$f":"IF($C$4>9,\"AP-8 EU-4\",\"\")","v":""},{"$f":"IF($C$4>9,\"Truck Loadout\",\"\")","v":""}]
[null,null,null,null,{"$f":"IF($C$4>9,\"AP-8 EP-3\",\"\")","v":""},{"$f":"IF($C$4>9,\"AP-8 EU-5\",\"\")","v":""},{"$f":"IF($C$4>9,\"Cold Aggregate Bins\",\"\")","v":""}]
[]
[null,null,null,null,{"$f":"IF($C$4>9,\"Stock Pile Area\",\"\")","v":""}]
[null,null,null,null,null,{"$f":"IF($C$4>9,\"Emission Unit #\",\"\")","v":""},{"$f":"IF($C$4>9,\"Maximum Storage Area (acres)\",\"\")","v":""},{"$f":"IF($C$4>9,\"Actual Storage Area (acres)\",\"\")","v":""},{"$f":"IF($C$4>9,\"Actual Days in Existence (days)\",\"\")","v":""}]

{"sheet":"Asphalt Plant (AP-9)","index":9,"n_rows":167,"n_cols":20,"rows_kept":167,"cut":false,"hidden":true,"merged":[[156,4,156,6],[158,4,158,6],[160,4,160,6],[139,7,140,7],[139,8,140,8],[141,4,141,6],[143,4,143,6],[145,4,145,6],[154,4,155,4],[154,5,155,5],[154,6,155,6],[154,7,155,7],[154,8,155,8],[126,4,126,6],[128,4,128,6],[130,4,130,6],[139,4,140,4],[139,5,140,5],[139,6,140,6],[109,7,110,7],[109,8,110,8],[111,4,111,6],[113,4,113,6],[115,4,115,6],[124,4,125,4],[124,5,125,5],[124,6,125,6],[124,7,125,7],[124,8,125,8],[96,4,96,6],[98,4,98,6],[100,4,100,6],[109,4,110,4],[109,5,110,5],[109,6,110,6],[79,7,80,7],[79,8,80,8],[81,4,81,6],[83,4,83,6],[85,4,85,6],[94,4,95,4],[94,5,95,5],[94,6,95,6],[94,7,95,7],[94,8,95,8],[66,4,66,6],[68,4,68,6],[70,4,70,6],[79,4,80,4],[79,5,80,5],[79,6,80,6],[49,8,50,8],[51,4,51,6],[53,4,53,6],[55,4,55,6],[64,4,65,4],[64,5,65,5],[64,6,65,6],[64,7,65,7],[64,8,65,8],[38,4,38,6],[40,4,40,6],[49,4,50,4],[49,5,50,5],[49,6,50,6],[49,7,50,7],[34,15,35,15],[34,16,35,16],[34,17,35,17],[34,18,35,18],[34,19,35,19],[36,4,36,6],[34,4,35,4],[34,5,35,5],[34,6,35,6],[34,7,35,7],[34,8,35,8],[34,14,35,14],[18,17,19,17],[18,18,19,18],[18,19,19,19],[19,4,20,4],[19,5,20,5],[19,6,20,6],[19,7,20,7],[19,8,20,8],[2,15,3,15],[2,16,3,16],[3,17,4,19],[12,1,14,2],[13,14,13,15],[14,14,14,15],[18,13,19,13],[18,14,19,14],[18,15,19,15],[18,16,19,16],[0,1,0,2],[1,1,1,2],[1,7,1,8],[2,12,3,12],[2,13,3,13],[2,14,3,14]]}
[null,"ASPHALT PLANT (AP-9)"]
[null,"Please fill in the yellow boxes as applicable for your facility. ",null,null,null,null,null,"Values used for calculating emissions →",null,null,null,null,"Values Used to Calculate Potential and Actual Emissions for the Listed Processes at this Plant"]
[null,null,null,null,null,null,null,null,null,null,null,null,"Process","Maximum Design Rate","Units","Actual throughput","Units"]
[null,{"$f":"\"Number of Sites this Plant operated at in \"&'Facility Information'!G5&\":\"","v":"Number of Sites this Plant operated at in :"},null,null,null,null,null,null,null,null,null,null,null,null,null,null,null,"** As of 2016 Potential Emissions are no longer required to be reported in the Minor Source Emissions Inventory**"]
[null,"Plant Type:",null,null,null,null,null,null,null,null,null,null,{"$f":"$C$5 & \" - Fuel Oil\"","v":" - Fuel Oil"},{"$f":"MAX((IFERROR(OFFSET($G$22,MATCH(M5,$G$23,0),1),0)),((IFERROR(OFFSET($G$37,MATCH(M5,$G$38,0),1),0))),((IFERROR(OFFSET($G$52,MATCH(M5,$G$53,0),1),0))),((IFERROR(OFFSET($G$67,MATCH(M5,$G$68,0),1),0))),((IFERROR(OFFSET($G$82,MATCH(M5,$G$83,0),1),0))),((IFERROR(OFFSET($G$97,MATCH(M5,$G$98,0),1),0))),((IFERROR(OFFSET($G$112,MATCH(M5,$G$113,0),1),0))),((IFERROR(OFFSET($G$127,MATCH(M5,$G$128,0),1),0))),((IFERROR(OFFSET($G$142,MATCH(M5,$G$143,0),1),0))),((IFERROR(OFFSET($G$157,MATCH(M5,$G$158,0),1),0))))","v":0},"tons/hr",{"$f":"SUM((IFERROR(OFFSET($G$22,MATCH(M5,$G$23,0),2),0)),((IFERROR(OFFSET($G$37,MATCH(M5,$G$38,0),2),0))),((IFERROR(OFFSET($G$52,MATCH(M5,$G$53,0),2),0))),((IFERROR(OFFSET($G$67,MATCH(M5,$G$68,0),2),0))),((IFERROR(OFFSET($G$82,MATCH(M5,$G$83,0),2),0))),((IFERROR(OFFSET($G$97,MATCH(M5,$G$98,0),2),0))),((IFERROR(OFFSET($G$112,MATCH(M5,$G$113,0),2),0))),((IFERROR(OFFSET($G$127,MATCH(M5,$G$128,0),2),0))),((IFERROR(OFFSET($G$142,MATCH(M5,$G$143,0),2),0))),((IFERROR(OFFSET($G$157,MATCH(M5,$G$158,0),2),0))))","v":0},"tons/yr"]
[null,null,null,null,null,null,null,null,null,null,null,null,{"$f":"$C$5 & \" - Waste Oil\"","v":" - Waste Oil"},{"$f":"MAX((IFERROR(OFFSET($G$22,MATCH(M6,$G$23,0),1),0)),((IFERROR(OFFSET($G$37,MATCH(M6,$G$38,0),1),0))),((IFERROR(OFFSET($G$52,MATCH(M6,$G$53,0),1),0))),((IFERROR(OFFSET($G$67,MATCH(M6,$G$68,0),1),0))),((IFERROR(OFFSET($G$82,MATCH(M6,$G$83,0),1),0))),((IFERROR(OFFSET($G$97,MATCH(M6,$G$98,0),1),0))),((IFERROR(OFFSET($G$112,MATCH(M6,$G$113,0),1),0))),((IFERROR(OFFSET($G$127,MATCH(M6,$G$128,0),1),0))),((IFERROR(OFFSET($G$142,MATCH(M6,$G$143,0),1),0))),((IFERROR(OFFSET($G$157,MATCH(M6,$G$158,0),1),0))))","v":0},"tons/hr",{"$f":"SUM((IFERROR(OFFSET($G$22,MATCH(M6,$G$23,0),2),0)),((IFERROR(OFFSET($G$37,MATCH(M6,$G$38,0),2),0))),((IFERROR(OFFSET($G$52,MATCH(M6,$G$53,0),2),0))),((IFERROR(OFFSET($G$67,MATCH(M6,$G$68,0),2),0))),((IFERROR(OFFSET($G$82,MATCH(M6,$G$83,0),2),0))),((IFERROR(OFFSET($G$97,MATCH(M6,$G$98,0),2),0))),((IFERROR(OFFSET($G$112,MATCH(M6,$G$113,0),2),0))),((IFERROR(OFFSET($G$127,MATCH(M6,$G$128,0),2),0))),((IFERROR(OFFSET($G$142,MATCH(M6,$G$143,0),2),0))),((IFERROR(OFFSET($G$157,MATCH(M6,$G$158,0),2),0))))","v":0},"tons/yr"]
[null,"Plant Specific Permit Number: ",null,null,null,null,null,null,null,null,null,null,{"$f":"$C$5 & \" - Natural Gas\"","v":" - Natural Gas"},{"$f":"MAX((IFERROR(OFFSET($G$22,MATCH(M7,$G$23,0),1),0)),((IFERROR(OFFSET($G$37,MATCH(M7,$G$38,0),1),0))),((IFERROR(OFFSET($G$52,MATCH(M7,$G$53,0),1),0))),((IFERROR(OFFSET($G$67,MATCH(M7,$G$68,0),1),0))),((IFERROR(OFFSET($G$82,MATCH(M7,$G$83,0),1),0))),((IFERROR(OFFSET($G$97,MATCH(M7,$G$98,0),1),0))),((IFERROR(OFFSET($G$112,MATCH(M7,$G$113,0),1),0))),((IFERROR(OFFSET($G$127,MATCH(M7,$G$128,0),1),0))),((IFERROR(OFFSET($G$142,MATCH(M7,$G$143,0),1),0))),((IFERROR(OFFSET($G$157,MATCH(M7,$G$158,0),1),0))))","v":0},"tons/hr",{"$f":"SUM((IFERROR(OFFSET($G$22,MATCH(M7,$G$23,0),2),0)),((IFERROR(OFFSET($G$37,MATCH(M7,$G$38,0),2),0))),((IFERROR(OFFSET($G$52,MATCH(M7,$G$53,0),2),0))),((IFERROR(OFFSET($G$67,MATCH(M7,$G$68,0),2),0))),((IFERROR(OFFSET($G$82,MATCH(M7,$G$83,0),2),0))),((IFERROR(OFFSET($G$97,MATCH(M7,$G$98,0),2),0))),((IFERROR(OFFSET($G$112,MATCH(M7,$G$113,0),2),0))),((IFERROR(OFFSET($G$127,MATCH(M7,$G$128,0),2),0))),((IFERROR(OFFSET($G$142,MATCH(M7,$G$143,0),2),0))),((IFERROR(OFFSET($G$157,MATCH(M7,$G$158,0),2),0))))","v":0},"tons/yr"]
[null,null,null,null,null,null,null,null,null,null,null,null,"Fuel Oil Fired Heater",{"$f":"MAX((IFERROR(OFFSET($G$24,MATCH(\"Fuel Oil Fired Heater\",$G$25,0),1),0)),((IFERROR(OFFSET($G$39,MATCH(\"Fuel Oil Fired Heater\",$G$40,0),1),0))),((IFERROR(OFFSET($G$54,MATCH(\"Fuel Oil Fired Heater\",$G$55,0),1),0))),((IFERROR(OFFSET($G$69,MATCH(\"Fuel Oil Fired Heater\",$G$70,0),1),0))),((IFERROR(OFFSET($G$84,MATCH(\"Fuel Oil Fired Heater\",$G$85,0),1),0))),((IFERROR(OFFSET($G$99,MATCH(\"Fuel Oil Fired Heater\",$G$100,0),1),0))),((IFERROR(OFFSET($G$114,MATCH(\"Fuel Oil Fired Heater\",$G$115,0),1),0))),((IFERROR(OFFSET($G$129,MATCH(\"Fuel Oil Fired Heater\",$G$130,0),1),0))),((IFERROR(OFFSET($G$144,MATCH(\"Fuel Oil Fired Heater\",$G$145,0),1),0))),((IFERROR(OFFSET($G$159,MATCH(\"Fuel Oil Fired Heater\",$G$160,0),1),0))))","v":0},"gallons/hr",{"$f":"SUM((IFERROR(OFFSET($G$24,MATCH(\"Fuel Oil Fired Heater\",$G$25,0),2),0)),((IFERROR(OFFSET($G$39,MATCH(\"Fuel Oil Fired Heater\",$G$40,0),2),0))),((IFERROR(OFFSET($G$54,MATCH(\"Fuel Oil Fired Heater\",$G$55,0),2),0))),((IFERROR(OFFSET($G$69,MATCH(\"Fuel Oil Fired Heater\",$G$70,0),2),0))),((IFERROR(OFFSET($G$84,MATCH(\"Fuel Oil Fired Heater\",$G$85,0),2),0))),((IFERROR(OFFSET($G$99,MATCH(\"Fuel Oil Fired Heater\",$G$100,0),2),0))),((IFERROR(OFFSET($G$114,MATCH(\"Fuel Oil Fired Heater\",$G$115,0),2),0))),((IFERROR(OFFSET($G$129,MATCH(\"Fuel Oil Fired Heater\",$G$130,0),2),0))),((IFERROR(OFFSET($G$144,MATCH(\"Fuel Oil Fired Heater\",$G$145,0),2),0))),((IFERROR(OFFSET($G$159,MATCH(\"Fuel Oil Fired Heater\",$G$160,0),2),0))))","v":0},"gallons/yr"]
[null,"Plant Specific Operating Limits:",null,null,"Plant Specific Emission Limits:",null,null,null,null,null,null,null,"Waste Oil Fired Heater",{"$f":"MAX((IFERROR(OFFSET($G$24,MATCH(\"waste oil Fired Heater\",$G$25,0),1),0)),((IFERROR(OFFSET($G$39,MATCH(\"waste oil Fired Heater\",$G$40,0),1),0))),((IFERROR(OFFSET($G$54,MATCH(\"waste oil Fired Heater\",$G$55,0),1),0))),((IFERROR(OFFSET($G$69,MATCH(\"waste oil Fired Heater\",$G$70,0),1),0))),((IFERROR(OFFSET($G$84,MATCH(\"waste oil Fired Heater\",$G$85,0),1),0))),((IFERROR(OFFSET($G$99,MATCH(\"waste oil Fired Heater\",$G$100,0),1),0))),((IFERROR(OFFSET($G$114,MATCH(\"waste oil Fired Heater\",$G$115,0),1),0))),((IFERROR(OFFSET($G$129,MATCH(\"waste oil Fired Heater\",$G$130,0),1),0))),((IFERROR(OFFSET($G$144,MATCH(\"waste oil Fired Heater\",$G$145,0),1),0))),((IFERROR(OFFSET($G$159,MATCH(\"waste oil Fired Heater\",$G$160,0),1),0))))","v":0},"gallons/hr",{"$f":"SUM((IFERROR(OFFSET($G$24,MATCH(\"waste oil Fired Heater\",$G$25,0),2),0)),((IFERROR(OFFSET($G$39,MATCH(\"waste oil Fired Heater\",$G$40,0),2),0))),((IFERROR(OFFSET($G$54,MATCH(\"waste oil Fired Heater\",$G$55,0),2),0))),((IFERROR(OFFSET($G$69,MATCH(\"waste oil Fired Heater\",$G$70,0),2),0))),((IFERROR(OFFSET($G$84,MATCH(\"waste oil Fired Heater\",$G$85,0),2),0))),((IFERROR(OFFSET($G$99,MATCH(\"waste oil Fired Heater\",$G$100,0),2),0))),((IFERROR(OFFSET($G$114,MATCH(\"waste oil Fired Heater\",$G$115,0),2),0))),((IFERROR(OFFSET($G$129,MATCH(\"waste oil Fired Heater\",$G$130,0),2),0))),((IFERROR(OFFSET($G$144,MATCH(\"waste oil Fired Heater\",$G$145,0),2),0))),((IFERROR(OFFSET($G$159,MATCH(\"waste oil Fired Heater\",$G$160,0),2),0))))","v":0},"gallons/yr"]
[null,"Throughput Limit (tons/yr):",null,null,"Pollutant","lb/hr","tons/yr",null,null,null,null,null,"Natural Gas Fired Heater",{"$f":"MAX((IFERROR(OFFSET($G$24,MATCH(\"Natural Gas Fired Heater\",$G$25,0),1),0)),((IFERROR(OFFSET($G$39,MATCH(\"Natural Gas Fired Heater\",$G$40,0),1),0))),((IFERROR(OFFSET($G$54,MATCH(\"Natural Gas Fired Heater\",$G$55,0),1),0))),((IFERROR(OFFSET($G$69,MATCH(\"Natural Gas Fired Heater\",$G$70,0),1),0))),((IFERROR(OFFSET($G$84,MATCH(\"Natural Gas Fired Heater\",$G$85,0),1),0))),((IFERROR(OFFSET($G$99,MATCH(\"Natural Gas Fired Heater\",$G$100,0),1),0))),((IFERROR(OFFSET($G$114,MATCH(\"Natural Gas Fired Heater\",$G$115,0),1),0))),((IFERROR(OFFSET($G$129,MATCH(\"Natural Gas Fired Heater\",$G$130,0),1),0))),((IFERROR(OFFSET($G$144,MATCH(\"Natural Gas Fired Heater\",$G$145,0),1),0))),((IFERROR(OFFSET($G$159,MATCH(\"Natural Gas Fired Heater\",$G$160,0),1),0))))","v":0},"MMCF/hr",{"$f":"SUM((IFERROR(OFFSET($G$24,MATCH(\"Natural Gas Fired Heater\",$G$25,0),2),0)),((IFERROR(OFFSET($G$39,MATCH(\"Natural Gas Fired Heater\",$G$40,0),2),0))),((IFERROR(OFFSET($G$54,MATCH(\"Natural Gas Fired Heater\",$G$55,0),2),0))),((IFERROR(OFFSET($G$69,MATCH(\"Natural Gas Fired Heater\",$G$70,0),2),0))),((IFERROR(OFFSET($G$84,MATCH(\"Natural Gas Fired Heater\",$G$85,0),2),0))),((IFERROR(OFFSET($G$99,MATCH(\"Natural Gas Fired Heater\",$G$100,0),2),0))),((IFERROR(OFFSET($G$114,MATCH(\"Natural Gas Fired Heater\",$G$115,0),2),0))),((IFERROR(OFFSET($G$129,MATCH(\"Natural Gas Fired Heater\",$G$130,0),2),0))),((IFERROR(OFFSET($G$144,MATCH(\"Natural Gas Fired Heater\",$G$145,0),2),0))),((IFERROR(OFFSET($G$159,MATCH(\"Natural Gas Fired Heater\",$G$160,0),2),0))))","v":0},"MMCF/yr"]
[null,"Daily Throughput Limit (tons/day):",null,null,"PM2.5",null,null,null,null,null,null,null,"Silo Filling",{"$f":"MAX((IFERROR(OFFSET($G$26,MATCH(\"Silo Filling\",$G$27,0),1),0)),((IFERROR(OFFSET($G$41,MATCH(\"Silo Filling\",$G$42,0),1),0))),((IFERROR(OFFSET($G$56,MATCH(\"Silo Filling\",$G$57,0),1),0))),((IFERROR(OFFSET($G$71,MATCH(\"Silo Filling\",$G$72,0),1),0))),((IFERROR(OFFSET($G$86,MATCH(\"Silo Filling\",$G$87,0),1),0))),((IFERROR(OFFSET($G$101,MATCH(\"Silo Filling\",$G$102,0),1),0))),((IFERROR(OFFSET($G$116,MATCH(\"Silo Filling\",$G$117,0),1),0))),((IFERROR(OFFSET($G$131,MATCH(\"Silo Filling\",$G$132,0),1),0))),((IFERROR(OFFSET($G$146,MATCH(\"Silo Filling\",$G$147,0),1),0))),((IFERROR(OFFSET($G$161,MATCH(\"Silo Filling\",$G$162,0),1),0))))","v":0},"tons/hr",{"$f":"SUM((IFERROR(OFFSET($G$26,MATCH(\"Silo Filling\",$G$27,0),2),0)),((IFERROR(OFFSET($G$41,MATCH(\"Silo Filling\",$G$42,0),2),0))),((IFERROR(OFFSET($G$56,MATCH(\"Silo Filling\",$G$57,0),2),0))),((IFERROR(OFFSET($G$71,MATCH(\"Silo Filling\",$G$72,0),2),0))),((IFERROR(OFFSET($G$86,MATCH(\"Silo Filling\",$G$87,0),2),0))),((IFERROR(OFFSET($G$101,MATCH(\"Silo Filling\",$G$102,0),2),0))),((IFERROR(OFFSET($G$116,MATCH(\"Silo Filling\",$G$117,0),2),0))),((IFERROR(OFFSET($G$131,MATCH(\"Silo Filling\",$G$132,0),2),0))),((IFERROR(OFFSET($G$146,MATCH(\"Silo Filling\",$G$147,0),2),0))),((IFERROR(OFFSET($G$161,MATCH(\"Silo Filling\",$G$162,0),2),0))))","v":0},"tons/yr"]
[null,"Hours of Operation Limit (hours/day):",null,null,"PM10",null,null,null,null,null,null,null,"Truck Loadout",{"$f":"MAX((IFERROR(OFFSET(G27,MATCH(\"Truck Loadout\",G28,0),1),0)),((IFERROR(OFFSET(G42,MATCH(\"Truck Loadout\",G43,0),1),0))),((IFERROR(OFFSET(G57,MATCH(\"Truck Loadout\",G58,0),1),0))),((IFERROR(OFFSET(G72,MATCH(\"Truck Loadout\",G73,0),1),0))),((IFERROR(OFFSET(G87,MATCH(\"Truck Loadout\",G88,0),1),0))),((IFERROR(OFFSET(G102,MATCH(\"Truck Loadout\",G103,0),1),0))),((IFERROR(OFFSET(G117,MATCH(\"Truck Loadout\",G118,0),1),0))),((IFERROR(OFFSET(G132,MATCH(\"Truck Loadout\",G133,0),1),0))),((IFERROR(OFFSET(G147,MATCH(\"Truck Loadout\",G148,0),1),0))),((IFERROR(OFFSET(G162,MATCH(\"Truck Loadout\",G163,0),1),0))))","v":0},"tons/hr",{"$f":"SUM((IFERROR(OFFSET(G27,MATCH(\"Truck Loadout\",G28,0),2),0)),((IFERROR(OFFSET(G42,MATCH(\"Truck Loadout\",G43,0),2),0))),((IFERROR(OFFSET(G57,MATCH(\"Truck Loadout\",G58,0),2),0))),((IFERROR(OFFSET(G72,MATCH(\"Truck Loadout\",G73,0),2),0))),((IFERROR(OFFSET(G87,MATCH(\"Truck Loadout\",G88,0),2),0))),((IFERROR(OFFSET(G102,MATCH(\"Truck Loadout\",G103,0),2),0))),((IFERROR(OFFSET(G117,MATCH(\"Truck Loadout\",G118,0),2),0))),((IFERROR(OFFSET(G132,MATCH(\"Truck Loadout\",G133,0),2),0))),((IFERROR(OFFSET(G147,MATCH(\"Truck Loadout\",G148,0),2),0))),((IFERROR(OFFSET(G162,MATCH(\"Truck Loadout\",G163,0),2),0))))","v":0},"tons/yr"]
["Fuel Oil","Note: if the plant has an hrs/day and a tons/hr permit limit, those values should be multiplied together to calculate a tons/day limit and that value should be placed in cell C11.",null,null,"SO2",null,null,null,null,null,null,null,"Cold Aggregate Bins",{"$f":"MAX((IFERROR(OFFSET(G28,MATCH(\"Cold Aggregate Bins\",G29,0),1),0)),((IFERROR(OFFSET(G43,MATCH(\"Cold Aggregate Bins\",G44,0),1),0))),((IFERROR(OFFSET(G58,MATCH(\"Cold Aggregate Bins\",G59,0),1),0))),((IFERROR(OFFSET(G73,MATCH(\"Cold Aggregate Bins\",G74,0),1),0))),((IFERROR(OFFSET(G88,MATCH(\"Cold Aggregate Bins\",G89,0),1),0))),((IFERROR(OFFSET(G103,MATCH(\"Cold Aggregate Bins\",G104,0),1),0))),((IFERROR(OFFSET(G118,MATCH(\"Cold Aggregate Bins\",G119,0),1),0))),((IFERROR(OFFSET(G133,MATCH(\"Cold Aggregate Bins\",G134,0),1),0))),((IFERROR(OFFSET(G148,MATCH(\"Cold Aggregate Bins\",G149,0),1),0))),((IFERROR(OFFSET(G163,MATCH(\"Cold Aggregate Bins\",G164,0),1),0))))","v":0},"tons/hr",{"$f":"SUM((IFERROR(OFFSET(G28,MATCH(\"Cold Aggregate Bins\",G29,0),2),0)),((IFERROR(OFFSET(G43,MATCH(\"Cold Aggregate Bins\",G44,0),2),0))),((IFERROR(OFFSET(G58,MATCH(\"Cold Aggregate Bins\",G59,0),2),0))),((IFERROR(OFFSET(G73,MATCH(\"Cold Aggregate Bins\",G74,0),2),0))),((IFERROR(OFFSET(G88,MATCH(\"Cold Aggregate Bins\",G89,0),2),0))),((IFERROR(OFFSET(G103,MATCH(\"Cold Aggregate Bins\",G104,0),2),0))),((IFERROR(OFFSET(G118,MATCH(\"Cold Aggregate Bins\",G119,0),2),0))),((IFERROR(OFFSET(G133,MATCH(\"Cold Aggregate Bins\",G134,0),2),0))),((IFERROR(OFFSET(G148,MATCH(\"Cold Aggregate Bins\",G149,0),2),0))),((IFERROR(OFFSET(G163,MATCH(\"Cold Aggregate Bins\",G164,0),2),0))))","v":0},"tons/yr"]
["Natural Gas",null,null,null,"NOx",null,null,null,null,null,null,null,null,"Maximum (acres)","Actual (acres-day/yr)"]
["Waste Oil",null,null,null,"VOC",null,null,null,null,null,null,null,"Storage Pile",{"$f":"SUM(G33,G48,G63,G78,G93,G108,G123,G138,G153,G168,)","v":0},{"$f":"SUM(H33*I33,H48*I48,H63*I63,H78*I78,H93*I93,H108*I108,H123*I123,H138*I138,H153*I153,H168*I168)","v":0}]
[null,null,null,null,"CO"]
["Batch Mix Plant"]
["Drum Mix Plant",null,null,null,null,null,null,null,null,null,null,null,"Potential and Actual Emissions for the Listed Processes at this Plant"]
[null,null,null,null,null,null,null,null,null,null,null,null,null,"Maximum Design Rate (tons/hr)","Emission Factor","Units","Potential Uncontrolled Emissions (lb/hr)","Potential Controlled Emissions (lb/hr)","Potential Annual Emissions (tons/yr)","Actual Annual Emissions (tons/yr)"]
[null,"Asphalt Plant","Site 1",null,"Emission Point #","Emission     Unit #","Processes","Maximum Hourly     Design Rate",{"$f":"('Facility Information'!G5&\" Annual Throughput\")","v":" Annual Throughput"},null,null,null,"PM2.5"]
["YES",null,null,null,null,null,null,null,null,null,null,null,{"$f":"$C$5 & \" - Fuel Oil\"","v":" - Fuel Oil"},{"$f":"N5","v":0},{"$f":"IF(N21=0,0,IF(MAX((IFERROR(OFFSET($G$22,MATCH(M21,$G$23,0),3),0)),((IFERROR(OFFSET($G$37,MATCH(M21,$G$38,0),3),0))),((IFERROR(OFFSET($G$52,MATCH(M21,$G$53,0),3),0))),((IFERROR(OFFSET($G$67,MATCH(M21,$G$68,0),3),0))),((IFERROR(OFFSET($G$82,MATCH(M21,$G$83,0),3),0))),((IFERROR(OFFSET($G$97,MATCH(M21,$G$98,0),3),0))),((IFERROR(OFFSET($G$112,MATCH(M21,$G$113,0),3),0))),((IFERROR(OFFSET($G$127,MATCH(M21,$G$128,0),3),0))),((IFERROR(OFFSET($G$142,MATCH(M21,$G$143,0),3),0))),((IFERROR(OFFSET($G$157,MATCH(M21,$G$158,0),3),0))))=0,0,(MAX((IFERROR(OFFSET($G$22,MATCH(M21,$G$23,0),3),0)),((IFERROR(OFFSET($G$37,MATCH(M21,$G$38,0),3),0))),((IFERROR(OFFSET($G$52,MATCH(M21,$G$53,0),3),0))),((IFERROR(OFFSET($G$67,MATCH(M21,$G$68,0),3),0))),((IFERROR(OFFSET($G$82,MATCH(M21,$G$83,0),3),0))),((IFERROR(OFFSET($G$97,MATCH(M21,$G$98,0),3),0))),((IFERROR(OFFSET($G$112,MATCH(M21,$G$113,0),3),0))),((IFERROR(OFFSET($G$127,MATCH(M21,$G$128,0),3),0))),((IFERROR(OFFSET($G$142,MATCH(M21,$G$143,0),3),0))),((IFERROR(OFFSET($G$157,MATCH(M21,$G$158,0),3),0)))))))","v":0},{"$f":"IF(O21=\"\",\"\",\"lb/ton\")","v":"lb/ton"},{"$f":"IF(O21=0.27,N21*O21,IF(O21=1.54,N21*O21,\"\"))","v":""},{"$f":"IF(N21=0,\"\",IF(AND($F$11>0,$O$21>=$O$22,$O$21>=$O$23),$F$11,IF(O21=0.0083,N21*O21,IF(O21=0.007,N21*O21,\"\"))))","v":""},{"$f":"IF(N21=0,0,IF($G$11>0,$G$11,IF(AND(OR($C$10>0,$C$11>0,$C$12>0),$O$21>=$O$22,$O$21>=$O$23),(IF($C$10>0,$C$10*O21/2000,IF($C$11>0,$C$11*365*O21/2000,IF($C$12>0,$C$12*365*O21*N21/2000)))),IF(AND($F$11>0,$O$21>=$O$22,$O$21>=$O$23),$F$11*8760/2000,IF(AND(OR($C$10=\"\",$C$10=0),OR($C$11=\"\",$C$11=0),OR($C$12=\"\",$C$12=0),$F$11=\"\"),IF(R21=\"\",Q21*8760/2000,R21*8760/2000),\"\")))))","v":0},{"$f":"IF(N21=\"\",\"\",SUM((IFERROR(MATCH(M21,$G$23,0)*$I$23*$J$23/2000,0)),(IFERROR(MATCH(M21,$G$38,0)*$I$38*$J$38/2000,0)),(IFERROR(MATCH(M21,$G$53,0)*$I$53*$J$53/2000,0)),(IFERROR(MATCH(M21,$G$68,0)*$I$68*$J$68/2000,0)),(IFERROR(MATCH(M21,$G$83,0)*$I$83*$J$83/2000,0)),(IFERROR(MATCH(M21,$G$98,0)*$I$98*$J$98/2000,0)),(IFERROR(MATCH(M21,$G$113,0)*$I$113*$J$113/2000,0)),(IFERROR(MATCH(M21,$G$128,0)*$I$128*$J$128/2000,0)),(IFERROR(MATCH(M21,$G$143,0)*$I$143*$J$143/2000,0)),(IFERROR(MATCH(M21,$G$158,0)*$I$158*$J$158/2000,0))))","v":0}]
["NO","Site Name:",null,null,"Dryer, Hot Screens, Mixer",null,null,"(tons/hr)","(tons/yr)","PM2.5","PM10",null,{"$f":"$C$5 & \" - Waste Oil\"","v":" - Waste Oil"},{"$f":"N6","v":0},{"$f":"IF(N22=0,0,IF(MAX((IFERROR(OFFSET($G$22,MATCH(M22,$G$23,0),3),0)),((IFERROR(OFFSET($G$37,MATCH(M22,$G$38,0),3),0))),((IFERROR(OFFSET($G$52,MATCH(M22,$G$53,0),3),0))),((IFERROR(OFFSET($G$67,MATCH(M22,$G$68,0),3),0))),((IFERROR(OFFSET($G$82,MATCH(M22,$G$83,0),3),0))),((IFERROR(OFFSET($G$97,MATCH(M22,$G$98,0),3),0))),((IFERROR(OFFSET($G$112,MATCH(M22,$G$113,0),3),0))),((IFERROR(OFFSET($G$127,MATCH(M22,$G$128,0),3),0))),((IFERROR(OFFSET($G$142,MATCH(M22,$G$143,0),3),0))),((IFERROR(OFFSET($G$157,MATCH(M22,$G$158,0),3),0))))=0,0,(MAX((IFERROR(OFFSET($G$22,MATCH(M22,$G$23,0),3),0)),((IFERROR(OFFSET($G$37,MATCH(M22,$G$38,0),3),0))),((IFERROR(OFFSET($G$52,MATCH(M22,$G$53,0),3),0))),((IFERROR(OFFSET($G$67,MATCH(M22,$G$68,0),3),0))),((IFERROR(OFFSET($G$82,MATCH(M22,$G$83,0),3),0))),((IFERROR(OFFSET($G$97,MATCH(M22,$G$98,0),3),0))),((IFERROR(OFFSET($G$112,MATCH(M22,$G$113,0),3),0))),((IFERROR(OFFSET($G$127,MATCH(M22,$G$128,0),3),0))),((IFERROR(OFFSET($G$142,MATCH(M22,$G$143,0),3),0))),((IFERROR(OFFSET($G$157,MATCH(M22,$G$158,0),3),0)))))))","v":0},"lb/ton",{"$f":"IF(O22=0.27,N22*O22,IF(O22=1.54,N22*O22,\"\"))","v":""},{"$f":"IF(N22=0,\"\",IF(AND($F$11>0,$O$22>$O$21,$O$22>=$O$23),$F$11,IF(O22=0.0083,N22*O22,IF(O22=0.007,N22*O22,\"\"))))","v":""},{"$f":"IF(N22=0,0,IF($G$11>0,IF(S21=0,G11,\"\"),IF(AND(OR($C$10>0,$C$11>0,$C$12>0),$O$22>$O$21,$O$22>=$O$23),(IF($C$10>0,$C$10*O22/2000,IF($C$11>0,$C$11*365*O22/2000,IF($C$12>0,$C$12*365*O22*N22/2000)))),IF(AND($F$11>0,$O$22>$O$21,$O$22>=$O$23),$F$11*8760/2000,IF(AND(OR($C$10=\"\",$C$10=0),OR($C$11=\"\",$C$11=0),OR($C$12=\"\",$C$12=0),$F$11=\"\"),IF(R22=\"\",Q22*8760/2000,R22*8760/2000),\"\")))))","v":0},{"$f":"IF(N22=\"\",\"\",SUM((IFERROR(MATCH(M22,$G$23,0)*$I$23*$J$23/2000,0)),(IFERROR(MATCH(M22,$G$38,0)*$I$38*$J$38/2000,0)),(IFERROR(MATCH(M22,$G$53,0)*$I$53*$J$53/2000,0)),(IFERROR(MATCH(M22,$G$68,0)*$I$68*$J$68/2000,0)),(IFERROR(MATCH(M22,$G$83,0)*$I$83*$J$83/2000,0)),(IFERROR(MATCH(M22,$G$98,0)*$I$98*$J$98/2000,0)),(IFERROR(MATCH(M22,$G$113,0)*$I$113*$J$113/2000,0)),(IFERROR(MATCH(M22,$G$128,0)*$I$128*$J$128/2000,0)),(IFERROR(MATCH(M22,$G$143,0)*$I$143*$J$143/2000,0)),(IFERROR(MATCH(M22,$G$158,0)*$I$158*$J$158/2000,0))))","v":0}]
[null,"County:",null,null,{"$f":"IF($C$4>0,\"AP-9 EP-1\",\"\")","v":""},{"$f":"IF($C$4>0,\"AP-9 EU-1\",\"\")","v":""},{"$f":"IF(C25=\"\",\"\",C5 & \" - \"&C25)","v":""},null,null,{"$f":"IF(C26=\"\",\"\",IF(C26=\"yes\",LOOKUP(G23,'Emission Factors'!$A$12:$A$17,'Emission Factors'!$D$12:$D$17),LOOKUP(G23,'Emission Factors'!$A$5:$A$10,'Emission Factors'!$D$5:$D$10)))","v":""},{"$f":"IF(C26=\"\",\"\",IF(C26=\"yes\",LOOKUP(G23,'Emission Factors'!$A$12:$A$17,'Emission Factors'!$F$12:$F$17),LOOKUP(G23,'Emission Factors'!$A$5:$A$10,'Emission Factors'!$F$5:$F$10)))","v":""},null,{"$f":"$C$5 & \" - Natural Gas\"","v":" - Natural Gas"},{"$f":"N7","v":0},{"$f":"IF(N23=0,0,IF(MAX((IFERROR(OFFSET($G$22,MATCH(M23,$G$23,0),3),0)),((IFERROR(OFFSET($G$37,MATCH(M23,$G$38,0),3),0))),((IFERROR(OFFSET($G$52,MATCH(M23,$G$53,0),3),0))),((IFERROR(OFFSET($G$67,MATCH(M23,$G$68,0),3),0))),((IFERROR(OFFSET($G$82,MATCH(M23,$G$83,0),3),0))),((IFERROR(OFFSET($G$97,MATCH(M23,$G$98,0),3),0))),((IFERROR(OFFSET($G$112,MATCH(M23,$G$113,0),3),0))),((IFERROR(OFFSET($G$127,MATCH(M23,$G$128,0),3),0))),((IFERROR(OFFSET($G$142,MATCH(M23,$G$143,0),3),0))),((IFERROR(OFFSET($G$157,MATCH(M23,$G$158,0),3),0))))=0,0,(MAX((IFERROR(OFFSET($G$22,MATCH(M23,$G$23,0),3),0)),((IFERROR(OFFSET($G$37,MATCH(M23,$G$38,0),3),0))),((IFERROR(OFFSET($G$52,MATCH(M23,$G$53,0),3),0))),((IFERROR(OFFSET($G$67,MATCH(M23,$G$68,0),3),0))),((IFERROR(OFFSET($G$82,MATCH(M23,$G$83,0),3),0))),((IFERROR(OFFSET($G$97,MATCH(M23,$G$98,0),3),0))),((IFERROR(OFFSET($G$112,MATCH(M23,$G$113,0),3),0))),((IFERROR(OFFSET($G$127,MATCH(M23,$G$128,0),3),0))),((IFERROR(OFFSET($G$142,MATCH(M23,$G$143,0),3),0))),((IFERROR(OFFSET($G$157,MATCH(M23,$G$158,0),3),0)))))))","v":0},"lb/ton",{"$f":"IF(O23=0.27,N23*O23,IF(O23=1.54,N23*O23,\"\"))","v":""},{"$f":"IF(N23=0,\"\",IF(AND($F$11>0,$O$23>$O$21,$O$23>$O$21),$F$11,IF(O23=0.0083,N23*O23,IF(O23=0.007,N23*O23,\"\"))))","v":""},{"$f":"IF(N23=0,0,IF($G$11>0,IF(AND(S21=0,S22=0),\"\"),IF(AND(OR($C$10>0,$C$11>0,$C$12>0),$O$23>$O$21,$O$23>$O$21),(IF($C$10>0,$C$10*O23/2000,IF($C$11>0,$C$11*365*O23/2000,IF($C$12>0,$C$12*365*O23*N23/2000)))),IF(AND($F$11>0,$O$23>$O$21,$O$23>$O$21),$F$11*8760/2000,IF(AND(OR($C$10=\"\",$C$10=0),OR($C$11=\"\",$C$11=0),OR($C$12=\"\",$C$12=0),$F$11=\"\"),IF(R23=\"\",Q23*8760/2000,R23*8760/2000),\"\")))))","v":0},{"$f":"IF(N23=\"\",\"\",SUM((IFERROR(MATCH(M23,$G$23,0)*$I$23*$J$23/2000,0)),(IFERROR(MATCH(M23,$G$38,0)*$I$38*$J$38/2000,0)),(IFERROR(MATCH(M23,$G$53,0)*$I$53*$J$53/2000,0)),(IFERROR(MATCH(M23,$G$68,0)*$I$68*$J$68/2000,0)),(IFERROR(MATCH(M23,$G$83,0)*$I$83*$J$83/2000,0)),(IFERROR(MATCH(M23,$G$98,0)*$I$98*$J$98/2000,0)),(IFERROR(MATCH(M23,$G$113,0)*$I$113*$J$113/2000,0)),(IFERROR(MATCH(M23,$G$128,0)*$I$128*$J$128/2000,0)),(IFERROR(MATCH(M23,$G$143,0)*$I$143*$J$143/2000,0)),(IFERROR(MATCH(M23,$G$158,0)*$I$158*$J$158/2000,0))))","v":0}]
[null,"Production Period (Dates):",null,null,"Liquid Asphalt Heater",null,null,{"$f":"IF(C25=\"natural gas\", \"(MMCF/hr)\",\"(gallons/hr)\")","v":"(gallons/hr)"},{"$f":"IF(C25=\"natural gas\", \"(MMCF/yr)\",\"(gallons/yr)\")","v":"(gallons/yr)"},null,null,null,"Silo Filling",{"$f":"N11","v":0},{"$f":"IF(N24=0,0,IF(N24=0,0,LOOKUP(M24,'Emission Factors'!$A$23:$A$25,'Emission Factors'!$D$23:$D$25)))","v":0},"lb/ton",{"$f":"N24*O24","v":0},null,{"$f":"IF($G$11>0,\"\",IF($C$10>0,$C$10*O24/2000,IF($C$11>0,$C$11*365*O24/2000,IF($C$12>0,$C$12*365*O24*N24/2000,IF($F$11>0,\"\",IF(R24=\"\",Q24*8760/2000,R24*8760/2000))))))","v":0},{"$f":"(P11*O24/2000)","v":0}]
[null,"Type of Fuel Used:",null,null,{"$f":"IF($C$4>0,\"AP-9 EP-2\",\"\")","v":""},{"$f":"IF($C$4>0,\"AP-9 EU-2\",\"\")","v":""},{"$f":"IF(C25=\"\",\"\",C25& \" Fired Heater\")","v":""},null,null,null,null,null,"Truck Loadout",{"$f":"N12","v":0},{"$f":"IF(N25=0,0,IF(N25=0,0,LOOKUP(M25,'Emission Factors'!$A$23:$A$25,'Emission Factors'!$D$23:$D$25)))","v":0},"lb/ton",{"$f":"N25*O25","v":0},null,{"$f":"IF($G$11>0,\"\",IF($C$10>0,$C$10*O25/2000,IF($C$11>0,$C$11*365*O25/2000,IF($C$12>0,$C$12*365*O25*N25/2000,IF($F$11>0,\"\",IF(R25=\"\",Q25*8760/2000,R25*8760/2000))))))","v":0},{"$f":"(P12*O25/2000)","v":0}]
[null,"Is Your Operation Controlled?:",null,null,"Silo Filling, Truck Loadout, Aggregate Transfer",null,null,"(tons/hr)","(tons/yr)",null,null,null,"Cold Aggregate Bins",{"$f":"N13","v":0},{"$f":"IF(N26=0,0,IF(N26=0,0,LOOKUP(M26,'Emission Factors'!A23:A25,'Emission Factors'!D23:D25)))","v":0},"lb/ton",{"$f":"N26*O26","v":0},null,{"$f":"IF($G$11>0,\"\",IF($C$10>0,$C$10*O26/2000,IF($C$11>0,$C$11*365*O26/2000,IF($C$12>0,$C$12*365*O26*N26/2000,IF($F$11>0,\"\",IF(R26=\"\",Q26*8760/2000,R26*8760/2000))))))","v":0},{"$f":"(P13*O26/2000)","v":0}]
[null,null,null,null,{"$f":"IF($C$4>0,\"AP-9 EP-3\",\"\")","v":""},{"$f":"IF($C$4>0,\"AP-9 EU-3\",\"\")","v":""},{"$f":"IF(C5=\"\",\"\",\"Silo Filling\")","v":""},null,null,null,null,null,"PM10"]
[null,null,null,null,{"$f":"IF($C$4>0,\"AP-9 EP-3\",\"\")","v":""},{"$f":"IF($C$4>0,\"AP-9 EU-4\",\"\")","v":""},{"$f":"IF(C5=\"\",\"\",\"Truck Loadout\")","v":""},null,null,null,null,null,{"$f":"$C$5 & \" - Fuel Oil\"","v":" - Fuel Oil"},{"$f":"N5","v":0},{"$f":"IF(N28=0,0,IF(MAX((IFERROR(OFFSET($G$22,MATCH(M28,$G$23,0),4),0)),((IFERROR(OFFSET($G$37,MATCH(M28,$G$38,0),4),0))),((IFERROR(OFFSET($G$52,MATCH(M28,$G$53,0),4),0))),((IFERROR(OFFSET($G$67,MATCH(M28,$G$68,0),4),0))),((IFERROR(OFFSET($G$82,MATCH(M28,$G$83,0),3),0))),((IFERROR(OFFSET($G$97,MATCH(M28,$G$98,0),4),0))),((IFERROR(OFFSET($G$112,MATCH(M28,$G$113,0),4),0))),((IFERROR(OFFSET($G$127,MATCH(M28,$G$128,0),4),0))),((IFERROR(OFFSET($G$142,MATCH(M28,$G$143,0),4),0))),((IFERROR(OFFSET($G$157,MATCH(M28,$G$158,0),4),0))))=0,0,(MAX((IFERROR(OFFSET($G$22,MATCH(M28,$G$23,0),4),0)),((IFERROR(OFFSET($G$37,MATCH(M28,$G$38,0),4),0))),((IFERROR(OFFSET($G$52,MATCH(M28,$G$53,0),4),0))),((IFERROR(OFFSET($G$67,MATCH(M28,$G$68,0),4),0))),((IFERROR(OFFSET($G$82,MATCH(M28,$G$83,0),4),0))),((IFERROR(OFFSET($G$97,MATCH(M28,$G$98,0),4),0))),((IFERROR(OFFSET($G$112,MATCH(M28,$G$113,0),4),0))),((IFERROR(OFFSET($G$127,MATCH(M28,$G$128,0),4),0))),((IFERROR(OFFSET($G$142,MATCH(M28,$G$143,0),4),0))),((IFERROR(OFFSET($G$157,MATCH(M28,$G$158,0),4),0)))))))","v":0},{"$f":"IF(O28=\"\",\"\",\"lb/ton\")","v":"lb/ton"},{"$f":"IF(O28=4.5,N28*O28,IF(O28=6.5,N28*O28,\"\"))","v":""},{"$f":"IF(N28=0,\"\",IF(AND($F$12>0,$O$28>=$O$29,$O$28>=$O$30),$F$12,IF(O28=0.0098,N28*O28,IF(O28=0.023,N28*O28,\"\"))))","v":""},{"$f":"IF(N28=0,0,IF($G$12>0,$G$12,IF(AND(OR($C$10>0,$C$11>0,$C$12>0),$O$28>=$O$29,$O$28>=$O$30),(IF($C$10>0,$C$10*O28/2000,IF($C$11>0,$C$11*365*O28/2000,IF($C$12>0,$C$12*365*O28*N28/2000)))),IF(AND($F$12>0,$O$28>=$O$29,$O$28>=$O$30),$F$12*8760/2000,IF(AND(OR($C$10=\"\",$C$10=0),OR($C$11=\"\",$C$11=0),OR($C$12=\"\",$C$12=0),$F$12=\"\"),IF(R28=\"\",Q28*8760/2000,R28*8760/2000),\"\")))))","v":0},{"$f":"IF(N28=\"\",\"\",SUM((IFERROR(MATCH(M28,$G$23,0)*$I$23*$K$23/2000,0)),(IFERROR(MATCH(M28,$G$38,0)*$I$38*$K$38/2000,0)),(IFERROR(MATCH(M28,$G$53,0)*$I$53*$K$53/2000,0)),(IFERROR(MATCH(M28,$G$68,0)*$I$68*$K$68/2000,0)),(IFERROR(MATCH(M28,$G$83,0)*$I$83*$K$83/2000,0)),(IFERROR(MATCH(M28,$G$98,0)*$I$98*$K$98/2000,0)),(IFERROR(MATCH(M28,$G$113,0)*$I$113*$K$113/2000,0)),(IFERROR(MATCH(M28,$G$128,0)*$I$128*$K$128/2000,0)),(IFERROR(MATCH(M28,$G$143,0)*$I$143*$K$143/2000,0)),(IFERROR(MATCH(M28,$G$158,0)*$I$158*$K$158/2000,0))))","v":0}]
[null,null,null,null,{"$f":"IF($C$4>0,\"AP-9 EP-3\",\"\")","v":""},{"$f":"IF($C$4>0,\"AP-9 EU-5\",\"\")","v":""},{"$f":"IF(C5=\"\",\"\",\"Cold Aggregate Bins\")","v":""},null,null,null,null,null,{"$f":"$C$5 & \" - Waste Oil\"","v":" - Waste Oil"},{"$f":"N6","v":0},{"$f":"IF(N29=0,0,IF(MAX((IFERROR(OFFSET($G$22,MATCH(M29,$G$23,0),4),0)),((IFERROR(OFFSET($G$37,MATCH(M29,$G$38,0),4),0))),((IFERROR(OFFSET($G$52,MATCH(M29,$G$53,0),4),0))),((IFERROR(OFFSET($G$67,MATCH(M29,$G$68,0),4),0))),((IFERROR(OFFSET($G$82,MATCH(M29,$G$83,0),3),0))),((IFERROR(OFFSET($G$97,MATCH(M29,$G$98,0),4),0))),((IFERROR(OFFSET($G$112,MATCH(M29,$G$113,0),4),0))),((IFERROR(OFFSET($G$127,MATCH(M29,$G$128,0),4),0))),((IFERROR(OFFSET($G$142,MATCH(M29,$G$143,0),4),0))),((IFERROR(OFFSET($G$157,MATCH(M29,$G$158,0),4),0))))=0,0,(MAX((IFERROR(OFFSET($G$22,MATCH(M29,$G$23,0),4),0)),((IFERROR(OFFSET($G$37,MATCH(M29,$G$38,0),4),0))),((IFERROR(OFFSET($G$52,MATCH(M29,$G$53,0),4),0))),((IFERROR(OFFSET($G$67,MATCH(M29,$G$68,0),4),0))),((IFERROR(OFFSET($G$82,MATCH(M29,$G$83,0),4),0))),((IFERROR(OFFSET($G$97,MATCH(M29,$G$98,0),4),0))),((IFERROR(OFFSET($G$112,MATCH(M29,$G$113,0),4),0))),((IFERROR(OFFSET($G$127,MATCH(M29,$G$128,0),4),0))),((IFERROR(OFFSET($G$142,MATCH(M29,$G$143,0),4),0))),((IFERROR(OFFSET($G$157,MATCH(M29,$G$158,0),4),0)))))))","v":0},"lb/ton",{"$f":"IF(O29=4.5,N29*O29,IF(O29=6.5,N29*O29,\"\"))","v":""},{"$f":"IF(N29=0,\"\",IF(AND($F$12>0,$O$29>$O$28,$O$29>=$O$30),$F$12,IF(O29=0.0098,N29*O29,IF(O29=0.023,N29*O29,\"\"))))","v":""},{"$f":"IF(N29=0,0,IF($G$12>0,IF(S28=0,$G$12,\"\"),IF(AND(OR($C$10>0,$C$11>0,$C$12>0),$O$29>$O$28,$O$29>=$O$30),(IF($C$10>0,$C$10*O29/2000,IF($C$11>0,$C$11*365*O29/2000,IF($C$12>0,$C$12*365*O29*N29/2000)))),IF(AND($F$12>0,$O$29>$O$28,$O$29>=$O$30),$F$12*8760/2000,IF(AND(OR($C$10=\"\",$C$10=0),OR($C$11=\"\",$C$11=0),OR($C$12=\"\",$C$12=0),$F$12=\"\"),IF(R29=\"\",Q29*8760/2000,R29*8760/2000),\"\")))))","v":0},{"$f":"IF(N29=\"\",\"\",SUM((IFERROR(MATCH(M29,$G$23,0)*$I$23*$K$23/2000,0)),(IFERROR(MATCH(M29,$G$38,0)*$I$38*$K$38/2000,0)),(IFERROR(MATCH(M29,$G$53,0)*$I$53*$K$53/2000,0)),(IFERROR(MATCH(M29,$G$68,0)*$I$68*$K$68/2000,0)),(IFERROR(MATCH(M29,$G$83,0)*$I$83*$K$83/2000,0)),(IFERROR(MATCH(M29,$G$98,0)*$I$98*$K$98/2000,0)),(IFERROR(MATCH(M29,$G$113,0)*$I$113*$K$113/2000,0)),(IFERROR(MATCH(M29,$G$128,0)*$I$128*$K$128/2000,0)),(IFERROR(MATCH(M29,$G$143,0)*$I$143*$K$143/2000,0)),(IFERROR(MATCH(M29,$G$158,0)*$I$158*$K$158/2000,0))))","v":0}]
[null,null,null,null,null,null,null,null,null,null,null,null,{"$f":"$C$5 & \" - Natural Gas\"","v":" - Natural Gas"},{"$f":"N7","v":0},{"$f":"IF(N30=0,0,IF(MAX((IFERROR(OFFSET($G$22,MATCH(M30,$G$23,0),4),0)),((IFERROR(OFFSET($G$37,MATCH(M30,$G$38,0),4),0))),((IFERROR(OFFSET($G$52,MATCH(M30,$G$53,0),4),0))),((IFERROR(OFFSET($G$67,MATCH(M30,$G$68,0),4),0))),((IFERROR(OFFSET($G$82,MATCH(M30,$G$83,0),3),0))),((IFERROR(OFFSET($G$97,MATCH(M30,$G$98,0),4),0))),((IFERROR(OFFSET($G$112,MATCH(M30,$G$113,0),4),0))),((IFERROR(OFFSET($G$127,MATCH(M30,$G$128,0),4),0))),((IFERROR(OFFSET($G$142,MATCH(M30,$G$143,0),4),0))),((IFERROR(OFFSET($G$157,MATCH(M30,$G$158,0),4),0))))=0,0,(MAX((IFERROR(OFFSET($G$22,MATCH(M30,$G$23,0),4),0)),((IFERROR(OFFSET($G$37,MATCH(M30,$G$38,0),4),0))),((IFERROR(OFFSET($G$52,MATCH(M30,$G$53,0),4),0))),((IFERROR(OFFSET($G$67,MATCH(M30,$G$68,0),4),0))),((IFERROR(OFFSET($G$82,MATCH(M30,$G$83,0),4),0))),((IFERROR(OFFSET($G$97,MATCH(M30,$G$98,0),4),0))),((IFERROR(OFFSET($G$112,MATCH(M30,$G$113,0),4),0))),((IFERROR(OFFSET($G$127,MATCH(M30,$G$128,0),4),0))),((IFERROR(OFFSET($G$142,MATCH(M30,$G$143,0),4),0))),((IFERROR(OFFSET($G$157,MATCH(M30,$G$158,0),4),0)))))))","v":0},"lb/ton",{"$f":"IF(O30=4.5,N30*O30,IF(O30=6.5,N30*O30,\"\"))","v":""},{"$f":"IF(N30=0,\"\",IF(AND($F$12>0,$O$30>$O$28,$O$30>$O$29),$F$12,IF(O30=0.0098,N30*O30,IF(O30=0.023,N30*O30,\"\"))))","v":""},{"$f":"IF(N30=0,0,IF($G$12>0,IF(AND(S28=0,S29=0),$G$12,\"\"),IF(AND(OR($C$10>0,$C$11>0,$C$12>0),$O$30>$O$28,$O$30>$O$29),(IF($C$10>0,$C$10*O30/2000,IF($C$11>0,$C$11*365*O30/2000,IF($C$12>0,$C$12*365*O30*N30/2000)))),IF(AND($F$12>0,$O$30>$O$28,$O$30>$O$29),$F$12*8760/2000,IF(AND(OR($C$10=\"\",$C$10=0),OR($C$11=\"\",$C$11=0),OR($C$12=\"\",$C$12=0),$F$12=\"\"),IF(R30=\"\",Q30*8760/2000,R30*8760/2000),\"\")))))","v":0},{"$f":"IF(N30=\"\",\"\",SUM((IFERROR(MATCH(M30,$G$23,0)*$I$23*$K$23/2000,0)),(IFERROR(MATCH(M30,$G$38,0)*$I$38*$K$38/2000,0)),(IFERROR(MATCH(M30,$G$53,0)*$I$53*$K$53/2000,0)),(IFERROR(MATCH(M30,$G$68,0)*$I$68*$K$68/2000,0)),(IFERROR(MATCH(M30,$G$83,0)*$I$83*$K$83/2000,0)),(IFERROR(MATCH(M30,$G$98,0)*$I$98*$K$98/2000,0)),(IFERROR(MATCH(M30,$G$113,0)*$I$113*$K$113/2000,0)),(IFERROR(MATCH(M30,$G$128,0)*$I$128*$K$128/2000,0)),(IFERROR(MATCH(M30,$G$143,0)*$I$143*$K$143/2000,0)),(IFERROR(MATCH(M30,$G$158,0)*$I$158*$K$158/2000,0))))","v":0}]
[null,null,null,null,"Stock Pile Area",null,null,null,null,null,null,null,"Silo Filling",{"$f":"N11","v":0},{"$f":"IF(N31=0,0,IF(N31=0,0,LOOKUP(M31,'Emission Factors'!$A$23:$A$25,'Emission Factors'!$F$23:$F$25)))","v":0},"lb/ton",{"$f":"N31*O31","v":0},null,{"$f":"IF($G$12>0,\"\",IF($C$10>0,$C$10*O31/2000,IF($C$11>0,$C$11*365*O31/2000,IF($C$12>0,$C$12*365*O31*N31/2000,IF($F$11>0,\"\",IF(R31=\"\",Q31*8760/2000,R31*8760/2000))))))","v":0},{"$f":"(P11*O31/2000)","v":0}]
[null,null,null,null,null,"Emission Unit #","Maximum Storage Area (acres)","Actual Storage Area (acres)","Actual Days in Existence (days)",null,null,null,"Truck Loadout",{"$f":"N12","v":0},{"$f":"IF(N32=0,0,IF(N32=0,0,LOOKUP(M32,'Emission Factors'!$A$23:$A$25,'Emission Factors'!$F$23:$F$25)))","v":0},"lb/ton",{"$f":"N32*O32","v":0},null,{"$f":"IF($G$12>0,\"\",IF($C$10>0,$C$10*O32/2000,IF($C$11>0,$C$11*365*O32/2000,IF($C$12>0,$C$12*365*O32*N32/2000,IF($F$11>0,\"\",IF(R32=\"\",Q32*8760/2000,R32*8760/2000))))))","v":0},{"$f":"(P12*O32/2000)","v":0}]
[null,null,null,null,null,null,null,null,null,null,null,null,"Cold Aggregate Bins",{"$f":"N13","v":0},{"$f":"IF(N33=0,0,IF(N33=0,0,LOOKUP(M33,'Emission Factors'!$A$23:$A$25,'Emission Factors'!$F$23:$F$25)))","v":0},"lb/ton",{"$f":"N33*O33","v":0},null,{"$f":"IF($G$12>0,\"\",IF($C$10>0,$C$10*O33/2000,IF($C$11>0,$C$11*365*O33/2000,IF($C$12>0,$C$12*365*O33*N33/2000,IF($F$11>0,\"\",IF(R33=\"\",Q33*8760/2000,R33*8760/2000))))))","v":0},{"$f":"(P13*O33/2000)","v":0}]
[]
[null,{"$f":"IF($C$4>1,\"Asphalt Plant\",\"\")","v":""},{"$f":"IF($C$4>1,\"Site 2\",\"\")","v":""},null,{"$f":"IF($C$4>1,\"Emission Point #\",\"\")","v":""},{"$f":"IF($C$4>1,\"Emission    Unit #\",\"\")","v":""},{"$f":"IF($C$4>1,\"Process\",\"\")","v":""},{"$f":"IF($C$4>1,\"Maximum Hourly     Design Rate\",\"\")","v":""},{"$f":"IF($C$4>1,('Facility Information'!G20&\" Annual Throughput\"),\"\")","v":""},null,null,null,null,null,"Max Design Rate (acres)","Emission Factor   (lb/acre-day)","Potential Uncontrolled Emissions (lb/hr)","Potential Controlled Emissions (lb/hr)","Potential Annual Emissions (tons/yr)","Actual Annual Emissions (tons/yr)"]
[null,null,null,null,null,null,null,null,null,null,null,null,null,"Storage Pile"]
[null,{"$f":"IF($C$4>1,\"Site Name\",\"\")","v":""},null,null,{"$f":"IF($C$4>1,\"Dryers, Hot Screens, Mixer\",\"\")","v":""},null,null,{"$f":"IF($C$4>1,\"(tons/hr)\",\"\")","v":""},{"$f":"IF($C$4>1,\"(tons/yr)\",\"\")","v":""},"PM2.5","PM10",null,null,"PM2.5/PM10",{"$f":"N15","v":0},3.64,{"$f":"O37*P37*(1/24)","v":0},null,{"$f":"O37*P37*365/2000","v":0},{"$f":"O15*P37/2000","v":0}]
[null,{"$f":"IF($C$4>1,\"County:\",\"\")","v":""},null,null,{"$f":"IF(C40=\"\",\"\",\"AP-9 EP-1\")","v":""},{"$f":"IF(C40=\"\",\"\",\"AP-9 EU-1\")","v":""},{"$f":"IF(C40=\"\",\"\",C5 & \" - \"&C40)","v":""},null,null,{"$f":"IF(C41=\"\",\"\",IF(C41=\"yes\",LOOKUP(G38,'Emission Factors'!$A$12:$A$17,'Emission Factors'!$D$12:$D$17),LOOKUP(G38,'Emission Factors'!$A$5:$A$10,'Emission Factors'!$D$5:$D$10)))","v":""},{"$f":"IF(C41=\"\",\"\",IF(C41=\"yes\",LOOKUP(G38,'Emission Factors'!$A$12:$A$17,'Emission Factors'!$F$12:$F$17),LOOKUP(G38,'Emission Factors'!$A$5:$A$10,'Emission Factors'!$F$5:$F$10)))","v":""}]
[null,{"$f":"IF($C$4>1,\"Production Period (Dates):\",\"\")","v":""},null,null,{"$f":"IF($C$4>1,\"Liquid Asphalt Heater\",\"\")","v":""},null,null,{"$f":"IF($C$4>1,IF(C40=\"natural gas\",\"MMCF/hr\",\"(gallons/hr)\"),\"\")","v":""},{"$f":"IF($C$4>1,IF(C40=\"natural gas\",\"MMCF/yr\",\"(gallons/yr)\"),\"\")","v":""},null,null,null,"SO2"]
[null,{"$f":"IF($C$4>1,\"Type of Fuel Used:\",\"\")","v":""},null,null,{"$f":"IF(C40=\"\",\"\",\"AP-9 EP-2\")","v":""},{"$f":"IF(C40=\"\",\"\",\"AP-9 EU-2\")","v":""},{"$f":"IF(C40=\"\",\"\",C40& \" Fired Heater\")","v":""},null,null,null,null,null,{"$f":"$C$5 & \" - Fuel Oil\"","v":" - Fuel Oil"},{"$f":"$N$5","v":0},{"$f":"IF(N40=0,0,LOOKUP(M40,'Emission Factors'!$A$5:$A$10,'Emission Factors'!$H$5:$H$10))","v":0},{"$f":"IF(O40=\"\",\"\",\"lb/ton\")","v":"lb/ton"},{"$f":"N40*O40","v":0},{"$f":"IF(N40=0,\"\",IF(AND($F$13>0,N41=0),$F$13,\"\"))","v":""},{"$f":"IF(N40=0,0,IF($G$13>0,$G$13,IF(OR(AND($C$10>0,$N$41>0),AND($C$11>0,$N$41>0),AND($C$12>0,$N$41>0)),\"\",IF($C$10>0,$C$10*O40/2000,IF($C$11>0,$C$11*365*O40/2000,IF($C$12>0,$C$12*365*O40*N40/2000,IF(AND(N41>0,F13>0),\"\",IF(R40=\"\",Q40*8760/2000,R40*8760/2000))))))))","v":0},{"$f":"P5*O40/2000","v":0}]
[null,{"$f":"IF($C$4>1,\"Is Your Operation Controlled?:\",\"\")","v":""},null,null,{"$f":"IF($C$4>1,\"Silo Filling, Truck Loadout, Aggregate Transfer\",\"\")","v":""},null,null,{"$f":"IF($C$4>1,\"(tons/hr)\",\"\")","v":""},{"$f":"IF($C$4>1,\"(tons/yr)\",\"\")","v":""},null,null,null,{"$f":"$C$5 & \" - Waste Oil\"","v":" - Waste Oil"},{"$f":"$N$6","v":0},{"$f":"IF(N41=0,0,LOOKUP(M41,'Emission Factors'!$A$5:$A$10,'Emission Factors'!$H$5:$H$10))","v":0},{"$f":"IF(O41=\"\",\"\",\"lb/ton\")","v":"lb/ton"},{"$f":"N41*O41","v":0},{"$f":"IF(N41=0,\"\",IF($F$13>0,$F$13,\"\"))","v":""},{"$f":"IF(N41=0,0,IF($G$13>0,IF(S40=0,G13,\"\"),IF($C$10>0,$C$10*O41/2000,IF($C$11>0,$C$11*365*O41/2000,IF($C$12>0,$C$12*365*O41*N41/2000,IF(R41=\"\",Q41*8760/2000,R41*8760/2000))))))","v":0},{"$f":"P6*O41/2000","v":0}]
[null,null,null,null,{"$f":"IF($C$4>1,\"AP-9 EP-3\",\"\")","v":""},{"$f":"IF($C$4>1,\"AP-9 EU-3\",\"\")","v":""},{"$f":"IF($C$4>1,\"Silo Filling\",\"\")","v":""},null,null,null,null,null,{"$f":"$C$5 & \" - Natural Gas\"","v":" - Natural Gas"},{"$f":"$N$7","v":0},{"$f":"IF(N42=0,0,LOOKUP(M42,'Emission Factors'!$A$5:$A$10,'Emission Factors'!$H$5:$H$10))","v":0},{"$f":"IF(O42=\"\",\"\",\"lb/ton\")","v":"lb/ton"},{"$f":"N42*O42","v":0},{"$f":"IF(N42=0,\"\",IF(AND($F$13>0,N40=0,N41=0),$F$13,\"\"))","v":""},{"$f":"IF(N42=0,0,IF($G$13>0,IF(AND(S40=0,S41=0),G13,\"\"),IF(OR(AND($C$10>0,$N$41>0),AND($C$11>0,$N$41>0),AND($C$12>0,$N$41>0)),\"\",IF(OR(AND($C$10>0,$N$40>0),AND($C$11>0,$N$40>0),AND($C$12>0,$N$40>0)),\"\",IF($C$10>0,$C$10*O42/2000,IF($C$11>0,$C$11*365*O42/2000,IF($C$12>0,$C$12*365*O42*N42/2000,IF(AND(N41>0,N40>0,F13>0),\"\",IF(R42=\"\",Q42*8760/2000,R42*8760/2000)))))))))","v":0},{"$f":"P7*O42/2000","v":0}]
[null,null,null,null,{"$f":"IF($C$4>1,\"AP-9 EP-3\",\"\")","v":""},{"$f":"IF($C$4>1,\"AP-9 EU-4\",\"\")","v":""},{"$f":"IF($C$4>1,\"Truck Loadout\",\"\")","v":""},null,null,null,null,null,"NOx"]
[null,null,null,null,{"$f":"IF($C$4>1,\"AP-9 EP-3\",\"\")","v":""},{"$f":"IF($C$4>1,\"AP-9 EU-5\",\"\")","v":""},{"$f":"IF($C$4>1,\"Cold Aggregate Bins\",\"\")","v":""},null,null,null,null,null,{"$f":"$C$5 & \" - Fuel Oil\"","v":" - Fuel Oil"},{"$f":"$N$5","v":0},{"$f":"IF(N44=0,0,LOOKUP(M44,'Emission Factors'!$A$5:$A$10,'Emission Factors'!$J$5:$J$10))","v":0},{"$f":"IF(O44=\"\",\"\",\"lb/ton\")","v":"lb/ton"},{"$f":"N44*O44","v":0},{"$f":"IF(N44=0,\"\",IF(AND($F$14>0,N45=0),$F$14,\"\"))","v":""},{"$f":"IF(N44=0,0,IF($G$14>0,$G$14,IF(OR(AND($C$10>0,$N$45>0),AND($C$11>0,$N$45>0),AND($C$12>0,$N$45>0)),\"\",IF($C$10>0,$C$10*O44/2000,IF($C$11>0,$C$11*365*O44/2000,IF($C$12>0,$C$12*365*O44*N44/2000,IF(AND(N45>0,F14>0),\"\",IF(R44=\"\",Q44*8760/2000,R44*8760/2000))))))))","v":0},{"$f":"P5*O44/2000","v":0}]
[null,null,null,null,null,null,null,null,null,null,null,null,{"$f":"$C$5 & \" - Waste Oil\"","v":" - Waste Oil"},{"$f":"$N$6","v":0},{"$f":"IF(N45=0,0,LOOKUP(M45,'Emission Factors'!$A$5:$A$10,'Emission Factors'!$J$5:$J$10))","v":0},{"$f":"IF(O45=\"\",\"\",\"lb/ton\")","v":"lb/ton"},{"$f":"N45*O45","v":0},{"$f":"IF(N45=0,\"\",IF($F$14>0,$F$14,\"\"))","v":""},{"$f":"IF(N45=0,0,IF($G$14>0,IF(S44=0,G14,\"\"),IF($C$10>0,$C$10*O45/2000,IF($C$11>0,$C$11*365*O45/2000,IF($C$12>0,$C$12*365*O45*N45/2000,IF(R45=\"\",Q45*8760/2000,R45*8760/2000))))))","v":0},{"$f":"P6*O45/2000","v":0}]
[null,null,null,null,{"$f":"IF($C$4>1,\"Stock Pile Area\",\"\")","v":""},null,null,null,null,null,null,null,{"$f":"$C$5 & \" - Natural Gas\"","v":" - Natural Gas"},{"$f":"$N$7","v":0},{"$f":"IF(N46=0,0,LOOKUP(M46,'Emission Factors'!$A$5:$A$10,'Emission Factors'!$J$5:$J$10))","v":0},{"$f":"IF(O46=\"\",\"\",\"lb/ton\")","v":"lb/ton"},{"$f":"N46*O46","v":0},{"$f":"IF(N46=0,\"\",IF(AND($F$14>0,N44=0,N45=0),$F$14,\"\"))","v":""},{"$f":"IF(N46=0,0,IF($G$14>0,IF(AND(S44=0,S45=0),G14,\"\"),IF(OR(AND($C$10>0,$N$45>0),AND($C$11>0,$N$45>0),AND($C$12>0,$N$45>0)),\"\",IF(OR(AND($C$10>0,$N$44>0),AND($C$11>0,$N$44>0),AND($C$12>0,$N$44>0)),\"\",IF($C$10>0,$C$10*O46/2000,IF($C$11>0,$C$11*365*O46/2000,IF($C$12>0,$C$12*365*O46*N46/2000,IF(AND(N44>0,N45>0,F14>0),\"\",IF(R46=\"\",Q46*8760/2000,R46*8760/2000)))))))))","v":0},{"$f":"P7*O46/2000","v":0}]
[null,null,null,null,null,{"$f":"IF($C$4>1,\"Emission Unit #\",\"\")","v":""},{"$f":"IF($C$4>1,\"Maximum Storage Area (acres)\",\"\")","v":""},{"$f":"IF($C$4>1,\"Actual Storage Area (acres)\",\"\")","v":""},{"$f":"IF($C$4>1,\"Actual Days in Existence (days)\",\"\")","v":""},null,null,null,"VOC"]
[null,null,null,null,null,null,null,null,null,null,null,null,{"$f":"$C$5 & \" - Fuel Oil\"","v":" - Fuel Oil"},{"$f":"$N$5","v":0},{"$f":"IF(N48=0,0,LOOKUP(M48,'Emission Factors'!$A$5:$A$10,'Emission Factors'!$L$5:$L$10))","v":0},{"$f":"IF(O48=\"\",\"\",\"lb/ton\")","v":"lb/ton"},{"$f":"N48*O48","v":0},{"$f":"IF(N48=0,\"\",IF(AND($F$15>0,N49=0),$F$15,\"\"))","v":""},{"$f":"IF(N48=0,0,IF($G$15>0,$G$15,IF(OR(AND($C$10>0,$N$49>0),AND($C$11>0,$N$49>0),AND($C$12>0,$N$49>0)),\"\",IF($C$10>0,$C$10*O48/2000,IF($C$11>0,$C$11*365*O48/2000,IF($C$12>0,$C$12*365*O48*N48/2000,IF(AND(N49>0,F15>0),\"\",IF(R48=\"\",Q48*8760/2000,R48*8760/2000))))))))","v":0},{"$f":"P5*O48/2000","v":0}]
[null,null,null,null,null,null,null,null,null,null,null,null,{"$f":"$C$5 & \" - Waste Oil\"","v":" - Waste Oil"},{"$f":"$N$6","v":0},{"$f":"IF(N49=0,0,LOOKUP(M49,'Emission Factors'!$A$5:$A$10,'Emission Factors'!$L$5:$L$10))","v":0},{"$f":"IF(O49=\"\",\"\",\"lb/ton\")","v":"lb/ton"},{"$f":"N49*O49","v":0},{"$f":"IF(N49=0,\"\",IF($F$15>0,$F$15,\"\"))","v":""},{"$f":"IF(N49=0,0,IF($G$15>0,IF(S48=0,G15,\"\"),IF($C$10>0,$C$10*O49/2000,IF($C$11>0,$C$11*365*O49/2000,IF($C$12>0,$C$12*365*O49*N49/2000,IF(R49=\"\",Q49*8760/2000,R49*8760/2000))))))","v":0},{"$f":"P6*O49/2000","v":0}]
[null,{"$f":"IF($C$4>2,\"Asphalt Plant\",\"\")","v":""},{"$f":"IF($C$4>2,\"Site 3\",\"\")","v":""},null,{"$f":"IF($C$4>2,\"Emission Point #\",\"\")","v":""},{"$f":"IF($C$4>2,\"Emission    Unit #\",\"\")","v":""},{"$f":"IF($C$4>2,\"Process\",\"\")","v":""},{"$f":"IF($C$4>2,\"Maximum Hourly     Design Rate\",\"\")","v":""},{"$f":"IF($C$4>2,('Facility Information'!G35&\" Annual Throughput\"),\"\")","v":""},null,null,null,{"$f":"$C$5 & \" - Natural Gas\"","v":" - Natural Gas"},{"$f":"$N$7","v":0},{"$f":"IF(N50=0,0,LOOKUP(M50,'Emission Factors'!$A$5:$A$10,'Emission Factors'!$L$5:$L$10))","v":0},{"$f":"IF(O50=\"\",\"\",\"lb/ton\")","v":"lb/ton"},{"$f":"N50*O50","v":0},{"$f":"IF(N50=0,\"\",IF(AND($F$15>0,N48=0,N49=0),$F$15,\"\"))","v":""},{"$f":"IF(N50=0,0,IF($G$15>0,IF(AND(S48=0,S49=0),G15,\"\"),IF(OR(AND($C$10>0,$N$49>0),AND($C$11>0,$N$49>0),AND($C$12>0,$N$49>0)),\"\",IF(OR(AND($C$10>0,$N$48>0),AND($C$11>0,$N$48>0),AND($C$12>0,$N$48>0)),\"\",IF($C$10>0,$C$10*O50/2000,IF($C$11>0,$C$11*365*O50/2000,IF($C$12>0,$C$12*365*O50*N50/2000,IF(AND(N48>0,N49>0,F15>0),\"\",IF(R50=\"\",Q50*8760/2000,R50*8760/2000)))))))))","v":0},{"$f":"P7*O50/2000","v":0}]
[null,null,null,null,null,null,null,null,null,null,null,null,"CO"]
[null,{"$f":"IF($C$4>2,\"Site Name\",\"\")","v":""},null,null,{"$f":"IF($C$4>2,\"Dryers, Hot Screens, Mixer\",\"\")","v":""},null,null,{"$f":"IF($C$4>2,\"(tons/hr)\",\"\")","v":""},{"$f":"IF($C$4>2,\"(tons/yr)\",\"\")","v":""},"PM2.5","PM10",null,{"$f":"IF($C$5=\"\",\"\",$C$5)","v":""},{"$f":"SUM($N$5:$N$7)","v":0},{"$f":"IF(N52=0,0,IF(M52=\"Batch Mix Plant\",0.4,IF(M52=\"Drum Mix Plant\",0.13)))","v":0},{"$f":"IF(O52=\"\",\"\",\"lb/ton\")","v":"lb/ton"},{"$f":"N52*O52","v":0},{"$f":"IF(N52=0,\"\",IF($F$16>0,$F$16,\"\"))","v":""},{"$f":"IF($G$16>0,$G$16,IF(N52=0,0,IF($C$10>0,$C$10*O52/2000,IF($C$11>0,$C$11*365*O52/2000,IF($C$12>0,$C$12*365*O52*N52/2000,IF(R52=\"\",Q52*8760/2000,R52*8760/2000))))))","v":0},{"$f":"SUM($P$5:$P$7)*O52/2000","v":0}]
[null,{"$f":"IF($C$4>2,\"County:\",\"\")","v":""},null,null,{"$f":"IF(C55=\"\",\"\",\"AP-9 EP-1\")","v":""},{"$f":"IF(C55=\"\",\"\",\"AP-9 EU-1\")","v":""},{"$f":"IF(C55=\"\",\"\",C5 & \" - \"&C55)","v":""},null,null,{"$f":"IF(C56=\"\",\"\",IF(C56=\"yes\",LOOKUP(G53,'Emission Factors'!$A$12:$A$17,'Emission Factors'!$D$12:$D$17),LOOKUP(G53,'Emission Factors'!$A$5:$A$10,'Emission Factors'!$D$5:$D$10)))","v":""},{"$f":"IF(C56=\"\",\"\",IF(C56=\"yes\",LOOKUP(G53,'Emission Factors'!$A$12:$A$17,'Emission Factors'!$F$12:$F$17),LOOKUP(G53,'Emission Factors'!$A$5:$A$10,'Emission Factors'!$F$5:$F$10)))","v":""},null,"Fuel Oil Fired Heater",{"$f":"N8","v":0},{"$f":"IF(N53=0,0,LOOKUP(M53,'Emission Factors'!$A$19:$A$21,'Emission Factors'!$N$19:$N$21))","v":0},{"$f":"IF(O53=\"\",\"\",\"lb/gallon\")","v":"lb/gallon"},{"$f":"N53*O53","v":0},null,{"$f":"IF(N53=0,0,IF($G$16>0,\"\",IF($F$16>0,\"\",IF(R53=\"\",Q53*8760/2000,R53*8760/2000))))","v":0},{"$f":"(P8*O53/2000)","v":0}]
[null,{"$f":"IF($C$4>2,\"Production Period (Dates):\",\"\")","v":""},null,null,{"$f":"IF($C$4>2,\"Liquid Asphalt Heater\",\"\")","v":""},null,null,{"$f":"IF($C$4>2,IF(C55=\"natural gas\",\"(MMCF/hr)\",\"(gallons/hr)\"),\"\")","v":""},{"$f":"IF($C$4>2,IF(C55=\"natural gas\",\"(MMCF/yr)\",\"(gallons/yr)\"),\"\")","v":""},null,null,null,"Waste Oil Fired Heater",{"$f":"N9","v":0},{"$f":"IF(N54=0,0,LOOKUP(M54,'Emission Factors'!$A$19:$A$21,'Emission Factors'!$N$19:$N$21))","v":0},{"$f":"IF(O54=\"\",\"\",\"lb/gallon\")","v":"lb/gallon"},{"$f":"N54*O54","v":0},null,{"$f":"IF(N54=0,0,IF($G$16>0,\"\",IF($F$16>0,\"\",IF(R54=\"\",Q54*8760/2000,R54*8760/2000))))","v":0},{"$f":"(P9*O54/2000)","v":0}]
[null,{"$f":"IF($C$4>2,\"Type of Fuel Used:\",\"\")","v":""},null,null,{"$f":"IF(C55=\"\",\"\",\"AP-9 EP-2\")","v":""},{"$f":"IF(C55=\"\",\"\",\"AP-9 EU-2\")","v":""},{"$f":"IF(C55=\"\",\"\",C55& \" Fired Heater\")","v":""},null,null,null,null,null,"Natural Gas Fired Heater",{"$f":"N10","v":0},{"$f":"IF(N55=0,0,LOOKUP(M55,'Emission Factors'!$A$19:$A$21,'Emission Factors'!$N$19:$N$21))","v":0},{"$f":"IF(O55=\"\",\"\",\"lb/MMCF\")","v":"lb/MMCF"},{"$f":"N55*O55","v":0},null,{"$f":"IF(N55=0,0,IF($G$16>0,\"\",IF($F$16>0,\"\",IF(R55=\"\",Q55*8760/2000,R55*8760/2000))))","v":0},{"$f":"($P$10*O55/2000)","v":0}]
[null,{"$f":"IF($C$4>2,\"Is Your Operation Controlled?:\",\"\")","v":""},null,null,{"$f":"IF($C$4>2,\"Silo Filling, Truck Loadout, Aggregate Transfer\",\"\")","v":""},null,null,{"$f":"IF($C$4>2,\"(tons/hr)\",\"\")","v":""},{"$f":"IF($C$4>2,\"(tons/yr)\",\"\")","v":""},null,null,null,"Acetaldehyde"]
[null,null,null,null,{"$f":"IF($C$4>2,\"AP-9 EP-3\",\"\")","v":""},{"$f":"IF($C$4>2,\"AP-9 EU-3\",\"\")","v":""},{"$f":"IF($C$4>2,\"Silo Filling\",\"\")","v":""},null,null,null,null,null,{"$f":"IF($C$5=\"\",\"\",$C$5)","v":""},{"$f":"IF(C5=\"drum mix plant\",SUM(N5:$N$6),SUM($N$5:$N$7))","v":0},{"$f":"IF(N57=0,0,IF(M57=\"Batch Mix Plant\",0.00032,IF(M57=\"Drum Mix Plant\",0.0013)))","v":0},{"$f":"IF(O57=\"\",\"\",\"lb/ton\")","v":"lb/ton"},{"$f":"N57*O57","v":0},null,{"$f":"IF(N57=0,0,IF($C$10>0,$C$10*O57/2000,IF($C$11>0,$C$11*365*O57/2000,IF($C$12>0,$C$12*365*O57*N57/2000,IF(R57=\"\",Q57*8760/2000,R57*8760/2000)))))","v":0},{"$f":"IF(C5=\"drum mix plant\",$P$6*O57/2000,SUM($P$5:$P$7)*O57/2000)","v":0}]
[null,null,null,null,{"$f":"IF($C$4>2,\"AP-9 EP-3\",\"\")","v":""},{"$f":"IF($C$4>2,\"AP-9 EU-4\",\"\")","v":""},{"$f":"IF($C$4>2,\"Truck Loadout\",\"\")","v":""},null,null,null,null,null,"Acrolein"]
[null,null,null,null,{"$f":"IF($C$4>2,\"AP-9 EP-3\",\"\")","v":""},{"$f":"IF($C$4>2,\"AP-9 EU-5\",\"\")","v":""},{"$f":"IF($C$4>2,\"Cold Aggregate Bins\",\"\")","v":""},null,null,null,null,null,{"$f":"IF($C$5=\"\",\"\",$C$5)","v":""},{"$f":"IF(C5=\"drum mix plant\",SUM(N5:$N$6),0)","v":0},{"$f":"IF(N59=0,0,0.000026)","v":0},{"$f":"IF(O59=\"\",\"\",\"lb/ton\")","v":"lb/ton"},{"$f":"N59*O59","v":0},null,{"$f":"IF(N59=0,0,IF($C$10>0,$C$10*O59/2000,IF($C$11>0,$C$11*365*O59/2000,IF($C$12>0,$C$12*365*O59*N59/2000,IF(R59=\"\",Q59*8760/2000,R59*8760/2000)))))","v":0},{"$f":"IF(C7=\"drum mix plant\",$P$6*O59/2000,SUM($P$5:$P$7)*O59/2000)","v":0}]
[null,null,null,null,null,null,null,null,null,null,null,null,"Benzene"]
[null,null,null,null,{"$f":"IF($C$4>2,\"Stock Pile Area\",\"\")","v":""},null,null,null,null,null,null,null,{"$f":"IF($C$5=\"\",\"\",$C$5)","v":""},{"$f":"SUM($N$5:$N$7)","v":0},{"$f":"IF(N61=0,0,IF(M61=\"Batch Mix Plant\",0.00028,IF(M61=\"Drum Mix Plant\",0.00039)))","v":0},{"$f":"IF(O61=\"\",\"\",\"lb/ton\")","v":"lb/ton"},{"$f":"N61*O61","v":0},null,{"$f":"IF(N61=0,0,IF($C$10>0,$C$10*O61/2000,IF($C$11>0,$C$11*365*O61/2000,IF($C$12>0,$C$12*365*O61*N61/2000,IF(R61=\"\",Q61*8760/2000,R61*8760/2000)))))","v":0},{"$f":"SUM($P$5:$P$7)*O61/2000","v":0}]
[null,null,null,null,null,{"$f":"IF($C$4>2,\"Emission Unit #\",\"\")","v":""},{"$f":"IF($C$4>2,\"Maximum Storage Area (acres)\",\"\")","v":""},{"$f":"IF($C$4>2,\"Actual Storage Area (acres)\",\"\")","v":""},{"$f":"IF($C$4>2,\"Actual Days in Existence (days)\",\"\")","v":""},null,null,null,"Ethylbenzene"]
[null,null,null,null,null,null,null,null,null,null,null,null,{"$f":"IF($C$5=\"\",\"\",$C$5)","v":""},{"$f":"SUM($N$5:$N$7)","v":0},{"$f":"IF(N63=0,0,IF(M63=\"Batch Mix Plant\",0.0022,IF(M63=\"Drum Mix Plant\",0.00024)))","v":0},{"$f":"IF(O63=\"\",\"\",\"lb/ton\")","v":"lb/ton"},{"$f":"N63*O63","v":0},null,{"$f":"IF(N63=0,0,IF($C$10>0,$C$10*O63/2000,IF($C$11>0,$C$11*365*O63/2000,IF($C$12>0,$C$12*365*O63*N63/2000,IF(R63=\"\",Q63*8760/2000,R63*8760/2000)))))","v":0},{"$f":"SUM($P$5:$P$7)*O63/2000","v":0}]
[null,null,null,null,null,null,null,null,null,null,null,null,"Formaldehyde"]
[null,{"$f":"IF($C$4>3,\"Asphalt Plant\",\"\")","v":""},{"$f":"IF($C$4>3,\"Site 4\",\"\")","v":""},null,{"$f":"IF($C$4>3,\"Emission Point #\",\"\")","v":""},{"$f":"IF($C$4>3,\"Emission    Unit #\",\"\")","v":""},{"$f":"IF($C$4>3,\"Process\",\"\")","v":""},{"$f":"IF($C$4>3,\"Maximum Hourly     Design Rate\",\"\")","v":""},{"$f":"IF($C$4>3,('Facility Information'!G50&\" Annual Throughput\"),\"\")","v":""},null,null,null,{"$f":"IF($C$5=\"\",\"\",$C$5)","v":""},{"$f":"SUM($N$5:$N$7)","v":0},{"$f":"IF(N65=0,0,IF(M65=\"Batch Mix Plant\",0.00074,IF(M65=\"Drum Mix Plant\",0.0031)))","v":0},{"$f":"IF(O65=\"\",\"\",\"lb/ton\")","v":"lb/ton"},{"$f":"N65*O65","v":0},null,{"$f":"IF(N65=0,0,IF($C$10>0,$C$10*O65/2000,IF($C$11>0,$C$11*365*O65/2000,IF($C$12>0,$C$12*365*O65*N65/2000,IF(R65=\"\",Q65*8760/2000,R65*8760/2000)))))","v":0},{"$f":"SUM($P$5:$P$7)*O65/2000","v":0}]
[null,null,null,null,null,null,null,null,null,null,null,null,{"$f":"\"Natural Gas Fired Heater\"","v":"Natural Gas Fired Heater"},{"$f":"N10","v":0},{"$f":"IF(N66=0,0,0.026)","v":0},{"$f":"IF(O66=\"\",\"\",\"lb/MMCF\")","v":"lb/MMCF"},{"$f":"N66*O66","v":0},null,{"$f":"IF(N66=0,0,IF(R66=\"\",Q66*8760/2000,R66*8760/2000))","v":0},{"$f":"($P$10*O66/2000)","v":0}]
[null,{"$f":"IF($C$4>3,\"Site Name\",\"\")","v":""},null," ",{"$f":"IF($C$4>3,\"Dryers, Hot Screens, Mixer\",\"\")","v":""},null,null,{"$f":"IF($C$4>3,\"(tons/hr)\",\"\")","v":""},{"$f":"IF($C$4>3,\"(tons/yr)\",\"\")","v":""},"PM2.5","PM10",null,"Hexane"]
[null,{"$f":"IF($C$4>3,\"County:\",\"\")","v":""},null,null,{"$f":"IF(C70=\"\",\"\",\"AP-9 EP-1\")","v":""},{"$f":"IF(C70=\"\",\"\",\"AP-9 EU-1\")","v":""},{"$f":"IF(C70=\"\",\"\",C5 & \" - \"&C70)","v":""},null,null,{"$f":"IF(C71=\"\",\"\",IF(C71=\"yes\",LOOKUP(G68,'Emission Factors'!$A$12:$A$17,'Emission Factors'!$D$12:$D$17),LOOKUP(G68,'Emission Factors'!$A$5:$A$10,'Emission Factors'!$D$5:$D$10)))","v":""},{"$f":"IF(C71=\"\",\"\",IF(C71=\"yes\",LOOKUP(G68,'Emission Factors'!$A$12:$A$17,'Emission Factors'!$F$12:$F$17),LOOKUP(G68,'Emission Factors'!$A$5:$A$10,'Emission Factors'!$F$5:$F$10)))","v":""},null,{"$f":"IF($C$5=\"\",\"\",$C$5)","v":""},{"$f":"IF(C5=\"drum mix plant\",SUM(N5:N7),0)","v":0},{"$f":"IF(N68=0,0,0.00092)","v":0},{"$f":"IF(O68=\"\",\"\",\"lb/ton\")","v":"lb/ton"},{"$f":"N68*O68","v":0},null,{"$f":"IF(N68=0,0,IF($C$10>0,$C$10*O68/2000,IF($C$11>0,$C$11*365*O68/2000,IF($C$12>0,$C$12*365*O68*N68/2000,IF(R68=\"\",Q68*8760/2000,R68*8760/2000)))))","v":0},{"$f":"IF(N68>0,SUM($P$5:$P$7)*O68/2000,0)","v":0}]
[null,{"$f":"IF($C$4>3,\"Production Period (Dates):\",\"\")","v":""},null,null,{"$f":"IF($C$4>3,\"Liquid Asphalt Heater\",\"\")","v":""},null,null,{"$f":"IF($C$4>3,IF(C70=\"natural gas\",\"(MMCF/hr)\",\"(gallons/hr)\"),\"\")","v":""},{"$f":"IF($C$4>3,IF(C70=\"natural gas\",\"(MMCF/yr)\",\"(gallons/yr)\"),\"\")","v":""},null,null,null,"Hydrochloric Acid"]
[null,{"$f":"IF($C$4>3,\"Type of Fuel Used:\",\"\")","v":""},null,null,{"$f":"IF(C70=\"\",\"\",\"AP-9 EP-2\")","v":""},{"$f":"IF(C70=\"\",\"\",\"AP-9 EU-2\")","v":""},{"$f":"IF(C70=\"\",\"\",C70& \" Fired Heater\")","v":""},null,null,null,null,null,{"$f":"IF($C$5=\"\",\"\",$C$5)","v":""},{"$f":"IF(C5=\"drum mix plant\",SUM(N5:$N$6),0)","v":0},{"$f":"IF(N70=0,0,0.00021)","v":0},{"$f":"IF(O70=\"\",\"\",\"lb/ton\")","v":"lb/ton"},{"$f":"N70*O70","v":0},null,{"$f":"IF(N70=0,0,IF($C$10>0,$C$10*O70/2000,IF($C$11>0,$C$11*365*O70/2000,IF($C$12>0,$C$12*365*O70*N70/2000,IF(R70=\"\",Q70*8760/2000,R70*8760/2000)))))","v":0},{"$f":"IF(N70>0,$P$6*O70/2000,0)","v":0}]
[null,{"$f":"IF($C$4>3,\"Is Your Operation Controlled?:\",\"\")","v":""},null,null,{"$f":"IF($C$4>3,\"Silo Filling, Truck Loadout, Aggregate Transfer\",\"\")","v":""},null,null,{"$f":"IF($C$4>3,\"(tons/hr)\",\"\")","v":""},{"$f":"IF($C$4>3,\"(tons/yr)\",\"\")","v":""},null,null,null,"Methyl Chloroform"]
[null,null,null,null,{"$f":"IF($C$4>3,\"AP-9 EP-3\",\"\")","v":""},{"$f":"IF($C$4>3,\"AP-9 EU-3\",\"\")","v":""},{"$f":"IF($C$4>3,\"Silo Filling\",\"\")","v":""},null,null,null,null,null,{"$f":"IF($C$5=\"\",\"\",$C$5)","v":""},{"$f":"IF(C5=\"drum mix plant\",SUM(N5:N7),0)","v":0},{"$f":"IF(N72=0,0,0.000048)","v":0},{"$f":"IF(O72=\"\",\"\",\"lb/ton\")","v":"lb/ton"},{"$f":"N72*O72","v":0},null,{"$f":"IF(N72=0,0,IF($C$10>0,$C$10*O72/2000,IF($C$11>0,$C$11*365*O72/2000,IF($C$12>0,$C$12*365*O72*N72/2000,IF(R72=\"\",Q72*8760/2000,R72*8760/2000)))))","v":0},{"$f":"IF(N72>0,SUM($P$5:$P$7)*O72/2000,0)","v":0}]
[null,null,null,null,{"$f":"IF($C$4>3,\"AP-9 EP-3\",\"\")","v":""},{"$f":"IF($C$4>3,\"AP-9 EU-4\",\"\")","v":""},{"$f":"IF($C$4>3,\"Truck Loadout\",\"\")","v":""},null,null,null,null,null,"Propionaldehyde"]
[null,null,null,null,{"$f":"IF($C$4>3,\"AP-9 EP-3\",\"\")","v":""},{"$f":"IF($C$4>3,\"AP-9 EU-5\",\"\")","v":""},{"$f":"IF($C$4>3,\"Cold Aggregate Bins\",\"\")","v":""},null,null,null,null,null,{"$f":"IF($C$5=\"\",\"\",$C$5)","v":""},{"$f":"IF(C5=\"drum mix plant\",SUM(N5:$N$6),0)","v":0},{"$f":"IF(N74=0,0,0.00013)","v":0},{"$f":"IF(O74=\"\",\"\",\"lb/ton\")","v":"lb/ton"},{"$f":"N74*O74","v":0},null,{"$f":"IF(N74=0,0,IF($C$10>0,$C$10*O74/2000,IF($C$11>0,$C$11*365*O74/2000,IF($C$12>0,$C$12*365*O74*N74/2000,IF(R74=\"\",Q74*8760/2000,R74*8760/2000)))))","v":0},{"$f":"IF(N74>0,$P$6*O74/2000,0)","v":0}]
[null,null,null,null,null,null,null,null,null,null,null,null,"Quinone"]
[null,null,null,null,{"$f":"IF($C$4>3,\"Stock Pile Area\",\"\")","v":""},null,null,null,null,null,null,null,{"$f":"IF($C$5=\"\",\"\",$C$5)","v":""},{"$f":"IF(C5=\"drum mix plant\",SUM(N5:$N$6),SUM($N$5:$N$7))","v":0},{"$f":"IF(N76=0,0,IF(M76=\"Batch Mix Plant\",0.00027,IF(M76=\"Drum Mix Plant\",0.00016)))","v":0},{"$f":"IF(O76=\"\",\"\",\"lb/ton\")","v":"lb/ton"},{"$f":"N76*O76","v":0},null,{"$f":"IF(N76=0,0,IF($C$10>0,$C$10*O76/2000,IF($C$11>0,$C$11*365*O76/2000,IF($C$12>0,$C$12*365*O76*N76/2000,IF(R76=\"\",Q76*8760/2000,R76*8760/2000)))))","v":0},{"$f":"IF(C24=\"drum mix plant\",$P$6*O76/2000,SUM($P$5:$P$7)*O76/2000)","v":0}]
[null,null,null,null,null,{"$f":"IF($C$4>3,\"Emission Unit #\",\"\")","v":""},{"$f":"IF($C$4>3,\"Maximum Storage Area (acres)\",\"\")","v":""},{"$f":"IF($C$4>3,\"Actual Storage Area (acres)\",\"\")","v":""},{"$f":"IF($C$4>3,\"Actual Days in Existence (days)\",\"\")","v":""},null,null,null,"Toluene"]
[null,null,null,null,null,null,null,null,null,null,null,null,{"$f":"$C$5 & \" - Fuel Oil\"","v":" - Fuel Oil"},{"$f":"$N$5","v":0},{"$f":"IF(N78=0,0,LOOKUP(M78,'Emission Factors'!$A$5:$A$10,'Emission Factors'!$AJ$5:$AJ$10))","v":0},{"$f":"IF(O78=\"\",\"\",\"lb/ton\")","v":"lb/ton"},{"$f":"N78*O78","v":0},null,{"$f":"IF(N78=0,0,IF($C$10>0,$C$10*O78/2000,IF($C$11>0,$C$11*365*O78/2000,IF($C$12>0,$C$12*365*O78*N78/2000,IF(R78=\"\",Q78*8760/2000,R78*8760/2000)))))","v":0},{"$f":"P5*O78/2000","v":0}]
[null,null,null,null,null,null,null,null,null,null,null,null,{"$f":"$C$5 & \" - Waste Oil\"","v":" - Waste Oil"},{"$f":"$N$6","v":0},{"$f":"IF(N79=0,0,LOOKUP(M79,'Emission Factors'!$A$5:$A$10,'Emission Factors'!$AJ$5:$AJ$10))","v":0},{"$f":"IF(O79=\"\",\"\",\"lb/ton\")","v":"lb/ton"},{"$f":"N79*O79","v":0},null,{"$f":"IF(N79=0,0,IF(OR(AND($C$10>0,$N$78>0),AND($C$11>0,$N$78>0),AND($C$12>0,$N$78>0)),\"\",IF($C$10>0,$C$10*O79/2000,IF($C$11>0,$C$11*365*O79/2000,IF($C$12>0,$C$12*365*O79*N79/2000,IF(R79=\"\",Q79*8760/2000,R79*8760/2000))))))","v":0},{"$f":"P6*O79/2000","v":0}]
[null,{"$f":"IF($C$4>4,\"Asphalt Plant\",\"\")","v":""},{"$f":"IF($C$4>4,\"Site 5\",\"\")","v":""},null,{"$f":"IF($C$4>4,\"Emission Point #\",\"\")","v":""},{"$f":"IF($C$4>4,\"Emission    Unit #\",\"\")","v":""},{"$f":"IF($C$4>4,\"Process\",\"\")","v":""},{"$f":"IF($C$4>4,\"Maximum Hourly     Design Rate\",\"\")","v":""},{"$f":"IF($C$4>4,('Facility Information'!G65&\" Annual Throughput\"),\"\")","v":""},null,null,null,{"$f":"$C$5 & \" - Natural Gas\"","v":" - Natural Gas"},{"$f":"$N$7","v":0},{"$f":"IF(N80=0,0,LOOKUP(M80,'Emission Factors'!$A$5:$A$10,'Emission Factors'!$AJ$5:$AJ$10))","v":0},{"$f":"IF(O80=\"\",\"\",\"lb/ton\")","v":"lb/ton"},{"$f":"N80*O80","v":0},null,{"$f":"IF(N80=0,0,IF(OR(AND($C$10>0,$N$78>0),AND($C$11>0,$N$78>0),AND($C$12>0,$N$78>0)),\"\",IF(OR(AND($C$10>0,$N$79>0),AND($C$11>0,$N$79>0),AND($C$12>0,$N$79>0)),\"\",IF($C$10>0,$C$10*O80/2000,IF($C$11>0,$C$11*365*O80/2000,IF($C$12>0,$C$12*365*O80*N80/2000,IF(R80=\"\",Q80*8760/2000,R80*8760/2000)))))))","v":0},{"$f":"P7*O80/2000","v":0}]
[null,null,null,null,null,null,null,null,null,null,null,null,"Xylene"]
[null,{"$f":"IF($C$4>4,\"Site Name\",\"\")","v":""},null,null,{"$f":"IF($C$4>4,\"Dryers, Hot Screens, Mixer\",\"\")","v":""},null,null,{"$f":"IF($C$4>4,\"(tons/hr)\",\"\")","v":""},{"$f":"IF($C$4>4,\"(tons/yr)\",\"\")","v":""},"PM2.5","PM10",null,{"$f":"IF($C$5=\"\",\"\",$C$5)","v":""},{"$f":"SUM($N$5:$N$7)","v":0},{"$f":"IF(N82=0,0,IF(M82=\"Batch Mix Plant\",0.0027,IF(M82=\"Drum Mix Plant\",0.0002)))","v":0},{"$f":"IF(O82=\"\",\"\",\"lb/ton\")","v":"lb/ton"},{"$f":"N82*O82","v":0},null,{"$f":"IF(N82=0,0,IF($C$10>0,$C$10*O82/2000,IF($C$11>0,$C$11*365*O82/2000,IF($C$12>0,$C$12*365*O82*N82/2000,IF(R82=\"\",Q82*8760/2000,R82*8760/2000)))))","v":0},{"$f":"SUM($P$5:$P$7)*O82/2000","v":0}]
[null,{"$f":"IF($C$4>4,\"County:\",\"\")","v":""},null,null,{"$f":"IF(C85=\"\",\"\",\"AP-9 EP-1\")","v":""},{"$f":"IF(C85=\"\",\"\",\"AP-9 EU-1\")","v":""},{"$f":"IF(C85=\"\",\"\",C5 & \" - \"&C85)","v":""},null,null,{"$f":"IF(C86=\"\",\"\",IF(C86=\"yes\",LOOKUP(G83,'Emission Factors'!$A$12:$A$17,'Emission Factors'!$D$12:$D$17),LOOKUP(G83,'Emission Factors'!$A$5:$A$10,'Emission Factors'!$D$5:$D$10)))","v":""},{"$f":"IF(C86=\"\",\"\",IF(C86=\"yes\",LOOKUP(G83,'Emission Factors'!$A$12:$A$17,'Emission Factors'!$F$12:$F$17),LOOKUP(G83,'Emission Factors'!$A$5:$A$10,'Emission Factors'!$F$5:$F$10)))","v":""},null,"2,2,4-Trimethylpentane"]
[null,{"$f":"IF($C$4>4,\"Production Period (Dates):\",\"\")","v":""},null,null,{"$f":"IF($C$4>4,\"Liquid Asphalt Heater\",\"\")","v":""},null,null,{"$f":"IF($C$4>4,IF(C85=\"natural gas\",\"(MMCF/hr)\",\"(gallons/hr)\"),\"\")","v":""},{"$f":"IF($C$4>4,IF(C85=\"natural gas\",\"(MMCF/yr)\",\"(gallons/yr)\"),\"\")","v":""},null,null,null,{"$f":"IF($C$5=\"\",\"\",$C$5)","v":""},{"$f":"IF(C5=\"drum mix plant\",SUM(N5:N7),0)","v":0},{"$f":"IF(N84=0,0,0.00004)","v":0},{"$f":"IF(O84=\"\",\"\",\"lb/ton\")","v":"lb/ton"},{"$f":"N84*O84","v":0},null,{"$f":"IF(N84=0,0,IF($C$10>0,$C$10*O84/2000,IF($C$11>0,$C$11*365*O84/2000,IF($C$12>0,$C$12*365*O84*N84/2000,IF(R84=\"\",Q84*8760/2000,R84*8760/2000)))))","v":0},{"$f":"IF(N84>0,SUM($P$5:$P$7)*O84/2000,0)","v":0}]
[null,{"$f":"IF($C$4>4,\"Type of Fuel Used:\",\"\")","v":""},null,null,{"$f":"IF(C85=\"\",\"\",\"AP-9 EP-2\")","v":""},{"$f":"IF(C85=\"\",\"\",\"AP-9 EU-2\")","v":""},{"$f":"IF(C85=\"\",\"\",C85& \" Fired Heater\")","v":""},null,null,null,"Controlled?",null,"Chromium Compounds"]
[null,{"$f":"IF($C$4>4,\"Is Your Operation Controlled?:\",\"\")","v":""},null,null,{"$f":"IF($C$4>4,\"Silo Filling, Truck Loadout, Aggregate Transfer\",\"\")","v":""},null,null,{"$f":"IF($C$4>4,\"(tons/hr)\",\"\")","v":""},{"$f":"IF($C$4>4,\"(tons/yr)\",\"\")","v":""},null,{"$f":"IF(OR(C26=\"yes\",C41=\"yes\",C71=\"yes\",C86=\"yes\",C101=\"yes\",C116=\"yes\",C131=\"yes\",C146=\"yes\",C161=\"yes\"),1,0)","v":0},null,{"$f":"IF($C$5=\"\",\"\",$C$5)","v":""},{"$f":"IF(C5=\"drum mix plant\",SUM(N5:N6),0)","v":0},{"$f":"IF(N86=0,0,IF($K$86=1,0.0000055,0.000024))","v":0},{"$f":"IF(O86=\"\",\"\",\"lb/ton\")","v":"lb/ton"},{"$f":"IF($K$86=1,\"\",N86*O86)","v":0},{"$f":"IF($K$86=1,N86*O86,\"\")","v":""},{"$f":"IF(N86=0,0,IF($C$10>0,$C$10*O86/2000,IF($C$11>0,$C$11*365*O86/2000,IF($C$12>0,$C$12*365*O86*N86/2000,IF(R86=\"\",Q86*8760/2000,R86*8760/2000)))))","v":0},{"$f":"IF(N86>0,$P$5*O86/2000,0)","v":0}]
[null,null,null,null,{"$f":"IF($C$4>4,\"AP-9 EP-3\",\"\")","v":""},{"$f":"IF($C$4>4,\"AP-9 EU-3\",\"\")","v":""},{"$f":"IF($C$4>4,\"Silo Filling\",\"\")","v":""},null,null,null,null,null,"Lead Compounds"]
[null,null,null,null,{"$f":"IF($C$4>4,\"AP-9 EP-3\",\"\")","v":""},{"$f":"IF($C$4>4,\"AP-9 EU-4\",\"\")","v":""},{"$f":"IF($C$4>4,\"Truck Loadout\",\"\")","v":""},null,null,null,null,null,{"$f":"IF($C$5=\"\",\"\",$C$5)","v":""},{"$f":"IF(C5=\"drum mix plant\",SUM(N5:N6),0)","v":0},{"$f":"IF(N88=0,0,IF($K$86=1,0.000015,0.00054))","v":0},{"$f":"IF(O88=\"\",\"\",\"lb/ton\")","v":"lb/ton"},{"$f":"IF($K$86=1,\"\",N88*O88)","v":0},{"$f":"IF($K$86=1,N88*O88,\"\")","v":""},{"$f":"IF(N88=0,0,IF($C$10>0,$C$10*O88/2000,IF($C$11>0,$C$11*365*O88/2000,IF($C$12>0,$C$12*365*O88*N88/2000,IF(R88=\"\",Q88*8760/2000,R88*8760/2000)))))","v":0},{"$f":"IF(N88>0,$P$5*O88/2000,0)","v":0}]
[null,null,null,null,{"$f":"IF($C$4>4,\"AP-9 EP-3\",\"\")","v":""},{"$f":"IF($C$4>4,\"AP-9 EU-5\",\"\")","v":""},{"$f":"IF($C$4>4,\"Cold Aggregate Bins\",\"\")","v":""},null,null,null,null,null,"Manganese Compounds",null,null,null,0]
[null,null,null,null,null,null,null,null,null,null,null,null,{"$f":"IF($C$5=\"\",\"\",$C$5)","v":""},{"$f":"IF(C5=\"drum mix plant\",SUM(N5:N6),0)","v":0},{"$f":"IF(N90=0,0,IF($K$86=1,0.0000077,0.00065))","v":0},{"$f":"IF(O90=\"\",\"\",\"lb/ton\")","v":"lb/ton"},0,{"$f":"IF($K$86=1,N90*O90,\"\")","v":""},{"$f":"IF(N90=0,0,IF($C$10>0,$C$10*O90/2000,IF($C$11>0,$C$11*365*O90/2000,IF($C$12>0,$C$12*365*O90*N90/2000,IF(R90=\"\",Q90*8760/2000,R90*8760/2000)))))","v":0},{"$f":"IF(N90>0,$P$5*O90/2000,0)","v":0}]
[null,null,null,null,{"$f":"IF($C$4>4,\"Stock Pile Area\",\"\")","v":""},null,null,null,null,null,null,null,"Nickel Compounds",null,null,null,0]
[null,null,null,null,null,{"$f":"IF($C$4>4,\"Emission Unit #\",\"\")","v":""},{"$f":"IF($C$4>4,\"Maximum Storage Area (acres)\",\"\")","v":""},{"$f":"IF($C$4>4,\"Actual Storage Area (acres)\",\"\")","v":""},{"$f":"IF($C$4>4,\"Actual Days in Existence (days)\",\"\")","v":""},null,null,null,{"$f":"$C$5 & \" - Fuel Oil\"","v":" - Fuel Oil"},{"$f":"IF(C5=\"drum mix plant\",N5,0)","v":0},{"$f":"IF(N92=0,0,IF($K$86=1,0.000015,0.0013))","v":0},{"$f":"IF(O92=\"\",\"\",\"lb/ton\")","v":"lb/ton"},0,{"$f":"IF($K$86=1,N92*O92,\"\")","v":""},{"$f":"IF(N92=0,0,IF($C$10>0,$C$10*O92/2000,IF($C$11>0,$C$11*365*O92/2000,IF($C$12>0,$C$12*365*O92*N92/2000,IF(R92=\"\",Q92*8760/2000,R92*8760/2000)))))","v":0},{"$f":"IF(N92>0,$P$5*O92/2000,0)","v":0}]
[null,null,null,null,null,null,null,null,null,null,null,null,{"$f":"$C$5 & \" - Waste Oil\"","v":" - Waste Oil"},{"$f":"IF(C5=\"drum mix plant\",N6,0)","v":0},{"$f":"IF(N93=0,0,IF($K$86=1,0.000015,0.0013))","v":0},{"$f":"IF(O93=\"\",\"\",\"lb/ton\")","v":"lb/ton"},0,{"$f":"IF($K$86=1,N93*O93,\"\")","v":""},{"$f":"IF(N93=0,0,IF($C$10>0,$C$10*O93/2000,IF($C$11>0,$C$11*365*O93/2000,IF($C$12>0,$C$12*365*O93*N93/2000,IF(R93=\"\",Q93*8760/2000,R93*8760/2000)))))","v":0},{"$f":"IF(N93>0,$P$6*O93/2000,0)","v":0}]
[null,null,null,null,null,null,null,null,null,null,null,null,{"$f":"$C$5 & \" - Natural Gas\"","v":" - Natural Gas"},{"$f":"IF(C5=\"drum mix plant\",N7,0)","v":0},{"$f":"IF(N94=0,0,IF($K$86=1,0.000063,0.00063))","v":0},{"$f":"IF(O94=\"\",\"\",\"lb/ton\")","v":"lb/ton"},{"$f":"IF($K$86=1,\"\",N94*O94)","v":0},{"$f":"IF($K$86=1,N94*O94,\"\")","v":""},{"$f":"IF(N94=0,0,IF($C$10>0,$C$10*O94/2000,IF($C$11>0,$C$11*365*O94/2000,IF($C$12>0,$C$12*365*O94*N94/2000,IF(R94=\"\",Q94*8760/2000,R94*8760/2000)))))","v":0},{"$f":"IF(N94>0,$P$7*O94/2000,0)","v":0}]
[null,{"$f":"IF($C$4>5,\"Asphalt Plant\",\"\")","v":""},{"$f":"IF($C$4>5,\"Site 6\",\"\")","v":""},null,{"$f":"IF($C$4>5,\"Emission Point #\",\"\")","v":""},{"$f":"IF($C$4>5,\"Emission    Unit #\",\"\")","v":""},{"$f":"IF($C$4>5,\"Process\",\"\")","v":""},{"$f":"IF($C$4>5,\"Maximum Hourly     Design Rate\",\"\")","v":""},{"$f":"IF($C$4>5,('Facility Information'!G80&\" Annual Throughput\"),\"\")","v":""}]
[]
[null,{"$f":"IF($C$4>5,\"Site Name\",\"\")","v":""},null,null,{"$f":"IF($C$4>5,\"Dryers, Hot Screens, Mixer\",\"\")","v":""},null,null,{"$f":"IF($C$4>5,\"(tons/hr)\",\"\")","v":""},{"$f":"IF($C$4>5,\"(tons/yr)\",\"\")","v":""},"PM2.5","PM10"]
[null,{"$f":"IF($C$4>5,\"County:\",\"\")","v":""},null,null,{"$f":"IF(C100=\"\",\"\",\"AP-9 EP-1\")","v":""},{"$f":"IF(C100=\"\",\"\",\"AP-9 EU-1\")","v":""},{"$f":"IF(C100=\"\",\"\",C5 & \" - \"&C100)","v":""},null,null,{"$f":"IF(C101=\"\",\"\",IF(C101=\"yes\",LOOKUP(G98,'Emission Factors'!$A$12:$A$17,'Emission Factors'!$D$12:$D$17),LOOKUP(G98,'Emission Factors'!$A$5:$A$10,'Emission Factors'!$D$5:$D$10)))","v":""},{"$f":"IF(C101=\"\",\"\",IF(C101=\"yes\",LOOKUP(G98,'Emission Factors'!$A$12:$A$17,'Emission Factors'!$F$12:$F$17),LOOKUP(G98,'Emission Factors'!$A$5:$A$10,'Emission Factors'!$F$5:$F$10)))","v":""}]
[null,{"$f":"IF($C$4>5,\"Production Period (Dates):\",\"\")","v":""},null,null,{"$f":"IF($C$4>5,\"Liquid Asphalt Heater\",\"\")","v":""},null,null,{"$f":"IF($C$4>5,IF(C100=\"natural gas\",\"(MMCF/hr)\",\"(gallons/hr)\"),\"\")","v":""},{"$f":"IF($C$4>5,IF(C100=\"natural gas\",\"(MMCF/yr)\",\"(gallons/yr)\"),\"\")","v":""}]
[null,{"$f":"IF($C$4>5,\"Type of Fuel Used:\",\"\")","v":""},null,null,{"$f":"IF(C100=\"\",\"\",\"AP-9 EP-2\")","v":""},{"$f":"IF(C100=\"\",\"\",\"AP-9 EU-2\")","v":""},{"$f":"IF(C100=\"\",\"\",C100& \" Fired Heater\")","v":""}]
[null,{"$f":"IF($C$4>5,\"Is Your Operation Controlled?:\",\"\")","v":""},null,null,{"$f":"IF($C$4>5,\"Silo Filling, Truck Loadout, Aggregate Transfer\",\"\")","v":""},null,null,{"$f":"IF($C$4>5,\"(tons/hr)\",\"\")","v":""},{"$f":"IF($C$4>5,\"(tons/yr)\",\"\")","v":""}]
[null,null,null,null,{"$f":"IF($C$4>5,\"AP-9 EP-3\",\"\")","v":""},{"$f":"IF($C$4>5,\"AP-9 EU-3\",\"\")","v":""},{"$f":"IF($C$4>5,\"Silo Filling\",\"\")","v":""}]
[null,null,null,null,{"$f":"IF($C$4>5,\"AP-9 EP-3\",\"\")","v":""},{"$f":"IF($C$4>5,\"AP-9 EU-4\",\"\")","v":""},{"$f":"IF($C$4>5,\"Truck Loadout\",\"\")","v":""}]
[null,null,null,null,{"$f":"IF($C$4>5,\"AP-9 EP-3\",\"\")","v":""},{"$f":"IF($C$4>5,\"AP-9 EU-5\",\"\")","v":""},{"$f":"IF($C$4>5,\"Cold Aggregate Bins\",\"\")","v":""}]
[]
[null,null,null,null,{"$f":"IF($C$4>5,\"Stock Pile Area\",\"\")","v":""}]
[null,null,null,null,null,{"$f":"IF($C$4>5,\"Emission Unit #\",\"\")","v":""},{"$f":"IF($C$4>5,\"Maximum Storage Area (acres)\",\"\")","v":""},{"$f":"IF($C$4>5,\"Actual Storage Area (acres)\",\"\")","v":""},{"$f":"IF($C$4>5,\"Actual Days in Existence (days)\",\"\")","v":""}]
[]
[]
[null,{"$f":"IF($C$4>6,\"Asphalt Plant\",\"\")","v":""},{"$f":"IF($C$4>6,\"Site 7\",\"\")","v":""},null,{"$f":"IF($C$4>6,\"Emission Point #\",\"\")","v":""},{"$f":"IF($C$4>6,\"Emission    Unit #\",\"\")","v":""},{"$f":"IF($C$4>6,\"Process\",\"\")","v":""},{"$f":"IF($C$4>6,\"Maximum Hourly     Design Rate\",\"\")","v":""},{"$f":"IF($C$4>6,('Facility Information'!G95&\" Annual Throughput\"),\"\")","v":""}]
[]
[null,{"$f":"IF($C$4>6,\"Site Name\",\"\")","v":""},null,null,{"$f":"IF($C$4>6,\"Dryers, Hot Screens, Mixer\",\"\")","v":""},null,null,{"$f":"IF($C$4>6,\"(tons/hr)\",\"\")","v":""},{"$f":"IF($C$4>6,\"(tons/yr)\",\"\")","v":""},"PM2.5","PM10"]
[null,{"$f":"IF($C$4>6,\"County:\",\"\")","v":""},null,null,{"$f":"IF(C115=\"\",\"\",\"AP-9 EP-1\")","v":""},{"$f":"IF(C115=\"\",\"\",\"AP-9 EU-1\")","v":""},{"$f":"IF(C115=\"\",\"\",C5 & \" - \"&C115)","v":""},null,null,{"$f":"IF(C116=\"\",\"\",IF(C116=\"yes\",LOOKUP(G113,'Emission Factors'!$A$12:$A$17,'Emission Factors'!$D$12:$D$17),LOOKUP(G113,'Emission Factors'!$A$5:$A$10,'Emission Factors'!$D$5:$D$10)))","v":""},{"$f":"IF(C116=\"\",\"\",IF(C116=\"yes\",LOOKUP(G113,'Emission Factors'!$A$12:$A$17,'Emission Factors'!$F$12:$F$17),LOOKUP(G113,'Emission Factors'!$A$5:$A$10,'Emission Factors'!$F$5:$F$10)))","v":""}]
[null,{"$f":"IF($C$4>6,\"Production Period (Dates):\",\"\")","v":""},null,null,{"$f":"IF($C$4>6,\"Liquid Asphalt Heater\",\"\")","v":""},null,null,{"$f":"IF($C$4>6,IF(C115=\"natural gas\",\"(MMCF/hr)\",\"(gallons/hr)\"),\"\")","v":""},{"$f":"IF($C$4>6,IF(C115=\"natural gas\",\"(MMCF/yr)\",\"(gallons/yr)\"),\"\")","v":""}]
[null,{"$f":"IF($C$4>6,\"Type of Fuel Used:\",\"\")","v":""},null,null,{"$f":"IF(C115=\"\",\"\",\"AP-9 EP-2\")","v":""},{"$f":"IF(C115=\"\",\"\",\"AP-9 EU-2\")","v":""},{"$f":"IF(C115=\"\",\"\",C115& \" Fired Heater\")","v":""}]
[null,{"$f":"IF($C$4>6,\"Is Your Operation Controlled?:\",\"\")","v":""},null,null,{"$f":"IF($C$4>6,\"Silo Filling, Truck Loadout, Aggregate Transfer\",\"\")","v":""},null,null,{"$f":"IF($C$4>6,\"(tons/hr)\",\"\")","v":""},{"$f":"IF($C$4>6,\"(tons/yr)\",\"\")","v":""}]
[null,null,null,null,{"$f":"IF($C$4>6,\"AP-9 EP-3\",\"\")","v":""},{"$f":"IF($C$4>6,\"AP-9 EU-3\",\"\")","v":""},{"$f":"IF($C$4>6,\"Silo Filling\",\"\")","v":""}]
[null,null,null,null,{"$f":"IF($C$4>6,\"AP-9 EP-3\",\"\")","v":""},{"$f":"IF($C$4>6,\"AP-9 EU-4\",\"\")","v":""},{"$f":"IF($C$4>6,\"Truck Loadout\",\"\")","v":""}]
[null,null,null,null,{"$f":"IF($C$4>6,\"AP-9 EP-3\",\"\")","v":""},{"$f":"IF($C$4>6,\"AP-9 EU-5\",\"\")","v":""},{"$f":"IF($C$4>6,\"Cold Aggregate Bins\",\"\")","v":""}]
[]
[null,null,null,null,{"$f":"IF($C$4>6,\"Stock Pile Area\",\"\")","v":""}]
[null,null,null,null,null,{"$f":"IF($C$4>6,\"Emission Unit #\",\"\")","v":""},{"$f":"IF($C$4>6,\"Maximum Storage Area (acres)\",\"\")","v":""},{"$f":"IF($C$4>6,\"Actual Storage Area (acres)\",\"\")","v":""},{"$f":"IF($C$4>6,\"Actual Days in Existence (days)\",\"\")","v":""}]
[]
[]
[null,{"$f":"IF($C$4>7,\"Asphalt Plant\",\"\")","v":""},{"$f":"IF($C$4>7,\"Site 8\",\"\")","v":""},null,{"$f":"IF($C$4>7,\"Emission Point #\",\"\")","v":""},{"$f":"IF($C$4>7,\"Emission    Unit #\",\"\")","v":""},{"$f":"IF($C$4>7,\"Process\",\"\")","v":""},{"$f":"IF($C$4>7,\"Maximum Hourly     Design Rate\",\"\")","v":""},{"$f":"IF($C$4>7,('Facility Information'!G110&\" Annual Throughput\"),\"\")","v":""}]
[]
[null,{"$f":"IF($C$4>7,\"Site Name\",\"\")","v":""},null,null,{"$f":"IF($C$4>7,\"Dryers, Hot Screens, Mixer\",\"\")","v":""},null,null,{"$f":"IF($C$4>7,\"(tons/hr)\",\"\")","v":""},{"$f":"IF($C$4>7,\"(tons/yr)\",\"\")","v":""},"PM2.5","PM10"]
[null,{"$f":"IF($C$4>7,\"County:\",\"\")","v":""},null,null,{"$f":"IF(C130=\"\",\"\",\"AP-9 EP-1\")","v":""},{"$f":"IF(C130=\"\",\"\",\"AP-9 EU-1\")","v":""},{"$f":"IF(C130=\"\",\"\",C5 & \" - \"&C130)","v":""},null,null,{"$f":"IF(C131=\"\",\"\",IF(C131=\"yes\",LOOKUP(G128,'Emission Factors'!$A$12:$A$17,'Emission Factors'!$D$12:$D$17),LOOKUP(G128,'Emission Factors'!$A$5:$A$10,'Emission Factors'!$D$5:$D$10)))","v":""},{"$f":"IF(C131=\"\",\"\",IF(C131=\"yes\",LOOKUP(G128,'Emission Factors'!$A$12:$A$17,'Emission Factors'!$F$12:$F$17),LOOKUP(G128,'Emission Factors'!$A$5:$A$10,'Emission Factors'!$F$5:$F$10)))","v":""}]
[null,{"$f":"IF($C$4>7,\"Production Period (Dates):\",\"\")","v":""},null,null,{"$f":"IF($C$4>7,\"Liquid Asphalt Heater\",\"\")","v":""},null,null,{"$f":"IF($C$4>7,IF(C130=\"natural gas\",\"(MMCF/hr)\",\"(gallons/hr)\"),\"\")","v":""},{"$f":"IF($C$4>7,IF(C130=\"natural gas\",\"(MMCF/yr)\",\"(gallons/yr)\"),\"\")","v":""}]
[null,{"$f":"IF($C$4>7,\"Type of Fuel Used:\",\"\")","v":""},null,null,{"$f":"IF(C130=\"\",\"\",\"AP-9 EP-2\")","v":""},{"$f":"IF(C130=\"\",\"\",\"AP-9 EU-2\")","v":""},{"$f":"IF(C130=\"\",\"\",C130& \" Fired Heater\")","v":""}]
[null,{"$f":"IF($C$4>7,\"Is Your Operation Controlled?:\",\"\")","v":""},null,null,{"$f":"IF($C$4>7,\"Silo Filling, Truck Loadout, Aggregate Transfer\",\"\")","v":""},null,null,{"$f":"IF($C$4>7,\"(tons/hr)\",\"\")","v":""},{"$f":"IF($C$4>7,\"(tons/yr)\",\"\")","v":""}]
[null,null,null,null,{"$f":"IF($C$4>7,\"AP-9 EP-3\",\"\")","v":""},{"$f":"IF($C$4>7,\"AP-9 EU-3\",\"\")","v":""},{"$f":"IF($C$4>7,\"Silo Filling\",\"\")","v":""}]
[null,null,null,null,{"$f":"IF($C$4>7,\"AP-9 EP-3\",\"\")","v":""},{"$f":"IF($C$4>7,\"AP-9 EU-4\",\"\")","v":""},{"$f":"IF($C$4>7,\"Truck Loadout\",\"\")","v":""}]
[null,null,null,null,{"$f":"IF($C$4>7,\"AP-9 EP-3\",\"\")","v":""},{"$f":"IF($C$4>7,\"AP-9 EU-5\",\"\")","v":""},{"$f":"IF($C$4>7,\"Cold Aggregate Bins\",\"\")","v":""}]
[]
[null,null,null,null,{"$f":"IF($C$4>7,\"Stock Pile Area\",\"\")","v":""}]
[null,null,null,null,null,{"$f":"IF($C$4>7,\"Emission Unit #\",\"\")","v":""},{"$f":"IF($C$4>7,\"Maximum Storage Area (acres)\",\"\")","v":""},{"$f":"IF($C$4>7,\"Actual Storage Area (acres)\",\"\")","v":""},{"$f":"IF($C$4>7,\"Actual Days in Existence (days)\",\"\")","v":""}]
[]
[]
[null,{"$f":"IF($C$4>8,\"Asphalt Plant\",\"\")","v":""},{"$f":"IF($C$4>8,\"Site 9\",\"\")","v":""},null,{"$f":"IF($C$4>8,\"Emission Point #\",\"\")","v":""},{"$f":"IF($C$4>8,\"Emission    Unit #\",\"\")","v":""},{"$f":"IF($C$4>8,\"Process\",\"\")","v":""},{"$f":"IF($C$4>8,\"Maximum Hourly     Design Rate\",\"\")","v":""},{"$f":"IF($C$4>8,('Facility Information'!G125&\" Annual Throughput\"),\"\")","v":""}]
[]
[null,{"$f":"IF($C$4>8,\"Site Name\",\"\")","v":""},null,null,{"$f":"IF($C$4>8,\"Dryers, Hot Screens, Mixer\",\"\")","v":""},null,null,{"$f":"IF($C$4>8,\"(tons/hr)\",\"\")","v":""},{"$f":"IF($C$4>8,\"(tons/yr)\",\"\")","v":""},"PM2.5","PM10"]
[null,{"$f":"IF($C$4>8,\"County:\",\"\")","v":""},null,null,{"$f":"IF(C145=\"\",\"\",\"AP-9 EP-1\")","v":""},{"$f":"IF(C145=\"\",\"\",\"AP-9 EU-1\")","v":""},{"$f":"IF(C145=\"\",\"\",C5 & \" - \"&C145)","v":""},null,null,{"$f":"IF(C146=\"\",\"\",IF(C146=\"yes\",LOOKUP(G143,'Emission Factors'!$A$12:$A$17,'Emission Factors'!$D$12:$D$17),LOOKUP(G143,'Emission Factors'!$A$5:$A$10,'Emission Factors'!$D$5:$D$10)))","v":""},{"$f":"IF(C146=\"\",\"\",IF(C146=\"yes\",LOOKUP(G143,'Emission Factors'!$A$12:$A$17,'Emission Factors'!$F$12:$F$17),LOOKUP(G143,'Emission Factors'!$A$5:$A$10,'Emission Factors'!$F$5:$F$10)))","v":""}]
[null,{"$f":"IF($C$4>8,\"Production Period (Dates):\",\"\")","v":""},null,null,{"$f":"IF($C$4>8,\"Liquid Asphalt Heater\",\"\")","v":""},null,null,{"$f":"IF($C$4>8,IF(C145=\"natural gas\",\"(MMCF/hr)\",\"(gallons/hr)\"),\"\")","v":""},{"$f":"IF($C$4>8,IF(C145=\"natural gas\",\"(MMCF/yr)\",\"(gallons/yr)\"),\"\")","v":""}]
[null,{"$f":"IF($C$4>8,\"Type of Fuel Used:\",\"\")","v":""},null,null,{"$f":"IF(C145=\"\",\"\",\"AP-9 EP-2\")","v":""},{"$f":"IF(C145=\"\",\"\",\"AP-9 EU-2\")","v":""},{"$f":"IF(C145=\"\",\"\",C145& \" Fired Heater\")","v":""}]
[null,{"$f":"IF($C$4>8,\"Is Your Operation Controlled?:\",\"\")","v":""},null,null,{"$f":"IF($C$4>8,\"Silo Filling, Truck Loadout, Aggregate Transfer\",\"\")","v":""},null,null,{"$f":"IF($C$4>8,\"(tons/hr)\",\"\")","v":""},{"$f":"IF($C$4>8,\"(tons/yr)\",\"\")","v":""}]
[null,null,null,null,{"$f":"IF($C$4>8,\"AP-9 EP-3\",\"\")","v":""},{"$f":"IF($C$4>8,\"AP-9 EU-3\",\"\")","v":""},{"$f":"IF($C$4>8,\"Silo Filling\",\"\")","v":""}]
[null,null,null,null,{"$f":"IF($C$4>8,\"AP-9 EP-3\",\"\")","v":""},{"$f":"IF($C$4>8,\"AP-9 EU-4\",\"\")","v":""},{"$f":"IF($C$4>8,\"Truck Loadout\",\"\")","v":""}]
[null,null,null,null,{"$f":"IF($C$4>8,\"AP-9 EP-3\",\"\")","v":""},{"$f":"IF($C$4>8,\"AP-9 EU-5\",\"\")","v":""},{"$f":"IF($C$4>8,\"Cold Aggregate Bins\",\"\")","v":""}]
[]
[null,null,null,null,{"$f":"IF($C$4>8,\"Stock Pile Area\",\"\")","v":""}]
[null,null,null,null,null,{"$f":"IF($C$4>8,\"Emission Unit #\",\"\")","v":""},{"$f":"IF($C$4>8,\"Maximum Storage Area (acres)\",\"\")","v":""},{"$f":"IF($C$4>8,\"Actual Storage Area (acres)\",\"\")","v":""},{"$f":"IF($C$4>8,\"Actual Days in Existence (days)\",\"\")","v":""}]
[]
[]
[null,{"$f":"IF($C$4>9,\"Asphalt Plant\",\"\")","v":""},{"$f":"IF($C$4>9,\"Site 10\",\"\")","v":""},null,{"$f":"IF($C$4>9,\"Emission Point #\",\"\")","v":""},{"$f":"IF($C$4>9,\"Emission    Unit #\",\"\")","v":""},{"$f":"IF($C$4>9,\"Process\",\"\")","v":""},{"$f":"IF($C$4>9,\"Maximum Hourly     Design Rate\",\"\")","v":""},{"$f":"IF($C$4>9,('Facility Information'!G140&\" Annual Throughput\"),\"\")","v":""}]
[]
[null,{"$f":"IF($C$4>9,\"Site Name\",\"\")","v":""},null,null,{"$f":"IF($C$4>9,\"Dryers, Hot Screens, Mixer\",\"\")","v":""},null,null,{"$f":"IF($C$4>9,\"(tons/hr)\",\"\")","v":""},{"$f":"IF($C$4>9,\"(tons/yr)\",\"\")","v":""},"PM2.5","PM10"]
[null,{"$f":"IF($C$4>9,\"County:\",\"\")","v":""},null,null,{"$f":"IF(C160=\"\",\"\",\"AP-9 EP-1\")","v":""},{"$f":"IF(C160=\"\",\"\",\"AP-9 EU-1\")","v":""},{"$f":"IF(C160=\"\",\"\",C5 & \" - \"&C160)","v":""},null,null,{"$f":"IF(C161=\"\",\"\",IF(C161=\"yes\",LOOKUP(G158,'Emission Factors'!$A$12:$A$17,'Emission Factors'!$D$12:$D$17),LOOKUP(G158,'Emission Factors'!$A$5:$A$10,'Emission Factors'!$D$5:$D$10)))","v":""},{"$f":"IF(C161=\"\",\"\",IF(C161=\"yes\",LOOKUP(G158,'Emission Factors'!$A$12:$A$17,'Emission Factors'!$F$12:$F$17),LOOKUP(G158,'Emission Factors'!$A$5:$A$10,'Emission Factors'!$F$5:$F$10)))","v":""}]
[null,{"$f":"IF($C$4>9,\"Production Period (Dates):\",\"\")","v":""},null,null,{"$f":"IF($C$4>9,\"Liquid Asphalt Heater\",\"\")","v":""},null,null,{"$f":"IF($C$4>9,IF(C160=\"natural gas\",\"(MMCF/hr)\",\"(gallons/hr)\"),\"\")","v":""},{"$f":"IF($C$4>9,IF(C160=\"natural gas\",\"(MMCF/yr)\",\"(gallons/yr)\"),\"\")","v":""}]
[null,{"$f":"IF($C$4>9,\"Type of Fuel Used:\",\"\")","v":""},null,null,{"$f":"IF(C160=\"\",\"\",\"AP-9 EP-2\")","v":""},{"$f":"IF(C160=\"\",\"\",\"AP-9 EU-2\")","v":""},{"$f":"IF(C160=\"\",\"\",C160& \" Fired Heater\")","v":""}]
[null,{"$f":"IF($C$4>9,\"Is Your Operation Controlled?:\",\"\")","v":""},null,null,{"$f":"IF($C$4>9,\"Silo Filling, Truck Loadout, Aggregate Transfer\",\"\")","v":""},null,null,{"$f":"IF($C$4>9,\"(tons/hr)\",\"\")","v":""},{"$f":"IF($C$4>9,\"(tons/yr)\",\"\")","v":""}]
[null,null,null,null,{"$f":"IF($C$4>9,\"AP-9 EP-3\",\"\")","v":""},{"$f":"IF($C$4>9,\"AP-9 EU-3\",\"\")","v":""},{"$f":"IF($C$4>9,\"Silo Filling\",\"\")","v":""}]
[null,null,null,null,{"$f":"IF($C$4>9,\"AP-9 EP-3\",\"\")","v":""},{"$f":"IF($C$4>9,\"AP-9 EU-4\",\"\")","v":""},{"$f":"IF($C$4>9,\"Truck Loadout\",\"\")","v":""}]
[null,null,null,null,{"$f":"IF($C$4>9,\"AP-9 EP-3\",\"\")","v":""},{"$f":"IF($C$4>9,\"AP-9 EU-5\",\"\")","v":""},{"$f":"IF($C$4>9,\"Cold Aggregate Bins\",\"\")","v":""}]
[]
[null,null,null,null,{"$f":"IF($C$4>9,\"Stock Pile Area\",\"\")","v":""}]
[null,null,null,null,null,{"$f":"IF($C$4>9,\"Emission Unit #\",\"\")","v":""},{"$f":"IF($C$4>9,\"Maximum Storage Area (acres)\",\"\")","v":""},{"$f":"IF($C$4>9,\"Actual Storage Area (acres)\",\"\")","v":""},{"$f":"IF($C$4>9,\"Actual Days in Existence (days)\",\"\")","v":""}]

{"sheet":"Asphalt Plant (AP-10)","index":10,"n_rows":167,"n_cols":20,"rows_kept":167,"cut":false,"hidden":true,"merged":[[156,4,156,6],[158,4,158,6],[160,4,160,6],[139,7,140,7],[139,8,140,8],[141,4,141,6],[143,4,143,6],[145,4,145,6],[154,4,155,4],[154,5,155,5],[154,6,155,6],[154,7,155,7],[154,8,155,8],[126,4,126,6],[128,4,128,6],[130,4,130,6],[139,4,140,4],[139,5,140,5],[139,6,140,6],[109,7,110,7],[109,8,110,8],[111,4,111,6],[113,4,113,6],[115,4,115,6],[124,4,125,4],[124,5,125,5],[124,6,125,6],[124,7,125,7],[124,8,125,8],[96,4,96,6],[98,4,98,6],[100,4,100,6],[109,4,110,4],[109,5,110,5],[109,6,110,6],[79,7,80,7],[79,8,80,8],[81,4,81,6],[83,4,83,6],[85,4,85,6],[94,4,95,4],[94,5,95,5],[94,6,95,6],[94,7,95,7],[94,8,95,8],[66,4,66,6],[68,4,68,6],[70,4,70,6],[79,4,80,4],[79,5,80,5],[79,6,80,6],[49,8,50,8],[51,4,51,6],[53,4,53,6],[55,4,55,6],[64,4,65,4],[64,5,65,5],[64,6,65,6],[64,7,65,7],[64,8,65,8],[38,4,38,6],[40,4,40,6],[49,4,50,4],[49,5,50,5],[49,6,50,6],[49,7,50,7],[34,15,35,15],[34,16,35,16],[34,17,35,17],[34,18,35,18],[34,19,35,19],[36,4,36,6],[34,4,35,4],[34,5,35,5],[34,6,35,6],[34,7,35,7],[34,8,35,8],[34,14,35,14],[18,17,19,17],[18,18,19,18],[18,19,19,19],[19,4,20,4],[19,5,20,5],[19,6,20,6],[19,7,20,7],[19,8,20,8],[2,15,3,15],[2,16,3,16],[3,17,4,19],[12,1,14,2],[13,14,13,15],[14,14,14,15],[18,13,19,13],[18,14,19,14],[18,15,19,15],[18,16,19,16],[0,1,0,2],[1,1,1,2],[1,7,1,8],[2,12,3,12],[2,13,3,13],[2,14,3,14]]}
[null,"ASPHALT PLANT (AP-10)"]
[null,"Please fill in the yellow boxes as applicable for your facility. ",null,null,null,null,null,"Values used for calculating emissions →",null,null,null,null,"Values Used to Calculate Potential and Actual Emissions for the Listed Processes at this Plant"]
[null,null,null,null,null,null,null,null,null,null,null,null,"Process","Maximum Design Rate","Units","Actual throughput","Units"]
[null,{"$f":"\"Number of Sites this Plant operated at in \"&'Facility Information'!G5&\":\"","v":"Number of Sites this Plant operated at in :"},null,null,null,null,null,null,null,null,null,null,null,null,null,null,null,"** As of 2016 Potential Emissions are no longer required to be reported in the Minor Source Emissions Inventory**"]
[null,"Plant Type:",null,null,null,null,null,null,null,null,null,null,{"$f":"$C$5 & \" - Fuel Oil\"","v":" - Fuel Oil"},{"$f":"MAX((IFERROR(OFFSET($G$22,MATCH(M5,$G$23,0),1),0)),((IFERROR(OFFSET($G$37,MATCH(M5,$G$38,0),1),0))),((IFERROR(OFFSET($G$52,MATCH(M5,$G$53,0),1),0))),((IFERROR(OFFSET($G$67,MATCH(M5,$G$68,0),1),0))),((IFERROR(OFFSET($G$82,MATCH(M5,$G$83,0),1),0))),((IFERROR(OFFSET($G$97,MATCH(M5,$G$98,0),1),0))),((IFERROR(OFFSET($G$112,MATCH(M5,$G$113,0),1),0))),((IFERROR(OFFSET($G$127,MATCH(M5,$G$128,0),1),0))),((IFERROR(OFFSET($G$142,MATCH(M5,$G$143,0),1),0))),((IFERROR(OFFSET($G$157,MATCH(M5,$G$158,0),1),0))))","v":0},"tons/hr",{"$f":"SUM((IFERROR(OFFSET($G$22,MATCH(M5,$G$23,0),2),0)),((IFERROR(OFFSET($G$37,MATCH(M5,$G$38,0),2),0))),((IFERROR(OFFSET($G$52,MATCH(M5,$G$53,0),2),0))),((IFERROR(OFFSET($G$67,MATCH(M5,$G$68,0),2),0))),((IFERROR(OFFSET($G$82,MATCH(M5,$G$83,0),2),0))),((IFERROR(OFFSET($G$97,MATCH(M5,$G$98,0),2),0))),((IFERROR(OFFSET($G$112,MATCH(M5,$G$113,0),2),0))),((IFERROR(OFFSET($G$127,MATCH(M5,$G$128,0),2),0))),((IFERROR(OFFSET($G$142,MATCH(M5,$G$143,0),2),0))),((IFERROR(OFFSET($G$157,MATCH(M5,$G$158,0),2),0))))","v":0},"tons/yr"]
[null,null,null,null,null,null,null,null,null,null,null,null,{"$f":"$C$5 & \" - Waste Oil\"","v":" - Waste Oil"},{"$f":"MAX((IFERROR(OFFSET($G$22,MATCH(M6,$G$23,0),1),0)),((IFERROR(OFFSET($G$37,MATCH(M6,$G$38,0),1),0))),((IFERROR(OFFSET($G$52,MATCH(M6,$G$53,0),1),0))),((IFERROR(OFFSET($G$67,MATCH(M6,$G$68,0),1),0))),((IFERROR(OFFSET($G$82,MATCH(M6,$G$83,0),1),0))),((IFERROR(OFFSET($G$97,MATCH(M6,$G$98,0),1),0))),((IFERROR(OFFSET($G$112,MATCH(M6,$G$113,0),1),0))),((IFERROR(OFFSET($G$127,MATCH(M6,$G$128,0),1),0))),((IFERROR(OFFSET($G$142,MATCH(M6,$G$143,0),1),0))),((IFERROR(OFFSET($G$157,MATCH(M6,$G$158,0),1),0))))","v":0},"tons/hr",{"$f":"SUM((IFERROR(OFFSET($G$22,MATCH(M6,$G$23,0),2),0)),((IFERROR(OFFSET($G$37,MATCH(M6,$G$38,0),2),0))),((IFERROR(OFFSET($G$52,MATCH(M6,$G$53,0),2),0))),((IFERROR(OFFSET($G$67,MATCH(M6,$G$68,0),2),0))),((IFERROR(OFFSET($G$82,MATCH(M6,$G$83,0),2),0))),((IFERROR(OFFSET($G$97,MATCH(M6,$G$98,0),2),0))),((IFERROR(OFFSET($G$112,MATCH(M6,$G$113,0),2),0))),((IFERROR(OFFSET($G$127,MATCH(M6,$G$128,0),2),0))),((IFERROR(OFFSET($G$142,MATCH(M6,$G$143,0),2),0))),((IFERROR(OFFSET($G$157,MATCH(M6,$G$158,0),2),0))))","v":0},"tons/yr"]
[null,"Plant Specific Permit Number: ",null,null,null,null,null,null,null,null,null,null,{"$f":"$C$5 & \" - Natural Gas\"","v":" - Natural Gas"},{"$f":"MAX((IFERROR(OFFSET($G$22,MATCH(M7,$G$23,0),1),0)),((IFERROR(OFFSET($G$37,MATCH(M7,$G$38,0),1),0))),((IFERROR(OFFSET($G$52,MATCH(M7,$G$53,0),1),0))),((IFERROR(OFFSET($G$67,MATCH(M7,$G$68,0),1),0))),((IFERROR(OFFSET($G$82,MATCH(M7,$G$83,0),1),0))),((IFERROR(OFFSET($G$97,MATCH(M7,$G$98,0),1),0))),((IFERROR(OFFSET($G$112,MATCH(M7,$G$113,0),1),0))),((IFERROR(OFFSET($G$127,MATCH(M7,$G$128,0),1),0))),((IFERROR(OFFSET($G$142,MATCH(M7,$G$143,0),1),0))),((IFERROR(OFFSET($G$157,MATCH(M7,$G$158,0),1),0))))","v":0},"tons/hr",{"$f":"SUM((IFERROR(OFFSET($G$22,MATCH(M7,$G$23,0),2),0)),((IFERROR(OFFSET($G$37,MATCH(M7,$G$38,0),2),0))),((IFERROR(OFFSET($G$52,MATCH(M7,$G$53,0),2),0))),((IFERROR(OFFSET($G$67,MATCH(M7,$G$68,0),2),0))),((IFERROR(OFFSET($G$82,MATCH(M7,$G$83,0),2),0))),((IFERROR(OFFSET($G$97,MATCH(M7,$G$98,0),2),0))),((IFERROR(OFFSET($G$112,MATCH(M7,$G$113,0),2),0))),((IFERROR(OFFSET($G$127,MATCH(M7,$G$128,0),2),0))),((IFERROR(OFFSET($G$142,MATCH(M7,$G$143,0),2),0))),((IFERROR(OFFSET($G$157,MATCH(M7,$G$158,0),2),0))))","v":0},"tons/yr"]
[null,null,null,null,null,null,null,null,null,null,null,null,"Fuel Oil Fired Heater",{"$f":"MAX((IFERROR(OFFSET($G$24,MATCH(\"Fuel Oil Fired Heater\",$G$25,0),1),0)),((IFERROR(OFFSET($G$39,MATCH(\"Fuel Oil Fired Heater\",$G$40,0),1),0))),((IFERROR(OFFSET($G$54,MATCH(\"Fuel Oil Fired Heater\",$G$55,0),1),0))),((IFERROR(OFFSET($G$69,MATCH(\"Fuel Oil Fired Heater\",$G$70,0),1),0))),((IFERROR(OFFSET($G$84,MATCH(\"Fuel Oil Fired Heater\",$G$85,0),1),0))),((IFERROR(OFFSET($G$99,MATCH(\"Fuel Oil Fired Heater\",$G$100,0),1),0))),((IFERROR(OFFSET($G$114,MATCH(\"Fuel Oil Fired Heater\",$G$115,0),1),0))),((IFERROR(OFFSET($G$129,MATCH(\"Fuel Oil Fired Heater\",$G$130,0),1),0))),((IFERROR(OFFSET($G$144,MATCH(\"Fuel Oil Fired Heater\",$G$145,0),1),0))),((IFERROR(OFFSET($G$159,MATCH(\"Fuel Oil Fired Heater\",$G$160,0),1),0))))","v":0},"gallons/hr",{"$f":"SUM((IFERROR(OFFSET($G$24,MATCH(\"Fuel Oil Fired Heater\",$G$25,0),2),0)),((IFERROR(OFFSET($G$39,MATCH(\"Fuel Oil Fired Heater\",$G$40,0),2),0))),((IFERROR(OFFSET($G$54,MATCH(\"Fuel Oil Fired Heater\",$G$55,0),2),0))),((IFERROR(OFFSET($G$69,MATCH(\"Fuel Oil Fired Heater\",$G$70,0),2),0))),((IFERROR(OFFSET($G$84,MATCH(\"Fuel Oil Fired Heater\",$G$85,0),2),0))),((IFERROR(OFFSET($G$99,MATCH(\"Fuel Oil Fired Heater\",$G$100,0),2),0))),((IFERROR(OFFSET($G$114,MATCH(\"Fuel Oil Fired Heater\",$G$115,0),2),0))),((IFERROR(OFFSET($G$129,MATCH(\"Fuel Oil Fired Heater\",$G$130,0),2),0))),((IFERROR(OFFSET($G$144,MATCH(\"Fuel Oil Fired Heater\",$G$145,0),2),0))),((IFERROR(OFFSET($G$159,MATCH(\"Fuel Oil Fired Heater\",$G$160,0),2),0))))","v":0},"gallons/yr"]
[null,"Plant Specific Operating Limits:",null,null,"Plant Specific Emission Limits:",null,null,null,null,null,null,null,"Waste Oil Fired Heater",{"$f":"MAX((IFERROR(OFFSET($G$24,MATCH(\"waste oil Fired Heater\",$G$25,0),1),0)),((IFERROR(OFFSET($G$39,MATCH(\"waste oil Fired Heater\",$G$40,0),1),0))),((IFERROR(OFFSET($G$54,MATCH(\"waste oil Fired Heater\",$G$55,0),1),0))),((IFERROR(OFFSET($G$69,MATCH(\"waste oil Fired Heater\",$G$70,0),1),0))),((IFERROR(OFFSET($G$84,MATCH(\"waste oil Fired Heater\",$G$85,0),1),0))),((IFERROR(OFFSET($G$99,MATCH(\"waste oil Fired Heater\",$G$100,0),1),0))),((IFERROR(OFFSET($G$114,MATCH(\"waste oil Fired Heater\",$G$115,0),1),0))),((IFERROR(OFFSET($G$129,MATCH(\"waste oil Fired Heater\",$G$130,0),1),0))),((IFERROR(OFFSET($G$144,MATCH(\"waste oil Fired Heater\",$G$145,0),1),0))),((IFERROR(OFFSET($G$159,MATCH(\"waste oil Fired Heater\",$G$160,0),1),0))))","v":0},"gallons/hr",{"$f":"SUM((IFERROR(OFFSET($G$24,MATCH(\"waste oil Fired Heater\",$G$25,0),2),0)),((IFERROR(OFFSET($G$39,MATCH(\"waste oil Fired Heater\",$G$40,0),2),0))),((IFERROR(OFFSET($G$54,MATCH(\"waste oil Fired Heater\",$G$55,0),2),0))),((IFERROR(OFFSET($G$69,MATCH(\"waste oil Fired Heater\",$G$70,0),2),0))),((IFERROR(OFFSET($G$84,MATCH(\"waste oil Fired Heater\",$G$85,0),2),0))),((IFERROR(OFFSET($G$99,MATCH(\"waste oil Fired Heater\",$G$100,0),2),0))),((IFERROR(OFFSET($G$114,MATCH(\"waste oil Fired Heater\",$G$115,0),2),0))),((IFERROR(OFFSET($G$129,MATCH(\"waste oil Fired Heater\",$G$130,0),2),0))),((IFERROR(OFFSET($G$144,MATCH(\"waste oil Fired Heater\",$G$145,0),2),0))),((IFERROR(OFFSET($G$159,MATCH(\"waste oil Fired Heater\",$G$160,0),2),0))))","v":0},"gallons/yr"]
[null,"Throughput Limit (tons/yr):",null,null,"Pollutant","lb/hr","tons/yr",null,null,null,null,null,"Natural Gas Fired Heater",{"$f":"MAX((IFERROR(OFFSET($G$24,MATCH(\"Natural Gas Fired Heater\",$G$25,0),1),0)),((IFERROR(OFFSET($G$39,MATCH(\"Natural Gas Fired Heater\",$G$40,0),1),0))),((IFERROR(OFFSET($G$54,MATCH(\"Natural Gas Fired Heater\",$G$55,0),1),0))),((IFERROR(OFFSET($G$69,MATCH(\"Natural Gas Fired Heater\",$G$70,0),1),0))),((IFERROR(OFFSET($G$84,MATCH(\"Natural Gas Fired Heater\",$G$85,0),1),0))),((IFERROR(OFFSET($G$99,MATCH(\"Natural Gas Fired Heater\",$G$100,0),1),0))),((IFERROR(OFFSET($G$114,MATCH(\"Natural Gas Fired Heater\",$G$115,0),1),0))),((IFERROR(OFFSET($G$129,MATCH(\"Natural Gas Fired Heater\",$G$130,0),1),0))),((IFERROR(OFFSET($G$144,MATCH(\"Natural Gas Fired Heater\",$G$145,0),1),0))),((IFERROR(OFFSET($G$159,MATCH(\"Natural Gas Fired Heater\",$G$160,0),1),0))))","v":0},"MMCF/hr",{"$f":"SUM((IFERROR(OFFSET($G$24,MATCH(\"Natural Gas Fired Heater\",$G$25,0),2),0)),((IFERROR(OFFSET($G$39,MATCH(\"Natural Gas Fired Heater\",$G$40,0),2),0))),((IFERROR(OFFSET($G$54,MATCH(\"Natural Gas Fired Heater\",$G$55,0),2),0))),((IFERROR(OFFSET($G$69,MATCH(\"Natural Gas Fired Heater\",$G$70,0),2),0))),((IFERROR(OFFSET($G$84,MATCH(\"Natural Gas Fired Heater\",$G$85,0),2),0))),((IFERROR(OFFSET($G$99,MATCH(\"Natural Gas Fired Heater\",$G$100,0),2),0))),((IFERROR(OFFSET($G$114,MATCH(\"Natural Gas Fired Heater\",$G$115,0),2),0))),((IFERROR(OFFSET($G$129,MATCH(\"Natural Gas Fired Heater\",$G$130,0),2),0))),((IFERROR(OFFSET($G$144,MATCH(\"Natural Gas Fired Heater\",$G$145,0),2),0))),((IFERROR(OFFSET($G$159,MATCH(\"Natural Gas Fired Heater\",$G$160,0),2),0))))","v":0},"MMCF/yr"]
[null,"Daily Throughput Limit (tons/day):",null,null,"PM2.5",null,null,null,null,null,null,null,"Silo Filling",{"$f":"MAX((IFERROR(OFFSET($G$26,MATCH(\"Silo Filling\",$G$27,0),1),0)),((IFERROR(OFFSET($G$41,MATCH(\"Silo Filling\",$G$42,0),1),0))),((IFERROR(OFFSET($G$56,MATCH(\"Silo Filling\",$G$57,0),1),0))),((IFERROR(OFFSET($G$71,MATCH(\"Silo Filling\",$G$72,0),1),0))),((IFERROR(OFFSET($G$86,MATCH(\"Silo Filling\",$G$87,0),1),0))),((IFERROR(OFFSET($G$101,MATCH(\"Silo Filling\",$G$102,0),1),0))),((IFERROR(OFFSET($G$116,MATCH(\"Silo Filling\",$G$117,0),1),0))),((IFERROR(OFFSET($G$131,MATCH(\"Silo Filling\",$G$132,0),1),0))),((IFERROR(OFFSET($G$146,MATCH(\"Silo Filling\",$G$147,0),1),0))),((IFERROR(OFFSET($G$161,MATCH(\"Silo Filling\",$G$162,0),1),0))))","v":0},"tons/hr",{"$f":"SUM((IFERROR(OFFSET($G$26,MATCH(\"Silo Filling\",$G$27,0),2),0)),((IFERROR(OFFSET($G$41,MATCH(\"Silo Filling\",$G$42,0),2),0))),((IFERROR(OFFSET($G$56,MATCH(\"Silo Filling\",$G$57,0),2),0))),((IFERROR(OFFSET($G$71,MATCH(\"Silo Filling\",$G$72,0),2),0))),((IFERROR(OFFSET($G$86,MATCH(\"Silo Filling\",$G$87,0),2),0))),((IFERROR(OFFSET($G$101,MATCH(\"Silo Filling\",$G$102,0),2),0))),((IFERROR(OFFSET($G$116,MATCH(\"Silo Filling\",$G$117,0),2),0))),((IFERROR(OFFSET($G$131,MATCH(\"Silo Filling\",$G$132,0),2),0))),((IFERROR(OFFSET($G$146,MATCH(\"Silo Filling\",$G$147,0),2),0))),((IFERROR(OFFSET($G$161,MATCH(\"Silo Filling\",$G$162,0),2),0))))","v":0},"tons/yr"]
[null,"Hours of Operation Limit (hours/day):",null,null,"PM10",null,null,null,null,null,null,null,"Truck Loadout",{"$f":"MAX((IFERROR(OFFSET(G27,MATCH(\"Truck Loadout\",G28,0),1),0)),((IFERROR(OFFSET(G42,MATCH(\"Truck Loadout\",G43,0),1),0))),((IFERROR(OFFSET(G57,MATCH(\"Truck Loadout\",G58,0),1),0))),((IFERROR(OFFSET(G72,MATCH(\"Truck Loadout\",G73,0),1),0))),((IFERROR(OFFSET(G87,MATCH(\"Truck Loadout\",G88,0),1),0))),((IFERROR(OFFSET(G102,MATCH(\"Truck Loadout\",G103,0),1),0))),((IFERROR(OFFSET(G117,MATCH(\"Truck Loadout\",G118,0),1),0))),((IFERROR(OFFSET(G132,MATCH(\"Truck Loadout\",G133,0),1),0))),((IFERROR(OFFSET(G147,MATCH(\"Truck Loadout\",G148,0),1),0))),((IFERROR(OFFSET(G162,MATCH(\"Truck Loadout\",G163,0),1),0))))","v":0},"tons/hr",{"$f":"SUM((IFERROR(OFFSET(G27,MATCH(\"Truck Loadout\",G28,0),2),0)),((IFERROR(OFFSET(G42,MATCH(\"Truck Loadout\",G43,0),2),0))),((IFERROR(OFFSET(G57,MATCH(\"Truck Loadout\",G58,0),2),0))),((IFERROR(OFFSET(G72,MATCH(\"Truck Loadout\",G73,0),2),0))),((IFERROR(OFFSET(G87,MATCH(\"Truck Loadout\",G88,0),2),0))),((IFERROR(OFFSET(G102,MATCH(\"Truck Loadout\",G103,0),2),0))),((IFERROR(OFFSET(G117,MATCH(\"Truck Loadout\",G118,0),2),0))),((IFERROR(OFFSET(G132,MATCH(\"Truck Loadout\",G133,0),2),0))),((IFERROR(OFFSET(G147,MATCH(\"Truck Loadout\",G148,0),2),0))),((IFERROR(OFFSET(G162,MATCH(\"Truck Loadout\",G163,0),2),0))))","v":0},"tons/yr"]
["Fuel Oil","Note: if the plant has an hrs/day and a tons/hr permit limit, those values should be multiplied together to calculate a tons/day limit and that value should be placed in cell C11.",null,null,"SO2",null,null,null,null,null,null,null,"Cold Aggregate Bins",{"$f":"MAX((IFERROR(OFFSET(G28,MATCH(\"Cold Aggregate Bins\",G29,0),1),0)),((IFERROR(OFFSET(G43,MATCH(\"Cold Aggregate Bins\",G44,0),1),0))),((IFERROR(OFFSET(G58,MATCH(\"Cold Aggregate Bins\",G59,0),1),0))),((IFERROR(OFFSET(G73,MATCH(\"Cold Aggregate Bins\",G74,0),1),0))),((IFERROR(OFFSET(G88,MATCH(\"Cold Aggregate Bins\",G89,0),1),0))),((IFERROR(OFFSET(G103,MATCH(\"Cold Aggregate Bins\",G104,0),1),0))),((IFERROR(OFFSET(G118,MATCH(\"Cold Aggregate Bins\",G119,0),1),0))),((IFERROR(OFFSET(G133,MATCH(\"Cold Aggregate Bins\",G134,0),1),0))),((IFERROR(OFFSET(G148,MATCH(\"Cold Aggregate Bins\",G149,0),1),0))),((IFERROR(OFFSET(G163,MATCH(\"Cold Aggregate Bins\",G164,0),1),0))))","v":0},"tons/hr",{"$f":"SUM((IFERROR(OFFSET(G28,MATCH(\"Cold Aggregate Bins\",G29,0),2),0)),((IFERROR(OFFSET(G43,MATCH(\"Cold Aggregate Bins\",G44,0),2),0))),((IFERROR(OFFSET(G58,MATCH(\"Cold Aggregate Bins\",G59,0),2),0))),((IFERROR(OFFSET(G73,MATCH(\"Cold Aggregate Bins\",G74,0),2),0))),((IFERROR(OFFSET(G88,MATCH(\"Cold Aggregate Bins\",G89,0),2),0))),((IFERROR(OFFSET(G103,MATCH(\"Cold Aggregate Bins\",G104,0),2),0))),((IFERROR(OFFSET(G118,MATCH(\"Cold Aggregate Bins\",G119,0),2),0))),((IFERROR(OFFSET(G133,MATCH(\"Cold Aggregate Bins\",G134,0),2),0))),((IFERROR(OFFSET(G148,MATCH(\"Cold Aggregate Bins\",G149,0),2),0))),((IFERROR(OFFSET(G163,MATCH(\"Cold Aggregate Bins\",G164,0),2),0))))","v":0},"tons/yr"]
["Natural Gas",null,null,null,"NOx",null,null,null,null,null,null,null,null,"Maximum (acres)","Actual (acres-day/yr)"]
["Waste Oil",null,null,null,"VOC",null,null,null,null,null,null,null,"Storage Pile",{"$f":"SUM(G33,G48,G63,G78,G93,G108,G123,G138,G153,G168,)","v":0},{"$f":"SUM(H33*I33,H48*I48,H63*I63,H78*I78,H93*I93,H108*I108,H123*I123,H138*I138,H153*I153,H168*I168)","v":0}]
[null,null,null,null,"CO"]
["Batch Mix Plant"]
["Drum Mix Plant",null,null,null,null,null,null,null,null,null,null,null,"Potential and Actual Emissions for the Listed Processes at this Plant"]
[null,null,null,null,null,null,null,null,null,null,null,null,null,"Maximum Design Rate (tons/hr)","Emission Factor","Units","Potential Uncontrolled Emissions (lb/hr)","Potential Controlled Emissions (lb/hr)","Potential Annual Emissions (tons/yr)","Actual Annual Emissions (tons/yr)"]
[null,"Asphalt Plant","Site 1",null,"Emission Point #","Emission     Unit #","Processes","Maximum Hourly     Design Rate",{"$f":"('Facility Information'!G5&\" Annual Throughput\")","v":" Annual Throughput"},null,null,null,"PM2.5"]
["YES",null,null,null,null,null,null,null,null,null,null,null,{"$f":"$C$5 & \" - Fuel Oil\"","v":" - Fuel Oil"},{"$f":"N5","v":0},{"$f":"IF(N21=0,0,IF(MAX((IFERROR(OFFSET($G$22,MATCH(M21,$G$23,0),3),0)),((IFERROR(OFFSET($G$37,MATCH(M21,$G$38,0),3),0))),((IFERROR(OFFSET($G$52,MATCH(M21,$G$53,0),3),0))),((IFERROR(OFFSET($G$67,MATCH(M21,$G$68,0),3),0))),((IFERROR(OFFSET($G$82,MATCH(M21,$G$83,0),3),0))),((IFERROR(OFFSET($G$97,MATCH(M21,$G$98,0),3),0))),((IFERROR(OFFSET($G$112,MATCH(M21,$G$113,0),3),0))),((IFERROR(OFFSET($G$127,MATCH(M21,$G$128,0),3),0))),((IFERROR(OFFSET($G$142,MATCH(M21,$G$143,0),3),0))),((IFERROR(OFFSET($G$157,MATCH(M21,$G$158,0),3),0))))=0,0,(MAX((IFERROR(OFFSET($G$22,MATCH(M21,$G$23,0),3),0)),((IFERROR(OFFSET($G$37,MATCH(M21,$G$38,0),3),0))),((IFERROR(OFFSET($G$52,MATCH(M21,$G$53,0),3),0))),((IFERROR(OFFSET($G$67,MATCH(M21,$G$68,0),3),0))),((IFERROR(OFFSET($G$82,MATCH(M21,$G$83,0),3),0))),((IFERROR(OFFSET($G$97,MATCH(M21,$G$98,0),3),0))),((IFERROR(OFFSET($G$112,MATCH(M21,$G$113,0),3),0))),((IFERROR(OFFSET($G$127,MATCH(M21,$G$128,0),3),0))),((IFERROR(OFFSET($G$142,MATCH(M21,$G$143,0),3),0))),((IFERROR(OFFSET($G$157,MATCH(M21,$G$158,0),3),0)))))))","v":0},{"$f":"IF(O21=\"\",\"\",\"lb/ton\")","v":"lb/ton"},{"$f":"IF(O21=0.27,N21*O21,IF(O21=1.54,N21*O21,\"\"))","v":""},{"$f":"IF(N21=0,\"\",IF(AND($F$11>0,$O$21>=$O$22,$O$21>=$O$23),$F$11,IF(O21=0.0083,N21*O21,IF(O21=0.007,N21*O21,\"\"))))","v":""},{"$f":"IF(N21=0,0,IF($G$11>0,$G$11,IF(AND(OR($C$10>0,$C$11>0,$C$12>0),$O$21>=$O$22,$O$21>=$O$23),(IF($C$10>0,$C$10*O21/2000,IF($C$11>0,$C$11*365*O21/2000,IF($C$12>0,$C$12*365*O21*N21/2000)))),IF(AND($F$11>0,$O$21>=$O$22,$O$21>=$O$23),$F$11*8760/2000,IF(AND(OR($C$10=\"\",$C$10=0),OR($C$11=\"\",$C$11=0),OR($C$12=\"\",$C$12=0),$F$11=\"\"),IF(R21=\"\",Q21*8760/2000,R21*8760/2000),\"\")))))","v":0},{"$f":"IF(N21=\"\",\"\",SUM((IFERROR(MATCH(M21,$G$23,0)*$I$23*$J$23/2000,0)),(IFERROR(MATCH(M21,$G$38,0)*$I$38*$J$38/2000,0)),(IFERROR(MATCH(M21,$G$53,0)*$I$53*$J$53/2000,0)),(IFERROR(MATCH(M21,$G$68,0)*$I$68*$J$68/2000,0)),(IFERROR(MATCH(M21,$G$83,0)*$I$83*$J$83/2000,0)),(IFERROR(MATCH(M21,$G$98,0)*$I$98*$J$98/2000,0)),(IFERROR(MATCH(M21,$G$113,0)*$I$113*$J$113/2000,0)),(IFERROR(MATCH(M21,$G$128,0)*$I$128*$J$128/2000,0)),(IFERROR(MATCH(M21,$G$143,0)*$I$143*$J$143/2000,0)),(IFERROR(MATCH(M21,$G$158,0)*$I$158*$J$158/2000,0))))","v":0}]
["NO","Site Name:",null,null,"Dryer, Hot Screens, Mixer",null,null,"(tons/hr)","(tons/yr)","PM2.5","PM10",null,{"$f":"$C$5 & \" - Waste Oil\"","v":" - Waste Oil"},{"$f":"N6","v":0},{"$f":"IF(N22=0,0,IF(MAX((IFERROR(OFFSET($G$22,MATCH(M22,$G$23,0),3),0)),((IFERROR(OFFSET($G$37,MATCH(M22,$G$38,0),3),0))),((IFERROR(OFFSET($G$52,MATCH(M22,$G$53,0),3),0))),((IFERROR(OFFSET($G$67,MATCH(M22,$G$68,0),3),0))),((IFERROR(OFFSET($G$82,MATCH(M22,$G$83,0),3),0))),((IFERROR(OFFSET($G$97,MATCH(M22,$G$98,0),3),0))),((IFERROR(OFFSET($G$112,MATCH(M22,$G$113,0),3),0))),((IFERROR(OFFSET($G$127,MATCH(M22,$G$128,0),3),0))),((IFERROR(OFFSET($G$142,MATCH(M22,$G$143,0),3),0))),((IFERROR(OFFSET($G$157,MATCH(M22,$G$158,0),3),0))))=0,0,(MAX((IFERROR(OFFSET($G$22,MATCH(M22,$G$23,0),3),0)),((IFERROR(OFFSET($G$37,MATCH(M22,$G$38,0),3),0))),((IFERROR(OFFSET($G$52,MATCH(M22,$G$53,0),3),0))),((IFERROR(OFFSET($G$67,MATCH(M22,$G$68,0),3),0))),((IFERROR(OFFSET($G$82,MATCH(M22,$G$83,0),3),0))),((IFERROR(OFFSET($G$97,MATCH(M22,$G$98,0),3),0))),((IFERROR(OFFSET($G$112,MATCH(M22,$G$113,0),3),0))),((IFERROR(OFFSET($G$127,MATCH(M22,$G$128,0),3),0))),((IFERROR(OFFSET($G$142,MATCH(M22,$G$143,0),3),0))),((IFERROR(OFFSET($G$157,MATCH(M22,$G$158,0),3),0)))))))","v":0},"lb/ton",{"$f":"IF(O22=0.27,N22*O22,IF(O22=1.54,N22*O22,\"\"))","v":""},{"$f":"IF(N22=0,\"\",IF(AND($F$11>0,$O$22>$O$21,$O$22>=$O$23),$F$11,IF(O22=0.0083,N22*O22,IF(O22=0.007,N22*O22,\"\"))))","v":""},{"$f":"IF(N22=0,0,IF($G$11>0,IF(S21=0,G11,\"\"),IF(AND(OR($C$10>0,$C$11>0,$C$12>0),$O$22>$O$21,$O$22>=$O$23),(IF($C$10>0,$C$10*O22/2000,IF($C$11>0,$C$11*365*O22/2000,IF($C$12>0,$C$12*365*O22*N22/2000)))),IF(AND($F$11>0,$O$22>$O$21,$O$22>=$O$23),$F$11*8760/2000,IF(AND(OR($C$10=\"\",$C$10=0),OR($C$11=\"\",$C$11=0),OR($C$12=\"\",$C$12=0),$F$11=\"\"),IF(R22=\"\",Q22*8760/2000,R22*8760/2000),\"\")))))","v":0},{"$f":"IF(N22=\"\",\"\",SUM((IFERROR(MATCH(M22,$G$23,0)*$I$23*$J$23/2000,0)),(IFERROR(MATCH(M22,$G$38,0)*$I$38*$J$38/2000,0)),(IFERROR(MATCH(M22,$G$53,0)*$I$53*$J$53/2000,0)),(IFERROR(MATCH(M22,$G$68,0)*$I$68*$J$68/2000,0)),(IFERROR(MATCH(M22,$G$83,0)*$I$83*$J$83/2000,0)),(IFERROR(MATCH(M22,$G$98,0)*$I$98*$J$98/2000,0)),(IFERROR(MATCH(M22,$G$113,0)*$I$113*$J$113/2000,0)),(IFERROR(MATCH(M22,$G$128,0)*$I$128*$J$128/2000,0)),(IFERROR(MATCH(M22,$G$143,0)*$I$143*$J$143/2000,0)),(IFERROR(MATCH(M22,$G$158,0)*$I$158*$J$158/2000,0))))","v":0}]
[null,"County:",null,null,{"$f":"IF($C$4>0,\"AP-10 EP-1\",\"\")","v":""},{"$f":"IF($C$4>0,\"AP-10 EU-1\",\"\")","v":""},{"$f":"IF(C25=\"\",\"\",C5 & \" - \"&C25)","v":""},null,null,{"$f":"IF(C26=\"\",\"\",IF(C26=\"yes\",LOOKUP(G23,'Emission Factors'!$A$12:$A$17,'Emission Factors'!$D$12:$D$17),LOOKUP(G23,'Emission Factors'!$A$5:$A$10,'Emission Factors'!$D$5:$D$10)))","v":{"$error":"#N/A"}},{"$f":"IF(C26=\"\",\"\",IF(C26=\"yes\",LOOKUP(G23,'Emission Factors'!$A$12:$A$17,'Emission Factors'!$F$12:$F$17),LOOKUP(G23,'Emission Factors'!$A$5:$A$10,'Emission Factors'!$F$5:$F$10)))","v":{"$error":"#N/A"}},null,{"$f":"$C$5 & \" - Natural Gas\"","v":" - Natural Gas"},{"$f":"N7","v":0},{"$f":"IF(N23=0,0,IF(MAX((IFERROR(OFFSET($G$22,MATCH(M23,$G$23,0),3),0)),((IFERROR(OFFSET($G$37,MATCH(M23,$G$38,0),3),0))),((IFERROR(OFFSET($G$52,MATCH(M23,$G$53,0),3),0))),((IFERROR(OFFSET($G$67,MATCH(M23,$G$68,0),3),0))),((IFERROR(OFFSET($G$82,MATCH(M23,$G$83,0),3),0))),((IFERROR(OFFSET($G$97,MATCH(M23,$G$98,0),3),0))),((IFERROR(OFFSET($G$112,MATCH(M23,$G$113,0),3),0))),((IFERROR(OFFSET($G$127,MATCH(M23,$G$128,0),3),0))),((IFERROR(OFFSET($G$142,MATCH(M23,$G$143,0),3),0))),((IFERROR(OFFSET($G$157,MATCH(M23,$G$158,0),3),0))))=0,0,(MAX((IFERROR(OFFSET($G$22,MATCH(M23,$G$23,0),3),0)),((IFERROR(OFFSET($G$37,MATCH(M23,$G$38,0),3),0))),((IFERROR(OFFSET($G$52,MATCH(M23,$G$53,0),3),0))),((IFERROR(OFFSET($G$67,MATCH(M23,$G$68,0),3),0))),((IFERROR(OFFSET($G$82,MATCH(M23,$G$83,0),3),0))),((IFERROR(OFFSET($G$97,MATCH(M23,$G$98,0),3),0))),((IFERROR(OFFSET($G$112,MATCH(M23,$G$113,0),3),0))),((IFERROR(OFFSET($G$127,MATCH(M23,$G$128,0),3),0))),((IFERROR(OFFSET($G$142,MATCH(M23,$G$143,0),3),0))),((IFERROR(OFFSET($G$157,MATCH(M23,$G$158,0),3),0)))))))","v":0},"lb/ton",{"$f":"IF(O23=0.27,N23*O23,IF(O23=1.54,N23*O23,\"\"))","v":""},{"$f":"IF(N23=0,\"\",IF(AND($F$11>0,$O$23>$O$21,$O$23>$O$21),$F$11,IF(O23=0.0083,N23*O23,IF(O23=0.007,N23*O23,\"\"))))","v":""},{"$f":"IF(N23=0,0,IF($G$11>0,IF(AND(S21=0,S22=0),\"\"),IF(AND(OR($C$10>0,$C$11>0,$C$12>0),$O$23>$O$21,$O$23>$O$21),(IF($C$10>0,$C$10*O23/2000,IF($C$11>0,$C$11*365*O23/2000,IF($C$12>0,$C$12*365*O23*N23/2000)))),IF(AND($F$11>0,$O$23>$O$21,$O$23>$O$21),$F$11*8760/2000,IF(AND(OR($C$10=\"\",$C$10=0),OR($C$11=\"\",$C$11=0),OR($C$12=\"\",$C$12=0),$F$11=\"\"),IF(R23=\"\",Q23*8760/2000,R23*8760/2000),\"\")))))","v":0},{"$f":"IF(N23=\"\",\"\",SUM((IFERROR(MATCH(M23,$G$23,0)*$I$23*$J$23/2000,0)),(IFERROR(MATCH(M23,$G$38,0)*$I$38*$J$38/2000,0)),(IFERROR(MATCH(M23,$G$53,0)*$I$53*$J$53/2000,0)),(IFERROR(MATCH(M23,$G$68,0)*$I$68*$J$68/2000,0)),(IFERROR(MATCH(M23,$G$83,0)*$I$83*$J$83/2000,0)),(IFERROR(MATCH(M23,$G$98,0)*$I$98*$J$98/2000,0)),(IFERROR(MATCH(M23,$G$113,0)*$I$113*$J$113/2000,0)),(IFERROR(MATCH(M23,$G$128,0)*$I$128*$J$128/2000,0)),(IFERROR(MATCH(M23,$G$143,0)*$I$143*$J$143/2000,0)),(IFERROR(MATCH(M23,$G$158,0)*$I$158*$J$158/2000,0))))","v":0}]
[null,"Production Period (Dates):",null,null,"Liquid Asphalt Heater",null,null,{"$f":"IF(C25=\"natural gas\", \"(MMCF/hr)\",\"(gallons/hr)\")","v":"(gallons/hr)"},{"$f":"IF(C25=\"natural gas\", \"(MMCF/yr)\",\"(gallons/yr)\")","v":"(gallons/yr)"},null,null,null,"Silo Filling",{"$f":"N11","v":0},{"$f":"IF(N24=0,0,IF(N24=0,0,LOOKUP(M24,'Emission Factors'!$A$23:$A$25,'Emission Factors'!$D$23:$D$25)))","v":0},"lb/ton",{"$f":"N24*O24","v":0},null,{"$f":"IF($G$11>0,\"\",IF($C$10>0,$C$10*O24/2000,IF($C$11>0,$C$11*365*O24/2000,IF($C$12>0,$C$12*365*O24*N24/2000,IF($F$11>0,\"\",IF(R24=\"\",Q24*8760/2000,R24*8760/2000))))))","v":0},{"$f":"(P11*O24/2000)","v":0}]
[null,"Type of Fuel Used:",null,null,{"$f":"IF($C$4>0,\"AP-10 EP-2\",\"\")","v":""},{"$f":"IF($C$4>0,\"AP-10 EU-2\",\"\")","v":""},{"$f":"IF(C25=\"\",\"\",C25& \" Fired Heater\")","v":""},null,null,null,null,null,"Truck Loadout",{"$f":"N12","v":0},{"$f":"IF(N25=0,0,IF(N25=0,0,LOOKUP(M25,'Emission Factors'!$A$23:$A$25,'Emission Factors'!$D$23:$D$25)))","v":0},"lb/ton",{"$f":"N25*O25","v":0},null,{"$f":"IF($G$11>0,\"\",IF($C$10>0,$C$10*O25/2000,IF($C$11>0,$C$11*365*O25/2000,IF($C$12>0,$C$12*365*O25*N25/2000,IF($F$11>0,\"\",IF(R25=\"\",Q25*8760/2000,R25*8760/2000))))))","v":0},{"$f":"(P12*O25/2000)","v":0}]
[null,"Is Your Operation Controlled?:","NO",null,"Silo Filling, Truck Loadout, Aggregate Transfer",null,null,"(tons/hr)","(tons/yr)",null,null,null,"Cold Aggregate Bins",{"$f":"N13","v":0},{"$f":"IF(N26=0,0,IF(N26=0,0,LOOKUP(M26,'Emission Factors'!A23:A25,'Emission Factors'!D23:D25)))","v":0},"lb/ton",{"$f":"N26*O26","v":0},null,{"$f":"IF($G$11>0,\"\",IF($C$10>0,$C$10*O26/2000,IF($C$11>0,$C$11*365*O26/2000,IF($C$12>0,$C$12*365*O26*N26/2000,IF($F$11>0,\"\",IF(R26=\"\",Q26*8760/2000,R26*8760/2000))))))","v":0},{"$f":"(P13*O26/2000)","v":0}]
[null,null,null,null,{"$f":"IF($C$4>0,\"AP-10 EP-3\",\"\")","v":""},{"$f":"IF($C$4>0,\"AP-10 EU-3\",\"\")","v":""},{"$f":"IF(C5=\"\",\"\",\"Silo Filling\")","v":""},null,null,null,null,null,"PM10"]
[null,null,null,null,{"$f":"IF($C$4>0,\"AP-10 EP-3\",\"\")","v":""},{"$f":"IF($C$4>0,\"AP-10 EU-4\",\"\")","v":""},{"$f":"IF(C5=\"\",\"\",\"Truck Loadout\")","v":""},null,null,null,null,null,{"$f":"$C$5 & \" - Fuel Oil\"","v":" - Fuel Oil"},{"$f":"N5","v":0},{"$f":"IF(N28=0,0,IF(MAX((IFERROR(OFFSET($G$22,MATCH(M28,$G$23,0),4),0)),((IFERROR(OFFSET($G$37,MATCH(M28,$G$38,0),4),0))),((IFERROR(OFFSET($G$52,MATCH(M28,$G$53,0),4),0))),((IFERROR(OFFSET($G$67,MATCH(M28,$G$68,0),4),0))),((IFERROR(OFFSET($G$82,MATCH(M28,$G$83,0),3),0))),((IFERROR(OFFSET($G$97,MATCH(M28,$G$98,0),4),0))),((IFERROR(OFFSET($G$112,MATCH(M28,$G$113,0),4),0))),((IFERROR(OFFSET($G$127,MATCH(M28,$G$128,0),4),0))),((IFERROR(OFFSET($G$142,MATCH(M28,$G$143,0),4),0))),((IFERROR(OFFSET($G$157,MATCH(M28,$G$158,0),4),0))))=0,0,(MAX((IFERROR(OFFSET($G$22,MATCH(M28,$G$23,0),4),0)),((IFERROR(OFFSET($G$37,MATCH(M28,$G$38,0),4),0))),((IFERROR(OFFSET($G$52,MATCH(M28,$G$53,0),4),0))),((IFERROR(OFFSET($G$67,MATCH(M28,$G$68,0),4),0))),((IFERROR(OFFSET($G$82,MATCH(M28,$G$83,0),4),0))),((IFERROR(OFFSET($G$97,MATCH(M28,$G$98,0),4),0))),((IFERROR(OFFSET($G$112,MATCH(M28,$G$113,0),4),0))),((IFERROR(OFFSET($G$127,MATCH(M28,$G$128,0),4),0))),((IFERROR(OFFSET($G$142,MATCH(M28,$G$143,0),4),0))),((IFERROR(OFFSET($G$157,MATCH(M28,$G$158,0),4),0)))))))","v":0},{"$f":"IF(O28=\"\",\"\",\"lb/ton\")","v":"lb/ton"},{"$f":"IF(O28=4.5,N28*O28,IF(O28=6.5,N28*O28,\"\"))","v":""},{"$f":"IF(N28=0,\"\",IF(AND($F$12>0,$O$28>=$O$29,$O$28>=$O$30),$F$12,IF(O28=0.0098,N28*O28,IF(O28=0.023,N28*O28,\"\"))))","v":""},{"$f":"IF(N28=0,0,IF($G$12>0,$G$12,IF(AND(OR($C$10>0,$C$11>0,$C$12>0),$O$28>=$O$29,$O$28>=$O$30),(IF($C$10>0,$C$10*O28/2000,IF($C$11>0,$C$11*365*O28/2000,IF($C$12>0,$C$12*365*O28*N28/2000)))),IF(AND($F$12>0,$O$28>=$O$29,$O$28>=$O$30),$F$12*8760/2000,IF(AND(OR($C$10=\"\",$C$10=0),OR($C$11=\"\",$C$11=0),OR($C$12=\"\",$C$12=0),$F$12=\"\"),IF(R28=\"\",Q28*8760/2000,R28*8760/2000),\"\")))))","v":0},{"$f":"IF(N28=\"\",\"\",SUM((IFERROR(MATCH(M28,$G$23,0)*$I$23*$K$23/2000,0)),(IFERROR(MATCH(M28,$G$38,0)*$I$38*$K$38/2000,0)),(IFERROR(MATCH(M28,$G$53,0)*$I$53*$K$53/2000,0)),(IFERROR(MATCH(M28,$G$68,0)*$I$68*$K$68/2000,0)),(IFERROR(MATCH(M28,$G$83,0)*$I$83*$K$83/2000,0)),(IFERROR(MATCH(M28,$G$98,0)*$I$98*$K$98/2000,0)),(IFERROR(MATCH(M28,$G$113,0)*$I$113*$K$113/2000,0)),(IFERROR(MATCH(M28,$G$128,0)*$I$128*$K$128/2000,0)),(IFERROR(MATCH(M28,$G$143,0)*$I$143*$K$143/2000,0)),(IFERROR(MATCH(M28,$G$158,0)*$I$158*$K$158/2000,0))))","v":0}]
[null,null,null,null,{"$f":"IF($C$4>0,\"AP-10 EP-3\",\"\")","v":""},{"$f":"IF($C$4>0,\"AP-10 EU-5\",\"\")","v":""},{"$f":"IF(C5=\"\",\"\",\"Cold Aggregate Bins\")","v":""},null,null,null,null,null,{"$f":"$C$5 & \" - Waste Oil\"","v":" - Waste Oil"},{"$f":"N6","v":0},{"$f":"IF(N29=0,0,IF(MAX((IFERROR(OFFSET($G$22,MATCH(M29,$G$23,0),4),0)),((IFERROR(OFFSET($G$37,MATCH(M29,$G$38,0),4),0))),((IFERROR(OFFSET($G$52,MATCH(M29,$G$53,0),4),0))),((IFERROR(OFFSET($G$67,MATCH(M29,$G$68,0),4),0))),((IFERROR(OFFSET($G$82,MATCH(M29,$G$83,0),3),0))),((IFERROR(OFFSET($G$97,MATCH(M29,$G$98,0),4),0))),((IFERROR(OFFSET($G$112,MATCH(M29,$G$113,0),4),0))),((IFERROR(OFFSET($G$127,MATCH(M29,$G$128,0),4),0))),((IFERROR(OFFSET($G$142,MATCH(M29,$G$143,0),4),0))),((IFERROR(OFFSET($G$157,MATCH(M29,$G$158,0),4),0))))=0,0,(MAX((IFERROR(OFFSET($G$22,MATCH(M29,$G$23,0),4),0)),((IFERROR(OFFSET($G$37,MATCH(M29,$G$38,0),4),0))),((IFERROR(OFFSET($G$52,MATCH(M29,$G$53,0),4),0))),((IFERROR(OFFSET($G$67,MATCH(M29,$G$68,0),4),0))),((IFERROR(OFFSET($G$82,MATCH(M29,$G$83,0),4),0))),((IFERROR(OFFSET($G$97,MATCH(M29,$G$98,0),4),0))),((IFERROR(OFFSET($G$112,MATCH(M29,$G$113,0),4),0))),((IFERROR(OFFSET($G$127,MATCH(M29,$G$128,0),4),0))),((IFERROR(OFFSET($G$142,MATCH(M29,$G$143,0),4),0))),((IFERROR(OFFSET($G$157,MATCH(M29,$G$158,0),4),0)))))))","v":0},"lb/ton",{"$f":"IF(O29=4.5,N29*O29,IF(O29=6.5,N29*O29,\"\"))","v":""},{"$f":"IF(N29=0,\"\",IF(AND($F$12>0,$O$29>$O$28,$O$29>=$O$30),$F$12,IF(O29=0.0098,N29*O29,IF(O29=0.023,N29*O29,\"\"))))","v":""},{"$f":"IF(N29=0,0,IF($G$12>0,IF(S28=0,$G$12,\"\"),IF(AND(OR($C$10>0,$C$11>0,$C$12>0),$O$29>$O$28,$O$29>=$O$30),(IF($C$10>0,$C$10*O29/2000,IF($C$11>0,$C$11*365*O29/2000,IF($C$12>0,$C$12*365*O29*N29/2000)))),IF(AND($F$12>0,$O$29>$O$28,$O$29>=$O$30),$F$12*8760/2000,IF(AND(OR($C$10=\"\",$C$10=0),OR($C$11=\"\",$C$11=0),OR($C$12=\"\",$C$12=0),$F$12=\"\"),IF(R29=\"\",Q29*8760/2000,R29*8760/2000),\"\")))))","v":0},{"$f":"IF(N29=\"\",\"\",SUM((IFERROR(MATCH(M29,$G$23,0)*$I$23*$K$23/2000,0)),(IFERROR(MATCH(M29,$G$38,0)*$I$38*$K$38/2000,0)),(IFERROR(MATCH(M29,$G$53,0)*$I$53*$K$53/2000,0)),(IFERROR(MATCH(M29,$G$68,0)*$I$68*$K$68/2000,0)),(IFERROR(MATCH(M29,$G$83,0)*$I$83*$K$83/2000,0)),(IFERROR(MATCH(M29,$G$98,0)*$I$98*$K$98/2000,0)),(IFERROR(MATCH(M29,$G$113,0)*$I$113*$K$113/2000,0)),(IFERROR(MATCH(M29,$G$128,0)*$I$128*$K$128/2000,0)),(IFERROR(MATCH(M29,$G$143,0)*$I$143*$K$143/2000,0)),(IFERROR(MATCH(M29,$G$158,0)*$I$158*$K$158/2000,0))))","v":0}]
[null,null,null,null,null,null,null,null,null,null,null,null,{"$f":"$C$5 & \" - Natural Gas\"","v":" - Natural Gas"},{"$f":"N7","v":0},{"$f":"IF(N30=0,0,IF(MAX((IFERROR(OFFSET($G$22,MATCH(M30,$G$23,0),4),0)),((IFERROR(OFFSET($G$37,MATCH(M30,$G$38,0),4),0))),((IFERROR(OFFSET($G$52,MATCH(M30,$G$53,0),4),0))),((IFERROR(OFFSET($G$67,MATCH(M30,$G$68,0),4),0))),((IFERROR(OFFSET($G$82,MATCH(M30,$G$83,0),3),0))),((IFERROR(OFFSET($G$97,MATCH(M30,$G$98,0),4),0))),((IFERROR(OFFSET($G$112,MATCH(M30,$G$113,0),4),0))),((IFERROR(OFFSET($G$127,MATCH(M30,$G$128,0),4),0))),((IFERROR(OFFSET($G$142,MATCH(M30,$G$143,0),4),0))),((IFERROR(OFFSET($G$157,MATCH(M30,$G$158,0),4),0))))=0,0,(MAX((IFERROR(OFFSET($G$22,MATCH(M30,$G$23,0),4),0)),((IFERROR(OFFSET($G$37,MATCH(M30,$G$38,0),4),0))),((IFERROR(OFFSET($G$52,MATCH(M30,$G$53,0),4),0))),((IFERROR(OFFSET($G$67,MATCH(M30,$G$68,0),4),0))),((IFERROR(OFFSET($G$82,MATCH(M30,$G$83,0),4),0))),((IFERROR(OFFSET($G$97,MATCH(M30,$G$98,0),4),0))),((IFERROR(OFFSET($G$112,MATCH(M30,$G$113,0),4),0))),((IFERROR(OFFSET($G$127,MATCH(M30,$G$128,0),4),0))),((IFERROR(OFFSET($G$142,MATCH(M30,$G$143,0),4),0))),((IFERROR(OFFSET($G$157,MATCH(M30,$G$158,0),4),0)))))))","v":0},"lb/ton",{"$f":"IF(O30=4.5,N30*O30,IF(O30=6.5,N30*O30,\"\"))","v":""},{"$f":"IF(N30=0,\"\",IF(AND($F$12>0,$O$30>$O$28,$O$30>$O$29),$F$12,IF(O30=0.0098,N30*O30,IF(O30=0.023,N30*O30,\"\"))))","v":""},{"$f":"IF(N30=0,0,IF($G$12>0,IF(AND(S28=0,S29=0),$G$12,\"\"),IF(AND(OR($C$10>0,$C$11>0,$C$12>0),$O$30>$O$28,$O$30>$O$29),(IF($C$10>0,$C$10*O30/2000,IF($C$11>0,$C$11*365*O30/2000,IF($C$12>0,$C$12*365*O30*N30/2000)))),IF(AND($F$12>0,$O$30>$O$28,$O$30>$O$29),$F$12*8760/2000,IF(AND(OR($C$10=\"\",$C$10=0),OR($C$11=\"\",$C$11=0),OR($C$12=\"\",$C$12=0),$F$12=\"\"),IF(R30=\"\",Q30*8760/2000,R30*8760/2000),\"\")))))","v":0},{"$f":"IF(N30=\"\",\"\",SUM((IFERROR(MATCH(M30,$G$23,0)*$I$23*$K$23/2000,0)),(IFERROR(MATCH(M30,$G$38,0)*$I$38*$K$38/2000,0)),(IFERROR(MATCH(M30,$G$53,0)*$I$53*$K$53/2000,0)),(IFERROR(MATCH(M30,$G$68,0)*$I$68*$K$68/2000,0)),(IFERROR(MATCH(M30,$G$83,0)*$I$83*$K$83/2000,0)),(IFERROR(MATCH(M30,$G$98,0)*$I$98*$K$98/2000,0)),(IFERROR(MATCH(M30,$G$113,0)*$I$113*$K$113/2000,0)),(IFERROR(MATCH(M30,$G$128,0)*$I$128*$K$128/2000,0)),(IFERROR(MATCH(M30,$G$143,0)*$I$143*$K$143/2000,0)),(IFERROR(MATCH(M30,$G$158,0)*$I$158*$K$158/2000,0))))","v":0}]
[null,null,null,null,"Stock Pile Area",null,null,null,null,null,null,null,"Silo Filling",{"$f":"N11","v":0},{"$f":"IF(N31=0,0,IF(N31=0,0,LOOKUP(M31,'Emission Factors'!$A$23:$A$25,'Emission Factors'!$F$23:$F$25)))","v":0},"lb/ton",{"$f":"N31*O31","v":0},null,{"$f":"IF($G$12>0,\"\",IF($C$10>0,$C$10*O31/2000,IF($C$11>0,$C$11*365*O31/2000,IF($C$12>0,$C$12*365*O31*N31/2000,IF($F$11>0,\"\",IF(R31=\"\",Q31*8760/2000,R31*8760/2000))))))","v":0},{"$f":"(P11*O31/2000)","v":0}]
[null,null,null,null,null,"Emission Unit #","Maximum Storage Area (acres)","Actual Storage Area (acres)","Actual Days in Existence (days)",null,null,null,"Truck Loadout",{"$f":"N12","v":0},{"$f":"IF(N32=0,0,IF(N32=0,0,LOOKUP(M32,'Emission Factors'!$A$23:$A$25,'Emission Factors'!$F$23:$F$25)))","v":0},"lb/ton",{"$f":"N32*O32","v":0},null,{"$f":"IF($G$12>0,\"\",IF($C$10>0,$C$10*O32/2000,IF($C$11>0,$C$11*365*O32/2000,IF($C$12>0,$C$12*365*O32*N32/2000,IF($F$11>0,\"\",IF(R32=\"\",Q32*8760/2000,R32*8760/2000))))))","v":0},{"$f":"(P12*O32/2000)","v":0}]
[null,null,null,null,null,null,null,null,null,null,null,null,"Cold Aggregate Bins",{"$f":"N13","v":0},{"$f":"IF(N33=0,0,IF(N33=0,0,LOOKUP(M33,'Emission Factors'!$A$23:$A$25,'Emission Factors'!$F$23:$F$25)))","v":0},"lb/ton",{"$f":"N33*O33","v":0},null,{"$f":"IF($G$12>0,\"\",IF($C$10>0,$C$10*O33/2000,IF($C$11>0,$C$11*365*O33/2000,IF($C$12>0,$C$12*365*O33*N33/2000,IF($F$11>0,\"\",IF(R33=\"\",Q33*8760/2000,R33*8760/2000))))))","v":0},{"$f":"(P13*O33/2000)","v":0}]
[]
[null,{"$f":"IF($C$4>1,\"Asphalt Plant\",\"\")","v":""},{"$f":"IF($C$4>1,\"Site 2\",\"\")","v":""},null,{"$f":"IF($C$4>1,\"Emission Point #\",\"\")","v":""},{"$f":"IF($C$4>1,\"Emission    Unit #\",\"\")","v":""},{"$f":"IF($C$4>1,\"Process\",\"\")","v":""},{"$f":"IF($C$4>1,\"Maximum Hourly     Design Rate\",\"\")","v":""},{"$f":"IF($C$4>1,('Facility Information'!G20&\" Annual Throughput\"),\"\")","v":""},null,null,null,null,null,"Max Design Rate (acres)","Emission Factor   (lb/acre-day)","Potential Uncontrolled Emissions (lb/hr)","Potential Controlled Emissions (lb/hr)","Potential Annual Emissions (tons/yr)","Actual Annual Emissions (tons/yr)"]
[null,null,null,null,null,null,null,null,null,null,null,null,null,"Storage Pile"]
[null,{"$f":"IF($C$4>1,\"Site Name\",\"\")","v":""},null,null,{"$f":"IF($C$4>1,\"Dryers, Hot Screens, Mixer\",\"\")","v":""},null,null,{"$f":"IF($C$4>1,\"(tons/hr)\",\"\")","v":""},{"$f":"IF($C$4>1,\"(tons/yr)\",\"\")","v":""},"PM2.5","PM10",null,null,"PM2.5/PM10",{"$f":"N15","v":0},3.64,{"$f":"O37*P37*(1/24)","v":0},null,{"$f":"O37*P37*365/2000","v":0},{"$f":"O15*P37/2000","v":0}]
[null,{"$f":"IF($C$4>1,\"County:\",\"\")","v":""},null,null,{"$f":"IF(C40=\"\",\"\",\"AP-10 EP-1\")","v":""},{"$f":"IF(C40=\"\",\"\",\"AP-10 EU-1\")","v":""},{"$f":"IF(C40=\"\",\"\",C5 & \" - \"&C40)","v":""},null,null,{"$f":"IF(C41=\"\",\"\",IF(C41=\"yes\",LOOKUP(G38,'Emission Factors'!$A$12:$A$17,'Emission Factors'!$D$12:$D$17),LOOKUP(G38,'Emission Factors'!$A$5:$A$10,'Emission Factors'!$D$5:$D$10)))","v":""},{"$f":"IF(C41=\"\",\"\",IF(C41=\"yes\",LOOKUP(G38,'Emission Factors'!$A$12:$A$17,'Emission Factors'!$F$12:$F$17),LOOKUP(G38,'Emission Factors'!$A$5:$A$10,'Emission Factors'!$F$5:$F$10)))","v":""}]
[null,{"$f":"IF($C$4>1,\"Production Period (Dates):\",\"\")","v":""},null,null,{"$f":"IF($C$4>1,\"Liquid Asphalt Heater\",\"\")","v":""},null,null,{"$f":"IF($C$4>1,IF(C40=\"natural gas\",\"MMCF/hr\",\"(gallons/hr)\"),\"\")","v":""},{"$f":"IF($C$4>1,IF(C40=\"natural gas\",\"MMCF/yr\",\"(gallons/yr)\"),\"\")","v":""},null,null,null,"SO2"]
[null,{"$f":"IF($C$4>1,\"Type of Fuel Used:\",\"\")","v":""},null,null,{"$f":"IF(C40=\"\",\"\",\"AP-10 EP-2\")","v":""},{"$f":"IF(C40=\"\",\"\",\"AP-10 EU-2\")","v":""},{"$f":"IF(C40=\"\",\"\",C40& \" Fired Heater\")","v":""},null,null,null,null,null,{"$f":"$C$5 & \" - Fuel Oil\"","v":" - Fuel Oil"},{"$f":"$N$5","v":0},{"$f":"IF(N40=0,0,LOOKUP(M40,'Emission Factors'!$A$5:$A$10,'Emission Factors'!$H$5:$H$10))","v":0},{"$f":"IF(O40=\"\",\"\",\"lb/ton\")","v":"lb/ton"},{"$f":"N40*O40","v":0},{"$f":"IF(N40=0,\"\",IF(AND($F$13>0,N41=0),$F$13,\"\"))","v":""},{"$f":"IF(N40=0,0,IF($G$13>0,$G$13,IF(OR(AND($C$10>0,$N$41>0),AND($C$11>0,$N$41>0),AND($C$12>0,$N$41>0)),\"\",IF($C$10>0,$C$10*O40/2000,IF($C$11>0,$C$11*365*O40/2000,IF($C$12>0,$C$12*365*O40*N40/2000,IF(AND(N41>0,F13>0),\"\",IF(R40=\"\",Q40*8760/2000,R40*8760/2000))))))))","v":0},{"$f":"P5*O40/2000","v":0}]
[null,{"$f":"IF($C$4>1,\"Is Your Operation Controlled?:\",\"\")","v":""},null,null,{"$f":"IF($C$4>1,\"Silo Filling, Truck Loadout, Aggregate Transfer\",\"\")","v":""},null,null,{"$f":"IF($C$4>1,\"(tons/hr)\",\"\")","v":""},{"$f":"IF($C$4>1,\"(tons/yr)\",\"\")","v":""},null,null,null,{"$f":"$C$5 & \" - Waste Oil\"","v":" - Waste Oil"},{"$f":"$N$6","v":0},{"$f":"IF(N41=0,0,LOOKUP(M41,'Emission Factors'!$A$5:$A$10,'Emission Factors'!$H$5:$H$10))","v":0},{"$f":"IF(O41=\"\",\"\",\"lb/ton\")","v":"lb/ton"},{"$f":"N41*O41","v":0},{"$f":"IF(N41=0,\"\",IF($F$13>0,$F$13,\"\"))","v":""},{"$f":"IF(N41=0,0,IF($G$13>0,IF(S40=0,G13,\"\"),IF($C$10>0,$C$10*O41/2000,IF($C$11>0,$C$11*365*O41/2000,IF($C$12>0,$C$12*365*O41*N41/2000,IF(R41=\"\",Q41*8760/2000,R41*8760/2000))))))","v":0},{"$f":"P6*O41/2000","v":0}]
[null,null,null,null,{"$f":"IF($C$4>1,\"AP-10 EP-3\",\"\")","v":""},{"$f":"IF($C$4>1,\"AP-10 EU-3\",\"\")","v":""},{"$f":"IF($C$4>1,\"Silo Filling\",\"\")","v":""},null,null,null,null,null,{"$f":"$C$5 & \" - Natural Gas\"","v":" - Natural Gas"},{"$f":"$N$7","v":0},{"$f":"IF(N42=0,0,LOOKUP(M42,'Emission Factors'!$A$5:$A$10,'Emission Factors'!$H$5:$H$10))","v":0},{"$f":"IF(O42=\"\",\"\",\"lb/ton\")","v":"lb/ton"},{"$f":"N42*O42","v":0},{"$f":"IF(N42=0,\"\",IF(AND($F$13>0,N40=0,N41=0),$F$13,\"\"))","v":""},{"$f":"IF(N42=0,0,IF($G$13>0,IF(AND(S40=0,S41=0),G13,\"\"),IF(OR(AND($C$10>0,$N$41>0),AND($C$11>0,$N$41>0),AND($C$12>0,$N$41>0)),\"\",IF(OR(AND($C$10>0,$N$40>0),AND($C$11>0,$N$40>0),AND($C$12>0,$N$40>0)),\"\",IF($C$10>0,$C$10*O42/2000,IF($C$11>0,$C$11*365*O42/2000,IF($C$12>0,$C$12*365*O42*N42/2000,IF(AND(N41>0,N40>0,F13>0),\"\",IF(R42=\"\",Q42*8760/2000,R42*8760/2000)))))))))","v":0},{"$f":"P7*O42/2000","v":0}]
[null,null,null,null,{"$f":"IF($C$4>1,\"AP-10 EP-3\",\"\")","v":""},{"$f":"IF($C$4>1,\"AP-10 EU-4\",\"\")","v":""},{"$f":"IF($C$4>1,\"Truck Loadout\",\"\")","v":""},null,null,null,null,null,"NOx"]
[null,null,null,null,{"$f":"IF($C$4>1,\"AP-10 EP-3\",\"\")","v":""},{"$f":"IF($C$4>1,\"AP-10 EU-5\",\"\")","v":""},{"$f":"IF($C$4>1,\"Cold Aggregate Bins\",\"\")","v":""},null,null,null,null,null,{"$f":"$C$5 & \" - Fuel Oil\"","v":" - Fuel Oil"},{"$f":"$N$5","v":0},{"$f":"IF(N44=0,0,LOOKUP(M44,'Emission Factors'!$A$5:$A$10,'Emission Factors'!$J$5:$J$10))","v":0},{"$f":"IF(O44=\"\",\"\",\"lb/ton\")","v":"lb/ton"},{"$f":"N44*O44","v":0},{"$f":"IF(N44=0,\"\",IF(AND($F$14>0,N45=0),$F$14,\"\"))","v":""},{"$f":"IF(N44=0,0,IF($G$14>0,$G$14,IF(OR(AND($C$10>0,$N$45>0),AND($C$11>0,$N$45>0),AND($C$12>0,$N$45>0)),\"\",IF($C$10>0,$C$10*O44/2000,IF($C$11>0,$C$11*365*O44/2000,IF($C$12>0,$C$12*365*O44*N44/2000,IF(AND(N45>0,F14>0),\"\",IF(R44=\"\",Q44*8760/2000,R44*8760/2000))))))))","v":0},{"$f":"P5*O44/2000","v":0}]
[null,null,null,null,null,null,null,null,null,null,null,null,{"$f":"$C$5 & \" - Waste Oil\"","v":" - Waste Oil"},{"$f":"$N$6","v":0},{"$f":"IF(N45=0,0,LOOKUP(M45,'Emission Factors'!$A$5:$A$10,'Emission Factors'!$J$5:$J$10))","v":0},{"$f":"IF(O45=\"\",\"\",\"lb/ton\")","v":"lb/ton"},{"$f":"N45*O45","v":0},{"$f":"IF(N45=0,\"\",IF($F$14>0,$F$14,\"\"))","v":""},{"$f":"IF(N45=0,0,IF($G$14>0,IF(S44=0,G14,\"\"),IF($C$10>0,$C$10*O45/2000,IF($C$11>0,$C$11*365*O45/2000,IF($C$12>0,$C$12*365*O45*N45/2000,IF(R45=\"\",Q45*8760/2000,R45*8760/2000))))))","v":0},{"$f":"P6*O45/2000","v":0}]
[null,null,null,null,{"$f":"IF($C$4>1,\"Stock Pile Area\",\"\")","v":""},null,null,null,null,null,null,null,{"$f":"$C$5 & \" - Natural Gas\"","v":" - Natural Gas"},{"$f":"$N$7","v":0},{"$f":"IF(N46=0,0,LOOKUP(M46,'Emission Factors'!$A$5:$A$10,'Emission Factors'!$J$5:$J$10))","v":0},{"$f":"IF(O46=\"\",\"\",\"lb/ton\")","v":"lb/ton"},{"$f":"N46*O46","v":0},{"$f":"IF(N46=0,\"\",IF(AND($F$14>0,N44=0,N45=0),$F$14,\"\"))","v":""},{"$f":"IF(N46=0,0,IF($G$14>0,IF(AND(S44=0,S45=0),G14,\"\"),IF(OR(AND($C$10>0,$N$45>0),AND($C$11>0,$N$45>0),AND($C$12>0,$N$45>0)),\"\",IF(OR(AND($C$10>0,$N$44>0),AND($C$11>0,$N$44>0),AND($C$12>0,$N$44>0)),\"\",IF($C$10>0,$C$10*O46/2000,IF($C$11>0,$C$11*365*O46/2000,IF($C$12>0,$C$12*365*O46*N46/2000,IF(AND(N44>0,N45>0,F14>0),\"\",IF(R46=\"\",Q46*8760/2000,R46*8760/2000)))))))))","v":0},{"$f":"P7*O46/2000","v":0}]
[null,null,null,null,null,{"$f":"IF($C$4>1,\"Emission Unit #\",\"\")","v":""},{"$f":"IF($C$4>1,\"Maximum Storage Area (acres)\",\"\")","v":""},{"$f":"IF($C$4>1,\"Actual Storage Area (acres)\",\"\")","v":""},{"$f":"IF($C$4>1,\"Actual Days in Existence (days)\",\"\")","v":""},null,null,null,"VOC"]
[null,null,null,null,null,null,null,null,null,null,null,null,{"$f":"$C$5 & \" - Fuel Oil\"","v":" - Fuel Oil"},{"$f":"$N$5","v":0},{"$f":"IF(N48=0,0,LOOKUP(M48,'Emission Factors'!$A$5:$A$10,'Emission Factors'!$L$5:$L$10))","v":0},{"$f":"IF(O48=\"\",\"\",\"lb/ton\")","v":"lb/ton"},{"$f":"N48*O48","v":0},{"$f":"IF(N48=0,\"\",IF(AND($F$15>0,N49=0),$F$15,\"\"))","v":""},{"$f":"IF(N48=0,0,IF($G$15>0,$G$15,IF(OR(AND($C$10>0,$N$49>0),AND($C$11>0,$N$49>0),AND($C$12>0,$N$49>0)),\"\",IF($C$10>0,$C$10*O48/2000,IF($C$11>0,$C$11*365*O48/2000,IF($C$12>0,$C$12*365*O48*N48/2000,IF(AND(N49>0,F15>0),\"\",IF(R48=\"\",Q48*8760/2000,R48*8760/2000))))))))","v":0},{"$f":"P5*O48/2000","v":0}]
[null,null,null,null,null,null,null,null,null,null,null,null,{"$f":"$C$5 & \" - Waste Oil\"","v":" - Waste Oil"},{"$f":"$N$6","v":0},{"$f":"IF(N49=0,0,LOOKUP(M49,'Emission Factors'!$A$5:$A$10,'Emission Factors'!$L$5:$L$10))","v":0},{"$f":"IF(O49=\"\",\"\",\"lb/ton\")","v":"lb/ton"},{"$f":"N49*O49","v":0},{"$f":"IF(N49=0,\"\",IF($F$15>0,$F$15,\"\"))","v":""},{"$f":"IF(N49=0,0,IF($G$15>0,IF(S48=0,G15,\"\"),IF($C$10>0,$C$10*O49/2000,IF($C$11>0,$C$11*365*O49/2000,IF($C$12>0,$C$12*365*O49*N49/2000,IF(R49=\"\",Q49*8760/2000,R49*8760/2000))))))","v":0},{"$f":"P6*O49/2000","v":0}]
[null,{"$f":"IF($C$4>2,\"Asphalt Plant\",\"\")","v":""},{"$f":"IF($C$4>2,\"Site 3\",\"\")","v":""},null,{"$f":"IF($C$4>2,\"Emission Point #\",\"\")","v":""},{"$f":"IF($C$4>2,\"Emission    Unit #\",\"\")","v":""},{"$f":"IF($C$4>2,\"Process\",\"\")","v":""},{"$f":"IF($C$4>2,\"Maximum Hourly     Design Rate\",\"\")","v":""},{"$f":"IF($C$4>2,('Facility Information'!G35&\" Annual Throughput\"),\"\")","v":""},null,null,null,{"$f":"$C$5 & \" - Natural Gas\"","v":" - Natural Gas"},{"$f":"$N$7","v":0},{"$f":"IF(N50=0,0,LOOKUP(M50,'Emission Factors'!$A$5:$A$10,'Emission Factors'!$L$5:$L$10))","v":0},{"$f":"IF(O50=\"\",\"\",\"lb/ton\")","v":"lb/ton"},{"$f":"N50*O50","v":0},{"$f":"IF(N50=0,\"\",IF(AND($F$15>0,N48=0,N49=0),$F$15,\"\"))","v":""},{"$f":"IF(N50=0,0,IF($G$15>0,IF(AND(S48=0,S49=0),G15,\"\"),IF(OR(AND($C$10>0,$N$49>0),AND($C$11>0,$N$49>0),AND($C$12>0,$N$49>0)),\"\",IF(OR(AND($C$10>0,$N$48>0),AND($C$11>0,$N$48>0),AND($C$12>0,$N$48>0)),\"\",IF($C$10>0,$C$10*O50/2000,IF($C$11>0,$C$11*365*O50/2000,IF($C$12>0,$C$12*365*O50*N50/2000,IF(AND(N48>0,N49>0,F15>0),\"\",IF(R50=\"\",Q50*8760/2000,R50*8760/2000)))))))))","v":0},{"$f":"P7*O50/2000","v":0}]
[null,null,null,null,null,null,null,null,null,null,null,null,"CO"]
[null,{"$f":"IF($C$4>2,\"Site Name\",\"\")","v":""},null,null,{"$f":"IF($C$4>2,\"Dryers, Hot Screens, Mixer\",\"\")","v":""},null,null,{"$f":"IF($C$4>2,\"(tons/hr)\",\"\")","v":""},{"$f":"IF($C$4>2,\"(tons/yr)\",\"\")","v":""},"PM2.5","PM10",null,{"$f":"IF($C$5=\"\",\"\",$C$5)","v":""},{"$f":"SUM($N$5:$N$7)","v":0},{"$f":"IF(N52=0,0,IF(M52=\"Batch Mix Plant\",0.4,IF(M52=\"Drum Mix Plant\",0.13)))","v":0},{"$f":"IF(O52=\"\",\"\",\"lb/ton\")","v":"lb/ton"},{"$f":"N52*O52","v":0},{"$f":"IF(N52=0,\"\",IF($F$16>0,$F$16,\"\"))","v":""},{"$f":"IF($G$16>0,$G$16,IF(N52=0,0,IF($C$10>0,$C$10*O52/2000,IF($C$11>0,$C$11*365*O52/2000,IF($C$12>0,$C$12*365*O52*N52/2000,IF(R52=\"\",Q52*8760/2000,R52*8760/2000))))))","v":0},{"$f":"SUM($P$5:$P$7)*O52/2000","v":0}]
[null,{"$f":"IF($C$4>2,\"County:\",\"\")","v":""},null,null,{"$f":"IF(C55=\"\",\"\",\"AP-10 EP-1\")","v":""},{"$f":"IF(C55=\"\",\"\",\"AP-10 EU-1\")","v":""},{"$f":"IF(C55=\"\",\"\",C5 & \" - \"&C55)","v":""},null,null,{"$f":"IF(C56=\"\",\"\",IF(C56=\"yes\",LOOKUP(G53,'Emission Factors'!$A$12:$A$17,'Emission Factors'!$D$12:$D$17),LOOKUP(G53,'Emission Factors'!$A$5:$A$10,'Emission Factors'!$D$5:$D$10)))","v":""},{"$f":"IF(C56=\"\",\"\",IF(C56=\"yes\",LOOKUP(G53,'Emission Factors'!$A$12:$A$17,'Emission Factors'!$F$12:$F$17),LOOKUP(G53,'Emission Factors'!$A$5:$A$10,'Emission Factors'!$F$5:$F$10)))","v":""},null,"Fuel Oil Fired Heater",{"$f":"N8","v":0},{"$f":"IF(N53=0,0,LOOKUP(M53,'Emission Factors'!$A$19:$A$21,'Emission Factors'!$N$19:$N$21))","v":0},{"$f":"IF(O53=\"\",\"\",\"lb/gallon\")","v":"lb/gallon"},{"$f":"N53*O53","v":0},null,{"$f":"IF(N53=0,0,IF($G$16>0,\"\",IF($F$16>0,\"\",IF(R53=\"\",Q53*8760/2000,R53*8760/2000))))","v":0},{"$f":"(P8*O53/2000)","v":0}]
[null,{"$f":"IF($C$4>2,\"Production Period (Dates):\",\"\")","v":""},null,null,{"$f":"IF($C$4>2,\"Liquid Asphalt Heater\",\"\")","v":""},null,null,{"$f":"IF($C$4>2,IF(C55=\"natural gas\",\"(MMCF/hr)\",\"(gallons/hr)\"),\"\")","v":""},{"$f":"IF($C$4>2,IF(C55=\"natural gas\",\"(MMCF/yr)\",\"(gallons/yr)\"),\"\")","v":""},null,null,null,"Waste Oil Fired Heater",{"$f":"N9","v":0},{"$f":"IF(N54=0,0,LOOKUP(M54,'Emission Factors'!$A$19:$A$21,'Emission Factors'!$N$19:$N$21))","v":0},{"$f":"IF(O54=\"\",\"\",\"lb/gallon\")","v":"lb/gallon"},{"$f":"N54*O54","v":0},null,{"$f":"IF(N54=0,0,IF($G$16>0,\"\",IF($F$16>0,\"\",IF(R54=\"\",Q54*8760/2000,R54*8760/2000))))","v":0},{"$f":"(P9*O54/2000)","v":0}]
[null,{"$f":"IF($C$4>2,\"Type of Fuel Used:\",\"\")","v":""},null,null,{"$f":"IF(C55=\"\",\"\",\"AP-10 EP-2\")","v":""},{"$f":"IF(C55=\"\",\"\",\"AP-10 EU-2\")","v":""},{"$f":"IF(C55=\"\",\"\",C55& \" Fired Heater\")","v":""},null,null,null,null,null,"Natural Gas Fired Heater",{"$f":"N10","v":0},{"$f":"IF(N55=0,0,LOOKUP(M55,'Emission Factors'!$A$19:$A$21,'Emission Factors'!$N$19:$N$21))","v":0},{"$f":"IF(O55=\"\",\"\",\"lb/MMCF\")","v":"lb/MMCF"},{"$f":"N55*O55","v":0},null,{"$f":"IF(N55=0,0,IF($G$16>0,\"\",IF($F$16>0,\"\",IF(R55=\"\",Q55*8760/2000,R55*8760/2000))))","v":0},{"$f":"($P$10*O55/2000)","v":0}]
[null,{"$f":"IF($C$4>2,\"Is Your Operation Controlled?:\",\"\")","v":""},null,null,{"$f":"IF($C$4>2,\"Silo Filling, Truck Loadout, Aggregate Transfer\",\"\")","v":""},null,null,{"$f":"IF($C$4>2,\"(tons/hr)\",\"\")","v":""},{"$f":"IF($C$4>2,\"(tons/yr)\",\"\")","v":""},null,null,null,"Acetaldehyde"]
[null,null,null,null,{"$f":"IF($C$4>2,\"AP-10 EP-3\",\"\")","v":""},{"$f":"IF($C$4>2,\"AP-10 EU-3\",\"\")","v":""},{"$f":"IF($C$4>2,\"Silo Filling\",\"\")","v":""},null,null,null,null,null,{"$f":"IF($C$5=\"\",\"\",$C$5)","v":""},{"$f":"IF(C5=\"drum mix plant\",SUM(N5:$N$6),SUM($N$5:$N$7))","v":0},{"$f":"IF(N57=0,0,IF(M57=\"Batch Mix Plant\",0.00032,IF(M57=\"Drum Mix Plant\",0.0013)))","v":0},{"$f":"IF(O57=\"\",\"\",\"lb/ton\")","v":"lb/ton"},{"$f":"N57*O57","v":0},null,{"$f":"IF(N57=0,0,IF($C$10>0,$C$10*O57/2000,IF($C$11>0,$C$11*365*O57/2000,IF($C$12>0,$C$12*365*O57*N57/2000,IF(R57=\"\",Q57*8760/2000,R57*8760/2000)))))","v":0},{"$f":"IF(C5=\"drum mix plant\",$P$6*O57/2000,SUM($P$5:$P$7)*O57/2000)","v":0}]
[null,null,null,null,{"$f":"IF($C$4>2,\"AP-10 EP-3\",\"\")","v":""},{"$f":"IF($C$4>2,\"AP-10 EU-4\",\"\")","v":""},{"$f":"IF($C$4>2,\"Truck Loadout\",\"\")","v":""},null,null,null,null,null,"Acrolein"]
[null,null,null,null,{"$f":"IF($C$4>2,\"AP-10 EP-3\",\"\")","v":""},{"$f":"IF($C$4>2,\"AP-10 EU-5\",\"\")","v":""},{"$f":"IF($C$4>2,\"Cold Aggregate Bins\",\"\")","v":""},null,null,null,null,null,{"$f":"IF($C$5=\"\",\"\",$C$5)","v":""},{"$f":"IF(C5=\"drum mix plant\",SUM(N5:$N$6),0)","v":0},{"$f":"IF(N59=0,0,0.000026)","v":0},{"$f":"IF(O59=\"\",\"\",\"lb/ton\")","v":"lb/ton"},{"$f":"N59*O59","v":0},null,{"$f":"IF(N59=0,0,IF($C$10>0,$C$10*O59/2000,IF($C$11>0,$C$11*365*O59/2000,IF($C$12>0,$C$12*365*O59*N59/2000,IF(R59=\"\",Q59*8760/2000,R59*8760/2000)))))","v":0},{"$f":"IF(C7=\"drum mix plant\",$P$6*O59/2000,SUM($P$5:$P$7)*O59/2000)","v":0}]
[null,null,null,null,null,null,null,null,null,null,null,null,"Benzene"]
[null,null,null,null,{"$f":"IF($C$4>2,\"Stock Pile Area\",\"\")","v":""},null,null,null,null,null,null,null,{"$f":"IF($C$5=\"\",\"\",$C$5)","v":""},{"$f":"SUM($N$5:$N$7)","v":0},{"$f":"IF(N61=0,0,IF(M61=\"Batch Mix Plant\",0.00028,IF(M61=\"Drum Mix Plant\",0.00039)))","v":0},{"$f":"IF(O61=\"\",\"\",\"lb/ton\")","v":"lb/ton"},{"$f":"N61*O61","v":0},null,{"$f":"IF(N61=0,0,IF($C$10>0,$C$10*O61/2000,IF($C$11>0,$C$11*365*O61/2000,IF($C$12>0,$C$12*365*O61*N61/2000,IF(R61=\"\",Q61*8760/2000,R61*8760/2000)))))","v":0},{"$f":"SUM($P$5:$P$7)*O61/2000","v":0}]
[null,null,null,null,null,{"$f":"IF($C$4>2,\"Emission Unit #\",\"\")","v":""},{"$f":"IF($C$4>2,\"Maximum Storage Area (acres)\",\"\")","v":""},{"$f":"IF($C$4>2,\"Actual Storage Area (acres)\",\"\")","v":""},{"$f":"IF($C$4>2,\"Actual Days in Existence (days)\",\"\")","v":""},null,null,null,"Ethylbenzene"]
[null,null,null,null,null,null,null,null,null,null,null,null,{"$f":"IF($C$5=\"\",\"\",$C$5)","v":""},{"$f":"SUM($N$5:$N$7)","v":0},{"$f":"IF(N63=0,0,IF(M63=\"Batch Mix Plant\",0.0022,IF(M63=\"Drum Mix Plant\",0.00024)))","v":0},{"$f":"IF(O63=\"\",\"\",\"lb/ton\")","v":"lb/ton"},{"$f":"N63*O63","v":0},null,{"$f":"IF(N63=0,0,IF($C$10>0,$C$10*O63/2000,IF($C$11>0,$C$11*365*O63/2000,IF($C$12>0,$C$12*365*O63*N63/2000,IF(R63=\"\",Q63*8760/2000,R63*8760/2000)))))","v":0},{"$f":"SUM($P$5:$P$7)*O63/2000","v":0}]
[null,null,null,null,null,null,null,null,null,null,null,null,"Formaldehyde"]
[null,{"$f":"IF($C$4>3,\"Asphalt Plant\",\"\")","v":""},{"$f":"IF($C$4>3,\"Site 4\",\"\")","v":""},null,{"$f":"IF($C$4>3,\"Emission Point #\",\"\")","v":""},{"$f":"IF($C$4>3,\"Emission    Unit #\",\"\")","v":""},{"$f":"IF($C$4>3,\"Process\",\"\")","v":""},{"$f":"IF($C$4>3,\"Maximum Hourly     Design Rate\",\"\")","v":""},{"$f":"IF($C$4>3,('Facility Information'!G50&\" Annual Throughput\"),\"\")","v":""},null,null,null,{"$f":"IF($C$5=\"\",\"\",$C$5)","v":""},{"$f":"SUM($N$5:$N$7)","v":0},{"$f":"IF(N65=0,0,IF(M65=\"Batch Mix Plant\",0.00074,IF(M65=\"Drum Mix Plant\",0.0031)))","v":0},{"$f":"IF(O65=\"\",\"\",\"lb/ton\")","v":"lb/ton"},{"$f":"N65*O65","v":0},null,{"$f":"IF(N65=0,0,IF($C$10>0,$C$10*O65/2000,IF($C$11>0,$C$11*365*O65/2000,IF($C$12>0,$C$12*365*O65*N65/2000,IF(R65=\"\",Q65*8760/2000,R65*8760/2000)))))","v":0},{"$f":"SUM($P$5:$P$7)*O65/2000","v":0}]
[null,null,null,null,null,null,null,null,null,null,null,null,{"$f":"\"Natural Gas Fired Heater\"","v":"Natural Gas Fired Heater"},{"$f":"N10","v":0},{"$f":"IF(N66=0,0,0.026)","v":0},{"$f":"IF(O66=\"\",\"\",\"lb/MMCF\")","v":"lb/MMCF"},{"$f":"N66*O66","v":0},null,{"$f":"IF(N66=0,0,IF(R66=\"\",Q66*8760/2000,R66*8760/2000))","v":0},{"$f":"($P$10*O66/2000)","v":0}]
[null,{"$f":"IF($C$4>3,\"Site Name\",\"\")","v":""},null," ",{"$f":"IF($C$4>3,\"Dryers, Hot Screens, Mixer\",\"\")","v":""},null,null,{"$f":"IF($C$4>3,\"(tons/hr)\",\"\")","v":""},{"$f":"IF($C$4>3,\"(tons/yr)\",\"\")","v":""},"PM2.5","PM10",null,"Hexane"]
[null,{"$f":"IF($C$4>3,\"County:\",\"\")","v":""},null,null,{"$f":"IF(C70=\"\",\"\",\"AP-10 EP-1\")","v":""},{"$f":"IF(C70=\"\",\"\",\"AP-10 EU-1\")","v":""},{"$f":"IF(C70=\"\",\"\",C5 & \" - \"&C70)","v":""},null,null,{"$f":"IF(C71=\"\",\"\",IF(C71=\"yes\",LOOKUP(G68,'Emission Factors'!$A$12:$A$17,'Emission Factors'!$D$12:$D$17),LOOKUP(G68,'Emission Factors'!$A$5:$A$10,'Emission Factors'!$D$5:$D$10)))","v":""},{"$f":"IF(C71=\"\",\"\",IF(C71=\"yes\",LOOKUP(G68,'Emission Factors'!$A$12:$A$17,'Emission Factors'!$F$12:$F$17),LOOKUP(G68,'Emission Factors'!$A$5:$A$10,'Emission Factors'!$F$5:$F$10)))","v":""},null,{"$f":"IF($C$5=\"\",\"\",$C$5)","v":""},{"$f":"IF(C5=\"drum mix plant\",SUM(N5:N7),0)","v":0},{"$f":"IF(N68=0,0,0.00092)","v":0},{"$f":"IF(O68=\"\",\"\",\"lb/ton\")","v":"lb/ton"},{"$f":"N68*O68","v":0},null,{"$f":"IF(N68=0,0,IF($C$10>0,$C$10*O68/2000,IF($C$11>0,$C$11*365*O68/2000,IF($C$12>0,$C$12*365*O68*N68/2000,IF(R68=\"\",Q68*8760/2000,R68*8760/2000)))))","v":0},{"$f":"IF(N68>0,SUM($P$5:$P$7)*O68/2000,0)","v":0}]
[null,{"$f":"IF($C$4>3,\"Production Period (Dates):\",\"\")","v":""},null,null,{"$f":"IF($C$4>3,\"Liquid Asphalt Heater\",\"\")","v":""},null,null,{"$f":"IF($C$4>3,IF(C70=\"natural gas\",\"(MMCF/hr)\",\"(gallons/hr)\"),\"\")","v":""},{"$f":"IF($C$4>3,IF(C70=\"natural gas\",\"(MMCF/yr)\",\"(gallons/yr)\"),\"\")","v":""},null,null,null,"Hydrochloric Acid"]
[null,{"$f":"IF($C$4>3,\"Type of Fuel Used:\",\"\")","v":""},null,null,{"$f":"IF(C70=\"\",\"\",\"AP-10 EP-2\")","v":""},{"$f":"IF(C70=\"\",\"\",\"AP-10 EU-2\")","v":""},{"$f":"IF(C70=\"\",\"\",C70& \" Fired Heater\")","v":""},null,null,null,null,null,{"$f":"IF($C$5=\"\",\"\",$C$5)","v":""},{"$f":"IF(C5=\"drum mix plant\",SUM(N5:$N$6),0)","v":0},{"$f":"IF(N70=0,0,0.00021)","v":0},{"$f":"IF(O70=\"\",\"\",\"lb/ton\")","v":"lb/ton"},{"$f":"N70*O70","v":0},null,{"$f":"IF(N70=0,0,IF($C$10>0,$C$10*O70/2000,IF($C$11>0,$C$11*365*O70/2000,IF($C$12>0,$C$12*365*O70*N70/2000,IF(R70=\"\",Q70*8760/2000,R70*8760/2000)))))","v":0},{"$f":"IF(N70>0,$P$6*O70/2000,0)","v":0}]
[null,{"$f":"IF($C$4>3,\"Is Your Operation Controlled?:\",\"\")","v":""},null,null,{"$f":"IF($C$4>3,\"Silo Filling, Truck Loadout, Aggregate Transfer\",\"\")","v":""},null,null,{"$f":"IF($C$4>3,\"(tons/hr)\",\"\")","v":""},{"$f":"IF($C$4>3,\"(tons/yr)\",\"\")","v":""},null,null,null,"Methyl Chloroform"]
[null,null,null,null,{"$f":"IF($C$4>3,\"AP-10 EP-3\",\"\")","v":""},{"$f":"IF($C$4>3,\"AP-10 EU-3\",\"\")","v":""},{"$f":"IF($C$4>3,\"Silo Filling\",\"\")","v":""},null,null,null,null,null,{"$f":"IF($C$5=\"\",\"\",$C$5)","v":""},{"$f":"IF(C5=\"drum mix plant\",SUM(N5:N7),0)","v":0},{"$f":"IF(N72=0,0,0.000048)","v":0},{"$f":"IF(O72=\"\",\"\",\"lb/ton\")","v":"lb/ton"},{"$f":"N72*O72","v":0},null,{"$f":"IF(N72=0,0,IF($C$10>0,$C$10*O72/2000,IF($C$11>0,$C$11*365*O72/2000,IF($C$12>0,$C$12*365*O72*N72/2000,IF(R72=\"\",Q72*8760/2000,R72*8760/2000)))))","v":0},{"$f":"IF(N72>0,SUM($P$5:$P$7)*O72/2000,0)","v":0}]
[null,null,null,null,{"$f":"IF($C$4>3,\"AP-10 EP-3\",\"\")","v":""},{"$f":"IF($C$4>3,\"AP-10 EU-4\",\"\")","v":""},{"$f":"IF($C$4>3,\"Truck Loadout\",\"\")","v":""},null,null,null,null,null,"Propionaldehyde"]
[null,null,null,null,{"$f":"IF($C$4>3,\"AP-10 EP-3\",\"\")","v":""},{"$f":"IF($C$4>3,\"AP-10 EU-5\",\"\")","v":""},{"$f":"IF($C$4>3,\"Cold Aggregate Bins\",\"\")","v":""},null,null,null,null,null,{"$f":"IF($C$5=\"\",\"\",$C$5)","v":""},{"$f":"IF(C5=\"drum mix plant\",SUM(N5:$N$6),0)","v":0},{"$f":"IF(N74=0,0,0.00013)","v":0},{"$f":"IF(O74=\"\",\"\",\"lb/ton\")","v":"lb/ton"},{"$f":"N74*O74","v":0},null,{"$f":"IF(N74=0,0,IF($C$10>0,$C$10*O74/2000,IF($C$11>0,$C$11*365*O74/2000,IF($C$12>0,$C$12*365*O74*N74/2000,IF(R74=\"\",Q74*8760/2000,R74*8760/2000)))))","v":0},{"$f":"IF(N74>0,$P$6*O74/2000,0)","v":0}]
[null,null,null,null,null,null,null,null,null,null,null,null,"Quinone"]
[null,null,null,null,{"$f":"IF($C$4>3,\"Stock Pile Area\",\"\")","v":""},null,null,null,null,null,null,null,{"$f":"IF($C$5=\"\",\"\",$C$5)","v":""},{"$f":"IF(C5=\"drum mix plant\",SUM(N5:$N$6),SUM($N$5:$N$7))","v":0},{"$f":"IF(N76=0,0,IF(M76=\"Batch Mix Plant\",0.00027,IF(M76=\"Drum Mix Plant\",0.00016)))","v":0},{"$f":"IF(O76=\"\",\"\",\"lb/ton\")","v":"lb/ton"},{"$f":"N76*O76","v":0},null,{"$f":"IF(N76=0,0,IF($C$10>0,$C$10*O76/2000,IF($C$11>0,$C$11*365*O76/2000,IF($C$12>0,$C$12*365*O76*N76/2000,IF(R76=\"\",Q76*8760/2000,R76*8760/2000)))))","v":0},{"$f":"IF(C24=\"drum mix plant\",$P$6*O76/2000,SUM($P$5:$P$7)*O76/2000)","v":0}]
[null,null,null,null,null,{"$f":"IF($C$4>3,\"Emission Unit #\",\"\")","v":""},{"$f":"IF($C$4>3,\"Maximum Storage Area (acres)\",\"\")","v":""},{"$f":"IF($C$4>3,\"Actual Storage Area (acres)\",\"\")","v":""},{"$f":"IF($C$4>3,\"Actual Days in Existence (days)\",\"\")","v":""},null,null,null,"Toluene"]
[null,null,null,null,null,null,null,null,null,null,null,null,{"$f":"$C$5 & \" - Fuel Oil\"","v":" - Fuel Oil"},{"$f":"$N$5","v":0},{"$f":"IF(N78=0,0,LOOKUP(M78,'Emission Factors'!$A$5:$A$10,'Emission Factors'!$AJ$5:$AJ$10))","v":0},{"$f":"IF(O78=\"\",\"\",\"lb/ton\")","v":"lb/ton"},{"$f":"N78*O78","v":0},null,{"$f":"IF(N78=0,0,IF($C$10>0,$C$10*O78/2000,IF($C$11>0,$C$11*365*O78/2000,IF($C$12>0,$C$12*365*O78*N78/2000,IF(R78=\"\",Q78*8760/2000,R78*8760/2000)))))","v":0},{"$f":"P5*O78/2000","v":0}]
[null,null,null,null,null,null,null,null,null,null,null,null,{"$f":"$C$5 & \" - Waste Oil\"","v":" - Waste Oil"},{"$f":"$N$6","v":0},{"$f":"IF(N79=0,0,LOOKUP(M79,'Emission Factors'!$A$5:$A$10,'Emission Factors'!$AJ$5:$AJ$10))","v":0},{"$f":"IF(O79=\"\",\"\",\"lb/ton\")","v":"lb/ton"},{"$f":"N79*O79","v":0},null,{"$f":"IF(N79=0,0,IF(OR(AND($C$10>0,$N$78>0),AND($C$11>0,$N$78>0),AND($C$12>0,$N$78>0)),\"\",IF($C$10>0,$C$10*O79/2000,IF($C$11>0,$C$11*365*O79/2000,IF($C$12>0,$C$12*365*O79*N79/2000,IF(R79=\"\",Q79*8760/2000,R79*8760/2000))))))","v":0},{"$f":"P6*O79/2000","v":0}]
[null,{"$f":"IF($C$4>4,\"Asphalt Plant\",\"\")","v":""},{"$f":"IF($C$4>4,\"Site 5\",\"\")","v":""},null,{"$f":"IF($C$4>4,\"Emission Point #\",\"\")","v":""},{"$f":"IF($C$4>4,\"Emission    Unit #\",\"\")","v":""},{"$f":"IF($C$4>4,\"Process\",\"\")","v":""},{"$f":"IF($C$4>4,\"Maximum Hourly     Design Rate\",\"\")","v":""},{"$f":"IF($C$4>4,('Facility Information'!G65&\" Annual Throughput\"),\"\")","v":""},null,null,null,{"$f":"$C$5 & \" - Natural Gas\"","v":" - Natural Gas"},{"$f":"$N$7","v":0},{"$f":"IF(N80=0,0,LOOKUP(M80,'Emission Factors'!$A$5:$A$10,'Emission Factors'!$AJ$5:$AJ$10))","v":0},{"$f":"IF(O80=\"\",\"\",\"lb/ton\")","v":"lb/ton"},{"$f":"N80*O80","v":0},null,{"$f":"IF(N80=0,0,IF(OR(AND($C$10>0,$N$78>0),AND($C$11>0,$N$78>0),AND($C$12>0,$N$78>0)),\"\",IF(OR(AND($C$10>0,$N$79>0),AND($C$11>0,$N$79>0),AND($C$12>0,$N$79>0)),\"\",IF($C$10>0,$C$10*O80/2000,IF($C$11>0,$C$11*365*O80/2000,IF($C$12>0,$C$12*365*O80*N80/2000,IF(R80=\"\",Q80*8760/2000,R80*8760/2000)))))))","v":0},{"$f":"P7*O80/2000","v":0}]
[null,null,null,null,null,null,null,null,null,null,null,null,"Xylene"]
[null,{"$f":"IF($C$4>4,\"Site Name\",\"\")","v":""},null,null,{"$f":"IF($C$4>4,\"Dryers, Hot Screens, Mixer\",\"\")","v":""},null,null,{"$f":"IF($C$4>4,\"(tons/hr)\",\"\")","v":""},{"$f":"IF($C$4>4,\"(tons/yr)\",\"\")","v":""},"PM2.5","PM10",null,{"$f":"IF($C$5=\"\",\"\",$C$5)","v":""},{"$f":"SUM($N$5:$N$7)","v":0},{"$f":"IF(N82=0,0,IF(M82=\"Batch Mix Plant\",0.0027,IF(M82=\"Drum Mix Plant\",0.0002)))","v":0},{"$f":"IF(O82=\"\",\"\",\"lb/ton\")","v":"lb/ton"},{"$f":"N82*O82","v":0},null,{"$f":"IF(N82=0,0,IF($C$10>0,$C$10*O82/2000,IF($C$11>0,$C$11*365*O82/2000,IF($C$12>0,$C$12*365*O82*N82/2000,IF(R82=\"\",Q82*8760/2000,R82*8760/2000)))))","v":0},{"$f":"SUM($P$5:$P$7)*O82/2000","v":0}]
[null,{"$f":"IF($C$4>4,\"County:\",\"\")","v":""},null,null,{"$f":"IF(C85=\"\",\"\",\"AP-10 EP-1\")","v":""},{"$f":"IF(C85=\"\",\"\",\"AP-10 EU-1\")","v":""},{"$f":"IF(C85=\"\",\"\",C5 & \" - \"&C85)","v":""},null,null,{"$f":"IF(C86=\"\",\"\",IF(C86=\"yes\",LOOKUP(G83,'Emission Factors'!$A$12:$A$17,'Emission Factors'!$D$12:$D$17),LOOKUP(G83,'Emission Factors'!$A$5:$A$10,'Emission Factors'!$D$5:$D$10)))","v":""},{"$f":"IF(C86=\"\",\"\",IF(C86=\"yes\",LOOKUP(G83,'Emission Factors'!$A$12:$A$17,'Emission Factors'!$F$12:$F$17),LOOKUP(G83,'Emission Factors'!$A$5:$A$10,'Emission Factors'!$F$5:$F$10)))","v":""},null,"2,2,4-Trimethylpentane"]
[null,{"$f":"IF($C$4>4,\"Production Period (Dates):\",\"\")","v":""},null,null,{"$f":"IF($C$4>4,\"Liquid Asphalt Heater\",\"\")","v":""},null,null,{"$f":"IF($C$4>4,IF(C85=\"natural gas\",\"(MMCF/hr)\",\"(gallons/hr)\"),\"\")","v":""},{"$f":"IF($C$4>4,IF(C85=\"natural gas\",\"(MMCF/yr)\",\"(gallons/yr)\"),\"\")","v":""},null,null,null,{"$f":"IF($C$5=\"\",\"\",$C$5)","v":""},{"$f":"IF(C5=\"drum mix plant\",SUM(N5:N7),0)","v":0},{"$f":"IF(N84=0,0,0.00004)","v":0},{"$f":"IF(O84=\"\",\"\",\"lb/ton\")","v":"lb/ton"},{"$f":"N84*O84","v":0},null,{"$f":"IF(N84=0,0,IF($C$10>0,$C$10*O84/2000,IF($C$11>0,$C$11*365*O84/2000,IF($C$12>0,$C$12*365*O84*N84/2000,IF(R84=\"\",Q84*8760/2000,R84*8760/2000)))))","v":0},{"$f":"IF(N84>0,SUM($P$5:$P$7)*O84/2000,0)","v":0}]
[null,{"$f":"IF($C$4>4,\"Type of Fuel Used:\",\"\")","v":""},null,null,{"$f":"IF(C85=\"\",\"\",\"AP-10 EP-2\")","v":""},{"$f":"IF(C85=\"\",\"\",\"AP-10 EU-2\")","v":""},{"$f":"IF(C85=\"\",\"\",C85& \" Fired Heater\")","v":""},null,null,null,"Controlled?",null,"Chromium Compounds"]
[null,{"$f":"IF($C$4>4,\"Is Your Operation Controlled?:\",\"\")","v":""},null,null,{"$f":"IF($C$4>4,\"Silo Filling, Truck Loadout, Aggregate Transfer\",\"\")","v":""},null,null,{"$f":"IF($C$4>4,\"(tons/hr)\",\"\")","v":""},{"$f":"IF($C$4>4,\"(tons/yr)\",\"\")","v":""},null,{"$f":"IF(OR(C26=\"yes\",C41=\"yes\",C71=\"yes\",C86=\"yes\",C101=\"yes\",C116=\"yes\",C131=\"yes\",C146=\"yes\",C161=\"yes\"),1,0)","v":0},null,{"$f":"IF($C$5=\"\",\"\",$C$5)","v":""},{"$f":"IF(C5=\"drum mix plant\",SUM(N5:N6),0)","v":0},{"$f":"IF(N86=0,0,IF($K$86=1,0.0000055,0.000024))","v":0},{"$f":"IF(O86=\"\",\"\",\"lb/ton\")","v":"lb/ton"},{"$f":"IF($K$86=1,\"\",N86*O86)","v":0},{"$f":"IF($K$86=1,N86*O86,\"\")","v":""},{"$f":"IF(N86=0,0,IF($C$10>0,$C$10*O86/2000,IF($C$11>0,$C$11*365*O86/2000,IF($C$12>0,$C$12*365*O86*N86/2000,IF(R86=\"\",Q86*8760/2000,R86*8760/2000)))))","v":0},{"$f":"IF(N86>0,$P$5*O86/2000,0)","v":0}]
[null,null,null,null,{"$f":"IF($C$4>4,\"AP-10 EP-3\",\"\")","v":""},{"$f":"IF($C$4>4,\"AP-10 EU-3\",\"\")","v":""},{"$f":"IF($C$4>4,\"Silo Filling\",\"\")","v":""},null,null,null,null,null,"Lead Compounds"]
[null,null,null,null,{"$f":"IF($C$4>4,\"AP-10 EP-3\",\"\")","v":""},{"$f":"IF($C$4>4,\"AP-10 EU-4\",\"\")","v":""},{"$f":"IF($C$4>4,\"Truck Loadout\",\"\")","v":""},null,null,null,null,null,{"$f":"IF($C$5=\"\",\"\",$C$5)","v":""},{"$f":"IF(C5=\"drum mix plant\",SUM(N5:N6),0)","v":0},{"$f":"IF(N88=0,0,IF($K$86=1,0.000015,0.00054))","v":0},{"$f":"IF(O88=\"\",\"\",\"lb/ton\")","v":"lb/ton"},{"$f":"IF($K$86=1,\"\",N88*O88)","v":0},{"$f":"IF($K$86=1,N88*O88,\"\")","v":""},{"$f":"IF(N88=0,0,IF($C$10>0,$C$10*O88/2000,IF($C$11>0,$C$11*365*O88/2000,IF($C$12>0,$C$12*365*O88*N88/2000,IF(R88=\"\",Q88*8760/2000,R88*8760/2000)))))","v":0},{"$f":"IF(N88>0,$P$5*O88/2000,0)","v":0}]
[null,null,null,null,{"$f":"IF($C$4>4,\"AP-10 EP-3\",\"\")","v":""},{"$f":"IF($C$4>4,\"AP-10 EU-5\",\"\")","v":""},{"$f":"IF($C$4>4,\"Cold Aggregate Bins\",\"\")","v":""},null,null,null,null,null,"Manganese Compounds"]
[null,null,null,null,null,null,null,null,null,null,null,null,{"$f":"IF($C$5=\"\",\"\",$C$5)","v":""},{"$f":"IF(C5=\"drum mix plant\",SUM(N5:N6),0)","v":0},{"$f":"IF(N90=0,0,IF($K$86=1,0.0000077,0.00065))","v":0},{"$f":"IF(O90=\"\",\"\",\"lb/ton\")","v":"lb/ton"},0,{"$f":"IF($K$86=1,N90*O90,\"\")","v":""},{"$f":"IF(N90=0,0,IF($C$10>0,$C$10*O90/2000,IF($C$11>0,$C$11*365*O90/2000,IF($C$12>0,$C$12*365*O90*N90/2000,IF(R90=\"\",Q90*8760/2000,R90*8760/2000)))))","v":0},{"$f":"IF(N90>0,$P$5*O90/2000,0)","v":0}]
[null,null,null,null,{"$f":"IF($C$4>4,\"Stock Pile Area\",\"\")","v":""},null,null,null,null,null,null,null,"Nickel Compounds"]
[null,null,null,null,null,{"$f":"IF($C$4>4,\"Emission Unit #\",\"\")","v":""},{"$f":"IF($C$4>4,\"Maximum Storage Area (acres)\",\"\")","v":""},{"$f":"IF($C$4>4,\"Actual Storage Area (acres)\",\"\")","v":""},{"$f":"IF($C$4>4,\"Actual Days in Existence (days)\",\"\")","v":""},null,null,null,{"$f":"$C$5 & \" - Fuel Oil\"","v":" - Fuel Oil"},{"$f":"IF(C5=\"drum mix plant\",N5,0)","v":0},{"$f":"IF(N92=0,0,IF($K$86=1,0.000015,0.0013))","v":0},{"$f":"IF(O92=\"\",\"\",\"lb/ton\")","v":"lb/ton"},0,{"$f":"IF($K$86=1,N92*O92,\"\")","v":""},{"$f":"IF(N92=0,0,IF($C$10>0,$C$10*O92/2000,IF($C$11>0,$C$11*365*O92/2000,IF($C$12>0,$C$12*365*O92*N92/2000,IF(R92=\"\",Q92*8760/2000,R92*8760/2000)))))","v":0},{"$f":"IF(N92>0,$P$5*O92/2000,0)","v":0}]
[null,null,null,null,null,null,null,null,null,null,null,null,{"$f":"$C$5 & \" - Waste Oil\"","v":" - Waste Oil"},{"$f":"IF(C5=\"drum mix plant\",N6,0)","v":0},{"$f":"IF(N93=0,0,IF($K$86=1,0.000015,0.0013))","v":0},{"$f":"IF(O93=\"\",\"\",\"lb/ton\")","v":"lb/ton"},0,{"$f":"IF($K$86=1,N93*O93,\"\")","v":""},{"$f":"IF(N93=0,0,IF($C$10>0,$C$10*O93/2000,IF($C$11>0,$C$11*365*O93/2000,IF($C$12>0,$C$12*365*O93*N93/2000,IF(R93=\"\",Q93*8760/2000,R93*8760/2000)))))","v":0},{"$f":"IF(N93>0,$P$6*O93/2000,0)","v":0}]
[null,null,null,null,null,null,null,null,null,null,null,null,{"$f":"$C$5 & \" - Natural Gas\"","v":" - Natural Gas"},{"$f":"IF(C5=\"drum mix plant\",N7,0)","v":0},{"$f":"IF(N94=0,0,IF($K$86=1,0.000063,0.00063))","v":0},{"$f":"IF(O94=\"\",\"\",\"lb/ton\")","v":"lb/ton"},{"$f":"IF($K$86=1,\"\",N94*O94)","v":0},{"$f":"IF($K$86=1,N94*O94,\"\")","v":""},{"$f":"IF(N94=0,0,IF($C$10>0,$C$10*O94/2000,IF($C$11>0,$C$11*365*O94/2000,IF($C$12>0,$C$12*365*O94*N94/2000,IF(R94=\"\",Q94*8760/2000,R94*8760/2000)))))","v":0},{"$f":"IF(N94>0,$P$7*O94/2000,0)","v":0}]
[null,{"$f":"IF($C$4>5,\"Asphalt Plant\",\"\")","v":""},{"$f":"IF($C$4>5,\"Site 6\",\"\")","v":""},null,{"$f":"IF($C$4>5,\"Emission Point #\",\"\")","v":""},{"$f":"IF($C$4>5,\"Emission    Unit #\",\"\")","v":""},{"$f":"IF($C$4>5,\"Process\",\"\")","v":""},{"$f":"IF($C$4>5,\"Maximum Hourly     Design Rate\",\"\")","v":""},{"$f":"IF($C$4>5,('Facility Information'!G80&\" Annual Throughput\"),\"\")","v":""}]
[]
[null,{"$f":"IF($C$4>5,\"Site Name\",\"\")","v":""},null,null,{"$f":"IF($C$4>5,\"Dryers, Hot Screens, Mixer\",\"\")","v":""},null,null,{"$f":"IF($C$4>5,\"(tons/hr)\",\"\")","v":""},{"$f":"IF($C$4>5,\"(tons/yr)\",\"\")","v":""},"PM2.5","PM10"]
[null,{"$f":"IF($C$4>5,\"County:\",\"\")","v":""},null,null,{"$f":"IF(C100=\"\",\"\",\"AP-10 EP-1\")","v":""},{"$f":"IF(C100=\"\",\"\",\"AP-10 EU-1\")","v":""},{"$f":"IF(C100=\"\",\"\",C5 & \" - \"&C100)","v":""},null,null,{"$f":"IF(C101=\"\",\"\",IF(C101=\"yes\",LOOKUP(G98,'Emission Factors'!$A$12:$A$17,'Emission Factors'!$D$12:$D$17),LOOKUP(G98,'Emission Factors'!$A$5:$A$10,'Emission Factors'!$D$5:$D$10)))","v":""},{"$f":"IF(C101=\"\",\"\",IF(C101=\"yes\",LOOKUP(G98,'Emission Factors'!$A$12:$A$17,'Emission Factors'!$F$12:$F$17),LOOKUP(G98,'Emission Factors'!$A$5:$A$10,'Emission Factors'!$F$5:$F$10)))","v":""}]
[null,{"$f":"IF($C$4>5,\"Production Period (Dates):\",\"\")","v":""},null,null,{"$f":"IF($C$4>5,\"Liquid Asphalt Heater\",\"\")","v":""},null,null,{"$f":"IF($C$4>5,IF(C100=\"natural gas\",\"(MMCF/hr)\",\"(gallons/hr)\"),\"\")","v":""},{"$f":"IF($C$4>5,IF(C100=\"natural gas\",\"(MMCF/yr)\",\"(gallons/yr)\"),\"\")","v":""}]
[null,{"$f":"IF($C$4>5,\"Type of Fuel Used:\",\"\")","v":""},null,null,{"$f":"IF(C100=\"\",\"\",\"AP-10 EP-2\")","v":""},{"$f":"IF(C100=\"\",\"\",\"AP-10 EU-2\")","v":""},{"$f":"IF(C100=\"\",\"\",C100& \" Fired Heater\")","v":""}]
[null,{"$f":"IF($C$4>5,\"Is Your Operation Controlled?:\",\"\")","v":""},null,null,{"$f":"IF($C$4>5,\"Silo Filling, Truck Loadout, Aggregate Transfer\",\"\")","v":""},null,null,{"$f":"IF($C$4>5,\"(tons/hr)\",\"\")","v":""},{"$f":"IF($C$4>5,\"(tons/yr)\",\"\")","v":""}]
[null,null,null,null,{"$f":"IF($C$4>5,\"AP-10 EP-3\",\"\")","v":""},{"$f":"IF($C$4>5,\"AP-10 EU-3\",\"\")","v":""},{"$f":"IF($C$4>5,\"Silo Filling\",\"\")","v":""}]
[null,null,null,null,{"$f":"IF($C$4>5,\"AP-10 EP-3\",\"\")","v":""},{"$f":"IF($C$4>5,\"AP-10 EU-4\",\"\")","v":""},{"$f":"IF($C$4>5,\"Truck Loadout\",\"\")","v":""}]
[null,null,null,null,{"$f":"IF($C$4>5,\"AP-10 EP-3\",\"\")","v":""},{"$f":"IF($C$4>5,\"AP-10 EU-5\",\"\")","v":""},{"$f":"IF($C$4>5,\"Cold Aggregate Bins\",\"\")","v":""}]
[]
[null,null,null,null,{"$f":"IF($C$4>5,\"Stock Pile Area\",\"\")","v":""}]
[null,null,null,null,null,{"$f":"IF($C$4>5,\"Emission Unit #\",\"\")","v":""},{"$f":"IF($C$4>5,\"Maximum Storage Area (acres)\",\"\")","v":""},{"$f":"IF($C$4>5,\"Actual Storage Area (acres)\",\"\")","v":""},{"$f":"IF($C$4>5,\"Actual Days in Existence (days)\",\"\")","v":""}]
[]
[]
[null,{"$f":"IF($C$4>6,\"Asphalt Plant\",\"\")","v":""},{"$f":"IF($C$4>6,\"Site 7\",\"\")","v":""},null,{"$f":"IF($C$4>6,\"Emission Point #\",\"\")","v":""},{"$f":"IF($C$4>6,\"Emission    Unit #\",\"\")","v":""},{"$f":"IF($C$4>6,\"Process\",\"\")","v":""},{"$f":"IF($C$4>6,\"Maximum Hourly     Design Rate\",\"\")","v":""},{"$f":"IF($C$4>6,('Facility Information'!G95&\" Annual Throughput\"),\"\")","v":""}]
[]
[null,{"$f":"IF($C$4>6,\"Site Name\",\"\")","v":""},null,null,{"$f":"IF($C$4>6,\"Dryers, Hot Screens, Mixer\",\"\")","v":""},null,null,{"$f":"IF($C$4>6,\"(tons/hr)\",\"\")","v":""},{"$f":"IF($C$4>6,\"(tons/yr)\",\"\")","v":""},"PM2.5","PM10"]
[null,{"$f":"IF($C$4>6,\"County:\",\"\")","v":""},null,null,{"$f":"IF(C115=\"\",\"\",\"AP-10 EP-1\")","v":""},{"$f":"IF(C115=\"\",\"\",\"AP-10 EU-1\")","v":""},{"$f":"IF(C115=\"\",\"\",C5 & \" - \"&C115)","v":""},null,null,{"$f":"IF(C116=\"\",\"\",IF(C116=\"yes\",LOOKUP(G113,'Emission Factors'!$A$12:$A$17,'Emission Factors'!$D$12:$D$17),LOOKUP(G113,'Emission Factors'!$A$5:$A$10,'Emission Factors'!$D$5:$D$10)))","v":""},{"$f":"IF(C116=\"\",\"\",IF(C116=\"yes\",LOOKUP(G113,'Emission Factors'!$A$12:$A$17,'Emission Factors'!$F$12:$F$17),LOOKUP(G113,'Emission Factors'!$A$5:$A$10,'Emission Factors'!$F$5:$F$10)))","v":""}]
[null,{"$f":"IF($C$4>6,\"Production Period (Dates):\",\"\")","v":""},null,null,{"$f":"IF($C$4>6,\"Liquid Asphalt Heater\",\"\")","v":""},null,null,{"$f":"IF($C$4>6,IF(C115=\"natural gas\",\"(MMCF/hr)\",\"(gallons/hr)\"),\"\")","v":""},{"$f":"IF($C$4>6,IF(C115=\"natural gas\",\"(MMCF/yr)\",\"(gallons/yr)\"),\"\")","v":""}]
[null,{"$f":"IF($C$4>6,\"Type of Fuel Used:\",\"\")","v":""},null,null,{"$f":"IF(C115=\"\",\"\",\"AP-10 EP-2\")","v":""},{"$f":"IF(C115=\"\",\"\",\"AP-10 EU-2\")","v":""},{"$f":"IF(C115=\"\",\"\",C115& \" Fired Heater\")","v":""}]
[null,{"$f":"IF($C$4>6,\"Is Your Operation Controlled?:\",\"\")","v":""},null,null,{"$f":"IF($C$4>6,\"Silo Filling, Truck Loadout, Aggregate Transfer\",\"\")","v":""},null,null,{"$f":"IF($C$4>6,\"(tons/hr)\",\"\")","v":""},{"$f":"IF($C$4>6,\"(tons/yr)\",\"\")","v":""}]
[null,null,null,null,{"$f":"IF($C$4>6,\"AP-10 EP-3\",\"\")","v":""},{"$f":"IF($C$4>6,\"AP-10 EU-3\",\"\")","v":""},{"$f":"IF($C$4>6,\"Silo Filling\",\"\")","v":""}]
[null,null,null,null,{"$f":"IF($C$4>6,\"AP-10 EP-3\",\"\")","v":""},{"$f":"IF($C$4>6,\"AP-10 EU-4\",\"\")","v":""},{"$f":"IF($C$4>6,\"Truck Loadout\",\"\")","v":""}]
[null,null,null,null,{"$f":"IF($C$4>6,\"AP-10 EP-3\",\"\")","v":""},{"$f":"IF($C$4>6,\"AP-10 EU-5\",\"\")","v":""},{"$f":"IF($C$4>6,\"Cold Aggregate Bins\",\"\")","v":""}]
[]
[null,null,null,null,{"$f":"IF($C$4>6,\"Stock Pile Area\",\"\")","v":""}]
[null,null,null,null,null,{"$f":"IF($C$4>6,\"Emission Unit #\",\"\")","v":""},{"$f":"IF($C$4>6,\"Maximum Storage Area (acres)\",\"\")","v":""},{"$f":"IF($C$4>6,\"Actual Storage Area (acres)\",\"\")","v":""},{"$f":"IF($C$4>6,\"Actual Days in Existence (days)\",\"\")","v":""}]
[]
[]
[null,{"$f":"IF($C$4>7,\"Asphalt Plant\",\"\")","v":""},{"$f":"IF($C$4>7,\"Site 8\",\"\")","v":""},null,{"$f":"IF($C$4>7,\"Emission Point #\",\"\")","v":""},{"$f":"IF($C$4>7,\"Emission    Unit #\",\"\")","v":""},{"$f":"IF($C$4>7,\"Process\",\"\")","v":""},{"$f":"IF($C$4>7,\"Maximum Hourly     Design Rate\",\"\")","v":""},{"$f":"IF($C$4>7,('Facility Information'!G110&\" Annual Throughput\"),\"\")","v":""}]
[]
[null,{"$f":"IF($C$4>7,\"Site Name\",\"\")","v":""},null,null,{"$f":"IF($C$4>7,\"Dryers, Hot Screens, Mixer\",\"\")","v":""},null,null,{"$f":"IF($C$4>7,\"(tons/hr)\",\"\")","v":""},{"$f":"IF($C$4>7,\"(tons/yr)\",\"\")","v":""},"PM2.5","PM10"]
[null,{"$f":"IF($C$4>7,\"County:\",\"\")","v":""},null,null,{"$f":"IF(C130=\"\",\"\",\"AP-10 EP-1\")","v":""},{"$f":"IF(C130=\"\",\"\",\"AP-10 EU-1\")","v":""},{"$f":"IF(C130=\"\",\"\",C5 & \" - \"&C130)","v":""},null,null,{"$f":"IF(C131=\"\",\"\",IF(C131=\"yes\",LOOKUP(G128,'Emission Factors'!$A$12:$A$17,'Emission Factors'!$D$12:$D$17),LOOKUP(G128,'Emission Factors'!$A$5:$A$10,'Emission Factors'!$D$5:$D$10)))","v":""},{"$f":"IF(C131=\"\",\"\",IF(C131=\"yes\",LOOKUP(G128,'Emission Factors'!$A$12:$A$17,'Emission Factors'!$F$12:$F$17),LOOKUP(G128,'Emission Factors'!$A$5:$A$10,'Emission Factors'!$F$5:$F$10)))","v":""}]
[null,{"$f":"IF($C$4>7,\"Production Period (Dates):\",\"\")","v":""},null,null,{"$f":"IF($C$4>7,\"Liquid Asphalt Heater\",\"\")","v":""},null,null,{"$f":"IF($C$4>7,IF(C130=\"natural gas\",\"(MMCF/hr)\",\"(gallons/hr)\"),\"\")","v":""},{"$f":"IF($C$4>7,IF(C130=\"natural gas\",\"(MMCF/yr)\",\"(gallons/yr)\"),\"\")","v":""}]
[null,{"$f":"IF($C$4>7,\"Type of Fuel Used:\",\"\")","v":""},null,null,{"$f":"IF(C130=\"\",\"\",\"AP-10 EP-2\")","v":""},{"$f":"IF(C130=\"\",\"\",\"AP-10 EU-2\")","v":""},{"$f":"IF(C130=\"\",\"\",C130& \" Fired Heater\")","v":""}]
[null,{"$f":"IF($C$4>7,\"Is Your Operation Controlled?:\",\"\")","v":""},null,null,{"$f":"IF($C$4>7,\"Silo Filling, Truck Loadout, Aggregate Transfer\",\"\")","v":""},null,null,{"$f":"IF($C$4>7,\"(tons/hr)\",\"\")","v":""},{"$f":"IF($C$4>7,\"(tons/yr)\",\"\")","v":""}]
[null,null,null,null,{"$f":"IF($C$4>7,\"AP-10 EP-3\",\"\")","v":""},{"$f":"IF($C$4>7,\"AP-10 EU-3\",\"\")","v":""},{"$f":"IF($C$4>7,\"Silo Filling\",\"\")","v":""}]
[null,null,null,null,{"$f":"IF($C$4>7,\"AP-10 EP-3\",\"\")","v":""},{"$f":"IF($C$4>7,\"AP-10 EU-4\",\"\")","v":""},{"$f":"IF($C$4>7,\"Truck Loadout\",\"\")","v":""}]
[null,null,null,null,{"$f":"IF($C$4>7,\"AP-10 EP-3\",\"\")","v":""},{"$f":"IF($C$4>7,\"AP-10 EU-5\",\"\")","v":""},{"$f":"IF($C$4>7,\"Cold Aggregate Bins\",\"\")","v":""}]
[]
[null,null,null,null,{"$f":"IF($C$4>7,\"Stock Pile Area\",\"\")","v":""}]
[null,null,null,null,null,{"$f":"IF($C$4>7,\"Emission Unit #\",\"\")","v":""},{"$f":"IF($C$4>7,\"Maximum Storage Area (acres)\",\"\")","v":""},{"$f":"IF($C$4>7,\"Actual Storage Area (acres)\",\"\")","v":""},{"$f":"IF($C$4>7,\"Actual Days in Existence (days)\",\"\")","v":""}]
[]
[]
[null,{"$f":"IF($C$4>8,\"Asphalt Plant\",\"\")","v":""},{"$f":"IF($C$4>8,\"Site 9\",\"\")","v":""},null,{"$f":"IF($C$4>8,\"Emission Point #\",\"\")","v":""},{"$f":"IF($C$4>8,\"Emission    Unit #\",\"\")","v":""},{"$f":"IF($C$4>8,\"Process\",\"\")","v":""},{"$f":"IF($C$4>8,\"Maximum Hourly     Design Rate\",\"\")","v":""},{"$f":"IF($C$4>8,('Facility Information'!G125&\" Annual Throughput\"),\"\")","v":""}]
[]
[null,{"$f":"IF($C$4>8,\"Site Name\",\"\")","v":""},null,null,{"$f":"IF($C$4>8,\"Dryers, Hot Screens, Mixer\",\"\")","v":""},null,null,{"$f":"IF($C$4>8,\"(tons/hr)\",\"\")","v":""},{"$f":"IF($C$4>8,\"(tons/yr)\",\"\")","v":""},"PM2.5","PM10"]
[null,{"$f":"IF($C$4>8,\"County:\",\"\")","v":""},null,null,{"$f":"IF(C145=\"\",\"\",\"AP-10 EP-1\")","v":""},{"$f":"IF(C145=\"\",\"\",\"AP-10 EU-1\")","v":""},{"$f":"IF(C145=\"\",\"\",C5 & \" - \"&C145)","v":""},null,null,{"$f":"IF(C146=\"\",\"\",IF(C146=\"yes\",LOOKUP(G143,'Emission Factors'!$A$12:$A$17,'Emission Factors'!$D$12:$D$17),LOOKUP(G143,'Emission Factors'!$A$5:$A$10,'Emission Factors'!$D$5:$D$10)))","v":""},{"$f":"IF(C146=\"\",\"\",IF(C146=\"yes\",LOOKUP(G143,'Emission Factors'!$A$12:$A$17,'Emission Factors'!$F$12:$F$17),LOOKUP(G143,'Emission Factors'!$A$5:$A$10,'Emission Factors'!$F$5:$F$10)))","v":""}]
[null,{"$f":"IF($C$4>8,\"Production Period (Dates):\",\"\")","v":""},null,null,{"$f":"IF($C$4>8,\"Liquid Asphalt Heater\",\"\")","v":""},null,null,{"$f":"IF($C$4>8,IF(C145=\"natural gas\",\"(MMCF/hr)\",\"(gallons/hr)\"),\"\")","v":""},{"$f":"IF($C$4>8,IF(C145=\"natural gas\",\"(MMCF/yr)\",\"(gallons/yr)\"),\"\")","v":""}]
[null,{"$f":"IF($C$4>8,\"Type of Fuel Used:\",\"\")","v":""},null,null,{"$f":"IF(C145=\"\",\"\",\"AP-10 EP-2\")","v":""},{"$f":"IF(C145=\"\",\"\",\"AP-10 EU-2\")","v":""},{"$f":"IF(C145=\"\",\"\",C145& \" Fired Heater\")","v":""}]
[null,{"$f":"IF($C$4>8,\"Is Your Operation Controlled?:\",\"\")","v":""},null,null,{"$f":"IF($C$4>8,\"Silo Filling, Truck Loadout, Aggregate Transfer\",\"\")","v":""},null,null,{"$f":"IF($C$4>8,\"(tons/hr)\",\"\")","v":""},{"$f":"IF($C$4>8,\"(tons/yr)\",\"\")","v":""}]
[null,null,null,null,{"$f":"IF($C$4>8,\"AP-10 EP-3\",\"\")","v":""},{"$f":"IF($C$4>8,\"AP-10 EU-3\",\"\")","v":""},{"$f":"IF($C$4>8,\"Silo Filling\",\"\")","v":""}]
[null,null,null,null,{"$f":"IF($C$4>8,\"AP-10 EP-3\",\"\")","v":""},{"$f":"IF($C$4>8,\"AP-10 EU-4\",\"\")","v":""},{"$f":"IF($C$4>8,\"Truck Loadout\",\"\")","v":""}]
[null,null,null,null,{"$f":"IF($C$4>8,\"AP-10 EP-3\",\"\")","v":""},{"$f":"IF($C$4>8,\"AP-10 EU-5\",\"\")","v":""},{"$f":"IF($C$4>8,\"Cold Aggregate Bins\",\"\")","v":""}]
[]
[null,null,null,null,{"$f":"IF($C$4>8,\"Stock Pile Area\",\"\")","v":""}]
[null,null,null,null,null,{"$f":"IF($C$4>8,\"Emission Unit #\",\"\")","v":""},{"$f":"IF($C$4>8,\"Maximum Storage Area (acres)\",\"\")","v":""},{"$f":"IF($C$4>8,\"Actual Storage Area (acres)\",\"\")","v":""},{"$f":"IF($C$4>8,\"Actual Days in Existence (days)\",\"\")","v":""}]
[]
[]
[null,{"$f":"IF($C$4>9,\"Asphalt Plant\",\"\")","v":""},{"$f":"IF($C$4>9,\"Site 10\",\"\")","v":""},null,{"$f":"IF($C$4>9,\"Emission Point #\",\"\")","v":""},{"$f":"IF($C$4>9,\"Emission    Unit #\",\"\")","v":""},{"$f":"IF($C$4>9,\"Process\",\"\")","v":""},{"$f":"IF($C$4>9,\"Maximum Hourly     Design Rate\",\"\")","v":""},{"$f":"IF($C$4>9,('Facility Information'!G140&\" Annual Throughput\"),\"\")","v":""}]
[]
[null,{"$f":"IF($C$4>9,\"Site Name\",\"\")","v":""},null,null,{"$f":"IF($C$4>9,\"Dryers, Hot Screens, Mixer\",\"\")","v":""},null,null,{"$f":"IF($C$4>9,\"(tons/hr)\",\"\")","v":""},{"$f":"IF($C$4>9,\"(tons/yr)\",\"\")","v":""},"PM2.5","PM10"]
[null,{"$f":"IF($C$4>9,\"County:\",\"\")","v":""},null,null,{"$f":"IF(C160=\"\",\"\",\"AP-10 EP-1\")","v":""},{"$f":"IF(C160=\"\",\"\",\"AP-10 EU-1\")","v":""},{"$f":"IF(C160=\"\",\"\",C5 & \" - \"&C160)","v":""},null,null,{"$f":"IF(C161=\"\",\"\",IF(C161=\"yes\",LOOKUP(G158,'Emission Factors'!$A$12:$A$17,'Emission Factors'!$D$12:$D$17),LOOKUP(G158,'Emission Factors'!$A$5:$A$10,'Emission Factors'!$D$5:$D$10)))","v":""},{"$f":"IF(C161=\"\",\"\",IF(C161=\"yes\",LOOKUP(G158,'Emission Factors'!$A$12:$A$17,'Emission Factors'!$F$12:$F$17),LOOKUP(G158,'Emission Factors'!$A$5:$A$10,'Emission Factors'!$F$5:$F$10)))","v":""}]
[null,{"$f":"IF($C$4>9,\"Production Period (Dates):\",\"\")","v":""},null,null,{"$f":"IF($C$4>9,\"Liquid Asphalt Heater\",\"\")","v":""},null,null,{"$f":"IF($C$4>9,IF(C160=\"natural gas\",\"(MMCF/hr)\",\"(gallons/hr)\"),\"\")","v":""},{"$f":"IF($C$4>9,IF(C160=\"natural gas\",\"(MMCF/yr)\",\"(gallons/yr)\"),\"\")","v":""}]
[null,{"$f":"IF($C$4>9,\"Type of Fuel Used:\",\"\")","v":""},null,null,{"$f":"IF(C160=\"\",\"\",\"AP-10 EP-2\")","v":""},{"$f":"IF(C160=\"\",\"\",\"AP-10 EU-2\")","v":""},{"$f":"IF(C160=\"\",\"\",C160& \" Fired Heater\")","v":""}]
[null,{"$f":"IF($C$4>9,\"Is Your Operation Controlled?:\",\"\")","v":""},null,null,{"$f":"IF($C$4>9,\"Silo Filling, Truck Loadout, Aggregate Transfer\",\"\")","v":""},null,null,{"$f":"IF($C$4>9,\"(tons/hr)\",\"\")","v":""},{"$f":"IF($C$4>9,\"(tons/yr)\",\"\")","v":""}]
[null,null,null,null,{"$f":"IF($C$4>9,\"AP-10 EP-3\",\"\")","v":""},{"$f":"IF($C$4>9,\"AP-10 EU-3\",\"\")","v":""},{"$f":"IF($C$4>9,\"Silo Filling\",\"\")","v":""}]
[null,null,null,null,{"$f":"IF($C$4>9,\"AP-10 EP-3\",\"\")","v":""},{"$f":"IF($C$4>9,\"AP-10 EU-4\",\"\")","v":""},{"$f":"IF($C$4>9,\"Truck Loadout\",\"\")","v":""}]
[null,null,null,null,{"$f":"IF($C$4>9,\"AP-10 EP-3\",\"\")","v":""},{"$f":"IF($C$4>9,\"AP-10 EU-5\",\"\")","v":""},{"$f":"IF($C$4>9,\"Cold Aggregate Bins\",\"\")","v":""}]
[]
[null,null,null,null,{"$f":"IF($C$4>9,\"Stock Pile Area\",\"\")","v":""}]
[null,null,null,null,null,{"$f":"IF($C$4>9,\"Emission Unit #\",\"\")","v":""},{"$f":"IF($C$4>9,\"Maximum Storage Area (acres)\",\"\")","v":""},{"$f":"IF($C$4>9,\"Actual Storage Area (acres)\",\"\")","v":""},{"$f":"IF($C$4>9,\"Actual Days in Existence (days)\",\"\")","v":""}]

{"sheet":"Haul Roads","index":11,"n_rows":50,"n_cols":41,"rows_kept":50,"cut":false,"hidden":false,"merged":[[6,37,6,38],[6,39,6,40],[4,28,7,28],[4,29,7,29],[4,4,7,4],[4,23,7,23],[4,22,7,22],[4,21,7,21],[4,26,7,26],[4,27,7,27],[4,24,7,24],[4,6,5,7],[4,5,7,5],[4,11,7,11],[4,8,7,8],[4,9,7,9],[4,25,7,25],[4,17,7,17],[4,18,7,18],[4,19,7,19],[6,13,7,13],[4,20,7,20],[4,15,7,15],[4,16,7,16],[6,14,7,14],[4,3,7,3],[4,12,5,14],[6,12,7,12],[4,1,7,1],[1,1,1,5],[4,10,7,10],[6,6,7,6],[6,7,7,7],[4,2,7,2]]}
[null,"HAUL ROADS"]
[null,"Please fill in the yellow boxes as applicable for your facility. "]
["** As of 2016 Potential Emissions are no longer required to be reported in the Minor Source Emissions Inventory**","** As of 2016 Potential Emissions are no longer required to be reported in the Minor Source Emissions Inventory**"]
[]
[null,"Paved or Unpaved Haul Road","Emission Point Number","Emission Unit Number","Asphalt Plant Number              (i.e., AP-1)","Site Name","Average Vehicle     Weight (tons)",null,"Percent of Miles Vehicles Travel While Empty (%)","Average Vehicle Weight (tons) W","Average Load Weight (tons)","Round Trip Length of Haul Road (miles)","Annual Throughput (tons/yr)",null,null,"Potential One-Way Trips Taken","Actual One-Way Trips Taken","Road Surface Silt Loading (g/m2) S/sL","Days/Year with at least 0.01 inches of Precipitation P","Is dust supressant used to control emissions?","PM2.5 Emission Factor (lb/vmt)","Potential Emissions (lb/hr)","Potential Controlled Emissions (lb/hr)","Potential Emissions (tons/yr)","Actual Emissions (tons/yr)","PM10 Emission Factor (lb/vmt)","Potential Emissions (lb/hr)","Potential Controlled Emissions (lb/hr)","Potential Emissions (tons/yr)","Actual Emissions (tons/yr)"]
[]
[null,null,null,null,null,null,"Empty (unloaded)","Full (loaded)",null,null,null,null,"Permit Limit","Maximum ","Annual",null,null,null,null,null,null,null,null,null,null,null,null,null,null,null,null,"PM2.5",null,"PM10",null,null,null,"PM2.5",null,"PM10"]
[null,null,null,null,null,null,null,null,null,null,null,null,null,null,null,null,null,null,null,null,null,null,null,null,null,null,null,null,null,null,null,"Unpaved","Paved","Unpaved","Paved",null,null,"Potential tpy","Actual tpy","Potential tpy","Actual tpy"]
["Paved Haul Road",null,null,null,null,null,null,null,null,{"$f":"IF(G9=\"\",\"\",(G9*(I9/100)+H9*(1-(I9/100))))","v":""},{"$f":"IF(G9=\"\",\"\",H9-G9)","v":""},null,{"$f":"IF(E9=\"\",\"\",IF(E9=\"AP-1\",IF('Asphalt Plant (AP-1)'!$C$10>0,'Asphalt Plant (AP-1)'!$C$10,IF('Asphalt Plant (AP-1)'!$C$11>0,'Asphalt Plant (AP-1)'!$C$11*365,\"\")),IF(E9=\"AP-2\",IF(E9=\"AP-2\",IF('Asphalt Plant (AP-2)'!$C$10>0,'Asphalt Plant (AP-2)'!$C$10,IF('Asphalt Plant (AP-2)'!$C$11>0,'Asphalt Plant (AP-2)'!$C$11*365,\"\"))),IF(E9=\"AP-3\",IF(E9=\"AP-3\",IF('Asphalt Plant (AP-3)'!$C$10>0,'Asphalt Plant (AP-3)'!$C$10,IF('Asphalt Plant (AP-3)'!$C$11>0,'Asphalt Plant (AP-3)'!$C$11*365,\"\"))),IF(E9=\"AP-4\",IF(E9=\"AP-4\",IF('Asphalt Plant (AP-4)'!$C$10>0,'Asphalt Plant (AP-4)'!$C$10,IF('Asphalt Plant (AP-4)'!$C$11>0,'Asphalt Plant (AP-4)'!$C$11*365,\"\"))),IF(E9=\"AP-5\",IF(E9=\"AP-5\",IF('Asphalt Plant (AP-5)'!$C$10>0,'Asphalt Plant (AP-5)'!$C$10,IF('Asphalt Plant (AP-5)'!$C$11>0,'Asphalt Plant (AP-5)'!$C$11*365,\"\"))),IF(E9=\"AP-6\",IF(E9=\"AP-6\",IF('Asphalt Plant (AP-6)'!$C$10>0,'Asphalt Plant (AP-6)'!$C$10,IF('Asphalt Plant (AP-6)'!$C$11>0,'Asphalt Plant (AP-6)'!$C$11*365,\"\"))),IF(E9=\"AP-7\",IF(E9=\"AP-7\",IF('Asphalt Plant (AP-7)'!$C$10>0,'Asphalt Plant (AP-7)'!$C$10,IF('Asphalt Plant (AP-7)'!$C$11>0,'Asphalt Plant (AP-7)'!$C$11*365,\"\"))),IF(E9=\"AP-8\",IF(E9=\"AP-8\",IF('Asphalt Plant (AP-8)'!$C$10>0,'Asphalt Plant (AP-8)'!$C$10,IF('Asphalt Plant (AP-8)'!$C$11>0,'Asphalt Plant (AP-8)'!$C$11*365,\"\"))),IF(E9=\"AP-9\",IF(E9=\"AP-9\",IF('Asphalt Plant (AP-9)'!$C$10>0,'Asphalt Plant (AP-9)'!$C$10,IF('Asphalt Plant (AP-9)'!$C$11>0,'Asphalt Plant (AP-9)'!$C$11*365,\"\"))),IF(E9=\"AP-10\",IF(E9=\"AP-10\",IF('Asphalt Plant (AP-10)'!$C$10>0,'Asphalt Plant (AP-10)'!$C$10,IF('Asphalt Plant (AP-10)'!$C$11>0,'Asphalt Plant (AP-10)'!$C$11*365,\"\"))))))))))))))","v":""},null,null,{"$f":"IF(B9=\"\",\"\",IF(M9=\"\",N9/K9,M9/K9))","v":""},{"$f":"IF(O9=\"\",\"\",O9/K9)","v":""},{"$f":"IF(B9=\"\",\"\",IF(B9=\"Unpaved Haul Road\",10,8.2))","v":""},{"$f":"IF(B9=\"\",\"\",100)","v":""},null,{"$f":"IF(B9=\"\",\"\",IF(B9=\"unpaved haul road\",(0.15*((R9/12)^0.9)*((J9/3)^0.45)*((365-S9)/365)),((0.00054*(R9^0.91)*(J9^1.02))*(1-S9/1460))))","v":""},{"$f":"IF(B9=\"\",\"\",U9*P9*L9/8760)","v":""},{"$f":"IF(B9=\"\",\"\",IF(T9=\"yes\",V9*((100-40)/100),\"\"))","v":""},{"$f":"IF(B9=\"\",\"\",IF(W9=\"\",V9*8760/2000,W9*8760/2000))","v":""},{"$f":"IF(B9=\"\",\"\",IF(T9=\"yes\",Q9*L9*U9/2000*((100-40)/100),Q9*L9*U9/2000))","v":""},{"$f":"IF(B9=\"\",\"\",IF(B9=\"unpaved haul road\",(1.5*((R9/12)^0.9)*((J9/3)^0.45)*((365-S9)/365)),((0.0022*(R9^0.91)*(J9^1.02))*(1-S9/1460))))","v":""},{"$f":"IF(B9=\"\",\"\",Z9*P9*L9/8760)","v":""},{"$f":"IF(B9=\"\",\"\",IF(T9=\"yes\",AA9*((100-40)/100),\"\"))","v":""},{"$f":"IF(B9=\"\",\"\",IF(AB9=\"\",AA9*8760/2000,AB9*8760/2000))","v":""},{"$f":"IF(B9=\"\",\"\",IF(T9=\"yes\",Q9*L9*Z9/2000*((100-40)/100),Q9*L9*Z9/2000))","v":""},{"$f":"IF(B9=\"unpaved haul road\",\"x\",\"\")","v":""},{"$f":"IF(AND('Asphalt Plant (AP-1)'!$C$11=\"\",'Asphalt Plant (AP-1)'!$C$10=\"\"),SUMIFS($X$9:$X$38,$E$9:$E$38,\"AP-1\",$AE$9:$AE$38,\"x\"),MAX(IF($E$9:$E$38=\"AP-1\",IF($AE$9:$AE$38=\"x\",$X$9:$X$38))))","v":0},{"$f":"IF(AND('Asphalt Plant (AP-1)'!$C$11=\"\",'Asphalt Plant (AP-1)'!$C$10=\"\"),SUMIFS($X$9:$X$38,$E$9:$E$38,\"AP-1\",AE9:AE38,\"\"),MAX(IF($E$9:$E$38=\"AP-1\",IF($AE$9:$AE$38=\"\",$X$9:$X$38))))","v":0},{"$f":"IF(AND('Asphalt Plant (AP-1)'!$C$11=\"\",'Asphalt Plant (AP-1)'!$C$10=\"\"),SUMIFS($AC$9:$AC$38,$E$9:$E$38,\"AP-1\",$AE$9:$AE$38,\"x\"),MAX(IF($E$9:$E$38=\"AP-1\",IF($AE$9:$AE$38=\"x\",$AC$9:$AC$38))))","v":0},{"$f":"IF(AND('Asphalt Plant (AP-1)'!$C$11=\"\",'Asphalt Plant (AP-1)'!$C$10=\"\"),SUMIFS($AC$9:$AC$38,$E$9:$E$38,\"AP-1\",$AE$9:$AE$38,\"\"),MAX(IF($E$9:$E$38=\"AP-1\",IF($AE$9:$AE$38=\"\",$AC$9:$AC$38))))","v":0},null,"AP-1",{"$f":"IF(AND('Asphalt Plant (AP-1)'!$C$11=\"\",'Asphalt Plant (AP-1)'!$C$10=\"\"),SUMIF($E$9:$E$38,\"AP-1\",$X$9:$X$38),MAX(IF($E$9:$E$38=\"AP-1\",$X$9:$X$38)))","v":0},{"$f":"SUMIF($E$9:$E$38,\"AP-1\",$Y$9:$Y$38)","v":0},{"$f":"IF(AND('Asphalt Plant (AP-1)'!$C$11=\"\",'Asphalt Plant (AP-1)'!$C$10=\"\"),SUMIF($E$9:$E$38,\"AP-1\",$AC$9:$AC$38),MAX(IF($E$9:$E$38=\"AP-1\",$AC$9:$AC$38)))","v":0},{"$f":"SUMIF($E$9:$E438,\"AP-1\",$AD$9:$AD$38)","v":0}]
["Unpaved Haul Road",null,null,null,null,null,null,null,null,{"$f":"IF(G10=\"\",\"\",(G10*(I10/100)+H10*(1-(I10/100))))","v":""},{"$f":"IF(G10=\"\",\"\",H10-G10)","v":""},null,{"$f":"IF(E10=\"\",\"\",IF(E10=\"AP-1\",IF('Asphalt Plant (AP-1)'!$C$10>0,'Asphalt Plant (AP-1)'!$C$10,IF('Asphalt Plant (AP-1)'!$C$11>0,'Asphalt Plant (AP-1)'!$C$11*365,\"\")),IF(E10=\"AP-2\",IF(E10=\"AP-2\",IF('Asphalt Plant (AP-2)'!$C$10>0,'Asphalt Plant (AP-2)'!$C$10,IF('Asphalt Plant (AP-2)'!$C$11>0,'Asphalt Plant (AP-2)'!$C$11*365,\"\"))),IF(E10=\"AP-3\",IF(E10=\"AP-3\",IF('Asphalt Plant (AP-3)'!$C$10>0,'Asphalt Plant (AP-3)'!$C$10,IF('Asphalt Plant (AP-3)'!$C$11>0,'Asphalt Plant (AP-3)'!$C$11*365,\"\"))),IF(E10=\"AP-4\",IF(E10=\"AP-4\",IF('Asphalt Plant (AP-4)'!$C$10>0,'Asphalt Plant (AP-4)'!$C$10,IF('Asphalt Plant (AP-4)'!$C$11>0,'Asphalt Plant (AP-4)'!$C$11*365,\"\"))),IF(E10=\"AP-5\",IF(E10=\"AP-5\",IF('Asphalt Plant (AP-5)'!$C$10>0,'Asphalt Plant (AP-5)'!$C$10,IF('Asphalt Plant (AP-5)'!$C$11>0,'Asphalt Plant (AP-5)'!$C$11*365,\"\"))),IF(E10=\"AP-6\",IF(E10=\"AP-6\",IF('Asphalt Plant (AP-6)'!$C$10>0,'Asphalt Plant (AP-6)'!$C$10,IF('Asphalt Plant (AP-6)'!$C$11>0,'Asphalt Plant (AP-6)'!$C$11*365,\"\"))),IF(E10=\"AP-7\",IF(E10=\"AP-7\",IF('Asphalt Plant (AP-7)'!$C$10>0,'Asphalt Plant (AP-7)'!$C$10,IF('Asphalt Plant (AP-7)'!$C$11>0,'Asphalt Plant (AP-7)'!$C$11*365,\"\"))),IF(E10=\"AP-8\",IF(E10=\"AP-8\",IF('Asphalt Plant (AP-8)'!$C$10>0,'Asphalt Plant (AP-8)'!$C$10,IF('Asphalt Plant (AP-8)'!$C$11>0,'Asphalt Plant (AP-8)'!$C$11*365,\"\"))),IF(E10=\"AP-9\",IF(E10=\"AP-9\",IF('Asphalt Plant (AP-9)'!$C$10>0,'Asphalt Plant (AP-9)'!$C$10,IF('Asphalt Plant (AP-9)'!$C$11>0,'Asphalt Plant (AP-9)'!$C$11*365,\"\"))),IF(E10=\"AP-10\",IF(E10=\"AP-10\",IF('Asphalt Plant (AP-10)'!$C$10>0,'Asphalt Plant (AP-10)'!$C$10,IF('Asphalt Plant (AP-10)'!$C$11>0,'Asphalt Plant (AP-10)'!$C$11*365,\"\"))))))))))))))","v":""},null,null,"",{"$f":"IF(O10=\"\",\"\",O10/K10)","v":""},{"$f":"IF(B10=\"\",\"\",IF(B10=\"Unpaved Haul Road\",10,8.2))","v":""},"",null,"","","","","","","","","","","",{"$f":"IF(AND('Asphalt Plant (AP-2)'!$C$11=\"\",'Asphalt Plant (AP-2)'!$C$10=\"\"),SUMIFS($X$9:$X$38,$E$9:$E$38,\"AP-2\",$AE$9:$AE$38,\"x\"),MAX(IF($E$9:$E$38=\"AP-2\",IF($AE$9:$AE$38=\"x\",$X$9:$X$38))))","v":0},{"$f":"IF(AND('Asphalt Plant (AP-2)'!$C$11=\"\",'Asphalt Plant (AP-2)'!$C$10=\"\"),SUMIFS($X$9:$X$38,$E$9:$E$38,\"AP-2\",AE10:AE39,\"\"),MAX(IF($E$9:$E$38=\"AP-2\",IF($AE$9:$AE$38=\"\",$X$9:$X$38))))","v":0},{"$f":"IF(AND('Asphalt Plant (AP-2)'!$C$11=\"\",'Asphalt Plant (AP-2)'!$C$10=\"\"),SUMIFS($AC$9:$AC$38,$E$9:$E$38,\"AP-2\",$AE$9:$AE$38,\"x\"),MAX(IF($E$9:$E$38=\"AP-2\",IF($AE$9:$AE$38=\"x\",$AC$9:$AC$38))))","v":0},{"$f":"IF(AND('Asphalt Plant (AP-2)'!$C$11=\"\",'Asphalt Plant (AP-2)'!$C$10=\"\"),SUMIFS($AC$9:$AC$38,$E$9:$E$38,\"AP-2\",$AE$9:$AE$38,\"\"),MAX(IF($E$9:$E$38=\"AP-2\",IF($AE$9:$AE$38=\"\",$AC$9:$AC$38))))","v":0},null,"AP-2",{"$f":"IF(AND('Asphalt Plant (AP-2)'!$C$11=\"\",'Asphalt Plant (AP-2)'!$C$10=\"\"),SUMIF($E$9:$E$38,\"AP-2\",$X$9:$X$38),MAX(IF($E$9:$E$38=\"AP-2\",$X$9:$X$38)))","v":0},{"$f":"SUMIF($E$9:$E$38,\"AP-2\",$Y$9:$Y$38)","v":0},{"$f":"IF(AND('Asphalt Plant (AP-2)'!$C$11=\"\",'Asphalt Plant (AP-2)'!$C$10=\"\"),SUMIF($E$9:$E$38,\"AP-2\",$AC$9:$AC$38),MAX(IF($E$9:$E$38=\"AP-2\",$AC$9:$AC$38)))","v":0},{"$f":"SUMIF($E$9:$E439,\"AP-2\",$AD$9:$AD$38)","v":0}]
[null,null,null,null,null,null,null,null,null,"","",null,{"$f":"IF(E11=\"\",\"\",IF(E11=\"AP-1\",IF('Asphalt Plant (AP-1)'!$C$10>0,'Asphalt Plant (AP-1)'!$C$10,IF('Asphalt Plant (AP-1)'!$C$11>0,'Asphalt Plant (AP-1)'!$C$11*365,\"\")),IF(E11=\"AP-2\",IF(E11=\"AP-2\",IF('Asphalt Plant (AP-2)'!$C$10>0,'Asphalt Plant (AP-2)'!$C$10,IF('Asphalt Plant (AP-2)'!$C$11>0,'Asphalt Plant (AP-2)'!$C$11*365,\"\"))),IF(E11=\"AP-3\",IF(E11=\"AP-3\",IF('Asphalt Plant (AP-3)'!$C$10>0,'Asphalt Plant (AP-3)'!$C$10,IF('Asphalt Plant (AP-3)'!$C$11>0,'Asphalt Plant (AP-3)'!$C$11*365,\"\"))),IF(E11=\"AP-4\",IF(E11=\"AP-4\",IF('Asphalt Plant (AP-4)'!$C$10>0,'Asphalt Plant (AP-4)'!$C$10,IF('Asphalt Plant (AP-4)'!$C$11>0,'Asphalt Plant (AP-4)'!$C$11*365,\"\"))),IF(E11=\"AP-5\",IF(E11=\"AP-5\",IF('Asphalt Plant (AP-5)'!$C$10>0,'Asphalt Plant (AP-5)'!$C$10,IF('Asphalt Plant (AP-5)'!$C$11>0,'Asphalt Plant (AP-5)'!$C$11*365,\"\"))),IF(E11=\"AP-6\",IF(E11=\"AP-6\",IF('Asphalt Plant (AP-6)'!$C$10>0,'Asphalt Plant (AP-6)'!$C$10,IF('Asphalt Plant (AP-6)'!$C$11>0,'Asphalt Plant (AP-6)'!$C$11*365,\"\"))),IF(E11=\"AP-7\",IF(E11=\"AP-7\",IF('Asphalt Plant (AP-7)'!$C$10>0,'Asphalt Plant (AP-7)'!$C$10,IF('Asphalt Plant (AP-7)'!$C$11>0,'Asphalt Plant (AP-7)'!$C$11*365,\"\"))),IF(E11=\"AP-8\",IF(E11=\"AP-8\",IF('Asphalt Plant (AP-8)'!$C$10>0,'Asphalt Plant (AP-8)'!$C$10,IF('Asphalt Plant (AP-8)'!$C$11>0,'Asphalt Plant (AP-8)'!$C$11*365,\"\"))),IF(E11=\"AP-9\",IF(E11=\"AP-9\",IF('Asphalt Plant (AP-9)'!$C$10>0,'Asphalt Plant (AP-9)'!$C$10,IF('Asphalt Plant (AP-9)'!$C$11>0,'Asphalt Plant (AP-9)'!$C$11*365,\"\"))),IF(E11=\"AP-10\",IF(E11=\"AP-10\",IF('Asphalt Plant (AP-10)'!$C$10>0,'Asphalt Plant (AP-10)'!$C$10,IF('Asphalt Plant (AP-10)'!$C$11>0,'Asphalt Plant (AP-10)'!$C$11*365,\"\"))))))))))))))","v":""},null,null,"","","","",null,"","","","","","","","","","","",{"$f":"IF(AND('Asphalt Plant (AP-3)'!$C$11=\"\",'Asphalt Plant (AP-3)'!$C$10=\"\"),SUMIFS($X$9:$X$38,$E$9:$E$38,\"AP-3\",$AE$9:$AE$38,\"x\"),MAX(IF($E$9:$E$38=\"AP-3\",IF($AE$9:$AE$38=\"x\",$X$9:$X$38))))","v":0},{"$f":"IF(AND('Asphalt Plant (AP-3)'!$C$11=\"\",'Asphalt Plant (AP-3)'!$C$10=\"\"),SUMIFS($X$9:$X$38,$E$9:$E$38,\"AP-3\",AE11:AE40,\"\"),MAX(IF($E$9:$E$38=\"AP-3\",IF($AE$9:$AE$38=\"\",$X$9:$X$38))))","v":0},{"$f":"IF(AND('Asphalt Plant (AP-3)'!$C$11=\"\",'Asphalt Plant (AP-3)'!$C$10=\"\"),SUMIFS($AC$9:$AC$38,$E$9:$E$38,\"AP-3\",$AE$9:$AE$38,\"x\"),MAX(IF($E$9:$E$38=\"AP-3\",IF($AE$9:$AE$38=\"x\",$AC$9:$AC$38))))","v":0},{"$f":"IF(AND('Asphalt Plant (AP-3)'!$C$11=\"\",'Asphalt Plant (AP-3)'!$C$10=\"\"),SUMIFS($AC$9:$AC$38,$E$9:$E$38,\"AP-3\",$AE$9:$AE$38,\"\"),MAX(IF($E$9:$E$38=\"AP-3\",IF($AE$9:$AE$38=\"\",$AC$9:$AC$38))))","v":0},null,"AP-3",{"$f":"IF(AND('Asphalt Plant (AP-3)'!$C$11=\"\",'Asphalt Plant (AP-3)'!$C$10=\"\"),SUMIF($E$9:$E$38,\"AP-3\",$X$9:$X$38),MAX(IF($E$9:$E$38=\"AP-3\",$X$9:$X$38)))","v":0},{"$f":"SUMIF($E$9:$E$38,\"AP-3\",$Y$9:$Y$38)","v":0},{"$f":"IF(AND('Asphalt Plant (AP-3)'!$C$11=\"\",'Asphalt Plant (AP-3)'!$C$10=\"\"),SUMIF($E$9:$E$38,\"AP-3\",$AC$9:$AC$38),MAX(IF($E$9:$E$38=\"AP-3\",$AC$9:$AC$38)))","v":0},{"$f":"SUMIF($E$9:$E440,\"AP-3\",$AD$9:$AD$38)","v":0}]
["yes",null,null,null,null,null,null,null,null,"","",null,{"$f":"IF(E12=\"\",\"\",IF(E12=\"AP-1\",IF('Asphalt Plant (AP-1)'!$C$10>0,'Asphalt Plant (AP-1)'!$C$10,IF('Asphalt Plant (AP-1)'!$C$11>0,'Asphalt Plant (AP-1)'!$C$11*365,\"\")),IF(E12=\"AP-2\",IF(E12=\"AP-2\",IF('Asphalt Plant (AP-2)'!$C$10>0,'Asphalt Plant (AP-2)'!$C$10,IF('Asphalt Plant (AP-2)'!$C$11>0,'Asphalt Plant (AP-2)'!$C$11*365,\"\"))),IF(E12=\"AP-3\",IF(E12=\"AP-3\",IF('Asphalt Plant (AP-3)'!$C$10>0,'Asphalt Plant (AP-3)'!$C$10,IF('Asphalt Plant (AP-3)'!$C$11>0,'Asphalt Plant (AP-3)'!$C$11*365,\"\"))),IF(E12=\"AP-4\",IF(E12=\"AP-4\",IF('Asphalt Plant (AP-4)'!$C$10>0,'Asphalt Plant (AP-4)'!$C$10,IF('Asphalt Plant (AP-4)'!$C$11>0,'Asphalt Plant (AP-4)'!$C$11*365,\"\"))),IF(E12=\"AP-5\",IF(E12=\"AP-5\",IF('Asphalt Plant (AP-5)'!$C$10>0,'Asphalt Plant (AP-5)'!$C$10,IF('Asphalt Plant (AP-5)'!$C$11>0,'Asphalt Plant (AP-5)'!$C$11*365,\"\"))),IF(E12=\"AP-6\",IF(E12=\"AP-6\",IF('Asphalt Plant (AP-6)'!$C$10>0,'Asphalt Plant (AP-6)'!$C$10,IF('Asphalt Plant (AP-6)'!$C$11>0,'Asphalt Plant (AP-6)'!$C$11*365,\"\"))),IF(E12=\"AP-7\",IF(E12=\"AP-7\",IF('Asphalt Plant (AP-7)'!$C$10>0,'Asphalt Plant (AP-7)'!$C$10,IF('Asphalt Plant (AP-7)'!$C$11>0,'Asphalt Plant (AP-7)'!$C$11*365,\"\"))),IF(E12=\"AP-8\",IF(E12=\"AP-8\",IF('Asphalt Plant (AP-8)'!$C$10>0,'Asphalt Plant (AP-8)'!$C$10,IF('Asphalt Plant (AP-8)'!$C$11>0,'Asphalt Plant (AP-8)'!$C$11*365,\"\"))),IF(E12=\"AP-9\",IF(E12=\"AP-9\",IF('Asphalt Plant (AP-9)'!$C$10>0,'Asphalt Plant (AP-9)'!$C$10,IF('Asphalt Plant (AP-9)'!$C$11>0,'Asphalt Plant (AP-9)'!$C$11*365,\"\"))),IF(E12=\"AP-10\",IF(E12=\"AP-10\",IF('Asphalt Plant (AP-10)'!$C$10>0,'Asphalt Plant (AP-10)'!$C$10,IF('Asphalt Plant (AP-10)'!$C$11>0,'Asphalt Plant (AP-10)'!$C$11*365,\"\"))))))))))))))","v":""},null,null,"","","","",null,"","","","","","","","","","","",{"$f":"IF(AND('Asphalt Plant (AP-4)'!$C$11=\"\",'Asphalt Plant (AP-4)'!$C$10=\"\"),SUMIFS($X$9:$X$38,$E$9:$E$38,\"AP-4\",$AE$9:$AE$38,\"x\"),MAX(IF($E$9:$E$38=\"AP-4\",IF($AE$9:$AE$38=\"x\",$X$9:$X$38))))","v":0},{"$f":"IF(AND('Asphalt Plant (AP-4)'!$C$11=\"\",'Asphalt Plant (AP-4)'!$C$10=\"\"),SUMIFS($X$9:$X$38,$E$9:$E$38,\"AP-4\",AE12:AE41,\"\"),MAX(IF($E$9:$E$38=\"AP-4\",IF($AE$9:$AE$38=\"\",$X$9:$X$38))))","v":0},{"$f":"IF(AND('Asphalt Plant (AP-4)'!$C$11=\"\",'Asphalt Plant (AP-4)'!$C$10=\"\"),SUMIFS($AC$9:$AC$38,$E$9:$E$38,\"AP-4\",$AE$9:$AE$38,\"x\"),MAX(IF($E$9:$E$38=\"AP-4\",IF($AE$9:$AE$38=\"x\",$AC$9:$AC$38))))","v":0},{"$f":"IF(AND('Asphalt Plant (AP-4)'!$C$11=\"\",'Asphalt Plant (AP-4)'!$C$10=\"\"),SUMIFS($AC$9:$AC$38,$E$9:$E$38,\"AP-4\",$AE$9:$AE$38,\"\"),MAX(IF($E$9:$E$38=\"AP-4\",IF($AE$9:$AE$38=\"\",$AC$9:$AC$38))))","v":0},null,"AP-4",{"$f":"IF(AND('Asphalt Plant (AP-4)'!$C$11=\"\",'Asphalt Plant (AP-4)'!$C$10=\"\"),SUMIF($E$9:$E$38,\"AP-4\",$X$9:$X$38),MAX(IF($E$9:$E$38=\"AP-4\",$X$9:$X$38)))","v":0},{"$f":"SUMIF($E$9:$E$38,\"AP-4\",$Y$9:$Y$38)","v":0},{"$f":"IF(AND('Asphalt Plant (AP-4)'!$C$11=\"\",'Asphalt Plant (AP-4)'!$C$10=\"\"),SUMIF($E$9:$E$38,\"AP-4\",$AC$9:$AC$38),MAX(IF($E$9:$E$38=\"AP-4\",$AC$9:$AC$38)))","v":0},{"$f":"SUMIF($E$9:$E441,\"AP-4\",$AD$9:$AD$38)","v":0}]
["no",null,null,null,null,null,null,null,null,"","",null,{"$f":"IF(E13=\"\",\"\",IF(E13=\"AP-1\",IF('Asphalt Plant (AP-1)'!$C$10>0,'Asphalt Plant (AP-1)'!$C$10,IF('Asphalt Plant (AP-1)'!$C$11>0,'Asphalt Plant (AP-1)'!$C$11*365,\"\")),IF(E13=\"AP-2\",IF(E13=\"AP-2\",IF('Asphalt Plant (AP-2)'!$C$10>0,'Asphalt Plant (AP-2)'!$C$10,IF('Asphalt Plant (AP-2)'!$C$11>0,'Asphalt Plant (AP-2)'!$C$11*365,\"\"))),IF(E13=\"AP-3\",IF(E13=\"AP-3\",IF('Asphalt Plant (AP-3)'!$C$10>0,'Asphalt Plant (AP-3)'!$C$10,IF('Asphalt Plant (AP-3)'!$C$11>0,'Asphalt Plant (AP-3)'!$C$11*365,\"\"))),IF(E13=\"AP-4\",IF(E13=\"AP-4\",IF('Asphalt Plant (AP-4)'!$C$10>0,'Asphalt Plant (AP-4)'!$C$10,IF('Asphalt Plant (AP-4)'!$C$11>0,'Asphalt Plant (AP-4)'!$C$11*365,\"\"))),IF(E13=\"AP-5\",IF(E13=\"AP-5\",IF('Asphalt Plant (AP-5)'!$C$10>0,'Asphalt Plant (AP-5)'!$C$10,IF('Asphalt Plant (AP-5)'!$C$11>0,'Asphalt Plant (AP-5)'!$C$11*365,\"\"))),IF(E13=\"AP-6\",IF(E13=\"AP-6\",IF('Asphalt Plant (AP-6)'!$C$10>0,'Asphalt Plant (AP-6)'!$C$10,IF('Asphalt Plant (AP-6)'!$C$11>0,'Asphalt Plant (AP-6)'!$C$11*365,\"\"))),IF(E13=\"AP-7\",IF(E13=\"AP-7\",IF('Asphalt Plant (AP-7)'!$C$10>0,'Asphalt Plant (AP-7)'!$C$10,IF('Asphalt Plant (AP-7)'!$C$11>0,'Asphalt Plant (AP-7)'!$C$11*365,\"\"))),IF(E13=\"AP-8\",IF(E13=\"AP-8\",IF('Asphalt Plant (AP-8)'!$C$10>0,'Asphalt Plant (AP-8)'!$C$10,IF('Asphalt Plant (AP-8)'!$C$11>0,'Asphalt Plant (AP-8)'!$C$11*365,\"\"))),IF(E13=\"AP-9\",IF(E13=\"AP-9\",IF('Asphalt Plant (AP-9)'!$C$10>0,'Asphalt Plant (AP-9)'!$C$10,IF('Asphalt Plant (AP-9)'!$C$11>0,'Asphalt Plant (AP-9)'!$C$11*365,\"\"))),IF(E13=\"AP-10\",IF(E13=\"AP-10\",IF('Asphalt Plant (AP-10)'!$C$10>0,'Asphalt Plant (AP-10)'!$C$10,IF('Asphalt Plant (AP-10)'!$C$11>0,'Asphalt Plant (AP-10)'!$C$11*365,\"\"))))))))))))))","v":""},null,null,"","","","",null,"","","","","","","","","","","",{"$f":"IF(AND('Asphalt Plant (AP-5)'!$C$11=\"\",'Asphalt Plant (AP-5)'!$C$10=\"\"),SUMIFS($X$9:$X$38,$E$9:$E$38,\"AP-5\",$AE$9:$AE$38,\"x\"),MAX(IF($E$9:$E$38=\"AP-5\",IF($AE$9:$AE$38=\"x\",$X$9:$X$38))))","v":0},{"$f":"IF(AND('Asphalt Plant (AP-5)'!$C$11=\"\",'Asphalt Plant (AP-5)'!$C$10=\"\"),SUMIFS($X$9:$X$38,$E$9:$E$38,\"AP-5\",AE13:AE42,\"\"),MAX(IF($E$9:$E$38=\"AP-5\",IF($AE$9:$AE$38=\"\",$X$9:$X$38))))","v":0},{"$f":"IF(AND('Asphalt Plant (AP-5)'!$C$11=\"\",'Asphalt Plant (AP-5)'!$C$10=\"\"),SUMIFS($AC$9:$AC$38,$E$9:$E$38,\"AP-5\",$AE$9:$AE$38,\"x\"),MAX(IF($E$9:$E$38=\"AP-5\",IF($AE$9:$AE$38=\"x\",$AC$9:$AC$38))))","v":0},{"$f":"IF(AND('Asphalt Plant (AP-5)'!$C$11=\"\",'Asphalt Plant (AP-5)'!$C$10=\"\"),SUMIFS($AC$9:$AC$38,$E$9:$E$38,\"AP-5\",$AE$9:$AE$38,\"\"),MAX(IF($E$9:$E$38=\"AP-5\",IF($AE$9:$AE$38=\"\",$AC$9:$AC$38))))","v":0},null,"AP-5",{"$f":"IF(AND('Asphalt Plant (AP-5)'!$C$11=\"\",'Asphalt Plant (AP-5)'!$C$10=\"\"),SUMIF($E$9:$E$38,\"AP-5\",$X$9:$X$38),MAX(IF($E$9:$E$38=\"AP-5\",$X$9:$X$38)))","v":0},{"$f":"SUMIF($E$9:$E$38,\"AP-5\",$Y$9:$Y$38)","v":0},{"$f":"IF(AND('Asphalt Plant (AP-5)'!$C$11=\"\",'Asphalt Plant (AP-5)'!$C$10=\"\"),SUMIF($E$9:$E$38,\"AP-5\",$AC$9:$AC$38),MAX(IF($E$9:$E$38=\"AP-5\",$AC$9:$AC$38)))","v":0},{"$f":"SUMIF($E$9:$E442,\"AP-5\",$AD$9:$AD$38)","v":0}]
[null,null,null,null,null,null,null,null,null,"","",null,{"$f":"IF(E14=\"\",\"\",IF(E14=\"AP-1\",IF('Asphalt Plant (AP-1)'!$C$10>0,'Asphalt Plant (AP-1)'!$C$10,IF('Asphalt Plant (AP-1)'!$C$11>0,'Asphalt Plant (AP-1)'!$C$11*365,\"\")),IF(E14=\"AP-2\",IF(E14=\"AP-2\",IF('Asphalt Plant (AP-2)'!$C$10>0,'Asphalt Plant (AP-2)'!$C$10,IF('Asphalt Plant (AP-2)'!$C$11>0,'Asphalt Plant (AP-2)'!$C$11*365,\"\"))),IF(E14=\"AP-3\",IF(E14=\"AP-3\",IF('Asphalt Plant (AP-3)'!$C$10>0,'Asphalt Plant (AP-3)'!$C$10,IF('Asphalt Plant (AP-3)'!$C$11>0,'Asphalt Plant (AP-3)'!$C$11*365,\"\"))),IF(E14=\"AP-4\",IF(E14=\"AP-4\",IF('Asphalt Plant (AP-4)'!$C$10>0,'Asphalt Plant (AP-4)'!$C$10,IF('Asphalt Plant (AP-4)'!$C$11>0,'Asphalt Plant (AP-4)'!$C$11*365,\"\"))),IF(E14=\"AP-5\",IF(E14=\"AP-5\",IF('Asphalt Plant (AP-5)'!$C$10>0,'Asphalt Plant (AP-5)'!$C$10,IF('Asphalt Plant (AP-5)'!$C$11>0,'Asphalt Plant (AP-5)'!$C$11*365,\"\"))),IF(E14=\"AP-6\",IF(E14=\"AP-6\",IF('Asphalt Plant (AP-6)'!$C$10>0,'Asphalt Plant (AP-6)'!$C$10,IF('Asphalt Plant (AP-6)'!$C$11>0,'Asphalt Plant (AP-6)'!$C$11*365,\"\"))),IF(E14=\"AP-7\",IF(E14=\"AP-7\",IF('Asphalt Plant (AP-7)'!$C$10>0,'Asphalt Plant (AP-7)'!$C$10,IF('Asphalt Plant (AP-7)'!$C$11>0,'Asphalt Plant (AP-7)'!$C$11*365,\"\"))),IF(E14=\"AP-8\",IF(E14=\"AP-8\",IF('Asphalt Plant (AP-8)'!$C$10>0,'Asphalt Plant (AP-8)'!$C$10,IF('Asphalt Plant (AP-8)'!$C$11>0,'Asphalt Plant (AP-8)'!$C$11*365,\"\"))),IF(E14=\"AP-9\",IF(E14=\"AP-9\",IF('Asphalt Plant (AP-9)'!$C$10>0,'Asphalt Plant (AP-9)'!$C$10,IF('Asphalt Plant (AP-9)'!$C$11>0,'Asphalt Plant (AP-9)'!$C$11*365,\"\"))),IF(E14=\"AP-10\",IF(E14=\"AP-10\",IF('Asphalt Plant (AP-10)'!$C$10>0,'Asphalt Plant (AP-10)'!$C$10,IF('Asphalt Plant (AP-10)'!$C$11>0,'Asphalt Plant (AP-10)'!$C$11*365,\"\"))))))))))))))","v":""},null,null,"","","","",null,"","","","","","","","","","","",{"$f":"IF(AND('Asphalt Plant (AP-6)'!$C$11=\"\",'Asphalt Plant (AP-6)'!$C$10=\"\"),SUMIFS($X$9:$X$38,$E$9:$E$38,\"AP-6\",$AE$9:$AE$38,\"x\"),MAX(IF($E$9:$E$38=\"AP-6\",IF($AE$9:$AE$38=\"x\",$X$9:$X$38))))","v":0},{"$f":"IF(AND('Asphalt Plant (AP-6)'!$C$11=\"\",'Asphalt Plant (AP-6)'!$C$10=\"\"),SUMIFS($X$9:$X$38,$E$9:$E$38,\"AP-6\",AE14:AE43,\"\"),MAX(IF($E$9:$E$38=\"AP-6\",IF($AE$9:$AE$38=\"\",$X$9:$X$38))))","v":0},{"$f":"IF(AND('Asphalt Plant (AP-6)'!$C$11=\"\",'Asphalt Plant (AP-6)'!$C$10=\"\"),SUMIFS($AC$9:$AC$38,$E$9:$E$38,\"AP-6\",$AE$9:$AE$38,\"x\"),MAX(IF($E$9:$E$38=\"AP-6\",IF($AE$9:$AE$38=\"x\",$AC$9:$AC$38))))","v":0},{"$f":"IF(AND('Asphalt Plant (AP-6)'!$C$11=\"\",'Asphalt Plant (AP-6)'!$C$10=\"\"),SUMIFS($AC$9:$AC$38,$E$9:$E$38,\"AP-6\",$AE$9:$AE$38,\"\"),MAX(IF($E$9:$E$38=\"AP-6\",IF($AE$9:$AE$38=\"\",$AC$9:$AC$38))))","v":0},null,"AP-6",{"$f":"IF(AND('Asphalt Plant (AP-6)'!$C$11=\"\",'Asphalt Plant (AP-6)'!$C$10=\"\"),SUMIF($E$9:$E$38,\"AP-6\",$X$9:$X$38),MAX(IF($E$9:$E$38=\"AP-6\",$X$9:$X$38)))","v":0},{"$f":"SUMIF($E$9:$E$38,\"AP-6\",$Y$9:$Y$38)","v":0},{"$f":"IF(AND('Asphalt Plant (AP-6)'!$C$11=\"\",'Asphalt Plant (AP-6)'!$C$10=\"\"),SUMIF($E$9:$E$38,\"AP-6\",$AC$9:$AC$38),MAX(IF($E$9:$E$38=\"AP-6\",$AC$9:$AC$38)))","v":0},{"$f":"SUMIF($E$9:$E443,\"AP-6\",$AD$9:$AD$38)","v":0}]
[{"$f":"IF('Facility Information'!$C$21>0,\"AP-1\",\"\")","v":""},null,null,null,null,null,null,null,null,"","",null,{"$f":"IF(E15=\"\",\"\",IF(E15=\"AP-1\",IF('Asphalt Plant (AP-1)'!$C$10>0,'Asphalt Plant (AP-1)'!$C$10,IF('Asphalt Plant (AP-1)'!$C$11>0,'Asphalt Plant (AP-1)'!$C$11*365,\"\")),IF(E15=\"AP-2\",IF(E15=\"AP-2\",IF('Asphalt Plant (AP-2)'!$C$10>0,'Asphalt Plant (AP-2)'!$C$10,IF('Asphalt Plant (AP-2)'!$C$11>0,'Asphalt Plant (AP-2)'!$C$11*365,\"\"))),IF(E15=\"AP-3\",IF(E15=\"AP-3\",IF('Asphalt Plant (AP-3)'!$C$10>0,'Asphalt Plant (AP-3)'!$C$10,IF('Asphalt Plant (AP-3)'!$C$11>0,'Asphalt Plant (AP-3)'!$C$11*365,\"\"))),IF(E15=\"AP-4\",IF(E15=\"AP-4\",IF('Asphalt Plant (AP-4)'!$C$10>0,'Asphalt Plant (AP-4)'!$C$10,IF('Asphalt Plant (AP-4)'!$C$11>0,'Asphalt Plant (AP-4)'!$C$11*365,\"\"))),IF(E15=\"AP-5\",IF(E15=\"AP-5\",IF('Asphalt Plant (AP-5)'!$C$10>0,'Asphalt Plant (AP-5)'!$C$10,IF('Asphalt Plant (AP-5)'!$C$11>0,'Asphalt Plant (AP-5)'!$C$11*365,\"\"))),IF(E15=\"AP-6\",IF(E15=\"AP-6\",IF('Asphalt Plant (AP-6)'!$C$10>0,'Asphalt Plant (AP-6)'!$C$10,IF('Asphalt Plant (AP-6)'!$C$11>0,'Asphalt Plant (AP-6)'!$C$11*365,\"\"))),IF(E15=\"AP-7\",IF(E15=\"AP-7\",IF('Asphalt Plant (AP-7)'!$C$10>0,'Asphalt Plant (AP-7)'!$C$10,IF('Asphalt Plant (AP-7)'!$C$11>0,'Asphalt Plant (AP-7)'!$C$11*365,\"\"))),IF(E15=\"AP-8\",IF(E15=\"AP-8\",IF('Asphalt Plant (AP-8)'!$C$10>0,'Asphalt Plant (AP-8)'!$C$10,IF('Asphalt Plant (AP-8)'!$C$11>0,'Asphalt Plant (AP-8)'!$C$11*365,\"\"))),IF(E15=\"AP-9\",IF(E15=\"AP-9\",IF('Asphalt Plant (AP-9)'!$C$10>0,'Asphalt Plant (AP-9)'!$C$10,IF('Asphalt Plant (AP-9)'!$C$11>0,'Asphalt Plant (AP-9)'!$C$11*365,\"\"))),IF(E15=\"AP-10\",IF(E15=\"AP-10\",IF('Asphalt Plant (AP-10)'!$C$10>0,'Asphalt Plant (AP-10)'!$C$10,IF('Asphalt Plant (AP-10)'!$C$11>0,'Asphalt Plant (AP-10)'!$C$11*365,\"\"))))))))))))))","v":""},null,null,"","","","",null,"","","","","","","","","","","",{"$f":"IF(AND('Asphalt Plant (AP-7)'!$C$11=\"\",'Asphalt Plant (AP-7)'!$C$10=\"\"),SUMIFS($X$9:$X$38,$E$9:$E$38,\"AP-7\",$AE$9:$AE$38,\"x\"),MAX(IF($E$9:$E$38=\"AP-7\",IF($AE$9:$AE$38=\"x\",$X$9:$X$38))))","v":0},{"$f":"IF(AND('Asphalt Plant (AP-7)'!$C$11=\"\",'Asphalt Plant (AP-7)'!$C$10=\"\"),SUMIFS($X$9:$X$38,$E$9:$E$38,\"AP-7\",AE15:AE44,\"\"),MAX(IF($E$9:$E$38=\"AP-7\",IF($AE$9:$AE$38=\"\",$X$9:$X$38))))","v":0},{"$f":"IF(AND('Asphalt Plant (AP-7)'!$C$11=\"\",'Asphalt Plant (AP-7)'!$C$10=\"\"),SUMIFS($AC$9:$AC$38,$E$9:$E$38,\"AP-7\",$AE$9:$AE$38,\"x\"),MAX(IF($E$9:$E$38=\"AP-7\",IF($AE$9:$AE$38=\"x\",$AC$9:$AC$38))))","v":0},{"$f":"IF(AND('Asphalt Plant (AP-7)'!$C$11=\"\",'Asphalt Plant (AP-7)'!$C$10=\"\"),SUMIFS($AC$9:$AC$38,$E$9:$E$38,\"AP-7\",$AE$9:$AE$38,\"\"),MAX(IF($E$9:$E$38=\"AP-7\",IF($AE$9:$AE$38=\"\",$AC$9:$AC$38))))","v":0},null,"AP-7",{"$f":"IF(AND('Asphalt Plant (AP-7)'!$C$11=\"\",'Asphalt Plant (AP-7)'!$C$10=\"\"),SUMIF($E$9:$E$38,\"AP-7\",$X$9:$X$38),MAX(IF($E$9:$E$38=\"AP-7\",$X$9:$X$38)))","v":0},{"$f":"SUMIF($E$9:$E$38,\"AP-7\",$Y$9:$Y$38)","v":0},{"$f":"IF(AND('Asphalt Plant (AP-7)'!$C$11=\"\",'Asphalt Plant (AP-7)'!$C$10=\"\"),SUMIF($E$9:$E$38,\"AP-7\",$AC$9:$AC$38),MAX(IF($E$9:$E$38=\"AP-7\",$AC$9:$AC$38)))","v":0},{"$f":"SUMIF($E$9:$E444,\"AP-7\",$AD$9:$AD$38)","v":0}]
[{"$f":"IF('Facility Information'!$C$21>1,\"AP-2\",\"\")","v":""},null,null,null,null,null,null,null,null,"","",null,{"$f":"IF(E16=\"\",\"\",IF(E16=\"AP-1\",IF('Asphalt Plant (AP-1)'!$C$10>0,'Asphalt Plant (AP-1)'!$C$10,IF('Asphalt Plant (AP-1)'!$C$11>0,'Asphalt Plant (AP-1)'!$C$11*365,\"\")),IF(E16=\"AP-2\",IF(E16=\"AP-2\",IF('Asphalt Plant (AP-2)'!$C$10>0,'Asphalt Plant (AP-2)'!$C$10,IF('Asphalt Plant (AP-2)'!$C$11>0,'Asphalt Plant (AP-2)'!$C$11*365,\"\"))),IF(E16=\"AP-3\",IF(E16=\"AP-3\",IF('Asphalt Plant (AP-3)'!$C$10>0,'Asphalt Plant (AP-3)'!$C$10,IF('Asphalt Plant (AP-3)'!$C$11>0,'Asphalt Plant (AP-3)'!$C$11*365,\"\"))),IF(E16=\"AP-4\",IF(E16=\"AP-4\",IF('Asphalt Plant (AP-4)'!$C$10>0,'Asphalt Plant (AP-4)'!$C$10,IF('Asphalt Plant (AP-4)'!$C$11>0,'Asphalt Plant (AP-4)'!$C$11*365,\"\"))),IF(E16=\"AP-5\",IF(E16=\"AP-5\",IF('Asphalt Plant (AP-5)'!$C$10>0,'Asphalt Plant (AP-5)'!$C$10,IF('Asphalt Plant (AP-5)'!$C$11>0,'Asphalt Plant (AP-5)'!$C$11*365,\"\"))),IF(E16=\"AP-6\",IF(E16=\"AP-6\",IF('Asphalt Plant (AP-6)'!$C$10>0,'Asphalt Plant (AP-6)'!$C$10,IF('Asphalt Plant (AP-6)'!$C$11>0,'Asphalt Plant (AP-6)'!$C$11*365,\"\"))),IF(E16=\"AP-7\",IF(E16=\"AP-7\",IF('Asphalt Plant (AP-7)'!$C$10>0,'Asphalt Plant (AP-7)'!$C$10,IF('Asphalt Plant (AP-7)'!$C$11>0,'Asphalt Plant (AP-7)'!$C$11*365,\"\"))),IF(E16=\"AP-8\",IF(E16=\"AP-8\",IF('Asphalt Plant (AP-8)'!$C$10>0,'Asphalt Plant (AP-8)'!$C$10,IF('Asphalt Plant (AP-8)'!$C$11>0,'Asphalt Plant (AP-8)'!$C$11*365,\"\"))),IF(E16=\"AP-9\",IF(E16=\"AP-9\",IF('Asphalt Plant (AP-9)'!$C$10>0,'Asphalt Plant (AP-9)'!$C$10,IF('Asphalt Plant (AP-9)'!$C$11>0,'Asphalt Plant (AP-9)'!$C$11*365,\"\"))),IF(E16=\"AP-10\",IF(E16=\"AP-10\",IF('Asphalt Plant (AP-10)'!$C$10>0,'Asphalt Plant (AP-10)'!$C$10,IF('Asphalt Plant (AP-10)'!$C$11>0,'Asphalt Plant (AP-10)'!$C$11*365,\"\"))))))))))))))","v":""},null,null,"","","","",null,"","","","","","","","","","","",{"$f":"IF(AND('Asphalt Plant (AP-8)'!$C$11=\"\",'Asphalt Plant (AP-8)'!$C$10=\"\"),SUMIFS($X$9:$X$38,$E$9:$E$38,\"AP-8\",$AE$9:$AE$38,\"x\"),MAX(IF($E$9:$E$38=\"AP-8\",IF($AE$9:$AE$38=\"x\",$X$9:$X$38))))","v":0},{"$f":"IF(AND('Asphalt Plant (AP-8)'!$C$11=\"\",'Asphalt Plant (AP-8)'!$C$10=\"\"),SUMIFS($X$9:$X$38,$E$9:$E$38,\"AP-8\",AE16:AE45,\"\"),MAX(IF($E$9:$E$38=\"AP-8\",IF($AE$9:$AE$38=\"\",$X$9:$X$38))))","v":0},{"$f":"IF(AND('Asphalt Plant (AP-8)'!$C$11=\"\",'Asphalt Plant (AP-8)'!$C$10=\"\"),SUMIFS($AC$9:$AC$38,$E$9:$E$38,\"AP-8\",$AE$9:$AE$38,\"x\"),MAX(IF($E$9:$E$38=\"AP-8\",IF($AE$9:$AE$38=\"x\",$AC$9:$AC$38))))","v":0},{"$f":"IF(AND('Asphalt Plant (AP-8)'!$C$11=\"\",'Asphalt Plant (AP-8)'!$C$10=\"\"),SUMIFS($AC$9:$AC$38,$E$9:$E$38,\"AP-8\",$AE$9:$AE$38,\"\"),MAX(IF($E$9:$E$38=\"AP-8\",IF($AE$9:$AE$38=\"\",$AC$9:$AC$38))))","v":0},null,"AP-8",{"$f":"IF(AND('Asphalt Plant (AP-8)'!$C$11=\"\",'Asphalt Plant (AP-8)'!$C$10=\"\"),SUMIF($E$9:$E$38,\"AP-8\",$X$9:$X$38),MAX(IF($E$9:$E$38=\"AP-8\",$X$9:$X$38)))","v":0},{"$f":"SUMIF($E$9:$E$38,\"AP-8\",$Y$9:$Y$38)","v":0},{"$f":"IF(AND('Asphalt Plant (AP-8)'!$C$11=\"\",'Asphalt Plant (AP-8)'!$C$10=\"\"),SUMIF($E$9:$E$38,\"AP-8\",$AC$9:$AC$38),MAX(IF($E$9:$E$38=\"AP-8\",$AC$9:$AC$38)))","v":0},{"$f":"SUMIF($E$9:$E445,\"AP-8\",$AD$9:$AD$38)","v":0}]
[{"$f":"IF('Facility Information'!$C$21>2,\"AP-3\",\"\")","v":""},null,null,null,null,null,null,null,null,"","",null,{"$f":"IF(E17=\"\",\"\",IF(E17=\"AP-1\",IF('Asphalt Plant (AP-1)'!$C$10>0,'Asphalt Plant (AP-1)'!$C$10,IF('Asphalt Plant (AP-1)'!$C$11>0,'Asphalt Plant (AP-1)'!$C$11*365,\"\")),IF(E17=\"AP-2\",IF(E17=\"AP-2\",IF('Asphalt Plant (AP-2)'!$C$10>0,'Asphalt Plant (AP-2)'!$C$10,IF('Asphalt Plant (AP-2)'!$C$11>0,'Asphalt Plant (AP-2)'!$C$11*365,\"\"))),IF(E17=\"AP-3\",IF(E17=\"AP-3\",IF('Asphalt Plant (AP-3)'!$C$10>0,'Asphalt Plant (AP-3)'!$C$10,IF('Asphalt Plant (AP-3)'!$C$11>0,'Asphalt Plant (AP-3)'!$C$11*365,\"\"))),IF(E17=\"AP-4\",IF(E17=\"AP-4\",IF('Asphalt Plant (AP-4)'!$C$10>0,'Asphalt Plant (AP-4)'!$C$10,IF('Asphalt Plant (AP-4)'!$C$11>0,'Asphalt Plant (AP-4)'!$C$11*365,\"\"))),IF(E17=\"AP-5\",IF(E17=\"AP-5\",IF('Asphalt Plant (AP-5)'!$C$10>0,'Asphalt Plant (AP-5)'!$C$10,IF('Asphalt Plant (AP-5)'!$C$11>0,'Asphalt Plant (AP-5)'!$C$11*365,\"\"))),IF(E17=\"AP-6\",IF(E17=\"AP-6\",IF('Asphalt Plant (AP-6)'!$C$10>0,'Asphalt Plant (AP-6)'!$C$10,IF('Asphalt Plant (AP-6)'!$C$11>0,'Asphalt Plant (AP-6)'!$C$11*365,\"\"))),IF(E17=\"AP-7\",IF(E17=\"AP-7\",IF('Asphalt Plant (AP-7)'!$C$10>0,'Asphalt Plant (AP-7)'!$C$10,IF('Asphalt Plant (AP-7)'!$C$11>0,'Asphalt Plant (AP-7)'!$C$11*365,\"\"))),IF(E17=\"AP-8\",IF(E17=\"AP-8\",IF('Asphalt Plant (AP-8)'!$C$10>0,'Asphalt Plant (AP-8)'!$C$10,IF('Asphalt Plant (AP-8)'!$C$11>0,'Asphalt Plant (AP-8)'!$C$11*365,\"\"))),IF(E17=\"AP-9\",IF(E17=\"AP-9\",IF('Asphalt Plant (AP-9)'!$C$10>0,'Asphalt Plant (AP-9)'!$C$10,IF('Asphalt Plant (AP-9)'!$C$11>0,'Asphalt Plant (AP-9)'!$C$11*365,\"\"))),IF(E17=\"AP-10\",IF(E17=\"AP-10\",IF('Asphalt Plant (AP-10)'!$C$10>0,'Asphalt Plant (AP-10)'!$C$10,IF('Asphalt Plant (AP-10)'!$C$11>0,'Asphalt Plant (AP-10)'!$C$11*365,\"\"))))))))))))))","v":""},null,null,"","","","",null,"","","","","","","","","","","",{"$f":"IF(AND('Asphalt Plant (AP-9)'!$C$11=\"\",'Asphalt Plant (AP-9)'!$C$10=\"\"),SUMIFS($X$9:$X$38,$E$9:$E$38,\"AP-9\",$AE$9:$AE$38,\"x\"),MAX(IF($E$9:$E$38=\"AP-9\",IF($AE$9:$AE$38=\"x\",$X$9:$X$38))))","v":0},{"$f":"IF(AND('Asphalt Plant (AP-9)'!$C$11=\"\",'Asphalt Plant (AP-9)'!$C$10=\"\"),SUMIFS($X$9:$X$38,$E$9:$E$38,\"AP-9\",AE17:AE46,\"\"),MAX(IF($E$9:$E$38=\"AP-9\",IF($AE$9:$AE$38=\"\",$X$9:$X$38))))","v":0},{"$f":"IF(AND('Asphalt Plant (AP-9)'!$C$11=\"\",'Asphalt Plant (AP-9)'!$C$10=\"\"),SUMIFS($AC$9:$AC$38,$E$9:$E$38,\"AP-9\",$AE$9:$AE$38,\"x\"),MAX(IF($E$9:$E$38=\"AP-9\",IF($AE$9:$AE$38=\"x\",$AC$9:$AC$38))))","v":0},{"$f":"IF(AND('Asphalt Plant (AP-9)'!$C$11=\"\",'Asphalt Plant (AP-9)'!$C$10=\"\"),SUMIFS($AC$9:$AC$38,$E$9:$E$38,\"AP-9\",$AE$9:$AE$38,\"\"),MAX(IF($E$9:$E$38=\"AP-9\",IF($AE$9:$AE$38=\"\",$AC$9:$AC$38))))","v":0},null,"AP-9",{"$f":"IF(AND('Asphalt Plant (AP-9)'!$C$11=\"\",'Asphalt Plant (AP-9)'!$C$10=\"\"),SUMIF($E$9:$E$38,\"AP-9\",$X$9:$X$38),MAX(IF($E$9:$E$38=\"AP-9\",$X$9:$X$38)))","v":0},{"$f":"SUMIF($E$9:$E$38,\"AP-9\",$Y$9:$Y$38)","v":0},{"$f":"IF(AND('Asphalt Plant (AP-9)'!$C$11=\"\",'Asphalt Plant (AP-9)'!$C$10=\"\"),SUMIF($E$9:$E$38,\"AP-9\",$AC$9:$AC$38),MAX(IF($E$9:$E$38=\"AP-9\",$AC$9:$AC$38)))","v":0},{"$f":"SUMIF($E$9:$E446,\"AP-9\",$AD$9:$AD$38)","v":0}]
[{"$f":"IF('Facility Information'!$C$21>3,\"AP-4\",\"\")","v":""},null,null,null,null,null,null,null,null,"","",null,{"$f":"IF(E18=\"\",\"\",IF(E18=\"AP-1\",IF('Asphalt Plant (AP-1)'!$C$10>0,'Asphalt Plant (AP-1)'!$C$10,IF('Asphalt Plant (AP-1)'!$C$11>0,'Asphalt Plant (AP-1)'!$C$11*365,\"\")),IF(E18=\"AP-2\",IF(E18=\"AP-2\",IF('Asphalt Plant (AP-2)'!$C$10>0,'Asphalt Plant (AP-2)'!$C$10,IF('Asphalt Plant (AP-2)'!$C$11>0,'Asphalt Plant (AP-2)'!$C$11*365,\"\"))),IF(E18=\"AP-3\",IF(E18=\"AP-3\",IF('Asphalt Plant (AP-3)'!$C$10>0,'Asphalt Plant (AP-3)'!$C$10,IF('Asphalt Plant (AP-3)'!$C$11>0,'Asphalt Plant (AP-3)'!$C$11*365,\"\"))),IF(E18=\"AP-4\",IF(E18=\"AP-4\",IF('Asphalt Plant (AP-4)'!$C$10>0,'Asphalt Plant (AP-4)'!$C$10,IF('Asphalt Plant (AP-4)'!$C$11>0,'Asphalt Plant (AP-4)'!$C$11*365,\"\"))),IF(E18=\"AP-5\",IF(E18=\"AP-5\",IF('Asphalt Plant (AP-5)'!$C$10>0,'Asphalt Plant (AP-5)'!$C$10,IF('Asphalt Plant (AP-5)'!$C$11>0,'Asphalt Plant (AP-5)'!$C$11*365,\"\"))),IF(E18=\"AP-6\",IF(E18=\"AP-6\",IF('Asphalt Plant (AP-6)'!$C$10>0,'Asphalt Plant (AP-6)'!$C$10,IF('Asphalt Plant (AP-6)'!$C$11>0,'Asphalt Plant (AP-6)'!$C$11*365,\"\"))),IF(E18=\"AP-7\",IF(E18=\"AP-7\",IF('Asphalt Plant (AP-7)'!$C$10>0,'Asphalt Plant (AP-7)'!$C$10,IF('Asphalt Plant (AP-7)'!$C$11>0,'Asphalt Plant (AP-7)'!$C$11*365,\"\"))),IF(E18=\"AP-8\",IF(E18=\"AP-8\",IF('Asphalt Plant (AP-8)'!$C$10>0,'Asphalt Plant (AP-8)'!$C$10,IF('Asphalt Plant (AP-8)'!$C$11>0,'Asphalt Plant (AP-8)'!$C$11*365,\"\"))),IF(E18=\"AP-9\",IF(E18=\"AP-9\",IF('Asphalt Plant (AP-9)'!$C$10>0,'Asphalt Plant (AP-9)'!$C$10,IF('Asphalt Plant (AP-9)'!$C$11>0,'Asphalt Plant (AP-9)'!$C$11*365,\"\"))),IF(E18=\"AP-10\",IF(E18=\"AP-10\",IF('Asphalt Plant (AP-10)'!$C$10>0,'Asphalt Plant (AP-10)'!$C$10,IF('Asphalt Plant (AP-10)'!$C$11>0,'Asphalt Plant (AP-10)'!$C$11*365,\"\"))))))))))))))","v":""},null,null,"","","","",null,"","","","","","","","","","","",{"$f":"IF(AND('Asphalt Plant (AP-10)'!$C$11=\"\",'Asphalt Plant (AP-10)'!$C$10=\"\"),SUMIFS($X$9:$X$38,$E$9:$E$38,\"AP-10\",$AE$9:$AE$38,\"x\"),MAX(IF($E$9:$E$38=\"AP-10\",IF($AE$9:$AE$38=\"x\",$X$9:$X$38))))","v":0},{"$f":"IF(AND('Asphalt Plant (AP-10)'!$C$11=\"\",'Asphalt Plant (AP-10)'!$C$10=\"\"),SUMIFS($X$9:$X$38,$E$9:$E$38,\"AP-10\",AE18:AE47,\"\"),MAX(IF($E$9:$E$38=\"AP-10\",IF($AE$9:$AE$38=\"\",$X$9:$X$38))))","v":0},{"$f":"IF(AND('Asphalt Plant (AP-10)'!$C$11=\"\",'Asphalt Plant (AP-10)'!$C$10=\"\"),SUMIFS($AC$9:$AC$38,$E$9:$E$38,\"AP-10\",$AE$9:$AE$38,\"x\"),MAX(IF($E$9:$E$38=\"AP-10\",IF($AE$9:$AE$38=\"x\",$AC$9:$AC$38))))","v":0},{"$f":"IF(AND('Asphalt Plant (AP-10)'!$C$11=\"\",'Asphalt Plant (AP-10)'!$C$10=\"\"),SUMIFS($AC$9:$AC$38,$E$9:$E$38,\"AP-10\",$AE$9:$AE$38,\"\"),MAX(IF($E$9:$E$38=\"AP-10\",IF($AE$9:$AE$38=\"\",$AC$9:$AC$38))))","v":0},null,"AP-10",{"$f":"IF(AND('Asphalt Plant (AP-10)'!$C$11=\"\",'Asphalt Plant (AP-10)'!$C$10=\"\"),SUMIF($E$9:$E$38,\"AP-10\",$X$9:$X$38),MAX(IF($E$9:$E$38=\"AP-10\",$X$9:$X$38)))","v":0},{"$f":"SUMIF($E$9:$E$38,\"AP-10\",$Y$9:$Y$38)","v":0},{"$f":"IF(AND('Asphalt Plant (AP-10)'!$C$11=\"\",'Asphalt Plant (AP-10)'!$C$10=\"\"),SUMIF($E$9:$E$38,\"AP-10\",$AC$9:$AC$38),MAX(IF($E$9:$E$38=\"AP-10\",$AC$9:$AC$38)))","v":0},{"$f":"SUMIF($E$9:$E447,\"AP-10\",$AD$9:$AD$38)","v":0}]
[{"$f":"IF('Facility Information'!$C$21>4,\"AP-5\",\"\")","v":""},null,null,null,null,null,null,null,null,{"$f":"IF(G19=\"\",\"\",(G19*(I19/100)+H19*(1-(I19/100))))","v":""},{"$f":"IF(G19=\"\",\"\",H19-G19)","v":""},null,{"$f":"IF(E19=\"\",\"\",IF(E19=\"AP-1\",IF('Asphalt Plant (AP-1)'!$C$10>0,'Asphalt Plant (AP-1)'!$C$10,IF('Asphalt Plant (AP-1)'!$C$11>0,'Asphalt Plant (AP-1)'!$C$11*365,\"\")),IF(E19=\"AP-2\",IF(E19=\"AP-2\",IF('Asphalt Plant (AP-2)'!$C$10>0,'Asphalt Plant (AP-2)'!$C$10,IF('Asphalt Plant (AP-2)'!$C$11>0,'Asphalt Plant (AP-2)'!$C$11*365,\"\"))),IF(E19=\"AP-3\",IF(E19=\"AP-3\",IF('Asphalt Plant (AP-3)'!$C$10>0,'Asphalt Plant (AP-3)'!$C$10,IF('Asphalt Plant (AP-3)'!$C$11>0,'Asphalt Plant (AP-3)'!$C$11*365,\"\"))),IF(E19=\"AP-4\",IF(E19=\"AP-4\",IF('Asphalt Plant (AP-4)'!$C$10>0,'Asphalt Plant (AP-4)'!$C$10,IF('Asphalt Plant (AP-4)'!$C$11>0,'Asphalt Plant (AP-4)'!$C$11*365,\"\"))),IF(E19=\"AP-5\",IF(E19=\"AP-5\",IF('Asphalt Plant (AP-5)'!$C$10>0,'Asphalt Plant (AP-5)'!$C$10,IF('Asphalt Plant (AP-5)'!$C$11>0,'Asphalt Plant (AP-5)'!$C$11*365,\"\"))),IF(E19=\"AP-6\",IF(E19=\"AP-6\",IF('Asphalt Plant (AP-6)'!$C$10>0,'Asphalt Plant (AP-6)'!$C$10,IF('Asphalt Plant (AP-6)'!$C$11>0,'Asphalt Plant (AP-6)'!$C$11*365,\"\"))),IF(E19=\"AP-7\",IF(E19=\"AP-7\",IF('Asphalt Plant (AP-7)'!$C$10>0,'Asphalt Plant (AP-7)'!$C$10,IF('Asphalt Plant (AP-7)'!$C$11>0,'Asphalt Plant (AP-7)'!$C$11*365,\"\"))),IF(E19=\"AP-8\",IF(E19=\"AP-8\",IF('Asphalt Plant (AP-8)'!$C$10>0,'Asphalt Plant (AP-8)'!$C$10,IF('Asphalt Plant (AP-8)'!$C$11>0,'Asphalt Plant (AP-8)'!$C$11*365,\"\"))),IF(E19=\"AP-9\",IF(E19=\"AP-9\",IF('Asphalt Plant (AP-9)'!$C$10>0,'Asphalt Plant (AP-9)'!$C$10,IF('Asphalt Plant (AP-9)'!$C$11>0,'Asphalt Plant (AP-9)'!$C$11*365,\"\"))),IF(E19=\"AP-10\",IF(E19=\"AP-10\",IF('Asphalt Plant (AP-10)'!$C$10>0,'Asphalt Plant (AP-10)'!$C$10,IF('Asphalt Plant (AP-10)'!$C$11>0,'Asphalt Plant (AP-10)'!$C$11*365,\"\"))))))))))))))","v":""},null,null,"",{"$f":"IF(O19=\"\",\"\",O19/K19)","v":""},"","",null,"","","","","","","","","","",{"$f":"IF(B19=\"unpaved haul road\",\"x\",\"\")","v":""}]
[{"$f":"IF('Facility Information'!$C$21>5,\"AP-6\",\"\")","v":""},null,null,null,null,null,null,null,null,"","",null,{"$f":"IF(E20=\"\",\"\",IF(E20=\"AP-1\",IF('Asphalt Plant (AP-1)'!$C$10>0,'Asphalt Plant (AP-1)'!$C$10,IF('Asphalt Plant (AP-1)'!$C$11>0,'Asphalt Plant (AP-1)'!$C$11*365,\"\")),IF(E20=\"AP-2\",IF(E20=\"AP-2\",IF('Asphalt Plant (AP-2)'!$C$10>0,'Asphalt Plant (AP-2)'!$C$10,IF('Asphalt Plant (AP-2)'!$C$11>0,'Asphalt Plant (AP-2)'!$C$11*365,\"\"))),IF(E20=\"AP-3\",IF(E20=\"AP-3\",IF('Asphalt Plant (AP-3)'!$C$10>0,'Asphalt Plant (AP-3)'!$C$10,IF('Asphalt Plant (AP-3)'!$C$11>0,'Asphalt Plant (AP-3)'!$C$11*365,\"\"))),IF(E20=\"AP-4\",IF(E20=\"AP-4\",IF('Asphalt Plant (AP-4)'!$C$10>0,'Asphalt Plant (AP-4)'!$C$10,IF('Asphalt Plant (AP-4)'!$C$11>0,'Asphalt Plant (AP-4)'!$C$11*365,\"\"))),IF(E20=\"AP-5\",IF(E20=\"AP-5\",IF('Asphalt Plant (AP-5)'!$C$10>0,'Asphalt Plant (AP-5)'!$C$10,IF('Asphalt Plant (AP-5)'!$C$11>0,'Asphalt Plant (AP-5)'!$C$11*365,\"\"))),IF(E20=\"AP-6\",IF(E20=\"AP-6\",IF('Asphalt Plant (AP-6)'!$C$10>0,'Asphalt Plant (AP-6)'!$C$10,IF('Asphalt Plant (AP-6)'!$C$11>0,'Asphalt Plant (AP-6)'!$C$11*365,\"\"))),IF(E20=\"AP-7\",IF(E20=\"AP-7\",IF('Asphalt Plant (AP-7)'!$C$10>0,'Asphalt Plant (AP-7)'!$C$10,IF('Asphalt Plant (AP-7)'!$C$11>0,'Asphalt Plant (AP-7)'!$C$11*365,\"\"))),IF(E20=\"AP-8\",IF(E20=\"AP-8\",IF('Asphalt Plant (AP-8)'!$C$10>0,'Asphalt Plant (AP-8)'!$C$10,IF('Asphalt Plant (AP-8)'!$C$11>0,'Asphalt Plant (AP-8)'!$C$11*365,\"\"))),IF(E20=\"AP-9\",IF(E20=\"AP-9\",IF('Asphalt Plant (AP-9)'!$C$10>0,'Asphalt Plant (AP-9)'!$C$10,IF('Asphalt Plant (AP-9)'!$C$11>0,'Asphalt Plant (AP-9)'!$C$11*365,\"\"))),IF(E20=\"AP-10\",IF(E20=\"AP-10\",IF('Asphalt Plant (AP-10)'!$C$10>0,'Asphalt Plant (AP-10)'!$C$10,IF('Asphalt Plant (AP-10)'!$C$11>0,'Asphalt Plant (AP-10)'!$C$11*365,\"\"))))))))))))))","v":""},null,null,"","","","",null,"","","","","","","","","","","","AP-1",{"$f":"IF('Asphalt Plant (AP-1)'!$C$10>0,'Asphalt Plant (AP-1)'!$C$10,IF('Asphalt Plant (AP-1)'!$C$11>0,'Asphalt Plant (AP-1)'!$C$11*365,\"\"))","v":""}]
[{"$f":"IF('Facility Information'!$C$21>6,\"AP-7\",\"\")","v":""},null,null,null,null,null,null,null,null,"","",null,{"$f":"IF(E21=\"\",\"\",IF(E21=\"AP-1\",IF('Asphalt Plant (AP-1)'!$C$10>0,'Asphalt Plant (AP-1)'!$C$10,IF('Asphalt Plant (AP-1)'!$C$11>0,'Asphalt Plant (AP-1)'!$C$11*365,\"\")),IF(E21=\"AP-2\",IF(E21=\"AP-2\",IF('Asphalt Plant (AP-2)'!$C$10>0,'Asphalt Plant (AP-2)'!$C$10,IF('Asphalt Plant (AP-2)'!$C$11>0,'Asphalt Plant (AP-2)'!$C$11*365,\"\"))),IF(E21=\"AP-3\",IF(E21=\"AP-3\",IF('Asphalt Plant (AP-3)'!$C$10>0,'Asphalt Plant (AP-3)'!$C$10,IF('Asphalt Plant (AP-3)'!$C$11>0,'Asphalt Plant (AP-3)'!$C$11*365,\"\"))),IF(E21=\"AP-4\",IF(E21=\"AP-4\",IF('Asphalt Plant (AP-4)'!$C$10>0,'Asphalt Plant (AP-4)'!$C$10,IF('Asphalt Plant (AP-4)'!$C$11>0,'Asphalt Plant (AP-4)'!$C$11*365,\"\"))),IF(E21=\"AP-5\",IF(E21=\"AP-5\",IF('Asphalt Plant (AP-5)'!$C$10>0,'Asphalt Plant (AP-5)'!$C$10,IF('Asphalt Plant (AP-5)'!$C$11>0,'Asphalt Plant (AP-5)'!$C$11*365,\"\"))),IF(E21=\"AP-6\",IF(E21=\"AP-6\",IF('Asphalt Plant (AP-6)'!$C$10>0,'Asphalt Plant (AP-6)'!$C$10,IF('Asphalt Plant (AP-6)'!$C$11>0,'Asphalt Plant (AP-6)'!$C$11*365,\"\"))),IF(E21=\"AP-7\",IF(E21=\"AP-7\",IF('Asphalt Plant (AP-7)'!$C$10>0,'Asphalt Plant (AP-7)'!$C$10,IF('Asphalt Plant (AP-7)'!$C$11>0,'Asphalt Plant (AP-7)'!$C$11*365,\"\"))),IF(E21=\"AP-8\",IF(E21=\"AP-8\",IF('Asphalt Plant (AP-8)'!$C$10>0,'Asphalt Plant (AP-8)'!$C$10,IF('Asphalt Plant (AP-8)'!$C$11>0,'Asphalt Plant (AP-8)'!$C$11*365,\"\"))),IF(E21=\"AP-9\",IF(E21=\"AP-9\",IF('Asphalt Plant (AP-9)'!$C$10>0,'Asphalt Plant (AP-9)'!$C$10,IF('Asphalt Plant (AP-9)'!$C$11>0,'Asphalt Plant (AP-9)'!$C$11*365,\"\"))),IF(E21=\"AP-10\",IF(E21=\"AP-10\",IF('Asphalt Plant (AP-10)'!$C$10>0,'Asphalt Plant (AP-10)'!$C$10,IF('Asphalt Plant (AP-10)'!$C$11>0,'Asphalt Plant (AP-10)'!$C$11*365,\"\"))))))))))))))","v":""},null,null,"","","","",null,"","","","","","","","","","","","AP-2",{"$f":"IF('Asphalt Plant (AP-2)'!$C$10>0,'Asphalt Plant (AP-2)'!$C$10,IF('Asphalt Plant (AP-2)'!$C$11>0,'Asphalt Plant (AP-2)'!$C$11*365,\"\"))","v":""}]
[{"$f":"IF('Facility Information'!$C$21>7,\"AP-8\",\"\")","v":""},null,null,null,null,null,null,null,null,"","",null,{"$f":"IF(E22=\"\",\"\",IF(E22=\"AP-1\",IF('Asphalt Plant (AP-1)'!$C$10>0,'Asphalt Plant (AP-1)'!$C$10,IF('Asphalt Plant (AP-1)'!$C$11>0,'Asphalt Plant (AP-1)'!$C$11*365,\"\")),IF(E22=\"AP-2\",IF(E22=\"AP-2\",IF('Asphalt Plant (AP-2)'!$C$10>0,'Asphalt Plant (AP-2)'!$C$10,IF('Asphalt Plant (AP-2)'!$C$11>0,'Asphalt Plant (AP-2)'!$C$11*365,\"\"))),IF(E22=\"AP-3\",IF(E22=\"AP-3\",IF('Asphalt Plant (AP-3)'!$C$10>0,'Asphalt Plant (AP-3)'!$C$10,IF('Asphalt Plant (AP-3)'!$C$11>0,'Asphalt Plant (AP-3)'!$C$11*365,\"\"))),IF(E22=\"AP-4\",IF(E22=\"AP-4\",IF('Asphalt Plant (AP-4)'!$C$10>0,'Asphalt Plant (AP-4)'!$C$10,IF('Asphalt Plant (AP-4)'!$C$11>0,'Asphalt Plant (AP-4)'!$C$11*365,\"\"))),IF(E22=\"AP-5\",IF(E22=\"AP-5\",IF('Asphalt Plant (AP-5)'!$C$10>0,'Asphalt Plant (AP-5)'!$C$10,IF('Asphalt Plant (AP-5)'!$C$11>0,'Asphalt Plant (AP-5)'!$C$11*365,\"\"))),IF(E22=\"AP-6\",IF(E22=\"AP-6\",IF('Asphalt Plant (AP-6)'!$C$10>0,'Asphalt Plant (AP-6)'!$C$10,IF('Asphalt Plant (AP-6)'!$C$11>0,'Asphalt Plant (AP-6)'!$C$11*365,\"\"))),IF(E22=\"AP-7\",IF(E22=\"AP-7\",IF('Asphalt Plant (AP-7)'!$C$10>0,'Asphalt Plant (AP-7)'!$C$10,IF('Asphalt Plant (AP-7)'!$C$11>0,'Asphalt Plant (AP-7)'!$C$11*365,\"\"))),IF(E22=\"AP-8\",IF(E22=\"AP-8\",IF('Asphalt Plant (AP-8)'!$C$10>0,'Asphalt Plant (AP-8)'!$C$10,IF('Asphalt Plant (AP-8)'!$C$11>0,'Asphalt Plant (AP-8)'!$C$11*365,\"\"))),IF(E22=\"AP-9\",IF(E22=\"AP-9\",IF('Asphalt Plant (AP-9)'!$C$10>0,'Asphalt Plant (AP-9)'!$C$10,IF('Asphalt Plant (AP-9)'!$C$11>0,'Asphalt Plant (AP-9)'!$C$11*365,\"\"))),IF(E22=\"AP-10\",IF(E22=\"AP-10\",IF('Asphalt Plant (AP-10)'!$C$10>0,'Asphalt Plant (AP-10)'!$C$10,IF('Asphalt Plant (AP-10)'!$C$11>0,'Asphalt Plant (AP-10)'!$C$11*365,\"\"))))))))))))))","v":""},null,null,"","","","",null,"","","","","","","","","","","","AP-3",{"$f":"IF('Asphalt Plant (AP-3)'!$C$10>0,'Asphalt Plant (AP-3)'!$C$10,IF('Asphalt Plant (AP-3)'!$C$11>0,'Asphalt Plant (AP-3)'!$C$11*365,\"\"))","v":""}]
[{"$f":"IF('Facility Information'!$C$21>8,\"AP-9\",\"\")","v":""},null,null,null,null,null,null,null,null,"","",null,{"$f":"IF(E23=\"\",\"\",IF(E23=\"AP-1\",IF('Asphalt Plant (AP-1)'!$C$10>0,'Asphalt Plant (AP-1)'!$C$10,IF('Asphalt Plant (AP-1)'!$C$11>0,'Asphalt Plant (AP-1)'!$C$11*365,\"\")),IF(E23=\"AP-2\",IF(E23=\"AP-2\",IF('Asphalt Plant (AP-2)'!$C$10>0,'Asphalt Plant (AP-2)'!$C$10,IF('Asphalt Plant (AP-2)'!$C$11>0,'Asphalt Plant (AP-2)'!$C$11*365,\"\"))),IF(E23=\"AP-3\",IF(E23=\"AP-3\",IF('Asphalt Plant (AP-3)'!$C$10>0,'Asphalt Plant (AP-3)'!$C$10,IF('Asphalt Plant (AP-3)'!$C$11>0,'Asphalt Plant (AP-3)'!$C$11*365,\"\"))),IF(E23=\"AP-4\",IF(E23=\"AP-4\",IF('Asphalt Plant (AP-4)'!$C$10>0,'Asphalt Plant (AP-4)'!$C$10,IF('Asphalt Plant (AP-4)'!$C$11>0,'Asphalt Plant (AP-4)'!$C$11*365,\"\"))),IF(E23=\"AP-5\",IF(E23=\"AP-5\",IF('Asphalt Plant (AP-5)'!$C$10>0,'Asphalt Plant (AP-5)'!$C$10,IF('Asphalt Plant (AP-5)'!$C$11>0,'Asphalt Plant (AP-5)'!$C$11*365,\"\"))),IF(E23=\"AP-6\",IF(E23=\"AP-6\",IF('Asphalt Plant (AP-6)'!$C$10>0,'Asphalt Plant (AP-6)'!$C$10,IF('Asphalt Plant (AP-6)'!$C$11>0,'Asphalt Plant (AP-6)'!$C$11*365,\"\"))),IF(E23=\"AP-7\",IF(E23=\"AP-7\",IF('Asphalt Plant (AP-7)'!$C$10>0,'Asphalt Plant (AP-7)'!$C$10,IF('Asphalt Plant (AP-7)'!$C$11>0,'Asphalt Plant (AP-7)'!$C$11*365,\"\"))),IF(E23=\"AP-8\",IF(E23=\"AP-8\",IF('Asphalt Plant (AP-8)'!$C$10>0,'Asphalt Plant (AP-8)'!$C$10,IF('Asphalt Plant (AP-8)'!$C$11>0,'Asphalt Plant (AP-8)'!$C$11*365,\"\"))),IF(E23=\"AP-9\",IF(E23=\"AP-9\",IF('Asphalt Plant (AP-9)'!$C$10>0,'Asphalt Plant (AP-9)'!$C$10,IF('Asphalt Plant (AP-9)'!$C$11>0,'Asphalt Plant (AP-9)'!$C$11*365,\"\"))),IF(E23=\"AP-10\",IF(E23=\"AP-10\",IF('Asphalt Plant (AP-10)'!$C$10>0,'Asphalt Plant (AP-10)'!$C$10,IF('Asphalt Plant (AP-10)'!$C$11>0,'Asphalt Plant (AP-10)'!$C$11*365,\"\"))))))))))))))","v":""},null,null,"","","","",null,"","","","","","","","","","","","AP-4",{"$f":"IF('Asphalt Plant (AP-4)'!$C$10>0,'Asphalt Plant (AP-4)'!$C$10,IF('Asphalt Plant (AP-4)'!$C$11>0,'Asphalt Plant (AP-4)'!$C$11*365,\"\"))","v":""}]
[{"$f":"IF('Facility Information'!$C$21>9,\"AP-10\",\"\")","v":""},null,null,null,null,null,null,null,null,"","",null,{"$f":"IF(E24=\"\",\"\",IF(E24=\"AP-1\",IF('Asphalt Plant (AP-1)'!$C$10>0,'Asphalt Plant (AP-1)'!$C$10,IF('Asphalt Plant (AP-1)'!$C$11>0,'Asphalt Plant (AP-1)'!$C$11*365,\"\")),IF(E24=\"AP-2\",IF(E24=\"AP-2\",IF('Asphalt Plant (AP-2)'!$C$10>0,'Asphalt Plant (AP-2)'!$C$10,IF('Asphalt Plant (AP-2)'!$C$11>0,'Asphalt Plant (AP-2)'!$C$11*365,\"\"))),IF(E24=\"AP-3\",IF(E24=\"AP-3\",IF('Asphalt Plant (AP-3)'!$C$10>0,'Asphalt Plant (AP-3)'!$C$10,IF('Asphalt Plant (AP-3)'!$C$11>0,'Asphalt Plant (AP-3)'!$C$11*365,\"\"))),IF(E24=\"AP-4\",IF(E24=\"AP-4\",IF('Asphalt Plant (AP-4)'!$C$10>0,'Asphalt Plant (AP-4)'!$C$10,IF('Asphalt Plant (AP-4)'!$C$11>0,'Asphalt Plant (AP-4)'!$C$11*365,\"\"))),IF(E24=\"AP-5\",IF(E24=\"AP-5\",IF('Asphalt Plant (AP-5)'!$C$10>0,'Asphalt Plant (AP-5)'!$C$10,IF('Asphalt Plant (AP-5)'!$C$11>0,'Asphalt Plant (AP-5)'!$C$11*365,\"\"))),IF(E24=\"AP-6\",IF(E24=\"AP-6\",IF('Asphalt Plant (AP-6)'!$C$10>0,'Asphalt Plant (AP-6)'!$C$10,IF('Asphalt Plant (AP-6)'!$C$11>0,'Asphalt Plant (AP-6)'!$C$11*365,\"\"))),IF(E24=\"AP-7\",IF(E24=\"AP-7\",IF('Asphalt Plant (AP-7)'!$C$10>0,'Asphalt Plant (AP-7)'!$C$10,IF('Asphalt Plant (AP-7)'!$C$11>0,'Asphalt Plant (AP-7)'!$C$11*365,\"\"))),IF(E24=\"AP-8\",IF(E24=\"AP-8\",IF('Asphalt Plant (AP-8)'!$C$10>0,'Asphalt Plant (AP-8)'!$C$10,IF('Asphalt Plant (AP-8)'!$C$11>0,'Asphalt Plant (AP-8)'!$C$11*365,\"\"))),IF(E24=\"AP-9\",IF(E24=\"AP-9\",IF('Asphalt Plant (AP-9)'!$C$10>0,'Asphalt Plant (AP-9)'!$C$10,IF('Asphalt Plant (AP-9)'!$C$11>0,'Asphalt Plant (AP-9)'!$C$11*365,\"\"))),IF(E24=\"AP-10\",IF(E24=\"AP-10\",IF('Asphalt Plant (AP-10)'!$C$10>0,'Asphalt Plant (AP-10)'!$C$10,IF('Asphalt Plant (AP-10)'!$C$11>0,'Asphalt Plant (AP-10)'!$C$11*365,\"\"))))))))))))))","v":""},null,null,"","","","",null,"","","","","","","","","","","","AP-5",{"$f":"IF('Asphalt Plant (AP-5)'!$C$10>0,'Asphalt Plant (AP-5)'!$C$10,IF('Asphalt Plant (AP-5)'!$C$11>0,'Asphalt Plant (AP-5)'!$C$11*365,\"\"))","v":""}]
[null,null,null,null,null,null,null,null,null,"","",null,{"$f":"IF(E25=\"\",\"\",IF(E25=\"AP-1\",IF('Asphalt Plant (AP-1)'!$C$10>0,'Asphalt Plant (AP-1)'!$C$10,IF('Asphalt Plant (AP-1)'!$C$11>0,'Asphalt Plant (AP-1)'!$C$11*365,\"\")),IF(E25=\"AP-2\",IF(E25=\"AP-2\",IF('Asphalt Plant (AP-2)'!$C$10>0,'Asphalt Plant (AP-2)'!$C$10,IF('Asphalt Plant (AP-2)'!$C$11>0,'Asphalt Plant (AP-2)'!$C$11*365,\"\"))),IF(E25=\"AP-3\",IF(E25=\"AP-3\",IF('Asphalt Plant (AP-3)'!$C$10>0,'Asphalt Plant (AP-3)'!$C$10,IF('Asphalt Plant (AP-3)'!$C$11>0,'Asphalt Plant (AP-3)'!$C$11*365,\"\"))),IF(E25=\"AP-4\",IF(E25=\"AP-4\",IF('Asphalt Plant (AP-4)'!$C$10>0,'Asphalt Plant (AP-4)'!$C$10,IF('Asphalt Plant (AP-4)'!$C$11>0,'Asphalt Plant (AP-4)'!$C$11*365,\"\"))),IF(E25=\"AP-5\",IF(E25=\"AP-5\",IF('Asphalt Plant (AP-5)'!$C$10>0,'Asphalt Plant (AP-5)'!$C$10,IF('Asphalt Plant (AP-5)'!$C$11>0,'Asphalt Plant (AP-5)'!$C$11*365,\"\"))),IF(E25=\"AP-6\",IF(E25=\"AP-6\",IF('Asphalt Plant (AP-6)'!$C$10>0,'Asphalt Plant (AP-6)'!$C$10,IF('Asphalt Plant (AP-6)'!$C$11>0,'Asphalt Plant (AP-6)'!$C$11*365,\"\"))),IF(E25=\"AP-7\",IF(E25=\"AP-7\",IF('Asphalt Plant (AP-7)'!$C$10>0,'Asphalt Plant (AP-7)'!$C$10,IF('Asphalt Plant (AP-7)'!$C$11>0,'Asphalt Plant (AP-7)'!$C$11*365,\"\"))),IF(E25=\"AP-8\",IF(E25=\"AP-8\",IF('Asphalt Plant (AP-8)'!$C$10>0,'Asphalt Plant (AP-8)'!$C$10,IF('Asphalt Plant (AP-8)'!$C$11>0,'Asphalt Plant (AP-8)'!$C$11*365,\"\"))),IF(E25=\"AP-9\",IF(E25=\"AP-9\",IF('Asphalt Plant (AP-9)'!$C$10>0,'Asphalt Plant (AP-9)'!$C$10,IF('Asphalt Plant (AP-9)'!$C$11>0,'Asphalt Plant (AP-9)'!$C$11*365,\"\"))),IF(E25=\"AP-10\",IF(E25=\"AP-10\",IF('Asphalt Plant (AP-10)'!$C$10>0,'Asphalt Plant (AP-10)'!$C$10,IF('Asphalt Plant (AP-10)'!$C$11>0,'Asphalt Plant (AP-10)'!$C$11*365,\"\"))))))))))))))","v":""},null,null,"","","","",null,"","","","","","","","","","","","AP-6",{"$f":"IF('Asphalt Plant (AP-6)'!$C$10>0,'Asphalt Plant (AP-6)'!$C$10,IF('Asphalt Plant (AP-6)'!$C$11>0,'Asphalt Plant (AP-6)'!$C$11*365,\"\"))","v":""}]
[null,null,null,null,null,null,null,null,null,"","",null,{"$f":"IF(E26=\"\",\"\",IF(E26=\"AP-1\",IF('Asphalt Plant (AP-1)'!$C$10>0,'Asphalt Plant (AP-1)'!$C$10,IF('Asphalt Plant (AP-1)'!$C$11>0,'Asphalt Plant (AP-1)'!$C$11*365,\"\")),IF(E26=\"AP-2\",IF(E26=\"AP-2\",IF('Asphalt Plant (AP-2)'!$C$10>0,'Asphalt Plant (AP-2)'!$C$10,IF('Asphalt Plant (AP-2)'!$C$11>0,'Asphalt Plant (AP-2)'!$C$11*365,\"\"))),IF(E26=\"AP-3\",IF(E26=\"AP-3\",IF('Asphalt Plant (AP-3)'!$C$10>0,'Asphalt Plant (AP-3)'!$C$10,IF('Asphalt Plant (AP-3)'!$C$11>0,'Asphalt Plant (AP-3)'!$C$11*365,\"\"))),IF(E26=\"AP-4\",IF(E26=\"AP-4\",IF('Asphalt Plant (AP-4)'!$C$10>0,'Asphalt Plant (AP-4)'!$C$10,IF('Asphalt Plant (AP-4)'!$C$11>0,'Asphalt Plant (AP-4)'!$C$11*365,\"\"))),IF(E26=\"AP-5\",IF(E26=\"AP-5\",IF('Asphalt Plant (AP-5)'!$C$10>0,'Asphalt Plant (AP-5)'!$C$10,IF('Asphalt Plant (AP-5)'!$C$11>0,'Asphalt Plant (AP-5)'!$C$11*365,\"\"))),IF(E26=\"AP-6\",IF(E26=\"AP-6\",IF('Asphalt Plant (AP-6)'!$C$10>0,'Asphalt Plant (AP-6)'!$C$10,IF('Asphalt Plant (AP-6)'!$C$11>0,'Asphalt Plant (AP-6)'!$C$11*365,\"\"))),IF(E26=\"AP-7\",IF(E26=\"AP-7\",IF('Asphalt Plant (AP-7)'!$C$10>0,'Asphalt Plant (AP-7)'!$C$10,IF('Asphalt Plant (AP-7)'!$C$11>0,'Asphalt Plant (AP-7)'!$C$11*365,\"\"))),IF(E26=\"AP-8\",IF(E26=\"AP-8\",IF('Asphalt Plant (AP-8)'!$C$10>0,'Asphalt Plant (AP-8)'!$C$10,IF('Asphalt Plant (AP-8)'!$C$11>0,'Asphalt Plant (AP-8)'!$C$11*365,\"\"))),IF(E26=\"AP-9\",IF(E26=\"AP-9\",IF('Asphalt Plant (AP-9)'!$C$10>0,'Asphalt Plant (AP-9)'!$C$10,IF('Asphalt Plant (AP-9)'!$C$11>0,'Asphalt Plant (AP-9)'!$C$11*365,\"\"))),IF(E26=\"AP-10\",IF(E26=\"AP-10\",IF('Asphalt Plant (AP-10)'!$C$10>0,'Asphalt Plant (AP-10)'!$C$10,IF('Asphalt Plant (AP-10)'!$C$11>0,'Asphalt Plant (AP-10)'!$C$11*365,\"\"))))))))))))))","v":""},null,null,"","","","",null,"","","","","","","","","","","","AP-7",{"$f":"IF('Asphalt Plant (AP-7)'!$C$10>0,'Asphalt Plant (AP-7)'!$C$10,IF('Asphalt Plant (AP-7)'!$C$11>0,'Asphalt Plant (AP-7)'!$C$11*365,\"\"))","v":""}]
[null,null,null,null,null,null,null,null,null,"","",null,{"$f":"IF(E27=\"\",\"\",IF(E27=\"AP-1\",IF('Asphalt Plant (AP-1)'!$C$10>0,'Asphalt Plant (AP-1)'!$C$10,IF('Asphalt Plant (AP-1)'!$C$11>0,'Asphalt Plant (AP-1)'!$C$11*365,\"\")),IF(E27=\"AP-2\",IF(E27=\"AP-2\",IF('Asphalt Plant (AP-2)'!$C$10>0,'Asphalt Plant (AP-2)'!$C$10,IF('Asphalt Plant (AP-2)'!$C$11>0,'Asphalt Plant (AP-2)'!$C$11*365,\"\"))),IF(E27=\"AP-3\",IF(E27=\"AP-3\",IF('Asphalt Plant (AP-3)'!$C$10>0,'Asphalt Plant (AP-3)'!$C$10,IF('Asphalt Plant (AP-3)'!$C$11>0,'Asphalt Plant (AP-3)'!$C$11*365,\"\"))),IF(E27=\"AP-4\",IF(E27=\"AP-4\",IF('Asphalt Plant (AP-4)'!$C$10>0,'Asphalt Plant (AP-4)'!$C$10,IF('Asphalt Plant (AP-4)'!$C$11>0,'Asphalt Plant (AP-4)'!$C$11*365,\"\"))),IF(E27=\"AP-5\",IF(E27=\"AP-5\",IF('Asphalt Plant (AP-5)'!$C$10>0,'Asphalt Plant (AP-5)'!$C$10,IF('Asphalt Plant (AP-5)'!$C$11>0,'Asphalt Plant (AP-5)'!$C$11*365,\"\"))),IF(E27=\"AP-6\",IF(E27=\"AP-6\",IF('Asphalt Plant (AP-6)'!$C$10>0,'Asphalt Plant (AP-6)'!$C$10,IF('Asphalt Plant (AP-6)'!$C$11>0,'Asphalt Plant (AP-6)'!$C$11*365,\"\"))),IF(E27=\"AP-7\",IF(E27=\"AP-7\",IF('Asphalt Plant (AP-7)'!$C$10>0,'Asphalt Plant (AP-7)'!$C$10,IF('Asphalt Plant (AP-7)'!$C$11>0,'Asphalt Plant (AP-7)'!$C$11*365,\"\"))),IF(E27=\"AP-8\",IF(E27=\"AP-8\",IF('Asphalt Plant (AP-8)'!$C$10>0,'Asphalt Plant (AP-8)'!$C$10,IF('Asphalt Plant (AP-8)'!$C$11>0,'Asphalt Plant (AP-8)'!$C$11*365,\"\"))),IF(E27=\"AP-9\",IF(E27=\"AP-9\",IF('Asphalt Plant (AP-9)'!$C$10>0,'Asphalt Plant (AP-9)'!$C$10,IF('Asphalt Plant (AP-9)'!$C$11>0,'Asphalt Plant (AP-9)'!$C$11*365,\"\"))),IF(E27=\"AP-10\",IF(E27=\"AP-10\",IF('Asphalt Plant (AP-10)'!$C$10>0,'Asphalt Plant (AP-10)'!$C$10,IF('Asphalt Plant (AP-10)'!$C$11>0,'Asphalt Plant (AP-10)'!$C$11*365,\"\"))))))))))))))","v":""},null,null,"","","","",null,"","","","","","","","","","","","AP-8",{"$f":"IF('Asphalt Plant (AP-8)'!$C$10>0,'Asphalt Plant (AP-8)'!$C$10,IF('Asphalt Plant (AP-8)'!$C$11>0,'Asphalt Plant (AP-8)'!$C$11*365,\"\"))","v":""}]
[null,null,null,null,null,null,null,null,null,"","",null,{"$f":"IF(E28=\"\",\"\",IF(E28=\"AP-1\",IF('Asphalt Plant (AP-1)'!$C$10>0,'Asphalt Plant (AP-1)'!$C$10,IF('Asphalt Plant (AP-1)'!$C$11>0,'Asphalt Plant (AP-1)'!$C$11*365,\"\")),IF(E28=\"AP-2\",IF(E28=\"AP-2\",IF('Asphalt Plant (AP-2)'!$C$10>0,'Asphalt Plant (AP-2)'!$C$10,IF('Asphalt Plant (AP-2)'!$C$11>0,'Asphalt Plant (AP-2)'!$C$11*365,\"\"))),IF(E28=\"AP-3\",IF(E28=\"AP-3\",IF('Asphalt Plant (AP-3)'!$C$10>0,'Asphalt Plant (AP-3)'!$C$10,IF('Asphalt Plant (AP-3)'!$C$11>0,'Asphalt Plant (AP-3)'!$C$11*365,\"\"))),IF(E28=\"AP-4\",IF(E28=\"AP-4\",IF('Asphalt Plant (AP-4)'!$C$10>0,'Asphalt Plant (AP-4)'!$C$10,IF('Asphalt Plant (AP-4)'!$C$11>0,'Asphalt Plant (AP-4)'!$C$11*365,\"\"))),IF(E28=\"AP-5\",IF(E28=\"AP-5\",IF('Asphalt Plant (AP-5)'!$C$10>0,'Asphalt Plant (AP-5)'!$C$10,IF('Asphalt Plant (AP-5)'!$C$11>0,'Asphalt Plant (AP-5)'!$C$11*365,\"\"))),IF(E28=\"AP-6\",IF(E28=\"AP-6\",IF('Asphalt Plant (AP-6)'!$C$10>0,'Asphalt Plant (AP-6)'!$C$10,IF('Asphalt Plant (AP-6)'!$C$11>0,'Asphalt Plant (AP-6)'!$C$11*365,\"\"))),IF(E28=\"AP-7\",IF(E28=\"AP-7\",IF('Asphalt Plant (AP-7)'!$C$10>0,'Asphalt Plant (AP-7)'!$C$10,IF('Asphalt Plant (AP-7)'!$C$11>0,'Asphalt Plant (AP-7)'!$C$11*365,\"\"))),IF(E28=\"AP-8\",IF(E28=\"AP-8\",IF('Asphalt Plant (AP-8)'!$C$10>0,'Asphalt Plant (AP-8)'!$C$10,IF('Asphalt Plant (AP-8)'!$C$11>0,'Asphalt Plant (AP-8)'!$C$11*365,\"\"))),IF(E28=\"AP-9\",IF(E28=\"AP-9\",IF('Asphalt Plant (AP-9)'!$C$10>0,'Asphalt Plant (AP-9)'!$C$10,IF('Asphalt Plant (AP-9)'!$C$11>0,'Asphalt Plant (AP-9)'!$C$11*365,\"\"))),IF(E28=\"AP-10\",IF(E28=\"AP-10\",IF('Asphalt Plant (AP-10)'!$C$10>0,'Asphalt Plant (AP-10)'!$C$10,IF('Asphalt Plant (AP-10)'!$C$11>0,'Asphalt Plant (AP-10)'!$C$11*365,\"\"))))))))))))))","v":""},null,null,"","","","",null,"","","","","","","","","","","","AP-9",{"$f":"IF('Asphalt Plant (AP-9)'!$C$10>0,'Asphalt Plant (AP-9)'!$C$10,IF('Asphalt Plant (AP-9)'!$C$11>0,'Asphalt Plant (AP-9)'!$C$11*365,\"\"))","v":""}]
[null,null,null,null,null,null,null,null,null,"","",null,{"$f":"IF(E29=\"\",\"\",IF(E29=\"AP-1\",IF('Asphalt Plant (AP-1)'!$C$10>0,'Asphalt Plant (AP-1)'!$C$10,IF('Asphalt Plant (AP-1)'!$C$11>0,'Asphalt Plant (AP-1)'!$C$11*365,\"\")),IF(E29=\"AP-2\",IF(E29=\"AP-2\",IF('Asphalt Plant (AP-2)'!$C$10>0,'Asphalt Plant (AP-2)'!$C$10,IF('Asphalt Plant (AP-2)'!$C$11>0,'Asphalt Plant (AP-2)'!$C$11*365,\"\"))),IF(E29=\"AP-3\",IF(E29=\"AP-3\",IF('Asphalt Plant (AP-3)'!$C$10>0,'Asphalt Plant (AP-3)'!$C$10,IF('Asphalt Plant (AP-3)'!$C$11>0,'Asphalt Plant (AP-3)'!$C$11*365,\"\"))),IF(E29=\"AP-4\",IF(E29=\"AP-4\",IF('Asphalt Plant (AP-4)'!$C$10>0,'Asphalt Plant (AP-4)'!$C$10,IF('Asphalt Plant (AP-4)'!$C$11>0,'Asphalt Plant (AP-4)'!$C$11*365,\"\"))),IF(E29=\"AP-5\",IF(E29=\"AP-5\",IF('Asphalt Plant (AP-5)'!$C$10>0,'Asphalt Plant (AP-5)'!$C$10,IF('Asphalt Plant (AP-5)'!$C$11>0,'Asphalt Plant (AP-5)'!$C$11*365,\"\"))),IF(E29=\"AP-6\",IF(E29=\"AP-6\",IF('Asphalt Plant (AP-6)'!$C$10>0,'Asphalt Plant (AP-6)'!$C$10,IF('Asphalt Plant (AP-6)'!$C$11>0,'Asphalt Plant (AP-6)'!$C$11*365,\"\"))),IF(E29=\"AP-7\",IF(E29=\"AP-7\",IF('Asphalt Plant (AP-7)'!$C$10>0,'Asphalt Plant (AP-7)'!$C$10,IF('Asphalt Plant (AP-7)'!$C$11>0,'Asphalt Plant (AP-7)'!$C$11*365,\"\"))),IF(E29=\"AP-8\",IF(E29=\"AP-8\",IF('Asphalt Plant (AP-8)'!$C$10>0,'Asphalt Plant (AP-8)'!$C$10,IF('Asphalt Plant (AP-8)'!$C$11>0,'Asphalt Plant (AP-8)'!$C$11*365,\"\"))),IF(E29=\"AP-9\",IF(E29=\"AP-9\",IF('Asphalt Plant (AP-9)'!$C$10>0,'Asphalt Plant (AP-9)'!$C$10,IF('Asphalt Plant (AP-9)'!$C$11>0,'Asphalt Plant (AP-9)'!$C$11*365,\"\"))),IF(E29=\"AP-10\",IF(E29=\"AP-10\",IF('Asphalt Plant (AP-10)'!$C$10>0,'Asphalt Plant (AP-10)'!$C$10,IF('Asphalt Plant (AP-10)'!$C$11>0,'Asphalt Plant (AP-10)'!$C$11*365,\"\"))))))))))))))","v":""},null,null,"","","","",null,"","","","","","","","","","",{"$f":"IF(B29=\"unpaved haul road\",\"x\",\"\")","v":""},"AP-10",{"$f":"IF('Asphalt Plant (AP-10)'!$C$10>0,'Asphalt Plant (AP-10)'!$C$10,IF('Asphalt Plant (AP-10)'!$C$11>0,'Asphalt Plant (AP-10)'!$C$11*365,\"\"))","v":""}]
[null,null,null,null,null,null,null,null,null,"","",null,{"$f":"IF(E30=\"\",\"\",IF(E30=\"AP-1\",IF('Asphalt Plant (AP-1)'!$C$10>0,'Asphalt Plant (AP-1)'!$C$10,IF('Asphalt Plant (AP-1)'!$C$11>0,'Asphalt Plant (AP-1)'!$C$11*365,\"\")),IF(E30=\"AP-2\",IF(E30=\"AP-2\",IF('Asphalt Plant (AP-2)'!$C$10>0,'Asphalt Plant (AP-2)'!$C$10,IF('Asphalt Plant (AP-2)'!$C$11>0,'Asphalt Plant (AP-2)'!$C$11*365,\"\"))),IF(E30=\"AP-3\",IF(E30=\"AP-3\",IF('Asphalt Plant (AP-3)'!$C$10>0,'Asphalt Plant (AP-3)'!$C$10,IF('Asphalt Plant (AP-3)'!$C$11>0,'Asphalt Plant (AP-3)'!$C$11*365,\"\"))),IF(E30=\"AP-4\",IF(E30=\"AP-4\",IF('Asphalt Plant (AP-4)'!$C$10>0,'Asphalt Plant (AP-4)'!$C$10,IF('Asphalt Plant (AP-4)'!$C$11>0,'Asphalt Plant (AP-4)'!$C$11*365,\"\"))),IF(E30=\"AP-5\",IF(E30=\"AP-5\",IF('Asphalt Plant (AP-5)'!$C$10>0,'Asphalt Plant (AP-5)'!$C$10,IF('Asphalt Plant (AP-5)'!$C$11>0,'Asphalt Plant (AP-5)'!$C$11*365,\"\"))),IF(E30=\"AP-6\",IF(E30=\"AP-6\",IF('Asphalt Plant (AP-6)'!$C$10>0,'Asphalt Plant (AP-6)'!$C$10,IF('Asphalt Plant (AP-6)'!$C$11>0,'Asphalt Plant (AP-6)'!$C$11*365,\"\"))),IF(E30=\"AP-7\",IF(E30=\"AP-7\",IF('Asphalt Plant (AP-7)'!$C$10>0,'Asphalt Plant (AP-7)'!$C$10,IF('Asphalt Plant (AP-7)'!$C$11>0,'Asphalt Plant (AP-7)'!$C$11*365,\"\"))),IF(E30=\"AP-8\",IF(E30=\"AP-8\",IF('Asphalt Plant (AP-8)'!$C$10>0,'Asphalt Plant (AP-8)'!$C$10,IF('Asphalt Plant (AP-8)'!$C$11>0,'Asphalt Plant (AP-8)'!$C$11*365,\"\"))),IF(E30=\"AP-9\",IF(E30=\"AP-9\",IF('Asphalt Plant (AP-9)'!$C$10>0,'Asphalt Plant (AP-9)'!$C$10,IF('Asphalt Plant (AP-9)'!$C$11>0,'Asphalt Plant (AP-9)'!$C$11*365,\"\"))),IF(E30=\"AP-10\",IF(E30=\"AP-10\",IF('Asphalt Plant (AP-10)'!$C$10>0,'Asphalt Plant (AP-10)'!$C$10,IF('Asphalt Plant (AP-10)'!$C$11>0,'Asphalt Plant (AP-10)'!$C$11*365,\"\"))))))))))))))","v":""},null,null,"","","","",null,"","","","","","","","","","",""]
[null,null,null,null,null,null,null,null,null,"","",null,{"$f":"IF(E31=\"\",\"\",IF(E31=\"AP-1\",IF('Asphalt Plant (AP-1)'!$C$10>0,'Asphalt Plant (AP-1)'!$C$10,IF('Asphalt Plant (AP-1)'!$C$11>0,'Asphalt Plant (AP-1)'!$C$11*365,\"\")),IF(E31=\"AP-2\",IF(E31=\"AP-2\",IF('Asphalt Plant (AP-2)'!$C$10>0,'Asphalt Plant (AP-2)'!$C$10,IF('Asphalt Plant (AP-2)'!$C$11>0,'Asphalt Plant (AP-2)'!$C$11*365,\"\"))),IF(E31=\"AP-3\",IF(E31=\"AP-3\",IF('Asphalt Plant (AP-3)'!$C$10>0,'Asphalt Plant (AP-3)'!$C$10,IF('Asphalt Plant (AP-3)'!$C$11>0,'Asphalt Plant (AP-3)'!$C$11*365,\"\"))),IF(E31=\"AP-4\",IF(E31=\"AP-4\",IF('Asphalt Plant (AP-4)'!$C$10>0,'Asphalt Plant (AP-4)'!$C$10,IF('Asphalt Plant (AP-4)'!$C$11>0,'Asphalt Plant (AP-4)'!$C$11*365,\"\"))),IF(E31=\"AP-5\",IF(E31=\"AP-5\",IF('Asphalt Plant (AP-5)'!$C$10>0,'Asphalt Plant (AP-5)'!$C$10,IF('Asphalt Plant (AP-5)'!$C$11>0,'Asphalt Plant (AP-5)'!$C$11*365,\"\"))),IF(E31=\"AP-6\",IF(E31=\"AP-6\",IF('Asphalt Plant (AP-6)'!$C$10>0,'Asphalt Plant (AP-6)'!$C$10,IF('Asphalt Plant (AP-6)'!$C$11>0,'Asphalt Plant (AP-6)'!$C$11*365,\"\"))),IF(E31=\"AP-7\",IF(E31=\"AP-7\",IF('Asphalt Plant (AP-7)'!$C$10>0,'Asphalt Plant (AP-7)'!$C$10,IF('Asphalt Plant (AP-7)'!$C$11>0,'Asphalt Plant (AP-7)'!$C$11*365,\"\"))),IF(E31=\"AP-8\",IF(E31=\"AP-8\",IF('Asphalt Plant (AP-8)'!$C$10>0,'Asphalt Plant (AP-8)'!$C$10,IF('Asphalt Plant (AP-8)'!$C$11>0,'Asphalt Plant (AP-8)'!$C$11*365,\"\"))),IF(E31=\"AP-9\",IF(E31=\"AP-9\",IF('Asphalt Plant (AP-9)'!$C$10>0,'Asphalt Plant (AP-9)'!$C$10,IF('Asphalt Plant (AP-9)'!$C$11>0,'Asphalt Plant (AP-9)'!$C$11*365,\"\"))),IF(E31=\"AP-10\",IF(E31=\"AP-10\",IF('Asphalt Plant (AP-10)'!$C$10>0,'Asphalt Plant (AP-10)'!$C$10,IF('Asphalt Plant (AP-10)'!$C$11>0,'Asphalt Plant (AP-10)'!$C$11*365,\"\"))))))))))))))","v":""},null,null,"","","","",null,"","","","","","","","","","",""]
[null,null,null,null,null,null,null,null,null,"","",null,{"$f":"IF(E32=\"\",\"\",IF(E32=\"AP-1\",IF('Asphalt Plant (AP-1)'!$C$10>0,'Asphalt Plant (AP-1)'!$C$10,IF('Asphalt Plant (AP-1)'!$C$11>0,'Asphalt Plant (AP-1)'!$C$11*365,\"\")),IF(E32=\"AP-2\",IF(E32=\"AP-2\",IF('Asphalt Plant (AP-2)'!$C$10>0,'Asphalt Plant (AP-2)'!$C$10,IF('Asphalt Plant (AP-2)'!$C$11>0,'Asphalt Plant (AP-2)'!$C$11*365,\"\"))),IF(E32=\"AP-3\",IF(E32=\"AP-3\",IF('Asphalt Plant (AP-3)'!$C$10>0,'Asphalt Plant (AP-3)'!$C$10,IF('Asphalt Plant (AP-3)'!$C$11>0,'Asphalt Plant (AP-3)'!$C$11*365,\"\"))),IF(E32=\"AP-4\",IF(E32=\"AP-4\",IF('Asphalt Plant (AP-4)'!$C$10>0,'Asphalt Plant (AP-4)'!$C$10,IF('Asphalt Plant (AP-4)'!$C$11>0,'Asphalt Plant (AP-4)'!$C$11*365,\"\"))),IF(E32=\"AP-5\",IF(E32=\"AP-5\",IF('Asphalt Plant (AP-5)'!$C$10>0,'Asphalt Plant (AP-5)'!$C$10,IF('Asphalt Plant (AP-5)'!$C$11>0,'Asphalt Plant (AP-5)'!$C$11*365,\"\"))),IF(E32=\"AP-6\",IF(E32=\"AP-6\",IF('Asphalt Plant (AP-6)'!$C$10>0,'Asphalt Plant (AP-6)'!$C$10,IF('Asphalt Plant (AP-6)'!$C$11>0,'Asphalt Plant (AP-6)'!$C$11*365,\"\"))),IF(E32=\"AP-7\",IF(E32=\"AP-7\",IF('Asphalt Plant (AP-7)'!$C$10>0,'Asphalt Plant (AP-7)'!$C$10,IF('Asphalt Plant (AP-7)'!$C$11>0,'Asphalt Plant (AP-7)'!$C$11*365,\"\"))),IF(E32=\"AP-8\",IF(E32=\"AP-8\",IF('Asphalt Plant (AP-8)'!$C$10>0,'Asphalt Plant (AP-8)'!$C$10,IF('Asphalt Plant (AP-8)'!$C$11>0,'Asphalt Plant (AP-8)'!$C$11*365,\"\"))),IF(E32=\"AP-9\",IF(E32=\"AP-9\",IF('Asphalt Plant (AP-9)'!$C$10>0,'Asphalt Plant (AP-9)'!$C$10,IF('Asphalt Plant (AP-9)'!$C$11>0,'Asphalt Plant (AP-9)'!$C$11*365,\"\"))),IF(E32=\"AP-10\",IF(E32=\"AP-10\",IF('Asphalt Plant (AP-10)'!$C$10>0,'Asphalt Plant (AP-10)'!$C$10,IF('Asphalt Plant (AP-10)'!$C$11>0,'Asphalt Plant (AP-10)'!$C$11*365,\"\"))))))))))))))","v":""},null,null,"","","","",null,"","","","","","","","","","",""]
[null,null,null,null,null,null,null,null,null,"","",null,{"$f":"IF(E33=\"\",\"\",IF(E33=\"AP-1\",IF('Asphalt Plant (AP-1)'!$C$10>0,'Asphalt Plant (AP-1)'!$C$10,IF('Asphalt Plant (AP-1)'!$C$11>0,'Asphalt Plant (AP-1)'!$C$11*365,\"\")),IF(E33=\"AP-2\",IF(E33=\"AP-2\",IF('Asphalt Plant (AP-2)'!$C$10>0,'Asphalt Plant (AP-2)'!$C$10,IF('Asphalt Plant (AP-2)'!$C$11>0,'Asphalt Plant (AP-2)'!$C$11*365,\"\"))),IF(E33=\"AP-3\",IF(E33=\"AP-3\",IF('Asphalt Plant (AP-3)'!$C$10>0,'Asphalt Plant (AP-3)'!$C$10,IF('Asphalt Plant (AP-3)'!$C$11>0,'Asphalt Plant (AP-3)'!$C$11*365,\"\"))),IF(E33=\"AP-4\",IF(E33=\"AP-4\",IF('Asphalt Plant (AP-4)'!$C$10>0,'Asphalt Plant (AP-4)'!$C$10,IF('Asphalt Plant (AP-4)'!$C$11>0,'Asphalt Plant (AP-4)'!$C$11*365,\"\"))),IF(E33=\"AP-5\",IF(E33=\"AP-5\",IF('Asphalt Plant (AP-5)'!$C$10>0,'Asphalt Plant (AP-5)'!$C$10,IF('Asphalt Plant (AP-5)'!$C$11>0,'Asphalt Plant (AP-5)'!$C$11*365,\"\"))),IF(E33=\"AP-6\",IF(E33=\"AP-6\",IF('Asphalt Plant (AP-6)'!$C$10>0,'Asphalt Plant (AP-6)'!$C$10,IF('Asphalt Plant (AP-6)'!$C$11>0,'Asphalt Plant (AP-6)'!$C$11*365,\"\"))),IF(E33=\"AP-7\",IF(E33=\"AP-7\",IF('Asphalt Plant (AP-7)'!$C$10>0,'Asphalt Plant (AP-7)'!$C$10,IF('Asphalt Plant (AP-7)'!$C$11>0,'Asphalt Plant (AP-7)'!$C$11*365,\"\"))),IF(E33=\"AP-8\",IF(E33=\"AP-8\",IF('Asphalt Plant (AP-8)'!$C$10>0,'Asphalt Plant (AP-8)'!$C$10,IF('Asphalt Plant (AP-8)'!$C$11>0,'Asphalt Plant (AP-8)'!$C$11*365,\"\"))),IF(E33=\"AP-9\",IF(E33=\"AP-9\",IF('Asphalt Plant (AP-9)'!$C$10>0,'Asphalt Plant (AP-9)'!$C$10,IF('Asphalt Plant (AP-9)'!$C$11>0,'Asphalt Plant (AP-9)'!$C$11*365,\"\"))),IF(E33=\"AP-10\",IF(E33=\"AP-10\",IF('Asphalt Plant (AP-10)'!$C$10>0,'Asphalt Plant (AP-10)'!$C$10,IF('Asphalt Plant (AP-10)'!$C$11>0,'Asphalt Plant (AP-10)'!$C$11*365,\"\"))))))))))))))","v":""},null,null,"","","","",null,"","","","","","","","","","",""]
[null,null,null,null,null,null,null,null,null,"","",null,{"$f":"IF(E34=\"\",\"\",IF(E34=\"AP-1\",IF('Asphalt Plant (AP-1)'!$C$10>0,'Asphalt Plant (AP-1)'!$C$10,IF('Asphalt Plant (AP-1)'!$C$11>0,'Asphalt Plant (AP-1)'!$C$11*365,\"\")),IF(E34=\"AP-2\",IF(E34=\"AP-2\",IF('Asphalt Plant (AP-2)'!$C$10>0,'Asphalt Plant (AP-2)'!$C$10,IF('Asphalt Plant (AP-2)'!$C$11>0,'Asphalt Plant (AP-2)'!$C$11*365,\"\"))),IF(E34=\"AP-3\",IF(E34=\"AP-3\",IF('Asphalt Plant (AP-3)'!$C$10>0,'Asphalt Plant (AP-3)'!$C$10,IF('Asphalt Plant (AP-3)'!$C$11>0,'Asphalt Plant (AP-3)'!$C$11*365,\"\"))),IF(E34=\"AP-4\",IF(E34=\"AP-4\",IF('Asphalt Plant (AP-4)'!$C$10>0,'Asphalt Plant (AP-4)'!$C$10,IF('Asphalt Plant (AP-4)'!$C$11>0,'Asphalt Plant (AP-4)'!$C$11*365,\"\"))),IF(E34=\"AP-5\",IF(E34=\"AP-5\",IF('Asphalt Plant (AP-5)'!$C$10>0,'Asphalt Plant (AP-5)'!$C$10,IF('Asphalt Plant (AP-5)'!$C$11>0,'Asphalt Plant (AP-5)'!$C$11*365,\"\"))),IF(E34=\"AP-6\",IF(E34=\"AP-6\",IF('Asphalt Plant (AP-6)'!$C$10>0,'Asphalt Plant (AP-6)'!$C$10,IF('Asphalt Plant (AP-6)'!$C$11>0,'Asphalt Plant (AP-6)'!$C$11*365,\"\"))),IF(E34=\"AP-7\",IF(E34=\"AP-7\",IF('Asphalt Plant (AP-7)'!$C$10>0,'Asphalt Plant (AP-7)'!$C$10,IF('Asphalt Plant (AP-7)'!$C$11>0,'Asphalt Plant (AP-7)'!$C$11*365,\"\"))),IF(E34=\"AP-8\",IF(E34=\"AP-8\",IF('Asphalt Plant (AP-8)'!$C$10>0,'Asphalt Plant (AP-8)'!$C$10,IF('Asphalt Plant (AP-8)'!$C$11>0,'Asphalt Plant (AP-8)'!$C$11*365,\"\"))),IF(E34=\"AP-9\",IF(E34=\"AP-9\",IF('Asphalt Plant (AP-9)'!$C$10>0,'Asphalt Plant (AP-9)'!$C$10,IF('Asphalt Plant (AP-9)'!$C$11>0,'Asphalt Plant (AP-9)'!$C$11*365,\"\"))),IF(E34=\"AP-10\",IF(E34=\"AP-10\",IF('Asphalt Plant (AP-10)'!$C$10>0,'Asphalt Plant (AP-10)'!$C$10,IF('Asphalt Plant (AP-10)'!$C$11>0,'Asphalt Plant (AP-10)'!$C$11*365,\"\"))))))))))))))","v":""},null,null,"","","","",null,"","","","","","","","","","",""]
[null,null,null,null,null,null,null,null,null,"","",null,{"$f":"IF(E35=\"\",\"\",IF(E35=\"AP-1\",IF('Asphalt Plant (AP-1)'!$C$10>0,'Asphalt Plant (AP-1)'!$C$10,IF('Asphalt Plant (AP-1)'!$C$11>0,'Asphalt Plant (AP-1)'!$C$11*365,\"\")),IF(E35=\"AP-2\",IF(E35=\"AP-2\",IF('Asphalt Plant (AP-2)'!$C$10>0,'Asphalt Plant (AP-2)'!$C$10,IF('Asphalt Plant (AP-2)'!$C$11>0,'Asphalt Plant (AP-2)'!$C$11*365,\"\"))),IF(E35=\"AP-3\",IF(E35=\"AP-3\",IF('Asphalt Plant (AP-3)'!$C$10>0,'Asphalt Plant (AP-3)'!$C$10,IF('Asphalt Plant (AP-3)'!$C$11>0,'Asphalt Plant (AP-3)'!$C$11*365,\"\"))),IF(E35=\"AP-4\",IF(E35=\"AP-4\",IF('Asphalt Plant (AP-4)'!$C$10>0,'Asphalt Plant (AP-4)'!$C$10,IF('Asphalt Plant (AP-4)'!$C$11>0,'Asphalt Plant (AP-4)'!$C$11*365,\"\"))),IF(E35=\"AP-5\",IF(E35=\"AP-5\",IF('Asphalt Plant (AP-5)'!$C$10>0,'Asphalt Plant (AP-5)'!$C$10,IF('Asphalt Plant (AP-5)'!$C$11>0,'Asphalt Plant (AP-5)'!$C$11*365,\"\"))),IF(E35=\"AP-6\",IF(E35=\"AP-6\",IF('Asphalt Plant (AP-6)'!$C$10>0,'Asphalt Plant (AP-6)'!$C$10,IF('Asphalt Plant (AP-6)'!$C$11>0,'Asphalt Plant (AP-6)'!$C$11*365,\"\"))),IF(E35=\"AP-7\",IF(E35=\"AP-7\",IF('Asphalt Plant (AP-7)'!$C$10>0,'Asphalt Plant (AP-7)'!$C$10,IF('Asphalt Plant (AP-7)'!$C$11>0,'Asphalt Plant (AP-7)'!$C$11*365,\"\"))),IF(E35=\"AP-8\",IF(E35=\"AP-8\",IF('Asphalt Plant (AP-8)'!$C$10>0,'Asphalt Plant (AP-8)'!$C$10,IF('Asphalt Plant (AP-8)'!$C$11>0,'Asphalt Plant (AP-8)'!$C$11*365,\"\"))),IF(E35=\"AP-9\",IF(E35=\"AP-9\",IF('Asphalt Plant (AP-9)'!$C$10>0,'Asphalt Plant (AP-9)'!$C$10,IF('Asphalt Plant (AP-9)'!$C$11>0,'Asphalt Plant (AP-9)'!$C$11*365,\"\"))),IF(E35=\"AP-10\",IF(E35=\"AP-10\",IF('Asphalt Plant (AP-10)'!$C$10>0,'Asphalt Plant (AP-10)'!$C$10,IF('Asphalt Plant (AP-10)'!$C$11>0,'Asphalt Plant (AP-10)'!$C$11*365,\"\"))))))))))))))","v":""},null,null,"","","","",null,"","","","","","","","","","",""]
[null,null,null,null,null,null,null,null,null,"","",null,{"$f":"IF(E36=\"\",\"\",IF(E36=\"AP-1\",IF('Asphalt Plant (AP-1)'!$C$10>0,'Asphalt Plant (AP-1)'!$C$10,IF('Asphalt Plant (AP-1)'!$C$11>0,'Asphalt Plant (AP-1)'!$C$11*365,\"\")),IF(E36=\"AP-2\",IF(E36=\"AP-2\",IF('Asphalt Plant (AP-2)'!$C$10>0,'Asphalt Plant (AP-2)'!$C$10,IF('Asphalt Plant (AP-2)'!$C$11>0,'Asphalt Plant (AP-2)'!$C$11*365,\"\"))),IF(E36=\"AP-3\",IF(E36=\"AP-3\",IF('Asphalt Plant (AP-3)'!$C$10>0,'Asphalt Plant (AP-3)'!$C$10,IF('Asphalt Plant (AP-3)'!$C$11>0,'Asphalt Plant (AP-3)'!$C$11*365,\"\"))),IF(E36=\"AP-4\",IF(E36=\"AP-4\",IF('Asphalt Plant (AP-4)'!$C$10>0,'Asphalt Plant (AP-4)'!$C$10,IF('Asphalt Plant (AP-4)'!$C$11>0,'Asphalt Plant (AP-4)'!$C$11*365,\"\"))),IF(E36=\"AP-5\",IF(E36=\"AP-5\",IF('Asphalt Plant (AP-5)'!$C$10>0,'Asphalt Plant (AP-5)'!$C$10,IF('Asphalt Plant (AP-5)'!$C$11>0,'Asphalt Plant (AP-5)'!$C$11*365,\"\"))),IF(E36=\"AP-6\",IF(E36=\"AP-6\",IF('Asphalt Plant (AP-6)'!$C$10>0,'Asphalt Plant (AP-6)'!$C$10,IF('Asphalt Plant (AP-6)'!$C$11>0,'Asphalt Plant (AP-6)'!$C$11*365,\"\"))),IF(E36=\"AP-7\",IF(E36=\"AP-7\",IF('Asphalt Plant (AP-7)'!$C$10>0,'Asphalt Plant (AP-7)'!$C$10,IF('Asphalt Plant (AP-7)'!$C$11>0,'Asphalt Plant (AP-7)'!$C$11*365,\"\"))),IF(E36=\"AP-8\",IF(E36=\"AP-8\",IF('Asphalt Plant (AP-8)'!$C$10>0,'Asphalt Plant (AP-8)'!$C$10,IF('Asphalt Plant (AP-8)'!$C$11>0,'Asphalt Plant (AP-8)'!$C$11*365,\"\"))),IF(E36=\"AP-9\",IF(E36=\"AP-9\",IF('Asphalt Plant (AP-9)'!$C$10>0,'Asphalt Plant (AP-9)'!$C$10,IF('Asphalt Plant (AP-9)'!$C$11>0,'Asphalt Plant (AP-9)'!$C$11*365,\"\"))),IF(E36=\"AP-10\",IF(E36=\"AP-10\",IF('Asphalt Plant (AP-10)'!$C$10>0,'Asphalt Plant (AP-10)'!$C$10,IF('Asphalt Plant (AP-10)'!$C$11>0,'Asphalt Plant (AP-10)'!$C$11*365,\"\"))))))))))))))","v":""},null,null,"","","","",null,"","","","","","","","","","",""]
[null,null,null,null,null,null,null,null,null,"","",null,{"$f":"IF(E37=\"\",\"\",IF(E37=\"AP-1\",IF('Asphalt Plant (AP-1)'!$C$10>0,'Asphalt Plant (AP-1)'!$C$10,IF('Asphalt Plant (AP-1)'!$C$11>0,'Asphalt Plant (AP-1)'!$C$11*365,\"\")),IF(E37=\"AP-2\",IF(E37=\"AP-2\",IF('Asphalt Plant (AP-2)'!$C$10>0,'Asphalt Plant (AP-2)'!$C$10,IF('Asphalt Plant (AP-2)'!$C$11>0,'Asphalt Plant (AP-2)'!$C$11*365,\"\"))),IF(E37=\"AP-3\",IF(E37=\"AP-3\",IF('Asphalt Plant (AP-3)'!$C$10>0,'Asphalt Plant (AP-3)'!$C$10,IF('Asphalt Plant (AP-3)'!$C$11>0,'Asphalt Plant (AP-3)'!$C$11*365,\"\"))),IF(E37=\"AP-4\",IF(E37=\"AP-4\",IF('Asphalt Plant (AP-4)'!$C$10>0,'Asphalt Plant (AP-4)'!$C$10,IF('Asphalt Plant (AP-4)'!$C$11>0,'Asphalt Plant (AP-4)'!$C$11*365,\"\"))),IF(E37=\"AP-5\",IF(E37=\"AP-5\",IF('Asphalt Plant (AP-5)'!$C$10>0,'Asphalt Plant (AP-5)'!$C$10,IF('Asphalt Plant (AP-5)'!$C$11>0,'Asphalt Plant (AP-5)'!$C$11*365,\"\"))),IF(E37=\"AP-6\",IF(E37=\"AP-6\",IF('Asphalt Plant (AP-6)'!$C$10>0,'Asphalt Plant (AP-6)'!$C$10,IF('Asphalt Plant (AP-6)'!$C$11>0,'Asphalt Plant (AP-6)'!$C$11*365,\"\"))),IF(E37=\"AP-7\",IF(E37=\"AP-7\",IF('Asphalt Plant (AP-7)'!$C$10>0,'Asphalt Plant (AP-7)'!$C$10,IF('Asphalt Plant (AP-7)'!$C$11>0,'Asphalt Plant (AP-7)'!$C$11*365,\"\"))),IF(E37=\"AP-8\",IF(E37=\"AP-8\",IF('Asphalt Plant (AP-8)'!$C$10>0,'Asphalt Plant (AP-8)'!$C$10,IF('Asphalt Plant (AP-8)'!$C$11>0,'Asphalt Plant (AP-8)'!$C$11*365,\"\"))),IF(E37=\"AP-9\",IF(E37=\"AP-9\",IF('Asphalt Plant (AP-9)'!$C$10>0,'Asphalt Plant (AP-9)'!$C$10,IF('Asphalt Plant (AP-9)'!$C$11>0,'Asphalt Plant (AP-9)'!$C$11*365,\"\"))),IF(E37=\"AP-10\",IF(E37=\"AP-10\",IF('Asphalt Plant (AP-10)'!$C$10>0,'Asphalt Plant (AP-10)'!$C$10,IF('Asphalt Plant (AP-10)'!$C$11>0,'Asphalt Plant (AP-10)'!$C$11*365,\"\"))))))))))))))","v":""},null,null,"","","","",null,"","","","","","","","","","",""]
[null,null,null,null,null,null,null,null,null,"","",null,{"$f":"IF(E38=\"\",\"\",IF(E38=\"AP-1\",IF('Asphalt Plant (AP-1)'!$C$10>0,'Asphalt Plant (AP-1)'!$C$10,IF('Asphalt Plant (AP-1)'!$C$11>0,'Asphalt Plant (AP-1)'!$C$11*365,\"\")),IF(E38=\"AP-2\",IF(E38=\"AP-2\",IF('Asphalt Plant (AP-2)'!$C$10>0,'Asphalt Plant (AP-2)'!$C$10,IF('Asphalt Plant (AP-2)'!$C$11>0,'Asphalt Plant (AP-2)'!$C$11*365,\"\"))),IF(E38=\"AP-3\",IF(E38=\"AP-3\",IF('Asphalt Plant (AP-3)'!$C$10>0,'Asphalt Plant (AP-3)'!$C$10,IF('Asphalt Plant (AP-3)'!$C$11>0,'Asphalt Plant (AP-3)'!$C$11*365,\"\"))),IF(E38=\"AP-4\",IF(E38=\"AP-4\",IF('Asphalt Plant (AP-4)'!$C$10>0,'Asphalt Plant (AP-4)'!$C$10,IF('Asphalt Plant (AP-4)'!$C$11>0,'Asphalt Plant (AP-4)'!$C$11*365,\"\"))),IF(E38=\"AP-5\",IF(E38=\"AP-5\",IF('Asphalt Plant (AP-5)'!$C$10>0,'Asphalt Plant (AP-5)'!$C$10,IF('Asphalt Plant (AP-5)'!$C$11>0,'Asphalt Plant (AP-5)'!$C$11*365,\"\"))),IF(E38=\"AP-6\",IF(E38=\"AP-6\",IF('Asphalt Plant (AP-6)'!$C$10>0,'Asphalt Plant (AP-6)'!$C$10,IF('Asphalt Plant (AP-6)'!$C$11>0,'Asphalt Plant (AP-6)'!$C$11*365,\"\"))),IF(E38=\"AP-7\",IF(E38=\"AP-7\",IF('Asphalt Plant (AP-7)'!$C$10>0,'Asphalt Plant (AP-7)'!$C$10,IF('Asphalt Plant (AP-7)'!$C$11>0,'Asphalt Plant (AP-7)'!$C$11*365,\"\"))),IF(E38=\"AP-8\",IF(E38=\"AP-8\",IF('Asphalt Plant (AP-8)'!$C$10>0,'Asphalt Plant (AP-8)'!$C$10,IF('Asphalt Plant (AP-8)'!$C$11>0,'Asphalt Plant (AP-8)'!$C$11*365,\"\"))),IF(E38=\"AP-9\",IF(E38=\"AP-9\",IF('Asphalt Plant (AP-9)'!$C$10>0,'Asphalt Plant (AP-9)'!$C$10,IF('Asphalt Plant (AP-9)'!$C$11>0,'Asphalt Plant (AP-9)'!$C$11*365,\"\"))),IF(E38=\"AP-10\",IF(E38=\"AP-10\",IF('Asphalt Plant (AP-10)'!$C$10>0,'Asphalt Plant (AP-10)'!$C$10,IF('Asphalt Plant (AP-10)'!$C$11>0,'Asphalt Plant (AP-10)'!$C$11*365,\"\"))))))))))))))","v":""},null,null,"","","","",null,"","","","","","","","","","",""]
[null,null,null,null,null,null,null,null,null,null,null,{"$f":"(SUM(IF(AE9=\"x\",L9,0),IF(AE10=\"x\",L10,0),IF(AE11=\"x\",L11,0),IF(AE12=\"x\",L12,0),IF(AE13=\"x\",L13,0),IF(AE14=\"x\",L14,0),IF(AE15=\"x\",L15,0),IF(AE16=\"x\",L16,0),IF(AE17=\"x\",L17,0),IF(AE18=\"x\",L18,0),IF(AE19=\"x\",L19,0),IF(AE20=\"x\",L20,0),IF(AE21=\"x\",L21,0),IF(AE22=\"x\",L22,0),IF(AE23=\"x\",L23,0),IF(AE24=\"x\",L24,0),IF(AE25=\"x\",L25,0),IF(AE26=\"x\",L26,0),IF(AE27=\"x\",L27,0),IF(AE28=\"x\",L28,0),IF(AE29=\"x\",L29,0),IF(AE30=\"x\",L30,0),IF(AE31=\"x\",L31,0),IF(AE32=\"x\",L32,0),IF(AE33=\"x\",L33,0),IF(AE34=\"x\",L34,0),IF(AE35=\"x\",L35,0),IF(AE36=\"x\",L36,0),IF(AE37=\"x\",L37,0),IF(AE38=\"x\",L38,0)))","v":0},null,null,null,{"$f":"(SUM(IF(AE9=\"x\",P9,0),IF(AE10=\"x\",P10,0),IF(AE11=\"x\",P11,0),IF(AE12=\"x\",P12,0),IF(AE13=\"x\",P13,0),IF(AE14=\"x\",P14,0),IF(AE15=\"x\",P15,0),IF(AE16=\"x\",P16,0),IF(AE17=\"x\",P17,0),IF(AE18=\"x\",P18,0),IF(AE19=\"x\",P19,0),IF(AE20=\"x\",P20,0),IF(AE21=\"x\",P21,0),IF(AE22=\"x\",P22,0),IF(AE23=\"x\",P23,0),IF(AE24=\"x\",P24,0),IF(AE25=\"x\",P25,0),IF(AE26=\"x\",P26,0),IF(AE27=\"x\",P27,0),IF(AE28=\"x\",P28,0),IF(AE29=\"x\",P29,0),IF(AE30=\"x\",P30,0),IF(AE31=\"x\",P31,0),IF(AE32=\"x\",P32,0),IF(AE33=\"x\",P33,0),IF(AE34=\"x\",P34,0),IF(AE35=\"x\",P35,0),IF(AE36=\"x\",P36,0),IF(AE37=\"x\",P37,0),IF(AE38=\"x\",P38,0)))","v":0},null,null,null,"Unpaved",{"$f":"(MAX(IF(AE9=\"x\",U9,0),IF(AE10=\"x\",U10,0),IF(AE11=\"x\",U11,0),IF(AE12=\"x\",U12,0),IF(AE13=\"x\",U13,0),IF(AE14=\"x\",U14,0),IF(AE15=\"x\",U15,0),IF(AE16=\"x\",U16,0),IF(AE17=\"x\",U17,0),IF(AE18=\"x\",U18,0),IF(AE29=\"x\",U29,0),IF(AE30=\"x\",U30,0),IF(AE31=\"x\",U31,0),IF(AE32=\"x\",U32,0),IF(AE33=\"x\",U33,0),IF(AE34=\"x\",U34,0),IF(AE35=\"x\",U35,0),IF(AE36=\"x\",U36,0),IF(AE37=\"x\",U37,0),IF(AE38=\"x\",U38,0)))","v":0},{"$f":"(SUM(IF(AE9=\"x\",V9,0),IF(AE10=\"x\",V10,0),IF(AE11=\"x\",V11,0),IF(AE12=\"x\",V12,0),IF(AE13=\"x\",V13,0),IF(AE14=\"x\",V14,0),IF(AE15=\"x\",V15,0),IF(AE16=\"x\",V16,0),IF(AE17=\"x\",V17,0),IF(AE18=\"x\",V18,0),IF(AE29=\"x\",V29,0),IF(AE30=\"x\",V30,0),IF(AE31=\"x\",V31,0),IF(AE32=\"x\",V32,0),IF(AE33=\"x\",V33,0),IF(AE34=\"x\",V34,0),IF(AE35=\"x\",V35,0),IF(AE36=\"x\",V36,0),IF(AE37=\"x\",V37,0),IF(AE38=\"x\",V38,0)))","v":0},{"$f":"SUM(W9:W38)","v":0},"",null,{"$f":"(MAX(IF(AE9=\"x\",Z9,0),IF(AE10=\"x\",Z10,0),IF(AE11=\"x\",Z11,0),IF(AE12=\"x\",Z12,0),IF(AE13=\"x\",Z13,0),IF(AE14=\"x\",Z14,0),IF(AE15=\"x\",Z15,0),IF(AE16=\"x\",Z16,0),IF(AE17=\"x\",Z17,0),IF(AE18=\"x\",Z18,0),IF(AE29=\"x\",Z29,0),IF(AE30=\"x\",Z30,0),IF(AE31=\"x\",Z31,0),IF(AE32=\"x\",Z32,0),IF(AE33=\"x\",Z33,0),IF(AE34=\"x\",Z34,0),IF(AE35=\"x\",Z35,0),IF(AE36=\"x\",Z36,0),IF(AE37=\"x\",Z37,0),IF(AE38=\"x\",Z38,0)))","v":0},{"$f":"(SUM(IF(AE9=\"x\",AA9,0),IF(AE10=\"x\",AA10,0),IF(AE11=\"x\",AA11,0),IF(AE12=\"x\",AA12,0),IF(AE13=\"x\",AA13,0),IF(AE14=\"x\",AA14,0),IF(AE15=\"x\",AA15,0),IF(AE16=\"x\",AA16,0),IF(AE17=\"x\",AA17,0),IF(AE18=\"x\",AA18,0),IF(AE29=\"x\",AA29,0),IF(AE30=\"x\",AA30,0),IF(AE31=\"x\",AA31,0),IF(AE32=\"x\",AA32,0),IF(AE33=\"x\",AA33,0),IF(AE34=\"x\",AA34,0),IF(AE35=\"x\",AA35,0),IF(AE36=\"x\",AA36,0),IF(AE37=\"x\",AA37,0),IF(AE38=\"x\",AA38,0)))","v":0},{"$f":"SUM(AB9:AB38)","v":0},""]
[null,null,null,null,null,null,null,null,null,null,null,{"$f":"(SUM(IF(AE9=\"x\",0,L9),IF(AE10=\"x\",0,L10),IF(AE11=\"x\",0,L11),IF(AE12=\"x\",0,L12),IF(AE13=\"x\",0,L13),IF(AE14=\"x\",0,L14),IF(AE15=\"x\",0,L15),IF(AE16=\"x\",0,L16),IF(AE17=\"x\",0,L17),IF(AE18=\"x\",0,L18),IF(AE19=\"x\",0,L19),IF(AE20=\"x\",0,L20),IF(AE21=\"x\",0,L21),IF(AE22=\"x\",0,L22),IF(AE23=\"x\",0,L23),IF(AE24=\"x\",0,L24),IF(AE25=\"x\",0,L25),IF(AE26=\"x\",0,L26),IF(AE27=\"x\",0,L27),IF(AE28=\"x\",0,L28),IF(AE29=\"x\",0,L29),IF(AE30=\"x\",0,L30),IF(AE31=\"x\",0,L31),IF(AE32=\"x\",0,L32),IF(AE33=\"x\",0,L33),IF(AE34=\"x\",0,L34),IF(AE35=\"x\",0,L35),IF(AE36=\"x\",0,L36),IF(AE37=\"x\",0,L37),IF(AE38=\"x\",0,L38)))","v":0},null,null,null,{"$f":"(SUM(IF(AE9=\"x\",0,P9),IF(AE10=\"x\",0,P10),IF(AE11=\"x\",0,P11),IF(AE12=\"x\",0,P12),IF(AE13=\"x\",0,P13),IF(AE14=\"x\",0,P14),IF(AE15=\"x\",0,P15),IF(AE16=\"x\",0,P16),IF(AE17=\"x\",0,P17),IF(AE18=\"x\",0,P18),IF(AE19=\"x\",0,P19),IF(AE20=\"x\",0,P20),IF(AE21=\"x\",0,P21),IF(AE22=\"x\",0,P22),IF(AE23=\"x\",0,P23),IF(AE24=\"x\",0,P24),IF(AE25=\"x\",0,P25),IF(AE26=\"x\",0,P26),IF(AE27=\"x\",0,P27),IF(AE28=\"x\",0,P28),IF(AE29=\"x\",0,P29),IF(AE30=\"x\",0,P30),IF(AE31=\"x\",0,P31),IF(AE32=\"x\",0,P32),IF(AE33=\"x\",0,P33),IF(AE34=\"x\",0,P34),IF(AE35=\"x\",0,P35),IF(AE36=\"x\",0,P36),IF(AE37=\"x\",0,P37),IF(AE38=\"x\",0,P38)))","v":0},null,null,null,"Paved",{"$f":"(SUM(IF(AE9=\"x\",0,U9),IF(AE10=\"x\",0,U10),IF(AE11=\"x\",0,U11),IF(AE12=\"x\",0,U12),IF(AE13=\"x\",0,U13),IF(AE14=\"x\",0,U14),IF(AE15=\"x\",0,U15),IF(AE16=\"x\",0,U16),IF(AE17=\"x\",0,U17),IF(AE18=\"x\",0,U18),IF(AE29=\"x\",0,U29),IF(AE30=\"x\",0,U30),IF(AE31=\"x\",0,U31),IF(AE32=\"x\",0,U32),IF(AE33=\"x\",0,U33),IF(AE34=\"x\",0,U34),IF(AE35=\"x\",0,U35),IF(AE36=\"x\",0,U36),IF(AE37=\"x\",0,U37),IF(AE38=\"x\",0,U38)))","v":0},{"$f":"(SUM(IF(AE9=\"x\",0,V9),IF(AE10=\"x\",0,V10),IF(AE11=\"x\",0,V11),IF(AE12=\"x\",0,V12),IF(AE13=\"x\",0,V13),IF(AE14=\"x\",0,V14),IF(AE15=\"x\",0,V15),IF(AE16=\"x\",0,V16),IF(AE17=\"x\",0,V17),IF(AE18=\"x\",0,V18),IF(AE29=\"x\",0,V29),IF(AE30=\"x\",0,V30),IF(AE31=\"x\",0,V31),IF(AE32=\"x\",0,V32),IF(AE33=\"x\",0,V33),IF(AE34=\"x\",0,V34),IF(AE35=\"x\",0,V35),IF(AE36=\"x\",0,V36),IF(AE37=\"x\",0,V37),IF(AE38=\"x\",0,V38)))","v":0},null,null,null,{"$f":"(SUM(IF(AE9=\"x\",0,Z9),IF(AE10=\"x\",0,Z10),IF(AE11=\"x\",0,Z11),IF(AE12=\"x\",0,Z12),IF(AE13=\"x\",0,Z13),IF(AE14=\"x\",0,Z14),IF(AE15=\"x\",0,Z15),IF(AE16=\"x\",0,Z16),IF(AE17=\"x\",0,Z17),IF(AE18=\"x\",0,Z18),IF(AE29=\"x\",0,Z29),IF(AE30=\"x\",0,Z30),IF(AE31=\"x\",0,Z31),IF(AE32=\"x\",0,Z32),IF(AE33=\"x\",0,Z33),IF(AE34=\"x\",0,Z34),IF(AE35=\"x\",0,Z35),IF(AE36=\"x\",0,Z36),IF(AE37=\"x\",0,Z37),IF(AE38=\"x\",0,Z38)))","v":0},{"$f":"(SUM(IF(AE9=\"x\",0,AA9),IF(AE10=\"x\",0,AA10),IF(AE11=\"x\",0,AA11),IF(AE12=\"x\",0,AA12),IF(AE13=\"x\",0,AA13),IF(AE14=\"x\",0,AA14),IF(AE15=\"x\",0,AA15),IF(AE16=\"x\",0,AA16),IF(AE17=\"x\",0,AA17),IF(AE18=\"x\",0,AA18),IF(AE29=\"x\",0,AA29),IF(AE30=\"x\",0,AA30),IF(AE31=\"x\",0,AA31),IF(AE32=\"x\",0,AA32),IF(AE33=\"x\",0,AA33),IF(AE34=\"x\",0,AA34),IF(AE35=\"x\",0,AA35),IF(AE36=\"x\",0,AA36),IF(AE37=\"x\",0,AA37),IF(AE38=\"x\",0,AA38)))","v":0}]
[]
[null,null,null,"Total potential PM2.5 emissions (tons/yr) from all unpaved haul roads used by the facility:",null,null,null,null,null,null,null,{"$f":"(SUM(IF(AE10=\"x\",X10,0),IF(AE11=\"x\",X11,0),IF(AE12=\"x\",X12,0),IF(AE13=\"x\",X13,0),IF(AE14=\"x\",X14,0),IF(AE15=\"x\",X15,0),IF(AE16=\"x\",X16,0),IF(AE17=\"x\",X17,0),IF(AE18=\"x\",X18,0),IF(AE19=\"x\",X19,0),IF(AE20=\"x\",X20,0),IF(AE21=\"x\",X21,0),IF(AE22=\"x\",X22,0),IF(AE23=\"x\",X23,0),IF(AE24=\"x\",X24,0),IF(AE25=\"x\",X25,0),IF(AE26=\"x\",X26,0),IF(AE27=\"x\",X27,0),IF(AE28=\"x\",X28,0),IF(AE29=\"x\",X29,0),IF(AE30=\"x\",X30,0),IF(AE31=\"x\",X31,0),IF(AE32=\"x\",X32,0),IF(AE33=\"x\",X33,0),IF(AE34=\"x\",X34,0),IF(AE35=\"x\",X35,0),IF(AE36=\"x\",X36,0),IF(AE37=\"x\",X37,0),IF(AE38=\"x\",X38,0),IF(AE9=\"x\",X9,0)))","v":0}]
[null,null,null,"Total potential PM2.5 emissions (tons/yr) from all paved haul roads used by the facility:",null,null,null,null,null,null,null,{"$f":"(SUM(IF(AE10=\"x\",0,X10),IF(AE11=\"x\",0,X11),IF(AE12=\"x\",0,X12),IF(AE13=\"x\",0,X13),IF(AE14=\"x\",0,X14),IF(AE15=\"x\",0,X15),IF(AE16=\"x\",0,X16),IF(AE17=\"x\",0,X17),IF(AE18=\"x\",0,X18),IF(AE19=\"x\",0,X19),IF(AE20=\"x\",0,X20),IF(AE21=\"x\",0,X21),IF(AE22=\"x\",0,X22),IF(AE23=\"x\",0,X23),IF(AE24=\"x\",0,X24),IF(AE25=\"x\",0,X25),IF(AE26=\"x\",0,X26),IF(AE27=\"x\",0,X27),IF(AE28=\"x\",0,X28),IF(AE29=\"x\",0,X29),IF(AE30=\"x\",0,X30),IF(AE31=\"x\",0,X31),IF(AE32=\"x\",0,X32),IF(AE33=\"x\",0,X33),IF(AE34=\"x\",0,X34),IF(AE35=\"x\",0,X35),IF(AE36=\"x\",0,X36),IF(AE37=\"x\",0,X37),IF(AE38=\"x\",0,X38),IF(AE9=\"x\",0,X9)))","v":0}]
[null,null,null,"Total potential PM10 emissions (tons/yr) from all unpaved haul roads used by the facility:",null,null,null,null,null,null,null,{"$f":"(SUM(IF(AE10=\"x\",AC10,0),IF(AE11=\"x\",AC11,0),IF(AE12=\"x\",AC12,0),IF(AE13=\"x\",AC13,0),IF(AE14=\"x\",AC14,0),IF(AE15=\"x\",AC15,0),IF(AE16=\"x\",AC16,0),IF(AE17=\"x\",AC17,0),IF(AE18=\"x\",AC18,0),IF(AE19=\"x\",AC19,0),IF(AE20=\"x\",AC20,0),IF(AE21=\"x\",AC21,0),IF(AE22=\"x\",AC22,0),IF(AE23=\"x\",AC23,0),IF(AE24=\"x\",AC24,0),IF(AE25=\"x\",AC25,0),IF(AE26=\"x\",AC26,0),IF(AE27=\"x\",AC27,0),IF(AE28=\"x\",AC28,0),IF(AE29=\"x\",AC29,0),IF(AE30=\"x\",AC30,0),IF(AE31=\"x\",AC31,0),IF(AE32=\"x\",AC32,0),IF(AE33=\"x\",AC33,0),IF(AE34=\"x\",AC34,0),IF(AE35=\"x\",AC35,0),IF(AE36=\"x\",AC36,0),IF(AE37=\"x\",AC37,0),IF(AE38=\"x\",AC38,0),IF(AE9=\"x\",AC9,0)))","v":0}]
[null,null,null,"Total potential PM10 emissions (tons/yr) from all paved haul roads used by the facility:",null,null,null,null,null,null,null,{"$f":"(SUM(IF(AE10=\"x\",0,AC10),IF(AE11=\"x\",0,AC11),IF(AE12=\"x\",0,AC12),IF(AE13=\"x\",0,AC13),IF(AE14=\"x\",0,AC14),IF(AE15=\"x\",0,AC15),IF(AE16=\"x\",0,AC16),IF(AE17=\"x\",0,AC17),IF(AE18=\"x\",0,AC18),IF(AE19=\"x\",0,AC19),IF(AE20=\"x\",0,AC20),IF(AE21=\"x\",0,AC21),IF(AE22=\"x\",0,AC22),IF(AE23=\"x\",0,AC23),IF(AE24=\"x\",0,AC24),IF(AE25=\"x\",0,AC25),IF(AE26=\"x\",0,AC26),IF(AE27=\"x\",0,AC27),IF(AE28=\"x\",0,AC28),IF(AE29=\"x\",0,AC29),IF(AE30=\"x\",0,AC30),IF(AE31=\"x\",0,AC31),IF(AE32=\"x\",0,AC32),IF(AE33=\"x\",0,AC33),IF(AE34=\"x\",0,AC34),IF(AE35=\"x\",0,AC35),IF(AE36=\"x\",0,AC36),IF(AE37=\"x\",0,AC37),IF(AE38=\"x\",0,AC38),IF(AE9=\"x\",0,AC9)))","v":0}]
[]
[null,null,null,"Total actual PM2.5 emissions (tons/yr) from all unpaved haul roads used by the facility:",null,null,null,null,null,null,null,{"$f":"(SUM(IF(AE10=\"x\",Y10,0),IF(AE11=\"x\",Y11,0),IF(AE12=\"x\",Y12,0),IF(AE13=\"x\",Y13,0),IF(AE14=\"x\",Y14,0),IF(AE15=\"x\",Y15,0),IF(AE16=\"x\",Y16,0),IF(AE17=\"x\",Y17,0),IF(AE18=\"x\",Y18,0),IF(AE19=\"x\",Y19,0),IF(AE20=\"x\",Y20,0),IF(AE21=\"x\",Y21,0),IF(AE22=\"x\",Y22,0),IF(AE23=\"x\",Y23,0),IF(AE24=\"x\",Y24,0),IF(AE25=\"x\",Y25,0),IF(AE26=\"x\",Y26,0),IF(AE27=\"x\",Y27,0),IF(AE28=\"x\",Y28,0),IF(AE29=\"x\",Y29,0),IF(AE30=\"x\",Y30,0),IF(AE31=\"x\",Y31,0),IF(AE32=\"x\",Y32,0),IF(AE33=\"x\",Y33,0),IF(AE34=\"x\",Y34,0),IF(AE35=\"x\",Y35,0),IF(AE36=\"x\",Y36,0),IF(AE37=\"x\",Y37,0),IF(AE38=\"x\",Y38,0),IF(AE9=\"x\",Y9,0)))","v":0}]
[null,null,null,"Total actual PM2.5 emissions (tons/yr) from all paved haul roads used by the facility:",null,null,null,null,null,null,null,{"$f":"(SUM(IF(AE10=\"x\",0,Y10),IF(AE11=\"x\",0,Y11),IF(AE12=\"x\",0,Y12),IF(AE13=\"x\",0,Y13),IF(AE14=\"x\",0,Y14),IF(AE15=\"x\",0,Y15),IF(AE16=\"x\",0,Y16),IF(AE17=\"x\",0,Y17),IF(AE18=\"x\",0,Y18),IF(AE19=\"x\",0,Y19),IF(AE20=\"x\",0,Y20),IF(AE21=\"x\",0,Y21),IF(AE22=\"x\",0,Y22),IF(AE23=\"x\",0,Y23),IF(AE24=\"x\",0,Y24),IF(AE25=\"x\",0,Y25),IF(AE26=\"x\",0,Y26),IF(AE27=\"x\",0,Y27),IF(AE28=\"x\",0,Y28),IF(AE29=\"x\",0,Y29),IF(AE30=\"x\",0,Y30),IF(AE31=\"x\",0,Y31),IF(AE32=\"x\",0,Y32),IF(AE33=\"x\",0,Y33),IF(AE34=\"x\",0,Y34),IF(AE35=\"x\",0,Y35),IF(AE36=\"x\",0,Y36),IF(AE37=\"x\",0,Y37),IF(AE38=\"x\",0,Y38),IF(AE9=\"x\",0,Y9)))","v":0}]
[null,null,null,"Total actual PM10 emissions (tons/yr) from all unpaved haul roads used by the facility:",null,null,null,null,null,null,null,{"$f":"(SUM(IF(AE10=\"x\",AD10,0),IF(AE11=\"x\",AD11,0),IF(AE12=\"x\",AD12,0),IF(AE13=\"x\",AD13,0),IF(AE14=\"x\",AD14,0),IF(AE15=\"x\",AD15,0),IF(AE16=\"x\",AD16,0),IF(AE17=\"x\",AD17,0),IF(AE18=\"x\",AD18,0),IF(AE19=\"x\",AD19,0),IF(AE20=\"x\",AD20,0),IF(AE21=\"x\",AD21,0),IF(AE22=\"x\",AD22,0),IF(AE23=\"x\",AD23,0),IF(AE24=\"x\",AD24,0),IF(AE25=\"x\",AD25,0),IF(AE26=\"x\",AD26,0),IF(AE27=\"x\",AD27,0),IF(AE28=\"x\",AD28,0),IF(AE29=\"x\",AD29,0),IF(AE30=\"x\",AD30,0),IF(AE31=\"x\",AD31,0),IF(AE32=\"x\",AD32,0),IF(AE33=\"x\",AD33,0),IF(AE34=\"x\",AD34,0),IF(AE35=\"x\",AD35,0),IF(AE36=\"x\",AD36,0),IF(AE37=\"x\",AD37,0),IF(AE38=\"x\",AD38,0),IF(AE9=\"x\",AD9,0)))","v":0}]
[null,null,null,"Total actual PM10 emissions (tons/yr) from all paved haul roads used by the facility:",null,null,null,null,null,null,null,{"$f":"(SUM(IF(AE10=\"x\",0,AD10),IF(AE11=\"x\",0,AD11),IF(AE12=\"x\",0,AD12),IF(AE13=\"x\",0,AD13),IF(AE14=\"x\",0,AD14),IF(AE15=\"x\",0,AD15),IF(AE16=\"x\",0,AD16),IF(AE17=\"x\",0,AD17),IF(AE18=\"x\",0,AD18),IF(AE19=\"x\",0,AD19),IF(AE20=\"x\",0,AD20),IF(AE21=\"x\",0,AD21),IF(AE22=\"x\",0,AD22),IF(AE23=\"x\",0,AD23),IF(AE24=\"x\",0,AD24),IF(AE25=\"x\",0,AD25),IF(AE26=\"x\",0,AD26),IF(AE27=\"x\",0,AD27),IF(AE28=\"x\",0,AD28),IF(AE29=\"x\",0,AD29),IF(AE30=\"x\",0,AD30),IF(AE31=\"x\",0,AD31),IF(AE32=\"x\",0,AD32),IF(AE33=\"x\",0,AD33),IF(AE34=\"x\",0,AD34),IF(AE35=\"x\",0,AD35),IF(AE36=\"x\",0,AD36),IF(AE37=\"x\",0,AD37),IF(AE38=\"x\",0,AD38),IF(AE9=\"x\",0,AD9)))","v":0}]

{"sheet":"Permitted Diesel Engines","index":12,"n_rows":78,"n_cols":55,"rows_kept":78,"cut":false,"hidden":false,"merged":[[52,25,52,26],[52,27,52,28],[6,2,7,2],[6,16,7,16],[6,19,7,19],[6,17,7,17],[6,14,7,14],[6,12,7,12],[6,15,7,15],[6,18,7,18],[6,7,7,7],[6,11,7,11],[6,8,7,8],[6,9,7,9],[6,10,7,10],[4,23,7,23],[0,2,0,5],[6,6,7,6],[6,3,7,3],[6,5,7,5],[6,4,7,4],[1,2,1,6],[52,29,52,30],[52,33,52,34],[4,28,7,28],[4,29,7,29],[4,30,7,30],[4,31,7,31],[52,31,52,32],[52,35,52,36],[52,37,52,38],[52,39,52,40],[4,32,7,32],[4,33,7,33],[4,34,7,34],[4,38,7,38],[4,39,7,39],[4,40,7,40],[4,35,7,35],[4,36,7,36],[4,37,7,37],[4,54,7,54],[4,48,7,48],[4,49,7,49],[4,50,7,50],[4,51,7,51],[4,52,7,52],[4,53,7,53],[50,13,50,15],[51,13,51,15],[6,13,7,13],[4,46,7,46],[4,47,7,47],[4,41,7,41],[4,42,7,42],[4,43,7,43],[4,44,7,44],[4,45,7,45],[4,24,7,24],[4,25,7,25],[4,26,7,26],[4,27,7,27]]}
[null,null,"PERMITTED DIESEL ENGINES"]
[null,null,"Please fill in the yellow boxes as applicable for your facility. "]
[null,null,"** As of 2016 Potential Emissions are no longer required to be reported in the Minor Source Emissions Inventory**"]
[]
[null,null,null,null,null,"Actual Sulfur Content of Fuel:",null,"%",null,null,null,null,null,null,null,null,null,null,null,null,null,null,null,"PM2.5 Emission Factor (lb/MMBtu)","Potential Emissions (lb/hr)","Potential Emissions (tons/yr)","Actual Emissions (tons/yr)","PM10 Emission Factor (lb/MMBtu)","Potential Emissions (lb/hr)","Potential Emissions (tons/yr)","Actual Emissions (tons/yr)","SO2 Emission Factor (lb/MMBtu)","Potential Emissions (lb/hr)","Potential Emissions (tons/yr)","Actual Emissions (tons/yr)","NOx Emission Factor (lb/MMBtu)","Potential Emissions (lb/hr)","Potential Emissions (tons/yr)","Actual Emissions (tons/yr)","VOC Emission Factor (lb/MMBtu)","Potential Emissions (lb/hr)","Potential Emissions (tons/yr)","Actual Emissions (tons/yr)","CO Emission Factor (lb/MMBtu)","Potential Emissions (lb/hr)","Potential Emissions (tons/yr)","Actual Emissions (tons/yr)","Formaldehyde Emission Factor (lb/MMBtu)","Potential Emissions (lb/hr)","Potential Emissions (tons/yr)","Actual Emissions (tons/yr)","Benzene Emission Factor (lb/MMBtu)","Potential Emissions (lb/hr)","Potential Emissions (tons/yr)","Actual Emissions (tons/yr)"]
[]
[null,null,"Asphalt Plant #","Emission Point #","Emission Unit #","Emission Unit Description     (>600 bhp / ≤ 600 bhp)","Permit Number","Hours/Yr Plant Wide Limit","Gal/Yr Plant Wide Limit","Sulfur Content Limit (%)","Sulfur Content","Stack Height (ft)","Stack Diameter (inches)","Stack Type","Exhaust Flowrate (acfm)","Exhaust Temp (Degree F)","Max Hourly Rate (gal/hr)","Max Hourly Rate (MMBtu/hr)",{"$f":"'Facility Information'!A53&\" Annual Throughput (gallons/yr)\"","v":" Annual Throughput (gallons/yr)"},"Annual Throughput (MMBtu/yr)"]
[null,null,null,null,null,null,null,null,null,null,null,null,null,null,null,null,null,null,null,null,"Diesel Generator> 600 bhp","<= 600 bhp",">600 bhp"]
[">600 bhp",{"$f":"IF(F9=\"Diesel Generator> 600 bhp\",\"yes\",\"no\")","v":"no"},null,null,null,null,null,null,null,null,{"$f":"IF(B9=\"no\",1,IF(J9=\"\",0.5,J9))","v":1},null,null,null,null,null,null,{"$f":"IF(Q9=\"\",\"\",Q9*0.14)","v":""},null,{"$f":"IF(S9=\"\",\"\",S9*0.14)","v":""},"Diesel Generator ≤ 600 bhp",{"$f":"IF(B9=\"no\",H9*Q9*0.14,\"\")","v":0},{"$f":"IF(B9=\"yes\",H9*Q9*0.14,\"\")","v":""},{"$f":"IF(F9=\"\",\"\",IF(B9=\"no\",'Emission Factors'!$D$43,'Emission Factors'!$D$44))","v":""},{"$f":"IF(F9=\"\",\"\",X9*R9)","v":""},{"$f":"IF(F9=\"\",\"\",IF(I9>0,I9*0.14*X9/2000,IF(H9>0,X9*R9*H9/2000,Y9*8760/2000)))","v":""},{"$f":"IF(F9=\"\",\"\",T9*X9/2000)","v":""},{"$f":"IF(F9=\"\",\"\",IF(B9=\"no\",'Emission Factors'!$F$43,'Emission Factors'!$F$44))","v":""},{"$f":"IF(F9=\"\",\"\",AB9*R9)","v":""},{"$f":"IF(F9=\"\",\"\",IF(I9>0,I9*0.14*AB9/2000,IF(H9>0,AB9*R9*H9/2000,AC9*8760/2000)))","v":""},{"$f":"IF(F9=\"\",\"\",T9*AB9/2000)","v":""},{"$f":"IF(F9=\"\",\"\",IF(B9=\"no\",'Emission Factors'!$H$43,'Emission Factors'!$H$44))","v":""},{"$f":"IF(F9=\"\",\"\",AF9*R9)","v":""},{"$f":"IF(F9=\"\",\"\",IF(I9>0,I9*0.14*AF9*K9/2000,IF(H9>0,AF9*K9*R9*H9/2000,AG9*8760/2000)))","v":""},{"$f":"IF(F9=\"\",\"\",IF(AF9=1.01,IF($G$5=\"\",T9*AF9*K9/2000,T9*AF9*$G$5/2000),AF9*T9/2000))","v":""},{"$f":"IF(F9=\"\",\"\",IF(B9=\"no\",'Emission Factors'!$J$43,'Emission Factors'!$J$44))","v":""},{"$f":"IF(F9=\"\",\"\",AJ9*R9)","v":""},{"$f":"IF(F9=\"\",\"\",IF(I9>0,I9*0.14*AJ9/2000,IF(H9>0,AJ9*R9*H9/2000,AK9*8760/2000)))","v":""},{"$f":"IF(F9=\"\",\"\",T9*AJ9/2000)","v":""},{"$f":"IF(F9=\"\",\"\",IF(B9=\"no\",'Emission Factors'!$L$43,'Emission Factors'!$L$44))","v":""},{"$f":"IF(F9=\"\",\"\",AN9*R9)","v":""},{"$f":"IF(F9=\"\",\"\",IF(I9>0,I9*0.14*AN9/2000,IF(H9>0,AN9*R9*H9/2000,AO9*8760/2000)))","v":""},{"$f":"IF(F9=\"\",\"\",T9*AN9/2000)","v":""},{"$f":"IF(F9=\"\",\"\",IF(B9=\"no\",'Emission Factors'!$N$43,'Emission Factors'!$N$44))","v":""},{"$f":"IF(F9=\"\",\"\",AR9*R9)","v":""},{"$f":"IF(F9=\"\",\"\",IF(I9>0,I9*0.14*AR9/2000,IF(H9>0,AR9*R9*H9/2000,AS9*8760/2000)))","v":""},{"$f":"IF(F9=\"\",\"\",T9*AR9/2000)","v":""},{"$f":"IF(F9=\"\",\"\",IF(B9=\"no\",'Emission Factors'!$P$43,'Emission Factors'!$P$44))","v":""},{"$f":"IF(F9=\"\",\"\",AV9*R9)","v":""},{"$f":"IF(F9=\"\",\"\",IF(I9>0,I9*0.14*AV9/2000,IF(H9>0,AV9*R9*H9/2000,AW9*8760/2000)))","v":""},{"$f":"IF(F9=\"\",\"\",T9*AV9/2000)","v":""},{"$f":"IF(F9=\"\",\"\",IF(B9=\"no\",'Emission Factors'!$R$43,'Emission Factors'!$R$44))","v":""},{"$f":"IF(F9=\"\",\"\",AZ9*R9)","v":""},{"$f":"IF(F9=\"\",\"\",IF(I9>0,I9*0.14*AZ9/2000,IF(H9>0,AZ9*R9*H9/2000,BA9*8760/2000)))","v":""},{"$f":"IF(F9=\"\",\"\",T9*AZ9/2000)","v":""}]
[null,"no",null,null,null,null,null,null,null,null,{"$f":"IF(B10=\"no\",1,IF(J10=\"\",0.5,J10))","v":1},null,null,null,null,null,null,"",null,"",null,0,"",{"$f":"IF(F10=\"\",\"\",IF(B10=\"no\",'Emission Factors'!$D$43,'Emission Factors'!$D$44))","v":""},{"$f":"IF(F10=\"\",\"\",X10*R10)","v":""},{"$f":"IF(F10=\"\",\"\",IF(I10>0,I10*0.14*X10/2000,IF(H10>0,X10*R10*H10/2000,Y10*8760/2000)))","v":""},{"$f":"IF(F10=\"\",\"\",T10*X10/2000)","v":""},{"$f":"IF(F10=\"\",\"\",IF(B10=\"no\",'Emission Factors'!$F$43,'Emission Factors'!$F$44))","v":""},{"$f":"IF(F10=\"\",\"\",AB10*R10)","v":""},{"$f":"IF(F10=\"\",\"\",IF(I10>0,I10*0.14*AB10/2000,IF(H10>0,AB10*R10*H10/2000,AC10*8760/2000)))","v":""},{"$f":"IF(F10=\"\",\"\",T10*AB10/2000)","v":""},{"$f":"IF(F10=\"\",\"\",IF(B10=\"no\",'Emission Factors'!$H$43,'Emission Factors'!$H$44))","v":""},{"$f":"IF(F10=\"\",\"\",AF10*R10)","v":""},{"$f":"IF(F10=\"\",\"\",IF(I10>0,I10*0.14*AF10*K10/2000,IF(H10>0,AF10*K10*R10*H10/2000,AG10*8760/2000)))","v":""},{"$f":"IF(F10=\"\",\"\",IF(AF10=1.01,IF($G$5=\"\",T10*AF10*K10/2000,T10*AF10*$G$5/2000),AF10*T10/2000))","v":""},{"$f":"IF(F10=\"\",\"\",IF(B10=\"no\",'Emission Factors'!$J$43,'Emission Factors'!$J$44))","v":""},{"$f":"IF(F10=\"\",\"\",AJ10*R10)","v":""},{"$f":"IF(F10=\"\",\"\",IF(I10>0,I10*0.14*AJ10/2000,IF(H10>0,AJ10*R10*H10/2000,AK10*8760/2000)))","v":""},{"$f":"IF(F10=\"\",\"\",T10*AJ10/2000)","v":""},{"$f":"IF(F10=\"\",\"\",IF(B10=\"no\",'Emission Factors'!$L$43,'Emission Factors'!$L$44))","v":""},{"$f":"IF(F10=\"\",\"\",AN10*R10)","v":""},{"$f":"IF(F10=\"\",\"\",IF(I10>0,I10*0.14*AN10/2000,IF(H10>0,AN10*R10*H10/2000,AO10*8760/2000)))","v":""},{"$f":"IF(F10=\"\",\"\",T10*AN10/2000)","v":""},{"$f":"IF(F10=\"\",\"\",IF(B10=\"no\",'Emission Factors'!$N$43,'Emission Factors'!$N$44))","v":""},{"$f":"IF(F10=\"\",\"\",AR10*R10)","v":""},{"$f":"IF(F10=\"\",\"\",IF(I10>0,I10*0.14*AR10/2000,IF(H10>0,AR10*R10*H10/2000,AS10*8760/2000)))","v":""},{"$f":"IF(F10=\"\",\"\",T10*AR10/2000)","v":""},{"$f":"IF(F10=\"\",\"\",IF(B10=\"no\",'Emission Factors'!$P$43,'Emission Factors'!$P$44))","v":""},{"$f":"IF(F10=\"\",\"\",AV10*R10)","v":""},{"$f":"IF(F10=\"\",\"\",IF(I10>0,I10*0.14*AV10/2000,IF(H10>0,AV10*R10*H10/2000,AW10*8760/2000)))","v":""},{"$f":"IF(F10=\"\",\"\",T10*AV10/2000)","v":""},{"$f":"IF(F10=\"\",\"\",IF(B10=\"no\",'Emission Factors'!$R$43,'Emission Factors'!$R$44))","v":""},{"$f":"IF(F10=\"\",\"\",AZ10*R10)","v":""},{"$f":"IF(F10=\"\",\"\",IF(I10>0,I10*0.14*AZ10/2000,IF(H10>0,AZ10*R10*H10/2000,BA10*8760/2000)))","v":""},{"$f":"IF(F10=\"\",\"\",T10*AZ10/2000)","v":""}]
[{"$f":"IF('Facility Information'!$C$21>0,\"AP-1\",\"\")","v":""},"no",null,null,null,null,null,null,null,null,1,null,null,null,null,null,null,"",null,"",null,0,"",{"$f":"IF(F11=\"\",\"\",IF(B11=\"no\",'Emission Factors'!$D$43,'Emission Factors'!$D$44))","v":""},"","","",{"$f":"IF(F11=\"\",\"\",IF(B11=\"no\",'Emission Factors'!$F$43,'Emission Factors'!$F$44))","v":""},"","","",{"$f":"IF(F11=\"\",\"\",IF(B11=\"no\",'Emission Factors'!$H$43,'Emission Factors'!$H$44))","v":""},"","","",{"$f":"IF(F11=\"\",\"\",IF(B11=\"no\",'Emission Factors'!$J$43,'Emission Factors'!$J$44))","v":""},"","","",{"$f":"IF(F11=\"\",\"\",IF(B11=\"no\",'Emission Factors'!$L$43,'Emission Factors'!$L$44))","v":""},"","","",{"$f":"IF(F11=\"\",\"\",IF(B11=\"no\",'Emission Factors'!$N$43,'Emission Factors'!$N$44))","v":""},"","","",{"$f":"IF(F11=\"\",\"\",IF(B11=\"no\",'Emission Factors'!$P$43,'Emission Factors'!$P$44))","v":""},"","","",{"$f":"IF(F11=\"\",\"\",IF(B11=\"no\",'Emission Factors'!$R$43,'Emission Factors'!$R$44))","v":""},"","",""]
[{"$f":"IF('Facility Information'!$C$21>1,\"AP-2\",\"\")","v":""},"no",null,null,null,null,null,null,null,null,1,null,null,null,null,null,null,"",null,"",null,0,"",{"$f":"IF(F12=\"\",\"\",IF(B12=\"no\",'Emission Factors'!$D$43,'Emission Factors'!$D$44))","v":""},"","","",{"$f":"IF(F12=\"\",\"\",IF(B12=\"no\",'Emission Factors'!$F$43,'Emission Factors'!$F$44))","v":""},"","","",{"$f":"IF(F12=\"\",\"\",IF(B12=\"no\",'Emission Factors'!$H$43,'Emission Factors'!$H$44))","v":""},"","","",{"$f":"IF(F12=\"\",\"\",IF(B12=\"no\",'Emission Factors'!$J$43,'Emission Factors'!$J$44))","v":""},"","","",{"$f":"IF(F12=\"\",\"\",IF(B12=\"no\",'Emission Factors'!$L$43,'Emission Factors'!$L$44))","v":""},"","","",{"$f":"IF(F12=\"\",\"\",IF(B12=\"no\",'Emission Factors'!$N$43,'Emission Factors'!$N$44))","v":""},"","","",{"$f":"IF(F12=\"\",\"\",IF(B12=\"no\",'Emission Factors'!$P$43,'Emission Factors'!$P$44))","v":""},"","","",{"$f":"IF(F12=\"\",\"\",IF(B12=\"no\",'Emission Factors'!$R$43,'Emission Factors'!$R$44))","v":""},"","",""]
[{"$f":"IF('Facility Information'!$C$21>2,\"AP-3\",\"\")","v":""},"no",null,null,null,null,null,null,null,null,1,null,null,null,null,null,null,"",null,"",null,0,"",{"$f":"IF(F13=\"\",\"\",IF(B13=\"no\",'Emission Factors'!$D$43,'Emission Factors'!$D$44))","v":""},"","","",{"$f":"IF(F13=\"\",\"\",IF(B13=\"no\",'Emission Factors'!$F$43,'Emission Factors'!$F$44))","v":""},"","","",{"$f":"IF(F13=\"\",\"\",IF(B13=\"no\",'Emission Factors'!$H$43,'Emission Factors'!$H$44))","v":""},"","","",{"$f":"IF(F13=\"\",\"\",IF(B13=\"no\",'Emission Factors'!$J$43,'Emission Factors'!$J$44))","v":""},"","","",{"$f":"IF(F13=\"\",\"\",IF(B13=\"no\",'Emission Factors'!$L$43,'Emission Factors'!$L$44))","v":""},"","","",{"$f":"IF(F13=\"\",\"\",IF(B13=\"no\",'Emission Factors'!$N$43,'Emission Factors'!$N$44))","v":""},"","","",{"$f":"IF(F13=\"\",\"\",IF(B13=\"no\",'Emission Factors'!$P$43,'Emission Factors'!$P$44))","v":""},"","","",{"$f":"IF(F13=\"\",\"\",IF(B13=\"no\",'Emission Factors'!$R$43,'Emission Factors'!$R$44))","v":""},"","",""]
[{"$f":"IF('Facility Information'!$C$21>3,\"AP-4\",\"\")","v":""},"no",null,null,null,null,null,null,null,null,1,null,null,null,null,null,null,"",null,"",null,0,"",{"$f":"IF(F14=\"\",\"\",IF(B14=\"no\",'Emission Factors'!$D$43,'Emission Factors'!$D$44))","v":""},"","","",{"$f":"IF(F14=\"\",\"\",IF(B14=\"no\",'Emission Factors'!$F$43,'Emission Factors'!$F$44))","v":""},"","","",{"$f":"IF(F14=\"\",\"\",IF(B14=\"no\",'Emission Factors'!$H$43,'Emission Factors'!$H$44))","v":""},"","","",{"$f":"IF(F14=\"\",\"\",IF(B14=\"no\",'Emission Factors'!$J$43,'Emission Factors'!$J$44))","v":""},"","","",{"$f":"IF(F14=\"\",\"\",IF(B14=\"no\",'Emission Factors'!$L$43,'Emission Factors'!$L$44))","v":""},"","","",{"$f":"IF(F14=\"\",\"\",IF(B14=\"no\",'Emission Factors'!$N$43,'Emission Factors'!$N$44))","v":""},"","","",{"$f":"IF(F14=\"\",\"\",IF(B14=\"no\",'Emission Factors'!$P$43,'Emission Factors'!$P$44))","v":""},"","","",{"$f":"IF(F14=\"\",\"\",IF(B14=\"no\",'Emission Factors'!$R$43,'Emission Factors'!$R$44))","v":""},"","",""]
[{"$f":"IF('Facility Information'!$C$21>4,\"AP-5\",\"\")","v":""},{"$f":"IF(F15=\"Diesel Generator> 600 bhp\",\"yes\",\"no\")","v":"no"},null,null,null,null,null,null,null,null,1,null,null,null,null,null,null,{"$f":"IF(Q15=\"\",\"\",Q15*0.14)","v":""},null,{"$f":"IF(S15=\"\",\"\",S15*0.14)","v":""},null,0,"",{"$f":"IF(F15=\"\",\"\",IF(B15=\"no\",'Emission Factors'!$D$43,'Emission Factors'!$D$44))","v":""},"","","",{"$f":"IF(F15=\"\",\"\",IF(B15=\"no\",'Emission Factors'!$F$43,'Emission Factors'!$F$44))","v":""},"","","",{"$f":"IF(F15=\"\",\"\",IF(B15=\"no\",'Emission Factors'!$H$43,'Emission Factors'!$H$44))","v":""},"","","",{"$f":"IF(F15=\"\",\"\",IF(B15=\"no\",'Emission Factors'!$J$43,'Emission Factors'!$J$44))","v":""},"","","",{"$f":"IF(F15=\"\",\"\",IF(B15=\"no\",'Emission Factors'!$L$43,'Emission Factors'!$L$44))","v":""},"","","",{"$f":"IF(F15=\"\",\"\",IF(B15=\"no\",'Emission Factors'!$N$43,'Emission Factors'!$N$44))","v":""},"","","",{"$f":"IF(F15=\"\",\"\",IF(B15=\"no\",'Emission Factors'!$P$43,'Emission Factors'!$P$44))","v":""},"","","",{"$f":"IF(F15=\"\",\"\",IF(B15=\"no\",'Emission Factors'!$R$43,'Emission Factors'!$R$44))","v":""},"","",""]
[{"$f":"IF('Facility Information'!$C$21>5,\"AP-6\",\"\")","v":""},"no",null,null,null,null,null,null,null,null,1,null,null,null,null,null,null,"",null,"",null,0,"",{"$f":"IF(F16=\"\",\"\",IF(B16=\"no\",'Emission Factors'!$D$43,'Emission Factors'!$D$44))","v":""},"","","",{"$f":"IF(F16=\"\",\"\",IF(B16=\"no\",'Emission Factors'!$F$43,'Emission Factors'!$F$44))","v":""},"","","",{"$f":"IF(F16=\"\",\"\",IF(B16=\"no\",'Emission Factors'!$H$43,'Emission Factors'!$H$44))","v":""},"","","",{"$f":"IF(F16=\"\",\"\",IF(B16=\"no\",'Emission Factors'!$J$43,'Emission Factors'!$J$44))","v":""},"","","",{"$f":"IF(F16=\"\",\"\",IF(B16=\"no\",'Emission Factors'!$L$43,'Emission Factors'!$L$44))","v":""},"","","",{"$f":"IF(F16=\"\",\"\",IF(B16=\"no\",'Emission Factors'!$N$43,'Emission Factors'!$N$44))","v":""},"","","",{"$f":"IF(F16=\"\",\"\",IF(B16=\"no\",'Emission Factors'!$P$43,'Emission Factors'!$P$44))","v":""},"","","",{"$f":"IF(F16=\"\",\"\",IF(B16=\"no\",'Emission Factors'!$R$43,'Emission Factors'!$R$44))","v":""},"","",""]
[{"$f":"IF('Facility Information'!$C$21>6,\"AP-7\",\"\")","v":""},"no",null,null,null,null,null,null,null,null,1,null,null,null,null,null,null,"",null,"",null,0,"",{"$f":"IF(F17=\"\",\"\",IF(B17=\"no\",'Emission Factors'!$D$43,'Emission Factors'!$D$44))","v":""},"","","",{"$f":"IF(F17=\"\",\"\",IF(B17=\"no\",'Emission Factors'!$F$43,'Emission Factors'!$F$44))","v":""},"","","",{"$f":"IF(F17=\"\",\"\",IF(B17=\"no\",'Emission Factors'!$H$43,'Emission Factors'!$H$44))","v":""},"","","",{"$f":"IF(F17=\"\",\"\",IF(B17=\"no\",'Emission Factors'!$J$43,'Emission Factors'!$J$44))","v":""},"","","",{"$f":"IF(F17=\"\",\"\",IF(B17=\"no\",'Emission Factors'!$L$43,'Emission Factors'!$L$44))","v":""},"","","",{"$f":"IF(F17=\"\",\"\",IF(B17=\"no\",'Emission Factors'!$N$43,'Emission Factors'!$N$44))","v":""},"","","",{"$f":"IF(F17=\"\",\"\",IF(B17=\"no\",'Emission Factors'!$P$43,'Emission Factors'!$P$44))","v":""},"","","",{"$f":"IF(F17=\"\",\"\",IF(B17=\"no\",'Emission Factors'!$R$43,'Emission Factors'!$R$44))","v":""},"","",""]
[{"$f":"IF('Facility Information'!$C$21>7,\"AP-8\",\"\")","v":""},"no",null,null,null,null,null,null,null,null,1,null,null,null,null,null,null,"",null,"",null,0,"",{"$f":"IF(F18=\"\",\"\",IF(B18=\"no\",'Emission Factors'!$D$43,'Emission Factors'!$D$44))","v":""},"","","",{"$f":"IF(F18=\"\",\"\",IF(B18=\"no\",'Emission Factors'!$F$43,'Emission Factors'!$F$44))","v":""},"","","",{"$f":"IF(F18=\"\",\"\",IF(B18=\"no\",'Emission Factors'!$H$43,'Emission Factors'!$H$44))","v":""},"","","",{"$f":"IF(F18=\"\",\"\",IF(B18=\"no\",'Emission Factors'!$J$43,'Emission Factors'!$J$44))","v":""},"","","",{"$f":"IF(F18=\"\",\"\",IF(B18=\"no\",'Emission Factors'!$L$43,'Emission Factors'!$L$44))","v":""},"","","",{"$f":"IF(F18=\"\",\"\",IF(B18=\"no\",'Emission Factors'!$N$43,'Emission Factors'!$N$44))","v":""},"","","",{"$f":"IF(F18=\"\",\"\",IF(B18=\"no\",'Emission Factors'!$P$43,'Emission Factors'!$P$44))","v":""},"","","",{"$f":"IF(F18=\"\",\"\",IF(B18=\"no\",'Emission Factors'!$R$43,'Emission Factors'!$R$44))","v":""},"","",""]
[{"$f":"IF('Facility Information'!$C$21>8,\"AP-9\",\"\")","v":""},"no",null,null,null,null,null,null,null,null,1,null,null,null,null,null,null,"",null,"",null,0,"",{"$f":"IF(F19=\"\",\"\",IF(B19=\"no\",'Emission Factors'!$D$43,'Emission Factors'!$D$44))","v":""},"","","",{"$f":"IF(F19=\"\",\"\",IF(B19=\"no\",'Emission Factors'!$F$43,'Emission Factors'!$F$44))","v":""},"","","",{"$f":"IF(F19=\"\",\"\",IF(B19=\"no\",'Emission Factors'!$H$43,'Emission Factors'!$H$44))","v":""},"","","",{"$f":"IF(F19=\"\",\"\",IF(B19=\"no\",'Emission Factors'!$J$43,'Emission Factors'!$J$44))","v":""},"","","",{"$f":"IF(F19=\"\",\"\",IF(B19=\"no\",'Emission Factors'!$L$43,'Emission Factors'!$L$44))","v":""},"","","",{"$f":"IF(F19=\"\",\"\",IF(B19=\"no\",'Emission Factors'!$N$43,'Emission Factors'!$N$44))","v":""},"","","",{"$f":"IF(F19=\"\",\"\",IF(B19=\"no\",'Emission Factors'!$P$43,'Emission Factors'!$P$44))","v":""},"","","",{"$f":"IF(F19=\"\",\"\",IF(B19=\"no\",'Emission Factors'!$R$43,'Emission Factors'!$R$44))","v":""},"","",""]
[{"$f":"IF('Facility Information'!$C$21>9,\"AP-10\",\"\")","v":""},"no",null,null,null,null,null,null,null,null,1,null,null,null,null,null,null,"",null,"",null,0,"",{"$f":"IF(F20=\"\",\"\",IF(B20=\"no\",'Emission Factors'!$D$43,'Emission Factors'!$D$44))","v":""},"","","",{"$f":"IF(F20=\"\",\"\",IF(B20=\"no\",'Emission Factors'!$F$43,'Emission Factors'!$F$44))","v":""},"","","",{"$f":"IF(F20=\"\",\"\",IF(B20=\"no\",'Emission Factors'!$H$43,'Emission Factors'!$H$44))","v":""},"","","",{"$f":"IF(F20=\"\",\"\",IF(B20=\"no\",'Emission Factors'!$J$43,'Emission Factors'!$J$44))","v":""},"","","",{"$f":"IF(F20=\"\",\"\",IF(B20=\"no\",'Emission Factors'!$L$43,'Emission Factors'!$L$44))","v":""},"","","",{"$f":"IF(F20=\"\",\"\",IF(B20=\"no\",'Emission Factors'!$N$43,'Emission Factors'!$N$44))","v":""},"","","",{"$f":"IF(F20=\"\",\"\",IF(B20=\"no\",'Emission Factors'!$P$43,'Emission Factors'!$P$44))","v":""},"","","",{"$f":"IF(F20=\"\",\"\",IF(B20=\"no\",'Emission Factors'!$R$43,'Emission Factors'!$R$44))","v":""},"","",""]
[null,"no",null,null,null,null,null,null,null,null,1,null,null,null,null,null,null,"",null,"",null,0,"",{"$f":"IF(F21=\"\",\"\",IF(B21=\"no\",'Emission Factors'!$D$43,'Emission Factors'!$D$44))","v":""},"","","",{"$f":"IF(F21=\"\",\"\",IF(B21=\"no\",'Emission Factors'!$F$43,'Emission Factors'!$F$44))","v":""},"","","",{"$f":"IF(F21=\"\",\"\",IF(B21=\"no\",'Emission Factors'!$H$43,'Emission Factors'!$H$44))","v":""},"","","",{"$f":"IF(F21=\"\",\"\",IF(B21=\"no\",'Emission Factors'!$J$43,'Emission Factors'!$J$44))","v":""},"","","",{"$f":"IF(F21=\"\",\"\",IF(B21=\"no\",'Emission Factors'!$L$43,'Emission Factors'!$L$44))","v":""},"","","",{"$f":"IF(F21=\"\",\"\",IF(B21=\"no\",'Emission Factors'!$N$43,'Emission Factors'!$N$44))","v":""},"","","",{"$f":"IF(F21=\"\",\"\",IF(B21=\"no\",'Emission Factors'!$P$43,'Emission Factors'!$P$44))","v":""},"","","",{"$f":"IF(F21=\"\",\"\",IF(B21=\"no\",'Emission Factors'!$R$43,'Emission Factors'!$R$44))","v":""},"","",""]
[null,"no",null,null,null,null,null,null,null,null,1,null,null,null,null,null,null,"",null,"",null,0,"",{"$f":"IF(F22=\"\",\"\",IF(B22=\"no\",'Emission Factors'!$D$43,'Emission Factors'!$D$44))","v":""},"","","",{"$f":"IF(F22=\"\",\"\",IF(B22=\"no\",'Emission Factors'!$F$43,'Emission Factors'!$F$44))","v":""},"","","",{"$f":"IF(F22=\"\",\"\",IF(B22=\"no\",'Emission Factors'!$H$43,'Emission Factors'!$H$44))","v":""},"","","",{"$f":"IF(F22=\"\",\"\",IF(B22=\"no\",'Emission Factors'!$J$43,'Emission Factors'!$J$44))","v":""},"","","",{"$f":"IF(F22=\"\",\"\",IF(B22=\"no\",'Emission Factors'!$L$43,'Emission Factors'!$L$44))","v":""},"","","",{"$f":"IF(F22=\"\",\"\",IF(B22=\"no\",'Emission Factors'!$N$43,'Emission Factors'!$N$44))","v":""},"","","",{"$f":"IF(F22=\"\",\"\",IF(B22=\"no\",'Emission Factors'!$P$43,'Emission Factors'!$P$44))","v":""},"","","",{"$f":"IF(F22=\"\",\"\",IF(B22=\"no\",'Emission Factors'!$R$43,'Emission Factors'!$R$44))","v":""},"","",""]
[null,"no",null,null,null,null,null,null,null,null,1,null,null,null,null,null,null,"",null,"",null,0,"",{"$f":"IF(F23=\"\",\"\",IF(B23=\"no\",'Emission Factors'!$D$43,'Emission Factors'!$D$44))","v":""},"","","",{"$f":"IF(F23=\"\",\"\",IF(B23=\"no\",'Emission Factors'!$F$43,'Emission Factors'!$F$44))","v":""},"","","",{"$f":"IF(F23=\"\",\"\",IF(B23=\"no\",'Emission Factors'!$H$43,'Emission Factors'!$H$44))","v":""},"","","",{"$f":"IF(F23=\"\",\"\",IF(B23=\"no\",'Emission Factors'!$J$43,'Emission Factors'!$J$44))","v":""},"","","",{"$f":"IF(F23=\"\",\"\",IF(B23=\"no\",'Emission Factors'!$L$43,'Emission Factors'!$L$44))","v":""},"","","",{"$f":"IF(F23=\"\",\"\",IF(B23=\"no\",'Emission Factors'!$N$43,'Emission Factors'!$N$44))","v":""},"","","",{"$f":"IF(F23=\"\",\"\",IF(B23=\"no\",'Emission Factors'!$P$43,'Emission Factors'!$P$44))","v":""},"","","",{"$f":"IF(F23=\"\",\"\",IF(B23=\"no\",'Emission Factors'!$R$43,'Emission Factors'!$R$44))","v":""},"","",""]
[null,"no",null,null,null,null,null,null,null,null,1,null,null,null,null,null,null,"",null,"",null,0,"",{"$f":"IF(F24=\"\",\"\",IF(B24=\"no\",'Emission Factors'!$D$43,'Emission Factors'!$D$44))","v":""},"","","",{"$f":"IF(F24=\"\",\"\",IF(B24=\"no\",'Emission Factors'!$F$43,'Emission Factors'!$F$44))","v":""},"","","",{"$f":"IF(F24=\"\",\"\",IF(B24=\"no\",'Emission Factors'!$H$43,'Emission Factors'!$H$44))","v":""},"","","",{"$f":"IF(F24=\"\",\"\",IF(B24=\"no\",'Emission Factors'!$J$43,'Emission Factors'!$J$44))","v":""},"","","",{"$f":"IF(F24=\"\",\"\",IF(B24=\"no\",'Emission Factors'!$L$43,'Emission Factors'!$L$44))","v":""},"","","",{"$f":"IF(F24=\"\",\"\",IF(B24=\"no\",'Emission Factors'!$N$43,'Emission Factors'!$N$44))","v":""},"","","",{"$f":"IF(F24=\"\",\"\",IF(B24=\"no\",'Emission Factors'!$P$43,'Emission Factors'!$P$44))","v":""},"","","",{"$f":"IF(F24=\"\",\"\",IF(B24=\"no\",'Emission Factors'!$R$43,'Emission Factors'!$R$44))","v":""},"","",""]
[null,{"$f":"IF(F25=\"Diesel Generator> 600 bhp\",\"yes\",\"no\")","v":"no"},null,null,null,null,null,null,null,null,1,null,null,null,null,null,null,{"$f":"IF(Q25=\"\",\"\",Q25*0.14)","v":""},null,{"$f":"IF(S25=\"\",\"\",S25*0.14)","v":""},null,0,"",{"$f":"IF(F25=\"\",\"\",IF(B25=\"no\",'Emission Factors'!$D$43,'Emission Factors'!$D$44))","v":""},"","","",{"$f":"IF(F25=\"\",\"\",IF(B25=\"no\",'Emission Factors'!$F$43,'Emission Factors'!$F$44))","v":""},"","","",{"$f":"IF(F25=\"\",\"\",IF(B25=\"no\",'Emission Factors'!$H$43,'Emission Factors'!$H$44))","v":""},"","","",{"$f":"IF(F25=\"\",\"\",IF(B25=\"no\",'Emission Factors'!$J$43,'Emission Factors'!$J$44))","v":""},"","","",{"$f":"IF(F25=\"\",\"\",IF(B25=\"no\",'Emission Factors'!$L$43,'Emission Factors'!$L$44))","v":""},"","","",{"$f":"IF(F25=\"\",\"\",IF(B25=\"no\",'Emission Factors'!$N$43,'Emission Factors'!$N$44))","v":""},"","","",{"$f":"IF(F25=\"\",\"\",IF(B25=\"no\",'Emission Factors'!$P$43,'Emission Factors'!$P$44))","v":""},"","","",{"$f":"IF(F25=\"\",\"\",IF(B25=\"no\",'Emission Factors'!$R$43,'Emission Factors'!$R$44))","v":""},"","",""]
[null,{"$f":"IF(F26=\"Diesel Generator> 600 bhp\",\"yes\",\"no\")","v":"no"},null,null,null,null,null,null,null,null,1,null,null,null,null,null,null,{"$f":"IF(Q26=\"\",\"\",Q26*0.14)","v":""},null,{"$f":"IF(S26=\"\",\"\",S26*0.14)","v":""},null,0,"",{"$f":"IF(F26=\"\",\"\",IF(B26=\"no\",'Emission Factors'!$D$43,'Emission Factors'!$D$44))","v":""},"","","",{"$f":"IF(F26=\"\",\"\",IF(B26=\"no\",'Emission Factors'!$F$43,'Emission Factors'!$F$44))","v":""},"","","",{"$f":"IF(F26=\"\",\"\",IF(B26=\"no\",'Emission Factors'!$H$43,'Emission Factors'!$H$44))","v":""},"","","",{"$f":"IF(F26=\"\",\"\",IF(B26=\"no\",'Emission Factors'!$J$43,'Emission Factors'!$J$44))","v":""},"","","",{"$f":"IF(F26=\"\",\"\",IF(B26=\"no\",'Emission Factors'!$L$43,'Emission Factors'!$L$44))","v":""},"","","",{"$f":"IF(F26=\"\",\"\",IF(B26=\"no\",'Emission Factors'!$N$43,'Emission Factors'!$N$44))","v":""},"","","",{"$f":"IF(F26=\"\",\"\",IF(B26=\"no\",'Emission Factors'!$P$43,'Emission Factors'!$P$44))","v":""},"","","",{"$f":"IF(F26=\"\",\"\",IF(B26=\"no\",'Emission Factors'!$R$43,'Emission Factors'!$R$44))","v":""},"","",""]
[null,{"$f":"IF(F27=\"Diesel Generator> 600 bhp\",\"yes\",\"no\")","v":"no"},null,null,null,null,null,null,null,null,1,null,null,null,null,null,null,{"$f":"IF(Q27=\"\",\"\",Q27*0.14)","v":""},null,{"$f":"IF(S27=\"\",\"\",S27*0.14)","v":""},null,0,"",{"$f":"IF(F27=\"\",\"\",IF(B27=\"no\",'Emission Factors'!$D$43,'Emission Factors'!$D$44))","v":""},"","","",{"$f":"IF(F27=\"\",\"\",IF(B27=\"no\",'Emission Factors'!$F$43,'Emission Factors'!$F$44))","v":""},"","","",{"$f":"IF(F27=\"\",\"\",IF(B27=\"no\",'Emission Factors'!$H$43,'Emission Factors'!$H$44))","v":""},"","","",{"$f":"IF(F27=\"\",\"\",IF(B27=\"no\",'Emission Factors'!$J$43,'Emission Factors'!$J$44))","v":""},"","","",{"$f":"IF(F27=\"\",\"\",IF(B27=\"no\",'Emission Factors'!$L$43,'Emission Factors'!$L$44))","v":""},"","","",{"$f":"IF(F27=\"\",\"\",IF(B27=\"no\",'Emission Factors'!$N$43,'Emission Factors'!$N$44))","v":""},"","","",{"$f":"IF(F27=\"\",\"\",IF(B27=\"no\",'Emission Factors'!$P$43,'Emission Factors'!$P$44))","v":""},"","","",{"$f":"IF(F27=\"\",\"\",IF(B27=\"no\",'Emission Factors'!$R$43,'Emission Factors'!$R$44))","v":""},"","",""]
[null,{"$f":"IF(F28=\"Diesel Generator> 600 bhp\",\"yes\",\"no\")","v":"no"},null,null,null,null,null,null,null,null,1,null,null,null,null,null,null,{"$f":"IF(Q28=\"\",\"\",Q28*0.14)","v":""},null,{"$f":"IF(S28=\"\",\"\",S28*0.14)","v":""},null,0,"",{"$f":"IF(F28=\"\",\"\",IF(B28=\"no\",'Emission Factors'!$D$43,'Emission Factors'!$D$44))","v":""},"","","",{"$f":"IF(F28=\"\",\"\",IF(B28=\"no\",'Emission Factors'!$F$43,'Emission Factors'!$F$44))","v":""},"","","",{"$f":"IF(F28=\"\",\"\",IF(B28=\"no\",'Emission Factors'!$H$43,'Emission Factors'!$H$44))","v":""},"","","",{"$f":"IF(F28=\"\",\"\",IF(B28=\"no\",'Emission Factors'!$J$43,'Emission Factors'!$J$44))","v":""},"","","",{"$f":"IF(F28=\"\",\"\",IF(B28=\"no\",'Emission Factors'!$L$43,'Emission Factors'!$L$44))","v":""},"","","",{"$f":"IF(F28=\"\",\"\",IF(B28=\"no\",'Emission Factors'!$N$43,'Emission Factors'!$N$44))","v":""},"","","",{"$f":"IF(F28=\"\",\"\",IF(B28=\"no\",'Emission Factors'!$P$43,'Emission Factors'!$P$44))","v":""},"","","",{"$f":"IF(F28=\"\",\"\",IF(B28=\"no\",'Emission Factors'!$R$43,'Emission Factors'!$R$44))","v":""},"","",""]
[null,{"$f":"IF(F29=\"Diesel Generator> 600 bhp\",\"yes\",\"no\")","v":"no"},null,null,null,null,null,null,null,null,1,null,null,null,null,null,null,{"$f":"IF(Q29=\"\",\"\",Q29*0.14)","v":""},null,{"$f":"IF(S29=\"\",\"\",S29*0.14)","v":""},null,0,"",{"$f":"IF(F29=\"\",\"\",IF(B29=\"no\",'Emission Factors'!$D$43,'Emission Factors'!$D$44))","v":""},"","","",{"$f":"IF(F29=\"\",\"\",IF(B29=\"no\",'Emission Factors'!$F$43,'Emission Factors'!$F$44))","v":""},"","","",{"$f":"IF(F29=\"\",\"\",IF(B29=\"no\",'Emission Factors'!$H$43,'Emission Factors'!$H$44))","v":""},"","","",{"$f":"IF(F29=\"\",\"\",IF(B29=\"no\",'Emission Factors'!$J$43,'Emission Factors'!$J$44))","v":""},"","","",{"$f":"IF(F29=\"\",\"\",IF(B29=\"no\",'Emission Factors'!$L$43,'Emission Factors'!$L$44))","v":""},"","","",{"$f":"IF(F29=\"\",\"\",IF(B29=\"no\",'Emission Factors'!$N$43,'Emission Factors'!$N$44))","v":""},"","",null,{"$f":"IF(F29=\"\",\"\",IF(B29=\"no\",'Emission Factors'!$P$43,'Emission Factors'!$P$44))","v":""},"","","",{"$f":"IF(F29=\"\",\"\",IF(B29=\"no\",'Emission Factors'!$R$43,'Emission Factors'!$R$44))","v":""},"","",""]
[null,{"$f":"IF(F30=\"Diesel Generator> 600 bhp\",\"yes\",\"no\")","v":"no"},null,null,null,null,null,null,null,null,1,null,null,null,null,null,null,{"$f":"IF(Q30=\"\",\"\",Q30*0.14)","v":""},null,{"$f":"IF(S30=\"\",\"\",S30*0.14)","v":""},null,{"$f":"IF(B30=\"no\",H30*Q30*0.14,\"\")","v":0},{"$f":"IF(B30=\"yes\",H30*Q30*0.14,\"\")","v":""},{"$f":"IF(F30=\"\",\"\",IF(B30=\"no\",'Emission Factors'!$D$43,'Emission Factors'!$D$44))","v":""},{"$f":"IF(F30=\"\",\"\",X30*R30)","v":""},{"$f":"IF(F30=\"\",\"\",IF(I30>0,I30*0.14*X30/2000,IF(H30>0,X30*R30*H30/2000,Y30*8760/2000)))","v":""},{"$f":"IF(F30=\"\",\"\",T30*X30/2000)","v":""},{"$f":"IF(F30=\"\",\"\",IF(B30=\"no\",'Emission Factors'!$F$43,'Emission Factors'!$F$44))","v":""},{"$f":"IF(F30=\"\",\"\",AB30*R30)","v":""},{"$f":"IF(F30=\"\",\"\",IF(I30>0,I30*0.14*AB30/2000,IF(H30>0,AB30*R30*H30/2000,AC30*8760/2000)))","v":""},{"$f":"IF(F30=\"\",\"\",T30*AB30/2000)","v":""},{"$f":"IF(F30=\"\",\"\",IF(B30=\"no\",'Emission Factors'!$H$43,'Emission Factors'!$H$44))","v":""},"",{"$f":"IF(F30=\"\",\"\",IF(I30>0,I30*0.14*AF30*K30/2000,IF(H30>0,AF30*K30*R30*H30/2000,AG30*8760/2000)))","v":""},"",{"$f":"IF(F30=\"\",\"\",IF(B30=\"no\",'Emission Factors'!$J$43,'Emission Factors'!$J$44))","v":""},"",{"$f":"IF(F30=\"\",\"\",IF(I30>0,I30*0.14*AJ30/2000,IF(H30>0,AJ30*R30*H30/2000,AK30*8760/2000)))","v":""},{"$f":"IF(F30=\"\",\"\",T30*AJ30/2000)","v":""},{"$f":"IF(F30=\"\",\"\",IF(B30=\"no\",'Emission Factors'!$L$43,'Emission Factors'!$L$44))","v":""},"",{"$f":"IF(F30=\"\",\"\",IF(I30>0,I30*0.14*AN30/2000,IF(H30>0,AN30*R30*H30/2000,AO30*8760/2000)))","v":""},{"$f":"IF(F30=\"\",\"\",T30*AN30/2000)","v":""},{"$f":"IF(F30=\"\",\"\",IF(B30=\"no\",'Emission Factors'!$N$43,'Emission Factors'!$N$44))","v":""},"",{"$f":"IF(F30=\"\",\"\",IF(I30>0,I30*0.14*AR30/2000,IF(H30>0,AR30*R30*H30/2000,AS30*8760/2000)))","v":""},{"$f":"IF(F30=\"\",\"\",T30*AR30/2000)","v":""},{"$f":"IF(F30=\"\",\"\",IF(B30=\"no\",'Emission Factors'!$P$43,'Emission Factors'!$P$44))","v":""},{"$f":"IF(F30=\"\",\"\",AV30*R30)","v":""},{"$f":"IF(F30=\"\",\"\",IF(I30>0,I30*0.14*AV30/2000,IF(H30>0,AV30*R30*H30/2000,AW30*8760/2000)))","v":""},{"$f":"IF(F30=\"\",\"\",T30*AV30/2000)","v":""},{"$f":"IF(F30=\"\",\"\",IF(B30=\"no\",'Emission Factors'!$R$43,'Emission Factors'!$R$44))","v":""},{"$f":"IF(F30=\"\",\"\",AZ30*R30)","v":""},{"$f":"IF(F30=\"\",\"\",IF(I30>0,I30*0.14*AZ30/2000,IF(H30>0,AZ30*R30*H30/2000,BA30*8760/2000)))","v":""},{"$f":"IF(F30=\"\",\"\",T30*AZ30/2000)","v":""}]
[null,"no",null,null,null,null,null,null,null,null,1,null,null,null,null,null,null,"",null,"",null,0,"",{"$f":"IF(F31=\"\",\"\",IF(B31=\"no\",'Emission Factors'!$D$43,'Emission Factors'!$D$44))","v":""},{"$f":"IF(F31=\"\",\"\",X31*R31)","v":""},{"$f":"IF(F31=\"\",\"\",IF(I31>0,I31*0.14*X31/2000,IF(H31>0,X31*R31*H31/2000,Y31*8760/2000)))","v":""},{"$f":"IF(F31=\"\",\"\",T31*X31/2000)","v":""},{"$f":"IF(F31=\"\",\"\",IF(B31=\"no\",'Emission Factors'!$F$43,'Emission Factors'!$F$44))","v":""},{"$f":"IF(F31=\"\",\"\",AB31*R31)","v":""},{"$f":"IF(F31=\"\",\"\",IF(I31>0,I31*0.14*AB31/2000,IF(H31>0,AB31*R31*H31/2000,AC31*8760/2000)))","v":""},{"$f":"IF(F31=\"\",\"\",T31*AB31/2000)","v":""},{"$f":"IF(F31=\"\",\"\",IF(B31=\"no\",'Emission Factors'!$H$43,'Emission Factors'!$H$44))","v":""},"",{"$f":"IF(F31=\"\",\"\",IF(I31>0,I31*0.14*AF31*K31/2000,IF(H31>0,AF31*K31*R31*H31/2000,AG31*8760/2000)))","v":""},"",{"$f":"IF(F31=\"\",\"\",IF(B31=\"no\",'Emission Factors'!$J$43,'Emission Factors'!$J$44))","v":""},"",{"$f":"IF(F31=\"\",\"\",IF(I31>0,I31*0.14*AJ31/2000,IF(H31>0,AJ31*R31*H31/2000,AK31*8760/2000)))","v":""},{"$f":"IF(F31=\"\",\"\",T31*AJ31/2000)","v":""},{"$f":"IF(F31=\"\",\"\",IF(B31=\"no\",'Emission Factors'!$L$43,'Emission Factors'!$L$44))","v":""},"",{"$f":"IF(F31=\"\",\"\",IF(I31>0,I31*0.14*AN31/2000,IF(H31>0,AN31*R31*H31/2000,AO31*8760/2000)))","v":""},{"$f":"IF(F31=\"\",\"\",T31*AN31/2000)","v":""},{"$f":"IF(F31=\"\",\"\",IF(B31=\"no\",'Emission Factors'!$N$43,'Emission Factors'!$N$44))","v":""},"",{"$f":"IF(F31=\"\",\"\",IF(I31>0,I31*0.14*AR31/2000,IF(H31>0,AR31*R31*H31/2000,AS31*8760/2000)))","v":""},{"$f":"IF(F31=\"\",\"\",T31*AR31/2000)","v":""},{"$f":"IF(F31=\"\",\"\",IF(B31=\"no\",'Emission Factors'!$P$43,'Emission Factors'!$P$44))","v":""},{"$f":"IF(F31=\"\",\"\",AV31*R31)","v":""},{"$f":"IF(F31=\"\",\"\",IF(I31>0,I31*0.14*AV31/2000,IF(H31>0,AV31*R31*H31/2000,AW31*8760/2000)))","v":""},{"$f":"IF(F31=\"\",\"\",T31*AV31/2000)","v":""},{"$f":"IF(F31=\"\",\"\",IF(B31=\"no\",'Emission Factors'!$R$43,'Emission Factors'!$R$44))","v":""},{"$f":"IF(F31=\"\",\"\",AZ31*R31)","v":""},{"$f":"IF(F31=\"\",\"\",IF(I31>0,I31*0.14*AZ31/2000,IF(H31>0,AZ31*R31*H31/2000,BA31*8760/2000)))","v":""},{"$f":"IF(F31=\"\",\"\",T31*AZ31/2000)","v":""}]
[null,"no",null,null,null,null,null,null,null,null,1,null,null,null,null,null,null,"",null,"",null,0,"",{"$f":"IF(F32=\"\",\"\",IF(B32=\"no\",'Emission Factors'!$D$43,'Emission Factors'!$D$44))","v":""},"","","",{"$f":"IF(F32=\"\",\"\",IF(B32=\"no\",'Emission Factors'!$F$43,'Emission Factors'!$F$44))","v":""},"","","",{"$f":"IF(F32=\"\",\"\",IF(B32=\"no\",'Emission Factors'!$H$43,'Emission Factors'!$H$44))","v":""},"","","",{"$f":"IF(F32=\"\",\"\",IF(B32=\"no\",'Emission Factors'!$J$43,'Emission Factors'!$J$44))","v":""},"","","",{"$f":"IF(F32=\"\",\"\",IF(B32=\"no\",'Emission Factors'!$L$43,'Emission Factors'!$L$44))","v":""},"","","",{"$f":"IF(F32=\"\",\"\",IF(B32=\"no\",'Emission Factors'!$N$43,'Emission Factors'!$N$44))","v":""},"","","",{"$f":"IF(F32=\"\",\"\",IF(B32=\"no\",'Emission Factors'!$P$43,'Emission Factors'!$P$44))","v":""},"","","",{"$f":"IF(F32=\"\",\"\",IF(B32=\"no\",'Emission Factors'!$R$43,'Emission Factors'!$R$44))","v":""},"","",""]
[null,"no",null,null,null,null,null,null,null,null,1,null,null,null,null,null,null,"",null,"",null,0,"",{"$f":"IF(F33=\"\",\"\",IF(B33=\"no\",'Emission Factors'!$D$43,'Emission Factors'!$D$44))","v":""},"","","",{"$f":"IF(F33=\"\",\"\",IF(B33=\"no\",'Emission Factors'!$F$43,'Emission Factors'!$F$44))","v":""},"","","",{"$f":"IF(F33=\"\",\"\",IF(B33=\"no\",'Emission Factors'!$H$43,'Emission Factors'!$H$44))","v":""},"","","",{"$f":"IF(F33=\"\",\"\",IF(B33=\"no\",'Emission Factors'!$J$43,'Emission Factors'!$J$44))","v":""},"","","",{"$f":"IF(F33=\"\",\"\",IF(B33=\"no\",'Emission Factors'!$L$43,'Emission Factors'!$L$44))","v":""},"","","",{"$f":"IF(F33=\"\",\"\",IF(B33=\"no\",'Emission Factors'!$N$43,'Emission Factors'!$N$44))","v":""},"","","",{"$f":"IF(F33=\"\",\"\",IF(B33=\"no\",'Emission Factors'!$P$43,'Emission Factors'!$P$44))","v":""},"","","",{"$f":"IF(F33=\"\",\"\",IF(B33=\"no\",'Emission Factors'!$R$43,'Emission Factors'!$R$44))","v":""},"","",""]
[null,"no",null,null,null,null,null,null,null,null,1,null,null,null,null,null,null,"",null,"",null,0,"",{"$f":"IF(F34=\"\",\"\",IF(B34=\"no\",'Emission Factors'!$D$43,'Emission Factors'!$D$44))","v":""},"","","",{"$f":"IF(F34=\"\",\"\",IF(B34=\"no\",'Emission Factors'!$F$43,'Emission Factors'!$F$44))","v":""},"","","",{"$f":"IF(F34=\"\",\"\",IF(B34=\"no\",'Emission Factors'!$H$43,'Emission Factors'!$H$44))","v":""},"","","",{"$f":"IF(F34=\"\",\"\",IF(B34=\"no\",'Emission Factors'!$J$43,'Emission Factors'!$J$44))","v":""},"","","",{"$f":"IF(F34=\"\",\"\",IF(B34=\"no\",'Emission Factors'!$L$43,'Emission Factors'!$L$44))","v":""},"","","",{"$f":"IF(F34=\"\",\"\",IF(B34=\"no\",'Emission Factors'!$N$43,'Emission Factors'!$N$44))","v":""},"","","",{"$f":"IF(F34=\"\",\"\",IF(B34=\"no\",'Emission Factors'!$P$43,'Emission Factors'!$P$44))","v":""},"","","",{"$f":"IF(F34=\"\",\"\",IF(B34=\"no\",'Emission Factors'!$R$43,'Emission Factors'!$R$44))","v":""},"","",""]
[null,"no",null,null,null,null,null,null,null,null,1,null,null,null,null,null,null,"",null,"",null,0,"",{"$f":"IF(F35=\"\",\"\",IF(B35=\"no\",'Emission Factors'!$D$43,'Emission Factors'!$D$44))","v":""},"","","",{"$f":"IF(F35=\"\",\"\",IF(B35=\"no\",'Emission Factors'!$F$43,'Emission Factors'!$F$44))","v":""},"","","",{"$f":"IF(F35=\"\",\"\",IF(B35=\"no\",'Emission Factors'!$H$43,'Emission Factors'!$H$44))","v":""},"","","",{"$f":"IF(F35=\"\",\"\",IF(B35=\"no\",'Emission Factors'!$J$43,'Emission Factors'!$J$44))","v":""},"","","",{"$f":"IF(F35=\"\",\"\",IF(B35=\"no\",'Emission Factors'!$L$43,'Emission Factors'!$L$44))","v":""},"","","",{"$f":"IF(F35=\"\",\"\",IF(B35=\"no\",'Emission Factors'!$N$43,'Emission Factors'!$N$44))","v":""},"","","",{"$f":"IF(F35=\"\",\"\",IF(B35=\"no\",'Emission Factors'!$P$43,'Emission Factors'!$P$44))","v":""},"","","",{"$f":"IF(F35=\"\",\"\",IF(B35=\"no\",'Emission Factors'!$R$43,'Emission Factors'!$R$44))","v":""},"","",""]
[null,"no",null,null,null,null,null,null,null,null,1,null,null,null,null,null,null,"",null,"",null,0,"",{"$f":"IF(F36=\"\",\"\",IF(B36=\"no\",'Emission Factors'!$D$43,'Emission Factors'!$D$44))","v":""},"","","",{"$f":"IF(F36=\"\",\"\",IF(B36=\"no\",'Emission Factors'!$F$43,'Emission Factors'!$F$44))","v":""},"","","",{"$f":"IF(F36=\"\",\"\",IF(B36=\"no\",'Emission Factors'!$H$43,'Emission Factors'!$H$44))","v":""},"","","",{"$f":"IF(F36=\"\",\"\",IF(B36=\"no\",'Emission Factors'!$J$43,'Emission Factors'!$J$44))","v":""},"","","",{"$f":"IF(F36=\"\",\"\",IF(B36=\"no\",'Emission Factors'!$L$43,'Emission Factors'!$L$44))","v":""},"","","",{"$f":"IF(F36=\"\",\"\",IF(B36=\"no\",'Emission Factors'!$N$43,'Emission Factors'!$N$44))","v":""},"","","",{"$f":"IF(F36=\"\",\"\",IF(B36=\"no\",'Emission Factors'!$P$43,'Emission Factors'!$P$44))","v":""},"","","",{"$f":"IF(F36=\"\",\"\",IF(B36=\"no\",'Emission Factors'!$R$43,'Emission Factors'!$R$44))","v":""},"","",""]
[null,"no",null,null,null,null,null,null,null,null,1,null,null,null,null,null,null,"",null,"",null,0,"",{"$f":"IF(F37=\"\",\"\",IF(B37=\"no\",'Emission Factors'!$D$43,'Emission Factors'!$D$44))","v":""},"","","",{"$f":"IF(F37=\"\",\"\",IF(B37=\"no\",'Emission Factors'!$F$43,'Emission Factors'!$F$44))","v":""},"","","",{"$f":"IF(F37=\"\",\"\",IF(B37=\"no\",'Emission Factors'!$H$43,'Emission Factors'!$H$44))","v":""},"","","",{"$f":"IF(F37=\"\",\"\",IF(B37=\"no\",'Emission Factors'!$J$43,'Emission Factors'!$J$44))","v":""},"","","",{"$f":"IF(F37=\"\",\"\",IF(B37=\"no\",'Emission Factors'!$L$43,'Emission Factors'!$L$44))","v":""},"","","",{"$f":"IF(F37=\"\",\"\",IF(B37=\"no\",'Emission Factors'!$N$43,'Emission Factors'!$N$44))","v":""},"","","",{"$f":"IF(F37=\"\",\"\",IF(B37=\"no\",'Emission Factors'!$P$43,'Emission Factors'!$P$44))","v":""},"","","",{"$f":"IF(F37=\"\",\"\",IF(B37=\"no\",'Emission Factors'!$R$43,'Emission Factors'!$R$44))","v":""},"","",""]
[null,"no",null,null,null,null,null,null,null,null,1,null,null,null,null,null,null,"",null,"",null,0,"",{"$f":"IF(F38=\"\",\"\",IF(B38=\"no\",'Emission Factors'!$D$43,'Emission Factors'!$D$44))","v":""},"","","",{"$f":"IF(F38=\"\",\"\",IF(B38=\"no\",'Emission Factors'!$F$43,'Emission Factors'!$F$44))","v":""},"","","",{"$f":"IF(F38=\"\",\"\",IF(B38=\"no\",'Emission Factors'!$H$43,'Emission Factors'!$H$44))","v":""},"","","",{"$f":"IF(F38=\"\",\"\",IF(B38=\"no\",'Emission Factors'!$J$43,'Emission Factors'!$J$44))","v":""},"","","",{"$f":"IF(F38=\"\",\"\",IF(B38=\"no\",'Emission Factors'!$L$43,'Emission Factors'!$L$44))","v":""},"","","",{"$f":"IF(F38=\"\",\"\",IF(B38=\"no\",'Emission Factors'!$N$43,'Emission Factors'!$N$44))","v":""},"","","",{"$f":"IF(F38=\"\",\"\",IF(B38=\"no\",'Emission Factors'!$P$43,'Emission Factors'!$P$44))","v":""},"","","",{"$f":"IF(F38=\"\",\"\",IF(B38=\"no\",'Emission Factors'!$R$43,'Emission Factors'!$R$44))","v":""},"","",""]
[null,"no",null,null,null,null,null,null,null,null,1,null,null,null,null,null,null,"",null,"",null,0,"",{"$f":"IF(F39=\"\",\"\",IF(B39=\"no\",'Emission Factors'!$D$43,'Emission Factors'!$D$44))","v":""},"","","",{"$f":"IF(F39=\"\",\"\",IF(B39=\"no\",'Emission Factors'!$F$43,'Emission Factors'!$F$44))","v":""},"","","",{"$f":"IF(F39=\"\",\"\",IF(B39=\"no\",'Emission Factors'!$H$43,'Emission Factors'!$H$44))","v":""},"","","",{"$f":"IF(F39=\"\",\"\",IF(B39=\"no\",'Emission Factors'!$J$43,'Emission Factors'!$J$44))","v":""},"","","",{"$f":"IF(F39=\"\",\"\",IF(B39=\"no\",'Emission Factors'!$L$43,'Emission Factors'!$L$44))","v":""},"","","",{"$f":"IF(F39=\"\",\"\",IF(B39=\"no\",'Emission Factors'!$N$43,'Emission Factors'!$N$44))","v":""},"","","",{"$f":"IF(F39=\"\",\"\",IF(B39=\"no\",'Emission Factors'!$P$43,'Emission Factors'!$P$44))","v":""},"","","",{"$f":"IF(F39=\"\",\"\",IF(B39=\"no\",'Emission Factors'!$R$43,'Emission Factors'!$R$44))","v":""},"","",""]
[null,"no",null,null,null,null,null,null,null,null,1,null,null,null,null,null,null,"",null,"",null,0,"",{"$f":"IF(F40=\"\",\"\",IF(B40=\"no\",'Emission Factors'!$D$43,'Emission Factors'!$D$44))","v":""},"","","",{"$f":"IF(F40=\"\",\"\",IF(B40=\"no\",'Emission Factors'!$F$43,'Emission Factors'!$F$44))","v":""},"","","",{"$f":"IF(F40=\"\",\"\",IF(B40=\"no\",'Emission Factors'!$H$43,'Emission Factors'!$H$44))","v":""},"","","",{"$f":"IF(F40=\"\",\"\",IF(B40=\"no\",'Emission Factors'!$J$43,'Emission Factors'!$J$44))","v":""},"","","",{"$f":"IF(F40=\"\",\"\",IF(B40=\"no\",'Emission Factors'!$L$43,'Emission Factors'!$L$44))","v":""},"","","",{"$f":"IF(F40=\"\",\"\",IF(B40=\"no\",'Emission Factors'!$N$43,'Emission Factors'!$N$44))","v":""},"","","",{"$f":"IF(F40=\"\",\"\",IF(B40=\"no\",'Emission Factors'!$P$43,'Emission Factors'!$P$44))","v":""},"","","",{"$f":"IF(F40=\"\",\"\",IF(B40=\"no\",'Emission Factors'!$R$43,'Emission Factors'!$R$44))","v":""},"","",""]
[null,"no",null,null,null,null,null,null,null,null,1,null,null,null,null,null,null,"",null,"",null,0,"",{"$f":"IF(F41=\"\",\"\",IF(B41=\"no\",'Emission Factors'!$D$43,'Emission Factors'!$D$44))","v":""},"","","",{"$f":"IF(F41=\"\",\"\",IF(B41=\"no\",'Emission Factors'!$F$43,'Emission Factors'!$F$44))","v":""},"","","",{"$f":"IF(F41=\"\",\"\",IF(B41=\"no\",'Emission Factors'!$H$43,'Emission Factors'!$H$44))","v":""},"","","",{"$f":"IF(F41=\"\",\"\",IF(B41=\"no\",'Emission Factors'!$J$43,'Emission Factors'!$J$44))","v":""},"","","",{"$f":"IF(F41=\"\",\"\",IF(B41=\"no\",'Emission Factors'!$L$43,'Emission Factors'!$L$44))","v":""},"","","",{"$f":"IF(F41=\"\",\"\",IF(B41=\"no\",'Emission Factors'!$N$43,'Emission Factors'!$N$44))","v":""},"","","",{"$f":"IF(F41=\"\",\"\",IF(B41=\"no\",'Emission Factors'!$P$43,'Emission Factors'!$P$44))","v":""},"","","",{"$f":"IF(F41=\"\",\"\",IF(B41=\"no\",'Emission Factors'!$R$43,'Emission Factors'!$R$44))","v":""},"","",""]
[null,"no",null,null,null,null,null,null,null,null,1,null,null,null,null,null,null,"",null,"",null,0,"",{"$f":"IF(F42=\"\",\"\",IF(B42=\"no\",'Emission Factors'!$D$43,'Emission Factors'!$D$44))","v":""},"","","",{"$f":"IF(F42=\"\",\"\",IF(B42=\"no\",'Emission Factors'!$F$43,'Emission Factors'!$F$44))","v":""},"","","",{"$f":"IF(F42=\"\",\"\",IF(B42=\"no\",'Emission Factors'!$H$43,'Emission Factors'!$H$44))","v":""},"","","",{"$f":"IF(F42=\"\",\"\",IF(B42=\"no\",'Emission Factors'!$J$43,'Emission Factors'!$J$44))","v":""},"","","",{"$f":"IF(F42=\"\",\"\",IF(B42=\"no\",'Emission Factors'!$L$43,'Emission Factors'!$L$44))","v":""},"","","",{"$f":"IF(F42=\"\",\"\",IF(B42=\"no\",'Emission Factors'!$N$43,'Emission Factors'!$N$44))","v":""},"","","",{"$f":"IF(F42=\"\",\"\",IF(B42=\"no\",'Emission Factors'!$P$43,'Emission Factors'!$P$44))","v":""},"","","",{"$f":"IF(F42=\"\",\"\",IF(B42=\"no\",'Emission Factors'!$R$43,'Emission Factors'!$R$44))","v":""},"","",""]
[null,"no",null,null,null,null,null,null,null,null,1,null,null,null,null,null,null,"",null,"",null,0,"",{"$f":"IF(F43=\"\",\"\",IF(B43=\"no\",'Emission Factors'!$D$43,'Emission Factors'!$D$44))","v":""},"","","",{"$f":"IF(F43=\"\",\"\",IF(B43=\"no\",'Emission Factors'!$F$43,'Emission Factors'!$F$44))","v":""},"","","",{"$f":"IF(F43=\"\",\"\",IF(B43=\"no\",'Emission Factors'!$H$43,'Emission Factors'!$H$44))","v":""},"","","",{"$f":"IF(F43=\"\",\"\",IF(B43=\"no\",'Emission Factors'!$J$43,'Emission Factors'!$J$44))","v":""},"","","",{"$f":"IF(F43=\"\",\"\",IF(B43=\"no\",'Emission Factors'!$L$43,'Emission Factors'!$L$44))","v":""},"","","",{"$f":"IF(F43=\"\",\"\",IF(B43=\"no\",'Emission Factors'!$N$43,'Emission Factors'!$N$44))","v":""},"","","",{"$f":"IF(F43=\"\",\"\",IF(B43=\"no\",'Emission Factors'!$P$43,'Emission Factors'!$P$44))","v":""},"","","",{"$f":"IF(F43=\"\",\"\",IF(B43=\"no\",'Emission Factors'!$R$43,'Emission Factors'!$R$44))","v":""},"","",""]
[null,"no",null,null,null,null,null,null,null,null,1,null,null,null,null,null,null,"",null,"",null,0,"",{"$f":"IF(F44=\"\",\"\",IF(B44=\"no\",'Emission Factors'!$D$43,'Emission Factors'!$D$44))","v":""},"","","",{"$f":"IF(F44=\"\",\"\",IF(B44=\"no\",'Emission Factors'!$F$43,'Emission Factors'!$F$44))","v":""},"","","",{"$f":"IF(F44=\"\",\"\",IF(B44=\"no\",'Emission Factors'!$H$43,'Emission Factors'!$H$44))","v":""},"","","",{"$f":"IF(F44=\"\",\"\",IF(B44=\"no\",'Emission Factors'!$J$43,'Emission Factors'!$J$44))","v":""},"","","",{"$f":"IF(F44=\"\",\"\",IF(B44=\"no\",'Emission Factors'!$L$43,'Emission Factors'!$L$44))","v":""},"","","",{"$f":"IF(F44=\"\",\"\",IF(B44=\"no\",'Emission Factors'!$N$43,'Emission Factors'!$N$44))","v":""},"","","",{"$f":"IF(F44=\"\",\"\",IF(B44=\"no\",'Emission Factors'!$P$43,'Emission Factors'!$P$44))","v":""},"","","",{"$f":"IF(F44=\"\",\"\",IF(B44=\"no\",'Emission Factors'!$R$43,'Emission Factors'!$R$44))","v":""},"","",""]
[null,"no",null,null,null,null,null,null,null,null,1,null,null,null,null,null,null,"",null,"",null,0,"",{"$f":"IF(F45=\"\",\"\",IF(B45=\"no\",'Emission Factors'!$D$43,'Emission Factors'!$D$44))","v":""},"","","",{"$f":"IF(F45=\"\",\"\",IF(B45=\"no\",'Emission Factors'!$F$43,'Emission Factors'!$F$44))","v":""},"","","",{"$f":"IF(F45=\"\",\"\",IF(B45=\"no\",'Emission Factors'!$H$43,'Emission Factors'!$H$44))","v":""},"","","",{"$f":"IF(F45=\"\",\"\",IF(B45=\"no\",'Emission Factors'!$J$43,'Emission Factors'!$J$44))","v":""},"","","",{"$f":"IF(F45=\"\",\"\",IF(B45=\"no\",'Emission Factors'!$L$43,'Emission Factors'!$L$44))","v":""},"","","",{"$f":"IF(F45=\"\",\"\",IF(B45=\"no\",'Emission Factors'!$N$43,'Emission Factors'!$N$44))","v":""},"","","",{"$f":"IF(F45=\"\",\"\",IF(B45=\"no\",'Emission Factors'!$P$43,'Emission Factors'!$P$44))","v":""},"","","",{"$f":"IF(F45=\"\",\"\",IF(B45=\"no\",'Emission Factors'!$R$43,'Emission Factors'!$R$44))","v":""},"","",""]
[null,{"$f":"IF(F46=\"Diesel Generator> 600 bhp\",\"yes\",\"no\")","v":"no"},null,null,null,null,null,null,null,null,1,null,null,null,null,null,null,{"$f":"IF(Q46=\"\",\"\",Q46*0.14)","v":""},null,{"$f":"IF(S46=\"\",\"\",S46*0.14)","v":""},null,0,"",{"$f":"IF(F46=\"\",\"\",IF(B46=\"no\",'Emission Factors'!$D$43,'Emission Factors'!$D$44))","v":""},"","","",{"$f":"IF(F46=\"\",\"\",IF(B46=\"no\",'Emission Factors'!$F$43,'Emission Factors'!$F$44))","v":""},"","","",{"$f":"IF(F46=\"\",\"\",IF(B46=\"no\",'Emission Factors'!$H$43,'Emission Factors'!$H$44))","v":""},"","","",{"$f":"IF(F46=\"\",\"\",IF(B46=\"no\",'Emission Factors'!$J$43,'Emission Factors'!$J$44))","v":""},"","","",{"$f":"IF(F46=\"\",\"\",IF(B46=\"no\",'Emission Factors'!$L$43,'Emission Factors'!$L$44))","v":""},"","","",{"$f":"IF(F46=\"\",\"\",IF(B46=\"no\",'Emission Factors'!$N$43,'Emission Factors'!$N$44))","v":""},"","","",{"$f":"IF(F46=\"\",\"\",IF(B46=\"no\",'Emission Factors'!$P$43,'Emission Factors'!$P$44))","v":""},"","","",{"$f":"IF(F46=\"\",\"\",IF(B46=\"no\",'Emission Factors'!$R$43,'Emission Factors'!$R$44))","v":""},"","",""]
[null,{"$f":"IF(F47=\"Diesel Generator> 600 bhp\",\"yes\",\"no\")","v":"no"},null,null,null,null,null,null,null,null,1,null,null,null,null,null,null,{"$f":"IF(Q47=\"\",\"\",Q47*0.14)","v":""},null,{"$f":"IF(S47=\"\",\"\",S47*0.14)","v":""},null,0,"",{"$f":"IF(F47=\"\",\"\",IF(B47=\"no\",'Emission Factors'!$D$43,'Emission Factors'!$D$44))","v":""},"","","",{"$f":"IF(F47=\"\",\"\",IF(B47=\"no\",'Emission Factors'!$F$43,'Emission Factors'!$F$44))","v":""},"","","",{"$f":"IF(F47=\"\",\"\",IF(B47=\"no\",'Emission Factors'!$H$43,'Emission Factors'!$H$44))","v":""},"","","",{"$f":"IF(F47=\"\",\"\",IF(B47=\"no\",'Emission Factors'!$J$43,'Emission Factors'!$J$44))","v":""},"","","",{"$f":"IF(F47=\"\",\"\",IF(B47=\"no\",'Emission Factors'!$L$43,'Emission Factors'!$L$44))","v":""},"","","",{"$f":"IF(F47=\"\",\"\",IF(B47=\"no\",'Emission Factors'!$N$43,'Emission Factors'!$N$44))","v":""},"","","",{"$f":"IF(F47=\"\",\"\",IF(B47=\"no\",'Emission Factors'!$P$43,'Emission Factors'!$P$44))","v":""},"","","",{"$f":"IF(F47=\"\",\"\",IF(B47=\"no\",'Emission Factors'!$R$43,'Emission Factors'!$R$44))","v":""},"","",""]
[null,{"$f":"IF(F48=\"Diesel Generator> 600 bhp\",\"yes\",\"no\")","v":"no"},null,null,null,null,null,null,null,null,1,null,null,null,null,null,null,{"$f":"IF(Q48=\"\",\"\",Q48*0.14)","v":""},null,{"$f":"IF(S48=\"\",\"\",S48*0.14)","v":""},null,0,"",{"$f":"IF(F48=\"\",\"\",IF(B48=\"no\",'Emission Factors'!$D$43,'Emission Factors'!$D$44))","v":""},"","","",{"$f":"IF(F48=\"\",\"\",IF(B48=\"no\",'Emission Factors'!$F$43,'Emission Factors'!$F$44))","v":""},"","","",{"$f":"IF(F48=\"\",\"\",IF(B48=\"no\",'Emission Factors'!$H$43,'Emission Factors'!$H$44))","v":""},"","","",{"$f":"IF(F48=\"\",\"\",IF(B48=\"no\",'Emission Factors'!$J$43,'Emission Factors'!$J$44))","v":""},"","","",{"$f":"IF(F48=\"\",\"\",IF(B48=\"no\",'Emission Factors'!$L$43,'Emission Factors'!$L$44))","v":""},"","","",{"$f":"IF(F48=\"\",\"\",IF(B48=\"no\",'Emission Factors'!$N$43,'Emission Factors'!$N$44))","v":""},"","","",{"$f":"IF(F48=\"\",\"\",IF(B48=\"no\",'Emission Factors'!$P$43,'Emission Factors'!$P$44))","v":""},"","","",{"$f":"IF(F48=\"\",\"\",IF(B48=\"no\",'Emission Factors'!$R$43,'Emission Factors'!$R$44))","v":""},"","",""]
[null,{"$f":"IF(F49=\"Diesel Generator> 600 bhp\",\"yes\",\"no\")","v":"no"},null,null,null,null,null,null,null,null,1,null,null,null,null,null,null,{"$f":"IF(Q49=\"\",\"\",Q49*0.14)","v":""},null,{"$f":"IF(S49=\"\",\"\",S49*0.14)","v":""},null,0,"",{"$f":"IF(F49=\"\",\"\",IF(B49=\"no\",'Emission Factors'!$D$43,'Emission Factors'!$D$44))","v":""},"","","",{"$f":"IF(F49=\"\",\"\",IF(B49=\"no\",'Emission Factors'!$F$43,'Emission Factors'!$F$44))","v":""},"","","",{"$f":"IF(F49=\"\",\"\",IF(B49=\"no\",'Emission Factors'!$H$43,'Emission Factors'!$H$44))","v":""},"","","",{"$f":"IF(F49=\"\",\"\",IF(B49=\"no\",'Emission Factors'!$J$43,'Emission Factors'!$J$44))","v":""},"","","",{"$f":"IF(F49=\"\",\"\",IF(B49=\"no\",'Emission Factors'!$L$43,'Emission Factors'!$L$44))","v":""},"","","",{"$f":"IF(F49=\"\",\"\",IF(B49=\"no\",'Emission Factors'!$N$43,'Emission Factors'!$N$44))","v":""},"","","",{"$f":"IF(F49=\"\",\"\",IF(B49=\"no\",'Emission Factors'!$P$43,'Emission Factors'!$P$44))","v":""},"","","",{"$f":"IF(F49=\"\",\"\",IF(B49=\"no\",'Emission Factors'!$R$43,'Emission Factors'!$R$44))","v":""},"","",""]
[null,{"$f":"IF(F50=\"Diesel Generator> 600 bhp\",\"yes\",\"no\")","v":"no"},null,null,null,null,null,null,null,null,1,null,null,null,null,null,null,{"$f":"IF(Q50=\"\",\"\",Q50*0.14)","v":""},null,{"$f":"IF(S50=\"\",\"\",S50*0.14)","v":""},null,0,"",{"$f":"IF(F50=\"\",\"\",IF(B50=\"no\",'Emission Factors'!$D$43,'Emission Factors'!$D$44))","v":""},"","","",{"$f":"IF(F50=\"\",\"\",IF(B50=\"no\",'Emission Factors'!$F$43,'Emission Factors'!$F$44))","v":""},"","","",{"$f":"IF(F50=\"\",\"\",IF(B50=\"no\",'Emission Factors'!$H$43,'Emission Factors'!$H$44))","v":""},"","","",{"$f":"IF(F50=\"\",\"\",IF(B50=\"no\",'Emission Factors'!$J$43,'Emission Factors'!$J$44))","v":""},"","","",{"$f":"IF(F50=\"\",\"\",IF(B50=\"no\",'Emission Factors'!$L$43,'Emission Factors'!$L$44))","v":""},"","","",{"$f":"IF(F50=\"\",\"\",IF(B50=\"no\",'Emission Factors'!$N$43,'Emission Factors'!$N$44))","v":""},"","",null,{"$f":"IF(F50=\"\",\"\",IF(B50=\"no\",'Emission Factors'!$P$43,'Emission Factors'!$P$44))","v":""},"","","",{"$f":"IF(F50=\"\",\"\",IF(B50=\"no\",'Emission Factors'!$R$43,'Emission Factors'!$R$44))","v":""},"","",""]
[null,null,null,null,null,null,null,null,null,null,null,null,null,"Total Combined for all Generators ≤ 600 BHP:",null,null,{"$f":"SUM(IF($B$9=\"no\",Q9),IF($B$10=\"no\",Q10),IF($B$11=\"no\",Q11),IF($B$12=\"no\",Q12),IF($B$13=\"no\",Q13),IF($B$14=\"no\",Q14),IF($B$15=\"no\",Q15),IF($B$16=\"no\",Q16),IF($B$17=\"no\",Q17),IF($B$18=\"no\",Q18),IF($B$19=\"no\",Q19),IF($B$20=\"no\",Q20),IF($B$21=\"no\",Q21),IF($B$22=\"no\",Q22),IF($B$23=\"no\",Q23),IF($B$24=\"no\",Q24),IF($B$25=\"no\",Q25),IF($B$26=\"no\",Q26),IF($B$27=\"no\",Q27),IF($B$28=\"no\",Q28),IF($B$29=\"no\",Q29),IF($B$30=\"no\",Q30),IF($B$31=\"no\",Q31),IF($B$32=\"no\",Q32),IF($B$33=\"no\",Q33),IF($B$34=\"no\",Q34),IF($B$35=\"no\",Q35),IF($B$36=\"no\",Q36),IF($B$37=\"no\",Q37),IF($B$38=\"no\",Q38),IF($B$39=\"no\",Q39),IF($B$40=\"no\",Q40),IF($B$41=\"no\",Q41),IF($B$42=\"no\",Q42),IF($B$43=\"no\",Q43),IF($B$44=\"no\",Q44),IF($B$45=\"no\",Q45),IF($B$46=\"no\",Q46),IF($B$47=\"no\",Q47),IF($B$48=\"no\",Q48),IF($B$49=\"no\",Q49),IF($B$50=\"no\",Q50))","v":0},{"$f":"SUM(IF($B$9=\"no\",R9),IF($B$10=\"no\",R10),IF($B$11=\"no\",R11),IF($B$12=\"no\",R12),IF($B$13=\"no\",R13),IF($B$14=\"no\",R14),IF($B$15=\"no\",R15),IF($B$16=\"no\",R16),IF($B$17=\"no\",R17),IF($B$18=\"no\",R18),IF($B$19=\"no\",R19),IF($B$20=\"no\",R20),IF($B$21=\"no\",R21),IF($B$22=\"no\",R22),IF($B$23=\"no\",R23),IF($B$24=\"no\",R24),IF($B$25=\"no\",R25),IF($B$26=\"no\",R26),IF($B$27=\"no\",R27),IF($B$28=\"no\",R28),IF($B$29=\"no\",R29),IF($B$30=\"no\",R30),IF($B$31=\"no\",R31),IF($B$32=\"no\",R32),IF($B$33=\"no\",R33),IF($B$34=\"no\",R34),IF($B$35=\"no\",R35),IF($B$36=\"no\",R36),IF($B$37=\"no\",R37),IF($B$38=\"no\",R38),IF($B$39=\"no\",R39),IF($B$40=\"no\",R40),IF($B$41=\"no\",R41),IF($B$42=\"no\",R42),IF($B$43=\"no\",R43),IF($B$44=\"no\",R44),IF($B$45=\"no\",R45),IF($B$46=\"no\",R46),IF($B$47=\"no\",R47),IF($B$48=\"no\",R48),IF($B$49=\"no\",R49),IF($B$50=\"no\",R50))","v":0},{"$f":"SUM(IF($B$9=\"no\",S9),IF($B$10=\"no\",S10),IF($B$11=\"no\",S11),IF($B$12=\"no\",S12),IF($B$13=\"no\",S13),IF($B$14=\"no\",S14),IF($B$15=\"no\",S15),IF($B$16=\"no\",S16),IF($B$17=\"no\",S17),IF($B$18=\"no\",S18),IF($B$19=\"no\",S19),IF($B$20=\"no\",S20),IF($B$21=\"no\",S21),IF($B$22=\"no\",S22),IF($B$23=\"no\",S23),IF($B$24=\"no\",S24),IF($B$25=\"no\",S25),IF($B$26=\"no\",S26),IF($B$27=\"no\",S27),IF($B$28=\"no\",S28),IF($B$29=\"no\",S29),IF($B$30=\"no\",S30),IF($B$31=\"no\",S31),IF($B$32=\"no\",S32),IF($B$33=\"no\",S33),IF($B$34=\"no\",S34),IF($B$35=\"no\",S35),IF($B$36=\"no\",S36),IF($B$37=\"no\",S37),IF($B$38=\"no\",S38),IF($B$39=\"no\",S39),IF($B$40=\"no\",S40),IF($B$41=\"no\",S41),IF($B$42=\"no\",S42),IF($B$43=\"no\",S43),IF($B$44=\"no\",S44),IF($B$45=\"no\",S45),IF($B$46=\"no\",S46),IF($B$47=\"no\",S47),IF($B$48=\"no\",S48),IF($B$49=\"no\",S49),IF($B$50=\"no\",S50))","v":0},{"$f":"SUM(IF($B$9=\"no\",T9),IF($B$10=\"no\",T10),IF($B$11=\"no\",T11),IF($B$12=\"no\",T12),IF($B$13=\"no\",T13),IF($B$14=\"no\",T14),IF($B$15=\"no\",T15),IF($B$16=\"no\",T16),IF($B$17=\"no\",T17),IF($B$18=\"no\",T18),IF($B$19=\"no\",T19),IF($B$20=\"no\",T20),IF($B$21=\"no\",T21),IF($B$22=\"no\",T22),IF($B$23=\"no\",T23),IF($B$24=\"no\",T24),IF($B$25=\"no\",T25),IF($B$26=\"no\",T26),IF($B$27=\"no\",T27),IF($B$28=\"no\",T28),IF($B$29=\"no\",T29),IF($B$30=\"no\",T30),IF($B$31=\"no\",T31),IF($B$32=\"no\",T32),IF($B$33=\"no\",T33),IF($B$34=\"no\",T34),IF($B$35=\"no\",T35),IF($B$36=\"no\",T36),IF($B$37=\"no\",T37),IF($B$38=\"no\",T38),IF($B$39=\"no\",T39),IF($B$40=\"no\",T40),IF($B$41=\"no\",T41),IF($B$42=\"no\",T42),IF($B$43=\"no\",T43),IF($B$44=\"no\",T44),IF($B$45=\"no\",T45),IF($B$46=\"no\",T46),IF($B$47=\"no\",T47),IF($B$48=\"no\",T48),IF($B$49=\"no\",T49),IF($B$50=\"no\",T50))","v":0}]
["AP-1",{"$f":"MAX(IF($C$9:$C$50=\"AP-1\",$I$9:$I$50))","v":0},null,null,null,null,null,null,null,null,null,null,null,"Total Combined for all Generators > 600 BHP:",null,null,{"$f":"SUM(IF($B$9=\"yes\",Q9),IF($B$10=\"yes\",Q10),IF($B$11=\"yes\",Q11),IF($B$12=\"yes\",Q12),IF($B$13=\"yes\",Q13),IF($B$14=\"yes\",Q14),IF($B$15=\"yes\",Q15),IF($B$16=\"yes\",Q16),IF($B$17=\"yes\",Q17),IF($B$18=\"yes\",Q18),IF($B$19=\"yes\",Q19),IF($B$20=\"yes\",Q20),IF($B$21=\"yes\",Q21),IF($B$22=\"yes\",Q22),IF($B$23=\"yes\",Q23),IF($B$24=\"yes\",Q24),IF($B$25=\"yes\",Q25),IF($B$26=\"yes\",Q26),IF($B$27=\"yes\",Q27),IF($B$28=\"yes\",Q28),IF($B$29=\"yes\",Q29),IF($B$30=\"yes\",Q30),IF($B$31=\"yes\",Q31),IF($B$32=\"yes\",Q32),IF($B$33=\"yes\",Q33),IF($B$34=\"yes\",Q34),IF($B$35=\"yes\",Q35),IF($B$36=\"yes\",Q36),IF($B$37=\"yes\",Q37),IF($B$38=\"yes\",Q38),IF($B$39=\"yes\",Q39),IF($B$40=\"yes\",Q40),IF($B$41=\"yes\",Q41),IF($B$42=\"yes\",Q42),IF($B$43=\"yes\",Q43),IF($B$44=\"yes\",Q44),IF($B$45=\"yes\",Q45),IF($B$46=\"yes\",Q46),IF($B$47=\"yes\",Q47),IF($B$48=\"yes\",Q48),IF($B$49=\"yes\",Q49),IF($B$50=\"yes\",Q50))","v":0},{"$f":"SUM(IF($B$9=\"yes\",R9),IF($B$10=\"yes\",R10),IF($B$11=\"yes\",R11),IF($B$12=\"yes\",R12),IF($B$13=\"yes\",R13),IF($B$14=\"yes\",R14),IF($B$15=\"yes\",R15),IF($B$16=\"yes\",R16),IF($B$17=\"yes\",R17),IF($B$18=\"yes\",R18),IF($B$19=\"yes\",R19),IF($B$20=\"yes\",R20),IF($B$21=\"yes\",R21),IF($B$22=\"yes\",R22),IF($B$23=\"yes\",R23),IF($B$24=\"yes\",R24),IF($B$25=\"yes\",R25),IF($B$26=\"yes\",R26),IF($B$27=\"yes\",R27),IF($B$28=\"yes\",R28),IF($B$29=\"yes\",R29),IF($B$30=\"yes\",R30),IF($B$31=\"yes\",R31),IF($B$32=\"yes\",R32),IF($B$33=\"yes\",R33),IF($B$34=\"yes\",R34),IF($B$35=\"yes\",R35),IF($B$36=\"yes\",R36),IF($B$37=\"yes\",R37),IF($B$38=\"yes\",R38),IF($B$39=\"yes\",R39),IF($B$40=\"yes\",R40),IF($B$41=\"yes\",R41),IF($B$42=\"yes\",R42),IF($B$43=\"yes\",R43),IF($B$44=\"yes\",R44),IF($B$45=\"yes\",R45),IF($B$46=\"yes\",R46),IF($B$47=\"yes\",R47),IF($B$48=\"yes\",R48),IF($B$49=\"yes\",R49),IF($B$50=\"yes\",R50))","v":0},{"$f":"SUM(IF($B$9=\"yes\",S9),IF($B$10=\"yes\",S10),IF($B$11=\"yes\",S11),IF($B$12=\"yes\",S12),IF($B$13=\"yes\",S13),IF($B$14=\"yes\",S14),IF($B$15=\"yes\",S15),IF($B$16=\"yes\",S16),IF($B$17=\"yes\",S17),IF($B$18=\"yes\",S18),IF($B$19=\"yes\",S19),IF($B$20=\"yes\",S20),IF($B$21=\"yes\",S21),IF($B$22=\"yes\",S22),IF($B$23=\"yes\",S23),IF($B$24=\"yes\",S24),IF($B$25=\"yes\",S25),IF($B$26=\"yes\",S26),IF($B$27=\"yes\",S27),IF($B$28=\"yes\",S28),IF($B$29=\"yes\",S29),IF($B$30=\"yes\",S30),IF($B$31=\"yes\",S31),IF($B$32=\"yes\",S32),IF($B$33=\"yes\",S33),IF($B$34=\"yes\",S34),IF($B$35=\"yes\",S35),IF($B$36=\"yes\",S36),IF($B$37=\"yes\",S37),IF($B$38=\"yes\",S38),IF($B$39=\"yes\",S39),IF($B$40=\"yes\",S40),IF($B$41=\"yes\",S41),IF($B$42=\"yes\",S42),IF($B$43=\"yes\",S43),IF($B$44=\"yes\",S44),IF($B$45=\"yes\",S45),IF($B$46=\"yes\",S46),IF($B$47=\"yes\",S47),IF($B$48=\"yes\",S48),IF($B$49=\"yes\",S49),IF($B$50=\"yes\",S50))","v":0},{"$f":"SUM(IF($B$9=\"yes\",T9),IF($B$10=\"yes\",T10),IF($B$11=\"yes\",T11),IF($B$12=\"yes\",T12),IF($B$13=\"yes\",T13),IF($B$14=\"yes\",T14),IF($B$15=\"yes\",T15),IF($B$16=\"yes\",T16),IF($B$17=\"yes\",T17),IF($B$18=\"yes\",T18),IF($B$19=\"yes\",T19),IF($B$20=\"yes\",T20),IF($B$21=\"yes\",T21),IF($B$22=\"yes\",T22),IF($B$23=\"yes\",T23),IF($B$24=\"yes\",T24),IF($B$25=\"yes\",T25),IF($B$26=\"yes\",T26),IF($B$27=\"yes\",T27),IF($B$28=\"yes\",T28),IF($B$29=\"yes\",T29),IF($B$30=\"yes\",T30),IF($B$31=\"yes\",T31),IF($B$32=\"yes\",T32),IF($B$33=\"yes\",T33),IF($B$34=\"yes\",T34),IF($B$35=\"yes\",T35),IF($B$36=\"yes\",T36),IF($B$37=\"yes\",T37),IF($B$38=\"yes\",T38),IF($B$39=\"yes\",T39),IF($B$40=\"yes\",T40),IF($B$41=\"yes\",T41),IF($B$42=\"yes\",T42),IF($B$43=\"yes\",T43),IF($B$44=\"yes\",T44),IF($B$45=\"yes\",T45),IF($B$46=\"yes\",T46),IF($B$47=\"yes\",T47),IF($B$48=\"yes\",T48),IF($B$49=\"yes\",T49),IF($B$50=\"yes\",T50))","v":0}]
["AP-2",{"$f":"MAX(IF($C$9:$C$50=\"AP-2\",$I$9:$I$50))","v":0},null,null,null,null,null,null,null,null,null,null,null,null,null,null,null,null,null,null,null,null,null,null,null,"PM2.5",null,"PM10",null,"SO2",null,"NOx",null,"VOC",null,"CO",null,"Formaldehyde",null,"Benzene"]
["AP-3",{"$f":"MAX(IF($C$9:$C$50=\"AP-3\",$I$9:$I$50))","v":0},null,null,null,null,null,null,null,null,null,null,null,null,null,null,null,null,null,null,null,null,null,null,null,"Potential tpy","Actual tpy","Potential tpy","Actual tpy","Potential tpy","Actual tpy","Potential tpy","Actual tpy","Potential tpy","Actual tpy","Potential tpy","Actual tpy","Potential tpy","Actual tpy","Potential tpy","Actual tpy"]
["AP-4",{"$f":"MAX(IF($C$9:$C$50=\"AP-4\",$I$9:$I$50))","v":0},null,null,null,null,null,null,null,null,null,null,null,null,null,null,null,null,null,null,null,null,null,null,"AP-1",{"$f":"IF(B52=\"\",SUMIF($C$9:$C$50,\"AP-1\",$Z$9:$Z$50),MAX(IF(C9:C50=\"AP-1\",Z9:Z50)))","v":0},{"$f":"SUMIF($C$9:$C$50,\"AP-1\",$AA$9:$AA$50)","v":0},{"$f":"IF(B52=\"\",SUMIF($C$9:$C$50,\"AP-1\",$AD$9:$AD$50),MAX(IF($C$9:$C$50=\"AP-1\",$AD$9:$AD$50)))","v":0},{"$f":"SUMIF($C$9:$C$50,\"AP-1\",$AE$9:$AE$50)","v":0},{"$f":"IF(B52=\"\",SUMIF($C$9:$C$50,\"AP-1\",$AH$9:$AH$50),MAX(IF($C$9:$C$50=\"AP-1\",$AH$9:$AH$50)))","v":0},{"$f":"SUMIF($C$9:$C$50,\"AP-1\",$AI$9:$AI$50)","v":0},{"$f":"IF(B52=\"\",SUMIF($C$9:$C$50,\"AP-1\",$AL$9:$AL$50),MAX(IF($C$9:$C$50=\"AP-1\",$AL$9:$AL$50)))","v":0},{"$f":"SUMIF($C$9:$C$50,\"AP-1\",$AM$9:$AM$50)","v":0},{"$f":"IF(B52=\"\",SUMIF($C$9:$C$50,\"AP-1\",$AP$9:$AP$50),MAX(IF($C$9:$C$50=\"AP-1\",$AP$9:$AP$50)))","v":0},{"$f":"SUMIF($C$9:$C$50,\"AP-1\",$AQ$9:$AQ$50)","v":0},{"$f":"IF(B52=\"\",SUMIF($C$9:$C$50,\"AP-1\",$AT$9:$AT$50),MAX(IF($C$9:$C$50=\"AP-1\",$AT$9:$AT$50)))","v":0},{"$f":"SUMIF($C$9:$C$50,\"AP-1\",$AU$9:$AU$50)","v":0},{"$f":"IF(B52=\"\",SUMIF($C$9:$C$50,\"AP-1\",$AX$9:$AX$50),MAX(IF($C$9:$C$50=\"AP-1\",$AX$9:$AX$50)))","v":0},{"$f":"SUMIF($C$9:$C$50,\"AP-1\",$AY$9:$AY$50)","v":0},{"$f":"IF(B52=\"\",SUMIF($C$9:$C$50,\"AP-1\",$BB$9:$BB$50),MAX(IF($C$9:$C$50=\"AP-1\",$BB$9:$BB$50)))","v":0},{"$f":"SUMIF($C$9:$C$50,\"AP-1\",$BC$9:$BC$50)","v":0}]
["AP-5",{"$f":"MAX(IF($C$9:$C$50=\"AP-5\",$I$9:$I$50))","v":0},null,null,null,null,null,null,null,null,null,null,null,null,null,null,null,null,null,null,null,null,null,null,"AP-2",{"$f":"IF(B53=\"\",SUMIF($C$9:$C$50,\"AP-2\",$Z$9:$Z$50),MAX(IF($C$9:$C$50=\"AP-2\",$Z$9:$Z$50)))","v":0},{"$f":"SUMIF($C$9:$C$50,\"AP-2\",$AA$9:$AA$50)","v":0},{"$f":"IF(B53=\"\",SUMIF($C$9:$C$50,\"AP-2\",$AD$9:$AD$50),MAX(IF($C$9:$C$50=\"AP-2\",$AD$9:$AD$50)))","v":0},{"$f":"SUMIF($C$9:$C$50,\"AP-2\",$AE$9:$AE$50)","v":0},{"$f":"IF(B53=\"\",SUMIF($C$9:$C$50,\"AP-2\",$AH$9:$AH$50),MAX(IF($C$9:$C$50=\"AP-2\",$AH$9:$AH$50)))","v":0},{"$f":"SUMIF($C$9:$C$50,\"AP-2\",$AI$9:$AI$50)","v":0},{"$f":"IF(B53=\"\",SUMIF($C$9:$C$50,\"AP-2\",$AL$9:$AL$50),MAX(IF($C$9:$C$50=\"AP-2\",$AL$9:$AL$50)))","v":0},{"$f":"SUMIF($C$9:$C$50,\"AP-2\",$AM$9:$AM$50)","v":0},{"$f":"IF(B53=\"\",SUMIF($C$9:$C$50,\"AP-2\",$AP$9:$AP$50),MAX(IF($C$9:$C$50=\"AP-2\",$AP$9:$AP$50)))","v":0},{"$f":"SUMIF($C$9:$C$50,\"AP-2\",$AQ$9:$AQ$50)","v":0},{"$f":"IF(B53=\"\",SUMIF($C$9:$C$50,\"AP-2\",$AT$9:$AT$50),MAX(IF($C$9:$C$50=\"AP-2\",$AT$9:$AT$50)))","v":0},{"$f":"SUMIF($C$9:$C$50,\"AP-2\",$AU$9:$AU$50)","v":0},{"$f":"IF(B53=\"\",SUMIF($C$9:$C$50,\"AP-2\",$AX$9:$AX$50),MAX(IF($C$9:$C$50=\"AP-2\",$AX$9:$AX$50)))","v":0},{"$f":"SUMIF($C$9:$C$50,\"AP-2\",$AY$9:$AY$50)","v":0},{"$f":"IF(B53=\"\",SUMIF($C$9:$C$50,\"AP-2\",$BB$9:$BB$50),MAX(IF($C$9:$C$50=\"AP-2\",$BB$9:$BB$50)))","v":0},{"$f":"SUMIF($C$9:$C$50,\"AP-2\",$BC$9:$BC$50)","v":0}]
["AP-6",{"$f":"MAX(IF($C$9:$C$50=\"AP-6\",$I$9:$I$50))","v":0},null,null,null,null,null,null,null,null,null,null,null,null,null,null,null,null,null,null,null,null,null,null,"AP-3",{"$f":"IF(B54=\"\",SUMIF($C$9:$C$50,\"AP-3\",$Z$9:$Z$50),MAX(IF($C$9:$C$50=\"AP-3\",$Z$9:$Z$50)))","v":0},{"$f":"SUMIF($C$9:$C$50,\"AP-3\",$AA$9:$AA$50)","v":0},{"$f":"IF(B54=\"\",SUMIF($C$9:$C$50,\"AP-3\",$AD$9:$AD$50),MAX(IF($C$9:$C$50=\"AP-3\",$AD$9:$AD$50)))","v":0},{"$f":"SUMIF($C$9:$C$50,\"AP-3\",$AE$9:$AE$50)","v":0},{"$f":"IF(B54=\"\",SUMIF($C$9:$C$50,\"AP-3\",$AH$9:$AH$50),MAX(IF($C$9:$C$50=\"AP-3\",$AH$9:$AH$50)))","v":0},{"$f":"SUMIF($C$9:$C$50,\"AP-3\",$AI$9:$AI$50)","v":0},{"$f":"IF(B54=\"\",SUMIF($C$9:$C$50,\"AP-3\",$AL$9:$AL$50),MAX(IF($C$9:$C$50=\"AP-3\",$AL$9:$AL$50)))","v":0},{"$f":"SUMIF($C$9:$C$50,\"AP-3\",$AM$9:$AM$50)","v":0},{"$f":"IF(B54=\"\",SUMIF($C$9:$C$50,\"AP-3\",$AP$9:$AP$50),MAX(IF($C$9:$C$50=\"AP-3\",$AP$9:$AP$50)))","v":0},{"$f":"SUMIF($C$9:$C$50,\"AP-3\",$AQ$9:$AQ$50)","v":0},{"$f":"IF(B54=\"\",SUMIF($C$9:$C$50,\"AP-3\",$AT$9:$AT$50),MAX(IF($C$9:$C$50=\"AP-3\",$AT$9:$AT$50)))","v":0},{"$f":"SUMIF($C$9:$C$50,\"AP-3\",$AU$9:$AU$50)","v":0},{"$f":"IF(B54=\"\",SUMIF($C$9:$C$50,\"AP-3\",$AX$9:$AX$50),MAX(IF($C$9:$C$50=\"AP-3\",$AX$9:$AX$50)))","v":0},{"$f":"SUMIF($C$9:$C$50,\"AP-3\",$AY$9:$AY$50)","v":0},{"$f":"IF(B54=\"\",SUMIF($C$9:$C$50,\"AP-3\",$BB$9:$BB$50),MAX(IF($C$9:$C$50=\"AP-3\",$BB$9:$BB$50)))","v":0},{"$f":"SUMIF($C$9:$C$50,\"AP-3\",$BC$9:$BC$50)","v":0}]
["AP-7",{"$f":"MAX(IF($C$9:$C$50=\"AP-7\",$I$9:$I$50))","v":0},null,null,null,null,null,null,null,null,null,null,null,null,null,null,null,null,null,null,null,null,null,null,"AP-4",{"$f":"IF(B55=\"\",SUMIF($C$9:$C$50,\"AP-4\",$Z$9:$Z$50),MAX(IF($C$9:$C$50=\"AP-4\",$Z$9:$Z$50)))","v":0},{"$f":"SUMIF($C$9:$C$50,\"AP-4\",$AA$9:$AA$50)","v":0},{"$f":"IF(B55=\"\",SUMIF($C$9:$C$50,\"AP-4\",$AD$9:$AD$50),MAX(IF($C$9:$C$50=\"AP-4\",$AD$9:$AD$50)))","v":0},{"$f":"SUMIF($C$9:$C$50,\"AP-4\",$AE$9:$AE$50)","v":0},{"$f":"IF(B55=\"\",SUMIF($C$9:$C$50,\"AP-4\",$AH$9:$AH$50),MAX(IF($C$9:$C$50=\"AP-4\",$AH$9:$AH$50)))","v":0},{"$f":"SUMIF($C$9:$C$50,\"AP-4\",$AI$9:$AI$50)","v":0},{"$f":"IF(B55=\"\",SUMIF($C$9:$C$50,\"AP-4\",$AL$9:$AL$50),MAX(IF($C$9:$C$50=\"AP-4\",$AL$9:$AL$50)))","v":0},{"$f":"SUMIF($C$9:$C$50,\"AP-4\",$AM$9:$AM$50)","v":0},{"$f":"IF(B55=\"\",SUMIF($C$9:$C$50,\"AP-4\",$AP$9:$AP$50),MAX(IF($C$9:$C$50=\"AP-4\",$AP$9:$AP$50)))","v":0},{"$f":"SUMIF($C$9:$C$50,\"AP-4\",$AQ$9:$AQ$50)","v":0},{"$f":"IF(B55=\"\",SUMIF($C$9:$C$50,\"AP-4\",$AT$9:$AT$50),MAX(IF($C$9:$C$50=\"AP-4\",$AT$9:$AT$50)))","v":0},{"$f":"SUMIF($C$9:$C$50,\"AP-4\",$AU$9:$AU$50)","v":0},{"$f":"IF(B55=\"\",SUMIF($C$9:$C$50,\"AP-4\",$AX$9:$AX$50),MAX(IF($C$9:$C$50=\"AP-4\",$AX$9:$AX$50)))","v":0},{"$f":"SUMIF($C$9:$C$50,\"AP-4\",$AY$9:$AY$50)","v":0},{"$f":"IF(B55=\"\",SUMIF($C$9:$C$50,\"AP-4\",$BB$9:$BB$50),MAX(IF($C$9:$C$50=\"AP-4\",$BB$9:$BB$50)))","v":0},{"$f":"SUMIF($C$9:$C$50,\"AP-4\",$BC$9:$BC$50)","v":0}]
["AP-8",{"$f":"MAX(IF($C$9:$C$50=\"AP-8\",$I$9:$I$50))","v":0},null,null,null,null,null,null,null,null,null,null,null,null,null,null,null,null,null,null,null,null,null,null,"AP-5",{"$f":"IF(B56=\"\",SUMIF($C$9:$C$50,\"AP-5\",$Z$9:$Z$50),MAX(IF($C$9:$C$50=\"AP-5\",$Z$9:$Z$50)))","v":0},{"$f":"SUMIF($C$9:$C$50,\"AP-5\",$AA$9:$AA$50)","v":0},{"$f":"IF(B56=\"\",SUMIF($C$9:$C$50,\"AP-5\",$AD$9:$AD$50),MAX(IF($C$9:$C$50=\"AP-5\",$AD$9:$AD$50)))","v":0},{"$f":"SUMIF($C$9:$C$50,\"AP-5\",$AE$9:$AE$50)","v":0},{"$f":"IF(B56=\"\",SUMIF($C$9:$C$50,\"AP-5\",$AH$9:$AH$50),MAX(IF($C$9:$C$50=\"AP-5\",$AH$9:$AH$50)))","v":0},{"$f":"SUMIF($C$9:$C$50,\"AP-5\",$AI$9:$AI$50)","v":0},{"$f":"IF(B56=\"\",SUMIF($C$9:$C$50,\"AP-5\",$AL$9:$AL$50),MAX(IF($C$9:$C$50=\"AP-5\",$AL$9:$AL$50)))","v":0},{"$f":"SUMIF($C$9:$C$50,\"AP-5\",$AM$9:$AM$50)","v":0},{"$f":"IF(B56=\"\",SUMIF($C$9:$C$50,\"AP-5\",$AP$9:$AP$50),MAX(IF($C$9:$C$50=\"AP-5\",$AP$9:$AP$50)))","v":0},{"$f":"SUMIF($C$9:$C$50,\"AP-5\",$AQ$9:$AQ$50)","v":0},{"$f":"IF(B56=\"\",SUMIF($C$9:$C$50,\"AP-5\",$AT$9:$AT$50),MAX(IF($C$9:$C$50=\"AP-5\",$AT$9:$AT$50)))","v":0},{"$f":"SUMIF($C$9:$C$50,\"AP-5\",$AU$9:$AU$50)","v":0},{"$f":"IF(B56=\"\",SUMIF($C$9:$C$50,\"AP-5\",$AX$9:$AX$50),MAX(IF($C$9:$C$50=\"AP-5\",$AX$9:$AX$50)))","v":0},{"$f":"SUMIF($C$9:$C$50,\"AP-5\",$AY$9:$AY$50)","v":0},{"$f":"IF(B56=\"\",SUMIF($C$9:$C$50,\"AP-5\",$BB$9:$BB$50),MAX(IF($C$9:$C$50=\"AP-5\",$BB$9:$BB$50)))","v":0},{"$f":"SUMIF($C$9:$C$50,\"AP-5\",$BC$9:$BC$50)","v":0}]
["AP-9",{"$f":"MAX(IF($C$9:$C$50=\"AP-9\",$I$9:$I$50))","v":0},null,null,null,null,null,null,null,null,null,null,null,null,null,null,null,null,null,null,null,null,null,null,"AP-6",{"$f":"IF(B57=\"\",SUMIF($C$9:$C$50,\"AP-6\",$Z$9:$Z$50),MAX(IF($C$9:$C$50=\"AP-6\",$Z$9:$Z$50)))","v":0},{"$f":"SUMIF($C$9:$C$50,\"AP-6\",$AA$9:$AA$50)","v":0},{"$f":"IF(B57=\"\",SUMIF($C$9:$C$50,\"AP-6\",$AD$9:$AD$50),MAX(IF($C$9:$C$50=\"AP-6\",$AD$9:$AD$50)))","v":0},{"$f":"SUMIF($C$9:$C$50,\"AP-6\",$AE$9:$AE$50)","v":0},{"$f":"IF(B57=\"\",SUMIF($C$9:$C$50,\"AP-6\",$AH$9:$AH$50),MAX(IF($C$9:$C$50=\"AP-6\",$AH$9:$AH$50)))","v":0},{"$f":"SUMIF($C$9:$C$50,\"AP-6\",$AI$9:$AI$50)","v":0},{"$f":"IF(B57=\"\",SUMIF($C$9:$C$50,\"AP-6\",$AL$9:$AL$50),MAX(IF($C$9:$C$50=\"AP-6\",$AL$9:$AL$50)))","v":0},{"$f":"SUMIF($C$9:$C$50,\"AP-6\",$AM$9:$AM$50)","v":0},{"$f":"IF(B57=\"\",SUMIF($C$9:$C$50,\"AP-6\",$AP$9:$AP$50),MAX(IF($C$9:$C$50=\"AP-6\",$AP$9:$AP$50)))","v":0},{"$f":"SUMIF($C$9:$C$50,\"AP-6\",$AQ$9:$AQ$50)","v":0},{"$f":"IF(B57=\"\",SUMIF($C$9:$C$50,\"AP-6\",$AT$9:$AT$50),MAX(IF($C$9:$C$50=\"AP-6\",$AT$9:$AT$50)))","v":0},{"$f":"SUMIF($C$9:$C$50,\"AP-6\",$AU$9:$AU$50)","v":0},{"$f":"IF(B57=\"\",SUMIF($C$9:$C$50,\"AP-6\",$AX$9:$AX$50),MAX(IF($C$9:$C$50=\"AP-6\",$AX$9:$AX$50)))","v":0},{"$f":"SUMIF($C$9:$C$50,\"AP-6\",$AY$9:$AY$50)","v":0},{"$f":"IF(B57=\"\",SUMIF($C$9:$C$50,\"AP-6\",$BB$9:$BB$50),MAX(IF($C$9:$C$50=\"AP-6\",$BB$9:$BB$50)))","v":0},{"$f":"SUMIF($C$9:$C$50,\"AP-6\",$BC$9:$BC$50)","v":0}]
["AP-10",{"$f":"MAX(IF($C$9:$C$50=\"AP-10\",$I$9:$I$50))","v":0},null,null,null,null,null,null,null,null,null,null,null,null,null,null,null,null,null,null,null,null,null,null,"AP-7",{"$f":"IF(B58=\"\",SUMIF($C$9:$C$50,\"AP-7\",$Z$9:$Z$50),MAX(IF($C$9:$C$50=\"AP-7\",$Z$9:$Z$50)))","v":0},{"$f":"SUMIF($C$9:$C$50,\"AP-7\",$AA$9:$AA$50)","v":0},{"$f":"IF(B58=\"\",SUMIF($C$9:$C$50,\"AP-7\",$AD$9:$AD$50),MAX(IF($C$9:$C$50=\"AP-7\",$AD$9:$AD$50)))","v":0},{"$f":"SUMIF($C$9:$C$50,\"AP-7\",$AE$9:$AE$50)","v":0},{"$f":"IF(B58=\"\",SUMIF($C$9:$C$50,\"AP-7\",$AH$9:$AH$50),MAX(IF($C$9:$C$50=\"AP-7\",$AH$9:$AH$50)))","v":0},{"$f":"SUMIF($C$9:$C$50,\"AP-7\",$AI$9:$AI$50)","v":0},{"$f":"IF(B58=\"\",SUMIF($C$9:$C$50,\"AP-7\",$AL$9:$AL$50),MAX(IF($C$9:$C$50=\"AP-7\",$AL$9:$AL$50)))","v":0},{"$f":"SUMIF($C$9:$C$50,\"AP-7\",$AM$9:$AM$50)","v":0},{"$f":"IF(B58=\"\",SUMIF($C$9:$C$50,\"AP-7\",$AP$9:$AP$50),MAX(IF($C$9:$C$50=\"AP-7\",$AP$9:$AP$50)))","v":0},{"$f":"SUMIF($C$9:$C$50,\"AP-7\",$AQ$9:$AQ$50)","v":0},{"$f":"IF(B58=\"\",SUMIF($C$9:$C$50,\"AP-7\",$AT$9:$AT$50),MAX(IF($C$9:$C$50=\"AP-7\",$AT$9:$AT$50)))","v":0},{"$f":"SUMIF($C$9:$C$50,\"AP-7\",$AU$9:$AU$50)","v":0},{"$f":"IF(B58=\"\",SUMIF($C$9:$C$50,\"AP-7\",$AX$9:$AX$50),MAX(IF($C$9:$C$50=\"AP-7\",$AX$9:$AX$50)))","v":0},{"$f":"SUMIF($C$9:$C$50,\"AP-7\",$AY$9:$AY$50)","v":0},{"$f":"IF(B58=\"\",SUMIF($C$9:$C$50,\"AP-7\",$BB$9:$BB$50),MAX(IF($C$9:$C$50=\"AP-7\",$BB$9:$BB$50)))","v":0},{"$f":"SUMIF($C$9:$C$50,\"AP-7\",$BC$9:$BC$50)","v":0}]
[null,null,null,null,null,null,null,null,null,null,null,null,null,null,null,null,null,null,null,null,null,null,null,null,"AP-8",{"$f":"IF(B59=\"\",SUMIF($C$9:$C$50,\"AP-8\",$Z$9:$Z$50),MAX(IF($C$9:$C$50=\"AP-8\",$Z$9:$Z$50)))","v":0},{"$f":"SUMIF($C$9:$C$50,\"AP-8\",$AA$9:$AA$50)","v":0},{"$f":"IF(B59=\"\",SUMIF($C$9:$C$50,\"AP-8\",$AD$9:$AD$50),MAX(IF($C$9:$C$50=\"AP-8\",$AD$9:$AD$50)))","v":0},{"$f":"SUMIF($C$9:$C$50,\"AP-8\",$AE$9:$AE$50)","v":0},{"$f":"IF(B59=\"\",SUMIF($C$9:$C$50,\"AP-8\",$AH$9:$AH$50),MAX(IF($C$9:$C$50=\"AP-8\",$AH$9:$AH$50)))","v":0},{"$f":"SUMIF($C$9:$C$50,\"AP-8\",$AI$9:$AI$50)","v":0},{"$f":"IF(B59=\"\",SUMIF($C$9:$C$50,\"AP-8\",$AL$9:$AL$50),MAX(IF($C$9:$C$50=\"AP-8\",$AL$9:$AL$50)))","v":0},{"$f":"SUMIF($C$9:$C$50,\"AP-8\",$AM$9:$AM$50)","v":0},{"$f":"IF(B59=\"\",SUMIF($C$9:$C$50,\"AP-8\",$AP$9:$AP$50),MAX(IF($C$9:$C$50=\"AP-8\",$AP$9:$AP$50)))","v":0},{"$f":"SUMIF($C$9:$C$50,\"AP-8\",$AQ$9:$AQ$50)","v":0},{"$f":"IF(B59=\"\",SUMIF($C$9:$C$50,\"AP-8\",$AT$9:$AT$50),MAX(IF($C$9:$C$50=\"AP-8\",$AT$9:$AT$50)))","v":0},{"$f":"SUMIF($C$9:$C$50,\"AP-8\",$AU$9:$AU$50)","v":0},{"$f":"IF(B59=\"\",SUMIF($C$9:$C$50,\"AP-8\",$AX$9:$AX$50),MAX(IF($C$9:$C$50=\"AP-8\",$AX$9:$AX$50)))","v":0},{"$f":"SUMIF($C$9:$C$50,\"AP-8\",$AY$9:$AY$50)","v":0},{"$f":"IF(B59=\"\",SUMIF($C$9:$C$50,\"AP-8\",$BB$9:$BB$50),MAX(IF($C$9:$C$50=\"AP-8\",$BB$9:$BB$50)))","v":0},{"$f":"SUMIF($C$9:$C$50,\"AP-8\",$BC$9:$BC$50)","v":0}]
["Vertical w/o obstruction",null,null,null,null,null,null,null,null,null,null,null,null,null,null,null,null,null,null,null,null,null,null,null,"AP-9",{"$f":"IF(B60=\"\",SUMIF($C$9:$C$50,\"AP-9\",$Z$9:$Z$50),MAX(IF($C$9:$C$50=\"AP-9\",$Z$9:$Z$50)))","v":0},{"$f":"SUMIF($C$9:$C$50,\"AP-9\",$AA$9:$AA$50)","v":0},{"$f":"IF(B60=\"\",SUMIF($C$9:$C$50,\"AP-9\",$AD$9:$AD$50),MAX(IF($C$9:$C$50=\"AP-9\",$AD$9:$AD$50)))","v":0},{"$f":"SUMIF($C$9:$C$50,\"AP-9\",$AE$9:$AE$50)","v":0},{"$f":"IF(B60=\"\",SUMIF($C$9:$C$50,\"AP-9\",$AH$9:$AH$50),MAX(IF($C$9:$C$50=\"AP-9\",$AH$9:$AH$50)))","v":0},{"$f":"SUMIF($C$9:$C$50,\"AP-9\",$AI$9:$AI$50)","v":0},{"$f":"IF(B60=\"\",SUMIF($C$9:$C$50,\"AP-9\",$AL$9:$AL$50),MAX(IF($C$9:$C$50=\"AP-9\",$AL$9:$AL$50)))","v":0},{"$f":"SUMIF($C$9:$C$50,\"AP-9\",$AM$9:$AM$50)","v":0},{"$f":"IF(B60=\"\",SUMIF($C$9:$C$50,\"AP-9\",$AP$9:$AP$50),MAX(IF($C$9:$C$50=\"AP-9\",$AP$9:$AP$50)))","v":0},{"$f":"SUMIF($C$9:$C$50,\"AP-9\",$AQ$9:$AQ$50)","v":0},{"$f":"IF(B60=\"\",SUMIF($C$9:$C$50,\"AP-9\",$AT$9:$AT$50),MAX(IF($C$9:$C$50=\"AP-9\",$AT$9:$AT$50)))","v":0},{"$f":"SUMIF($C$9:$C$50,\"AP-9\",$AU$9:$AU$50)","v":0},{"$f":"IF(B60=\"\",SUMIF($C$9:$C$50,\"AP-9\",$AX$9:$AX$50),MAX(IF($C$9:$C$50=\"AP-9\",$AX$9:$AX$50)))","v":0},{"$f":"SUMIF($C$9:$C$50,\"AP-9\",$AY$9:$AY$50)","v":0},{"$f":"IF(B60=\"\",SUMIF($C$9:$C$50,\"AP-9\",$BB$9:$BB$50),MAX(IF($C$9:$C$50=\"AP-9\",$BB$9:$BB$50)))","v":0},{"$f":"SUMIF($C$9:$C$50,\"AP-9\",$BC$9:$BC$50)","v":0}]
["Vertical w/ obstruction",null,null,null,null,null,null,null,null,null,null,null,null,null,null,null,null,null,null,null,null,null,null,null,"AP-10",{"$f":"IF(B61=\"\",SUMIF($C$9:$C$50,\"AP-10\",$Z$9:$Z$50),MAX(IF($C$9:$C$50=\"AP-10\",$Z$9:$Z$50)))","v":0},{"$f":"SUMIF($C$9:$C$50,\"AP-10\",$AA$9:$AA$50)","v":0},{"$f":"IF(B61=\"\",SUMIF($C$9:$C$50,\"AP-10\",$AD$9:$AD$50),MAX(IF($C$9:$C$50=\"AP-10\",$AD$9:$AD$50)))","v":0},{"$f":"SUMIF($C$9:$C$50,\"AP-10\",$AE$9:$AE$50)","v":0},{"$f":"IF(B61=\"\",SUMIF($C$9:$C$50,\"AP-10\",$AH$9:$AH$50),MAX(IF($C$9:$C$50=\"AP-10\",$AH$9:$AH$50)))","v":0},{"$f":"SUMIF($C$9:$C$50,\"AP-10\",$AI$9:$AI$50)","v":0},{"$f":"IF(B61=\"\",SUMIF($C$9:$C$50,\"AP-10\",$AL$9:$AL$50),MAX(IF($C$9:$C$50=\"AP-10\",$AL$9:$AL$50)))","v":0},{"$f":"SUMIF($C$9:$C$50,\"AP-10\",$AM$9:$AM$50)","v":0},{"$f":"IF(B61=\"\",SUMIF($C$9:$C$50,\"AP-10\",$AP$9:$AP$50),MAX(IF($C$9:$C$50=\"AP-10\",$AP$9:$AP$50)))","v":0},{"$f":"SUMIF($C$9:$C$50,\"AP-10\",$AQ$9:$AQ$50)","v":0},{"$f":"IF(B61=\"\",SUMIF($C$9:$C$50,\"AP-10\",$AT$9:$AT$50),MAX(IF($C$9:$C$50=\"AP-10\",$AT$9:$AT$50)))","v":0},{"$f":"SUMIF($C$9:$C$50,\"AP-10\",$AU$9:$AU$50)","v":0},{"$f":"IF(B61=\"\",SUMIF($C$9:$C$50,\"AP-10\",$AX$9:$AX$50),MAX(IF($C$9:$C$50=\"AP-10\",$AX$9:$AX$50)))","v":0},{"$f":"SUMIF($C$9:$C$50,\"AP-10\",$AY$9:$AY$50)","v":0},{"$f":"IF(B61=\"\",SUMIF($C$9:$C$50,\"AP-10\",$BB$9:$BB$50),MAX(IF($C$9:$C$50=\"AP-10\",$BB$9:$BB$50)))","v":0},{"$f":"SUMIF($C$9:$C$50,\"AP-10\",$BC$9:$BC$50)","v":0}]
["Downward"]
["Horizontal",null,null,null,null,null,null,null,null,null,null,null,null,null,null,null,null,null,null,null,null,null,null,null,null,"≤ 600 BHP","> 600 BHP","≤ 600 BHP","> 600 BHP","≤ 600 BHP","> 600 BHP","≤ 600 BHP","> 600 BHP","≤ 600 BHP","> 600 BHP","≤ 600 BHP","> 600 BHP","≤ 600 BHP","> 600 BHP","≤ 600 BHP","> 600 BHP"]
[null,null,null,null,null,null,null,null,null,null,null,null,null,null,null,null,null,null,null,null,null,null,null,null,"AP-1",{"$f":"IF(B52=\"\",SUMIFS($Z$9:$Z$50,$C$9:C50,\"AP-1\",$B$9:$B$50,\"no\"),MAX(IF($C$9:$C$50=\"AP-1\",IF($B$9:$B$50=\"no\",$Z$9:$Z$50))))","v":0},{"$f":"IF(B52=\"\",SUMIFS($Z$9:$Z$50,$C$9:D50,\"AP-1\",$B$9:$B$50,\"yes\"),MAX(IF($C$9:$C$50=\"AP-1\",IF($B$9:$B$50=\"yes\",$Z$9:$Z$50))))","v":0},{"$f":"IF($B$52=\"\",SUMIFS($AD$9:$AD$50,$C$9:E50,\"AP-1\",$B$9:$B$50,\"no\"),MAX(IF($C$9:$C$50=\"AP-1\",IF($B$9:$B$50=\"no\",$AD$9:$AD$50))))","v":0},{"$f":"IF($B$52=\"\",SUMIFS($AD$9:$AD$50,$C$9:E50,\"AP-1\",$B$9:$B$50,\"yes\"),MAX(IF($C$9:$C$50=\"AP-1\",IF($B$9:$B$50=\"yes\",$AD$9:$AD$50))))","v":0},{"$f":"IF($B$52=\"\",SUMIFS($AH$9:$AH$50,$C$9:E50,\"AP-1\",$B$9:$B$50,\"no\"),MAX(IF($C$9:$C$50=\"AP-1\",IF($B$9:$B$50=\"no\",$AH$9:$AH$50))))","v":0},{"$f":"IF($B$52=\"\",SUMIFS($AH$9:$AH$50,$C$9:G50,\"AP-1\",$B$9:$B$50,\"yes\"),MAX(IF($C$9:$C$50=\"AP-1\",IF($B$9:$B$50=\"yes\",$AH$9:$AH$50))))","v":0},{"$f":"IF($B$52=\"\",SUMIFS($AL$9:$AL$50,$C$9:E50,\"AP-1\",$B$9:$B$50,\"no\"),MAX(IF($C$9:$C$50=\"AP-1\",IF($B$9:$B$50=\"no\",$AL$9:$AL$50))))","v":0},{"$f":"IF($B$52=\"\",SUMIFS($AL$9:$AL$50,$C$9:I50,\"AP-1\",$B$9:$B$50,\"yes\"),MAX(IF($C$9:$C$50=\"AP-1\",IF($B$9:$B$50=\"yes\",$AL$9:$AL$50))))","v":0},{"$f":"IF($B$52=\"\",SUMIFS($AP$9:$AP$50,$C$9:E50,\"AP-1\",$B$9:$B$50,\"no\"),MAX(IF($C$9:$C$50=\"AP-1\",IF($B$9:$B$50=\"no\",$AP$9:$AP$50))))","v":0},{"$f":"IF($B$52=\"\",SUMIFS($AP$9:$AP$50,$C$9:K50,\"AP-1\",$B$9:$B$50,\"yes\"),MAX(IF($C$9:$C$50=\"AP-1\",IF($B$9:$B$50=\"yes\",$AP$9:$AP$50))))","v":0},{"$f":"IF($B$52=\"\",SUMIFS($AT$9:$AT$50,$C$9:E50,\"AP-1\",$B$9:$B$50,\"no\"),MAX(IF($C$9:$C$50=\"AP-1\",IF($B$9:$B$50=\"no\",$AT$9:$AT$50))))","v":0},{"$f":"IF($B$52=\"\",SUMIFS($AT$9:$AT$50,$C$9:M50,\"AP-1\",$B$9:$B$50,\"yes\"),MAX(IF($C$9:$C$50=\"AP-1\",IF($B$9:$B$50=\"yes\",$AT$9:$AT$50))))","v":0},{"$f":"IF($B$52=\"\",SUMIFS($AX$9:$AX$50,$C$9:E50,\"AP-1\",$B$9:$B$50,\"no\"),MAX(IF($C$9:$C$50=\"AP-1\",IF($B$9:$B$50=\"no\",$AX$9:$AX$50))))","v":0},{"$f":"IF($B$52=\"\",SUMIFS($AX$9:$AX$50,$C$9:O50,\"AP-1\",$B$9:$B$50,\"yes\"),MAX(IF($C$9:$C$50=\"AP-1\",IF($B$9:$B$50=\"yes\",$AX$9:$AX$50))))","v":0},{"$f":"IF($B$52=\"\",SUMIFS($BB$9:$BB$50,$C$9:E50,\"AP-1\",$B$9:$B$50,\"no\"),MAX(IF($C$9:$C$50=\"AP-1\",IF($B$9:$B$50=\"no\",$BB$9:$BB$50))))","v":0},{"$f":"IF($B$52=\"\",SUMIFS($BB$9:$BB$50,$C$9:Q50,\"AP-1\",$B$9:$B$50,\"yes\"),MAX(IF($C$9:$C$50=\"AP-1\",IF($B$9:$B$50=\"yes\",$BB$9:$BB$50))))","v":0}]
[null,null,null,null,null,null,null,null,null,null,null,null,null,null,null,null,null,null,null,null,null,null,null,null,"AP-2",{"$f":"IF(B53=\"\",SUMIFS($Z$9:$Z$50,$C$9:C51,\"AP-2\",$B$9:$B$50,\"no\"),MAX(IF($C$9:$C$50=\"AP-2\",IF($B$9:$B$50=\"no\",$Z$9:$Z$50))))","v":0},{"$f":"IF(B53=\"\",SUMIFS($Z$9:$Z$50,$C$9:D51,\"AP-2\",$B$9:$B$50,\"yes\"),MAX(IF($C$9:$C$50=\"AP-2\",IF($B$9:$B$50=\"yes\",$Z$9:$Z$50))))","v":0},{"$f":"IF($B$52=\"\",SUMIFS($AD$9:$AD$50,$C$9:E51,\"AP-2\",$B$9:$B$50,\"no\"),MAX(IF($C$9:$C$50=\"AP-2\",IF($B$9:$B$50=\"no\",$AD$9:$AD$50))))","v":0},{"$f":"IF($B$52=\"\",SUMIFS($AD$9:$AD$50,$C$9:E51,\"AP-2\",$B$9:$B$50,\"yes\"),MAX(IF($C$9:$C$50=\"AP-2\",IF($B$9:$B$50=\"yes\",$AD$9:$AD$50))))","v":0},{"$f":"IF($B$52=\"\",SUMIFS($AH$9:$AH$50,$C$9:E51,\"AP-2\",$B$9:$B$50,\"no\"),MAX(IF($C$9:$C$50=\"AP-2\",IF($B$9:$B$50=\"no\",$AH$9:$AH$50))))","v":0},{"$f":"IF($B$52=\"\",SUMIFS($AH$9:$AH$50,$C$9:G51,\"AP-2\",$B$9:$B$50,\"yes\"),MAX(IF($C$9:$C$50=\"AP-2\",IF($B$9:$B$50=\"yes\",$AH$9:$AH$50))))","v":0},{"$f":"IF($B$52=\"\",SUMIFS($AL$9:$AL$50,$C$9:E51,\"AP-2\",$B$9:$B$50,\"no\"),MAX(IF($C$9:$C$50=\"AP-2\",IF($B$9:$B$50=\"no\",$AL$9:$AL$50))))","v":0},{"$f":"IF($B$52=\"\",SUMIFS($AL$9:$AL$50,$C$9:I51,\"AP-2\",$B$9:$B$50,\"yes\"),MAX(IF($C$9:$C$50=\"AP-2\",IF($B$9:$B$50=\"yes\",$AL$9:$AL$50))))","v":0},{"$f":"IF($B$52=\"\",SUMIFS($AP$9:$AP$50,$C$9:E51,\"AP-2\",$B$9:$B$50,\"no\"),MAX(IF($C$9:$C$50=\"AP-2\",IF($B$9:$B$50=\"no\",$AP$9:$AP$50))))","v":0},{"$f":"IF($B$52=\"\",SUMIFS($AP$9:$AP$50,$C$9:K51,\"AP-2\",$B$9:$B$50,\"yes\"),MAX(IF($C$9:$C$50=\"AP-2\",IF($B$9:$B$50=\"yes\",$AP$9:$AP$50))))","v":0},{"$f":"IF($B$52=\"\",SUMIFS($AT$9:$AT$50,$C$9:E51,\"AP-2\",$B$9:$B$50,\"no\"),MAX(IF($C$9:$C$50=\"AP-2\",IF($B$9:$B$50=\"no\",$AT$9:$AT$50))))","v":0},{"$f":"IF($B$52=\"\",SUMIFS($AT$9:$AT$50,$C$9:M51,\"AP-2\",$B$9:$B$50,\"yes\"),MAX(IF($C$9:$C$50=\"AP-2\",IF($B$9:$B$50=\"yes\",$AT$9:$AT$50))))","v":0},{"$f":"IF($B$52=\"\",SUMIFS($AX$9:$AX$50,$C$9:E51,\"AP-2\",$B$9:$B$50,\"no\"),MAX(IF($C$9:$C$50=\"AP-2\",IF($B$9:$B$50=\"no\",$AX$9:$AX$50))))","v":0},{"$f":"IF($B$52=\"\",SUMIFS($AX$9:$AX$50,$C$9:O51,\"AP-2\",$B$9:$B$50,\"yes\"),MAX(IF($C$9:$C$50=\"AP-2\",IF($B$9:$B$50=\"yes\",$AX$9:$AX$50))))","v":0},{"$f":"IF($B$52=\"\",SUMIFS($BB$9:$BB$50,$C$9:E51,\"AP-2\",$B$9:$B$50,\"no\"),MAX(IF($C$9:$C$50=\"AP-2\",IF($B$9:$B$50=\"no\",$BB$9:$BB$50))))","v":0},{"$f":"IF($B$52=\"\",SUMIFS($BB$9:$BB$50,$C$9:Q51,\"AP-2\",$B$9:$B$50,\"yes\"),MAX(IF($C$9:$C$50=\"AP-2\",IF($B$9:$B$50=\"yes\",$BB$9:$BB$50))))","v":0}]
[null,null,null,null,null,null,null,null,null,null,null,null,null,null,null,null,null,null,null,null,null,null,null,null,"AP-3",{"$f":"IF(B54=\"\",SUMIFS($Z$9:$Z$50,$C$9:C52,\"AP-3\",$B$9:$B$50,\"no\"),MAX(IF($C$9:$C$50=\"AP-3\",IF($B$9:$B$50=\"no\",$Z$9:$Z$50))))","v":0},{"$f":"IF(B54=\"\",SUMIFS($Z$9:$Z$50,$C$9:D52,\"AP-3\",$B$9:$B$50,\"yes\"),MAX(IF($C$9:$C$50=\"AP-3\",IF($B$9:$B$50=\"yes\",$Z$9:$Z$50))))","v":0},{"$f":"IF($B$52=\"\",SUMIFS($AD$9:$AD$50,$C$9:E52,\"AP-3\",$B$9:$B$50,\"no\"),MAX(IF($C$9:$C$50=\"AP-3\",IF($B$9:$B$50=\"no\",$AD$9:$AD$50))))","v":0},{"$f":"IF($B$52=\"\",SUMIFS($AD$9:$AD$50,$C$9:E52,\"AP-3\",$B$9:$B$50,\"yes\"),MAX(IF($C$9:$C$50=\"AP-3\",IF($B$9:$B$50=\"yes\",$AD$9:$AD$50))))","v":0},{"$f":"IF($B$52=\"\",SUMIFS($AH$9:$AH$50,$C$9:E52,\"AP-3\",$B$9:$B$50,\"no\"),MAX(IF($C$9:$C$50=\"AP-3\",IF($B$9:$B$50=\"no\",$AH$9:$AH$50))))","v":0},{"$f":"IF($B$52=\"\",SUMIFS($AH$9:$AH$50,$C$9:G52,\"AP-3\",$B$9:$B$50,\"yes\"),MAX(IF($C$9:$C$50=\"AP-3\",IF($B$9:$B$50=\"yes\",$AH$9:$AH$50))))","v":0},{"$f":"IF($B$52=\"\",SUMIFS($AL$9:$AL$50,$C$9:E52,\"AP-3\",$B$9:$B$50,\"no\"),MAX(IF($C$9:$C$50=\"AP-3\",IF($B$9:$B$50=\"no\",$AL$9:$AL$50))))","v":0},{"$f":"IF($B$52=\"\",SUMIFS($AL$9:$AL$50,$C$9:I52,\"AP-3\",$B$9:$B$50,\"yes\"),MAX(IF($C$9:$C$50=\"AP-3\",IF($B$9:$B$50=\"yes\",$AL$9:$AL$50))))","v":0},{"$f":"IF($B$52=\"\",SUMIFS($AP$9:$AP$50,$C$9:E52,\"AP-3\",$B$9:$B$50,\"no\"),MAX(IF($C$9:$C$50=\"AP-3\",IF($B$9:$B$50=\"no\",$AP$9:$AP$50))))","v":0},{"$f":"IF($B$52=\"\",SUMIFS($AP$9:$AP$50,$C$9:K52,\"AP-3\",$B$9:$B$50,\"yes\"),MAX(IF($C$9:$C$50=\"AP-3\",IF($B$9:$B$50=\"yes\",$AP$9:$AP$50))))","v":0},{"$f":"IF($B$52=\"\",SUMIFS($AT$9:$AT$50,$C$9:E52,\"AP-3\",$B$9:$B$50,\"no\"),MAX(IF($C$9:$C$50=\"AP-3\",IF($B$9:$B$50=\"no\",$AT$9:$AT$50))))","v":0},{"$f":"IF($B$52=\"\",SUMIFS($AT$9:$AT$50,$C$9:M52,\"AP-3\",$B$9:$B$50,\"yes\"),MAX(IF($C$9:$C$50=\"AP-3\",IF($B$9:$B$50=\"yes\",$AT$9:$AT$50))))","v":0},{"$f":"IF($B$52=\"\",SUMIFS($AX$9:$AX$50,$C$9:E52,\"AP-3\",$B$9:$B$50,\"no\"),MAX(IF($C$9:$C$50=\"AP-3\",IF($B$9:$B$50=\"no\",$AX$9:$AX$50))))","v":0},{"$f":"IF($B$52=\"\",SUMIFS($AX$9:$AX$50,$C$9:O52,\"AP-3\",$B$9:$B$50,\"yes\"),MAX(IF($C$9:$C$50=\"AP-3\",IF($B$9:$B$50=\"yes\",$AX$9:$AX$50))))","v":0},{"$f":"IF($B$52=\"\",SUMIFS($BB$9:$BB$50,$C$9:E52,\"AP-3\",$B$9:$B$50,\"no\"),MAX(IF($C$9:$C$50=\"AP-3\",IF($B$9:$B$50=\"no\",$BB$9:$BB$50))))","v":0},{"$f":"IF($B$52=\"\",SUMIFS($BB$9:$BB$50,$C$9:Q52,\"AP-3\",$B$9:$B$50,\"yes\"),MAX(IF($C$9:$C$50=\"AP-3\",IF($B$9:$B$50=\"yes\",$BB$9:$BB$50))))","v":0}]
[null,null,null,null,null,null,null,null,null,null,null,null,null,null,null,null,null,null,null,null,null,null,null,null,"AP-4",{"$f":"IF(B55=\"\",SUMIFS($Z$9:$Z$50,$C$9:C53,\"AP-4\",$B$9:$B$50,\"no\"),MAX(IF($C$9:$C$50=\"AP-4\",IF($B$9:$B$50=\"no\",$Z$9:$Z$50))))","v":0},{"$f":"IF(B55=\"\",SUMIFS($Z$9:$Z$50,$C$9:D53,\"AP-4\",$B$9:$B$50,\"yes\"),MAX(IF($C$9:$C$50=\"AP-4\",IF($B$9:$B$50=\"yes\",$Z$9:$Z$50))))","v":0},{"$f":"IF($B$52=\"\",SUMIFS($AD$9:$AD$50,$C$9:E53,\"AP-4\",$B$9:$B$50,\"no\"),MAX(IF($C$9:$C$50=\"AP-4\",IF($B$9:$B$50=\"no\",$AD$9:$AD$50))))","v":0},{"$f":"IF($B$52=\"\",SUMIFS($AD$9:$AD$50,$C$9:E53,\"AP-4\",$B$9:$B$50,\"yes\"),MAX(IF($C$9:$C$50=\"AP-4\",IF($B$9:$B$50=\"yes\",$AD$9:$AD$50))))","v":0},{"$f":"IF($B$52=\"\",SUMIFS($AH$9:$AH$50,$C$9:E53,\"AP-4\",$B$9:$B$50,\"no\"),MAX(IF($C$9:$C$50=\"AP-4\",IF($B$9:$B$50=\"no\",$AH$9:$AH$50))))","v":0},{"$f":"IF($B$52=\"\",SUMIFS($AH$9:$AH$50,$C$9:G53,\"AP-4\",$B$9:$B$50,\"yes\"),MAX(IF($C$9:$C$50=\"AP-4\",IF($B$9:$B$50=\"yes\",$AH$9:$AH$50))))","v":0},{"$f":"IF($B$52=\"\",SUMIFS($AL$9:$AL$50,$C$9:E53,\"AP-4\",$B$9:$B$50,\"no\"),MAX(IF($C$9:$C$50=\"AP-4\",IF($B$9:$B$50=\"no\",$AL$9:$AL$50))))","v":0},{"$f":"IF($B$52=\"\",SUMIFS($AL$9:$AL$50,$C$9:I53,\"AP-4\",$B$9:$B$50,\"yes\"),MAX(IF($C$9:$C$50=\"AP-4\",IF($B$9:$B$50=\"yes\",$AL$9:$AL$50))))","v":0},{"$f":"IF($B$52=\"\",SUMIFS($AP$9:$AP$50,$C$9:E53,\"AP-4\",$B$9:$B$50,\"no\"),MAX(IF($C$9:$C$50=\"AP-4\",IF($B$9:$B$50=\"no\",$AP$9:$AP$50))))","v":0},{"$f":"IF($B$52=\"\",SUMIFS($AP$9:$AP$50,$C$9:K53,\"AP-4\",$B$9:$B$50,\"yes\"),MAX(IF($C$9:$C$50=\"AP-4\",IF($B$9:$B$50=\"yes\",$AP$9:$AP$50))))","v":0},{"$f":"IF($B$52=\"\",SUMIFS($AT$9:$AT$50,$C$9:E53,\"AP-4\",$B$9:$B$50,\"no\"),MAX(IF($C$9:$C$50=\"AP-4\",IF($B$9:$B$50=\"no\",$AT$9:$AT$50))))","v":0},{"$f":"IF($B$52=\"\",SUMIFS($AT$9:$AT$50,$C$9:M53,\"AP-4\",$B$9:$B$50,\"yes\"),MAX(IF($C$9:$C$50=\"AP-4\",IF($B$9:$B$50=\"yes\",$AT$9:$AT$50))))","v":0},{"$f":"IF($B$52=\"\",SUMIFS($AX$9:$AX$50,$C$9:E53,\"AP-4\",$B$9:$B$50,\"no\"),MAX(IF($C$9:$C$50=\"AP-4\",IF($B$9:$B$50=\"no\",$AX$9:$AX$50))))","v":0},{"$f":"IF($B$52=\"\",SUMIFS($AX$9:$AX$50,$C$9:O53,\"AP-4\",$B$9:$B$50,\"yes\"),MAX(IF($C$9:$C$50=\"AP-4\",IF($B$9:$B$50=\"yes\",$AX$9:$AX$50))))","v":0},{"$f":"IF($B$52=\"\",SUMIFS($BB$9:$BB$50,$C$9:E53,\"AP-4\",$B$9:$B$50,\"no\"),MAX(IF($C$9:$C$50=\"AP-4\",IF($B$9:$B$50=\"no\",$BB$9:$BB$50))))","v":0},{"$f":"IF($B$52=\"\",SUMIFS($BB$9:$BB$50,$C$9:Q53,\"AP-4\",$B$9:$B$50,\"yes\"),MAX(IF($C$9:$C$50=\"AP-4\",IF($B$9:$B$50=\"yes\",$BB$9:$BB$50))))","v":0}]
[null,null,null,null,null,null,null,null,null,null,null,null,null,null,null,null,null,null,null,null,null,null,null,null,"AP-5",{"$f":"IF(B56=\"\",SUMIFS($Z$9:$Z$50,$C$9:C54,\"AP-5\",$B$9:$B$50,\"no\"),MAX(IF($C$9:$C$50=\"AP-5\",IF($B$9:$B$50=\"no\",$Z$9:$Z$50))))","v":0},{"$f":"IF(B56=\"\",SUMIFS($Z$9:$Z$50,$C$9:D54,\"AP-5\",$B$9:$B$50,\"yes\"),MAX(IF($C$9:$C$50=\"AP-5\",IF($B$9:$B$50=\"yes\",$Z$9:$Z$50))))","v":0},{"$f":"IF($B$52=\"\",SUMIFS($AD$9:$AD$50,$C$9:E54,\"AP-5\",$B$9:$B$50,\"no\"),MAX(IF($C$9:$C$50=\"AP-5\",IF($B$9:$B$50=\"no\",$AD$9:$AD$50))))","v":0},{"$f":"IF($B$52=\"\",SUMIFS($AD$9:$AD$50,$C$9:E54,\"AP-5\",$B$9:$B$50,\"yes\"),MAX(IF($C$9:$C$50=\"AP-5\",IF($B$9:$B$50=\"yes\",$AD$9:$AD$50))))","v":0},{"$f":"IF($B$52=\"\",SUMIFS($AH$9:$AH$50,$C$9:E54,\"AP-5\",$B$9:$B$50,\"no\"),MAX(IF($C$9:$C$50=\"AP-5\",IF($B$9:$B$50=\"no\",$AH$9:$AH$50))))","v":0},{"$f":"IF($B$52=\"\",SUMIFS($AH$9:$AH$50,$C$9:G54,\"AP-5\",$B$9:$B$50,\"yes\"),MAX(IF($C$9:$C$50=\"AP-5\",IF($B$9:$B$50=\"yes\",$AH$9:$AH$50))))","v":0},{"$f":"IF($B$52=\"\",SUMIFS($AL$9:$AL$50,$C$9:E54,\"AP-5\",$B$9:$B$50,\"no\"),MAX(IF($C$9:$C$50=\"AP-5\",IF($B$9:$B$50=\"no\",$AL$9:$AL$50))))","v":0},{"$f":"IF($B$52=\"\",SUMIFS($AL$9:$AL$50,$C$9:I54,\"AP-5\",$B$9:$B$50,\"yes\"),MAX(IF($C$9:$C$50=\"AP-5\",IF($B$9:$B$50=\"yes\",$AL$9:$AL$50))))","v":0},{"$f":"IF($B$52=\"\",SUMIFS($AP$9:$AP$50,$C$9:E54,\"AP-5\",$B$9:$B$50,\"no\"),MAX(IF($C$9:$C$50=\"AP-5\",IF($B$9:$B$50=\"no\",$AP$9:$AP$50))))","v":0},{"$f":"IF($B$52=\"\",SUMIFS($AP$9:$AP$50,$C$9:K54,\"AP-5\",$B$9:$B$50,\"yes\"),MAX(IF($C$9:$C$50=\"AP-5\",IF($B$9:$B$50=\"yes\",$AP$9:$AP$50))))","v":0},{"$f":"IF($B$52=\"\",SUMIFS($AT$9:$AT$50,$C$9:E54,\"AP-5\",$B$9:$B$50,\"no\"),MAX(IF($C$9:$C$50=\"AP-5\",IF($B$9:$B$50=\"no\",$AT$9:$AT$50))))","v":0},{"$f":"IF($B$52=\"\",SUMIFS($AT$9:$AT$50,$C$9:M54,\"AP-5\",$B$9:$B$50,\"yes\"),MAX(IF($C$9:$C$50=\"AP-5\",IF($B$9:$B$50=\"yes\",$AT$9:$AT$50))))","v":0},{"$f":"IF($B$52=\"\",SUMIFS($AX$9:$AX$50,$C$9:E54,\"AP-5\",$B$9:$B$50,\"no\"),MAX(IF($C$9:$C$50=\"AP-5\",IF($B$9:$B$50=\"no\",$AX$9:$AX$50))))","v":0},{"$f":"IF($B$52=\"\",SUMIFS($AX$9:$AX$50,$C$9:O54,\"AP-5\",$B$9:$B$50,\"yes\"),MAX(IF($C$9:$C$50=\"AP-5\",IF($B$9:$B$50=\"yes\",$AX$9:$AX$50))))","v":0},{"$f":"IF($B$52=\"\",SUMIFS($BB$9:$BB$50,$C$9:E54,\"AP-5\",$B$9:$B$50,\"no\"),MAX(IF($C$9:$C$50=\"AP-5\",IF($B$9:$B$50=\"no\",$BB$9:$BB$50))))","v":0},{"$f":"IF($B$52=\"\",SUMIFS($BB$9:$BB$50,$C$9:Q54,\"AP-5\",$B$9:$B$50,\"yes\"),MAX(IF($C$9:$C$50=\"AP-5\",IF($B$9:$B$50=\"yes\",$BB$9:$BB$50))))","v":0}]
[null,null,null,null,null,null,null,null,null,null,null,null,null,null,null,null,null,null,null,null,null,null,null,null,"AP-6",{"$f":"IF(B57=\"\",SUMIFS($Z$9:$Z$50,$C$9:C55,\"AP-6\",$B$9:$B$50,\"no\"),MAX(IF($C$9:$C$50=\"AP-6\",IF($B$9:$B$50=\"no\",$Z$9:$Z$50))))","v":0},{"$f":"IF(B57=\"\",SUMIFS($Z$9:$Z$50,$C$9:D55,\"AP-6\",$B$9:$B$50,\"yes\"),MAX(IF($C$9:$C$50=\"AP-6\",IF($B$9:$B$50=\"yes\",$Z$9:$Z$50))))","v":0},{"$f":"IF($B$52=\"\",SUMIFS($AD$9:$AD$50,$C$9:E55,\"AP-6\",$B$9:$B$50,\"no\"),MAX(IF($C$9:$C$50=\"AP-6\",IF($B$9:$B$50=\"no\",$AD$9:$AD$50))))","v":0},{"$f":"IF($B$52=\"\",SUMIFS($AD$9:$AD$50,$C$9:E55,\"AP-6\",$B$9:$B$50,\"yes\"),MAX(IF($C$9:$C$50=\"AP-6\",IF($B$9:$B$50=\"yes\",$AD$9:$AD$50))))","v":0},{"$f":"IF($B$52=\"\",SUMIFS($AH$9:$AH$50,$C$9:E55,\"AP-6\",$B$9:$B$50,\"no\"),MAX(IF($C$9:$C$50=\"AP-6\",IF($B$9:$B$50=\"no\",$AH$9:$AH$50))))","v":0},{"$f":"IF($B$52=\"\",SUMIFS($AH$9:$AH$50,$C$9:G55,\"AP-6\",$B$9:$B$50,\"yes\"),MAX(IF($C$9:$C$50=\"AP-6\",IF($B$9:$B$50=\"yes\",$AH$9:$AH$50))))","v":0},{"$f":"IF($B$52=\"\",SUMIFS($AL$9:$AL$50,$C$9:E55,\"AP-6\",$B$9:$B$50,\"no\"),MAX(IF($C$9:$C$50=\"AP-6\",IF($B$9:$B$50=\"no\",$AL$9:$AL$50))))","v":0},{"$f":"IF($B$52=\"\",SUMIFS($AL$9:$AL$50,$C$9:I55,\"AP-6\",$B$9:$B$50,\"yes\"),MAX(IF($C$9:$C$50=\"AP-6\",IF($B$9:$B$50=\"yes\",$AL$9:$AL$50))))","v":0},{"$f":"IF($B$52=\"\",SUMIFS($AP$9:$AP$50,$C$9:E55,\"AP-6\",$B$9:$B$50,\"no\"),MAX(IF($C$9:$C$50=\"AP-6\",IF($B$9:$B$50=\"no\",$AP$9:$AP$50))))","v":0},{"$f":"IF($B$52=\"\",SUMIFS($AP$9:$AP$50,$C$9:K55,\"AP-6\",$B$9:$B$50,\"yes\"),MAX(IF($C$9:$C$50=\"AP-6\",IF($B$9:$B$50=\"yes\",$AP$9:$AP$50))))","v":0},{"$f":"IF($B$52=\"\",SUMIFS($AT$9:$AT$50,$C$9:E55,\"AP-6\",$B$9:$B$50,\"no\"),MAX(IF($C$9:$C$50=\"AP-6\",IF($B$9:$B$50=\"no\",$AT$9:$AT$50))))","v":0},{"$f":"IF($B$52=\"\",SUMIFS($AT$9:$AT$50,$C$9:M55,\"AP-6\",$B$9:$B$50,\"yes\"),MAX(IF($C$9:$C$50=\"AP-6\",IF($B$9:$B$50=\"yes\",$AT$9:$AT$50))))","v":0},{"$f":"IF($B$52=\"\",SUMIFS($AX$9:$AX$50,$C$9:E55,\"AP-6\",$B$9:$B$50,\"no\"),MAX(IF($C$9:$C$50=\"AP-6\",IF($B$9:$B$50=\"no\",$AX$9:$AX$50))))","v":0},{"$f":"IF($B$52=\"\",SUMIFS($AX$9:$AX$50,$C$9:O55,\"AP-6\",$B$9:$B$50,\"yes\"),MAX(IF($C$9:$C$50=\"AP-6\",IF($B$9:$B$50=\"yes\",$AX$9:$AX$50))))","v":0},{"$f":"IF($B$52=\"\",SUMIFS($BB$9:$BB$50,$C$9:E55,\"AP-6\",$B$9:$B$50,\"no\"),MAX(IF($C$9:$C$50=\"AP-6\",IF($B$9:$B$50=\"no\",$BB$9:$BB$50))))","v":0},{"$f":"IF($B$52=\"\",SUMIFS($BB$9:$BB$50,$C$9:Q55,\"AP-6\",$B$9:$B$50,\"yes\"),MAX(IF($C$9:$C$50=\"AP-6\",IF($B$9:$B$50=\"yes\",$BB$9:$BB$50))))","v":0}]
[null,null,null,null,null,null,null,null,null,null,null,null,null,null,null,null,null,null,null,null,null,null,null,null,"AP-7",{"$f":"IF(B58=\"\",SUMIFS($Z$9:$Z$50,$C$9:C56,\"AP-7\",$B$9:$B$50,\"no\"),MAX(IF($C$9:$C$50=\"AP-7\",IF($B$9:$B$50=\"no\",$Z$9:$Z$50))))","v":0},{"$f":"IF(B58=\"\",SUMIFS($Z$9:$Z$50,$C$9:D56,\"AP-7\",$B$9:$B$50,\"yes\"),MAX(IF($C$9:$C$50=\"AP-7\",IF($B$9:$B$50=\"yes\",$Z$9:$Z$50))))","v":0},{"$f":"IF($B$52=\"\",SUMIFS($AD$9:$AD$50,$C$9:E56,\"AP-7\",$B$9:$B$50,\"no\"),MAX(IF($C$9:$C$50=\"AP-7\",IF($B$9:$B$50=\"no\",$AD$9:$AD$50))))","v":0},{"$f":"IF($B$52=\"\",SUMIFS($AD$9:$AD$50,$C$9:E56,\"AP-7\",$B$9:$B$50,\"yes\"),MAX(IF($C$9:$C$50=\"AP-7\",IF($B$9:$B$50=\"yes\",$AD$9:$AD$50))))","v":0},{"$f":"IF($B$52=\"\",SUMIFS($AH$9:$AH$50,$C$9:E56,\"AP-7\",$B$9:$B$50,\"no\"),MAX(IF($C$9:$C$50=\"AP-7\",IF($B$9:$B$50=\"no\",$AH$9:$AH$50))))","v":0},{"$f":"IF($B$52=\"\",SUMIFS($AH$9:$AH$50,$C$9:G56,\"AP-7\",$B$9:$B$50,\"yes\"),MAX(IF($C$9:$C$50=\"AP-7\",IF($B$9:$B$50=\"yes\",$AH$9:$AH$50))))","v":0},{"$f":"IF($B$52=\"\",SUMIFS($AL$9:$AL$50,$C$9:E56,\"AP-7\",$B$9:$B$50,\"no\"),MAX(IF($C$9:$C$50=\"AP-7\",IF($B$9:$B$50=\"no\",$AL$9:$AL$50))))","v":0},{"$f":"IF($B$52=\"\",SUMIFS($AL$9:$AL$50,$C$9:I56,\"AP-7\",$B$9:$B$50,\"yes\"),MAX(IF($C$9:$C$50=\"AP-7\",IF($B$9:$B$50=\"yes\",$AL$9:$AL$50))))","v":0},{"$f":"IF($B$52=\"\",SUMIFS($AP$9:$AP$50,$C$9:E56,\"AP-7\",$B$9:$B$50,\"no\"),MAX(IF($C$9:$C$50=\"AP-7\",IF($B$9:$B$50=\"no\",$AP$9:$AP$50))))","v":0},{"$f":"IF($B$52=\"\",SUMIFS($AP$9:$AP$50,$C$9:K56,\"AP-7\",$B$9:$B$50,\"yes\"),MAX(IF($C$9:$C$50=\"AP-7\",IF($B$9:$B$50=\"yes\",$AP$9:$AP$50))))","v":0},{"$f":"IF($B$52=\"\",SUMIFS($AT$9:$AT$50,$C$9:E56,\"AP-7\",$B$9:$B$50,\"no\"),MAX(IF($C$9:$C$50=\"AP-7\",IF($B$9:$B$50=\"no\",$AT$9:$AT$50))))","v":0},{"$f":"IF($B$52=\"\",SUMIFS($AT$9:$AT$50,$C$9:M56,\"AP-7\",$B$9:$B$50,\"yes\"),MAX(IF($C$9:$C$50=\"AP-7\",IF($B$9:$B$50=\"yes\",$AT$9:$AT$50))))","v":0},{"$f":"IF($B$52=\"\",SUMIFS($AX$9:$AX$50,$C$9:E56,\"AP-7\",$B$9:$B$50,\"no\"),MAX(IF($C$9:$C$50=\"AP-7\",IF($B$9:$B$50=\"no\",$AX$9:$AX$50))))","v":0},{"$f":"IF($B$52=\"\",SUMIFS($AX$9:$AX$50,$C$9:O56,\"AP-7\",$B$9:$B$50,\"yes\"),MAX(IF($C$9:$C$50=\"AP-7\",IF($B$9:$B$50=\"yes\",$AX$9:$AX$50))))","v":0},{"$f":"IF($B$52=\"\",SUMIFS($BB$9:$BB$50,$C$9:E56,\"AP-7\",$B$9:$B$50,\"no\"),MAX(IF($C$9:$C$50=\"AP-7\",IF($B$9:$B$50=\"no\",$BB$9:$BB$50))))","v":0},{"$f":"IF($B$52=\"\",SUMIFS($BB$9:$BB$50,$C$9:Q56,\"AP-7\",$B$9:$B$50,\"yes\"),MAX(IF($C$9:$C$50=\"AP-7\",IF($B$9:$B$50=\"yes\",$BB$9:$BB$50))))","v":0}]
[null,null,null,null,null,null,null,null,null,null,null,null,null,null,null,null,null,null,null,null,null,null,null,null,"AP-8",{"$f":"IF(B59=\"\",SUMIFS($Z$9:$Z$50,$C$9:C57,\"AP-8\",$B$9:$B$50,\"no\"),MAX(IF($C$9:$C$50=\"AP-8\",IF($B$9:$B$50=\"no\",$Z$9:$Z$50))))","v":0},{"$f":"IF(B59=\"\",SUMIFS($Z$9:$Z$50,$C$9:D57,\"AP-8\",$B$9:$B$50,\"yes\"),MAX(IF($C$9:$C$50=\"AP-8\",IF($B$9:$B$50=\"yes\",$Z$9:$Z$50))))","v":0},{"$f":"IF($B$52=\"\",SUMIFS($AD$9:$AD$50,$C$9:E57,\"AP-8\",$B$9:$B$50,\"no\"),MAX(IF($C$9:$C$50=\"AP-8\",IF($B$9:$B$50=\"no\",$AD$9:$AD$50))))","v":0},{"$f":"IF($B$52=\"\",SUMIFS($AD$9:$AD$50,$C$9:E57,\"AP-8\",$B$9:$B$50,\"yes\"),MAX(IF($C$9:$C$50=\"AP-8\",IF($B$9:$B$50=\"yes\",$AD$9:$AD$50))))","v":0},{"$f":"IF($B$52=\"\",SUMIFS($AH$9:$AH$50,$C$9:E57,\"AP-8\",$B$9:$B$50,\"no\"),MAX(IF($C$9:$C$50=\"AP-8\",IF($B$9:$B$50=\"no\",$AH$9:$AH$50))))","v":0},{"$f":"IF($B$52=\"\",SUMIFS($AH$9:$AH$50,$C$9:G57,\"AP-8\",$B$9:$B$50,\"yes\"),MAX(IF($C$9:$C$50=\"AP-8\",IF($B$9:$B$50=\"yes\",$AH$9:$AH$50))))","v":0},{"$f":"IF($B$52=\"\",SUMIFS($AL$9:$AL$50,$C$9:E57,\"AP-8\",$B$9:$B$50,\"no\"),MAX(IF($C$9:$C$50=\"AP-8\",IF($B$9:$B$50=\"no\",$AL$9:$AL$50))))","v":0},{"$f":"IF($B$52=\"\",SUMIFS($AL$9:$AL$50,$C$9:I57,\"AP-8\",$B$9:$B$50,\"yes\"),MAX(IF($C$9:$C$50=\"AP-8\",IF($B$9:$B$50=\"yes\",$AL$9:$AL$50))))","v":0},{"$f":"IF($B$52=\"\",SUMIFS($AP$9:$AP$50,$C$9:E57,\"AP-8\",$B$9:$B$50,\"no\"),MAX(IF($C$9:$C$50=\"AP-8\",IF($B$9:$B$50=\"no\",$AP$9:$AP$50))))","v":0},{"$f":"IF($B$52=\"\",SUMIFS($AP$9:$AP$50,$C$9:K57,\"AP-8\",$B$9:$B$50,\"yes\"),MAX(IF($C$9:$C$50=\"AP-8\",IF($B$9:$B$50=\"yes\",$AP$9:$AP$50))))","v":0},{"$f":"IF($B$52=\"\",SUMIFS($AT$9:$AT$50,$C$9:E57,\"AP-8\",$B$9:$B$50,\"no\"),MAX(IF($C$9:$C$50=\"AP-8\",IF($B$9:$B$50=\"no\",$AT$9:$AT$50))))","v":0},{"$f":"IF($B$52=\"\",SUMIFS($AT$9:$AT$50,$C$9:M57,\"AP-8\",$B$9:$B$50,\"yes\"),MAX(IF($C$9:$C$50=\"AP-8\",IF($B$9:$B$50=\"yes\",$AT$9:$AT$50))))","v":0},{"$f":"IF($B$52=\"\",SUMIFS($AX$9:$AX$50,$C$9:E57,\"AP-8\",$B$9:$B$50,\"no\"),MAX(IF($C$9:$C$50=\"AP-8\",IF($B$9:$B$50=\"no\",$AX$9:$AX$50))))","v":0},{"$f":"IF($B$52=\"\",SUMIFS($AX$9:$AX$50,$C$9:O57,\"AP-8\",$B$9:$B$50,\"yes\"),MAX(IF($C$9:$C$50=\"AP-8\",IF($B$9:$B$50=\"yes\",$AX$9:$AX$50))))","v":0},{"$f":"IF($B$52=\"\",SUMIFS($BB$9:$BB$50,$C$9:E57,\"AP-8\",$B$9:$B$50,\"no\"),MAX(IF($C$9:$C$50=\"AP-8\",IF($B$9:$B$50=\"no\",$BB$9:$BB$50))))","v":0},{"$f":"IF($B$52=\"\",SUMIFS($BB$9:$BB$50,$C$9:Q57,\"AP-8\",$B$9:$B$50,\"yes\"),MAX(IF($C$9:$C$50=\"AP-8\",IF($B$9:$B$50=\"yes\",$BB$9:$BB$50))))","v":0}]
[null,null,null,null,null,null,null,null,null,null,null,null,null,null,null,null,null,null,null,null,null,null,null,null,"AP-9",{"$f":"IF(B60=\"\",SUMIFS($Z$9:$Z$50,$C$9:C58,\"AP-9\",$B$9:$B$50,\"no\"),MAX(IF($C$9:$C$50=\"AP-9\",IF($B$9:$B$50=\"no\",$Z$9:$Z$50))))","v":0},{"$f":"IF(B60=\"\",SUMIFS($Z$9:$Z$50,$C$9:D58,\"AP-9\",$B$9:$B$50,\"yes\"),MAX(IF($C$9:$C$50=\"AP-9\",IF($B$9:$B$50=\"yes\",$Z$9:$Z$50))))","v":0},{"$f":"IF($B$52=\"\",SUMIFS($AD$9:$AD$50,$C$9:E58,\"AP-9\",$B$9:$B$50,\"no\"),MAX(IF($C$9:$C$50=\"AP-9\",IF($B$9:$B$50=\"no\",$AD$9:$AD$50))))","v":0},{"$f":"IF($B$52=\"\",SUMIFS($AD$9:$AD$50,$C$9:E58,\"AP-9\",$B$9:$B$50,\"yes\"),MAX(IF($C$9:$C$50=\"AP-9\",IF($B$9:$B$50=\"yes\",$AD$9:$AD$50))))","v":0},{"$f":"IF($B$52=\"\",SUMIFS($AH$9:$AH$50,$C$9:E58,\"AP-9\",$B$9:$B$50,\"no\"),MAX(IF($C$9:$C$50=\"AP-9\",IF($B$9:$B$50=\"no\",$AH$9:$AH$50))))","v":0},{"$f":"IF($B$52=\"\",SUMIFS($AH$9:$AH$50,$C$9:G58,\"AP-9\",$B$9:$B$50,\"yes\"),MAX(IF($C$9:$C$50=\"AP-9\",IF($B$9:$B$50=\"yes\",$AH$9:$AH$50))))","v":0},{"$f":"IF($B$52=\"\",SUMIFS($AL$9:$AL$50,$C$9:E58,\"AP-9\",$B$9:$B$50,\"no\"),MAX(IF($C$9:$C$50=\"AP-9\",IF($B$9:$B$50=\"no\",$AL$9:$AL$50))))","v":0},{"$f":"IF($B$52=\"\",SUMIFS($AL$9:$AL$50,$C$9:I58,\"AP-9\",$B$9:$B$50,\"yes\"),MAX(IF($C$9:$C$50=\"AP-9\",IF($B$9:$B$50=\"yes\",$AL$9:$AL$50))))","v":0},{"$f":"IF($B$52=\"\",SUMIFS($AP$9:$AP$50,$C$9:E58,\"AP-9\",$B$9:$B$50,\"no\"),MAX(IF($C$9:$C$50=\"AP-9\",IF($B$9:$B$50=\"no\",$AP$9:$AP$50))))","v":0},{"$f":"IF($B$52=\"\",SUMIFS($AP$9:$AP$50,$C$9:K58,\"AP-9\",$B$9:$B$50,\"yes\"),MAX(IF($C$9:$C$50=\"AP-9\",IF($B$9:$B$50=\"yes\",$AP$9:$AP$50))))","v":0},{"$f":"IF($B$52=\"\",SUMIFS($AT$9:$AT$50,$C$9:E58,\"AP-9\",$B$9:$B$50,\"no\"),MAX(IF($C$9:$C$50=\"AP-9\",IF($B$9:$B$50=\"no\",$AT$9:$AT$50))))","v":0},{"$f":"IF($B$52=\"\",SUMIFS($AT$9:$AT$50,$C$9:M58,\"AP-9\",$B$9:$B$50,\"yes\"),MAX(IF($C$9:$C$50=\"AP-9\",IF($B$9:$B$50=\"yes\",$AT$9:$AT$50))))","v":0},{"$f":"IF($B$52=\"\",SUMIFS($AX$9:$AX$50,$C$9:E58,\"AP-9\",$B$9:$B$50,\"no\"),MAX(IF($C$9:$C$50=\"AP-9\",IF($B$9:$B$50=\"no\",$AX$9:$AX$50))))","v":0},{"$f":"IF($B$52=\"\",SUMIFS($AX$9:$AX$50,$C$9:O58,\"AP-9\",$B$9:$B$50,\"yes\"),MAX(IF($C$9:$C$50=\"AP-9\",IF($B$9:$B$50=\"yes\",$AX$9:$AX$50))))","v":0},{"$f":"IF($B$52=\"\",SUMIFS($BB$9:$BB$50,$C$9:E58,\"AP-9\",$B$9:$B$50,\"no\"),MAX(IF($C$9:$C$50=\"AP-9\",IF($B$9:$B$50=\"no\",$BB$9:$BB$50))))","v":0},{"$f":"IF($B$52=\"\",SUMIFS($BB$9:$BB$50,$C$9:Q58,\"AP-9\",$B$9:$B$50,\"yes\"),MAX(IF($C$9:$C$50=\"AP-9\",IF($B$9:$B$50=\"yes\",$BB$9:$BB$50))))","v":0}]
[null,null,null,null,null,null,null,null,null,null,null,null,null,null,null,null,null,null,null,null,null,null,null,null,"AP-10",{"$f":"IF(B61=\"\",SUMIFS($Z$9:$Z$50,$C$9:C59,\"AP-10\",$B$9:$B$50,\"no\"),MAX(IF($C$9:$C$50=\"AP-10\",IF($B$9:$B$50=\"no\",$Z$9:$Z$50))))","v":0},{"$f":"IF(B61=\"\",SUMIFS($Z$9:$Z$50,$C$9:D59,\"AP-10\",$B$9:$B$50,\"yes\"),MAX(IF($C$9:$C$50=\"AP-10\",IF($B$9:$B$50=\"yes\",$Z$9:$Z$50))))","v":0},{"$f":"IF($B$52=\"\",SUMIFS($AD$9:$AD$50,$C$9:E59,\"AP-10\",$B$9:$B$50,\"no\"),MAX(IF($C$9:$C$50=\"AP-10\",IF($B$9:$B$50=\"no\",$AD$9:$AD$50))))","v":0},{"$f":"IF($B$52=\"\",SUMIFS($AD$9:$AD$50,$C$9:E59,\"AP-10\",$B$9:$B$50,\"yes\"),MAX(IF($C$9:$C$50=\"AP-10\",IF($B$9:$B$50=\"yes\",$AD$9:$AD$50))))","v":0},{"$f":"IF($B$52=\"\",SUMIFS($AH$9:$AH$50,$C$9:E59,\"AP-10\",$B$9:$B$50,\"no\"),MAX(IF($C$9:$C$50=\"AP-10\",IF($B$9:$B$50=\"no\",$AH$9:$AH$50))))","v":0},{"$f":"IF($B$52=\"\",SUMIFS($AH$9:$AH$50,$C$9:G59,\"AP-10\",$B$9:$B$50,\"yes\"),MAX(IF($C$9:$C$50=\"AP-10\",IF($B$9:$B$50=\"yes\",$AH$9:$AH$50))))","v":0},{"$f":"IF($B$52=\"\",SUMIFS($AL$9:$AL$50,$C$9:E59,\"AP-10\",$B$9:$B$50,\"no\"),MAX(IF($C$9:$C$50=\"AP-10\",IF($B$9:$B$50=\"no\",$AL$9:$AL$50))))","v":0},{"$f":"IF($B$52=\"\",SUMIFS($AL$9:$AL$50,$C$9:I59,\"AP-10\",$B$9:$B$50,\"yes\"),MAX(IF($C$9:$C$50=\"AP-10\",IF($B$9:$B$50=\"yes\",$AL$9:$AL$50))))","v":0},{"$f":"IF($B$52=\"\",SUMIFS($AP$9:$AP$50,$C$9:E59,\"AP-10\",$B$9:$B$50,\"no\"),MAX(IF($C$9:$C$50=\"AP-10\",IF($B$9:$B$50=\"no\",$AP$9:$AP$50))))","v":0},{"$f":"IF($B$52=\"\",SUMIFS($AP$9:$AP$50,$C$9:K59,\"AP-10\",$B$9:$B$50,\"yes\"),MAX(IF($C$9:$C$50=\"AP-10\",IF($B$9:$B$50=\"yes\",$AP$9:$AP$50))))","v":0},{"$f":"IF($B$52=\"\",SUMIFS($AT$9:$AT$50,$C$9:E59,\"AP-10\",$B$9:$B$50,\"no\"),MAX(IF($C$9:$C$50=\"AP-10\",IF($B$9:$B$50=\"no\",$AT$9:$AT$50))))","v":0},{"$f":"IF($B$52=\"\",SUMIFS($AT$9:$AT$50,$C$9:M59,\"AP-10\",$B$9:$B$50,\"yes\"),MAX(IF($C$9:$C$50=\"AP-10\",IF($B$9:$B$50=\"yes\",$AT$9:$AT$50))))","v":0},{"$f":"IF($B$52=\"\",SUMIFS($AX$9:$AX$50,$C$9:E59,\"AP-10\",$B$9:$B$50,\"no\"),MAX(IF($C$9:$C$50=\"AP-10\",IF($B$9:$B$50=\"no\",$AX$9:$AX$50))))","v":0},{"$f":"IF($B$52=\"\",SUMIFS($AX$9:$AX$50,$C$9:O59,\"AP-10\",$B$9:$B$50,\"yes\"),MAX(IF($C$9:$C$50=\"AP-10\",IF($B$9:$B$50=\"yes\",$AX$9:$AX$50))))","v":0},{"$f":"IF($B$52=\"\",SUMIFS($BB$9:$BB$50,$C$9:E59,\"AP-10\",$B$9:$B$50,\"no\"),MAX(IF($C$9:$C$50=\"AP-10\",IF($B$9:$B$50=\"no\",$BB$9:$BB$50))))","v":0},{"$f":"IF($B$52=\"\",SUMIFS($BB$9:$BB$50,$C$9:Q59,\"AP-10\",$B$9:$B$50,\"yes\"),MAX(IF($C$9:$C$50=\"AP-10\",IF($B$9:$B$50=\"yes\",$BB$9:$BB$50))))","v":0}]
[]
[null,null,null,null,null,null,null,null,null,null,null,null,null,null,null,null,null,null,null,null,null,null,null,null,null,{"$f":"SUM(IF($B$52>0,IF(Z67>AA67,Z67,0),SUM(Z67,AA67)),IF($B$53>0,IF(Z68>AA68,Z68,0),SUM(Z68,AA68)),IF($B$54>0,IF(Z69>AA69,Z69,0),SUM(Z69,AA69)),IF($B$55>0,IF(Z70>AA70,Z70,0),SUM(Z70,AA70)),IF($B$55>0,IF(Z71>AA71,Z71,0),SUM(Z71,AA71)),IF($B$56>0,IF(Z72>AA72,Z72,0),SUM(Z72,AA72)),IF($B$57>0,IF(Z73>AA73,Z73,0),SUM(Z73,AA73)),IF($B$58>0,IF(Z74>AA74,Z74,0),SUM(Z74,AA74)),IF($B$59>0,IF(Z75>AA75,Z75,0),SUM(Z75,AA75)),IF($B$60>0,IF(Z76>AA76,Z76,0),SUM(Z76,AA76)))","v":0},{"$f":"SUM(IF($B$52>0,IF(Z67<AA67,AA67,0),SUM(Z67,AA67)),IF($B$53>0,IF(Z68<AA68,AA68,0),SUM(Z68,AA68)),IF($B$54>0,IF(Z69<AA69,AA69,0),SUM(Z69,AA69)),IF($B$55>0,IF(Z70<AA70,AA70,0),SUM(Z70,AA70)),IF($B$55>0,IF(Z71<AA71,AA71,0),SUM(Z71,AA71)),IF($B$56>0,IF(Z72<AA72,AA72,0),SUM(Z72,AA72)),IF($B$57>0,IF(Z73<AA73,AA73,0),SUM(Z73,AA73)),IF($B$58>0,IF(Z74<AA74,AA74,0),SUM(Z74,AA74)),IF($B$59>0,IF(Z75<AA75,AA75,0),SUM(Z75,AA75)),IF($B$60>0,IF(Z76<AA76,AA76,0),SUM(Z76,AA76)))","v":0},{"$f":"SUM(IF($B$52>0,IF(AB67>AC67,AB67,0),SUM(AB67,AC67)),IF($B$53>0,IF(AB68>AC68,AB68,0),SUM(AB68,AC68)),IF($B$54>0,IF(AB69>AC69,AB69,0),SUM(AB69,AC69)),IF($B$55>0,IF(AB70>AC70,AB70,0),SUM(AB70,AC70)),IF($B$55>0,IF(AB71>AC71,AB71,0),SUM(AB71,AC71)),IF($B$56>0,IF(AB72>AC72,AB72,0),SUM(AB72,AC72)),IF($B$57>0,IF(AB73>AC73,AB73,0),SUM(AB73,AC73)),IF($B$58>0,IF(AB74>AC74,AB74,0),SUM(AB74,AC74)),IF($B$59>0,IF(AB75>AC75,AB75,0),SUM(AB75,AC75)),IF($B$60>0,IF(AB76>AC76,AB76,0),SUM(AB76,AC76)))","v":0},{"$f":"SUM(IF($B$52>0,IF(AB67<AC67,AC67,0),SUM(AB67,AC67)),IF($B$53>0,IF(AB68<AC68,AC68,0),SUM(AB68,AC68)),IF($B$54>0,IF(AB69<AC69,AC69,0),SUM(AB69,AC69)),IF($B$55>0,IF(AB70<AC70,AC70,0),SUM(AB70,AC70)),IF($B$55>0,IF(AB71<AC71,AC71,0),SUM(AB71,AC71)),IF($B$56>0,IF(AB72<AC72,AC72,0),SUM(AB72,AC72)),IF($B$57>0,IF(AB73<AC73,AC73,0),SUM(AB73,AC73)),IF($B$58>0,IF(AB74<AC74,AC74,0),SUM(AB74,AC74)),IF($B$59>0,IF(AB75<AC75,AC75,0),SUM(AB75,AC75)),IF($B$60>0,IF(AB76<AC76,AC76,0),SUM(AB76,AC76)))","v":0},{"$f":"SUM(IF($B$52>0,IF(AD67>AE67,AD67,0),SUM(AD67,AE67)),IF($B$53>0,IF(AD68>AE68,AD68,0),SUM(AD68,AE68)),IF($B$54>0,IF(AD69>AE69,AD69,0),SUM(AD69,AE69)),IF($B$55>0,IF(AD70>AE70,AD70,0),SUM(AD70,AE70)),IF($B$55>0,IF(AD71>AE71,AD71,0),SUM(AD71,AE71)),IF($B$56>0,IF(AD72>AE72,AD72,0),SUM(AD72,AE72)),IF($B$57>0,IF(AD73>AE73,AD73,0),SUM(AD73,AE73)),IF($B$58>0,IF(AD74>AE74,AD74,0),SUM(AD74,AE74)),IF($B$59>0,IF(AD75>AE75,AD75,0),SUM(AD75,AE75)),IF($B$60>0,IF(AD76>AE76,AD76,0),SUM(AD76,AE76)))","v":0},{"$f":"SUM(IF($B$52>0,IF(AD67<AE67,AE67,0),SUM(AD67,AE67)),IF($B$53>0,IF(AD68<AE68,AE68,0),SUM(AD68,AE68)),IF($B$54>0,IF(AD69<AE69,AE69,0),SUM(AD69,AE69)),IF($B$55>0,IF(AD70<AE70,AE70,0),SUM(AD70,AE70)),IF($B$55>0,IF(AD71<AE71,AE71,0),SUM(AD71,AE71)),IF($B$56>0,IF(AD72<AE72,AE72,0),SUM(AD72,AE72)),IF($B$57>0,IF(AD73<AE73,AE73,0),SUM(AD73,AE73)),IF($B$58>0,IF(AD74<AE74,AE74,0),SUM(AD74,AE74)),IF($B$59>0,IF(AD75<AE75,AE75,0),SUM(AD75,AE75)),IF($B$60>0,IF(AD76<AE76,AE76,0),SUM(AD76,AE76)))","v":0},0,{"$f":"SUM(IF($B$52>0,IF(AF67<AG67,AG67,0),SUM(AF67,AG67)),IF($B$53>0,IF(AF68<AG68,AG68,0),SUM(AF68,AG68)),IF($B$54>0,IF(AF69<AG69,AG69,0),SUM(AF69,AG69)),IF($B$55>0,IF(AF70<AG70,AG70,0),SUM(AF70,AG70)),IF($B$55>0,IF(AF71<AG71,AG71,0),SUM(AF71,AG71)),IF($B$56>0,IF(AF72<AG72,AG72,0),SUM(AF72,AG72)),IF($B$57>0,IF(AF73<AG73,AG73,0),SUM(AF73,AG73)),IF($B$58>0,IF(AF74<AG74,AG74,0),SUM(AF74,AG74)),IF($B$59>0,IF(AF75<AG75,AG75,0),SUM(AF75,AG75)),IF($B$60>0,IF(AF76<AG76,AG76,0),SUM(AF76,AG76)))","v":0},0,{"$f":"SUM(IF($B$52>0,IF(AH67<AI67,AI67,0),SUM(AH67,AI67)),IF($B$53>0,IF(AH68<AI68,AI68,0),SUM(AH68,AI68)),IF($B$54>0,IF(AH69<AI69,AI69,0),SUM(AH69,AI69)),IF($B$55>0,IF(AH70<AI70,AI70,0),SUM(AH70,AI70)),IF($B$55>0,IF(AH71<AI71,AI71,0),SUM(AH71,AI71)),IF($B$56>0,IF(AH72<AI72,AI72,0),SUM(AH72,AI72)),IF($B$57>0,IF(AH73<AI73,AI73,0),SUM(AH73,AI73)),IF($B$58>0,IF(AH74<AI74,AI74,0),SUM(AH74,AI74)),IF($B$59>0,IF(AH75<AI75,AI75,0),SUM(AH75,AI75)),IF($B$60>0,IF(AH76<AI76,AI76,0),SUM(AH76,AI76)))","v":0},0,{"$f":"SUM(IF($B$52>0,IF(AJ67<AK67,AK67,0),SUM(AJ67,AK67)),IF($B$53>0,IF(AJ68<AK68,AK68,0),SUM(AJ68,AK68)),IF($B$54>0,IF(AJ69<AK69,AK69,0),SUM(AJ69,AK69)),IF($B$55>0,IF(AJ70<AK70,AK70,0),SUM(AJ70,AK70)),IF($B$55>0,IF(AJ71<AK71,AK71,0),SUM(AJ71,AK71)),IF($B$56>0,IF(AJ72<AK72,AK72,0),SUM(AJ72,AK72)),IF($B$57>0,IF(AJ73<AK73,AK73,0),SUM(AJ73,AK73)),IF($B$58>0,IF(AJ74<AK74,AK74,0),SUM(AJ74,AK74)),IF($B$59>0,IF(AJ75<AK75,AK75,0),SUM(AJ75,AK75)),IF($B$60>0,IF(AJ76<AK76,AK76,0),SUM(AJ76,AK76)))","v":0},0,{"$f":"SUM(IF($B$52>0,IF(AL67<AM67,AM67,0),SUM(AL67,AM67)),IF($B$53>0,IF(AL68<AM68,AM68,0),SUM(AL68,AM68)),IF($B$54>0,IF(AL69<AM69,AM69,0),SUM(AL69,AM69)),IF($B$55>0,IF(AL70<AM70,AM70,0),SUM(AL70,AM70)),IF($B$55>0,IF(AL71<AM71,AM71,0),SUM(AL71,AM71)),IF($B$56>0,IF(AL72<AM72,AM72,0),SUM(AL72,AM72)),IF($B$57>0,IF(AL73<AM73,AM73,0),SUM(AL73,AM73)),IF($B$58>0,IF(AL74<AM74,AM74,0),SUM(AL74,AM74)),IF($B$59>0,IF(AL75<AM75,AM75,0),SUM(AL75,AM75)),IF($B$60>0,IF(AL76<AM76,AM76,0),SUM(AL76,AM76)))","v":0},0,{"$f":"SUM(IF($B$52>0,IF(AN67<AO67,AO67,0),SUM(AN67,AO67)),IF($B$53>0,IF(AN68<AO68,AO68,0),SUM(AN68,AO68)),IF($B$54>0,IF(AN69<AO69,AO69,0),SUM(AN69,AO69)),IF($B$55>0,IF(AN70<AO70,AO70,0),SUM(AN70,AO70)),IF($B$55>0,IF(AN71<AO71,AO71,0),SUM(AN71,AO71)),IF($B$56>0,IF(AN72<AO72,AO72,0),SUM(AN72,AO72)),IF($B$57>0,IF(AN73<AO73,AO73,0),SUM(AN73,AO73)),IF($B$58>0,IF(AN74<AO74,AO74,0),SUM(AN74,AO74)),IF($B$59>0,IF(AN75<AO75,AO75,0),SUM(AN75,AO75)),IF($B$60>0,IF(AN76<AO76,AO76,0),SUM(AN76,AO76)))","v":0}]

{"sheet":"Emission Calculations","index":13,"n_rows":138,"n_cols":13,"rows_kept":138,"cut":false,"hidden":false,"merged":[[0,0,0,3],[40,8,42,8],[21,10,23,10],[40,10,42,10],[41,9,42,9],[22,3,23,3],[22,7,23,7],[41,7,42,7],[21,8,23,8],[22,6,23,6],[3,4,4,4],[22,0,23,0],[22,1,23,1],[22,2,23,2],[3,7,4,7],[3,5,4,5],[40,11,42,11],[40,12,42,12],[2,10,4,10],[3,9,4,9],[2,11,4,11],[2,12,4,12],[21,11,23,11],[22,9,23,9],[21,12,23,12],[2,8,4,8],[3,6,4,6],[41,6,42,6],[52,3,52,4],[2,0,2,1],[21,0,21,1],[43,0,43,1],[41,4,42,4],[41,0,42,0],[41,1,42,1],[41,2,42,2],[3,1,4,1],[22,4,23,4],[41,5,42,5],[53,0,53,1],[41,3,42,3],[3,3,4,3],[73,0,73,1],[22,5,23,5],[3,0,4,0],[3,2,4,2],[63,0,63,1],[83,12,85,12],[84,0,85,0],[84,1,85,1],[84,2,85,2],[84,3,85,3],[84,4,85,4],[84,5,85,5],[84,6,85,6],[84,7,85,7],[91,0,91,1],[97,0,97,1],[100,0,100,1],[83,8,85,8],[83,11,85,11],[130,0,130,1],[132,0,132,1],[83,10,85,10],[84,9,85,9],[134,0,134,1],[118,0,118,1],[123,0,123,1],[126,0,126,1],[128,0,128,1],[107,0,107,1],[109,0,109,1],[111,0,111,1],[113,0,113,1],[115,0,115,1],[86,0,86,1],[89,0,89,1]]}
["FACILITY-WIDE EMISSION CALCULATIONS"]
["** As of 2016 Potential Emissions are no longer required to be reported in the Minor Source Emissions Inventory**"]
["PM2. 5",null,null,null,null,null,null,null,"Potential Hourly Uncontrolled Emissions(lb/hr)",null,"Potential Hourly Controlled Emissions (lb/hr)","Potential Annual Emissions (tons/yr)","Actual Emissions (tons/yr)"]
["EP","Description of Process","SCC #","Max Design Rate","Units of Measure","Emission Factor","Units of Measure","Source of Emission Factor",null,"Control Efficiency"]
[]
[{"$f":"IF(D6=\"\",\"\",\"ALL\")","v":""},{"$f":"IF(D6=\"\",\"\",\"Batch Mix Plant - Fuel Oil\")","v":""},{"$f":"IF(B6=\"\",\"\",\"30500246\")","v":""},{"$f":"IF(SUM(IF('Asphalt Plant (AP-1)'!$C$5=\"batch mix plant\",'Asphalt Plant (AP-1)'!N5,0),IF('Asphalt Plant (AP-2)'!$C$5=\"batch mix plant\",'Asphalt Plant (AP-2)'!N5,0),IF('Asphalt Plant (AP-3)'!$C$5=\"batch mix plant\",'Asphalt Plant (AP-3)'!N5,0),IF('Asphalt Plant (AP-4)'!$C$5=\"batch mix plant\",'Asphalt Plant (AP-4)'!N5,0),IF('Asphalt Plant (AP-5)'!$C$5=\"batch mix plant\",'Asphalt Plant (AP-5)'!N5,0),IF('Asphalt Plant (AP-6)'!$C$5=\"batch mix plant\",'Asphalt Plant (AP-6)'!N5,0),IF('Asphalt Plant (AP-7)'!$C$5=\"batch mix plant\",'Asphalt Plant (AP-7)'!N5,0),IF('Asphalt Plant (AP-8)'!$C$5=\"batch mix plant\",'Asphalt Plant (AP-8)'!N5,0),IF('Asphalt Plant (AP-9)'!$C$5=\"batch mix plant\",'Asphalt Plant (AP-9)'!N5,0),IF('Asphalt Plant (AP-10)'!$C$5=\"batch mix plant\",'Asphalt Plant (AP-10)'!N5,0))>0,SUM(IF('Asphalt Plant (AP-1)'!$C$5=\"batch mix plant\",'Asphalt Plant (AP-1)'!N5,0),IF('Asphalt Plant (AP-2)'!$C$5=\"batch mix plant\",'Asphalt Plant (AP-2)'!N5,0),IF('Asphalt Plant (AP-3)'!$C$5=\"batch mix plant\",'Asphalt Plant (AP-3)'!N5,0),IF('Asphalt Plant (AP-4)'!$C$5=\"batch mix plant\",'Asphalt Plant (AP-4)'!N5,0),IF('Asphalt Plant (AP-5)'!$C$5=\"batch mix plant\",'Asphalt Plant (AP-5)'!N5,0),IF('Asphalt Plant (AP-6)'!$C$5=\"batch mix plant\",'Asphalt Plant (AP-6)'!N5,0),IF('Asphalt Plant (AP-7)'!$C$5=\"batch mix plant\",'Asphalt Plant (AP-7)'!N5,0),IF('Asphalt Plant (AP-8)'!$C$5=\"batch mix plant\",'Asphalt Plant (AP-8)'!N5,0),IF('Asphalt Plant (AP-9)'!$C$5=\"batch mix plant\",'Asphalt Plant (AP-9)'!N5,0),IF('Asphalt Plant (AP-10)'!$C$5=\"batch mix plant\",'Asphalt Plant (AP-10)'!N5,0)),\"\")","v":""},{"$f":"IF(B6=\"\",\"\",\"tons/hr\")","v":""},{"$f":"IF(B6=\"\",\"\",MAX(IF('Asphalt Plant (AP-1)'!$C$5=\"batch mix plant\",'Asphalt Plant (AP-1)'!O21,0),IF('Asphalt Plant (AP-2)'!$C$5=\"batch mix plant\",'Asphalt Plant (AP-2)'!O21,0),IF('Asphalt Plant (AP-3)'!$C$5=\"batch mix plant\",'Asphalt Plant (AP-3)'!O21,0),IF('Asphalt Plant (AP-4)'!$C$5=\"batch mix plant\",'Asphalt Plant (AP-4)'!O21,0),IF('Asphalt Plant (AP-5)'!$C$5=\"batch mix plant\",'Asphalt Plant (AP-5)'!O21,0),IF('Asphalt Plant (AP-6)'!$C$5=\"batch mix plant\",'Asphalt Plant (AP-6)'!O21,0),IF('Asphalt Plant (AP-7)'!$C$5=\"batch mix plant\",'Asphalt Plant (AP-7)'!O21,0),IF('Asphalt Plant (AP-8)'!$C$5=\"batch mix plant\",'Asphalt Plant (AP-8)'!O21,0),IF('Asphalt Plant (AP-9)'!$C$5=\"batch mix plant\",'Asphalt Plant (AP-9)'!O21,0),IF('Asphalt Plant (AP-10)'!$C$5=\"batch mix plant\",'Asphalt Plant (AP-10)'!O21,0)))","v":""},{"$f":"IF(B6=\"\",\"\",\"lb/ton\")","v":""},{"$f":"IF(B6=\"\",\"\",\"AP-42 Table 11.1-2,5,6,9\")","v":""},{"$f":"IF(B6=\"\",\"\",SUM(IF('Asphalt Plant (AP-1)'!$C$5=\"batch mix plant\",'Asphalt Plant (AP-1)'!Q21,0),IF('Asphalt Plant (AP-2)'!$C$5=\"batch mix plant\",'Asphalt Plant (AP-2)'!Q21,0),IF('Asphalt Plant (AP-3)'!$C$5=\"batch mix plant\",'Asphalt Plant (AP-3)'!Q21,0),IF('Asphalt Plant (AP-4)'!$C$5=\"batch mix plant\",'Asphalt Plant (AP-4)'!Q21,0),IF('Asphalt Plant (AP-5)'!$C$5=\"batch mix plant\",'Asphalt Plant (AP-5)'!Q21,0),IF('Asphalt Plant (AP-6)'!$C$5=\"batch mix plant\",'Asphalt Plant (AP-6)'!Q21,0),IF('Asphalt Plant (AP-7)'!$C$5=\"batch mix plant\",'Asphalt Plant (AP-7)'!Q21,0),IF('Asphalt Plant (AP-8)'!$C$5=\"batch mix plant\",'Asphalt Plant (AP-8)'!Q21,0),IF('Asphalt Plant (AP-9)'!$C$5=\"batch mix plant\",'Asphalt Plant (AP-9)'!Q21,0),IF('Asphalt Plant (AP-10)'!$C$5=\"batch mix plant\",'Asphalt Plant (AP-10)'!Q21,0)))","v":""},null,{"$f":"IF(B6=\"\",\"\",SUM(IF('Asphalt Plant (AP-1)'!$C$5=\"batch mix plant\",'Asphalt Plant (AP-1)'!R21,0),IF('Asphalt Plant (AP-2)'!$C$5=\"batch mix plant\",'Asphalt Plant (AP-2)'!R21,0),IF('Asphalt Plant (AP-3)'!$C$5=\"batch mix plant\",'Asphalt Plant (AP-3)'!R21,0),IF('Asphalt Plant (AP-4)'!$C$5=\"batch mix plant\",'Asphalt Plant (AP-4)'!R21,0),IF('Asphalt Plant (AP-5)'!$C$5=\"batch mix plant\",'Asphalt Plant (AP-5)'!R21,0),IF('Asphalt Plant (AP-6)'!$C$5=\"batch mix plant\",'Asphalt Plant (AP-6)'!R21,0),IF('Asphalt Plant (AP-7)'!$C$5=\"batch mix plant\",'Asphalt Plant (AP-7)'!R21,0),IF('Asphalt Plant (AP-8)'!$C$5=\"batch mix plant\",'Asphalt Plant (AP-8)'!R21,0),IF('Asphalt Plant (AP-9)'!$C$5=\"batch mix plant\",'Asphalt Plant (AP-9)'!R21,0),IF('Asphalt Plant (AP-10)'!$C$5=\"batch mix plant\",'Asphalt Plant (AP-10)'!R21,0)))","v":""},{"$f":"IF(B6=\"\",\"\",SUM(IF('Asphalt Plant (AP-1)'!$C$5=\"batch mix plant\",'Asphalt Plant (AP-1)'!S21,0),IF('Asphalt Plant (AP-2)'!$C$5=\"batch mix plant\",'Asphalt Plant (AP-2)'!S21,0),IF('Asphalt Plant (AP-3)'!$C$5=\"batch mix plant\",'Asphalt Plant (AP-3)'!S21,0),IF('Asphalt Plant (AP-4)'!$C$5=\"batch mix plant\",'Asphalt Plant (AP-4)'!S21,0),IF('Asphalt Plant (AP-5)'!$C$5=\"batch mix plant\",'Asphalt Plant (AP-5)'!S21,0),IF('Asphalt Plant (AP-6)'!$C$5=\"batch mix plant\",'Asphalt Plant (AP-6)'!S21,0),IF('Asphalt Plant (AP-7)'!$C$5=\"batch mix plant\",'Asphalt Plant (AP-7)'!S21,0),IF('Asphalt Plant (AP-8)'!$C$5=\"batch mix plant\",'Asphalt Plant (AP-8)'!S21,0),IF('Asphalt Plant (AP-9)'!$C$5=\"batch mix plant\",'Asphalt Plant (AP-9)'!S21,0),IF('Asphalt Plant (AP-10)'!$C$5=\"batch mix plant\",'Asphalt Plant (AP-10)'!S21,0)))","v":""},{"$f":"IF(B6=\"\",\"\",SUM(IF('Asphalt Plant (AP-1)'!$C$5=\"batch mix plant\",'Asphalt Plant (AP-1)'!T21,0),IF('Asphalt Plant (AP-2)'!$C$5=\"batch mix plant\",'Asphalt Plant (AP-2)'!T21,0),IF('Asphalt Plant (AP-3)'!$C$5=\"batch mix plant\",'Asphalt Plant (AP-3)'!T21,0),IF('Asphalt Plant (AP-4)'!$C$5=\"batch mix plant\",'Asphalt Plant (AP-4)'!T21,0),IF('Asphalt Plant (AP-5)'!$C$5=\"batch mix plant\",'Asphalt Plant (AP-5)'!T21,0),IF('Asphalt Plant (AP-6)'!$C$5=\"batch mix plant\",'Asphalt Plant (AP-6)'!T21,0),IF('Asphalt Plant (AP-7)'!$C$5=\"batch mix plant\",'Asphalt Plant (AP-7)'!T21,0),IF('Asphalt Plant (AP-8)'!$C$5=\"batch mix plant\",'Asphalt Plant (AP-8)'!T21,0),IF('Asphalt Plant (AP-9)'!$C$5=\"batch mix plant\",'Asphalt Plant (AP-9)'!T21,0),IF('Asphalt Plant (AP-10)'!$C$5=\"batch mix plant\",'Asphalt Plant (AP-10)'!T21,0)))","v":""}]
["",{"$f":"IF(D7=\"\",\"\",\"Batch Mix Plant - Waste Oil\")","v":""},{"$f":"IF(B7=\"\",\"\",\"30500245\")","v":""},{"$f":"IF(SUM(IF('Asphalt Plant (AP-1)'!$C$5=\"batch mix plant\",'Asphalt Plant (AP-1)'!N6,0),IF('Asphalt Plant (AP-2)'!$C$5=\"batch mix plant\",'Asphalt Plant (AP-2)'!N6,0),IF('Asphalt Plant (AP-3)'!$C$5=\"batch mix plant\",'Asphalt Plant (AP-3)'!N6,0),IF('Asphalt Plant (AP-4)'!$C$5=\"batch mix plant\",'Asphalt Plant (AP-4)'!N6,0),IF('Asphalt Plant (AP-5)'!$C$5=\"batch mix plant\",'Asphalt Plant (AP-5)'!N6,0),IF('Asphalt Plant (AP-6)'!$C$5=\"batch mix plant\",'Asphalt Plant (AP-6)'!N6,0),IF('Asphalt Plant (AP-7)'!$C$5=\"batch mix plant\",'Asphalt Plant (AP-7)'!N6,0),IF('Asphalt Plant (AP-8)'!$C$5=\"batch mix plant\",'Asphalt Plant (AP-8)'!N6,0),IF('Asphalt Plant (AP-9)'!$C$5=\"batch mix plant\",'Asphalt Plant (AP-9)'!N6,0),IF('Asphalt Plant (AP-10)'!$C$5=\"batch mix plant\",'Asphalt Plant (AP-10)'!N6,0))>0,SUM(IF('Asphalt Plant (AP-1)'!$C$5=\"batch mix plant\",'Asphalt Plant (AP-1)'!N6,0),IF('Asphalt Plant (AP-2)'!$C$5=\"batch mix plant\",'Asphalt Plant (AP-2)'!N6,0),IF('Asphalt Plant (AP-3)'!$C$5=\"batch mix plant\",'Asphalt Plant (AP-3)'!N6,0),IF('Asphalt Plant (AP-4)'!$C$5=\"batch mix plant\",'Asphalt Plant (AP-4)'!N6,0),IF('Asphalt Plant (AP-5)'!$C$5=\"batch mix plant\",'Asphalt Plant (AP-5)'!N6,0),IF('Asphalt Plant (AP-6)'!$C$5=\"batch mix plant\",'Asphalt Plant (AP-6)'!N6,0),IF('Asphalt Plant (AP-7)'!$C$5=\"batch mix plant\",'Asphalt Plant (AP-7)'!N6,0),IF('Asphalt Plant (AP-8)'!$C$5=\"batch mix plant\",'Asphalt Plant (AP-8)'!N6,0),IF('Asphalt Plant (AP-9)'!$C$5=\"batch mix plant\",'Asphalt Plant (AP-9)'!N6,0),IF('Asphalt Plant (AP-10)'!$C$5=\"batch mix plant\",'Asphalt Plant (AP-10)'!N6,0)),\"\")","v":""},"",{"$f":"IF(B7=\"\",\"\",MAX(IF('Asphalt Plant (AP-1)'!$C$5=\"batch mix plant\",'Asphalt Plant (AP-1)'!O22,0),IF('Asphalt Plant (AP-2)'!$C$5=\"batch mix plant\",'Asphalt Plant (AP-2)'!O22,0),IF('Asphalt Plant (AP-3)'!$C$5=\"batch mix plant\",'Asphalt Plant (AP-3)'!O22,0),IF('Asphalt Plant (AP-4)'!$C$5=\"batch mix plant\",'Asphalt Plant (AP-4)'!O22,0),IF('Asphalt Plant (AP-5)'!$C$5=\"batch mix plant\",'Asphalt Plant (AP-5)'!O22,0),IF('Asphalt Plant (AP-6)'!$C$5=\"batch mix plant\",'Asphalt Plant (AP-6)'!O22,0),IF('Asphalt Plant (AP-7)'!$C$5=\"batch mix plant\",'Asphalt Plant (AP-7)'!O22,0),IF('Asphalt Plant (AP-8)'!$C$5=\"batch mix plant\",'Asphalt Plant (AP-8)'!O22,0),IF('Asphalt Plant (AP-9)'!$C$5=\"batch mix plant\",'Asphalt Plant (AP-9)'!O22,0),IF('Asphalt Plant (AP-10)'!$C$5=\"batch mix plant\",'Asphalt Plant (AP-10)'!O22,0)))","v":""},"",{"$f":"IF(B7=\"\",\"\",\"AP-42 Table 11.1-2,5,6,9\")","v":""},{"$f":"IF(B7=\"\",\"\",SUM(IF('Asphalt Plant (AP-1)'!$C$5=\"batch mix plant\",'Asphalt Plant (AP-1)'!Q22,0),IF('Asphalt Plant (AP-2)'!$C$5=\"batch mix plant\",'Asphalt Plant (AP-2)'!Q22,0),IF('Asphalt Plant (AP-3)'!$C$5=\"batch mix plant\",'Asphalt Plant (AP-3)'!Q22,0),IF('Asphalt Plant (AP-4)'!$C$5=\"batch mix plant\",'Asphalt Plant (AP-4)'!Q22,0),IF('Asphalt Plant (AP-5)'!$C$5=\"batch mix plant\",'Asphalt Plant (AP-5)'!Q22,0),IF('Asphalt Plant (AP-6)'!$C$5=\"batch mix plant\",'Asphalt Plant (AP-6)'!Q22,0),IF('Asphalt Plant (AP-7)'!$C$5=\"batch mix plant\",'Asphalt Plant (AP-7)'!Q22,0),IF('Asphalt Plant (AP-8)'!$C$5=\"batch mix plant\",'Asphalt Plant (AP-8)'!Q22,0),IF('Asphalt Plant (AP-9)'!$C$5=\"batch mix plant\",'Asphalt Plant (AP-9)'!Q22,0),IF('Asphalt Plant (AP-10)'!$C$5=\"batch mix plant\",'Asphalt Plant (AP-10)'!Q22,0)))","v":""},null,{"$f":"IF(B7=\"\",\"\",SUM(IF('Asphalt Plant (AP-1)'!$C$5=\"batch mix plant\",'Asphalt Plant (AP-1)'!R22,0),IF('Asphalt Plant (AP-2)'!$C$5=\"batch mix plant\",'Asphalt Plant (AP-2)'!R22,0),IF('Asphalt Plant (AP-3)'!$C$5=\"batch mix plant\",'Asphalt Plant (AP-3)'!R22,0),IF('Asphalt Plant (AP-4)'!$C$5=\"batch mix plant\",'Asphalt Plant (AP-4)'!R22,0),IF('Asphalt Plant (AP-5)'!$C$5=\"batch mix plant\",'Asphalt Plant (AP-5)'!R22,0),IF('Asphalt Plant (AP-6)'!$C$5=\"batch mix plant\",'Asphalt Plant (AP-6)'!R22,0),IF('Asphalt Plant (AP-7)'!$C$5=\"batch mix plant\",'Asphalt Plant (AP-7)'!R22,0),IF('Asphalt Plant (AP-8)'!$C$5=\"batch mix plant\",'Asphalt Plant (AP-8)'!R22,0),IF('Asphalt Plant (AP-9)'!$C$5=\"batch mix plant\",'Asphalt Plant (AP-9)'!R22,0),IF('Asphalt Plant (AP-10)'!$C$5=\"batch mix plant\",'Asphalt Plant (AP-10)'!R22,0)))","v":""},{"$f":"IF(B7=\"\",\"\",SUM(IF('Asphalt Plant (AP-1)'!$C$5=\"batch mix plant\",'Asphalt Plant (AP-1)'!S22,0),IF('Asphalt Plant (AP-2)'!$C$5=\"batch mix plant\",'Asphalt Plant (AP-2)'!S22,0),IF('Asphalt Plant (AP-3)'!$C$5=\"batch mix plant\",'Asphalt Plant (AP-3)'!S22,0),IF('Asphalt Plant (AP-4)'!$C$5=\"batch mix plant\",'Asphalt Plant (AP-4)'!S22,0),IF('Asphalt Plant (AP-5)'!$C$5=\"batch mix plant\",'Asphalt Plant (AP-5)'!S22,0),IF('Asphalt Plant (AP-6)'!$C$5=\"batch mix plant\",'Asphalt Plant (AP-6)'!S22,0),IF('Asphalt Plant (AP-7)'!$C$5=\"batch mix plant\",'Asphalt Plant (AP-7)'!S22,0),IF('Asphalt Plant (AP-8)'!$C$5=\"batch mix plant\",'Asphalt Plant (AP-8)'!S22,0),IF('Asphalt Plant (AP-9)'!$C$5=\"batch mix plant\",'Asphalt Plant (AP-9)'!S22,0),IF('Asphalt Plant (AP-10)'!$C$5=\"batch mix plant\",'Asphalt Plant (AP-10)'!S22,0)))","v":""},{"$f":"IF(B7=\"\",\"\",SUM(IF('Asphalt Plant (AP-1)'!$C$5=\"batch mix plant\",'Asphalt Plant (AP-1)'!T22,0),IF('Asphalt Plant (AP-2)'!$C$5=\"batch mix plant\",'Asphalt Plant (AP-2)'!T22,0),IF('Asphalt Plant (AP-3)'!$C$5=\"batch mix plant\",'Asphalt Plant (AP-3)'!T22,0),IF('Asphalt Plant (AP-4)'!$C$5=\"batch mix plant\",'Asphalt Plant (AP-4)'!T22,0),IF('Asphalt Plant (AP-5)'!$C$5=\"batch mix plant\",'Asphalt Plant (AP-5)'!T22,0),IF('Asphalt Plant (AP-6)'!$C$5=\"batch mix plant\",'Asphalt Plant (AP-6)'!T22,0),IF('Asphalt Plant (AP-7)'!$C$5=\"batch mix plant\",'Asphalt Plant (AP-7)'!T22,0),IF('Asphalt Plant (AP-8)'!$C$5=\"batch mix plant\",'Asphalt Plant (AP-8)'!T22,0),IF('Asphalt Plant (AP-9)'!$C$5=\"batch mix plant\",'Asphalt Plant (AP-9)'!T22,0),IF('Asphalt Plant (AP-10)'!$C$5=\"batch mix plant\",'Asphalt Plant (AP-10)'!T22,0)))","v":""}]
["",{"$f":"IF(D8=\"\",\"\",\"Batch Mix Plant - Natural Gas\")","v":""},{"$f":"IF(B8=\"\",\"\",\"30500247\")","v":""},{"$f":"IF(SUM(IF('Asphalt Plant (AP-1)'!$C$5=\"batch mix plant\",'Asphalt Plant (AP-1)'!N7,0),IF('Asphalt Plant (AP-2)'!$C$5=\"batch mix plant\",'Asphalt Plant (AP-2)'!N7,0),IF('Asphalt Plant (AP-3)'!$C$5=\"batch mix plant\",'Asphalt Plant (AP-3)'!N7,0),IF('Asphalt Plant (AP-4)'!$C$5=\"batch mix plant\",'Asphalt Plant (AP-4)'!N7,0),IF('Asphalt Plant (AP-5)'!$C$5=\"batch mix plant\",'Asphalt Plant (AP-5)'!N7,0),IF('Asphalt Plant (AP-6)'!$C$5=\"batch mix plant\",'Asphalt Plant (AP-6)'!N7,0),IF('Asphalt Plant (AP-7)'!$C$5=\"batch mix plant\",'Asphalt Plant (AP-7)'!N7,0),IF('Asphalt Plant (AP-8)'!$C$5=\"batch mix plant\",'Asphalt Plant (AP-8)'!N7,0),IF('Asphalt Plant (AP-9)'!$C$5=\"batch mix plant\",'Asphalt Plant (AP-9)'!N7,0),IF('Asphalt Plant (AP-10)'!$C$5=\"batch mix plant\",'Asphalt Plant (AP-10)'!N7,0))>0,SUM(IF('Asphalt Plant (AP-1)'!$C$5=\"batch mix plant\",'Asphalt Plant (AP-1)'!N7,0),IF('Asphalt Plant (AP-2)'!$C$5=\"batch mix plant\",'Asphalt Plant (AP-2)'!N7,0),IF('Asphalt Plant (AP-3)'!$C$5=\"batch mix plant\",'Asphalt Plant (AP-3)'!N7,0),IF('Asphalt Plant (AP-4)'!$C$5=\"batch mix plant\",'Asphalt Plant (AP-4)'!N7,0),IF('Asphalt Plant (AP-5)'!$C$5=\"batch mix plant\",'Asphalt Plant (AP-5)'!N7,0),IF('Asphalt Plant (AP-6)'!$C$5=\"batch mix plant\",'Asphalt Plant (AP-6)'!N7,0),IF('Asphalt Plant (AP-7)'!$C$5=\"batch mix plant\",'Asphalt Plant (AP-7)'!N7,0),IF('Asphalt Plant (AP-8)'!$C$5=\"batch mix plant\",'Asphalt Plant (AP-8)'!N7,0),IF('Asphalt Plant (AP-9)'!$C$5=\"batch mix plant\",'Asphalt Plant (AP-9)'!N7,0),IF('Asphalt Plant (AP-10)'!$C$5=\"batch mix plant\",'Asphalt Plant (AP-10)'!N7,0)),\"\")","v":""},"",{"$f":"IF(B8=\"\",\"\",MAX(IF('Asphalt Plant (AP-1)'!$C$5=\"batch mix plant\",'Asphalt Plant (AP-1)'!O23,0),IF('Asphalt Plant (AP-2)'!$C$5=\"batch mix plant\",'Asphalt Plant (AP-2)'!O23,0),IF('Asphalt Plant (AP-3)'!$C$5=\"batch mix plant\",'Asphalt Plant (AP-3)'!O23,0),IF('Asphalt Plant (AP-4)'!$C$5=\"batch mix plant\",'Asphalt Plant (AP-4)'!O23,0),IF('Asphalt Plant (AP-5)'!$C$5=\"batch mix plant\",'Asphalt Plant (AP-5)'!O23,0),IF('Asphalt Plant (AP-6)'!$C$5=\"batch mix plant\",'Asphalt Plant (AP-6)'!O23,0),IF('Asphalt Plant (AP-7)'!$C$5=\"batch mix plant\",'Asphalt Plant (AP-7)'!O23,0),IF('Asphalt Plant (AP-8)'!$C$5=\"batch mix plant\",'Asphalt Plant (AP-8)'!O23,0),IF('Asphalt Plant (AP-9)'!$C$5=\"batch mix plant\",'Asphalt Plant (AP-9)'!O23,0),IF('Asphalt Plant (AP-10)'!$C$5=\"batch mix plant\",'Asphalt Plant (AP-10)'!O23,0)))","v":""},"",{"$f":"IF(B8=\"\",\"\",\"AP-42 Table 11.1-2,5,6,9\")","v":""},{"$f":"IF(B8=\"\",\"\",SUM(IF('Asphalt Plant (AP-1)'!$C$5=\"batch mix plant\",'Asphalt Plant (AP-1)'!Q23,0),IF('Asphalt Plant (AP-2)'!$C$5=\"batch mix plant\",'Asphalt Plant (AP-2)'!Q23,0),IF('Asphalt Plant (AP-3)'!$C$5=\"batch mix plant\",'Asphalt Plant (AP-3)'!Q23,0),IF('Asphalt Plant (AP-4)'!$C$5=\"batch mix plant\",'Asphalt Plant (AP-4)'!Q23,0),IF('Asphalt Plant (AP-5)'!$C$5=\"batch mix plant\",'Asphalt Plant (AP-5)'!Q23,0),IF('Asphalt Plant (AP-6)'!$C$5=\"batch mix plant\",'Asphalt Plant (AP-6)'!Q23,0),IF('Asphalt Plant (AP-7)'!$C$5=\"batch mix plant\",'Asphalt Plant (AP-7)'!Q23,0),IF('Asphalt Plant (AP-8)'!$C$5=\"batch mix plant\",'Asphalt Plant (AP-8)'!Q23,0),IF('Asphalt Plant (AP-9)'!$C$5=\"batch mix plant\",'Asphalt Plant (AP-9)'!Q23,0),IF('Asphalt Plant (AP-10)'!$C$5=\"batch mix plant\",'Asphalt Plant (AP-10)'!Q23,0)))","v":""},null,{"$f":"IF(B8=\"\",\"\",SUM(IF('Asphalt Plant (AP-1)'!$C$5=\"batch mix plant\",'Asphalt Plant (AP-1)'!R23,0),IF('Asphalt Plant (AP-2)'!$C$5=\"batch mix plant\",'Asphalt Plant (AP-2)'!R23,0),IF('Asphalt Plant (AP-3)'!$C$5=\"batch mix plant\",'Asphalt Plant (AP-3)'!R23,0),IF('Asphalt Plant (AP-4)'!$C$5=\"batch mix plant\",'Asphalt Plant (AP-4)'!R23,0),IF('Asphalt Plant (AP-5)'!$C$5=\"batch mix plant\",'Asphalt Plant (AP-5)'!R23,0),IF('Asphalt Plant (AP-6)'!$C$5=\"batch mix plant\",'Asphalt Plant (AP-6)'!R23,0),IF('Asphalt Plant (AP-7)'!$C$5=\"batch mix plant\",'Asphalt Plant (AP-7)'!R23,0),IF('Asphalt Plant (AP-8)'!$C$5=\"batch mix plant\",'Asphalt Plant (AP-8)'!R23,0),IF('Asphalt Plant (AP-9)'!$C$5=\"batch mix plant\",'Asphalt Plant (AP-9)'!R23,0),IF('Asphalt Plant (AP-10)'!$C$5=\"batch mix plant\",'Asphalt Plant (AP-10)'!R23,0)))","v":""},{"$f":"IF(B8=\"\",\"\",SUM(IF('Asphalt Plant (AP-1)'!$C$5=\"batch mix plant\",'Asphalt Plant (AP-1)'!S23,0),IF('Asphalt Plant (AP-2)'!$C$5=\"batch mix plant\",'Asphalt Plant (AP-2)'!S23,0),IF('Asphalt Plant (AP-3)'!$C$5=\"batch mix plant\",'Asphalt Plant (AP-3)'!S23,0),IF('Asphalt Plant (AP-4)'!$C$5=\"batch mix plant\",'Asphalt Plant (AP-4)'!S23,0),IF('Asphalt Plant (AP-5)'!$C$5=\"batch mix plant\",'Asphalt Plant (AP-5)'!S23,0),IF('Asphalt Plant (AP-6)'!$C$5=\"batch mix plant\",'Asphalt Plant (AP-6)'!S23,0),IF('Asphalt Plant (AP-7)'!$C$5=\"batch mix plant\",'Asphalt Plant (AP-7)'!S23,0),IF('Asphalt Plant (AP-8)'!$C$5=\"batch mix plant\",'Asphalt Plant (AP-8)'!S23,0),IF('Asphalt Plant (AP-9)'!$C$5=\"batch mix plant\",'Asphalt Plant (AP-9)'!S23,0),IF('Asphalt Plant (AP-10)'!$C$5=\"batch mix plant\",'Asphalt Plant (AP-10)'!S23,0)))","v":""},{"$f":"IF(B8=\"\",\"\",SUM(IF('Asphalt Plant (AP-1)'!$C$5=\"batch mix plant\",'Asphalt Plant (AP-1)'!T23,0),IF('Asphalt Plant (AP-2)'!$C$5=\"batch mix plant\",'Asphalt Plant (AP-2)'!T23,0),IF('Asphalt Plant (AP-3)'!$C$5=\"batch mix plant\",'Asphalt Plant (AP-3)'!T23,0),IF('Asphalt Plant (AP-4)'!$C$5=\"batch mix plant\",'Asphalt Plant (AP-4)'!T23,0),IF('Asphalt Plant (AP-5)'!$C$5=\"batch mix plant\",'Asphalt Plant (AP-5)'!T23,0),IF('Asphalt Plant (AP-6)'!$C$5=\"batch mix plant\",'Asphalt Plant (AP-6)'!T23,0),IF('Asphalt Plant (AP-7)'!$C$5=\"batch mix plant\",'Asphalt Plant (AP-7)'!T23,0),IF('Asphalt Plant (AP-8)'!$C$5=\"batch mix plant\",'Asphalt Plant (AP-8)'!T23,0),IF('Asphalt Plant (AP-9)'!$C$5=\"batch mix plant\",'Asphalt Plant (AP-9)'!T23,0),IF('Asphalt Plant (AP-10)'!$C$5=\"batch mix plant\",'Asphalt Plant (AP-10)'!T23,0)))","v":""}]
["",{"$f":"IF(D9=\"\",\"\",\"Drum Mix Plant - Fuel Oil\")","v":""},{"$f":"IF(B9=\"\",\"\",\"30500258\")","v":""},{"$f":"IF(SUM(IF('Asphalt Plant (AP-1)'!$C$5=\"drum mix plant\",'Asphalt Plant (AP-1)'!N5,0),IF('Asphalt Plant (AP-2)'!$C$5=\"drum mix plant\",'Asphalt Plant (AP-2)'!N5,0),IF('Asphalt Plant (AP-3)'!$C$5=\"drum mix plant\",'Asphalt Plant (AP-3)'!N5,0),IF('Asphalt Plant (AP-4)'!$C$5=\"drum mix plant\",'Asphalt Plant (AP-4)'!N5,0),IF('Asphalt Plant (AP-5)'!$C$5=\"drum mix plant\",'Asphalt Plant (AP-5)'!N5,0),IF('Asphalt Plant (AP-6)'!$C$5=\"drum mix plant\",'Asphalt Plant (AP-6)'!N5,0),IF('Asphalt Plant (AP-7)'!$C$5=\"drum mix plant\",'Asphalt Plant (AP-7)'!N5,0),IF('Asphalt Plant (AP-8)'!$C$5=\"drum mix plant\",'Asphalt Plant (AP-8)'!N5,0),IF('Asphalt Plant (AP-9)'!$C$5=\"drum mix plant\",'Asphalt Plant (AP-9)'!N5,0),IF('Asphalt Plant (AP-10)'!$C$5=\"drum mix plant\",'Asphalt Plant (AP-10)'!N5,0))>0,SUM(IF('Asphalt Plant (AP-1)'!$C$5=\"drum mix plant\",'Asphalt Plant (AP-1)'!N5,0),IF('Asphalt Plant (AP-2)'!$C$5=\"drum mix plant\",'Asphalt Plant (AP-2)'!N5,0),IF('Asphalt Plant (AP-3)'!$C$5=\"drum mix plant\",'Asphalt Plant (AP-3)'!N5,0),IF('Asphalt Plant (AP-4)'!$C$5=\"drum mix plant\",'Asphalt Plant (AP-4)'!N5,0),IF('Asphalt Plant (AP-5)'!$C$5=\"drum mix plant\",'Asphalt Plant (AP-5)'!N5,0),IF('Asphalt Plant (AP-6)'!$C$5=\"drum mix plant\",'Asphalt Plant (AP-6)'!N5,0),IF('Asphalt Plant (AP-7)'!$C$5=\"drum mix plant\",'Asphalt Plant (AP-7)'!N5,0),IF('Asphalt Plant (AP-8)'!$C$5=\"drum mix plant\",'Asphalt Plant (AP-8)'!N5,0),IF('Asphalt Plant (AP-9)'!$C$5=\"drum mix plant\",'Asphalt Plant (AP-9)'!N5,0),IF('Asphalt Plant (AP-10)'!$C$5=\"drum mix plant\",'Asphalt Plant (AP-10)'!N5,0)),\"\")","v":""},"",{"$f":"IF(B9=\"\",\"\",MAX(IF('Asphalt Plant (AP-1)'!$C$5=\"drum mix plant\",'Asphalt Plant (AP-1)'!O21,0),IF('Asphalt Plant (AP-2)'!$C$5=\"drum mix plant\",'Asphalt Plant (AP-2)'!O21,0),IF('Asphalt Plant (AP-3)'!$C$5=\"drum mix plant\",'Asphalt Plant (AP-3)'!O21,0),IF('Asphalt Plant (AP-4)'!$C$5=\"drum mix plant\",'Asphalt Plant (AP-4)'!O21,0),IF('Asphalt Plant (AP-5)'!$C$5=\"drum mix plant\",'Asphalt Plant (AP-5)'!O21,0),IF('Asphalt Plant (AP-6)'!$C$5=\"drum mix plant\",'Asphalt Plant (AP-6)'!O21,0),IF('Asphalt Plant (AP-7)'!$C$5=\"drum mix plant\",'Asphalt Plant (AP-7)'!O21,0),IF('Asphalt Plant (AP-8)'!$C$5=\"drum mix plant\",'Asphalt Plant (AP-8)'!O21,0),IF('Asphalt Plant (AP-9)'!$C$5=\"drum mix plant\",'Asphalt Plant (AP-9)'!O21,0),IF('Asphalt Plant (AP-10)'!$C$5=\"drum mix plant\",'Asphalt Plant (AP-10)'!O21,0)))","v":""},"",{"$f":"IF(B9=\"\",\"\",\"AP-42 Table 11.1-4,7,8,10\")","v":""},{"$f":"IF(B9=\"\",\"\",SUM(IF('Asphalt Plant (AP-1)'!$C$5=\"drum mix plant\",'Asphalt Plant (AP-1)'!Q21,0),IF('Asphalt Plant (AP-2)'!$C$5=\"drum mix plant\",'Asphalt Plant (AP-2)'!Q21,0),IF('Asphalt Plant (AP-3)'!$C$5=\"drum mix plant\",'Asphalt Plant (AP-3)'!Q21,0),IF('Asphalt Plant (AP-4)'!$C$5=\"drum mix plant\",'Asphalt Plant (AP-4)'!Q21,0),IF('Asphalt Plant (AP-5)'!$C$5=\"drum mix plant\",'Asphalt Plant (AP-5)'!Q21,0),IF('Asphalt Plant (AP-6)'!$C$5=\"drum mix plant\",'Asphalt Plant (AP-6)'!Q21,0),IF('Asphalt Plant (AP-7)'!$C$5=\"drum mix plant\",'Asphalt Plant (AP-7)'!Q21,0),IF('Asphalt Plant (AP-8)'!$C$5=\"drum mix plant\",'Asphalt Plant (AP-8)'!Q21,0),IF('Asphalt Plant (AP-9)'!$C$5=\"drum mix plant\",'Asphalt Plant (AP-9)'!Q21,0),IF('Asphalt Plant (AP-10)'!$C$5=\"drum mix plant\",'Asphalt Plant (AP-10)'!Q21,0)))","v":""},null,{"$f":"IF(B9=\"\",\"\",SUM(IF('Asphalt Plant (AP-1)'!$C$5=\"drum mix plant\",'Asphalt Plant (AP-1)'!R21,0),IF('Asphalt Plant (AP-2)'!$C$5=\"drum mix plant\",'Asphalt Plant (AP-2)'!R21,0),IF('Asphalt Plant (AP-3)'!$C$5=\"drum mix plant\",'Asphalt Plant (AP-3)'!R21,0),IF('Asphalt Plant (AP-4)'!$C$5=\"drum mix plant\",'Asphalt Plant (AP-4)'!R21,0),IF('Asphalt Plant (AP-5)'!$C$5=\"drum mix plant\",'Asphalt Plant (AP-5)'!R21,0),IF('Asphalt Plant (AP-6)'!$C$5=\"drum mix plant\",'Asphalt Plant (AP-6)'!R21,0),IF('Asphalt Plant (AP-7)'!$C$5=\"drum mix plant\",'Asphalt Plant (AP-7)'!R21,0),IF('Asphalt Plant (AP-8)'!$C$5=\"drum mix plant\",'Asphalt Plant (AP-8)'!R21,0),IF('Asphalt Plant (AP-9)'!$C$5=\"drum mix plant\",'Asphalt Plant (AP-9)'!R21,0),IF('Asphalt Plant (AP-10)'!$C$5=\"drum mix plant\",'Asphalt Plant (AP-10)'!R21,0)))","v":""},{"$f":"IF(B9=\"\",\"\",SUM(IF('Asphalt Plant (AP-1)'!$C$5=\"drum mix plant\",'Asphalt Plant (AP-1)'!S21,0),IF('Asphalt Plant (AP-2)'!$C$5=\"drum mix plant\",'Asphalt Plant (AP-2)'!S21,0),IF('Asphalt Plant (AP-3)'!$C$5=\"drum mix plant\",'Asphalt Plant (AP-3)'!S21,0),IF('Asphalt Plant (AP-4)'!$C$5=\"drum mix plant\",'Asphalt Plant (AP-4)'!S21,0),IF('Asphalt Plant (AP-5)'!$C$5=\"drum mix plant\",'Asphalt Plant (AP-5)'!S21,0),IF('Asphalt Plant (AP-6)'!$C$5=\"drum mix plant\",'Asphalt Plant (AP-6)'!S21,0),IF('Asphalt Plant (AP-7)'!$C$5=\"drum mix plant\",'Asphalt Plant (AP-7)'!S21,0),IF('Asphalt Plant (AP-8)'!$C$5=\"drum mix plant\",'Asphalt Plant (AP-8)'!S21,0),IF('Asphalt Plant (AP-9)'!$C$5=\"drum mix plant\",'Asphalt Plant (AP-9)'!S21,0),IF('Asphalt Plant (AP-10)'!$C$5=\"drum mix plant\",'Asphalt Plant (AP-10)'!S21,0)))","v":""},{"$f":"IF(B9=\"\",\"\",SUM(IF('Asphalt Plant (AP-1)'!$C$5=\"drum mix plant\",'Asphalt Plant (AP-1)'!T21,0),IF('Asphalt Plant (AP-2)'!$C$5=\"drum mix plant\",'Asphalt Plant (AP-2)'!T21,0),IF('Asphalt Plant (AP-3)'!$C$5=\"drum mix plant\",'Asphalt Plant (AP-3)'!T21,0),IF('Asphalt Plant (AP-4)'!$C$5=\"drum mix plant\",'Asphalt Plant (AP-4)'!T21,0),IF('Asphalt Plant (AP-5)'!$C$5=\"drum mix plant\",'Asphalt Plant (AP-5)'!T21,0),IF('Asphalt Plant (AP-6)'!$C$5=\"drum mix plant\",'Asphalt Plant (AP-6)'!T21,0),IF('Asphalt Plant (AP-7)'!$C$5=\"drum mix plant\",'Asphalt Plant (AP-7)'!T21,0),IF('Asphalt Plant (AP-8)'!$C$5=\"drum mix plant\",'Asphalt Plant (AP-8)'!T21,0),IF('Asphalt Plant (AP-9)'!$C$5=\"drum mix plant\",'Asphalt Plant (AP-9)'!T21,0),IF('Asphalt Plant (AP-10)'!$C$5=\"drum mix plant\",'Asphalt Plant (AP-10)'!T21,0)))","v":""}]
["",{"$f":"IF(D10=\"\",\"\",\"Drum Mix Plant - Fuel Oil\")","v":""},{"$f":"IF(B10=\"\",\"\",\"30500255\")","v":""},{"$f":"IF(SUM(IF('Asphalt Plant (AP-1)'!$C$5=\"drum mix plant\",'Asphalt Plant (AP-1)'!N6,0),IF('Asphalt Plant (AP-2)'!$C$5=\"drum mix plant\",'Asphalt Plant (AP-2)'!N6,0),IF('Asphalt Plant (AP-3)'!$C$5=\"drum mix plant\",'Asphalt Plant (AP-3)'!N6,0),IF('Asphalt Plant (AP-4)'!$C$5=\"drum mix plant\",'Asphalt Plant (AP-4)'!N6,0),IF('Asphalt Plant (AP-5)'!$C$5=\"drum mix plant\",'Asphalt Plant (AP-5)'!N6,0),IF('Asphalt Plant (AP-6)'!$C$5=\"drum mix plant\",'Asphalt Plant (AP-6)'!N6,0),IF('Asphalt Plant (AP-7)'!$C$5=\"drum mix plant\",'Asphalt Plant (AP-7)'!N6,0),IF('Asphalt Plant (AP-8)'!$C$5=\"drum mix plant\",'Asphalt Plant (AP-8)'!N6,0),IF('Asphalt Plant (AP-9)'!$C$5=\"drum mix plant\",'Asphalt Plant (AP-9)'!N6,0),IF('Asphalt Plant (AP-10)'!$C$5=\"drum mix plant\",'Asphalt Plant (AP-10)'!N6,0))>0,SUM(IF('Asphalt Plant (AP-1)'!$C$5=\"drum mix plant\",'Asphalt Plant (AP-1)'!N6,0),IF('Asphalt Plant (AP-2)'!$C$5=\"drum mix plant\",'Asphalt Plant (AP-2)'!N6,0),IF('Asphalt Plant (AP-3)'!$C$5=\"drum mix plant\",'Asphalt Plant (AP-3)'!N6,0),IF('Asphalt Plant (AP-4)'!$C$5=\"drum mix plant\",'Asphalt Plant (AP-4)'!N6,0),IF('Asphalt Plant (AP-5)'!$C$5=\"drum mix plant\",'Asphalt Plant (AP-5)'!N6,0),IF('Asphalt Plant (AP-6)'!$C$5=\"drum mix plant\",'Asphalt Plant (AP-6)'!N6,0),IF('Asphalt Plant (AP-7)'!$C$5=\"drum mix plant\",'Asphalt Plant (AP-7)'!N6,0),IF('Asphalt Plant (AP-8)'!$C$5=\"drum mix plant\",'Asphalt Plant (AP-8)'!N6,0),IF('Asphalt Plant (AP-9)'!$C$5=\"drum mix plant\",'Asphalt Plant (AP-9)'!N6,0),IF('Asphalt Plant (AP-10)'!$C$5=\"drum mix plant\",'Asphalt Plant (AP-10)'!N6,0)),\"\")","v":""},"",{"$f":"IF(B10=\"\",\"\",MAX(IF('Asphalt Plant (AP-1)'!$C$5=\"drum mix plant\",'Asphalt Plant (AP-1)'!O22,0),IF('Asphalt Plant (AP-2)'!$C$5=\"drum mix plant\",'Asphalt Plant (AP-2)'!O22,0),IF('Asphalt Plant (AP-3)'!$C$5=\"drum mix plant\",'Asphalt Plant (AP-3)'!O22,0),IF('Asphalt Plant (AP-4)'!$C$5=\"drum mix plant\",'Asphalt Plant (AP-4)'!O22,0),IF('Asphalt Plant (AP-5)'!$C$5=\"drum mix plant\",'Asphalt Plant (AP-5)'!O22,0),IF('Asphalt Plant (AP-6)'!$C$5=\"drum mix plant\",'Asphalt Plant (AP-6)'!O22,0),IF('Asphalt Plant (AP-7)'!$C$5=\"drum mix plant\",'Asphalt Plant (AP-7)'!O22,0),IF('Asphalt Plant (AP-8)'!$C$5=\"drum mix plant\",'Asphalt Plant (AP-8)'!O22,0),IF('Asphalt Plant (AP-9)'!$C$5=\"drum mix plant\",'Asphalt Plant (AP-9)'!O22,0),IF('Asphalt Plant (AP-10)'!$C$5=\"drum mix plant\",'Asphalt Plant (AP-10)'!O22,0)))","v":""},"",{"$f":"IF(B10=\"\",\"\",\"AP-42 Table 11.1-4,7,8,10\")","v":""},{"$f":"IF(B10=\"\",\"\",SUM(IF('Asphalt Plant (AP-1)'!$C$5=\"drum mix plant\",'Asphalt Plant (AP-1)'!Q22,0),IF('Asphalt Plant (AP-2)'!$C$5=\"drum mix plant\",'Asphalt Plant (AP-2)'!Q22,0),IF('Asphalt Plant (AP-3)'!$C$5=\"drum mix plant\",'Asphalt Plant (AP-3)'!Q22,0),IF('Asphalt Plant (AP-4)'!$C$5=\"drum mix plant\",'Asphalt Plant (AP-4)'!Q22,0),IF('Asphalt Plant (AP-5)'!$C$5=\"drum mix plant\",'Asphalt Plant (AP-5)'!Q22,0),IF('Asphalt Plant (AP-6)'!$C$5=\"drum mix plant\",'Asphalt Plant (AP-6)'!Q22,0),IF('Asphalt Plant (AP-7)'!$C$5=\"drum mix plant\",'Asphalt Plant (AP-7)'!Q22,0),IF('Asphalt Plant (AP-8)'!$C$5=\"drum mix plant\",'Asphalt Plant (AP-8)'!Q22,0),IF('Asphalt Plant (AP-9)'!$C$5=\"drum mix plant\",'Asphalt Plant (AP-9)'!Q22,0),IF('Asphalt Plant (AP-10)'!$C$5=\"drum mix plant\",'Asphalt Plant (AP-10)'!Q22,0)))","v":""},null,{"$f":"IF(B10=\"\",\"\",SUM(IF('Asphalt Plant (AP-1)'!$C$5=\"drum mix plant\",'Asphalt Plant (AP-1)'!R22,0),IF('Asphalt Plant (AP-2)'!$C$5=\"drum mix plant\",'Asphalt Plant (AP-2)'!R22,0),IF('Asphalt Plant (AP-3)'!$C$5=\"drum mix plant\",'Asphalt Plant (AP-3)'!R22,0),IF('Asphalt Plant (AP-4)'!$C$5=\"drum mix plant\",'Asphalt Plant (AP-4)'!R22,0),IF('Asphalt Plant (AP-5)'!$C$5=\"drum mix plant\",'Asphalt Plant (AP-5)'!R22,0),IF('Asphalt Plant (AP-6)'!$C$5=\"drum mix plant\",'Asphalt Plant (AP-6)'!R22,0),IF('Asphalt Plant (AP-7)'!$C$5=\"drum mix plant\",'Asphalt Plant (AP-7)'!R22,0),IF('Asphalt Plant (AP-8)'!$C$5=\"drum mix plant\",'Asphalt Plant (AP-8)'!R22,0),IF('Asphalt Plant (AP-9)'!$C$5=\"drum mix plant\",'Asphalt Plant (AP-9)'!R22,0),IF('Asphalt Plant (AP-10)'!$C$5=\"drum mix plant\",'Asphalt Plant (AP-10)'!R22,0)))","v":""},{"$f":"IF(B10=\"\",\"\",SUM(IF('Asphalt Plant (AP-1)'!$C$5=\"drum mix plant\",'Asphalt Plant (AP-1)'!S22,0),IF('Asphalt Plant (AP-2)'!$C$5=\"drum mix plant\",'Asphalt Plant (AP-2)'!S22,0),IF('Asphalt Plant (AP-3)'!$C$5=\"drum mix plant\",'Asphalt Plant (AP-3)'!S22,0),IF('Asphalt Plant (AP-4)'!$C$5=\"drum mix plant\",'Asphalt Plant (AP-4)'!S22,0),IF('Asphalt Plant (AP-5)'!$C$5=\"drum mix plant\",'Asphalt Plant (AP-5)'!S22,0),IF('Asphalt Plant (AP-6)'!$C$5=\"drum mix plant\",'Asphalt Plant (AP-6)'!S22,0),IF('Asphalt Plant (AP-7)'!$C$5=\"drum mix plant\",'Asphalt Plant (AP-7)'!S22,0),IF('Asphalt Plant (AP-8)'!$C$5=\"drum mix plant\",'Asphalt Plant (AP-8)'!S22,0),IF('Asphalt Plant (AP-9)'!$C$5=\"drum mix plant\",'Asphalt Plant (AP-9)'!S22,0),IF('Asphalt Plant (AP-10)'!$C$5=\"drum mix plant\",'Asphalt Plant (AP-10)'!S22,0)))","v":""},{"$f":"IF(B10=\"\",\"\",SUM(IF('Asphalt Plant (AP-1)'!$C$5=\"drum mix plant\",'Asphalt Plant (AP-1)'!T22,0),IF('Asphalt Plant (AP-2)'!$C$5=\"drum mix plant\",'Asphalt Plant (AP-2)'!T22,0),IF('Asphalt Plant (AP-3)'!$C$5=\"drum mix plant\",'Asphalt Plant (AP-3)'!T22,0),IF('Asphalt Plant (AP-4)'!$C$5=\"drum mix plant\",'Asphalt Plant (AP-4)'!T22,0),IF('Asphalt Plant (AP-5)'!$C$5=\"drum mix plant\",'Asphalt Plant (AP-5)'!T22,0),IF('Asphalt Plant (AP-6)'!$C$5=\"drum mix plant\",'Asphalt Plant (AP-6)'!T22,0),IF('Asphalt Plant (AP-7)'!$C$5=\"drum mix plant\",'Asphalt Plant (AP-7)'!T22,0),IF('Asphalt Plant (AP-8)'!$C$5=\"drum mix plant\",'Asphalt Plant (AP-8)'!T22,0),IF('Asphalt Plant (AP-9)'!$C$5=\"drum mix plant\",'Asphalt Plant (AP-9)'!T22,0),IF('Asphalt Plant (AP-10)'!$C$5=\"drum mix plant\",'Asphalt Plant (AP-10)'!T22,0)))","v":""}]
["",{"$f":"IF(D11=\"\",\"\",\"Drum Mix Plant - Fuel Oil\")","v":""},{"$f":"IF(B11=\"\",\"\",\"30500261\")","v":""},{"$f":"IF(SUM(IF('Asphalt Plant (AP-1)'!$C$5=\"drum mix plant\",'Asphalt Plant (AP-1)'!N7,0),IF('Asphalt Plant (AP-2)'!$C$5=\"drum mix plant\",'Asphalt Plant (AP-2)'!N7,0),IF('Asphalt Plant (AP-3)'!$C$5=\"drum mix plant\",'Asphalt Plant (AP-3)'!N7,0),IF('Asphalt Plant (AP-4)'!$C$5=\"drum mix plant\",'Asphalt Plant (AP-4)'!N7,0),IF('Asphalt Plant (AP-5)'!$C$5=\"drum mix plant\",'Asphalt Plant (AP-5)'!N7,0),IF('Asphalt Plant (AP-6)'!$C$5=\"drum mix plant\",'Asphalt Plant (AP-6)'!N7,0),IF('Asphalt Plant (AP-7)'!$C$5=\"drum mix plant\",'Asphalt Plant (AP-7)'!N7,0),IF('Asphalt Plant (AP-8)'!$C$5=\"drum mix plant\",'Asphalt Plant (AP-8)'!N7,0),IF('Asphalt Plant (AP-9)'!$C$5=\"drum mix plant\",'Asphalt Plant (AP-9)'!N7,0),IF('Asphalt Plant (AP-10)'!$C$5=\"drum mix plant\",'Asphalt Plant (AP-10)'!N7,0))>0,SUM(IF('Asphalt Plant (AP-1)'!$C$5=\"drum mix plant\",'Asphalt Plant (AP-1)'!N7,0),IF('Asphalt Plant (AP-2)'!$C$5=\"drum mix plant\",'Asphalt Plant (AP-2)'!N7,0),IF('Asphalt Plant (AP-3)'!$C$5=\"drum mix plant\",'Asphalt Plant (AP-3)'!N7,0),IF('Asphalt Plant (AP-4)'!$C$5=\"drum mix plant\",'Asphalt Plant (AP-4)'!N7,0),IF('Asphalt Plant (AP-5)'!$C$5=\"drum mix plant\",'Asphalt Plant (AP-5)'!N7,0),IF('Asphalt Plant (AP-6)'!$C$5=\"drum mix plant\",'Asphalt Plant (AP-6)'!N7,0),IF('Asphalt Plant (AP-7)'!$C$5=\"drum mix plant\",'Asphalt Plant (AP-7)'!N7,0),IF('Asphalt Plant (AP-8)'!$C$5=\"drum mix plant\",'Asphalt Plant (AP-8)'!N7,0),IF('Asphalt Plant (AP-9)'!$C$5=\"drum mix plant\",'Asphalt Plant (AP-9)'!N7,0),IF('Asphalt Plant (AP-10)'!$C$5=\"drum mix plant\",'Asphalt Plant (AP-10)'!N7,0)),\"\")","v":""},"",{"$f":"IF(B11=\"\",\"\",MAX(IF('Asphalt Plant (AP-1)'!$C$5=\"drum mix plant\",'Asphalt Plant (AP-1)'!O23,0),IF('Asphalt Plant (AP-2)'!$C$5=\"drum mix plant\",'Asphalt Plant (AP-2)'!O23,0),IF('Asphalt Plant (AP-3)'!$C$5=\"drum mix plant\",'Asphalt Plant (AP-3)'!O23,0),IF('Asphalt Plant (AP-4)'!$C$5=\"drum mix plant\",'Asphalt Plant (AP-4)'!O23,0),IF('Asphalt Plant (AP-5)'!$C$5=\"drum mix plant\",'Asphalt Plant (AP-5)'!O23,0),IF('Asphalt Plant (AP-6)'!$C$5=\"drum mix plant\",'Asphalt Plant (AP-6)'!O23,0),IF('Asphalt Plant (AP-7)'!$C$5=\"drum mix plant\",'Asphalt Plant (AP-7)'!O23,0),IF('Asphalt Plant (AP-8)'!$C$5=\"drum mix plant\",'Asphalt Plant (AP-8)'!O23,0),IF('Asphalt Plant (AP-9)'!$C$5=\"drum mix plant\",'Asphalt Plant (AP-9)'!O23,0),IF('Asphalt Plant (AP-10)'!$C$5=\"drum mix plant\",'Asphalt Plant (AP-10)'!O23,0)))","v":""},"",{"$f":"IF(B11=\"\",\"\",\"AP-42 Table 11.1-4,7,8,10,12\")","v":""},{"$f":"IF(B11=\"\",\"\",SUM(IF('Asphalt Plant (AP-1)'!$C$5=\"drum mix plant\",'Asphalt Plant (AP-1)'!Q23,0),IF('Asphalt Plant (AP-2)'!$C$5=\"drum mix plant\",'Asphalt Plant (AP-2)'!Q23,0),IF('Asphalt Plant (AP-3)'!$C$5=\"drum mix plant\",'Asphalt Plant (AP-3)'!Q23,0),IF('Asphalt Plant (AP-4)'!$C$5=\"drum mix plant\",'Asphalt Plant (AP-4)'!Q23,0),IF('Asphalt Plant (AP-5)'!$C$5=\"drum mix plant\",'Asphalt Plant (AP-5)'!Q23,0),IF('Asphalt Plant (AP-6)'!$C$5=\"drum mix plant\",'Asphalt Plant (AP-6)'!Q23,0),IF('Asphalt Plant (AP-7)'!$C$5=\"drum mix plant\",'Asphalt Plant (AP-7)'!Q23,0),IF('Asphalt Plant (AP-8)'!$C$5=\"drum mix plant\",'Asphalt Plant (AP-8)'!Q23,0),IF('Asphalt Plant (AP-9)'!$C$5=\"drum mix plant\",'Asphalt Plant (AP-9)'!Q23,0),IF('Asphalt Plant (AP-10)'!$C$5=\"drum mix plant\",'Asphalt Plant (AP-10)'!Q23,0)))","v":""},null,{"$f":"IF(B11=\"\",\"\",SUM(IF('Asphalt Plant (AP-1)'!$C$5=\"drum mix plant\",'Asphalt Plant (AP-1)'!R23,0),IF('Asphalt Plant (AP-2)'!$C$5=\"drum mix plant\",'Asphalt Plant (AP-2)'!R23,0),IF('Asphalt Plant (AP-3)'!$C$5=\"drum mix plant\",'Asphalt Plant (AP-3)'!R23,0),IF('Asphalt Plant (AP-4)'!$C$5=\"drum mix plant\",'Asphalt Plant (AP-4)'!R23,0),IF('Asphalt Plant (AP-5)'!$C$5=\"drum mix plant\",'Asphalt Plant (AP-5)'!R23,0),IF('Asphalt Plant (AP-6)'!$C$5=\"drum mix plant\",'Asphalt Plant (AP-6)'!R23,0),IF('Asphalt Plant (AP-7)'!$C$5=\"drum mix plant\",'Asphalt Plant (AP-7)'!R23,0),IF('Asphalt Plant (AP-8)'!$C$5=\"drum mix plant\",'Asphalt Plant (AP-8)'!R23,0),IF('Asphalt Plant (AP-9)'!$C$5=\"drum mix plant\",'Asphalt Plant (AP-9)'!R23,0),IF('Asphalt Plant (AP-10)'!$C$5=\"drum mix plant\",'Asphalt Plant (AP-10)'!R23,0)))","v":""},{"$f":"IF(B11=\"\",\"\",SUM(IF('Asphalt Plant (AP-1)'!$C$5=\"drum mix plant\",'Asphalt Plant (AP-1)'!S23,0),IF('Asphalt Plant (AP-2)'!$C$5=\"drum mix plant\",'Asphalt Plant (AP-2)'!S23,0),IF('Asphalt Plant (AP-3)'!$C$5=\"drum mix plant\",'Asphalt Plant (AP-3)'!S23,0),IF('Asphalt Plant (AP-4)'!$C$5=\"drum mix plant\",'Asphalt Plant (AP-4)'!S23,0),IF('Asphalt Plant (AP-5)'!$C$5=\"drum mix plant\",'Asphalt Plant (AP-5)'!S23,0),IF('Asphalt Plant (AP-6)'!$C$5=\"drum mix plant\",'Asphalt Plant (AP-6)'!S23,0),IF('Asphalt Plant (AP-7)'!$C$5=\"drum mix plant\",'Asphalt Plant (AP-7)'!S23,0),IF('Asphalt Plant (AP-8)'!$C$5=\"drum mix plant\",'Asphalt Plant (AP-8)'!S23,0),IF('Asphalt Plant (AP-9)'!$C$5=\"drum mix plant\",'Asphalt Plant (AP-9)'!S23,0),IF('Asphalt Plant (AP-10)'!$C$5=\"drum mix plant\",'Asphalt Plant (AP-10)'!S23,0)))","v":""},{"$f":"IF(B11=\"\",\"\",SUM(IF('Asphalt Plant (AP-1)'!$C$5=\"drum mix plant\",'Asphalt Plant (AP-1)'!T23,0),IF('Asphalt Plant (AP-2)'!$C$5=\"drum mix plant\",'Asphalt Plant (AP-2)'!T23,0),IF('Asphalt Plant (AP-3)'!$C$5=\"drum mix plant\",'Asphalt Plant (AP-3)'!T23,0),IF('Asphalt Plant (AP-4)'!$C$5=\"drum mix plant\",'Asphalt Plant (AP-4)'!T23,0),IF('Asphalt Plant (AP-5)'!$C$5=\"drum mix plant\",'Asphalt Plant (AP-5)'!T23,0),IF('Asphalt Plant (AP-6)'!$C$5=\"drum mix plant\",'Asphalt Plant (AP-6)'!T23,0),IF('Asphalt Plant (AP-7)'!$C$5=\"drum mix plant\",'Asphalt Plant (AP-7)'!T23,0),IF('Asphalt Plant (AP-8)'!$C$5=\"drum mix plant\",'Asphalt Plant (AP-8)'!T23,0),IF('Asphalt Plant (AP-9)'!$C$5=\"drum mix plant\",'Asphalt Plant (AP-9)'!T23,0),IF('Asphalt Plant (AP-10)'!$C$5=\"drum mix plant\",'Asphalt Plant (AP-10)'!T23,0)))","v":""}]
[{"$f":"IF(SUM('Asphalt Plant (AP-1)'!N24,'Asphalt Plant (AP-2)'!N24,'Asphalt Plant (AP-3)'!N24,'Asphalt Plant (AP-4)'!N24,'Asphalt Plant (AP-5)'!N24,'Asphalt Plant (AP-6)'!N24,'Asphalt Plant (AP-7)'!N24,'Asphalt Plant (AP-8)'!N24,'Asphalt Plant (AP-9)'!N24,'Asphalt Plant (AP-10)'!N24)>0,\"ALL\",\"\")","v":""},{"$f":"IF(SUM('Asphalt Plant (AP-1)'!N24,'Asphalt Plant (AP-2)'!N24,'Asphalt Plant (AP-3)'!N24,'Asphalt Plant (AP-4)'!N24,'Asphalt Plant (AP-5)'!N24,'Asphalt Plant (AP-6)'!N24,'Asphalt Plant (AP-7)'!N24,'Asphalt Plant (AP-8)'!N24,'Asphalt Plant (AP-9)'!N24,'Asphalt Plant (AP-10)'!N24)>0,\"Silo Filling\",\"\")","v":""},{"$f":"IF(B12=\"\",\"\",\"30500213\")","v":""},{"$f":"IF(SUM('Asphalt Plant (AP-1)'!N11,'Asphalt Plant (AP-2)'!N11,'Asphalt Plant (AP-3)'!N11,'Asphalt Plant (AP-4)'!N11,'Asphalt Plant (AP-5)'!N11,'Asphalt Plant (AP-6)'!N11,'Asphalt Plant (AP-7)'!N11,'Asphalt Plant (AP-8)'!N11,'Asphalt Plant (AP-9)'!N11,'Asphalt Plant (AP-10)'!N11)>0,SUM('Asphalt Plant (AP-1)'!N11,'Asphalt Plant (AP-2)'!N11,'Asphalt Plant (AP-3)'!N11,'Asphalt Plant (AP-4)'!N11,'Asphalt Plant (AP-5)'!N11,'Asphalt Plant (AP-6)'!N11,'Asphalt Plant (AP-7)'!N11,'Asphalt Plant (AP-8)'!N11,'Asphalt Plant (AP-9)'!N11,'Asphalt Plant (AP-10)'!N11),\"\")","v":""},{"$f":"IF(B12=\"\",\"\",\"tons/hr\")","v":""},{"$f":"IF(B12=\"\",\"\",LOOKUP(B12,'Emission Factors'!$A$23:$A$25,'Emission Factors'!$D$23:$D$25))","v":""},{"$f":"IF(B12=\"\",\"\",\"lb/ton\")","v":""},{"$f":"IF(B12=\"\",\"\",LOOKUP(B12,'Emission Factors'!$A$23:$A$25,'Emission Factors'!$C$23:$C$25))","v":""},{"$f":"IF(D12=\"\",\"\",SUM('Asphalt Plant (AP-1)'!Q24,'Asphalt Plant (AP-2)'!Q24,'Asphalt Plant (AP-3)'!Q24,'Asphalt Plant (AP-4)'!Q24,'Asphalt Plant (AP-5)'!Q24,'Asphalt Plant (AP-6)'!Q24,'Asphalt Plant (AP-7)'!Q24,'Asphalt Plant (AP-8)'!Q24,'Asphalt Plant (AP-9)'!Q24,'Asphalt Plant (AP-10)'!Q24))","v":""},null,null,{"$f":"IF(B12=\"\",\"\",SUM('Asphalt Plant (AP-1)'!S24,'Asphalt Plant (AP-2)'!S24,'Asphalt Plant (AP-3)'!S24,'Asphalt Plant (AP-4)'!S24,'Asphalt Plant (AP-5)'!S24,'Asphalt Plant (AP-6)'!S24,'Asphalt Plant (AP-7)'!S24,'Asphalt Plant (AP-8)'!S24,'Asphalt Plant (AP-9)'!S24,'Asphalt Plant (AP-10)'!S24,))","v":""},{"$f":"IF(B12=\"\",\"\",SUM('Asphalt Plant (AP-1)'!T24,'Asphalt Plant (AP-2)'!T24,'Asphalt Plant (AP-3)'!T24,'Asphalt Plant (AP-4)'!T24,'Asphalt Plant (AP-5)'!T24,'Asphalt Plant (AP-6)'!T24,'Asphalt Plant (AP-7)'!T24,'Asphalt Plant (AP-8)'!T24,'Asphalt Plant (AP-9)'!T24,'Asphalt Plant (AP-10)'!T24,))","v":""}]
[{"$f":"IF(SUM('Asphalt Plant (AP-1)'!N25,'Asphalt Plant (AP-2)'!N25,'Asphalt Plant (AP-3)'!N25,'Asphalt Plant (AP-4)'!N25,'Asphalt Plant (AP-5)'!N25,'Asphalt Plant (AP-6)'!N25,'Asphalt Plant (AP-7)'!N25,'Asphalt Plant (AP-8)'!N25,'Asphalt Plant (AP-9)'!N25,'Asphalt Plant (AP-10)'!N25)>0,\"ALL\",\"\")","v":""},{"$f":"IF(SUM('Asphalt Plant (AP-1)'!N25,'Asphalt Plant (AP-2)'!N25,'Asphalt Plant (AP-3)'!N25,'Asphalt Plant (AP-4)'!N25,'Asphalt Plant (AP-5)'!N25,'Asphalt Plant (AP-6)'!N25,'Asphalt Plant (AP-7)'!N25,'Asphalt Plant (AP-8)'!N25,'Asphalt Plant (AP-9)'!N25,'Asphalt Plant (AP-10)'!N25)>0,\"Truck Loadout\",\"\")","v":""},{"$f":"IF(B13=\"\",\"\",\"30500214\")","v":""},{"$f":"IF(SUM('Asphalt Plant (AP-1)'!N12,'Asphalt Plant (AP-2)'!N12,'Asphalt Plant (AP-3)'!N12,'Asphalt Plant (AP-4)'!N12,'Asphalt Plant (AP-5)'!N12,'Asphalt Plant (AP-6)'!N12,'Asphalt Plant (AP-7)'!N12,'Asphalt Plant (AP-8)'!N12,'Asphalt Plant (AP-9)'!N12,'Asphalt Plant (AP-10)'!N12)>0,SUM('Asphalt Plant (AP-1)'!N12,'Asphalt Plant (AP-2)'!N12,'Asphalt Plant (AP-3)'!N12,'Asphalt Plant (AP-4)'!N12,'Asphalt Plant (AP-5)'!N12,'Asphalt Plant (AP-6)'!N12,'Asphalt Plant (AP-7)'!N12,'Asphalt Plant (AP-8)'!N12,'Asphalt Plant (AP-9)'!N12,'Asphalt Plant (AP-10)'!N12),\"\")","v":""},{"$f":"IF(B13=\"\",\"\",\"tons/hr\")","v":""},{"$f":"IF(B13=\"\",\"\",LOOKUP(B13,'Emission Factors'!$A$23:$A$25,'Emission Factors'!$D$23:$D$25))","v":""},{"$f":"IF(B13=\"\",\"\",\"lb/ton\")","v":""},{"$f":"IF(B13=\"\",\"\",LOOKUP(B13,'Emission Factors'!$A$23:$A$25,'Emission Factors'!$C$23:$C$25))","v":""},{"$f":"IF(D13=\"\",\"\",SUM('Asphalt Plant (AP-1)'!Q25,'Asphalt Plant (AP-2)'!Q25,'Asphalt Plant (AP-3)'!Q25,'Asphalt Plant (AP-4)'!Q25,'Asphalt Plant (AP-5)'!Q25,'Asphalt Plant (AP-6)'!Q25,'Asphalt Plant (AP-7)'!Q25,'Asphalt Plant (AP-8)'!Q25,'Asphalt Plant (AP-9)'!Q25,'Asphalt Plant (AP-10)'!Q25))","v":""},null,null,{"$f":"IF(B13=\"\",\"\",SUM('Asphalt Plant (AP-1)'!S25,'Asphalt Plant (AP-2)'!S25,'Asphalt Plant (AP-3)'!S25,'Asphalt Plant (AP-4)'!S25,'Asphalt Plant (AP-5)'!S25,'Asphalt Plant (AP-6)'!S25,'Asphalt Plant (AP-7)'!S25,'Asphalt Plant (AP-8)'!S25,'Asphalt Plant (AP-9)'!S25,'Asphalt Plant (AP-10)'!S25,))","v":""},{"$f":"IF(B13=\"\",\"\",SUM('Asphalt Plant (AP-1)'!T25,'Asphalt Plant (AP-2)'!T25,'Asphalt Plant (AP-3)'!T25,'Asphalt Plant (AP-4)'!T25,'Asphalt Plant (AP-5)'!T25,'Asphalt Plant (AP-6)'!T25,'Asphalt Plant (AP-7)'!T25,'Asphalt Plant (AP-8)'!T25,'Asphalt Plant (AP-9)'!T25,'Asphalt Plant (AP-10)'!T25,))","v":""}]
[{"$f":"IF(SUM('Asphalt Plant (AP-1)'!N26,'Asphalt Plant (AP-2)'!N26,'Asphalt Plant (AP-3)'!N26,'Asphalt Plant (AP-4)'!N26,'Asphalt Plant (AP-5)'!N26,'Asphalt Plant (AP-6)'!N26,'Asphalt Plant (AP-7)'!N26,'Asphalt Plant (AP-8)'!N26,'Asphalt Plant (AP-9)'!N26,'Asphalt Plant (AP-10)'!N26)>0,\"ALL\",\"\")","v":""},{"$f":"IF(SUM('Asphalt Plant (AP-1)'!N26,'Asphalt Plant (AP-2)'!N26,'Asphalt Plant (AP-3)'!N26,'Asphalt Plant (AP-4)'!N26,'Asphalt Plant (AP-5)'!N26,'Asphalt Plant (AP-6)'!N26,'Asphalt Plant (AP-7)'!N26,'Asphalt Plant (AP-8)'!N26,'Asphalt Plant (AP-9)'!N26,'Asphalt Plant (AP-10)'!N26)>0,\"Cold Aggregate Bins\",\"\")","v":""},{"$f":"IF(B14=\"\",\"\",\"30500204\")","v":""},{"$f":"IF(SUM('Asphalt Plant (AP-1)'!N13,'Asphalt Plant (AP-2)'!N13,'Asphalt Plant (AP-3)'!N13,'Asphalt Plant (AP-4)'!N13,'Asphalt Plant (AP-5)'!N13,'Asphalt Plant (AP-6)'!N13,'Asphalt Plant (AP-7)'!N13,'Asphalt Plant (AP-8)'!N13,'Asphalt Plant (AP-9)'!N13,'Asphalt Plant (AP-10)'!N13)>0,SUM('Asphalt Plant (AP-1)'!N13,'Asphalt Plant (AP-2)'!N13,'Asphalt Plant (AP-3)'!N13,'Asphalt Plant (AP-4)'!N13,'Asphalt Plant (AP-5)'!N13,'Asphalt Plant (AP-6)'!N13,'Asphalt Plant (AP-7)'!N13,'Asphalt Plant (AP-8)'!N13,'Asphalt Plant (AP-9)'!N13,'Asphalt Plant (AP-10)'!N13),\"\")","v":""},{"$f":"IF(B14=\"\",\"\",\"tons/hr\")","v":""},{"$f":"IF(B14=\"\",\"\",LOOKUP(B14,'Emission Factors'!$A$23:$A$25,'Emission Factors'!$D$23:$D$25))","v":""},{"$f":"IF(B14=\"\",\"\",\"lb/ton\")","v":""},{"$f":"IF(B14=\"\",\"\",LOOKUP(B14,'Emission Factors'!$A$23:$A$25,'Emission Factors'!$C$23:$C$25))","v":""},{"$f":"IF(D14=\"\",\"\",SUM('Asphalt Plant (AP-1)'!Q26,'Asphalt Plant (AP-2)'!Q26,'Asphalt Plant (AP-3)'!Q26,'Asphalt Plant (AP-4)'!Q26,'Asphalt Plant (AP-5)'!Q26,'Asphalt Plant (AP-6)'!Q26,'Asphalt Plant (AP-7)'!Q26,'Asphalt Plant (AP-8)'!Q26,'Asphalt Plant (AP-9)'!Q26,'Asphalt Plant (AP-10)'!Q26))","v":""},null,null,{"$f":"IF(B14=\"\",\"\",SUM('Asphalt Plant (AP-1)'!S26,'Asphalt Plant (AP-2)'!S26,'Asphalt Plant (AP-3)'!S26,'Asphalt Plant (AP-4)'!S26,'Asphalt Plant (AP-5)'!S26,'Asphalt Plant (AP-6)'!S26,'Asphalt Plant (AP-7)'!S26,'Asphalt Plant (AP-8)'!S26,'Asphalt Plant (AP-9)'!S26,'Asphalt Plant (AP-10)'!S26,))","v":""},{"$f":"IF(B14=\"\",\"\",SUM('Asphalt Plant (AP-1)'!T26,'Asphalt Plant (AP-2)'!T26,'Asphalt Plant (AP-3)'!T26,'Asphalt Plant (AP-4)'!T26,'Asphalt Plant (AP-5)'!T26,'Asphalt Plant (AP-6)'!T26,'Asphalt Plant (AP-7)'!T26,'Asphalt Plant (AP-8)'!T26,'Asphalt Plant (AP-9)'!T26,'Asphalt Plant (AP-10)'!T26,))","v":""}]
[{"$f":"IF(SUM('Asphalt Plant (AP-1)'!O37,'Asphalt Plant (AP-2)'!O37,'Asphalt Plant (AP-3)'!O37,'Asphalt Plant (AP-4)'!O37,'Asphalt Plant (AP-5)'!O37,'Asphalt Plant (AP-6)'!O37,'Asphalt Plant (AP-7)'!O37,'Asphalt Plant (AP-8)'!O37,'Asphalt Plant (AP-9)'!O37,'Asphalt Plant (AP-10)'!O37)>0,\"ALL\",\"\")","v":""},{"$f":"IF(SUM('Asphalt Plant (AP-1)'!O37,'Asphalt Plant (AP-2)'!O37,'Asphalt Plant (AP-3)'!O37,'Asphalt Plant (AP-4)'!O37,'Asphalt Plant (AP-5)'!O37,'Asphalt Plant (AP-6)'!O37,'Asphalt Plant (AP-7)'!O37,'Asphalt Plant (AP-8)'!O37,'Asphalt Plant (AP-9)'!O37,'Asphalt Plant (AP-10)'!O37)>0,\"Storage Piles\",\"\")","v":""},{"$f":"IF(B15=\"\",\"\",\"30500203\")","v":""},{"$f":"IF(B15=\"\",\"\",SUM('Asphalt Plant (AP-1)'!O37,'Asphalt Plant (AP-2)'!O37,'Asphalt Plant (AP-3)'!O37,'Asphalt Plant (AP-4)'!O37,'Asphalt Plant (AP-5)'!O37,'Asphalt Plant (AP-6)'!O37,'Asphalt Plant (AP-7)'!O37,'Asphalt Plant (AP-8)'!O37,'Asphalt Plant (AP-9)'!O37,'Asphalt Plant (AP-10)'!O37))","v":""},{"$f":"IF(B15=\"\",\"\",\"acre/day\")","v":""},{"$f":"IF(B15=\"\",\"\",3.64)","v":""},{"$f":"IF(B15=\"\",\"\",\"lb/acre-day\")","v":""},{"$f":"IF(B15=\"\",\"\",\"WebFIRE\")","v":""},{"$f":"IF(B15=\"\",\"\",SUM('Asphalt Plant (AP-1)'!Q37,'Asphalt Plant (AP-2)'!Q37,'Asphalt Plant (AP-3)'!Q37,'Asphalt Plant (AP-4)'!Q37,'Asphalt Plant (AP-5)'!Q37,'Asphalt Plant (AP-6)'!Q37,'Asphalt Plant (AP-7)'!Q37,'Asphalt Plant (AP-8)'!Q37,'Asphalt Plant (AP-9)'!Q37,'Asphalt Plant (AP-10)'!Q37))","v":""},null,null,{"$f":"IF(B15=\"\",\"\",SUM('Asphalt Plant (AP-1)'!S37,'Asphalt Plant (AP-2)'!S37,'Asphalt Plant (AP-3)'!S37,'Asphalt Plant (AP-4)'!S37,'Asphalt Plant (AP-5)'!S37,'Asphalt Plant (AP-6)'!S37,'Asphalt Plant (AP-7)'!S37,'Asphalt Plant (AP-8)'!S37,'Asphalt Plant (AP-9)'!S37,'Asphalt Plant (AP-10)'!S37))","v":""},{"$f":"IF(B15=\"\",\"\",SUM('Asphalt Plant (AP-1)'!T37,'Asphalt Plant (AP-2)'!T37,'Asphalt Plant (AP-3)'!T37,'Asphalt Plant (AP-4)'!T37,'Asphalt Plant (AP-5)'!T37,'Asphalt Plant (AP-6)'!T37,'Asphalt Plant (AP-7)'!T37,'Asphalt Plant (AP-8)'!T37,'Asphalt Plant (AP-9)'!T37,'Asphalt Plant (AP-10)'!T37))","v":""}]
[{"$f":"IF('Haul Roads'!L44=0,\"\",\"ALL\")","v":""},{"$f":"IF('Haul Roads'!L44=0,\"\",\"Unpaved Haul Roads\")","v":""},{"$f":"IF('Haul Roads'!L44=0,\"\",\"30205054\")","v":""},{"$f":"IF(F16=\"\",\"\",'Haul Roads'!P39*'Haul Roads'!L39/8760)","v":""},{"$f":"IF(B16=\"\",\"\",\"vmt/hr\")","v":""},{"$f":"IF(B16=\"\",\"\",'Haul Roads'!U39)","v":""},{"$f":"IF(F16=\"\",\"\",\"lb/vmt\")","v":""},{"$f":"IF(F16=\"\",\"\",\"AP-42 Ch 13.2.2\")","v":""},{"$f":"IF(F16=\"\",\"\",D16*F16)","v":""},{"$f":"IF(SUM('Haul Roads'!W9:W38)>0,40,\"\")","v":""},{"$f":"IF(SUM('Haul Roads'!W9:W38)>0,(SUM('Haul Roads'!W9:W38)),\"\")","v":""},{"$f":"IF(AND((SUM('Haul Roads'!$M$9:$M$38)>0),'Haul Roads'!L42>0),SUM('Haul Roads'!$AL$9:$AL$18),IF(B16=\"\",\"\",'Haul Roads'!L42))","v":""},{"$f":"IF(AND((SUM('Haul Roads'!$M$9:$M$38)>0),'Haul Roads'!L47>0),SUM('Haul Roads'!$AM$9:$AM$18),IF(B16=\"\",\"\",'Haul Roads'!L47))","v":""}]
[{"$f":"IF('Haul Roads'!L45=0,\"\",\"ALL\")","v":""},{"$f":"IF('Haul Roads'!L45=0,\"\",\"Paved Haul Roads\")","v":""},{"$f":"IF('Haul Roads'!L45=0,\"\",\"30205054\")","v":""},{"$f":"IF(F17=\"\",\"\",'Haul Roads'!P40*'Haul Roads'!L40/8760)","v":""},{"$f":"IF(B17=\"\",\"\",\"vmt/hr\")","v":""},{"$f":"IF(B17=\"\",\"\",'Haul Roads'!U40)","v":""},{"$f":"IF(F17=\"\",\"\",\"lb/vmt\")","v":""},{"$f":"IF(F17=\"\",\"\",\"AP-42 Ch 13.2.1\")","v":""},{"$f":"IF(F17=\"\",\"\",D17*F17)","v":""},null,null,{"$f":"IF(B17=\"\",\"\",IF(AND((SUM('Haul Roads'!$M$9:$M$38)>0),'Haul Roads'!L43>0,'Haul Roads'!L42>0),\"\",IF(AND((SUM('Haul Roads'!$M$9:$M$38)>0),'Haul Roads'!L43>0),SUM('Haul Roads'!$AL$9:$AL$18),'Haul Roads'!L43)))","v":""},{"$f":"IF(B17=\"\",\"\",IF(AND((SUM('Haul Roads'!$M$9:$M$38)>0),'Haul Roads'!L48>0,'Haul Roads'!L47>0),\"\",IF(AND((SUM('Haul Roads'!$M$9:$M$38)>0),'Haul Roads'!L48>0),SUM('Haul Roads'!$AM$9:$AM$18),'Haul Roads'!L48)))","v":""}]
[{"$f":"IF('Permitted Diesel Engines'!R51=0,\"\",\"ALL\")","v":""},{"$f":"IF('Permitted Diesel Engines'!R51=0,\"\",\"Diesel Generator ≤ 600 bhp\")","v":""},{"$f":"IF('Permitted Diesel Engines'!R51=0,\"\",LOOKUP(B18,'Emission Factors'!A43:A44,'Emission Factors'!B43:B44))","v":""},{"$f":"IF('Permitted Diesel Engines'!R51=0,\"\",'Permitted Diesel Engines'!R51)","v":""},{"$f":"IF(B18=\"\",\"\",\"MMBtu/hr\")","v":""},{"$f":"IF(B18=\"\",\"\",LOOKUP(B18,'Emission Factors'!$A$43:$A$44,'Emission Factors'!$D$43:$D$44))","v":""},{"$f":"IF(B18=\"\",\"\",LOOKUP(B18,'Emission Factors'!$A$43:$A$44,'Emission Factors'!$C$43:$C$44))","v":""},{"$f":"IF(B18=\"\",\"\",LOOKUP(B18,'Emission Factors'!$A$43:$A$44,'Emission Factors'!$E$43:$E$44))","v":""},{"$f":"IF(B18=\"\",\"\",'Emission Calculations'!D18*'Emission Calculations'!F18)","v":""},null,null,{"$f":"IF(F18=\"\",\"\",'Permitted Diesel Engines'!$Z$78)","v":""},{"$f":"IF(B18=\"\",\"\",'Permitted Diesel Engines'!$T$51*F18/2000)","v":""}]
[{"$f":"IF('Permitted Diesel Engines'!R52=0,\"\",\"ALL\")","v":""},{"$f":"IF('Permitted Diesel Engines'!R52=0,\"\",\"Diesel Generator> 600 bhp\")","v":""},{"$f":"IF('Permitted Diesel Engines'!R52=0,\"\",LOOKUP(B19,'Emission Factors'!$A$43:$A$44,'Emission Factors'!$B$43:$B$44))","v":""},{"$f":"IF('Permitted Diesel Engines'!R52=0,\"\",'Permitted Diesel Engines'!R52)","v":""},{"$f":"IF(B19=\"\",\"\",\"MMBtu/hr\")","v":""},{"$f":"IF(B19=\"\",\"\",LOOKUP(B19,'Emission Factors'!$A$43:$A$44,'Emission Factors'!$D$43:$D$44))","v":""},{"$f":"IF(B19=\"\",\"\",LOOKUP(B19,'Emission Factors'!$A$43:$A$44,'Emission Factors'!$C$43:$C$44))","v":""},{"$f":"IF(B19=\"\",\"\",LOOKUP(B19,'Emission Factors'!$A$43:$A$44,'Emission Factors'!$E$43:$E$44))","v":""},{"$f":"IF(B19=\"\",\"\",'Emission Calculations'!D19*'Emission Calculations'!F19)","v":""},null,null,{"$f":"IF(F19=\"\",\"\",'Permitted Diesel Engines'!$AA$78)","v":""},{"$f":"IF(B19=\"\",\"\",'Permitted Diesel Engines'!$T$52*F19/2000)","v":""}]
[null,null,null,null,null,null,null,null,null,null,"FACILITY TOTALS:",{"$f":"SUM(L6:L19)","v":0},{"$f":"SUM(M6:M19)","v":0}]
[]
["PM10",null,null,null,null,null,null,null,"Potential Hourly Uncontrolled Emissions(lb/hr)",null,"Potential Hourly Controlled Emissions (lb/hr)","Potential Annual Emissions (tons/yr)","Actual Emissions (tons/yr)"]
["EP","Description of Process","SCC #","Max Design Rate","Units of Measure","Emission Factor","Units of Measure","Source of Emission Factor",null,"Control Efficiency"]
[]
[{"$f":"IF(D25=\"\",\"\",\"ALL\")","v":""},{"$f":"IF(D25=\"\",\"\",\"Batch Mix Plant - Fuel Oil\")","v":""},{"$f":"IF(B25=\"\",\"\",\"30500246\")","v":""},{"$f":"IF(SUM(IF('Asphalt Plant (AP-1)'!$C$5=\"batch mix plant\",'Asphalt Plant (AP-1)'!N5,0),IF('Asphalt Plant (AP-2)'!$C$5=\"batch mix plant\",'Asphalt Plant (AP-2)'!N5,0),IF('Asphalt Plant (AP-3)'!$C$5=\"batch mix plant\",'Asphalt Plant (AP-3)'!N5,0),IF('Asphalt Plant (AP-4)'!$C$5=\"batch mix plant\",'Asphalt Plant (AP-4)'!N5,0),IF('Asphalt Plant (AP-5)'!$C$5=\"batch mix plant\",'Asphalt Plant (AP-5)'!N5,0),IF('Asphalt Plant (AP-6)'!$C$5=\"batch mix plant\",'Asphalt Plant (AP-6)'!N5,0),IF('Asphalt Plant (AP-7)'!$C$5=\"batch mix plant\",'Asphalt Plant (AP-7)'!N5,0),IF('Asphalt Plant (AP-8)'!$C$5=\"batch mix plant\",'Asphalt Plant (AP-8)'!N5,0),IF('Asphalt Plant (AP-9)'!$C$5=\"batch mix plant\",'Asphalt Plant (AP-9)'!N5,0),IF('Asphalt Plant (AP-10)'!$C$5=\"batch mix plant\",'Asphalt Plant (AP-10)'!N5,0))>0,SUM(IF('Asphalt Plant (AP-1)'!$C$5=\"batch mix plant\",'Asphalt Plant (AP-1)'!N5,0),IF('Asphalt Plant (AP-2)'!$C$5=\"batch mix plant\",'Asphalt Plant (AP-2)'!N5,0),IF('Asphalt Plant (AP-3)'!$C$5=\"batch mix plant\",'Asphalt Plant (AP-3)'!N5,0),IF('Asphalt Plant (AP-4)'!$C$5=\"batch mix plant\",'Asphalt Plant (AP-4)'!N5,0),IF('Asphalt Plant (AP-5)'!$C$5=\"batch mix plant\",'Asphalt Plant (AP-5)'!N5,0),IF('Asphalt Plant (AP-6)'!$C$5=\"batch mix plant\",'Asphalt Plant (AP-6)'!N5,0),IF('Asphalt Plant (AP-7)'!$C$5=\"batch mix plant\",'Asphalt Plant (AP-7)'!N5,0),IF('Asphalt Plant (AP-8)'!$C$5=\"batch mix plant\",'Asphalt Plant (AP-8)'!N5,0),IF('Asphalt Plant (AP-9)'!$C$5=\"batch mix plant\",'Asphalt Plant (AP-9)'!N5,0),IF('Asphalt Plant (AP-10)'!$C$5=\"batch mix plant\",'Asphalt Plant (AP-10)'!N5,0)),\"\")","v":""},{"$f":"IF(B25=\"\",\"\",\"tons/hr\")","v":""},{"$f":"IF(B25=\"\",\"\",MAX(IF('Asphalt Plant (AP-1)'!$C$5=\"batch mix plant\",'Asphalt Plant (AP-1)'!O28,0),IF('Asphalt Plant (AP-2)'!$C$5=\"batch mix plant\",'Asphalt Plant (AP-2)'!O28,0),IF('Asphalt Plant (AP-3)'!$C$5=\"batch mix plant\",'Asphalt Plant (AP-3)'!O28,0),IF('Asphalt Plant (AP-4)'!$C$5=\"batch mix plant\",'Asphalt Plant (AP-4)'!O28,0),IF('Asphalt Plant (AP-5)'!$C$5=\"batch mix plant\",'Asphalt Plant (AP-5)'!O28,0),IF('Asphalt Plant (AP-6)'!$C$5=\"batch mix plant\",'Asphalt Plant (AP-6)'!O28,0),IF('Asphalt Plant (AP-7)'!$C$5=\"batch mix plant\",'Asphalt Plant (AP-7)'!O28,0),IF('Asphalt Plant (AP-8)'!$C$5=\"batch mix plant\",'Asphalt Plant (AP-8)'!O28,0),IF('Asphalt Plant (AP-9)'!$C$5=\"batch mix plant\",'Asphalt Plant (AP-9)'!O28,0),IF('Asphalt Plant (AP-10)'!$C$5=\"batch mix plant\",'Asphalt Plant (AP-10)'!O28,0)))","v":""},{"$f":"IF(B25=\"\",\"\",\"lb/ton\")","v":""},{"$f":"IF(B25=\"\",\"\",\"AP-42 Table 11.1-2,5,6,9\")","v":""},{"$f":"IF(B25=\"\",\"\",SUM(IF('Asphalt Plant (AP-1)'!$C$5=\"batch mix plant\",'Asphalt Plant (AP-1)'!Q28,0),IF('Asphalt Plant (AP-2)'!$C$5=\"batch mix plant\",'Asphalt Plant (AP-2)'!Q28,0),IF('Asphalt Plant (AP-3)'!$C$5=\"batch mix plant\",'Asphalt Plant (AP-3)'!Q28,0),IF('Asphalt Plant (AP-4)'!$C$5=\"batch mix plant\",'Asphalt Plant (AP-4)'!Q28,0),IF('Asphalt Plant (AP-5)'!$C$5=\"batch mix plant\",'Asphalt Plant (AP-5)'!Q28,0),IF('Asphalt Plant (AP-6)'!$C$5=\"batch mix plant\",'Asphalt Plant (AP-6)'!Q28,0),IF('Asphalt Plant (AP-7)'!$C$5=\"batch mix plant\",'Asphalt Plant (AP-7)'!Q28,0),IF('Asphalt Plant (AP-8)'!$C$5=\"batch mix plant\",'Asphalt Plant (AP-8)'!Q28,0),IF('Asphalt Plant (AP-9)'!$C$5=\"batch mix plant\",'Asphalt Plant (AP-9)'!Q28,0),IF('Asphalt Plant (AP-10)'!$C$5=\"batch mix plant\",'Asphalt Plant (AP-10)'!Q28,0)))","v":""},null,{"$f":"IF(B25=\"\",\"\",SUM(IF('Asphalt Plant (AP-1)'!$C$5=\"batch mix plant\",'Asphalt Plant (AP-1)'!R28,0),IF('Asphalt Plant (AP-2)'!$C$5=\"batch mix plant\",'Asphalt Plant (AP-2)'!R28,0),IF('Asphalt Plant (AP-3)'!$C$5=\"batch mix plant\",'Asphalt Plant (AP-3)'!R28,0),IF('Asphalt Plant (AP-4)'!$C$5=\"batch mix plant\",'Asphalt Plant (AP-4)'!R28,0),IF('Asphalt Plant (AP-5)'!$C$5=\"batch mix plant\",'Asphalt Plant (AP-5)'!R28,0),IF('Asphalt Plant (AP-6)'!$C$5=\"batch mix plant\",'Asphalt Plant (AP-6)'!R28,0),IF('Asphalt Plant (AP-7)'!$C$5=\"batch mix plant\",'Asphalt Plant (AP-7)'!R28,0),IF('Asphalt Plant (AP-8)'!$C$5=\"batch mix plant\",'Asphalt Plant (AP-8)'!R28,0),IF('Asphalt Plant (AP-9)'!$C$5=\"batch mix plant\",'Asphalt Plant (AP-9)'!R28,0),IF('Asphalt Plant (AP-10)'!$C$5=\"batch mix plant\",'Asphalt Plant (AP-10)'!R28,0)))","v":""},{"$f":"IF(B25=\"\",\"\",SUM(IF('Asphalt Plant (AP-1)'!$C$5=\"batch mix plant\",'Asphalt Plant (AP-1)'!S28,0),IF('Asphalt Plant (AP-2)'!$C$5=\"batch mix plant\",'Asphalt Plant (AP-2)'!S28,0),IF('Asphalt Plant (AP-3)'!$C$5=\"batch mix plant\",'Asphalt Plant (AP-3)'!S28,0),IF('Asphalt Plant (AP-4)'!$C$5=\"batch mix plant\",'Asphalt Plant (AP-4)'!S28,0),IF('Asphalt Plant (AP-5)'!$C$5=\"batch mix plant\",'Asphalt Plant (AP-5)'!S28,0),IF('Asphalt Plant (AP-6)'!$C$5=\"batch mix plant\",'Asphalt Plant (AP-6)'!S28,0),IF('Asphalt Plant (AP-7)'!$C$5=\"batch mix plant\",'Asphalt Plant (AP-7)'!S28,0),IF('Asphalt Plant (AP-8)'!$C$5=\"batch mix plant\",'Asphalt Plant (AP-8)'!S28,0),IF('Asphalt Plant (AP-9)'!$C$5=\"batch mix plant\",'Asphalt Plant (AP-9)'!S28,0),IF('Asphalt Plant (AP-10)'!$C$5=\"batch mix plant\",'Asphalt Plant (AP-10)'!S28,0)))","v":""},{"$f":"IF(B25=\"\",\"\",SUM(IF('Asphalt Plant (AP-1)'!$C$5=\"batch mix plant\",'Asphalt Plant (AP-1)'!T28,0),IF('Asphalt Plant (AP-2)'!$C$5=\"batch mix plant\",'Asphalt Plant (AP-2)'!T28,0),IF('Asphalt Plant (AP-3)'!$C$5=\"batch mix plant\",'Asphalt Plant (AP-3)'!T28,0),IF('Asphalt Plant (AP-4)'!$C$5=\"batch mix plant\",'Asphalt Plant (AP-4)'!T28,0),IF('Asphalt Plant (AP-5)'!$C$5=\"batch mix plant\",'Asphalt Plant (AP-5)'!T28,0),IF('Asphalt Plant (AP-6)'!$C$5=\"batch mix plant\",'Asphalt Plant (AP-6)'!T28,0),IF('Asphalt Plant (AP-7)'!$C$5=\"batch mix plant\",'Asphalt Plant (AP-7)'!T28,0),IF('Asphalt Plant (AP-8)'!$C$5=\"batch mix plant\",'Asphalt Plant (AP-8)'!T28,0),IF('Asphalt Plant (AP-9)'!$C$5=\"batch mix plant\",'Asphalt Plant (AP-9)'!T28,0),IF('Asphalt Plant (AP-10)'!$C$5=\"batch mix plant\",'Asphalt Plant (AP-10)'!T28,0)))","v":""}]
["",{"$f":"IF(D26=\"\",\"\",\"Batch Mix Plant - Waste Oil\")","v":""},{"$f":"IF(B26=\"\",\"\",\"30500245\")","v":""},{"$f":"IF(SUM(IF('Asphalt Plant (AP-1)'!$C$5=\"batch mix plant\",'Asphalt Plant (AP-1)'!N6,0),IF('Asphalt Plant (AP-2)'!$C$5=\"batch mix plant\",'Asphalt Plant (AP-2)'!N6,0),IF('Asphalt Plant (AP-3)'!$C$5=\"batch mix plant\",'Asphalt Plant (AP-3)'!N6,0),IF('Asphalt Plant (AP-4)'!$C$5=\"batch mix plant\",'Asphalt Plant (AP-4)'!N6,0),IF('Asphalt Plant (AP-5)'!$C$5=\"batch mix plant\",'Asphalt Plant (AP-5)'!N6,0),IF('Asphalt Plant (AP-6)'!$C$5=\"batch mix plant\",'Asphalt Plant (AP-6)'!N6,0),IF('Asphalt Plant (AP-7)'!$C$5=\"batch mix plant\",'Asphalt Plant (AP-7)'!N6,0),IF('Asphalt Plant (AP-8)'!$C$5=\"batch mix plant\",'Asphalt Plant (AP-8)'!N6,0),IF('Asphalt Plant (AP-9)'!$C$5=\"batch mix plant\",'Asphalt Plant (AP-9)'!N6,0),IF('Asphalt Plant (AP-10)'!$C$5=\"batch mix plant\",'Asphalt Plant (AP-10)'!N6,0))>0,SUM(IF('Asphalt Plant (AP-1)'!$C$5=\"batch mix plant\",'Asphalt Plant (AP-1)'!N6,0),IF('Asphalt Plant (AP-2)'!$C$5=\"batch mix plant\",'Asphalt Plant (AP-2)'!N6,0),IF('Asphalt Plant (AP-3)'!$C$5=\"batch mix plant\",'Asphalt Plant (AP-3)'!N6,0),IF('Asphalt Plant (AP-4)'!$C$5=\"batch mix plant\",'Asphalt Plant (AP-4)'!N6,0),IF('Asphalt Plant (AP-5)'!$C$5=\"batch mix plant\",'Asphalt Plant (AP-5)'!N6,0),IF('Asphalt Plant (AP-6)'!$C$5=\"batch mix plant\",'Asphalt Plant (AP-6)'!N6,0),IF('Asphalt Plant (AP-7)'!$C$5=\"batch mix plant\",'Asphalt Plant (AP-7)'!N6,0),IF('Asphalt Plant (AP-8)'!$C$5=\"batch mix plant\",'Asphalt Plant (AP-8)'!N6,0),IF('Asphalt Plant (AP-9)'!$C$5=\"batch mix plant\",'Asphalt Plant (AP-9)'!N6,0),IF('Asphalt Plant (AP-10)'!$C$5=\"batch mix plant\",'Asphalt Plant (AP-10)'!N6,0)),\"\")","v":""},"",{"$f":"IF(B7=\"\",\"\",MAX(IF('Asphalt Plant (AP-1)'!$C$5=\"batch mix plant\",'Asphalt Plant (AP-1)'!O29,0),IF('Asphalt Plant (AP-2)'!$C$5=\"batch mix plant\",'Asphalt Plant (AP-2)'!O29,0),IF('Asphalt Plant (AP-3)'!$C$5=\"batch mix plant\",'Asphalt Plant (AP-3)'!O29,0),IF('Asphalt Plant (AP-4)'!$C$5=\"batch mix plant\",'Asphalt Plant (AP-4)'!O29,0),IF('Asphalt Plant (AP-5)'!$C$5=\"batch mix plant\",'Asphalt Plant (AP-5)'!O29,0),IF('Asphalt Plant (AP-6)'!$C$5=\"batch mix plant\",'Asphalt Plant (AP-6)'!O29,0),IF('Asphalt Plant (AP-7)'!$C$5=\"batch mix plant\",'Asphalt Plant (AP-7)'!O29,0),IF('Asphalt Plant (AP-8)'!$C$5=\"batch mix plant\",'Asphalt Plant (AP-8)'!O29,0),IF('Asphalt Plant (AP-9)'!$C$5=\"batch mix plant\",'Asphalt Plant (AP-9)'!O29,0),IF('Asphalt Plant (AP-10)'!$C$5=\"batch mix plant\",'Asphalt Plant (AP-10)'!O29,0)))","v":""},"",{"$f":"IF(B26=\"\",\"\",\"AP-42 Table 11.1-2,5,6,9\")","v":""},{"$f":"IF(B26=\"\",\"\",SUM(IF('Asphalt Plant (AP-1)'!$C$5=\"batch mix plant\",'Asphalt Plant (AP-1)'!Q29,0),IF('Asphalt Plant (AP-2)'!$C$5=\"batch mix plant\",'Asphalt Plant (AP-2)'!Q29,0),IF('Asphalt Plant (AP-3)'!$C$5=\"batch mix plant\",'Asphalt Plant (AP-3)'!Q29,0),IF('Asphalt Plant (AP-4)'!$C$5=\"batch mix plant\",'Asphalt Plant (AP-4)'!Q29,0),IF('Asphalt Plant (AP-5)'!$C$5=\"batch mix plant\",'Asphalt Plant (AP-5)'!Q29,0),IF('Asphalt Plant (AP-6)'!$C$5=\"batch mix plant\",'Asphalt Plant (AP-6)'!Q29,0),IF('Asphalt Plant (AP-7)'!$C$5=\"batch mix plant\",'Asphalt Plant (AP-7)'!Q29,0),IF('Asphalt Plant (AP-8)'!$C$5=\"batch mix plant\",'Asphalt Plant (AP-8)'!Q29,0),IF('Asphalt Plant (AP-9)'!$C$5=\"batch mix plant\",'Asphalt Plant (AP-9)'!Q29,0),IF('Asphalt Plant (AP-10)'!$C$5=\"batch mix plant\",'Asphalt Plant (AP-10)'!Q29,0)))","v":""},null,{"$f":"IF(B26=\"\",\"\",SUM(IF('Asphalt Plant (AP-1)'!$C$5=\"batch mix plant\",'Asphalt Plant (AP-1)'!R29,0),IF('Asphalt Plant (AP-2)'!$C$5=\"batch mix plant\",'Asphalt Plant (AP-2)'!R29,0),IF('Asphalt Plant (AP-3)'!$C$5=\"batch mix plant\",'Asphalt Plant (AP-3)'!R29,0),IF('Asphalt Plant (AP-4)'!$C$5=\"batch mix plant\",'Asphalt Plant (AP-4)'!R29,0),IF('Asphalt Plant (AP-5)'!$C$5=\"batch mix plant\",'Asphalt Plant (AP-5)'!R29,0),IF('Asphalt Plant (AP-6)'!$C$5=\"batch mix plant\",'Asphalt Plant (AP-6)'!R29,0),IF('Asphalt Plant (AP-7)'!$C$5=\"batch mix plant\",'Asphalt Plant (AP-7)'!R29,0),IF('Asphalt Plant (AP-8)'!$C$5=\"batch mix plant\",'Asphalt Plant (AP-8)'!R29,0),IF('Asphalt Plant (AP-9)'!$C$5=\"batch mix plant\",'Asphalt Plant (AP-9)'!R29,0),IF('Asphalt Plant (AP-10)'!$C$5=\"batch mix plant\",'Asphalt Plant (AP-10)'!R29,0)))","v":""},{"$f":"IF(B26=\"\",\"\",SUM(IF('Asphalt Plant (AP-1)'!$C$5=\"batch mix plant\",'Asphalt Plant (AP-1)'!S29,0),IF('Asphalt Plant (AP-2)'!$C$5=\"batch mix plant\",'Asphalt Plant (AP-2)'!S29,0),IF('Asphalt Plant (AP-3)'!$C$5=\"batch mix plant\",'Asphalt Plant (AP-3)'!S29,0),IF('Asphalt Plant (AP-4)'!$C$5=\"batch mix plant\",'Asphalt Plant (AP-4)'!S29,0),IF('Asphalt Plant (AP-5)'!$C$5=\"batch mix plant\",'Asphalt Plant (AP-5)'!S29,0),IF('Asphalt Plant (AP-6)'!$C$5=\"batch mix plant\",'Asphalt Plant (AP-6)'!S29,0),IF('Asphalt Plant (AP-7)'!$C$5=\"batch mix plant\",'Asphalt Plant (AP-7)'!S29,0),IF('Asphalt Plant (AP-8)'!$C$5=\"batch mix plant\",'Asphalt Plant (AP-8)'!S29,0),IF('Asphalt Plant (AP-9)'!$C$5=\"batch mix plant\",'Asphalt Plant (AP-9)'!S29,0),IF('Asphalt Plant (AP-10)'!$C$5=\"batch mix plant\",'Asphalt Plant (AP-10)'!S29,0)))","v":""},{"$f":"IF(B26=\"\",\"\",SUM(IF('Asphalt Plant (AP-1)'!$C$5=\"batch mix plant\",'Asphalt Plant (AP-1)'!T29,0),IF('Asphalt Plant (AP-2)'!$C$5=\"batch mix plant\",'Asphalt Plant (AP-2)'!T29,0),IF('Asphalt Plant (AP-3)'!$C$5=\"batch mix plant\",'Asphalt Plant (AP-3)'!T29,0),IF('Asphalt Plant (AP-4)'!$C$5=\"batch mix plant\",'Asphalt Plant (AP-4)'!T29,0),IF('Asphalt Plant (AP-5)'!$C$5=\"batch mix plant\",'Asphalt Plant (AP-5)'!T29,0),IF('Asphalt Plant (AP-6)'!$C$5=\"batch mix plant\",'Asphalt Plant (AP-6)'!T29,0),IF('Asphalt Plant (AP-7)'!$C$5=\"batch mix plant\",'Asphalt Plant (AP-7)'!T29,0),IF('Asphalt Plant (AP-8)'!$C$5=\"batch mix plant\",'Asphalt Plant (AP-8)'!T29,0),IF('Asphalt Plant (AP-9)'!$C$5=\"batch mix plant\",'Asphalt Plant (AP-9)'!T29,0),IF('Asphalt Plant (AP-10)'!$C$5=\"batch mix plant\",'Asphalt Plant (AP-10)'!T29,0)))","v":""}]
["",{"$f":"IF(D27=\"\",\"\",\"Batch Mix Plant - Natural Gas\")","v":""},{"$f":"IF(B27=\"\",\"\",\"30500247\")","v":""},{"$f":"IF(SUM(IF('Asphalt Plant (AP-1)'!$C$5=\"batch mix plant\",'Asphalt Plant (AP-1)'!N7,0),IF('Asphalt Plant (AP-2)'!$C$5=\"batch mix plant\",'Asphalt Plant (AP-2)'!N7,0),IF('Asphalt Plant (AP-3)'!$C$5=\"batch mix plant\",'Asphalt Plant (AP-3)'!N7,0),IF('Asphalt Plant (AP-4)'!$C$5=\"batch mix plant\",'Asphalt Plant (AP-4)'!N7,0),IF('Asphalt Plant (AP-5)'!$C$5=\"batch mix plant\",'Asphalt Plant (AP-5)'!N7,0),IF('Asphalt Plant (AP-6)'!$C$5=\"batch mix plant\",'Asphalt Plant (AP-6)'!N7,0),IF('Asphalt Plant (AP-7)'!$C$5=\"batch mix plant\",'Asphalt Plant (AP-7)'!N7,0),IF('Asphalt Plant (AP-8)'!$C$5=\"batch mix plant\",'Asphalt Plant (AP-8)'!N7,0),IF('Asphalt Plant (AP-9)'!$C$5=\"batch mix plant\",'Asphalt Plant (AP-9)'!N7,0),IF('Asphalt Plant (AP-10)'!$C$5=\"batch mix plant\",'Asphalt Plant (AP-10)'!N7,0))>0,SUM(IF('Asphalt Plant (AP-1)'!$C$5=\"batch mix plant\",'Asphalt Plant (AP-1)'!N7,0),IF('Asphalt Plant (AP-2)'!$C$5=\"batch mix plant\",'Asphalt Plant (AP-2)'!N7,0),IF('Asphalt Plant (AP-3)'!$C$5=\"batch mix plant\",'Asphalt Plant (AP-3)'!N7,0),IF('Asphalt Plant (AP-4)'!$C$5=\"batch mix plant\",'Asphalt Plant (AP-4)'!N7,0),IF('Asphalt Plant (AP-5)'!$C$5=\"batch mix plant\",'Asphalt Plant (AP-5)'!N7,0),IF('Asphalt Plant (AP-6)'!$C$5=\"batch mix plant\",'Asphalt Plant (AP-6)'!N7,0),IF('Asphalt Plant (AP-7)'!$C$5=\"batch mix plant\",'Asphalt Plant (AP-7)'!N7,0),IF('Asphalt Plant (AP-8)'!$C$5=\"batch mix plant\",'Asphalt Plant (AP-8)'!N7,0),IF('Asphalt Plant (AP-9)'!$C$5=\"batch mix plant\",'Asphalt Plant (AP-9)'!N7,0),IF('Asphalt Plant (AP-10)'!$C$5=\"batch mix plant\",'Asphalt Plant (AP-10)'!N7,0)),\"\")","v":""},"",{"$f":"IF(B8=\"\",\"\",MAX(IF('Asphalt Plant (AP-1)'!$C$5=\"batch mix plant\",'Asphalt Plant (AP-1)'!O30,0),IF('Asphalt Plant (AP-2)'!$C$5=\"batch mix plant\",'Asphalt Plant (AP-2)'!O30,0),IF('Asphalt Plant (AP-3)'!$C$5=\"batch mix plant\",'Asphalt Plant (AP-3)'!O30,0),IF('Asphalt Plant (AP-4)'!$C$5=\"batch mix plant\",'Asphalt Plant (AP-4)'!O30,0),IF('Asphalt Plant (AP-5)'!$C$5=\"batch mix plant\",'Asphalt Plant (AP-5)'!O30,0),IF('Asphalt Plant (AP-6)'!$C$5=\"batch mix plant\",'Asphalt Plant (AP-6)'!O30,0),IF('Asphalt Plant (AP-7)'!$C$5=\"batch mix plant\",'Asphalt Plant (AP-7)'!O30,0),IF('Asphalt Plant (AP-8)'!$C$5=\"batch mix plant\",'Asphalt Plant (AP-8)'!O30,0),IF('Asphalt Plant (AP-9)'!$C$5=\"batch mix plant\",'Asphalt Plant (AP-9)'!O30,0),IF('Asphalt Plant (AP-10)'!$C$5=\"batch mix plant\",'Asphalt Plant (AP-10)'!O30,0)))","v":""},"",{"$f":"IF(B27=\"\",\"\",\"AP-42 Table 11.1-2,5,6,9\")","v":""},{"$f":"IF(B27=\"\",\"\",SUM(IF('Asphalt Plant (AP-1)'!$C$5=\"batch mix plant\",'Asphalt Plant (AP-1)'!Q30,0),IF('Asphalt Plant (AP-2)'!$C$5=\"batch mix plant\",'Asphalt Plant (AP-2)'!Q30,0),IF('Asphalt Plant (AP-3)'!$C$5=\"batch mix plant\",'Asphalt Plant (AP-3)'!Q30,0),IF('Asphalt Plant (AP-4)'!$C$5=\"batch mix plant\",'Asphalt Plant (AP-4)'!Q30,0),IF('Asphalt Plant (AP-5)'!$C$5=\"batch mix plant\",'Asphalt Plant (AP-5)'!Q30,0),IF('Asphalt Plant (AP-6)'!$C$5=\"batch mix plant\",'Asphalt Plant (AP-6)'!Q30,0),IF('Asphalt Plant (AP-7)'!$C$5=\"batch mix plant\",'Asphalt Plant (AP-7)'!Q30,0),IF('Asphalt Plant (AP-8)'!$C$5=\"batch mix plant\",'Asphalt Plant (AP-8)'!Q30,0),IF('Asphalt Plant (AP-9)'!$C$5=\"batch mix plant\",'Asphalt Plant (AP-9)'!Q30,0),IF('Asphalt Plant (AP-10)'!$C$5=\"batch mix plant\",'Asphalt Plant (AP-10)'!Q30,0)))","v":""},null,{"$f":"IF(B27=\"\",\"\",SUM(IF('Asphalt Plant (AP-1)'!$C$5=\"batch mix plant\",'Asphalt Plant (AP-1)'!R30,0),IF('Asphalt Plant (AP-2)'!$C$5=\"batch mix plant\",'Asphalt Plant (AP-2)'!R30,0),IF('Asphalt Plant (AP-3)'!$C$5=\"batch mix plant\",'Asphalt Plant (AP-3)'!R30,0),IF('Asphalt Plant (AP-4)'!$C$5=\"batch mix plant\",'Asphalt Plant (AP-4)'!R30,0),IF('Asphalt Plant (AP-5)'!$C$5=\"batch mix plant\",'Asphalt Plant (AP-5)'!R30,0),IF('Asphalt Plant (AP-6)'!$C$5=\"batch mix plant\",'Asphalt Plant (AP-6)'!R30,0),IF('Asphalt Plant (AP-7)'!$C$5=\"batch mix plant\",'Asphalt Plant (AP-7)'!R30,0),IF('Asphalt Plant (AP-8)'!$C$5=\"batch mix plant\",'Asphalt Plant (AP-8)'!R30,0),IF('Asphalt Plant (AP-9)'!$C$5=\"batch mix plant\",'Asphalt Plant (AP-9)'!R30,0),IF('Asphalt Plant (AP-10)'!$C$5=\"batch mix plant\",'Asphalt Plant (AP-10)'!R30,0)))","v":""},{"$f":"IF(B27=\"\",\"\",SUM(IF('Asphalt Plant (AP-1)'!$C$5=\"batch mix plant\",'Asphalt Plant (AP-1)'!S30,0),IF('Asphalt Plant (AP-2)'!$C$5=\"batch mix plant\",'Asphalt Plant (AP-2)'!S30,0),IF('Asphalt Plant (AP-3)'!$C$5=\"batch mix plant\",'Asphalt Plant (AP-3)'!S30,0),IF('Asphalt Plant (AP-4)'!$C$5=\"batch mix plant\",'Asphalt Plant (AP-4)'!S30,0),IF('Asphalt Plant (AP-5)'!$C$5=\"batch mix plant\",'Asphalt Plant (AP-5)'!S30,0),IF('Asphalt Plant (AP-6)'!$C$5=\"batch mix plant\",'Asphalt Plant (AP-6)'!S30,0),IF('Asphalt Plant (AP-7)'!$C$5=\"batch mix plant\",'Asphalt Plant (AP-7)'!S30,0),IF('Asphalt Plant (AP-8)'!$C$5=\"batch mix plant\",'Asphalt Plant (AP-8)'!S30,0),IF('Asphalt Plant (AP-9)'!$C$5=\"batch mix plant\",'Asphalt Plant (AP-9)'!S30,0),IF('Asphalt Plant (AP-10)'!$C$5=\"batch mix plant\",'Asphalt Plant (AP-10)'!S30,0)))","v":""},{"$f":"IF(B27=\"\",\"\",SUM(IF('Asphalt Plant (AP-1)'!$C$5=\"batch mix plant\",'Asphalt Plant (AP-1)'!T30,0),IF('Asphalt Plant (AP-2)'!$C$5=\"batch mix plant\",'Asphalt Plant (AP-2)'!T30,0),IF('Asphalt Plant (AP-3)'!$C$5=\"batch mix plant\",'Asphalt Plant (AP-3)'!T30,0),IF('Asphalt Plant (AP-4)'!$C$5=\"batch mix plant\",'Asphalt Plant (AP-4)'!T30,0),IF('Asphalt Plant (AP-5)'!$C$5=\"batch mix plant\",'Asphalt Plant (AP-5)'!T30,0),IF('Asphalt Plant (AP-6)'!$C$5=\"batch mix plant\",'Asphalt Plant (AP-6)'!T30,0),IF('Asphalt Plant (AP-7)'!$C$5=\"batch mix plant\",'Asphalt Plant (AP-7)'!T30,0),IF('Asphalt Plant (AP-8)'!$C$5=\"batch mix plant\",'Asphalt Plant (AP-8)'!T30,0),IF('Asphalt Plant (AP-9)'!$C$5=\"batch mix plant\",'Asphalt Plant (AP-9)'!T30,0),IF('Asphalt Plant (AP-10)'!$C$5=\"batch mix plant\",'Asphalt Plant (AP-10)'!T30,0)))","v":""}]
["",{"$f":"IF(D28=\"\",\"\",\"Drum Mix Plant - Fuel Oil\")","v":""},{"$f":"IF(B28=\"\",\"\",\"30500258\")","v":""},{"$f":"IF(SUM(IF('Asphalt Plant (AP-1)'!$C$5=\"drum mix plant\",'Asphalt Plant (AP-1)'!N5,0),IF('Asphalt Plant (AP-2)'!$C$5=\"drum mix plant\",'Asphalt Plant (AP-2)'!N5,0),IF('Asphalt Plant (AP-3)'!$C$5=\"drum mix plant\",'Asphalt Plant (AP-3)'!N5,0),IF('Asphalt Plant (AP-4)'!$C$5=\"drum mix plant\",'Asphalt Plant (AP-4)'!N5,0),IF('Asphalt Plant (AP-5)'!$C$5=\"drum mix plant\",'Asphalt Plant (AP-5)'!N5,0),IF('Asphalt Plant (AP-6)'!$C$5=\"drum mix plant\",'Asphalt Plant (AP-6)'!N5,0),IF('Asphalt Plant (AP-7)'!$C$5=\"drum mix plant\",'Asphalt Plant (AP-7)'!N5,0),IF('Asphalt Plant (AP-8)'!$C$5=\"drum mix plant\",'Asphalt Plant (AP-8)'!N5,0),IF('Asphalt Plant (AP-9)'!$C$5=\"drum mix plant\",'Asphalt Plant (AP-9)'!N5,0),IF('Asphalt Plant (AP-10)'!$C$5=\"drum mix plant\",'Asphalt Plant (AP-10)'!N5,0))>0,SUM(IF('Asphalt Plant (AP-1)'!$C$5=\"drum mix plant\",'Asphalt Plant (AP-1)'!N5,0),IF('Asphalt Plant (AP-2)'!$C$5=\"drum mix plant\",'Asphalt Plant (AP-2)'!N5,0),IF('Asphalt Plant (AP-3)'!$C$5=\"drum mix plant\",'Asphalt Plant (AP-3)'!N5,0),IF('Asphalt Plant (AP-4)'!$C$5=\"drum mix plant\",'Asphalt Plant (AP-4)'!N5,0),IF('Asphalt Plant (AP-5)'!$C$5=\"drum mix plant\",'Asphalt Plant (AP-5)'!N5,0),IF('Asphalt Plant (AP-6)'!$C$5=\"drum mix plant\",'Asphalt Plant (AP-6)'!N5,0),IF('Asphalt Plant (AP-7)'!$C$5=\"drum mix plant\",'Asphalt Plant (AP-7)'!N5,0),IF('Asphalt Plant (AP-8)'!$C$5=\"drum mix plant\",'Asphalt Plant (AP-8)'!N5,0),IF('Asphalt Plant (AP-9)'!$C$5=\"drum mix plant\",'Asphalt Plant (AP-9)'!N5,0),IF('Asphalt Plant (AP-10)'!$C$5=\"drum mix plant\",'Asphalt Plant (AP-10)'!N5,0)),\"\")","v":""},"",{"$f":"IF(B28=\"\",\"\",MAX(IF('Asphalt Plant (AP-1)'!$C$5=\"drum mix plant\",'Asphalt Plant (AP-1)'!O28,0),IF('Asphalt Plant (AP-2)'!$C$5=\"drum mix plant\",'Asphalt Plant (AP-2)'!O28,0),IF('Asphalt Plant (AP-3)'!$C$5=\"drum mix plant\",'Asphalt Plant (AP-3)'!O28,0),IF('Asphalt Plant (AP-4)'!$C$5=\"drum mix plant\",'Asphalt Plant (AP-4)'!O28,0),IF('Asphalt Plant (AP-5)'!$C$5=\"drum mix plant\",'Asphalt Plant (AP-5)'!O28,0),IF('Asphalt Plant (AP-6)'!$C$5=\"drum mix plant\",'Asphalt Plant (AP-6)'!O28,0),IF('Asphalt Plant (AP-7)'!$C$5=\"drum mix plant\",'Asphalt Plant (AP-7)'!O28,0),IF('Asphalt Plant (AP-8)'!$C$5=\"drum mix plant\",'Asphalt Plant (AP-8)'!O28,0),IF('Asphalt Plant (AP-9)'!$C$5=\"drum mix plant\",'Asphalt Plant (AP-9)'!O28,0),IF('Asphalt Plant (AP-10)'!$C$5=\"drum mix plant\",'Asphalt Plant (AP-10)'!O28,0)))","v":""},"",{"$f":"IF(B28=\"\",\"\",\"AP-42 Table 11.1-4,7,8,10\")","v":""},{"$f":"IF(B28=\"\",\"\",SUM(IF('Asphalt Plant (AP-1)'!$C$5=\"drum mix plant\",'Asphalt Plant (AP-1)'!Q28,0),IF('Asphalt Plant (AP-2)'!$C$5=\"drum mix plant\",'Asphalt Plant (AP-2)'!Q28,0),IF('Asphalt Plant (AP-3)'!$C$5=\"drum mix plant\",'Asphalt Plant (AP-3)'!Q28,0),IF('Asphalt Plant (AP-4)'!$C$5=\"drum mix plant\",'Asphalt Plant (AP-4)'!Q28,0),IF('Asphalt Plant (AP-5)'!$C$5=\"drum mix plant\",'Asphalt Plant (AP-5)'!Q28,0),IF('Asphalt Plant (AP-6)'!$C$5=\"drum mix plant\",'Asphalt Plant (AP-6)'!Q28,0),IF('Asphalt Plant (AP-7)'!$C$5=\"drum mix plant\",'Asphalt Plant (AP-7)'!Q28,0),IF('Asphalt Plant (AP-8)'!$C$5=\"drum mix plant\",'Asphalt Plant (AP-8)'!Q28,0),IF('Asphalt Plant (AP-9)'!$C$5=\"drum mix plant\",'Asphalt Plant (AP-9)'!Q28,0),IF('Asphalt Plant (AP-10)'!$C$5=\"drum mix plant\",'Asphalt Plant (AP-10)'!Q28,0)))","v":""},null,{"$f":"IF(B28=\"\",\"\",SUM(IF('Asphalt Plant (AP-1)'!$C$5=\"drum mix plant\",'Asphalt Plant (AP-1)'!R28,0),IF('Asphalt Plant (AP-2)'!$C$5=\"drum mix plant\",'Asphalt Plant (AP-2)'!R28,0),IF('Asphalt Plant (AP-3)'!$C$5=\"drum mix plant\",'Asphalt Plant (AP-3)'!R28,0),IF('Asphalt Plant (AP-4)'!$C$5=\"drum mix plant\",'Asphalt Plant (AP-4)'!R28,0),IF('Asphalt Plant (AP-5)'!$C$5=\"drum mix plant\",'Asphalt Plant (AP-5)'!R28,0),IF('Asphalt Plant (AP-6)'!$C$5=\"drum mix plant\",'Asphalt Plant (AP-6)'!R28,0),IF('Asphalt Plant (AP-7)'!$C$5=\"drum mix plant\",'Asphalt Plant (AP-7)'!R28,0),IF('Asphalt Plant (AP-8)'!$C$5=\"drum mix plant\",'Asphalt Plant (AP-8)'!R28,0),IF('Asphalt Plant (AP-9)'!$C$5=\"drum mix plant\",'Asphalt Plant (AP-9)'!R28,0),IF('Asphalt Plant (AP-10)'!$C$5=\"drum mix plant\",'Asphalt Plant (AP-10)'!R28,0)))","v":""},{"$f":"IF(B28=\"\",\"\",SUM(IF('Asphalt Plant (AP-1)'!$C$5=\"drum mix plant\",'Asphalt Plant (AP-1)'!S28,0),IF('Asphalt Plant (AP-2)'!$C$5=\"drum mix plant\",'Asphalt Plant (AP-2)'!S28,0),IF('Asphalt Plant (AP-3)'!$C$5=\"drum mix plant\",'Asphalt Plant (AP-3)'!S28,0),IF('Asphalt Plant (AP-4)'!$C$5=\"drum mix plant\",'Asphalt Plant (AP-4)'!S28,0),IF('Asphalt Plant (AP-5)'!$C$5=\"drum mix plant\",'Asphalt Plant (AP-5)'!S28,0),IF('Asphalt Plant (AP-6)'!$C$5=\"drum mix plant\",'Asphalt Plant (AP-6)'!S28,0),IF('Asphalt Plant (AP-7)'!$C$5=\"drum mix plant\",'Asphalt Plant (AP-7)'!S28,0),IF('Asphalt Plant (AP-8)'!$C$5=\"drum mix plant\",'Asphalt Plant (AP-8)'!S28,0),IF('Asphalt Plant (AP-9)'!$C$5=\"drum mix plant\",'Asphalt Plant (AP-9)'!S28,0),IF('Asphalt Plant (AP-10)'!$C$5=\"drum mix plant\",'Asphalt Plant (AP-10)'!S28,0)))","v":""},{"$f":"IF(B28=\"\",\"\",SUM(IF('Asphalt Plant (AP-1)'!$C$5=\"drum mix plant\",'Asphalt Plant (AP-1)'!T28,0),IF('Asphalt Plant (AP-2)'!$C$5=\"drum mix plant\",'Asphalt Plant (AP-2)'!T28,0),IF('Asphalt Plant (AP-3)'!$C$5=\"drum mix plant\",'Asphalt Plant (AP-3)'!T28,0),IF('Asphalt Plant (AP-4)'!$C$5=\"drum mix plant\",'Asphalt Plant (AP-4)'!T28,0),IF('Asphalt Plant (AP-5)'!$C$5=\"drum mix plant\",'Asphalt Plant (AP-5)'!T28,0),IF('Asphalt Plant (AP-6)'!$C$5=\"drum mix plant\",'Asphalt Plant (AP-6)'!T28,0),IF('Asphalt Plant (AP-7)'!$C$5=\"drum mix plant\",'Asphalt Plant (AP-7)'!T28,0),IF('Asphalt Plant (AP-8)'!$C$5=\"drum mix plant\",'Asphalt Plant (AP-8)'!T28,0),IF('Asphalt Plant (AP-9)'!$C$5=\"drum mix plant\",'Asphalt Plant (AP-9)'!T28,0),IF('Asphalt Plant (AP-10)'!$C$5=\"drum mix plant\",'Asphalt Plant (AP-10)'!T28,0)))","v":""}]
["",{"$f":"IF(D29=\"\",\"\",\"Drum Mix Plant - Waste Oil\")","v":""},{"$f":"IF(B29=\"\",\"\",\"30500255\")","v":""},{"$f":"IF(SUM(IF('Asphalt Plant (AP-1)'!$C$5=\"drum mix plant\",'Asphalt Plant (AP-1)'!N6,0),IF('Asphalt Plant (AP-2)'!$C$5=\"drum mix plant\",'Asphalt Plant (AP-2)'!N6,0),IF('Asphalt Plant (AP-3)'!$C$5=\"drum mix plant\",'Asphalt Plant (AP-3)'!N6,0),IF('Asphalt Plant (AP-4)'!$C$5=\"drum mix plant\",'Asphalt Plant (AP-4)'!N6,0),IF('Asphalt Plant (AP-5)'!$C$5=\"drum mix plant\",'Asphalt Plant (AP-5)'!N6,0),IF('Asphalt Plant (AP-6)'!$C$5=\"drum mix plant\",'Asphalt Plant (AP-6)'!N6,0),IF('Asphalt Plant (AP-7)'!$C$5=\"drum mix plant\",'Asphalt Plant (AP-7)'!N6,0),IF('Asphalt Plant (AP-8)'!$C$5=\"drum mix plant\",'Asphalt Plant (AP-8)'!N6,0),IF('Asphalt Plant (AP-9)'!$C$5=\"drum mix plant\",'Asphalt Plant (AP-9)'!N6,0),IF('Asphalt Plant (AP-10)'!$C$5=\"drum mix plant\",'Asphalt Plant (AP-10)'!N6,0))>0,SUM(IF('Asphalt Plant (AP-1)'!$C$5=\"drum mix plant\",'Asphalt Plant (AP-1)'!N6,0),IF('Asphalt Plant (AP-2)'!$C$5=\"drum mix plant\",'Asphalt Plant (AP-2)'!N6,0),IF('Asphalt Plant (AP-3)'!$C$5=\"drum mix plant\",'Asphalt Plant (AP-3)'!N6,0),IF('Asphalt Plant (AP-4)'!$C$5=\"drum mix plant\",'Asphalt Plant (AP-4)'!N6,0),IF('Asphalt Plant (AP-5)'!$C$5=\"drum mix plant\",'Asphalt Plant (AP-5)'!N6,0),IF('Asphalt Plant (AP-6)'!$C$5=\"drum mix plant\",'Asphalt Plant (AP-6)'!N6,0),IF('Asphalt Plant (AP-7)'!$C$5=\"drum mix plant\",'Asphalt Plant (AP-7)'!N6,0),IF('Asphalt Plant (AP-8)'!$C$5=\"drum mix plant\",'Asphalt Plant (AP-8)'!N6,0),IF('Asphalt Plant (AP-9)'!$C$5=\"drum mix plant\",'Asphalt Plant (AP-9)'!N6,0),IF('Asphalt Plant (AP-10)'!$C$5=\"drum mix plant\",'Asphalt Plant (AP-10)'!N6,0)),\"\")","v":""},"",{"$f":"IF(B29=\"\",\"\",MAX(IF('Asphalt Plant (AP-1)'!$C$5=\"drum mix plant\",'Asphalt Plant (AP-1)'!O29,0),IF('Asphalt Plant (AP-2)'!$C$5=\"drum mix plant\",'Asphalt Plant (AP-2)'!O29,0),IF('Asphalt Plant (AP-3)'!$C$5=\"drum mix plant\",'Asphalt Plant (AP-3)'!O29,0),IF('Asphalt Plant (AP-4)'!$C$5=\"drum mix plant\",'Asphalt Plant (AP-4)'!O29,0),IF('Asphalt Plant (AP-5)'!$C$5=\"drum mix plant\",'Asphalt Plant (AP-5)'!O29,0),IF('Asphalt Plant (AP-6)'!$C$5=\"drum mix plant\",'Asphalt Plant (AP-6)'!O29,0),IF('Asphalt Plant (AP-7)'!$C$5=\"drum mix plant\",'Asphalt Plant (AP-7)'!O29,0),IF('Asphalt Plant (AP-8)'!$C$5=\"drum mix plant\",'Asphalt Plant (AP-8)'!O29,0),IF('Asphalt Plant (AP-9)'!$C$5=\"drum mix plant\",'Asphalt Plant (AP-9)'!O29,0),IF('Asphalt Plant (AP-10)'!$C$5=\"drum mix plant\",'Asphalt Plant (AP-10)'!O29,0)))","v":""},"",{"$f":"IF(B29=\"\",\"\",\"AP-42 Table 11.1-4,7,8,10\")","v":""},{"$f":"IF(B29=\"\",\"\",SUM(IF('Asphalt Plant (AP-1)'!$C$5=\"drum mix plant\",'Asphalt Plant (AP-1)'!Q29,0),IF('Asphalt Plant (AP-2)'!$C$5=\"drum mix plant\",'Asphalt Plant (AP-2)'!Q29,0),IF('Asphalt Plant (AP-3)'!$C$5=\"drum mix plant\",'Asphalt Plant (AP-3)'!Q29,0),IF('Asphalt Plant (AP-4)'!$C$5=\"drum mix plant\",'Asphalt Plant (AP-4)'!Q29,0),IF('Asphalt Plant (AP-5)'!$C$5=\"drum mix plant\",'Asphalt Plant (AP-5)'!Q29,0),IF('Asphalt Plant (AP-6)'!$C$5=\"drum mix plant\",'Asphalt Plant (AP-6)'!Q29,0),IF('Asphalt Plant (AP-7)'!$C$5=\"drum mix plant\",'Asphalt Plant (AP-7)'!Q29,0),IF('Asphalt Plant (AP-8)'!$C$5=\"drum mix plant\",'Asphalt Plant (AP-8)'!Q29,0),IF('Asphalt Plant (AP-9)'!$C$5=\"drum mix plant\",'Asphalt Plant (AP-9)'!Q29,0),IF('Asphalt Plant (AP-10)'!$C$5=\"drum mix plant\",'Asphalt Plant (AP-10)'!Q29,0)))","v":""},null,{"$f":"IF(B29=\"\",\"\",SUM(IF('Asphalt Plant (AP-1)'!$C$5=\"drum mix plant\",'Asphalt Plant (AP-1)'!R29,0),IF('Asphalt Plant (AP-2)'!$C$5=\"drum mix plant\",'Asphalt Plant (AP-2)'!R29,0),IF('Asphalt Plant (AP-3)'!$C$5=\"drum mix plant\",'Asphalt Plant (AP-3)'!R29,0),IF('Asphalt Plant (AP-4)'!$C$5=\"drum mix plant\",'Asphalt Plant (AP-4)'!R29,0),IF('Asphalt Plant (AP-5)'!$C$5=\"drum mix plant\",'Asphalt Plant (AP-5)'!R29,0),IF('Asphalt Plant (AP-6)'!$C$5=\"drum mix plant\",'Asphalt Plant (AP-6)'!R29,0),IF('Asphalt Plant (AP-7)'!$C$5=\"drum mix plant\",'Asphalt Plant (AP-7)'!R29,0),IF('Asphalt Plant (AP-8)'!$C$5=\"drum mix plant\",'Asphalt Plant (AP-8)'!R29,0),IF('Asphalt Plant (AP-9)'!$C$5=\"drum mix plant\",'Asphalt Plant (AP-9)'!R29,0),IF('Asphalt Plant (AP-10)'!$C$5=\"drum mix plant\",'Asphalt Plant (AP-10)'!R29,0)))","v":""},{"$f":"IF(B29=\"\",\"\",SUM(IF('Asphalt Plant (AP-1)'!$C$5=\"drum mix plant\",'Asphalt Plant (AP-1)'!S29,0),IF('Asphalt Plant (AP-2)'!$C$5=\"drum mix plant\",'Asphalt Plant (AP-2)'!S29,0),IF('Asphalt Plant (AP-3)'!$C$5=\"drum mix plant\",'Asphalt Plant (AP-3)'!S29,0),IF('Asphalt Plant (AP-4)'!$C$5=\"drum mix plant\",'Asphalt Plant (AP-4)'!S29,0),IF('Asphalt Plant (AP-5)'!$C$5=\"drum mix plant\",'Asphalt Plant (AP-5)'!S29,0),IF('Asphalt Plant (AP-6)'!$C$5=\"drum mix plant\",'Asphalt Plant (AP-6)'!S29,0),IF('Asphalt Plant (AP-7)'!$C$5=\"drum mix plant\",'Asphalt Plant (AP-7)'!S29,0),IF('Asphalt Plant (AP-8)'!$C$5=\"drum mix plant\",'Asphalt Plant (AP-8)'!S29,0),IF('Asphalt Plant (AP-9)'!$C$5=\"drum mix plant\",'Asphalt Plant (AP-9)'!S29,0),IF('Asphalt Plant (AP-10)'!$C$5=\"drum mix plant\",'Asphalt Plant (AP-10)'!S29,0)))","v":""},{"$f":"IF(B29=\"\",\"\",SUM(IF('Asphalt Plant (AP-1)'!$C$5=\"drum mix plant\",'Asphalt Plant (AP-1)'!T29,0),IF('Asphalt Plant (AP-2)'!$C$5=\"drum mix plant\",'Asphalt Plant (AP-2)'!T29,0),IF('Asphalt Plant (AP-3)'!$C$5=\"drum mix plant\",'Asphalt Plant (AP-3)'!T29,0),IF('Asphalt Plant (AP-4)'!$C$5=\"drum mix plant\",'Asphalt Plant (AP-4)'!T29,0),IF('Asphalt Plant (AP-5)'!$C$5=\"drum mix plant\",'Asphalt Plant (AP-5)'!T29,0),IF('Asphalt Plant (AP-6)'!$C$5=\"drum mix plant\",'Asphalt Plant (AP-6)'!T29,0),IF('Asphalt Plant (AP-7)'!$C$5=\"drum mix plant\",'Asphalt Plant (AP-7)'!T29,0),IF('Asphalt Plant (AP-8)'!$C$5=\"drum mix plant\",'Asphalt Plant (AP-8)'!T29,0),IF('Asphalt Plant (AP-9)'!$C$5=\"drum mix plant\",'Asphalt Plant (AP-9)'!T29,0),IF('Asphalt Plant (AP-10)'!$C$5=\"drum mix plant\",'Asphalt Plant (AP-10)'!T29,0)))","v":""}]
["",{"$f":"IF(D30=\"\",\"\",\"Drum Mix Plant - Natural Gas\")","v":""},{"$f":"IF(B30=\"\",\"\",\"30500261\")","v":""},{"$f":"IF(SUM(IF('Asphalt Plant (AP-1)'!$C$5=\"drum mix plant\",'Asphalt Plant (AP-1)'!N7,0),IF('Asphalt Plant (AP-2)'!$C$5=\"drum mix plant\",'Asphalt Plant (AP-2)'!N7,0),IF('Asphalt Plant (AP-3)'!$C$5=\"drum mix plant\",'Asphalt Plant (AP-3)'!N7,0),IF('Asphalt Plant (AP-4)'!$C$5=\"drum mix plant\",'Asphalt Plant (AP-4)'!N7,0),IF('Asphalt Plant (AP-5)'!$C$5=\"drum mix plant\",'Asphalt Plant (AP-5)'!N7,0),IF('Asphalt Plant (AP-6)'!$C$5=\"drum mix plant\",'Asphalt Plant (AP-6)'!N7,0),IF('Asphalt Plant (AP-7)'!$C$5=\"drum mix plant\",'Asphalt Plant (AP-7)'!N7,0),IF('Asphalt Plant (AP-8)'!$C$5=\"drum mix plant\",'Asphalt Plant (AP-8)'!N7,0),IF('Asphalt Plant (AP-9)'!$C$5=\"drum mix plant\",'Asphalt Plant (AP-9)'!N7,0),IF('Asphalt Plant (AP-10)'!$C$5=\"drum mix plant\",'Asphalt Plant (AP-10)'!N7,0))>0,SUM(IF('Asphalt Plant (AP-1)'!$C$5=\"drum mix plant\",'Asphalt Plant (AP-1)'!N7,0),IF('Asphalt Plant (AP-2)'!$C$5=\"drum mix plant\",'Asphalt Plant (AP-2)'!N7,0),IF('Asphalt Plant (AP-3)'!$C$5=\"drum mix plant\",'Asphalt Plant (AP-3)'!N7,0),IF('Asphalt Plant (AP-4)'!$C$5=\"drum mix plant\",'Asphalt Plant (AP-4)'!N7,0),IF('Asphalt Plant (AP-5)'!$C$5=\"drum mix plant\",'Asphalt Plant (AP-5)'!N7,0),IF('Asphalt Plant (AP-6)'!$C$5=\"drum mix plant\",'Asphalt Plant (AP-6)'!N7,0),IF('Asphalt Plant (AP-7)'!$C$5=\"drum mix plant\",'Asphalt Plant (AP-7)'!N7,0),IF('Asphalt Plant (AP-8)'!$C$5=\"drum mix plant\",'Asphalt Plant (AP-8)'!N7,0),IF('Asphalt Plant (AP-9)'!$C$5=\"drum mix plant\",'Asphalt Plant (AP-9)'!N7,0),IF('Asphalt Plant (AP-10)'!$C$5=\"drum mix plant\",'Asphalt Plant (AP-10)'!N7,0)),\"\")","v":""},"",{"$f":"IF(B30=\"\",\"\",MAX(IF('Asphalt Plant (AP-1)'!$C$5=\"drum mix plant\",'Asphalt Plant (AP-1)'!O30,0),IF('Asphalt Plant (AP-2)'!$C$5=\"drum mix plant\",'Asphalt Plant (AP-2)'!O30,0),IF('Asphalt Plant (AP-3)'!$C$5=\"drum mix plant\",'Asphalt Plant (AP-3)'!O30,0),IF('Asphalt Plant (AP-4)'!$C$5=\"drum mix plant\",'Asphalt Plant (AP-4)'!O30,0),IF('Asphalt Plant (AP-5)'!$C$5=\"drum mix plant\",'Asphalt Plant (AP-5)'!O30,0),IF('Asphalt Plant (AP-6)'!$C$5=\"drum mix plant\",'Asphalt Plant (AP-6)'!O30,0),IF('Asphalt Plant (AP-7)'!$C$5=\"drum mix plant\",'Asphalt Plant (AP-7)'!O30,0),IF('Asphalt Plant (AP-8)'!$C$5=\"drum mix plant\",'Asphalt Plant (AP-8)'!O30,0),IF('Asphalt Plant (AP-9)'!$C$5=\"drum mix plant\",'Asphalt Plant (AP-9)'!O30,0),IF('Asphalt Plant (AP-10)'!$C$5=\"drum mix plant\",'Asphalt Plant (AP-10)'!O30,0)))","v":""},"",{"$f":"IF(B30=\"\",\"\",\"AP-42 Table 11.1-4,7,8,10,12\")","v":""},{"$f":"IF(B30=\"\",\"\",SUM(IF('Asphalt Plant (AP-1)'!$C$5=\"drum mix plant\",'Asphalt Plant (AP-1)'!Q30,0),IF('Asphalt Plant (AP-2)'!$C$5=\"drum mix plant\",'Asphalt Plant (AP-2)'!Q30,0),IF('Asphalt Plant (AP-3)'!$C$5=\"drum mix plant\",'Asphalt Plant (AP-3)'!Q30,0),IF('Asphalt Plant (AP-4)'!$C$5=\"drum mix plant\",'Asphalt Plant (AP-4)'!Q30,0),IF('Asphalt Plant (AP-5)'!$C$5=\"drum mix plant\",'Asphalt Plant (AP-5)'!Q30,0),IF('Asphalt Plant (AP-6)'!$C$5=\"drum mix plant\",'Asphalt Plant (AP-6)'!Q30,0),IF('Asphalt Plant (AP-7)'!$C$5=\"drum mix plant\",'Asphalt Plant (AP-7)'!Q30,0),IF('Asphalt Plant (AP-8)'!$C$5=\"drum mix plant\",'Asphalt Plant (AP-8)'!Q30,0),IF('Asphalt Plant (AP-9)'!$C$5=\"drum mix plant\",'Asphalt Plant (AP-9)'!Q30,0),IF('Asphalt Plant (AP-10)'!$C$5=\"drum mix plant\",'Asphalt Plant (AP-10)'!Q30,0)))","v":""},null,{"$f":"IF(B30=\"\",\"\",SUM(IF('Asphalt Plant (AP-1)'!$C$5=\"drum mix plant\",'Asphalt Plant (AP-1)'!R30,0),IF('Asphalt Plant (AP-2)'!$C$5=\"drum mix plant\",'Asphalt Plant (AP-2)'!R30,0),IF('Asphalt Plant (AP-3)'!$C$5=\"drum mix plant\",'Asphalt Plant (AP-3)'!R30,0),IF('Asphalt Plant (AP-4)'!$C$5=\"drum mix plant\",'Asphalt Plant (AP-4)'!R30,0),IF('Asphalt Plant (AP-5)'!$C$5=\"drum mix plant\",'Asphalt Plant (AP-5)'!R30,0),IF('Asphalt Plant (AP-6)'!$C$5=\"drum mix plant\",'Asphalt Plant (AP-6)'!R30,0),IF('Asphalt Plant (AP-7)'!$C$5=\"drum mix plant\",'Asphalt Plant (AP-7)'!R30,0),IF('Asphalt Plant (AP-8)'!$C$5=\"drum mix plant\",'Asphalt Plant (AP-8)'!R30,0),IF('Asphalt Plant (AP-9)'!$C$5=\"drum mix plant\",'Asphalt Plant (AP-9)'!R30,0),IF('Asphalt Plant (AP-10)'!$C$5=\"drum mix plant\",'Asphalt Plant (AP-10)'!R30,0)))","v":""},{"$f":"IF(B30=\"\",\"\",SUM(IF('Asphalt Plant (AP-1)'!$C$5=\"drum mix plant\",'Asphalt Plant (AP-1)'!S30,0),IF('Asphalt Plant (AP-2)'!$C$5=\"drum mix plant\",'Asphalt Plant (AP-2)'!S30,0),IF('Asphalt Plant (AP-3)'!$C$5=\"drum mix plant\",'Asphalt Plant (AP-3)'!S30,0),IF('Asphalt Plant (AP-4)'!$C$5=\"drum mix plant\",'Asphalt Plant (AP-4)'!S30,0),IF('Asphalt Plant (AP-5)'!$C$5=\"drum mix plant\",'Asphalt Plant (AP-5)'!S30,0),IF('Asphalt Plant (AP-6)'!$C$5=\"drum mix plant\",'Asphalt Plant (AP-6)'!S30,0),IF('Asphalt Plant (AP-7)'!$C$5=\"drum mix plant\",'Asphalt Plant (AP-7)'!S30,0),IF('Asphalt Plant (AP-8)'!$C$5=\"drum mix plant\",'Asphalt Plant (AP-8)'!S30,0),IF('Asphalt Plant (AP-9)'!$C$5=\"drum mix plant\",'Asphalt Plant (AP-9)'!S30,0),IF('Asphalt Plant (AP-10)'!$C$5=\"drum mix plant\",'Asphalt Plant (AP-10)'!S30,0)))","v":""},{"$f":"IF(B30=\"\",\"\",SUM(IF('Asphalt Plant (AP-1)'!$C$5=\"drum mix plant\",'Asphalt Plant (AP-1)'!T30,0),IF('Asphalt Plant (AP-2)'!$C$5=\"drum mix plant\",'Asphalt Plant (AP-2)'!T30,0),IF('Asphalt Plant (AP-3)'!$C$5=\"drum mix plant\",'Asphalt Plant (AP-3)'!T30,0),IF('Asphalt Plant (AP-4)'!$C$5=\"drum mix plant\",'Asphalt Plant (AP-4)'!T30,0),IF('Asphalt Plant (AP-5)'!$C$5=\"drum mix plant\",'Asphalt Plant (AP-5)'!T30,0),IF('Asphalt Plant (AP-6)'!$C$5=\"drum mix plant\",'Asphalt Plant (AP-6)'!T30,0),IF('Asphalt Plant (AP-7)'!$C$5=\"drum mix plant\",'Asphalt Plant (AP-7)'!T30,0),IF('Asphalt Plant (AP-8)'!$C$5=\"drum mix plant\",'Asphalt Plant (AP-8)'!T30,0),IF('Asphalt Plant (AP-9)'!$C$5=\"drum mix plant\",'Asphalt Plant (AP-9)'!T30,0),IF('Asphalt Plant (AP-10)'!$C$5=\"drum mix plant\",'Asphalt Plant (AP-10)'!T30,0)))","v":""}]
[{"$f":"IF(SUM('Asphalt Plant (AP-1)'!N31,'Asphalt Plant (AP-2)'!N31,'Asphalt Plant (AP-3)'!N31,'Asphalt Plant (AP-4)'!N31,'Asphalt Plant (AP-5)'!N31,'Asphalt Plant (AP-6)'!N31,'Asphalt Plant (AP-7)'!N31,'Asphalt Plant (AP-8)'!N31,'Asphalt Plant (AP-9)'!N31,'Asphalt Plant (AP-10)'!N31)>0,\"ALL\",\"\")","v":""},{"$f":"IF(SUM('Asphalt Plant (AP-1)'!N31,'Asphalt Plant (AP-2)'!N31,'Asphalt Plant (AP-3)'!N31,'Asphalt Plant (AP-4)'!N31,'Asphalt Plant (AP-5)'!N31,'Asphalt Plant (AP-6)'!N31,'Asphalt Plant (AP-7)'!N31,'Asphalt Plant (AP-8)'!N31,'Asphalt Plant (AP-9)'!N31,'Asphalt Plant (AP-10)'!N31)>0,\"Silo Filling\",\"\")","v":""},{"$f":"IF(B31=\"\",\"\",\"30500213\")","v":""},{"$f":"IF(SUM('Asphalt Plant (AP-1)'!N11,'Asphalt Plant (AP-2)'!N11,'Asphalt Plant (AP-3)'!N11,'Asphalt Plant (AP-4)'!N11,'Asphalt Plant (AP-5)'!N11,'Asphalt Plant (AP-6)'!N11,'Asphalt Plant (AP-7)'!N11,'Asphalt Plant (AP-8)'!N11,'Asphalt Plant (AP-9)'!N11,'Asphalt Plant (AP-10)'!N11)>0,SUM('Asphalt Plant (AP-1)'!N11,'Asphalt Plant (AP-2)'!N11,'Asphalt Plant (AP-3)'!N11,'Asphalt Plant (AP-4)'!N11,'Asphalt Plant (AP-5)'!N11,'Asphalt Plant (AP-6)'!N11,'Asphalt Plant (AP-7)'!N11,'Asphalt Plant (AP-8)'!N11,'Asphalt Plant (AP-9)'!N11,'Asphalt Plant (AP-10)'!N11),\"\")","v":""},"",{"$f":"IF(B31=\"\",\"\",LOOKUP(B31,'Emission Factors'!$A$23:$A$25,'Emission Factors'!$F$23:$F$25))","v":""},"",{"$f":"IF(B31=\"\",\"\",LOOKUP(B31,'Emission Factors'!$A$23:$A$25,'Emission Factors'!$C$23:$C$25))","v":""},{"$f":"IF(D12=\"\",\"\",SUM('Asphalt Plant (AP-1)'!Q31,'Asphalt Plant (AP-2)'!Q31,'Asphalt Plant (AP-3)'!Q31,'Asphalt Plant (AP-4)'!Q31,'Asphalt Plant (AP-5)'!Q31,'Asphalt Plant (AP-6)'!Q31,'Asphalt Plant (AP-7)'!Q31,'Asphalt Plant (AP-8)'!Q31,'Asphalt Plant (AP-9)'!Q31,'Asphalt Plant (AP-10)'!Q31))","v":""},null,null,{"$f":"IF(B12=\"\",\"\",SUM('Asphalt Plant (AP-1)'!S31,'Asphalt Plant (AP-2)'!S31,'Asphalt Plant (AP-3)'!S31,'Asphalt Plant (AP-4)'!S31,'Asphalt Plant (AP-5)'!S31,'Asphalt Plant (AP-6)'!S31,'Asphalt Plant (AP-7)'!S31,'Asphalt Plant (AP-8)'!S31,'Asphalt Plant (AP-9)'!S31,'Asphalt Plant (AP-10)'!S31,))","v":""},{"$f":"IF(C12=\"\",\"\",SUM('Asphalt Plant (AP-1)'!T31,'Asphalt Plant (AP-2)'!T31,'Asphalt Plant (AP-3)'!T31,'Asphalt Plant (AP-4)'!T31,'Asphalt Plant (AP-5)'!T31,'Asphalt Plant (AP-6)'!T31,'Asphalt Plant (AP-7)'!T31,'Asphalt Plant (AP-8)'!T31,'Asphalt Plant (AP-9)'!T31,'Asphalt Plant (AP-10)'!T31,))","v":""}]
[{"$f":"IF(SUM('Asphalt Plant (AP-1)'!N32,'Asphalt Plant (AP-2)'!N32,'Asphalt Plant (AP-3)'!N32,'Asphalt Plant (AP-4)'!N32,'Asphalt Plant (AP-5)'!N32,'Asphalt Plant (AP-6)'!N32,'Asphalt Plant (AP-7)'!N32,'Asphalt Plant (AP-8)'!N32,'Asphalt Plant (AP-9)'!N32,'Asphalt Plant (AP-10)'!N32)>0,\"ALL\",\"\")","v":""},{"$f":"IF(SUM('Asphalt Plant (AP-1)'!N32,'Asphalt Plant (AP-2)'!N32,'Asphalt Plant (AP-3)'!N32,'Asphalt Plant (AP-4)'!N32,'Asphalt Plant (AP-5)'!N32,'Asphalt Plant (AP-6)'!N32,'Asphalt Plant (AP-7)'!N32,'Asphalt Plant (AP-8)'!N32,'Asphalt Plant (AP-9)'!N32,'Asphalt Plant (AP-10)'!N32)>0,\"Truck Loadout\",\"\")","v":""},{"$f":"IF(B32=\"\",\"\",\"30500214\")","v":""},{"$f":"IF(SUM('Asphalt Plant (AP-1)'!N12,'Asphalt Plant (AP-2)'!N12,'Asphalt Plant (AP-3)'!N12,'Asphalt Plant (AP-4)'!N12,'Asphalt Plant (AP-5)'!N12,'Asphalt Plant (AP-6)'!N12,'Asphalt Plant (AP-7)'!N12,'Asphalt Plant (AP-8)'!N12,'Asphalt Plant (AP-9)'!N12,'Asphalt Plant (AP-10)'!N12)>0,SUM('Asphalt Plant (AP-1)'!N12,'Asphalt Plant (AP-2)'!N12,'Asphalt Plant (AP-3)'!N12,'Asphalt Plant (AP-4)'!N12,'Asphalt Plant (AP-5)'!N12,'Asphalt Plant (AP-6)'!N12,'Asphalt Plant (AP-7)'!N12,'Asphalt Plant (AP-8)'!N12,'Asphalt Plant (AP-9)'!N12,'Asphalt Plant (AP-10)'!N12),\"\")","v":""},"",{"$f":"IF(B32=\"\",\"\",LOOKUP(B32,'Emission Factors'!$A$23:$A$25,'Emission Factors'!$F$23:$F$25))","v":""},"",{"$f":"IF(B32=\"\",\"\",LOOKUP(B32,'Emission Factors'!$A$23:$A$25,'Emission Factors'!$C$23:$C$25))","v":""},{"$f":"IF(D13=\"\",\"\",SUM('Asphalt Plant (AP-1)'!Q32,'Asphalt Plant (AP-2)'!Q32,'Asphalt Plant (AP-3)'!Q32,'Asphalt Plant (AP-4)'!Q32,'Asphalt Plant (AP-5)'!Q32,'Asphalt Plant (AP-6)'!Q32,'Asphalt Plant (AP-7)'!Q32,'Asphalt Plant (AP-8)'!Q32,'Asphalt Plant (AP-9)'!Q32,'Asphalt Plant (AP-10)'!Q32))","v":""},null,null,{"$f":"IF(B13=\"\",\"\",SUM('Asphalt Plant (AP-1)'!S32,'Asphalt Plant (AP-2)'!S32,'Asphalt Plant (AP-3)'!S32,'Asphalt Plant (AP-4)'!S32,'Asphalt Plant (AP-5)'!S32,'Asphalt Plant (AP-6)'!S32,'Asphalt Plant (AP-7)'!S32,'Asphalt Plant (AP-8)'!S32,'Asphalt Plant (AP-9)'!S32,'Asphalt Plant (AP-10)'!S32,))","v":""},{"$f":"IF(C13=\"\",\"\",SUM('Asphalt Plant (AP-1)'!T32,'Asphalt Plant (AP-2)'!T32,'Asphalt Plant (AP-3)'!T32,'Asphalt Plant (AP-4)'!T32,'Asphalt Plant (AP-5)'!T32,'Asphalt Plant (AP-6)'!T32,'Asphalt Plant (AP-7)'!T32,'Asphalt Plant (AP-8)'!T32,'Asphalt Plant (AP-9)'!T32,'Asphalt Plant (AP-10)'!T32,))","v":""}]
[{"$f":"IF(SUM('Asphalt Plant (AP-1)'!N33,'Asphalt Plant (AP-2)'!N33,'Asphalt Plant (AP-3)'!N33,'Asphalt Plant (AP-4)'!N33,'Asphalt Plant (AP-5)'!N33,'Asphalt Plant (AP-6)'!N33,'Asphalt Plant (AP-7)'!N33,'Asphalt Plant (AP-8)'!N33,'Asphalt Plant (AP-9)'!N33,'Asphalt Plant (AP-10)'!N33)>0,\"ALL\",\"\")","v":""},{"$f":"IF(SUM('Asphalt Plant (AP-1)'!N33,'Asphalt Plant (AP-2)'!N33,'Asphalt Plant (AP-3)'!N33,'Asphalt Plant (AP-4)'!N33,'Asphalt Plant (AP-5)'!N33,'Asphalt Plant (AP-6)'!N33,'Asphalt Plant (AP-7)'!N33,'Asphalt Plant (AP-8)'!N33,'Asphalt Plant (AP-9)'!N33,'Asphalt Plant (AP-10)'!N33)>0,\"Cold Aggregate Bins\",\"\")","v":""},{"$f":"IF(B33=\"\",\"\",\"30500204\")","v":""},{"$f":"IF(SUM('Asphalt Plant (AP-1)'!N13,'Asphalt Plant (AP-2)'!N13,'Asphalt Plant (AP-3)'!N13,'Asphalt Plant (AP-4)'!N13,'Asphalt Plant (AP-5)'!N13,'Asphalt Plant (AP-6)'!N13,'Asphalt Plant (AP-7)'!N13,'Asphalt Plant (AP-8)'!N13,'Asphalt Plant (AP-9)'!N13,'Asphalt Plant (AP-10)'!N13)>0,SUM('Asphalt Plant (AP-1)'!N13,'Asphalt Plant (AP-2)'!N13,'Asphalt Plant (AP-3)'!N13,'Asphalt Plant (AP-4)'!N13,'Asphalt Plant (AP-5)'!N13,'Asphalt Plant (AP-6)'!N13,'Asphalt Plant (AP-7)'!N13,'Asphalt Plant (AP-8)'!N13,'Asphalt Plant (AP-9)'!N13,'Asphalt Plant (AP-10)'!N13),\"\")","v":""},"",{"$f":"IF(B33=\"\",\"\",LOOKUP(B33,'Emission Factors'!$A$23:$A$25,'Emission Factors'!$F$23:$F$25))","v":""},"",{"$f":"IF(B33=\"\",\"\",LOOKUP(B33,'Emission Factors'!$A$23:$A$25,'Emission Factors'!$C$23:$C$25))","v":""},{"$f":"IF(D14=\"\",\"\",SUM('Asphalt Plant (AP-1)'!Q33,'Asphalt Plant (AP-2)'!Q33,'Asphalt Plant (AP-3)'!Q33,'Asphalt Plant (AP-4)'!Q33,'Asphalt Plant (AP-5)'!Q33,'Asphalt Plant (AP-6)'!Q33,'Asphalt Plant (AP-7)'!Q33,'Asphalt Plant (AP-8)'!Q33,'Asphalt Plant (AP-9)'!Q33,'Asphalt Plant (AP-10)'!Q33))","v":""},null,null,{"$f":"IF(B14=\"\",\"\",SUM('Asphalt Plant (AP-1)'!S33,'Asphalt Plant (AP-2)'!S33,'Asphalt Plant (AP-3)'!S33,'Asphalt Plant (AP-4)'!S33,'Asphalt Plant (AP-5)'!S33,'Asphalt Plant (AP-6)'!S33,'Asphalt Plant (AP-7)'!S33,'Asphalt Plant (AP-8)'!S33,'Asphalt Plant (AP-9)'!S33,'Asphalt Plant (AP-10)'!S33,))","v":""},{"$f":"IF(C14=\"\",\"\",SUM('Asphalt Plant (AP-1)'!T33,'Asphalt Plant (AP-2)'!T33,'Asphalt Plant (AP-3)'!T33,'Asphalt Plant (AP-4)'!T33,'Asphalt Plant (AP-5)'!T33,'Asphalt Plant (AP-6)'!T33,'Asphalt Plant (AP-7)'!T33,'Asphalt Plant (AP-8)'!T33,'Asphalt Plant (AP-9)'!T33,'Asphalt Plant (AP-10)'!T33,))","v":""}]
[{"$f":"IF(SUM('Asphalt Plant (AP-1)'!O37,'Asphalt Plant (AP-2)'!O37,'Asphalt Plant (AP-3)'!O37,'Asphalt Plant (AP-4)'!O37,'Asphalt Plant (AP-5)'!O37,'Asphalt Plant (AP-6)'!O37,'Asphalt Plant (AP-7)'!O37,'Asphalt Plant (AP-8)'!O37,'Asphalt Plant (AP-9)'!O37,'Asphalt Plant (AP-10)'!O37)>0,\"ALL\",\"\")","v":""},{"$f":"IF(SUM('Asphalt Plant (AP-1)'!O37,'Asphalt Plant (AP-2)'!O37,'Asphalt Plant (AP-3)'!O37,'Asphalt Plant (AP-4)'!O37,'Asphalt Plant (AP-5)'!O37,'Asphalt Plant (AP-6)'!O37,'Asphalt Plant (AP-7)'!O37,'Asphalt Plant (AP-8)'!O37,'Asphalt Plant (AP-9)'!O37,'Asphalt Plant (AP-10)'!O37)>0,\"Storage Piles\",\"\")","v":""},{"$f":"IF(B34=\"\",\"\",\"30500203\")","v":""},{"$f":"IF(B34=\"\",\"\",SUM('Asphalt Plant (AP-1)'!O37,'Asphalt Plant (AP-2)'!O37,'Asphalt Plant (AP-3)'!O37,'Asphalt Plant (AP-4)'!O37,'Asphalt Plant (AP-5)'!O37,'Asphalt Plant (AP-6)'!O37,'Asphalt Plant (AP-7)'!O37,'Asphalt Plant (AP-8)'!O37,'Asphalt Plant (AP-9)'!O37,'Asphalt Plant (AP-10)'!O37))","v":""},{"$f":"IF(B34=\"\",\"\",\"acre/day\")","v":""},{"$f":"IF(B34=\"\",\"\",3.64)","v":""},{"$f":"IF(B34=\"\",\"\",\"lb/acre-day\")","v":""},{"$f":"IF(B34=\"\",\"\",\"WebFIRE\")","v":""},{"$f":"IF(B34=\"\",\"\",SUM('Asphalt Plant (AP-1)'!Q37,'Asphalt Plant (AP-2)'!Q37,'Asphalt Plant (AP-3)'!Q37,'Asphalt Plant (AP-4)'!Q37,'Asphalt Plant (AP-5)'!Q37,'Asphalt Plant (AP-6)'!Q37,'Asphalt Plant (AP-7)'!Q37,'Asphalt Plant (AP-8)'!Q37,'Asphalt Plant (AP-9)'!Q37,'Asphalt Plant (AP-10)'!Q37))","v":""},null,null,{"$f":"IF(B34=\"\",\"\",SUM('Asphalt Plant (AP-1)'!S37,'Asphalt Plant (AP-2)'!S37,'Asphalt Plant (AP-3)'!S37,'Asphalt Plant (AP-4)'!S37,'Asphalt Plant (AP-5)'!S37,'Asphalt Plant (AP-6)'!S37,'Asphalt Plant (AP-7)'!S37,'Asphalt Plant (AP-8)'!S37,'Asphalt Plant (AP-9)'!S37,'Asphalt Plant (AP-10)'!S37))","v":""},{"$f":"IF(B34=\"\",\"\",SUM('Asphalt Plant (AP-1)'!T37,'Asphalt Plant (AP-2)'!T37,'Asphalt Plant (AP-3)'!T37,'Asphalt Plant (AP-4)'!T37,'Asphalt Plant (AP-5)'!T37,'Asphalt Plant (AP-6)'!T37,'Asphalt Plant (AP-7)'!T37,'Asphalt Plant (AP-8)'!T37,'Asphalt Plant (AP-9)'!T37,'Asphalt Plant (AP-10)'!T37))","v":""}]
[{"$f":"IF('Haul Roads'!L44=0,\"\",\"ALL\")","v":""},{"$f":"IF('Haul Roads'!L44=0,\"\",\"Unpaved Haul Roads\")","v":""},{"$f":"IF('Haul Roads'!L44=0,\"\",\"30205054\")","v":""},{"$f":"IF(F35=\"\",\"\",'Haul Roads'!P39*'Haul Roads'!L39/8760)","v":""},{"$f":"IF(B16=\"\",\"\",\"vmt/hr\")","v":""},{"$f":"IF(B16=\"\",\"\",'Haul Roads'!Z39)","v":""},{"$f":"IF(F35=\"\",\"\",\"lb/vmt\")","v":""},{"$f":"IF(F35=\"\",\"\",\"AP-42 Ch 13.2.2\")","v":""},{"$f":"IF(F35=\"\",\"\",D35*F35)","v":""},{"$f":"IF(SUM('Haul Roads'!AB9:AB38)>0,40,\"\")","v":""},{"$f":"IF(SUM('Haul Roads'!AB9:AB38)>0,(SUM('Haul Roads'!AB9:AB38)),\"\")","v":""},{"$f":"IF(AND((SUM('Haul Roads'!$M$9:$M$38)>0),'Haul Roads'!L44>0),SUM('Haul Roads'!$AN$9:$AN$18),IF(B35=\"\",\"\",'Haul Roads'!L44))","v":""},{"$f":"IF(AND((SUM('Haul Roads'!$M$9:$M$38)>0),'Haul Roads'!L49>0),SUM('Haul Roads'!$AO$9:$AO$18),IF(B35=\"\",\"\",'Haul Roads'!L49))","v":""}]
[{"$f":"IF('Haul Roads'!L45=0,\"\",\"ALL\")","v":""},{"$f":"IF('Haul Roads'!L45=0,\"\",\"Paved Haul Roads\")","v":""},{"$f":"IF('Haul Roads'!L45=0,\"\",\"30205054\")","v":""},{"$f":"IF(F36=\"\",\"\",'Haul Roads'!P40*'Haul Roads'!L40/8760)","v":""},{"$f":"IF(B17=\"\",\"\",\"vmt/hr\")","v":""},{"$f":"IF(B17=\"\",\"\",'Haul Roads'!Z40)","v":""},{"$f":"IF(F36=\"\",\"\",\"lb/vmt\")","v":""},{"$f":"IF(F36=\"\",\"\",\"AP-42 Ch 13.2.1\")","v":""},{"$f":"IF(F36=\"\",\"\",D36*F36)","v":""},null,null,{"$f":"IF(B36=\"\",\"\",IF(AND((SUM('Haul Roads'!$M$9:$M$38)>0),'Haul Roads'!L45>0,'Haul Roads'!L44>0),\"\",IF(AND((SUM('Haul Roads'!$M$9:$M$38)>0),'Haul Roads'!L45>0),SUM('Haul Roads'!$AN$9:$AN$18),'Haul Roads'!L45)))","v":""},{"$f":"IF(B36=\"\",\"\",IF(AND((SUM('Haul Roads'!$M$9:$M$38)>0),'Haul Roads'!L50>0,'Haul Roads'!L49>0),\"\",IF(AND((SUM('Haul Roads'!$M$9:$M$38)>0),'Haul Roads'!L50>0),SUM('Haul Roads'!$AO$9:$AO$18),'Haul Roads'!L50)))","v":""}]
[{"$f":"IF('Permitted Diesel Engines'!R51=0,\"\",\"ALL\")","v":""},{"$f":"IF('Permitted Diesel Engines'!R51=0,\"\",\"Diesel Generator ≤ 600 bhp\")","v":""},{"$f":"IF('Permitted Diesel Engines'!R51=0,\"\",LOOKUP(B18,'Emission Factors'!A43:A44,'Emission Factors'!B43:B44))","v":""},{"$f":"IF('Permitted Diesel Engines'!R51=0,\"\",'Permitted Diesel Engines'!R51)","v":""},{"$f":"IF(B37=\"\",\"\",\"MMBtu/hr\")","v":""},{"$f":"IF(B37=\"\",\"\",LOOKUP(B37,'Emission Factors'!$A$43:$A$44,'Emission Factors'!$F$43:$F$44))","v":""},{"$f":"IF(B37=\"\",\"\",LOOKUP(B37,'Emission Factors'!$A$43:$A$44,'Emission Factors'!$C$43:$C$44))","v":""},{"$f":"IF(B37=\"\",\"\",LOOKUP(B37,'Emission Factors'!$A$43:$A$44,'Emission Factors'!$G$43:$G$44))","v":""},{"$f":"IF(B37=\"\",\"\",'Emission Calculations'!D37*'Emission Calculations'!F37)","v":""},null,null,{"$f":"IF(F37=\"\",\"\",'Permitted Diesel Engines'!$AB$78)","v":""},{"$f":"IF(B37=\"\",\"\",'Permitted Diesel Engines'!$T$51*F37/2000)","v":""}]
[{"$f":"IF('Permitted Diesel Engines'!R52=0,\"\",\"ALL\")","v":""},{"$f":"IF('Permitted Diesel Engines'!R52=0,\"\",\"Diesel Generator> 600 bhp\")","v":""},{"$f":"IF('Permitted Diesel Engines'!R52=0,\"\",LOOKUP(B19,'Emission Factors'!$A$43:$A$44,'Emission Factors'!$B$43:$B$44))","v":""},{"$f":"IF('Permitted Diesel Engines'!R52=0,\"\",'Permitted Diesel Engines'!R52)","v":""},{"$f":"IF(B38=\"\",\"\",\"MMBtu/hr\")","v":""},{"$f":"IF(B38=\"\",\"\",LOOKUP(B38,'Emission Factors'!$A$43:$A$44,'Emission Factors'!$F$43:$F$44))","v":""},{"$f":"IF(B38=\"\",\"\",LOOKUP(B38,'Emission Factors'!$A$43:$A$44,'Emission Factors'!$C$43:$C$44))","v":""},{"$f":"IF(B38=\"\",\"\",LOOKUP(B38,'Emission Factors'!$A$43:$A$44,'Emission Factors'!$G$43:$G$44))","v":""},{"$f":"IF(B38=\"\",\"\",'Emission Calculations'!D38*'Emission Calculations'!F38)","v":""},null,null,{"$f":"IF(F38=\"\",\"\",'Permitted Diesel Engines'!$AC$78)","v":""},{"$f":"IF(B38=\"\",\"\",'Permitted Diesel Engines'!$T$52*F38/2000)","v":""}]
[null,null,null,null,null,null,null,null,null,null,"FACILITY TOTALS:",{"$f":"SUM(L25:L38)","v":0},{"$f":"SUM(M25:M38)","v":0}]
[]
[null,null,null,null,null,null,null,null,"Potential Hourly Uncontrolled Emissions(lb/hr)",null,"Potential Hourly Controlled Emissions (lb/hr)","Potential Annual Emissions (tons/yr)","Actual Emissions (tons/yr)"]
["EP","Description of Process","SCC #","Max Design Rate","Units of Measure","Emission Factor","Units of Measure","Source of Emission Factor",null,"Control Efficiency"]
[]
["SO2"]
[{"$f":"IF(D45=\"\",\"\",\"ALL\")","v":""},{"$f":"IF(D45=\"\",\"\",\"Batch Mix Plant - Fuel Oil\")","v":""},{"$f":"IF(B45=\"\",\"\",\"30500246\")","v":""},{"$f":"IF(SUM(IF('Asphalt Plant (AP-1)'!$C$5=\"batch mix plant\",'Asphalt Plant (AP-1)'!N5,0),IF('Asphalt Plant (AP-2)'!$C$5=\"batch mix plant\",'Asphalt Plant (AP-2)'!N5,0),IF('Asphalt Plant (AP-3)'!$C$5=\"batch mix plant\",'Asphalt Plant (AP-3)'!N5,0),IF('Asphalt Plant (AP-4)'!$C$5=\"batch mix plant\",'Asphalt Plant (AP-4)'!N5,0),IF('Asphalt Plant (AP-5)'!$C$5=\"batch mix plant\",'Asphalt Plant (AP-5)'!N5,0),IF('Asphalt Plant (AP-6)'!$C$5=\"batch mix plant\",'Asphalt Plant (AP-6)'!N5,0),IF('Asphalt Plant (AP-7)'!$C$5=\"batch mix plant\",'Asphalt Plant (AP-7)'!N5,0),IF('Asphalt Plant (AP-8)'!$C$5=\"batch mix plant\",'Asphalt Plant (AP-8)'!N5,0),IF('Asphalt Plant (AP-9)'!$C$5=\"batch mix plant\",'Asphalt Plant (AP-9)'!N5,0),IF('Asphalt Plant (AP-10)'!$C$5=\"batch mix plant\",'Asphalt Plant (AP-10)'!N5,0))>0,SUM(IF('Asphalt Plant (AP-1)'!$C$5=\"batch mix plant\",'Asphalt Plant (AP-1)'!N5,0),IF('Asphalt Plant (AP-2)'!$C$5=\"batch mix plant\",'Asphalt Plant (AP-2)'!N5,0),IF('Asphalt Plant (AP-3)'!$C$5=\"batch mix plant\",'Asphalt Plant (AP-3)'!N5,0),IF('Asphalt Plant (AP-4)'!$C$5=\"batch mix plant\",'Asphalt Plant (AP-4)'!N5,0),IF('Asphalt Plant (AP-5)'!$C$5=\"batch mix plant\",'Asphalt Plant (AP-5)'!N5,0),IF('Asphalt Plant (AP-6)'!$C$5=\"batch mix plant\",'Asphalt Plant (AP-6)'!N5,0),IF('Asphalt Plant (AP-7)'!$C$5=\"batch mix plant\",'Asphalt Plant (AP-7)'!N5,0),IF('Asphalt Plant (AP-8)'!$C$5=\"batch mix plant\",'Asphalt Plant (AP-8)'!N5,0),IF('Asphalt Plant (AP-9)'!$C$5=\"batch mix plant\",'Asphalt Plant (AP-9)'!N5,0),IF('Asphalt Plant (AP-10)'!$C$5=\"batch mix plant\",'Asphalt Plant (AP-10)'!N5,0)),\"\")","v":""},{"$f":"IF(B45=\"\",\"\",\"tons/hr\")","v":""},{"$f":"IF(B45=\"\",\"\",MAX(IF('Asphalt Plant (AP-1)'!$C$5=\"batch mix plant\",'Asphalt Plant (AP-1)'!O40,0),IF('Asphalt Plant (AP-2)'!$C$5=\"batch mix plant\",'Asphalt Plant (AP-2)'!O40,0),IF('Asphalt Plant (AP-3)'!$C$5=\"batch mix plant\",'Asphalt Plant (AP-3)'!O40,0),IF('Asphalt Plant (AP-4)'!$C$5=\"batch mix plant\",'Asphalt Plant (AP-4)'!O40,0),IF('Asphalt Plant (AP-5)'!$C$5=\"batch mix plant\",'Asphalt Plant (AP-5)'!O40,0),IF('Asphalt Plant (AP-6)'!$C$5=\"batch mix plant\",'Asphalt Plant (AP-6)'!O40,0),IF('Asphalt Plant (AP-7)'!$C$5=\"batch mix plant\",'Asphalt Plant (AP-7)'!O40,0),IF('Asphalt Plant (AP-8)'!$C$5=\"batch mix plant\",'Asphalt Plant (AP-8)'!O40,0),IF('Asphalt Plant (AP-9)'!$C$5=\"batch mix plant\",'Asphalt Plant (AP-9)'!O40,0),IF('Asphalt Plant (AP-10)'!$C$5=\"batch mix plant\",'Asphalt Plant (AP-10)'!O40,0)))","v":""},{"$f":"IF(B45=\"\",\"\",\"lb/ton\")","v":""},{"$f":"IF(B45=\"\",\"\",\"AP-42 Table 11.1-2,5,6,9\")","v":""},{"$f":"IF(B45=\"\",\"\",SUM(IF('Asphalt Plant (AP-1)'!$C$5=\"batch mix plant\",'Asphalt Plant (AP-1)'!Q40,0),IF('Asphalt Plant (AP-2)'!$C$5=\"batch mix plant\",'Asphalt Plant (AP-2)'!Q40,0),IF('Asphalt Plant (AP-3)'!$C$5=\"batch mix plant\",'Asphalt Plant (AP-3)'!Q40,0),IF('Asphalt Plant (AP-4)'!$C$5=\"batch mix plant\",'Asphalt Plant (AP-4)'!Q40,0),IF('Asphalt Plant (AP-5)'!$C$5=\"batch mix plant\",'Asphalt Plant (AP-5)'!Q40,0),IF('Asphalt Plant (AP-6)'!$C$5=\"batch mix plant\",'Asphalt Plant (AP-6)'!Q40,0),IF('Asphalt Plant (AP-7)'!$C$5=\"batch mix plant\",'Asphalt Plant (AP-7)'!Q40,0),IF('Asphalt Plant (AP-8)'!$C$5=\"batch mix plant\",'Asphalt Plant (AP-8)'!Q40,0),IF('Asphalt Plant (AP-9)'!$C$5=\"batch mix plant\",'Asphalt Plant (AP-9)'!Q40,0),IF('Asphalt Plant (AP-10)'!$C$5=\"batch mix plant\",'Asphalt Plant (AP-10)'!Q40,0)))","v":""},null,{"$f":"IF(C45=\"\",\"\",SUM(IF('Asphalt Plant (AP-1)'!$C$5=\"batch mix plant\",'Asphalt Plant (AP-1)'!R40,0),IF('Asphalt Plant (AP-2)'!$C$5=\"batch mix plant\",'Asphalt Plant (AP-2)'!R40,0),IF('Asphalt Plant (AP-3)'!$C$5=\"batch mix plant\",'Asphalt Plant (AP-3)'!R40,0),IF('Asphalt Plant (AP-4)'!$C$5=\"batch mix plant\",'Asphalt Plant (AP-4)'!R40,0),IF('Asphalt Plant (AP-5)'!$C$5=\"batch mix plant\",'Asphalt Plant (AP-5)'!R40,0),IF('Asphalt Plant (AP-6)'!$C$5=\"batch mix plant\",'Asphalt Plant (AP-6)'!R40,0),IF('Asphalt Plant (AP-7)'!$C$5=\"batch mix plant\",'Asphalt Plant (AP-7)'!R40,0),IF('Asphalt Plant (AP-8)'!$C$5=\"batch mix plant\",'Asphalt Plant (AP-8)'!R40,0),IF('Asphalt Plant (AP-9)'!$C$5=\"batch mix plant\",'Asphalt Plant (AP-9)'!R40,0),IF('Asphalt Plant (AP-10)'!$C$5=\"batch mix plant\",'Asphalt Plant (AP-10)'!R40,0)))","v":""},{"$f":"IF(D45=\"\",\"\",SUM(IF('Asphalt Plant (AP-1)'!$C$5=\"batch mix plant\",'Asphalt Plant (AP-1)'!S40,0),IF('Asphalt Plant (AP-2)'!$C$5=\"batch mix plant\",'Asphalt Plant (AP-2)'!S40,0),IF('Asphalt Plant (AP-3)'!$C$5=\"batch mix plant\",'Asphalt Plant (AP-3)'!S40,0),IF('Asphalt Plant (AP-4)'!$C$5=\"batch mix plant\",'Asphalt Plant (AP-4)'!S40,0),IF('Asphalt Plant (AP-5)'!$C$5=\"batch mix plant\",'Asphalt Plant (AP-5)'!S40,0),IF('Asphalt Plant (AP-6)'!$C$5=\"batch mix plant\",'Asphalt Plant (AP-6)'!S40,0),IF('Asphalt Plant (AP-7)'!$C$5=\"batch mix plant\",'Asphalt Plant (AP-7)'!S40,0),IF('Asphalt Plant (AP-8)'!$C$5=\"batch mix plant\",'Asphalt Plant (AP-8)'!S40,0),IF('Asphalt Plant (AP-9)'!$C$5=\"batch mix plant\",'Asphalt Plant (AP-9)'!S40,0),IF('Asphalt Plant (AP-10)'!$C$5=\"batch mix plant\",'Asphalt Plant (AP-10)'!S40,0)))","v":""},{"$f":"IF(E45=\"\",\"\",SUM(IF('Asphalt Plant (AP-1)'!$C$5=\"batch mix plant\",'Asphalt Plant (AP-1)'!T40,0),IF('Asphalt Plant (AP-2)'!$C$5=\"batch mix plant\",'Asphalt Plant (AP-2)'!T40,0),IF('Asphalt Plant (AP-3)'!$C$5=\"batch mix plant\",'Asphalt Plant (AP-3)'!T40,0),IF('Asphalt Plant (AP-4)'!$C$5=\"batch mix plant\",'Asphalt Plant (AP-4)'!T40,0),IF('Asphalt Plant (AP-5)'!$C$5=\"batch mix plant\",'Asphalt Plant (AP-5)'!T40,0),IF('Asphalt Plant (AP-6)'!$C$5=\"batch mix plant\",'Asphalt Plant (AP-6)'!T40,0),IF('Asphalt Plant (AP-7)'!$C$5=\"batch mix plant\",'Asphalt Plant (AP-7)'!T40,0),IF('Asphalt Plant (AP-8)'!$C$5=\"batch mix plant\",'Asphalt Plant (AP-8)'!T40,0),IF('Asphalt Plant (AP-9)'!$C$5=\"batch mix plant\",'Asphalt Plant (AP-9)'!T40,0),IF('Asphalt Plant (AP-10)'!$C$5=\"batch mix plant\",'Asphalt Plant (AP-10)'!T40,0)))","v":""}]
["",{"$f":"IF(D46=\"\",\"\",\"Batch Mix Plant - Waste Oil\")","v":""},{"$f":"IF(B46=\"\",\"\",\"30500245\")","v":""},{"$f":"IF(SUM(IF('Asphalt Plant (AP-1)'!$C$5=\"batch mix plant\",'Asphalt Plant (AP-1)'!N6,0),IF('Asphalt Plant (AP-2)'!$C$5=\"batch mix plant\",'Asphalt Plant (AP-2)'!N6,0),IF('Asphalt Plant (AP-3)'!$C$5=\"batch mix plant\",'Asphalt Plant (AP-3)'!N6,0),IF('Asphalt Plant (AP-4)'!$C$5=\"batch mix plant\",'Asphalt Plant (AP-4)'!N6,0),IF('Asphalt Plant (AP-5)'!$C$5=\"batch mix plant\",'Asphalt Plant (AP-5)'!N6,0),IF('Asphalt Plant (AP-6)'!$C$5=\"batch mix plant\",'Asphalt Plant (AP-6)'!N6,0),IF('Asphalt Plant (AP-7)'!$C$5=\"batch mix plant\",'Asphalt Plant (AP-7)'!N6,0),IF('Asphalt Plant (AP-8)'!$C$5=\"batch mix plant\",'Asphalt Plant (AP-8)'!N6,0),IF('Asphalt Plant (AP-9)'!$C$5=\"batch mix plant\",'Asphalt Plant (AP-9)'!N6,0),IF('Asphalt Plant (AP-10)'!$C$5=\"batch mix plant\",'Asphalt Plant (AP-10)'!N6,0))>0,SUM(IF('Asphalt Plant (AP-1)'!$C$5=\"batch mix plant\",'Asphalt Plant (AP-1)'!N6,0),IF('Asphalt Plant (AP-2)'!$C$5=\"batch mix plant\",'Asphalt Plant (AP-2)'!N6,0),IF('Asphalt Plant (AP-3)'!$C$5=\"batch mix plant\",'Asphalt Plant (AP-3)'!N6,0),IF('Asphalt Plant (AP-4)'!$C$5=\"batch mix plant\",'Asphalt Plant (AP-4)'!N6,0),IF('Asphalt Plant (AP-5)'!$C$5=\"batch mix plant\",'Asphalt Plant (AP-5)'!N6,0),IF('Asphalt Plant (AP-6)'!$C$5=\"batch mix plant\",'Asphalt Plant (AP-6)'!N6,0),IF('Asphalt Plant (AP-7)'!$C$5=\"batch mix plant\",'Asphalt Plant (AP-7)'!N6,0),IF('Asphalt Plant (AP-8)'!$C$5=\"batch mix plant\",'Asphalt Plant (AP-8)'!N6,0),IF('Asphalt Plant (AP-9)'!$C$5=\"batch mix plant\",'Asphalt Plant (AP-9)'!N6,0),IF('Asphalt Plant (AP-10)'!$C$5=\"batch mix plant\",'Asphalt Plant (AP-10)'!N6,0)),\"\")","v":""},"",{"$f":"IF(B46=\"\",\"\",MAX(IF('Asphalt Plant (AP-1)'!$C$5=\"batch mix plant\",'Asphalt Plant (AP-1)'!O41,0),IF('Asphalt Plant (AP-2)'!$C$5=\"batch mix plant\",'Asphalt Plant (AP-2)'!O41,0),IF('Asphalt Plant (AP-3)'!$C$5=\"batch mix plant\",'Asphalt Plant (AP-3)'!O41,0),IF('Asphalt Plant (AP-4)'!$C$5=\"batch mix plant\",'Asphalt Plant (AP-4)'!O41,0),IF('Asphalt Plant (AP-5)'!$C$5=\"batch mix plant\",'Asphalt Plant (AP-5)'!O41,0),IF('Asphalt Plant (AP-6)'!$C$5=\"batch mix plant\",'Asphalt Plant (AP-6)'!O41,0),IF('Asphalt Plant (AP-7)'!$C$5=\"batch mix plant\",'Asphalt Plant (AP-7)'!O41,0),IF('Asphalt Plant (AP-8)'!$C$5=\"batch mix plant\",'Asphalt Plant (AP-8)'!O41,0),IF('Asphalt Plant (AP-9)'!$C$5=\"batch mix plant\",'Asphalt Plant (AP-9)'!O41,0),IF('Asphalt Plant (AP-10)'!$C$5=\"batch mix plant\",'Asphalt Plant (AP-10)'!O41,0)))","v":""},"",{"$f":"IF(B46=\"\",\"\",\"AP-42 Table 11.1-2,5,6,9\")","v":""},{"$f":"IF(B46=\"\",\"\",SUM(IF('Asphalt Plant (AP-1)'!$C$5=\"batch mix plant\",'Asphalt Plant (AP-1)'!Q41,0),IF('Asphalt Plant (AP-2)'!$C$5=\"batch mix plant\",'Asphalt Plant (AP-2)'!Q41,0),IF('Asphalt Plant (AP-3)'!$C$5=\"batch mix plant\",'Asphalt Plant (AP-3)'!Q41,0),IF('Asphalt Plant (AP-4)'!$C$5=\"batch mix plant\",'Asphalt Plant (AP-4)'!Q41,0),IF('Asphalt Plant (AP-5)'!$C$5=\"batch mix plant\",'Asphalt Plant (AP-5)'!Q41,0),IF('Asphalt Plant (AP-6)'!$C$5=\"batch mix plant\",'Asphalt Plant (AP-6)'!Q41,0),IF('Asphalt Plant (AP-7)'!$C$5=\"batch mix plant\",'Asphalt Plant (AP-7)'!Q41,0),IF('Asphalt Plant (AP-8)'!$C$5=\"batch mix plant\",'Asphalt Plant (AP-8)'!Q41,0),IF('Asphalt Plant (AP-9)'!$C$5=\"batch mix plant\",'Asphalt Plant (AP-9)'!Q41,0),IF('Asphalt Plant (AP-10)'!$C$5=\"batch mix plant\",'Asphalt Plant (AP-10)'!Q41,0)))","v":""},null,{"$f":"IF(C46=\"\",\"\",SUM(IF('Asphalt Plant (AP-1)'!$C$5=\"batch mix plant\",'Asphalt Plant (AP-1)'!R41,0),IF('Asphalt Plant (AP-2)'!$C$5=\"batch mix plant\",'Asphalt Plant (AP-2)'!R41,0),IF('Asphalt Plant (AP-3)'!$C$5=\"batch mix plant\",'Asphalt Plant (AP-3)'!R41,0),IF('Asphalt Plant (AP-4)'!$C$5=\"batch mix plant\",'Asphalt Plant (AP-4)'!R41,0),IF('Asphalt Plant (AP-5)'!$C$5=\"batch mix plant\",'Asphalt Plant (AP-5)'!R41,0),IF('Asphalt Plant (AP-6)'!$C$5=\"batch mix plant\",'Asphalt Plant (AP-6)'!R41,0),IF('Asphalt Plant (AP-7)'!$C$5=\"batch mix plant\",'Asphalt Plant (AP-7)'!R41,0),IF('Asphalt Plant (AP-8)'!$C$5=\"batch mix plant\",'Asphalt Plant (AP-8)'!R41,0),IF('Asphalt Plant (AP-9)'!$C$5=\"batch mix plant\",'Asphalt Plant (AP-9)'!R41,0),IF('Asphalt Plant (AP-10)'!$C$5=\"batch mix plant\",'Asphalt Plant (AP-10)'!R41,0)))","v":""},{"$f":"IF(D46=\"\",\"\",SUM(IF('Asphalt Plant (AP-1)'!$C$5=\"batch mix plant\",'Asphalt Plant (AP-1)'!S41,0),IF('Asphalt Plant (AP-2)'!$C$5=\"batch mix plant\",'Asphalt Plant (AP-2)'!S41,0),IF('Asphalt Plant (AP-3)'!$C$5=\"batch mix plant\",'Asphalt Plant (AP-3)'!S41,0),IF('Asphalt Plant (AP-4)'!$C$5=\"batch mix plant\",'Asphalt Plant (AP-4)'!S41,0),IF('Asphalt Plant (AP-5)'!$C$5=\"batch mix plant\",'Asphalt Plant (AP-5)'!S41,0),IF('Asphalt Plant (AP-6)'!$C$5=\"batch mix plant\",'Asphalt Plant (AP-6)'!S41,0),IF('Asphalt Plant (AP-7)'!$C$5=\"batch mix plant\",'Asphalt Plant (AP-7)'!S41,0),IF('Asphalt Plant (AP-8)'!$C$5=\"batch mix plant\",'Asphalt Plant (AP-8)'!S41,0),IF('Asphalt Plant (AP-9)'!$C$5=\"batch mix plant\",'Asphalt Plant (AP-9)'!S41,0),IF('Asphalt Plant (AP-10)'!$C$5=\"batch mix plant\",'Asphalt Plant (AP-10)'!S41,0)))","v":""},{"$f":"IF(E46=\"\",\"\",SUM(IF('Asphalt Plant (AP-1)'!$C$5=\"batch mix plant\",'Asphalt Plant (AP-1)'!T41,0),IF('Asphalt Plant (AP-2)'!$C$5=\"batch mix plant\",'Asphalt Plant (AP-2)'!T41,0),IF('Asphalt Plant (AP-3)'!$C$5=\"batch mix plant\",'Asphalt Plant (AP-3)'!T41,0),IF('Asphalt Plant (AP-4)'!$C$5=\"batch mix plant\",'Asphalt Plant (AP-4)'!T41,0),IF('Asphalt Plant (AP-5)'!$C$5=\"batch mix plant\",'Asphalt Plant (AP-5)'!T41,0),IF('Asphalt Plant (AP-6)'!$C$5=\"batch mix plant\",'Asphalt Plant (AP-6)'!T41,0),IF('Asphalt Plant (AP-7)'!$C$5=\"batch mix plant\",'Asphalt Plant (AP-7)'!T41,0),IF('Asphalt Plant (AP-8)'!$C$5=\"batch mix plant\",'Asphalt Plant (AP-8)'!T41,0),IF('Asphalt Plant (AP-9)'!$C$5=\"batch mix plant\",'Asphalt Plant (AP-9)'!T41,0),IF('Asphalt Plant (AP-10)'!$C$5=\"batch mix plant\",'Asphalt Plant (AP-10)'!T41,0)))","v":""}]
["",{"$f":"IF(D47=\"\",\"\",\"Batch Mix Plant - Natural Gas\")","v":""},{"$f":"IF(B47=\"\",\"\",\"30500247\")","v":""},{"$f":"IF(SUM(IF('Asphalt Plant (AP-1)'!$C$5=\"batch mix plant\",'Asphalt Plant (AP-1)'!N7,0),IF('Asphalt Plant (AP-2)'!$C$5=\"batch mix plant\",'Asphalt Plant (AP-2)'!N7,0),IF('Asphalt Plant (AP-3)'!$C$5=\"batch mix plant\",'Asphalt Plant (AP-3)'!N7,0),IF('Asphalt Plant (AP-4)'!$C$5=\"batch mix plant\",'Asphalt Plant (AP-4)'!N7,0),IF('Asphalt Plant (AP-5)'!$C$5=\"batch mix plant\",'Asphalt Plant (AP-5)'!N7,0),IF('Asphalt Plant (AP-6)'!$C$5=\"batch mix plant\",'Asphalt Plant (AP-6)'!N7,0),IF('Asphalt Plant (AP-7)'!$C$5=\"batch mix plant\",'Asphalt Plant (AP-7)'!N7,0),IF('Asphalt Plant (AP-8)'!$C$5=\"batch mix plant\",'Asphalt Plant (AP-8)'!N7,0),IF('Asphalt Plant (AP-9)'!$C$5=\"batch mix plant\",'Asphalt Plant (AP-9)'!N7,0),IF('Asphalt Plant (AP-10)'!$C$5=\"batch mix plant\",'Asphalt Plant (AP-10)'!N7,0))>0,SUM(IF('Asphalt Plant (AP-1)'!$C$5=\"batch mix plant\",'Asphalt Plant (AP-1)'!N7,0),IF('Asphalt Plant (AP-2)'!$C$5=\"batch mix plant\",'Asphalt Plant (AP-2)'!N7,0),IF('Asphalt Plant (AP-3)'!$C$5=\"batch mix plant\",'Asphalt Plant (AP-3)'!N7,0),IF('Asphalt Plant (AP-4)'!$C$5=\"batch mix plant\",'Asphalt Plant (AP-4)'!N7,0),IF('Asphalt Plant (AP-5)'!$C$5=\"batch mix plant\",'Asphalt Plant (AP-5)'!N7,0),IF('Asphalt Plant (AP-6)'!$C$5=\"batch mix plant\",'Asphalt Plant (AP-6)'!N7,0),IF('Asphalt Plant (AP-7)'!$C$5=\"batch mix plant\",'Asphalt Plant (AP-7)'!N7,0),IF('Asphalt Plant (AP-8)'!$C$5=\"batch mix plant\",'Asphalt Plant (AP-8)'!N7,0),IF('Asphalt Plant (AP-9)'!$C$5=\"batch mix plant\",'Asphalt Plant (AP-9)'!N7,0),IF('Asphalt Plant (AP-10)'!$C$5=\"batch mix plant\",'Asphalt Plant (AP-10)'!N7,0)),\"\")","v":""},"",{"$f":"IF(B47=\"\",\"\",MAX(IF('Asphalt Plant (AP-1)'!$C$5=\"batch mix plant\",'Asphalt Plant (AP-1)'!O42,0),IF('Asphalt Plant (AP-2)'!$C$5=\"batch mix plant\",'Asphalt Plant (AP-2)'!O42,0),IF('Asphalt Plant (AP-3)'!$C$5=\"batch mix plant\",'Asphalt Plant (AP-3)'!O42,0),IF('Asphalt Plant (AP-4)'!$C$5=\"batch mix plant\",'Asphalt Plant (AP-4)'!O42,0),IF('Asphalt Plant (AP-5)'!$C$5=\"batch mix plant\",'Asphalt Plant (AP-5)'!O42,0),IF('Asphalt Plant (AP-6)'!$C$5=\"batch mix plant\",'Asphalt Plant (AP-6)'!O42,0),IF('Asphalt Plant (AP-7)'!$C$5=\"batch mix plant\",'Asphalt Plant (AP-7)'!O42,0),IF('Asphalt Plant (AP-8)'!$C$5=\"batch mix plant\",'Asphalt Plant (AP-8)'!O42,0),IF('Asphalt Plant (AP-9)'!$C$5=\"batch mix plant\",'Asphalt Plant (AP-9)'!O42,0),IF('Asphalt Plant (AP-10)'!$C$5=\"batch mix plant\",'Asphalt Plant (AP-10)'!O42,0)))","v":""},"",{"$f":"IF(B47=\"\",\"\",\"AP-42 Table 11.1-2,5,6,9\")","v":""},{"$f":"IF(B47=\"\",\"\",SUM(IF('Asphalt Plant (AP-1)'!$C$5=\"batch mix plant\",'Asphalt Plant (AP-1)'!Q42,0),IF('Asphalt Plant (AP-2)'!$C$5=\"batch mix plant\",'Asphalt Plant (AP-2)'!Q42,0),IF('Asphalt Plant (AP-3)'!$C$5=\"batch mix plant\",'Asphalt Plant (AP-3)'!Q42,0),IF('Asphalt Plant (AP-4)'!$C$5=\"batch mix plant\",'Asphalt Plant (AP-4)'!Q42,0),IF('Asphalt Plant (AP-5)'!$C$5=\"batch mix plant\",'Asphalt Plant (AP-5)'!Q42,0),IF('Asphalt Plant (AP-6)'!$C$5=\"batch mix plant\",'Asphalt Plant (AP-6)'!Q42,0),IF('Asphalt Plant (AP-7)'!$C$5=\"batch mix plant\",'Asphalt Plant (AP-7)'!Q42,0),IF('Asphalt Plant (AP-8)'!$C$5=\"batch mix plant\",'Asphalt Plant (AP-8)'!Q42,0),IF('Asphalt Plant (AP-9)'!$C$5=\"batch mix plant\",'Asphalt Plant (AP-9)'!Q42,0),IF('Asphalt Plant (AP-10)'!$C$5=\"batch mix plant\",'Asphalt Plant (AP-10)'!Q42,0)))","v":""},null,{"$f":"IF(C47=\"\",\"\",SUM(IF('Asphalt Plant (AP-1)'!$C$5=\"batch mix plant\",'Asphalt Plant (AP-1)'!R42,0),IF('Asphalt Plant (AP-2)'!$C$5=\"batch mix plant\",'Asphalt Plant (AP-2)'!R42,0),IF('Asphalt Plant (AP-3)'!$C$5=\"batch mix plant\",'Asphalt Plant (AP-3)'!R42,0),IF('Asphalt Plant (AP-4)'!$C$5=\"batch mix plant\",'Asphalt Plant (AP-4)'!R42,0),IF('Asphalt Plant (AP-5)'!$C$5=\"batch mix plant\",'Asphalt Plant (AP-5)'!R42,0),IF('Asphalt Plant (AP-6)'!$C$5=\"batch mix plant\",'Asphalt Plant (AP-6)'!R42,0),IF('Asphalt Plant (AP-7)'!$C$5=\"batch mix plant\",'Asphalt Plant (AP-7)'!R42,0),IF('Asphalt Plant (AP-8)'!$C$5=\"batch mix plant\",'Asphalt Plant (AP-8)'!R42,0),IF('Asphalt Plant (AP-9)'!$C$5=\"batch mix plant\",'Asphalt Plant (AP-9)'!R42,0),IF('Asphalt Plant (AP-10)'!$C$5=\"batch mix plant\",'Asphalt Plant (AP-10)'!R42,0)))","v":""},{"$f":"IF(D47=\"\",\"\",SUM(IF('Asphalt Plant (AP-1)'!$C$5=\"batch mix plant\",'Asphalt Plant (AP-1)'!S42,0),IF('Asphalt Plant (AP-2)'!$C$5=\"batch mix plant\",'Asphalt Plant (AP-2)'!S42,0),IF('Asphalt Plant (AP-3)'!$C$5=\"batch mix plant\",'Asphalt Plant (AP-3)'!S42,0),IF('Asphalt Plant (AP-4)'!$C$5=\"batch mix plant\",'Asphalt Plant (AP-4)'!S42,0),IF('Asphalt Plant (AP-5)'!$C$5=\"batch mix plant\",'Asphalt Plant (AP-5)'!S42,0),IF('Asphalt Plant (AP-6)'!$C$5=\"batch mix plant\",'Asphalt Plant (AP-6)'!S42,0),IF('Asphalt Plant (AP-7)'!$C$5=\"batch mix plant\",'Asphalt Plant (AP-7)'!S42,0),IF('Asphalt Plant (AP-8)'!$C$5=\"batch mix plant\",'Asphalt Plant (AP-8)'!S42,0),IF('Asphalt Plant (AP-9)'!$C$5=\"batch mix plant\",'Asphalt Plant (AP-9)'!S42,0),IF('Asphalt Plant (AP-10)'!$C$5=\"batch mix plant\",'Asphalt Plant (AP-10)'!S42,0)))","v":""},{"$f":"IF(E47=\"\",\"\",SUM(IF('Asphalt Plant (AP-1)'!$C$5=\"batch mix plant\",'Asphalt Plant (AP-1)'!T42,0),IF('Asphalt Plant (AP-2)'!$C$5=\"batch mix plant\",'Asphalt Plant (AP-2)'!T42,0),IF('Asphalt Plant (AP-3)'!$C$5=\"batch mix plant\",'Asphalt Plant (AP-3)'!T42,0),IF('Asphalt Plant (AP-4)'!$C$5=\"batch mix plant\",'Asphalt Plant (AP-4)'!T42,0),IF('Asphalt Plant (AP-5)'!$C$5=\"batch mix plant\",'Asphalt Plant (AP-5)'!T42,0),IF('Asphalt Plant (AP-6)'!$C$5=\"batch mix plant\",'Asphalt Plant (AP-6)'!T42,0),IF('Asphalt Plant (AP-7)'!$C$5=\"batch mix plant\",'Asphalt Plant (AP-7)'!T42,0),IF('Asphalt Plant (AP-8)'!$C$5=\"batch mix plant\",'Asphalt Plant (AP-8)'!T42,0),IF('Asphalt Plant (AP-9)'!$C$5=\"batch mix plant\",'Asphalt Plant (AP-9)'!T42,0),IF('Asphalt Plant (AP-10)'!$C$5=\"batch mix plant\",'Asphalt Plant (AP-10)'!T42,0)))","v":""}]
["",{"$f":"IF(D48=\"\",\"\",\"Drum Mix Plant - Fuel Oil\")","v":""},{"$f":"IF(B48=\"\",\"\",\"30500258\")","v":""},{"$f":"IF(SUM(IF('Asphalt Plant (AP-1)'!$C$5=\"drum mix plant\",'Asphalt Plant (AP-1)'!N5,0),IF('Asphalt Plant (AP-2)'!$C$5=\"drum mix plant\",'Asphalt Plant (AP-2)'!N5,0),IF('Asphalt Plant (AP-3)'!$C$5=\"drum mix plant\",'Asphalt Plant (AP-3)'!N5,0),IF('Asphalt Plant (AP-4)'!$C$5=\"drum mix plant\",'Asphalt Plant (AP-4)'!N5,0),IF('Asphalt Plant (AP-5)'!$C$5=\"drum mix plant\",'Asphalt Plant (AP-5)'!N5,0),IF('Asphalt Plant (AP-6)'!$C$5=\"drum mix plant\",'Asphalt Plant (AP-6)'!N5,0),IF('Asphalt Plant (AP-7)'!$C$5=\"drum mix plant\",'Asphalt Plant (AP-7)'!N5,0),IF('Asphalt Plant (AP-8)'!$C$5=\"drum mix plant\",'Asphalt Plant (AP-8)'!N5,0),IF('Asphalt Plant (AP-9)'!$C$5=\"drum mix plant\",'Asphalt Plant (AP-9)'!N5,0),IF('Asphalt Plant (AP-10)'!$C$5=\"drum mix plant\",'Asphalt Plant (AP-10)'!N5,0))>0,SUM(IF('Asphalt Plant (AP-1)'!$C$5=\"drum mix plant\",'Asphalt Plant (AP-1)'!N5,0),IF('Asphalt Plant (AP-2)'!$C$5=\"drum mix plant\",'Asphalt Plant (AP-2)'!N5,0),IF('Asphalt Plant (AP-3)'!$C$5=\"drum mix plant\",'Asphalt Plant (AP-3)'!N5,0),IF('Asphalt Plant (AP-4)'!$C$5=\"drum mix plant\",'Asphalt Plant (AP-4)'!N5,0),IF('Asphalt Plant (AP-5)'!$C$5=\"drum mix plant\",'Asphalt Plant (AP-5)'!N5,0),IF('Asphalt Plant (AP-6)'!$C$5=\"drum mix plant\",'Asphalt Plant (AP-6)'!N5,0),IF('Asphalt Plant (AP-7)'!$C$5=\"drum mix plant\",'Asphalt Plant (AP-7)'!N5,0),IF('Asphalt Plant (AP-8)'!$C$5=\"drum mix plant\",'Asphalt Plant (AP-8)'!N5,0),IF('Asphalt Plant (AP-9)'!$C$5=\"drum mix plant\",'Asphalt Plant (AP-9)'!N5,0),IF('Asphalt Plant (AP-10)'!$C$5=\"drum mix plant\",'Asphalt Plant (AP-10)'!N5,0)),\"\")","v":""},"",{"$f":"IF(B48=\"\",\"\",MAX(IF('Asphalt Plant (AP-1)'!$C$5=\"drum mix plant\",'Asphalt Plant (AP-1)'!O40,0),IF('Asphalt Plant (AP-2)'!$C$5=\"drum mix plant\",'Asphalt Plant (AP-2)'!O40,0),IF('Asphalt Plant (AP-3)'!$C$5=\"drum mix plant\",'Asphalt Plant (AP-3)'!O40,0),IF('Asphalt Plant (AP-4)'!$C$5=\"drum mix plant\",'Asphalt Plant (AP-4)'!O40,0),IF('Asphalt Plant (AP-5)'!$C$5=\"drum mix plant\",'Asphalt Plant (AP-5)'!O40,0),IF('Asphalt Plant (AP-6)'!$C$5=\"drum mix plant\",'Asphalt Plant (AP-6)'!O40,0),IF('Asphalt Plant (AP-7)'!$C$5=\"drum mix plant\",'Asphalt Plant (AP-7)'!O40,0),IF('Asphalt Plant (AP-8)'!$C$5=\"drum mix plant\",'Asphalt Plant (AP-8)'!O40,0),IF('Asphalt Plant (AP-9)'!$C$5=\"drum mix plant\",'Asphalt Plant (AP-9)'!O40,0),IF('Asphalt Plant (AP-10)'!$C$5=\"drum mix plant\",'Asphalt Plant (AP-10)'!O40,0)))","v":""},"",{"$f":"IF(B48=\"\",\"\",\"AP-42 Table 11.1-4,7,8,10\")","v":""},{"$f":"IF(B48=\"\",\"\",SUM(IF('Asphalt Plant (AP-1)'!$C$5=\"drum mix plant\",'Asphalt Plant (AP-1)'!Q40,0),IF('Asphalt Plant (AP-2)'!$C$5=\"drum mix plant\",'Asphalt Plant (AP-2)'!Q40,0),IF('Asphalt Plant (AP-3)'!$C$5=\"drum mix plant\",'Asphalt Plant (AP-3)'!Q40,0),IF('Asphalt Plant (AP-4)'!$C$5=\"drum mix plant\",'Asphalt Plant (AP-4)'!Q40,0),IF('Asphalt Plant (AP-5)'!$C$5=\"drum mix plant\",'Asphalt Plant (AP-5)'!Q40,0),IF('Asphalt Plant (AP-6)'!$C$5=\"drum mix plant\",'Asphalt Plant (AP-6)'!Q40,0),IF('Asphalt Plant (AP-7)'!$C$5=\"drum mix plant\",'Asphalt Plant (AP-7)'!Q40,0),IF('Asphalt Plant (AP-8)'!$C$5=\"drum mix plant\",'Asphalt Plant (AP-8)'!Q40,0),IF('Asphalt Plant (AP-9)'!$C$5=\"drum mix plant\",'Asphalt Plant (AP-9)'!Q40,0),IF('Asphalt Plant (AP-10)'!$C$5=\"drum mix plant\",'Asphalt Plant (AP-10)'!Q40,0)))","v":""},null,{"$f":"IF(C48=\"\",\"\",SUM(IF('Asphalt Plant (AP-1)'!$C$5=\"drum mix plant\",'Asphalt Plant (AP-1)'!R40,0),IF('Asphalt Plant (AP-2)'!$C$5=\"drum mix plant\",'Asphalt Plant (AP-2)'!R40,0),IF('Asphalt Plant (AP-3)'!$C$5=\"drum mix plant\",'Asphalt Plant (AP-3)'!R40,0),IF('Asphalt Plant (AP-4)'!$C$5=\"drum mix plant\",'Asphalt Plant (AP-4)'!R40,0),IF('Asphalt Plant (AP-5)'!$C$5=\"drum mix plant\",'Asphalt Plant (AP-5)'!R40,0),IF('Asphalt Plant (AP-6)'!$C$5=\"drum mix plant\",'Asphalt Plant (AP-6)'!R40,0),IF('Asphalt Plant (AP-7)'!$C$5=\"drum mix plant\",'Asphalt Plant (AP-7)'!R40,0),IF('Asphalt Plant (AP-8)'!$C$5=\"drum mix plant\",'Asphalt Plant (AP-8)'!R40,0),IF('Asphalt Plant (AP-9)'!$C$5=\"drum mix plant\",'Asphalt Plant (AP-9)'!R40,0),IF('Asphalt Plant (AP-10)'!$C$5=\"drum mix plant\",'Asphalt Plant (AP-10)'!R40,0)))","v":""},{"$f":"IF(D48=\"\",\"\",SUM(IF('Asphalt Plant (AP-1)'!$C$5=\"drum mix plant\",'Asphalt Plant (AP-1)'!S40,0),IF('Asphalt Plant (AP-2)'!$C$5=\"drum mix plant\",'Asphalt Plant (AP-2)'!S40,0),IF('Asphalt Plant (AP-3)'!$C$5=\"drum mix plant\",'Asphalt Plant (AP-3)'!S40,0),IF('Asphalt Plant (AP-4)'!$C$5=\"drum mix plant\",'Asphalt Plant (AP-4)'!S40,0),IF('Asphalt Plant (AP-5)'!$C$5=\"drum mix plant\",'Asphalt Plant (AP-5)'!S40,0),IF('Asphalt Plant (AP-6)'!$C$5=\"drum mix plant\",'Asphalt Plant (AP-6)'!S40,0),IF('Asphalt Plant (AP-7)'!$C$5=\"drum mix plant\",'Asphalt Plant (AP-7)'!S40,0),IF('Asphalt Plant (AP-8)'!$C$5=\"drum mix plant\",'Asphalt Plant (AP-8)'!S40,0),IF('Asphalt Plant (AP-9)'!$C$5=\"drum mix plant\",'Asphalt Plant (AP-9)'!S40,0),IF('Asphalt Plant (AP-10)'!$C$5=\"drum mix plant\",'Asphalt Plant (AP-10)'!S40,0)))","v":""},{"$f":"IF(E48=\"\",\"\",SUM(IF('Asphalt Plant (AP-1)'!$C$5=\"drum mix plant\",'Asphalt Plant (AP-1)'!T40,0),IF('Asphalt Plant (AP-2)'!$C$5=\"drum mix plant\",'Asphalt Plant (AP-2)'!T40,0),IF('Asphalt Plant (AP-3)'!$C$5=\"drum mix plant\",'Asphalt Plant (AP-3)'!T40,0),IF('Asphalt Plant (AP-4)'!$C$5=\"drum mix plant\",'Asphalt Plant (AP-4)'!T40,0),IF('Asphalt Plant (AP-5)'!$C$5=\"drum mix plant\",'Asphalt Plant (AP-5)'!T40,0),IF('Asphalt Plant (AP-6)'!$C$5=\"drum mix plant\",'Asphalt Plant (AP-6)'!T40,0),IF('Asphalt Plant (AP-7)'!$C$5=\"drum mix plant\",'Asphalt Plant (AP-7)'!T40,0),IF('Asphalt Plant (AP-8)'!$C$5=\"drum mix plant\",'Asphalt Plant (AP-8)'!T40,0),IF('Asphalt Plant (AP-9)'!$C$5=\"drum mix plant\",'Asphalt Plant (AP-9)'!T40,0),IF('Asphalt Plant (AP-10)'!$C$5=\"drum mix plant\",'Asphalt Plant (AP-10)'!T40,0)))","v":""}]
["",{"$f":"IF(D49=\"\",\"\",\"Drum Mix Plant - Waste Oil\")","v":""},{"$f":"IF(B49=\"\",\"\",\"30500255\")","v":""},{"$f":"IF(SUM(IF('Asphalt Plant (AP-1)'!$C$5=\"drum mix plant\",'Asphalt Plant (AP-1)'!N6,0),IF('Asphalt Plant (AP-2)'!$C$5=\"drum mix plant\",'Asphalt Plant (AP-2)'!N6,0),IF('Asphalt Plant (AP-3)'!$C$5=\"drum mix plant\",'Asphalt Plant (AP-3)'!N6,0),IF('Asphalt Plant (AP-4)'!$C$5=\"drum mix plant\",'Asphalt Plant (AP-4)'!N6,0),IF('Asphalt Plant (AP-5)'!$C$5=\"drum mix plant\",'Asphalt Plant (AP-5)'!N6,0),IF('Asphalt Plant (AP-6)'!$C$5=\"drum mix plant\",'Asphalt Plant (AP-6)'!N6,0),IF('Asphalt Plant (AP-7)'!$C$5=\"drum mix plant\",'Asphalt Plant (AP-7)'!N6,0),IF('Asphalt Plant (AP-8)'!$C$5=\"drum mix plant\",'Asphalt Plant (AP-8)'!N6,0),IF('Asphalt Plant (AP-9)'!$C$5=\"drum mix plant\",'Asphalt Plant (AP-9)'!N6,0),IF('Asphalt Plant (AP-10)'!$C$5=\"drum mix plant\",'Asphalt Plant (AP-10)'!N6,0))>0,SUM(IF('Asphalt Plant (AP-1)'!$C$5=\"drum mix plant\",'Asphalt Plant (AP-1)'!N6,0),IF('Asphalt Plant (AP-2)'!$C$5=\"drum mix plant\",'Asphalt Plant (AP-2)'!N6,0),IF('Asphalt Plant (AP-3)'!$C$5=\"drum mix plant\",'Asphalt Plant (AP-3)'!N6,0),IF('Asphalt Plant (AP-4)'!$C$5=\"drum mix plant\",'Asphalt Plant (AP-4)'!N6,0),IF('Asphalt Plant (AP-5)'!$C$5=\"drum mix plant\",'Asphalt Plant (AP-5)'!N6,0),IF('Asphalt Plant (AP-6)'!$C$5=\"drum mix plant\",'Asphalt Plant (AP-6)'!N6,0),IF('Asphalt Plant (AP-7)'!$C$5=\"drum mix plant\",'Asphalt Plant (AP-7)'!N6,0),IF('Asphalt Plant (AP-8)'!$C$5=\"drum mix plant\",'Asphalt Plant (AP-8)'!N6,0),IF('Asphalt Plant (AP-9)'!$C$5=\"drum mix plant\",'Asphalt Plant (AP-9)'!N6,0),IF('Asphalt Plant (AP-10)'!$C$5=\"drum mix plant\",'Asphalt Plant (AP-10)'!N6,0)),\"\")","v":""},"",{"$f":"IF(B49=\"\",\"\",MAX(IF('Asphalt Plant (AP-1)'!$C$5=\"drum mix plant\",'Asphalt Plant (AP-1)'!O41,0),IF('Asphalt Plant (AP-2)'!$C$5=\"drum mix plant\",'Asphalt Plant (AP-2)'!O41,0),IF('Asphalt Plant (AP-3)'!$C$5=\"drum mix plant\",'Asphalt Plant (AP-3)'!O41,0),IF('Asphalt Plant (AP-4)'!$C$5=\"drum mix plant\",'Asphalt Plant (AP-4)'!O41,0),IF('Asphalt Plant (AP-5)'!$C$5=\"drum mix plant\",'Asphalt Plant (AP-5)'!O41,0),IF('Asphalt Plant (AP-6)'!$C$5=\"drum mix plant\",'Asphalt Plant (AP-6)'!O41,0),IF('Asphalt Plant (AP-7)'!$C$5=\"drum mix plant\",'Asphalt Plant (AP-7)'!O41,0),IF('Asphalt Plant (AP-8)'!$C$5=\"drum mix plant\",'Asphalt Plant (AP-8)'!O41,0),IF('Asphalt Plant (AP-9)'!$C$5=\"drum mix plant\",'Asphalt Plant (AP-9)'!O41,0),IF('Asphalt Plant (AP-10)'!$C$5=\"drum mix plant\",'Asphalt Plant (AP-10)'!O41,0)))","v":""},"",{"$f":"IF(B49=\"\",\"\",\"AP-42 Table 11.1-4,7,8,10\")","v":""},{"$f":"IF(B49=\"\",\"\",SUM(IF('Asphalt Plant (AP-1)'!$C$5=\"drum mix plant\",'Asphalt Plant (AP-1)'!Q41,0),IF('Asphalt Plant (AP-2)'!$C$5=\"drum mix plant\",'Asphalt Plant (AP-2)'!Q41,0),IF('Asphalt Plant (AP-3)'!$C$5=\"drum mix plant\",'Asphalt Plant (AP-3)'!Q41,0),IF('Asphalt Plant (AP-4)'!$C$5=\"drum mix plant\",'Asphalt Plant (AP-4)'!Q41,0),IF('Asphalt Plant (AP-5)'!$C$5=\"drum mix plant\",'Asphalt Plant (AP-5)'!Q41,0),IF('Asphalt Plant (AP-6)'!$C$5=\"drum mix plant\",'Asphalt Plant (AP-6)'!Q41,0),IF('Asphalt Plant (AP-7)'!$C$5=\"drum mix plant\",'Asphalt Plant (AP-7)'!Q41,0),IF('Asphalt Plant (AP-8)'!$C$5=\"drum mix plant\",'Asphalt Plant (AP-8)'!Q41,0),IF('Asphalt Plant (AP-9)'!$C$5=\"drum mix plant\",'Asphalt Plant (AP-9)'!Q41,0),IF('Asphalt Plant (AP-10)'!$C$5=\"drum mix plant\",'Asphalt Plant (AP-10)'!Q41,0)))","v":""},null,{"$f":"IF(C49=\"\",\"\",SUM(IF('Asphalt Plant (AP-1)'!$C$5=\"drum mix plant\",'Asphalt Plant (AP-1)'!R41,0),IF('Asphalt Plant (AP-2)'!$C$5=\"drum mix plant\",'Asphalt Plant (AP-2)'!R41,0),IF('Asphalt Plant (AP-3)'!$C$5=\"drum mix plant\",'Asphalt Plant (AP-3)'!R41,0),IF('Asphalt Plant (AP-4)'!$C$5=\"drum mix plant\",'Asphalt Plant (AP-4)'!R41,0),IF('Asphalt Plant (AP-5)'!$C$5=\"drum mix plant\",'Asphalt Plant (AP-5)'!R41,0),IF('Asphalt Plant (AP-6)'!$C$5=\"drum mix plant\",'Asphalt Plant (AP-6)'!R41,0),IF('Asphalt Plant (AP-7)'!$C$5=\"drum mix plant\",'Asphalt Plant (AP-7)'!R41,0),IF('Asphalt Plant (AP-8)'!$C$5=\"drum mix plant\",'Asphalt Plant (AP-8)'!R41,0),IF('Asphalt Plant (AP-9)'!$C$5=\"drum mix plant\",'Asphalt Plant (AP-9)'!R41,0),IF('Asphalt Plant (AP-10)'!$C$5=\"drum mix plant\",'Asphalt Plant (AP-10)'!R41,0)))","v":""},{"$f":"IF(D49=\"\",\"\",SUM(IF('Asphalt Plant (AP-1)'!$C$5=\"drum mix plant\",'Asphalt Plant (AP-1)'!S41,0),IF('Asphalt Plant (AP-2)'!$C$5=\"drum mix plant\",'Asphalt Plant (AP-2)'!S41,0),IF('Asphalt Plant (AP-3)'!$C$5=\"drum mix plant\",'Asphalt Plant (AP-3)'!S41,0),IF('Asphalt Plant (AP-4)'!$C$5=\"drum mix plant\",'Asphalt Plant (AP-4)'!S41,0),IF('Asphalt Plant (AP-5)'!$C$5=\"drum mix plant\",'Asphalt Plant (AP-5)'!S41,0),IF('Asphalt Plant (AP-6)'!$C$5=\"drum mix plant\",'Asphalt Plant (AP-6)'!S41,0),IF('Asphalt Plant (AP-7)'!$C$5=\"drum mix plant\",'Asphalt Plant (AP-7)'!S41,0),IF('Asphalt Plant (AP-8)'!$C$5=\"drum mix plant\",'Asphalt Plant (AP-8)'!S41,0),IF('Asphalt Plant (AP-9)'!$C$5=\"drum mix plant\",'Asphalt Plant (AP-9)'!S41,0),IF('Asphalt Plant (AP-10)'!$C$5=\"drum mix plant\",'Asphalt Plant (AP-10)'!S41,0)))","v":""},{"$f":"IF(E49=\"\",\"\",SUM(IF('Asphalt Plant (AP-1)'!$C$5=\"drum mix plant\",'Asphalt Plant (AP-1)'!T41,0),IF('Asphalt Plant (AP-2)'!$C$5=\"drum mix plant\",'Asphalt Plant (AP-2)'!T41,0),IF('Asphalt Plant (AP-3)'!$C$5=\"drum mix plant\",'Asphalt Plant (AP-3)'!T41,0),IF('Asphalt Plant (AP-4)'!$C$5=\"drum mix plant\",'Asphalt Plant (AP-4)'!T41,0),IF('Asphalt Plant (AP-5)'!$C$5=\"drum mix plant\",'Asphalt Plant (AP-5)'!T41,0),IF('Asphalt Plant (AP-6)'!$C$5=\"drum mix plant\",'Asphalt Plant (AP-6)'!T41,0),IF('Asphalt Plant (AP-7)'!$C$5=\"drum mix plant\",'Asphalt Plant (AP-7)'!T41,0),IF('Asphalt Plant (AP-8)'!$C$5=\"drum mix plant\",'Asphalt Plant (AP-8)'!T41,0),IF('Asphalt Plant (AP-9)'!$C$5=\"drum mix plant\",'Asphalt Plant (AP-9)'!T41,0),IF('Asphalt Plant (AP-10)'!$C$5=\"drum mix plant\",'Asphalt Plant (AP-10)'!T41,0)))","v":""}]
["",{"$f":"IF(D50=\"\",\"\",\"Drum Mix Plant - Natural Gas\")","v":""},{"$f":"IF(B50=\"\",\"\",\"30500261\")","v":""},{"$f":"IF(SUM(IF('Asphalt Plant (AP-1)'!$C$5=\"drum mix plant\",'Asphalt Plant (AP-1)'!N7,0),IF('Asphalt Plant (AP-2)'!$C$5=\"drum mix plant\",'Asphalt Plant (AP-2)'!N7,0),IF('Asphalt Plant (AP-3)'!$C$5=\"drum mix plant\",'Asphalt Plant (AP-3)'!N7,0),IF('Asphalt Plant (AP-4)'!$C$5=\"drum mix plant\",'Asphalt Plant (AP-4)'!N7,0),IF('Asphalt Plant (AP-5)'!$C$5=\"drum mix plant\",'Asphalt Plant (AP-5)'!N7,0),IF('Asphalt Plant (AP-6)'!$C$5=\"drum mix plant\",'Asphalt Plant (AP-6)'!N7,0),IF('Asphalt Plant (AP-7)'!$C$5=\"drum mix plant\",'Asphalt Plant (AP-7)'!N7,0),IF('Asphalt Plant (AP-8)'!$C$5=\"drum mix plant\",'Asphalt Plant (AP-8)'!N7,0),IF('Asphalt Plant (AP-9)'!$C$5=\"drum mix plant\",'Asphalt Plant (AP-9)'!N7,0),IF('Asphalt Plant (AP-10)'!$C$5=\"drum mix plant\",'Asphalt Plant (AP-10)'!N7,0))>0,SUM(IF('Asphalt Plant (AP-1)'!$C$5=\"drum mix plant\",'Asphalt Plant (AP-1)'!N7,0),IF('Asphalt Plant (AP-2)'!$C$5=\"drum mix plant\",'Asphalt Plant (AP-2)'!N7,0),IF('Asphalt Plant (AP-3)'!$C$5=\"drum mix plant\",'Asphalt Plant (AP-3)'!N7,0),IF('Asphalt Plant (AP-4)'!$C$5=\"drum mix plant\",'Asphalt Plant (AP-4)'!N7,0),IF('Asphalt Plant (AP-5)'!$C$5=\"drum mix plant\",'Asphalt Plant (AP-5)'!N7,0),IF('Asphalt Plant (AP-6)'!$C$5=\"drum mix plant\",'Asphalt Plant (AP-6)'!N7,0),IF('Asphalt Plant (AP-7)'!$C$5=\"drum mix plant\",'Asphalt Plant (AP-7)'!N7,0),IF('Asphalt Plant (AP-8)'!$C$5=\"drum mix plant\",'Asphalt Plant (AP-8)'!N7,0),IF('Asphalt Plant (AP-9)'!$C$5=\"drum mix plant\",'Asphalt Plant (AP-9)'!N7,0),IF('Asphalt Plant (AP-10)'!$C$5=\"drum mix plant\",'Asphalt Plant (AP-10)'!N7,0)),\"\")","v":""},"",{"$f":"IF(B50=\"\",\"\",MAX(IF('Asphalt Plant (AP-1)'!$C$5=\"drum mix plant\",'Asphalt Plant (AP-1)'!O42,0),IF('Asphalt Plant (AP-2)'!$C$5=\"drum mix plant\",'Asphalt Plant (AP-2)'!O42,0),IF('Asphalt Plant (AP-3)'!$C$5=\"drum mix plant\",'Asphalt Plant (AP-3)'!O42,0),IF('Asphalt Plant (AP-4)'!$C$5=\"drum mix plant\",'Asphalt Plant (AP-4)'!O42,0),IF('Asphalt Plant (AP-5)'!$C$5=\"drum mix plant\",'Asphalt Plant (AP-5)'!O42,0),IF('Asphalt Plant (AP-6)'!$C$5=\"drum mix plant\",'Asphalt Plant (AP-6)'!O42,0),IF('Asphalt Plant (AP-7)'!$C$5=\"drum mix plant\",'Asphalt Plant (AP-7)'!O42,0),IF('Asphalt Plant (AP-8)'!$C$5=\"drum mix plant\",'Asphalt Plant (AP-8)'!O42,0),IF('Asphalt Plant (AP-9)'!$C$5=\"drum mix plant\",'Asphalt Plant (AP-9)'!O42,0),IF('Asphalt Plant (AP-10)'!$C$5=\"drum mix plant\",'Asphalt Plant (AP-10)'!O42,0)))","v":""},"",{"$f":"IF(B50=\"\",\"\",\"AP-42 Table 11.1-4,7,8,10,12\")","v":""},{"$f":"IF(B50=\"\",\"\",SUM(IF('Asphalt Plant (AP-1)'!$C$5=\"drum mix plant\",'Asphalt Plant (AP-1)'!Q42,0),IF('Asphalt Plant (AP-2)'!$C$5=\"drum mix plant\",'Asphalt Plant (AP-2)'!Q42,0),IF('Asphalt Plant (AP-3)'!$C$5=\"drum mix plant\",'Asphalt Plant (AP-3)'!Q42,0),IF('Asphalt Plant (AP-4)'!$C$5=\"drum mix plant\",'Asphalt Plant (AP-4)'!Q42,0),IF('Asphalt Plant (AP-5)'!$C$5=\"drum mix plant\",'Asphalt Plant (AP-5)'!Q42,0),IF('Asphalt Plant (AP-6)'!$C$5=\"drum mix plant\",'Asphalt Plant (AP-6)'!Q42,0),IF('Asphalt Plant (AP-7)'!$C$5=\"drum mix plant\",'Asphalt Plant (AP-7)'!Q42,0),IF('Asphalt Plant (AP-8)'!$C$5=\"drum mix plant\",'Asphalt Plant (AP-8)'!Q42,0),IF('Asphalt Plant (AP-9)'!$C$5=\"drum mix plant\",'Asphalt Plant (AP-9)'!Q42,0),IF('Asphalt Plant (AP-10)'!$C$5=\"drum mix plant\",'Asphalt Plant (AP-10)'!Q42,0)))","v":""},null,{"$f":"IF(C50=\"\",\"\",SUM(IF('Asphalt Plant (AP-1)'!$C$5=\"drum mix plant\",'Asphalt Plant (AP-1)'!R42,0),IF('Asphalt Plant (AP-2)'!$C$5=\"drum mix plant\",'Asphalt Plant (AP-2)'!R42,0),IF('Asphalt Plant (AP-3)'!$C$5=\"drum mix plant\",'Asphalt Plant (AP-3)'!R42,0),IF('Asphalt Plant (AP-4)'!$C$5=\"drum mix plant\",'Asphalt Plant (AP-4)'!R42,0),IF('Asphalt Plant (AP-5)'!$C$5=\"drum mix plant\",'Asphalt Plant (AP-5)'!R42,0),IF('Asphalt Plant (AP-6)'!$C$5=\"drum mix plant\",'Asphalt Plant (AP-6)'!R42,0),IF('Asphalt Plant (AP-7)'!$C$5=\"drum mix plant\",'Asphalt Plant (AP-7)'!R42,0),IF('Asphalt Plant (AP-8)'!$C$5=\"drum mix plant\",'Asphalt Plant (AP-8)'!R42,0),IF('Asphalt Plant (AP-9)'!$C$5=\"drum mix plant\",'Asphalt Plant (AP-9)'!R42,0),IF('Asphalt Plant (AP-10)'!$C$5=\"drum mix plant\",'Asphalt Plant (AP-10)'!R42,0)))","v":""},{"$f":"IF(D50=\"\",\"\",SUM(IF('Asphalt Plant (AP-1)'!$C$5=\"drum mix plant\",'Asphalt Plant (AP-1)'!S42,0),IF('Asphalt Plant (AP-2)'!$C$5=\"drum mix plant\",'Asphalt Plant (AP-2)'!S42,0),IF('Asphalt Plant (AP-3)'!$C$5=\"drum mix plant\",'Asphalt Plant (AP-3)'!S42,0),IF('Asphalt Plant (AP-4)'!$C$5=\"drum mix plant\",'Asphalt Plant (AP-4)'!S42,0),IF('Asphalt Plant (AP-5)'!$C$5=\"drum mix plant\",'Asphalt Plant (AP-5)'!S42,0),IF('Asphalt Plant (AP-6)'!$C$5=\"drum mix plant\",'Asphalt Plant (AP-6)'!S42,0),IF('Asphalt Plant (AP-7)'!$C$5=\"drum mix plant\",'Asphalt Plant (AP-7)'!S42,0),IF('Asphalt Plant (AP-8)'!$C$5=\"drum mix plant\",'Asphalt Plant (AP-8)'!S42,0),IF('Asphalt Plant (AP-9)'!$C$5=\"drum mix plant\",'Asphalt Plant (AP-9)'!S42,0),IF('Asphalt Plant (AP-10)'!$C$5=\"drum mix plant\",'Asphalt Plant (AP-10)'!S42,0)))","v":""},{"$f":"IF(E50=\"\",\"\",SUM(IF('Asphalt Plant (AP-1)'!$C$5=\"drum mix plant\",'Asphalt Plant (AP-1)'!T42,0),IF('Asphalt Plant (AP-2)'!$C$5=\"drum mix plant\",'Asphalt Plant (AP-2)'!T42,0),IF('Asphalt Plant (AP-3)'!$C$5=\"drum mix plant\",'Asphalt Plant (AP-3)'!T42,0),IF('Asphalt Plant (AP-4)'!$C$5=\"drum mix plant\",'Asphalt Plant (AP-4)'!T42,0),IF('Asphalt Plant (AP-5)'!$C$5=\"drum mix plant\",'Asphalt Plant (AP-5)'!T42,0),IF('Asphalt Plant (AP-6)'!$C$5=\"drum mix plant\",'Asphalt Plant (AP-6)'!T42,0),IF('Asphalt Plant (AP-7)'!$C$5=\"drum mix plant\",'Asphalt Plant (AP-7)'!T42,0),IF('Asphalt Plant (AP-8)'!$C$5=\"drum mix plant\",'Asphalt Plant (AP-8)'!T42,0),IF('Asphalt Plant (AP-9)'!$C$5=\"drum mix plant\",'Asphalt Plant (AP-9)'!T42,0),IF('Asphalt Plant (AP-10)'!$C$5=\"drum mix plant\",'Asphalt Plant (AP-10)'!T42,0)))","v":""}]
[{"$f":"IF('Permitted Diesel Engines'!R51=0,\"\",\"ALL\")","v":""},{"$f":"IF('Permitted Diesel Engines'!R51=0,\"\",\"Diesel Generator ≤ 600 bhp\")","v":""},{"$f":"IF('Permitted Diesel Engines'!R51=0,\"\",LOOKUP(B51,'Emission Factors'!A43:A44,'Emission Factors'!B43:B44))","v":""},{"$f":"IF('Permitted Diesel Engines'!R51=0,\"\",'Permitted Diesel Engines'!R51)","v":""},{"$f":"IF(B51=\"\",\"\",\"MMBtu/hr\")","v":""},{"$f":"IF(B51=\"\",\"\",LOOKUP(B51,'Emission Factors'!$A$43:$A$44,'Emission Factors'!$H$43:$H$44))","v":""},{"$f":"IF(B51=\"\",\"\",LOOKUP(B51,'Emission Factors'!$A$43:$A$44,'Emission Factors'!$C$43:$C$44))","v":""},{"$f":"IF(B51=\"\",\"\",LOOKUP(B51,'Emission Factors'!$A$43:$A$44,'Emission Factors'!$I$43:$I$44))","v":""},{"$f":"IF('Permitted Diesel Engines'!R51=0,\"\",IF(F51='Emission Factors'!$H$43,D51*F51,D51*F51*$F$53))","v":""},null,null,{"$f":"IF(B51=\"\",\"\",'Permitted Diesel Engines'!$AD$78)","v":""},{"$f":"IF(B51=\"\",\"\",'Permitted Diesel Engines'!$T$51*F51/2000)","v":""}]
[{"$f":"IF('Permitted Diesel Engines'!R52=0,\"\",\"ALL\")","v":""},{"$f":"IF('Permitted Diesel Engines'!R52=0,\"\",\"Diesel Generator> 600 bhp\")","v":""},{"$f":"IF('Permitted Diesel Engines'!R52=0,\"\",LOOKUP(B52,'Emission Factors'!A44:A45,'Emission Factors'!B44:B45))","v":""},{"$f":"IF('Permitted Diesel Engines'!R52=0,\"\",'Permitted Diesel Engines'!R52)","v":""},{"$f":"IF(B52=\"\",\"\",\"MMBtu/hr\")","v":""},{"$f":"IF(B52=\"\",\"\",LOOKUP(B52,'Emission Factors'!$A$43:$A$44,'Emission Factors'!$H$43:$H$44))","v":""},{"$f":"IF(B52=\"\",\"\",LOOKUP(B52,'Emission Factors'!$A$43:$A$44,'Emission Factors'!$C$43:$C$44))","v":""},{"$f":"IF(B52=\"\",\"\",LOOKUP(B52,'Emission Factors'!$A$43:$A$44,'Emission Factors'!$I$43:$I$44))","v":""},{"$f":"IF('Permitted Diesel Engines'!R52=0,\"\",IF(F52='Emission Factors'!$H$43,D52*F52,D52*F52*$F$53))","v":""},null,null,{"$f":"IF(B52=\"\",\"\",'Permitted Diesel Engines'!$AE$78)","v":""},{"$f":"IF(B52=\"\",\"\",'Permitted Diesel Engines'!$T$52*F52*F53/2000)","v":""}]
[null,null,null,"Percent Sulfur:",null,{"$f":"IF('Permitted Diesel Engines'!G5>0,'Permitted Diesel Engines'!G5,0.5)","v":0.5},null,null,null,null,"FACILITY TOTALS:",{"$f":"SUM(L45:L52)","v":0},{"$f":"SUM(M45:M52)","v":0}]
["NOx"]
[{"$f":"IF(D55=\"\",\"\",\"ALL\")","v":""},{"$f":"IF(D55=\"\",\"\",\"Batch Mix Plant - Fuel Oil\")","v":""},{"$f":"IF(B55=\"\",\"\",\"30500246\")","v":""},{"$f":"IF(SUM(IF('Asphalt Plant (AP-1)'!$C$5=\"batch mix plant\",'Asphalt Plant (AP-1)'!N5,0),IF('Asphalt Plant (AP-2)'!$C$5=\"batch mix plant\",'Asphalt Plant (AP-2)'!N5,0),IF('Asphalt Plant (AP-3)'!$C$5=\"batch mix plant\",'Asphalt Plant (AP-3)'!N5,0),IF('Asphalt Plant (AP-4)'!$C$5=\"batch mix plant\",'Asphalt Plant (AP-4)'!N5,0),IF('Asphalt Plant (AP-5)'!$C$5=\"batch mix plant\",'Asphalt Plant (AP-5)'!N5,0),IF('Asphalt Plant (AP-6)'!$C$5=\"batch mix plant\",'Asphalt Plant (AP-6)'!N5,0),IF('Asphalt Plant (AP-7)'!$C$5=\"batch mix plant\",'Asphalt Plant (AP-7)'!N5,0),IF('Asphalt Plant (AP-8)'!$C$5=\"batch mix plant\",'Asphalt Plant (AP-8)'!N5,0),IF('Asphalt Plant (AP-9)'!$C$5=\"batch mix plant\",'Asphalt Plant (AP-9)'!N5,0),IF('Asphalt Plant (AP-10)'!$C$5=\"batch mix plant\",'Asphalt Plant (AP-10)'!N5,0))>0,SUM(IF('Asphalt Plant (AP-1)'!$C$5=\"batch mix plant\",'Asphalt Plant (AP-1)'!N5,0),IF('Asphalt Plant (AP-2)'!$C$5=\"batch mix plant\",'Asphalt Plant (AP-2)'!N5,0),IF('Asphalt Plant (AP-3)'!$C$5=\"batch mix plant\",'Asphalt Plant (AP-3)'!N5,0),IF('Asphalt Plant (AP-4)'!$C$5=\"batch mix plant\",'Asphalt Plant (AP-4)'!N5,0),IF('Asphalt Plant (AP-5)'!$C$5=\"batch mix plant\",'Asphalt Plant (AP-5)'!N5,0),IF('Asphalt Plant (AP-6)'!$C$5=\"batch mix plant\",'Asphalt Plant (AP-6)'!N5,0),IF('Asphalt Plant (AP-7)'!$C$5=\"batch mix plant\",'Asphalt Plant (AP-7)'!N5,0),IF('Asphalt Plant (AP-8)'!$C$5=\"batch mix plant\",'Asphalt Plant (AP-8)'!N5,0),IF('Asphalt Plant (AP-9)'!$C$5=\"batch mix plant\",'Asphalt Plant (AP-9)'!N5,0),IF('Asphalt Plant (AP-10)'!$C$5=\"batch mix plant\",'Asphalt Plant (AP-10)'!N5,0)),\"\")","v":""},{"$f":"IF(B55=\"\",\"\",\"tons/hr\")","v":""},{"$f":"IF(B55=\"\",\"\",MAX(IF('Asphalt Plant (AP-1)'!$C$5=\"batch mix plant\",'Asphalt Plant (AP-1)'!O44,0),IF('Asphalt Plant (AP-2)'!$C$5=\"batch mix plant\",'Asphalt Plant (AP-2)'!O44,0),IF('Asphalt Plant (AP-3)'!$C$5=\"batch mix plant\",'Asphalt Plant (AP-3)'!O44,0),IF('Asphalt Plant (AP-4)'!$C$5=\"batch mix plant\",'Asphalt Plant (AP-4)'!O44,0),IF('Asphalt Plant (AP-5)'!$C$5=\"batch mix plant\",'Asphalt Plant (AP-5)'!O44,0),IF('Asphalt Plant (AP-6)'!$C$5=\"batch mix plant\",'Asphalt Plant (AP-6)'!O44,0),IF('Asphalt Plant (AP-7)'!$C$5=\"batch mix plant\",'Asphalt Plant (AP-7)'!O44,0),IF('Asphalt Plant (AP-8)'!$C$5=\"batch mix plant\",'Asphalt Plant (AP-8)'!O44,0),IF('Asphalt Plant (AP-9)'!$C$5=\"batch mix plant\",'Asphalt Plant (AP-9)'!O44,0),IF('Asphalt Plant (AP-10)'!$C$5=\"batch mix plant\",'Asphalt Plant (AP-10)'!O44,0)))","v":""},{"$f":"IF(B55=\"\",\"\",\"lb/ton\")","v":""},{"$f":"IF(B55=\"\",\"\",\"AP-42 Table 11.1-2,5,6,9\")","v":""},{"$f":"IF(B55=\"\",\"\",SUM(IF('Asphalt Plant (AP-1)'!$C$5=\"batch mix plant\",'Asphalt Plant (AP-1)'!Q44,0),IF('Asphalt Plant (AP-2)'!$C$5=\"batch mix plant\",'Asphalt Plant (AP-2)'!Q44,0),IF('Asphalt Plant (AP-3)'!$C$5=\"batch mix plant\",'Asphalt Plant (AP-3)'!Q44,0),IF('Asphalt Plant (AP-4)'!$C$5=\"batch mix plant\",'Asphalt Plant (AP-4)'!Q44,0),IF('Asphalt Plant (AP-5)'!$C$5=\"batch mix plant\",'Asphalt Plant (AP-5)'!Q44,0),IF('Asphalt Plant (AP-6)'!$C$5=\"batch mix plant\",'Asphalt Plant (AP-6)'!Q44,0),IF('Asphalt Plant (AP-7)'!$C$5=\"batch mix plant\",'Asphalt Plant (AP-7)'!Q44,0),IF('Asphalt Plant (AP-8)'!$C$5=\"batch mix plant\",'Asphalt Plant (AP-8)'!Q44,0),IF('Asphalt Plant (AP-9)'!$C$5=\"batch mix plant\",'Asphalt Plant (AP-9)'!Q44,0),IF('Asphalt Plant (AP-10)'!$C$5=\"batch mix plant\",'Asphalt Plant (AP-10)'!Q44,0)))","v":""},null,{"$f":"IF(B55=\"\",\"\",SUM(IF('Asphalt Plant (AP-1)'!$C$5=\"batch mix plant\",'Asphalt Plant (AP-1)'!R44,0),IF('Asphalt Plant (AP-2)'!$C$5=\"batch mix plant\",'Asphalt Plant (AP-2)'!R44,0),IF('Asphalt Plant (AP-3)'!$C$5=\"batch mix plant\",'Asphalt Plant (AP-3)'!R44,0),IF('Asphalt Plant (AP-4)'!$C$5=\"batch mix plant\",'Asphalt Plant (AP-4)'!R44,0),IF('Asphalt Plant (AP-5)'!$C$5=\"batch mix plant\",'Asphalt Plant (AP-5)'!R44,0),IF('Asphalt Plant (AP-6)'!$C$5=\"batch mix plant\",'Asphalt Plant (AP-6)'!R44,0),IF('Asphalt Plant (AP-7)'!$C$5=\"batch mix plant\",'Asphalt Plant (AP-7)'!R44,0),IF('Asphalt Plant (AP-8)'!$C$5=\"batch mix plant\",'Asphalt Plant (AP-8)'!R44,0),IF('Asphalt Plant (AP-9)'!$C$5=\"batch mix plant\",'Asphalt Plant (AP-9)'!R44,0),IF('Asphalt Plant (AP-10)'!$C$5=\"batch mix plant\",'Asphalt Plant (AP-10)'!R44,0)))","v":""},{"$f":"IF(B55=\"\",\"\",SUM(IF('Asphalt Plant (AP-1)'!$C$5=\"batch mix plant\",'Asphalt Plant (AP-1)'!S44,0),IF('Asphalt Plant (AP-2)'!$C$5=\"batch mix plant\",'Asphalt Plant (AP-2)'!S44,0),IF('Asphalt Plant (AP-3)'!$C$5=\"batch mix plant\",'Asphalt Plant (AP-3)'!S44,0),IF('Asphalt Plant (AP-4)'!$C$5=\"batch mix plant\",'Asphalt Plant (AP-4)'!S44,0),IF('Asphalt Plant (AP-5)'!$C$5=\"batch mix plant\",'Asphalt Plant (AP-5)'!S44,0),IF('Asphalt Plant (AP-6)'!$C$5=\"batch mix plant\",'Asphalt Plant (AP-6)'!S44,0),IF('Asphalt Plant (AP-7)'!$C$5=\"batch mix plant\",'Asphalt Plant (AP-7)'!S44,0),IF('Asphalt Plant (AP-8)'!$C$5=\"batch mix plant\",'Asphalt Plant (AP-8)'!S44,0),IF('Asphalt Plant (AP-9)'!$C$5=\"batch mix plant\",'Asphalt Plant (AP-9)'!S44,0),IF('Asphalt Plant (AP-10)'!$C$5=\"batch mix plant\",'Asphalt Plant (AP-10)'!S44,0)))","v":""},{"$f":"IF(B55=\"\",\"\",SUM(IF('Asphalt Plant (AP-1)'!$C$5=\"batch mix plant\",'Asphalt Plant (AP-1)'!T44,0),IF('Asphalt Plant (AP-2)'!$C$5=\"batch mix plant\",'Asphalt Plant (AP-2)'!T44,0),IF('Asphalt Plant (AP-3)'!$C$5=\"batch mix plant\",'Asphalt Plant (AP-3)'!T44,0),IF('Asphalt Plant (AP-4)'!$C$5=\"batch mix plant\",'Asphalt Plant (AP-4)'!T44,0),IF('Asphalt Plant (AP-5)'!$C$5=\"batch mix plant\",'Asphalt Plant (AP-5)'!T44,0),IF('Asphalt Plant (AP-6)'!$C$5=\"batch mix plant\",'Asphalt Plant (AP-6)'!T44,0),IF('Asphalt Plant (AP-7)'!$C$5=\"batch mix plant\",'Asphalt Plant (AP-7)'!T44,0),IF('Asphalt Plant (AP-8)'!$C$5=\"batch mix plant\",'Asphalt Plant (AP-8)'!T44,0),IF('Asphalt Plant (AP-9)'!$C$5=\"batch mix plant\",'Asphalt Plant (AP-9)'!T44,0),IF('Asphalt Plant (AP-10)'!$C$5=\"batch mix plant\",'Asphalt Plant (AP-10)'!T44,0)))","v":""}]
["",{"$f":"IF(D56=\"\",\"\",\"Batch Mix Plant - Waste Oil\")","v":""},{"$f":"IF(B56=\"\",\"\",\"30500245\")","v":""},{"$f":"IF(SUM(IF('Asphalt Plant (AP-1)'!$C$5=\"batch mix plant\",'Asphalt Plant (AP-1)'!N6,0),IF('Asphalt Plant (AP-2)'!$C$5=\"batch mix plant\",'Asphalt Plant (AP-2)'!N6,0),IF('Asphalt Plant (AP-3)'!$C$5=\"batch mix plant\",'Asphalt Plant (AP-3)'!N6,0),IF('Asphalt Plant (AP-4)'!$C$5=\"batch mix plant\",'Asphalt Plant (AP-4)'!N6,0),IF('Asphalt Plant (AP-5)'!$C$5=\"batch mix plant\",'Asphalt Plant (AP-5)'!N6,0),IF('Asphalt Plant (AP-6)'!$C$5=\"batch mix plant\",'Asphalt Plant (AP-6)'!N6,0),IF('Asphalt Plant (AP-7)'!$C$5=\"batch mix plant\",'Asphalt Plant (AP-7)'!N6,0),IF('Asphalt Plant (AP-8)'!$C$5=\"batch mix plant\",'Asphalt Plant (AP-8)'!N6,0),IF('Asphalt Plant (AP-9)'!$C$5=\"batch mix plant\",'Asphalt Plant (AP-9)'!N6,0),IF('Asphalt Plant (AP-10)'!$C$5=\"batch mix plant\",'Asphalt Plant (AP-10)'!N6,0))>0,SUM(IF('Asphalt Plant (AP-1)'!$C$5=\"batch mix plant\",'Asphalt Plant (AP-1)'!N6,0),IF('Asphalt Plant (AP-2)'!$C$5=\"batch mix plant\",'Asphalt Plant (AP-2)'!N6,0),IF('Asphalt Plant (AP-3)'!$C$5=\"batch mix plant\",'Asphalt Plant (AP-3)'!N6,0),IF('Asphalt Plant (AP-4)'!$C$5=\"batch mix plant\",'Asphalt Plant (AP-4)'!N6,0),IF('Asphalt Plant (AP-5)'!$C$5=\"batch mix plant\",'Asphalt Plant (AP-5)'!N6,0),IF('Asphalt Plant (AP-6)'!$C$5=\"batch mix plant\",'Asphalt Plant (AP-6)'!N6,0),IF('Asphalt Plant (AP-7)'!$C$5=\"batch mix plant\",'Asphalt Plant (AP-7)'!N6,0),IF('Asphalt Plant (AP-8)'!$C$5=\"batch mix plant\",'Asphalt Plant (AP-8)'!N6,0),IF('Asphalt Plant (AP-9)'!$C$5=\"batch mix plant\",'Asphalt Plant (AP-9)'!N6,0),IF('Asphalt Plant (AP-10)'!$C$5=\"batch mix plant\",'Asphalt Plant (AP-10)'!N6,0)),\"\")","v":""},"",{"$f":"IF(B56=\"\",\"\",MAX(IF('Asphalt Plant (AP-1)'!$C$5=\"batch mix plant\",'Asphalt Plant (AP-1)'!O45,0),IF('Asphalt Plant (AP-2)'!$C$5=\"batch mix plant\",'Asphalt Plant (AP-2)'!O45,0),IF('Asphalt Plant (AP-3)'!$C$5=\"batch mix plant\",'Asphalt Plant (AP-3)'!O45,0),IF('Asphalt Plant (AP-4)'!$C$5=\"batch mix plant\",'Asphalt Plant (AP-4)'!O45,0),IF('Asphalt Plant (AP-5)'!$C$5=\"batch mix plant\",'Asphalt Plant (AP-5)'!O45,0),IF('Asphalt Plant (AP-6)'!$C$5=\"batch mix plant\",'Asphalt Plant (AP-6)'!O45,0),IF('Asphalt Plant (AP-7)'!$C$5=\"batch mix plant\",'Asphalt Plant (AP-7)'!O45,0),IF('Asphalt Plant (AP-8)'!$C$5=\"batch mix plant\",'Asphalt Plant (AP-8)'!O45,0),IF('Asphalt Plant (AP-9)'!$C$5=\"batch mix plant\",'Asphalt Plant (AP-9)'!O45,0),IF('Asphalt Plant (AP-10)'!$C$5=\"batch mix plant\",'Asphalt Plant (AP-10)'!O45,0)))","v":""},"",{"$f":"IF(B56=\"\",\"\",\"AP-42 Table 11.1-2,5,6,9\")","v":""},{"$f":"IF(B56=\"\",\"\",SUM(IF('Asphalt Plant (AP-1)'!$C$5=\"batch mix plant\",'Asphalt Plant (AP-1)'!Q45,0),IF('Asphalt Plant (AP-2)'!$C$5=\"batch mix plant\",'Asphalt Plant (AP-2)'!Q45,0),IF('Asphalt Plant (AP-3)'!$C$5=\"batch mix plant\",'Asphalt Plant (AP-3)'!Q45,0),IF('Asphalt Plant (AP-4)'!$C$5=\"batch mix plant\",'Asphalt Plant (AP-4)'!Q45,0),IF('Asphalt Plant (AP-5)'!$C$5=\"batch mix plant\",'Asphalt Plant (AP-5)'!Q45,0),IF('Asphalt Plant (AP-6)'!$C$5=\"batch mix plant\",'Asphalt Plant (AP-6)'!Q45,0),IF('Asphalt Plant (AP-7)'!$C$5=\"batch mix plant\",'Asphalt Plant (AP-7)'!Q45,0),IF('Asphalt Plant (AP-8)'!$C$5=\"batch mix plant\",'Asphalt Plant (AP-8)'!Q45,0),IF('Asphalt Plant (AP-9)'!$C$5=\"batch mix plant\",'Asphalt Plant (AP-9)'!Q45,0),IF('Asphalt Plant (AP-10)'!$C$5=\"batch mix plant\",'Asphalt Plant (AP-10)'!Q45,0)))","v":""},null,{"$f":"IF(B56=\"\",\"\",SUM(IF('Asphalt Plant (AP-1)'!$C$5=\"batch mix plant\",'Asphalt Plant (AP-1)'!R45,0),IF('Asphalt Plant (AP-2)'!$C$5=\"batch mix plant\",'Asphalt Plant (AP-2)'!R45,0),IF('Asphalt Plant (AP-3)'!$C$5=\"batch mix plant\",'Asphalt Plant (AP-3)'!R45,0),IF('Asphalt Plant (AP-4)'!$C$5=\"batch mix plant\",'Asphalt Plant (AP-4)'!R45,0),IF('Asphalt Plant (AP-5)'!$C$5=\"batch mix plant\",'Asphalt Plant (AP-5)'!R45,0),IF('Asphalt Plant (AP-6)'!$C$5=\"batch mix plant\",'Asphalt Plant (AP-6)'!R45,0),IF('Asphalt Plant (AP-7)'!$C$5=\"batch mix plant\",'Asphalt Plant (AP-7)'!R45,0),IF('Asphalt Plant (AP-8)'!$C$5=\"batch mix plant\",'Asphalt Plant (AP-8)'!R45,0),IF('Asphalt Plant (AP-9)'!$C$5=\"batch mix plant\",'Asphalt Plant (AP-9)'!R45,0),IF('Asphalt Plant (AP-10)'!$C$5=\"batch mix plant\",'Asphalt Plant (AP-10)'!R45,0)))","v":""},{"$f":"IF(B56=\"\",\"\",SUM(IF('Asphalt Plant (AP-1)'!$C$5=\"batch mix plant\",'Asphalt Plant (AP-1)'!S45,0),IF('Asphalt Plant (AP-2)'!$C$5=\"batch mix plant\",'Asphalt Plant (AP-2)'!S45,0),IF('Asphalt Plant (AP-3)'!$C$5=\"batch mix plant\",'Asphalt Plant (AP-3)'!S45,0),IF('Asphalt Plant (AP-4)'!$C$5=\"batch mix plant\",'Asphalt Plant (AP-4)'!S45,0),IF('Asphalt Plant (AP-5)'!$C$5=\"batch mix plant\",'Asphalt Plant (AP-5)'!S45,0),IF('Asphalt Plant (AP-6)'!$C$5=\"batch mix plant\",'Asphalt Plant (AP-6)'!S45,0),IF('Asphalt Plant (AP-7)'!$C$5=\"batch mix plant\",'Asphalt Plant (AP-7)'!S45,0),IF('Asphalt Plant (AP-8)'!$C$5=\"batch mix plant\",'Asphalt Plant (AP-8)'!S45,0),IF('Asphalt Plant (AP-9)'!$C$5=\"batch mix plant\",'Asphalt Plant (AP-9)'!S45,0),IF('Asphalt Plant (AP-10)'!$C$5=\"batch mix plant\",'Asphalt Plant (AP-10)'!S45,0)))","v":""},{"$f":"IF(B56=\"\",\"\",SUM(IF('Asphalt Plant (AP-1)'!$C$5=\"batch mix plant\",'Asphalt Plant (AP-1)'!T45,0),IF('Asphalt Plant (AP-2)'!$C$5=\"batch mix plant\",'Asphalt Plant (AP-2)'!T45,0),IF('Asphalt Plant (AP-3)'!$C$5=\"batch mix plant\",'Asphalt Plant (AP-3)'!T45,0),IF('Asphalt Plant (AP-4)'!$C$5=\"batch mix plant\",'Asphalt Plant (AP-4)'!T45,0),IF('Asphalt Plant (AP-5)'!$C$5=\"batch mix plant\",'Asphalt Plant (AP-5)'!T45,0),IF('Asphalt Plant (AP-6)'!$C$5=\"batch mix plant\",'Asphalt Plant (AP-6)'!T45,0),IF('Asphalt Plant (AP-7)'!$C$5=\"batch mix plant\",'Asphalt Plant (AP-7)'!T45,0),IF('Asphalt Plant (AP-8)'!$C$5=\"batch mix plant\",'Asphalt Plant (AP-8)'!T45,0),IF('Asphalt Plant (AP-9)'!$C$5=\"batch mix plant\",'Asphalt Plant (AP-9)'!T45,0),IF('Asphalt Plant (AP-10)'!$C$5=\"batch mix plant\",'Asphalt Plant (AP-10)'!T45,0)))","v":""}]
["",{"$f":"IF(D57=\"\",\"\",\"Batch Mix Plant - Natural Gas\")","v":""},{"$f":"IF(B57=\"\",\"\",\"30500247\")","v":""},{"$f":"IF(SUM(IF('Asphalt Plant (AP-1)'!$C$5=\"batch mix plant\",'Asphalt Plant (AP-1)'!N7,0),IF('Asphalt Plant (AP-2)'!$C$5=\"batch mix plant\",'Asphalt Plant (AP-2)'!N7,0),IF('Asphalt Plant (AP-3)'!$C$5=\"batch mix plant\",'Asphalt Plant (AP-3)'!N7,0),IF('Asphalt Plant (AP-4)'!$C$5=\"batch mix plant\",'Asphalt Plant (AP-4)'!N7,0),IF('Asphalt Plant (AP-5)'!$C$5=\"batch mix plant\",'Asphalt Plant (AP-5)'!N7,0),IF('Asphalt Plant (AP-6)'!$C$5=\"batch mix plant\",'Asphalt Plant (AP-6)'!N7,0),IF('Asphalt Plant (AP-7)'!$C$5=\"batch mix plant\",'Asphalt Plant (AP-7)'!N7,0),IF('Asphalt Plant (AP-8)'!$C$5=\"batch mix plant\",'Asphalt Plant (AP-8)'!N7,0),IF('Asphalt Plant (AP-9)'!$C$5=\"batch mix plant\",'Asphalt Plant (AP-9)'!N7,0),IF('Asphalt Plant (AP-10)'!$C$5=\"batch mix plant\",'Asphalt Plant (AP-10)'!N7,0))>0,SUM(IF('Asphalt Plant (AP-1)'!$C$5=\"batch mix plant\",'Asphalt Plant (AP-1)'!N7,0),IF('Asphalt Plant (AP-2)'!$C$5=\"batch mix plant\",'Asphalt Plant (AP-2)'!N7,0),IF('Asphalt Plant (AP-3)'!$C$5=\"batch mix plant\",'Asphalt Plant (AP-3)'!N7,0),IF('Asphalt Plant (AP-4)'!$C$5=\"batch mix plant\",'Asphalt Plant (AP-4)'!N7,0),IF('Asphalt Plant (AP-5)'!$C$5=\"batch mix plant\",'Asphalt Plant (AP-5)'!N7,0),IF('Asphalt Plant (AP-6)'!$C$5=\"batch mix plant\",'Asphalt Plant (AP-6)'!N7,0),IF('Asphalt Plant (AP-7)'!$C$5=\"batch mix plant\",'Asphalt Plant (AP-7)'!N7,0),IF('Asphalt Plant (AP-8)'!$C$5=\"batch mix plant\",'Asphalt Plant (AP-8)'!N7,0),IF('Asphalt Plant (AP-9)'!$C$5=\"batch mix plant\",'Asphalt Plant (AP-9)'!N7,0),IF('Asphalt Plant (AP-10)'!$C$5=\"batch mix plant\",'Asphalt Plant (AP-10)'!N7,0)),\"\")","v":""},"",{"$f":"IF(B57=\"\",\"\",MAX(IF('Asphalt Plant (AP-1)'!$C$5=\"batch mix plant\",'Asphalt Plant (AP-1)'!O46,0),IF('Asphalt Plant (AP-2)'!$C$5=\"batch mix plant\",'Asphalt Plant (AP-2)'!O46,0),IF('Asphalt Plant (AP-3)'!$C$5=\"batch mix plant\",'Asphalt Plant (AP-3)'!O46,0),IF('Asphalt Plant (AP-4)'!$C$5=\"batch mix plant\",'Asphalt Plant (AP-4)'!O46,0),IF('Asphalt Plant (AP-5)'!$C$5=\"batch mix plant\",'Asphalt Plant (AP-5)'!O46,0),IF('Asphalt Plant (AP-6)'!$C$5=\"batch mix plant\",'Asphalt Plant (AP-6)'!O46,0),IF('Asphalt Plant (AP-7)'!$C$5=\"batch mix plant\",'Asphalt Plant (AP-7)'!O46,0),IF('Asphalt Plant (AP-8)'!$C$5=\"batch mix plant\",'Asphalt Plant (AP-8)'!O46,0),IF('Asphalt Plant (AP-9)'!$C$5=\"batch mix plant\",'Asphalt Plant (AP-9)'!O46,0),IF('Asphalt Plant (AP-10)'!$C$5=\"batch mix plant\",'Asphalt Plant (AP-10)'!O46,0)))","v":""},"",{"$f":"IF(B57=\"\",\"\",\"AP-42 Table 11.1-2,5,6,9\")","v":""},{"$f":"IF(B57=\"\",\"\",SUM(IF('Asphalt Plant (AP-1)'!$C$5=\"batch mix plant\",'Asphalt Plant (AP-1)'!Q46,0),IF('Asphalt Plant (AP-2)'!$C$5=\"batch mix plant\",'Asphalt Plant (AP-2)'!Q46,0),IF('Asphalt Plant (AP-3)'!$C$5=\"batch mix plant\",'Asphalt Plant (AP-3)'!Q46,0),IF('Asphalt Plant (AP-4)'!$C$5=\"batch mix plant\",'Asphalt Plant (AP-4)'!Q46,0),IF('Asphalt Plant (AP-5)'!$C$5=\"batch mix plant\",'Asphalt Plant (AP-5)'!Q46,0),IF('Asphalt Plant (AP-6)'!$C$5=\"batch mix plant\",'Asphalt Plant (AP-6)'!Q46,0),IF('Asphalt Plant (AP-7)'!$C$5=\"batch mix plant\",'Asphalt Plant (AP-7)'!Q46,0),IF('Asphalt Plant (AP-8)'!$C$5=\"batch mix plant\",'Asphalt Plant (AP-8)'!Q46,0),IF('Asphalt Plant (AP-9)'!$C$5=\"batch mix plant\",'Asphalt Plant (AP-9)'!Q46,0),IF('Asphalt Plant (AP-10)'!$C$5=\"batch mix plant\",'Asphalt Plant (AP-10)'!Q46,0)))","v":""},null,{"$f":"IF(B57=\"\",\"\",SUM(IF('Asphalt Plant (AP-1)'!$C$5=\"batch mix plant\",'Asphalt Plant (AP-1)'!R46,0),IF('Asphalt Plant (AP-2)'!$C$5=\"batch mix plant\",'Asphalt Plant (AP-2)'!R46,0),IF('Asphalt Plant (AP-3)'!$C$5=\"batch mix plant\",'Asphalt Plant (AP-3)'!R46,0),IF('Asphalt Plant (AP-4)'!$C$5=\"batch mix plant\",'Asphalt Plant (AP-4)'!R46,0),IF('Asphalt Plant (AP-5)'!$C$5=\"batch mix plant\",'Asphalt Plant (AP-5)'!R46,0),IF('Asphalt Plant (AP-6)'!$C$5=\"batch mix plant\",'Asphalt Plant (AP-6)'!R46,0),IF('Asphalt Plant (AP-7)'!$C$5=\"batch mix plant\",'Asphalt Plant (AP-7)'!R46,0),IF('Asphalt Plant (AP-8)'!$C$5=\"batch mix plant\",'Asphalt Plant (AP-8)'!R46,0),IF('Asphalt Plant (AP-9)'!$C$5=\"batch mix plant\",'Asphalt Plant (AP-9)'!R46,0),IF('Asphalt Plant (AP-10)'!$C$5=\"batch mix plant\",'Asphalt Plant (AP-10)'!R46,0)))","v":""},{"$f":"IF(B57=\"\",\"\",SUM(IF('Asphalt Plant (AP-1)'!$C$5=\"batch mix plant\",'Asphalt Plant (AP-1)'!S46,0),IF('Asphalt Plant (AP-2)'!$C$5=\"batch mix plant\",'Asphalt Plant (AP-2)'!S46,0),IF('Asphalt Plant (AP-3)'!$C$5=\"batch mix plant\",'Asphalt Plant (AP-3)'!S46,0),IF('Asphalt Plant (AP-4)'!$C$5=\"batch mix plant\",'Asphalt Plant (AP-4)'!S46,0),IF('Asphalt Plant (AP-5)'!$C$5=\"batch mix plant\",'Asphalt Plant (AP-5)'!S46,0),IF('Asphalt Plant (AP-6)'!$C$5=\"batch mix plant\",'Asphalt Plant (AP-6)'!S46,0),IF('Asphalt Plant (AP-7)'!$C$5=\"batch mix plant\",'Asphalt Plant (AP-7)'!S46,0),IF('Asphalt Plant (AP-8)'!$C$5=\"batch mix plant\",'Asphalt Plant (AP-8)'!S46,0),IF('Asphalt Plant (AP-9)'!$C$5=\"batch mix plant\",'Asphalt Plant (AP-9)'!S46,0),IF('Asphalt Plant (AP-10)'!$C$5=\"batch mix plant\",'Asphalt Plant (AP-10)'!S46,0)))","v":""},{"$f":"IF(B57=\"\",\"\",SUM(IF('Asphalt Plant (AP-1)'!$C$5=\"batch mix plant\",'Asphalt Plant (AP-1)'!T46,0),IF('Asphalt Plant (AP-2)'!$C$5=\"batch mix plant\",'Asphalt Plant (AP-2)'!T46,0),IF('Asphalt Plant (AP-3)'!$C$5=\"batch mix plant\",'Asphalt Plant (AP-3)'!T46,0),IF('Asphalt Plant (AP-4)'!$C$5=\"batch mix plant\",'Asphalt Plant (AP-4)'!T46,0),IF('Asphalt Plant (AP-5)'!$C$5=\"batch mix plant\",'Asphalt Plant (AP-5)'!T46,0),IF('Asphalt Plant (AP-6)'!$C$5=\"batch mix plant\",'Asphalt Plant (AP-6)'!T46,0),IF('Asphalt Plant (AP-7)'!$C$5=\"batch mix plant\",'Asphalt Plant (AP-7)'!T46,0),IF('Asphalt Plant (AP-8)'!$C$5=\"batch mix plant\",'Asphalt Plant (AP-8)'!T46,0),IF('Asphalt Plant (AP-9)'!$C$5=\"batch mix plant\",'Asphalt Plant (AP-9)'!T46,0),IF('Asphalt Plant (AP-10)'!$C$5=\"batch mix plant\",'Asphalt Plant (AP-10)'!T46,0)))","v":""}]
["",{"$f":"IF(D58=\"\",\"\",\"Drum Mix Plant - Fuel Oil\")","v":""},{"$f":"IF(B58=\"\",\"\",\"30500258\")","v":""},{"$f":"IF(SUM(IF('Asphalt Plant (AP-1)'!$C$5=\"drum mix plant\",'Asphalt Plant (AP-1)'!N5,0),IF('Asphalt Plant (AP-2)'!$C$5=\"drum mix plant\",'Asphalt Plant (AP-2)'!N5,0),IF('Asphalt Plant (AP-3)'!$C$5=\"drum mix plant\",'Asphalt Plant (AP-3)'!N5,0),IF('Asphalt Plant (AP-4)'!$C$5=\"drum mix plant\",'Asphalt Plant (AP-4)'!N5,0),IF('Asphalt Plant (AP-5)'!$C$5=\"drum mix plant\",'Asphalt Plant (AP-5)'!N5,0),IF('Asphalt Plant (AP-6)'!$C$5=\"drum mix plant\",'Asphalt Plant (AP-6)'!N5,0),IF('Asphalt Plant (AP-7)'!$C$5=\"drum mix plant\",'Asphalt Plant (AP-7)'!N5,0),IF('Asphalt Plant (AP-8)'!$C$5=\"drum mix plant\",'Asphalt Plant (AP-8)'!N5,0),IF('Asphalt Plant (AP-9)'!$C$5=\"drum mix plant\",'Asphalt Plant (AP-9)'!N5,0),IF('Asphalt Plant (AP-10)'!$C$5=\"drum mix plant\",'Asphalt Plant (AP-10)'!N5,0))>0,SUM(IF('Asphalt Plant (AP-1)'!$C$5=\"drum mix plant\",'Asphalt Plant (AP-1)'!N5,0),IF('Asphalt Plant (AP-2)'!$C$5=\"drum mix plant\",'Asphalt Plant (AP-2)'!N5,0),IF('Asphalt Plant (AP-3)'!$C$5=\"drum mix plant\",'Asphalt Plant (AP-3)'!N5,0),IF('Asphalt Plant (AP-4)'!$C$5=\"drum mix plant\",'Asphalt Plant (AP-4)'!N5,0),IF('Asphalt Plant (AP-5)'!$C$5=\"drum mix plant\",'Asphalt Plant (AP-5)'!N5,0),IF('Asphalt Plant (AP-6)'!$C$5=\"drum mix plant\",'Asphalt Plant (AP-6)'!N5,0),IF('Asphalt Plant (AP-7)'!$C$5=\"drum mix plant\",'Asphalt Plant (AP-7)'!N5,0),IF('Asphalt Plant (AP-8)'!$C$5=\"drum mix plant\",'Asphalt Plant (AP-8)'!N5,0),IF('Asphalt Plant (AP-9)'!$C$5=\"drum mix plant\",'Asphalt Plant (AP-9)'!N5,0),IF('Asphalt Plant (AP-10)'!$C$5=\"drum mix plant\",'Asphalt Plant (AP-10)'!N5,0)),\"\")","v":""},"",{"$f":"IF(B58=\"\",\"\",MAX(IF('Asphalt Plant (AP-1)'!$C$5=\"drum mix plant\",'Asphalt Plant (AP-1)'!O44,0),IF('Asphalt Plant (AP-2)'!$C$5=\"drum mix plant\",'Asphalt Plant (AP-2)'!O44,0),IF('Asphalt Plant (AP-3)'!$C$5=\"drum mix plant\",'Asphalt Plant (AP-3)'!O44,0),IF('Asphalt Plant (AP-4)'!$C$5=\"drum mix plant\",'Asphalt Plant (AP-4)'!O44,0),IF('Asphalt Plant (AP-5)'!$C$5=\"drum mix plant\",'Asphalt Plant (AP-5)'!O44,0),IF('Asphalt Plant (AP-6)'!$C$5=\"drum mix plant\",'Asphalt Plant (AP-6)'!O44,0),IF('Asphalt Plant (AP-7)'!$C$5=\"drum mix plant\",'Asphalt Plant (AP-7)'!O44,0),IF('Asphalt Plant (AP-8)'!$C$5=\"drum mix plant\",'Asphalt Plant (AP-8)'!O44,0),IF('Asphalt Plant (AP-9)'!$C$5=\"drum mix plant\",'Asphalt Plant (AP-9)'!O44,0),IF('Asphalt Plant (AP-10)'!$C$5=\"drum mix plant\",'Asphalt Plant (AP-10)'!O44,0)))","v":""},"",{"$f":"IF(B58=\"\",\"\",\"AP-42 Table 11.1-4,7,8,10\")","v":""},{"$f":"IF(B58=\"\",\"\",SUM(IF('Asphalt Plant (AP-1)'!$C$5=\"drum mix plant\",'Asphalt Plant (AP-1)'!Q44,0),IF('Asphalt Plant (AP-2)'!$C$5=\"drum mix plant\",'Asphalt Plant (AP-2)'!Q44,0),IF('Asphalt Plant (AP-3)'!$C$5=\"drum mix plant\",'Asphalt Plant (AP-3)'!Q44,0),IF('Asphalt Plant (AP-4)'!$C$5=\"drum mix plant\",'Asphalt Plant (AP-4)'!Q44,0),IF('Asphalt Plant (AP-5)'!$C$5=\"drum mix plant\",'Asphalt Plant (AP-5)'!Q44,0),IF('Asphalt Plant (AP-6)'!$C$5=\"drum mix plant\",'Asphalt Plant (AP-6)'!Q44,0),IF('Asphalt Plant (AP-7)'!$C$5=\"drum mix plant\",'Asphalt Plant (AP-7)'!Q44,0),IF('Asphalt Plant (AP-8)'!$C$5=\"drum mix plant\",'Asphalt Plant (AP-8)'!Q44,0),IF('Asphalt Plant (AP-9)'!$C$5=\"drum mix plant\",'Asphalt Plant (AP-9)'!Q44,0),IF('Asphalt Plant (AP-10)'!$C$5=\"drum mix plant\",'Asphalt Plant (AP-10)'!Q44,0)))","v":""},null,{"$f":"IF(B58=\"\",\"\",SUM(IF('Asphalt Plant (AP-1)'!$C$5=\"drum mix plant\",'Asphalt Plant (AP-1)'!R44,0),IF('Asphalt Plant (AP-2)'!$C$5=\"drum mix plant\",'Asphalt Plant (AP-2)'!R44,0),IF('Asphalt Plant (AP-3)'!$C$5=\"drum mix plant\",'Asphalt Plant (AP-3)'!R44,0),IF('Asphalt Plant (AP-4)'!$C$5=\"drum mix plant\",'Asphalt Plant (AP-4)'!R44,0),IF('Asphalt Plant (AP-5)'!$C$5=\"drum mix plant\",'Asphalt Plant (AP-5)'!R44,0),IF('Asphalt Plant (AP-6)'!$C$5=\"drum mix plant\",'Asphalt Plant (AP-6)'!R44,0),IF('Asphalt Plant (AP-7)'!$C$5=\"drum mix plant\",'Asphalt Plant (AP-7)'!R44,0),IF('Asphalt Plant (AP-8)'!$C$5=\"drum mix plant\",'Asphalt Plant (AP-8)'!R44,0),IF('Asphalt Plant (AP-9)'!$C$5=\"drum mix plant\",'Asphalt Plant (AP-9)'!R44,0),IF('Asphalt Plant (AP-10)'!$C$5=\"drum mix plant\",'Asphalt Plant (AP-10)'!R44,0)))","v":""},{"$f":"IF(B58=\"\",\"\",SUM(IF('Asphalt Plant (AP-1)'!$C$5=\"drum mix plant\",'Asphalt Plant (AP-1)'!S44,0),IF('Asphalt Plant (AP-2)'!$C$5=\"drum mix plant\",'Asphalt Plant (AP-2)'!S44,0),IF('Asphalt Plant (AP-3)'!$C$5=\"drum mix plant\",'Asphalt Plant (AP-3)'!S44,0),IF('Asphalt Plant (AP-4)'!$C$5=\"drum mix plant\",'Asphalt Plant (AP-4)'!S44,0),IF('Asphalt Plant (AP-5)'!$C$5=\"drum mix plant\",'Asphalt Plant (AP-5)'!S44,0),IF('Asphalt Plant (AP-6)'!$C$5=\"drum mix plant\",'Asphalt Plant (AP-6)'!S44,0),IF('Asphalt Plant (AP-7)'!$C$5=\"drum mix plant\",'Asphalt Plant (AP-7)'!S44,0),IF('Asphalt Plant (AP-8)'!$C$5=\"drum mix plant\",'Asphalt Plant (AP-8)'!S44,0),IF('Asphalt Plant (AP-9)'!$C$5=\"drum mix plant\",'Asphalt Plant (AP-9)'!S44,0),IF('Asphalt Plant (AP-10)'!$C$5=\"drum mix plant\",'Asphalt Plant (AP-10)'!S44,0)))","v":""},{"$f":"IF(B58=\"\",\"\",SUM(IF('Asphalt Plant (AP-1)'!$C$5=\"drum mix plant\",'Asphalt Plant (AP-1)'!T44,0),IF('Asphalt Plant (AP-2)'!$C$5=\"drum mix plant\",'Asphalt Plant (AP-2)'!T44,0),IF('Asphalt Plant (AP-3)'!$C$5=\"drum mix plant\",'Asphalt Plant (AP-3)'!T44,0),IF('Asphalt Plant (AP-4)'!$C$5=\"drum mix plant\",'Asphalt Plant (AP-4)'!T44,0),IF('Asphalt Plant (AP-5)'!$C$5=\"drum mix plant\",'Asphalt Plant (AP-5)'!T44,0),IF('Asphalt Plant (AP-6)'!$C$5=\"drum mix plant\",'Asphalt Plant (AP-6)'!T44,0),IF('Asphalt Plant (AP-7)'!$C$5=\"drum mix plant\",'Asphalt Plant (AP-7)'!T44,0),IF('Asphalt Plant (AP-8)'!$C$5=\"drum mix plant\",'Asphalt Plant (AP-8)'!T44,0),IF('Asphalt Plant (AP-9)'!$C$5=\"drum mix plant\",'Asphalt Plant (AP-9)'!T44,0),IF('Asphalt Plant (AP-10)'!$C$5=\"drum mix plant\",'Asphalt Plant (AP-10)'!T44,0)))","v":""}]
["",{"$f":"IF(D59=\"\",\"\",\"Drum Mix Plant - Waste Oil\")","v":""},{"$f":"IF(B59=\"\",\"\",\"30500255\")","v":""},{"$f":"IF(SUM(IF('Asphalt Plant (AP-1)'!$C$5=\"drum mix plant\",'Asphalt Plant (AP-1)'!N6,0),IF('Asphalt Plant (AP-2)'!$C$5=\"drum mix plant\",'Asphalt Plant (AP-2)'!N6,0),IF('Asphalt Plant (AP-3)'!$C$5=\"drum mix plant\",'Asphalt Plant (AP-3)'!N6,0),IF('Asphalt Plant (AP-4)'!$C$5=\"drum mix plant\",'Asphalt Plant (AP-4)'!N6,0),IF('Asphalt Plant (AP-5)'!$C$5=\"drum mix plant\",'Asphalt Plant (AP-5)'!N6,0),IF('Asphalt Plant (AP-6)'!$C$5=\"drum mix plant\",'Asphalt Plant (AP-6)'!N6,0),IF('Asphalt Plant (AP-7)'!$C$5=\"drum mix plant\",'Asphalt Plant (AP-7)'!N6,0),IF('Asphalt Plant (AP-8)'!$C$5=\"drum mix plant\",'Asphalt Plant (AP-8)'!N6,0),IF('Asphalt Plant (AP-9)'!$C$5=\"drum mix plant\",'Asphalt Plant (AP-9)'!N6,0),IF('Asphalt Plant (AP-10)'!$C$5=\"drum mix plant\",'Asphalt Plant (AP-10)'!N6,0))>0,SUM(IF('Asphalt Plant (AP-1)'!$C$5=\"drum mix plant\",'Asphalt Plant (AP-1)'!N6,0),IF('Asphalt Plant (AP-2)'!$C$5=\"drum mix plant\",'Asphalt Plant (AP-2)'!N6,0),IF('Asphalt Plant (AP-3)'!$C$5=\"drum mix plant\",'Asphalt Plant (AP-3)'!N6,0),IF('Asphalt Plant (AP-4)'!$C$5=\"drum mix plant\",'Asphalt Plant (AP-4)'!N6,0),IF('Asphalt Plant (AP-5)'!$C$5=\"drum mix plant\",'Asphalt Plant (AP-5)'!N6,0),IF('Asphalt Plant (AP-6)'!$C$5=\"drum mix plant\",'Asphalt Plant (AP-6)'!N6,0),IF('Asphalt Plant (AP-7)'!$C$5=\"drum mix plant\",'Asphalt Plant (AP-7)'!N6,0),IF('Asphalt Plant (AP-8)'!$C$5=\"drum mix plant\",'Asphalt Plant (AP-8)'!N6,0),IF('Asphalt Plant (AP-9)'!$C$5=\"drum mix plant\",'Asphalt Plant (AP-9)'!N6,0),IF('Asphalt Plant (AP-10)'!$C$5=\"drum mix plant\",'Asphalt Plant (AP-10)'!N6,0)),\"\")","v":""},"",{"$f":"IF(B59=\"\",\"\",MAX(IF('Asphalt Plant (AP-1)'!$C$5=\"drum mix plant\",'Asphalt Plant (AP-1)'!O45,0),IF('Asphalt Plant (AP-2)'!$C$5=\"drum mix plant\",'Asphalt Plant (AP-2)'!O45,0),IF('Asphalt Plant (AP-3)'!$C$5=\"drum mix plant\",'Asphalt Plant (AP-3)'!O45,0),IF('Asphalt Plant (AP-4)'!$C$5=\"drum mix plant\",'Asphalt Plant (AP-4)'!O45,0),IF('Asphalt Plant (AP-5)'!$C$5=\"drum mix plant\",'Asphalt Plant (AP-5)'!O45,0),IF('Asphalt Plant (AP-6)'!$C$5=\"drum mix plant\",'Asphalt Plant (AP-6)'!O45,0),IF('Asphalt Plant (AP-7)'!$C$5=\"drum mix plant\",'Asphalt Plant (AP-7)'!O45,0),IF('Asphalt Plant (AP-8)'!$C$5=\"drum mix plant\",'Asphalt Plant (AP-8)'!O45,0),IF('Asphalt Plant (AP-9)'!$C$5=\"drum mix plant\",'Asphalt Plant (AP-9)'!O45,0),IF('Asphalt Plant (AP-10)'!$C$5=\"drum mix plant\",'Asphalt Plant (AP-10)'!O45,0)))","v":""},"",{"$f":"IF(B59=\"\",\"\",\"AP-42 Table 11.1-4,7,8,10\")","v":""},{"$f":"IF(B59=\"\",\"\",SUM(IF('Asphalt Plant (AP-1)'!$C$5=\"drum mix plant\",'Asphalt Plant (AP-1)'!Q45,0),IF('Asphalt Plant (AP-2)'!$C$5=\"drum mix plant\",'Asphalt Plant (AP-2)'!Q45,0),IF('Asphalt Plant (AP-3)'!$C$5=\"drum mix plant\",'Asphalt Plant (AP-3)'!Q45,0),IF('Asphalt Plant (AP-4)'!$C$5=\"drum mix plant\",'Asphalt Plant (AP-4)'!Q45,0),IF('Asphalt Plant (AP-5)'!$C$5=\"drum mix plant\",'Asphalt Plant (AP-5)'!Q45,0),IF('Asphalt Plant (AP-6)'!$C$5=\"drum mix plant\",'Asphalt Plant (AP-6)'!Q45,0),IF('Asphalt Plant (AP-7)'!$C$5=\"drum mix plant\",'Asphalt Plant (AP-7)'!Q45,0),IF('Asphalt Plant (AP-8)'!$C$5=\"drum mix plant\",'Asphalt Plant (AP-8)'!Q45,0),IF('Asphalt Plant (AP-9)'!$C$5=\"drum mix plant\",'Asphalt Plant (AP-9)'!Q45,0),IF('Asphalt Plant (AP-10)'!$C$5=\"drum mix plant\",'Asphalt Plant (AP-10)'!Q45,0)))","v":""},null,{"$f":"IF(B59=\"\",\"\",SUM(IF('Asphalt Plant (AP-1)'!$C$5=\"drum mix plant\",'Asphalt Plant (AP-1)'!R45,0),IF('Asphalt Plant (AP-2)'!$C$5=\"drum mix plant\",'Asphalt Plant (AP-2)'!R45,0),IF('Asphalt Plant (AP-3)'!$C$5=\"drum mix plant\",'Asphalt Plant (AP-3)'!R45,0),IF('Asphalt Plant (AP-4)'!$C$5=\"drum mix plant\",'Asphalt Plant (AP-4)'!R45,0),IF('Asphalt Plant (AP-5)'!$C$5=\"drum mix plant\",'Asphalt Plant (AP-5)'!R45,0),IF('Asphalt Plant (AP-6)'!$C$5=\"drum mix plant\",'Asphalt Plant (AP-6)'!R45,0),IF('Asphalt Plant (AP-7)'!$C$5=\"drum mix plant\",'Asphalt Plant (AP-7)'!R45,0),IF('Asphalt Plant (AP-8)'!$C$5=\"drum mix plant\",'Asphalt Plant (AP-8)'!R45,0),IF('Asphalt Plant (AP-9)'!$C$5=\"drum mix plant\",'Asphalt Plant (AP-9)'!R45,0),IF('Asphalt Plant (AP-10)'!$C$5=\"drum mix plant\",'Asphalt Plant (AP-10)'!R45,0)))","v":""},{"$f":"IF(B59=\"\",\"\",SUM(IF('Asphalt Plant (AP-1)'!$C$5=\"drum mix plant\",'Asphalt Plant (AP-1)'!S45,0),IF('Asphalt Plant (AP-2)'!$C$5=\"drum mix plant\",'Asphalt Plant (AP-2)'!S45,0),IF('Asphalt Plant (AP-3)'!$C$5=\"drum mix plant\",'Asphalt Plant (AP-3)'!S45,0),IF('Asphalt Plant (AP-4)'!$C$5=\"drum mix plant\",'Asphalt Plant (AP-4)'!S45,0),IF('Asphalt Plant (AP-5)'!$C$5=\"drum mix plant\",'Asphalt Plant (AP-5)'!S45,0),IF('Asphalt Plant (AP-6)'!$C$5=\"drum mix plant\",'Asphalt Plant (AP-6)'!S45,0),IF('Asphalt Plant (AP-7)'!$C$5=\"drum mix plant\",'Asphalt Plant (AP-7)'!S45,0),IF('Asphalt Plant (AP-8)'!$C$5=\"drum mix plant\",'Asphalt Plant (AP-8)'!S45,0),IF('Asphalt Plant (AP-9)'!$C$5=\"drum mix plant\",'Asphalt Plant (AP-9)'!S45,0),IF('Asphalt Plant (AP-10)'!$C$5=\"drum mix plant\",'Asphalt Plant (AP-10)'!S45,0)))","v":""},{"$f":"IF(B59=\"\",\"\",SUM(IF('Asphalt Plant (AP-1)'!$C$5=\"drum mix plant\",'Asphalt Plant (AP-1)'!T45,0),IF('Asphalt Plant (AP-2)'!$C$5=\"drum mix plant\",'Asphalt Plant (AP-2)'!T45,0),IF('Asphalt Plant (AP-3)'!$C$5=\"drum mix plant\",'Asphalt Plant (AP-3)'!T45,0),IF('Asphalt Plant (AP-4)'!$C$5=\"drum mix plant\",'Asphalt Plant (AP-4)'!T45,0),IF('Asphalt Plant (AP-5)'!$C$5=\"drum mix plant\",'Asphalt Plant (AP-5)'!T45,0),IF('Asphalt Plant (AP-6)'!$C$5=\"drum mix plant\",'Asphalt Plant (AP-6)'!T45,0),IF('Asphalt Plant (AP-7)'!$C$5=\"drum mix plant\",'Asphalt Plant (AP-7)'!T45,0),IF('Asphalt Plant (AP-8)'!$C$5=\"drum mix plant\",'Asphalt Plant (AP-8)'!T45,0),IF('Asphalt Plant (AP-9)'!$C$5=\"drum mix plant\",'Asphalt Plant (AP-9)'!T45,0),IF('Asphalt Plant (AP-10)'!$C$5=\"drum mix plant\",'Asphalt Plant (AP-10)'!T45,0)))","v":""}]
["",{"$f":"IF(D60=\"\",\"\",\"Drum Mix Plant - Natural Gas\")","v":""},{"$f":"IF(B60=\"\",\"\",\"30500261\")","v":""},{"$f":"IF(SUM(IF('Asphalt Plant (AP-1)'!$C$5=\"drum mix plant\",'Asphalt Plant (AP-1)'!N7,0),IF('Asphalt Plant (AP-2)'!$C$5=\"drum mix plant\",'Asphalt Plant (AP-2)'!N7,0),IF('Asphalt Plant (AP-3)'!$C$5=\"drum mix plant\",'Asphalt Plant (AP-3)'!N7,0),IF('Asphalt Plant (AP-4)'!$C$5=\"drum mix plant\",'Asphalt Plant (AP-4)'!N7,0),IF('Asphalt Plant (AP-5)'!$C$5=\"drum mix plant\",'Asphalt Plant (AP-5)'!N7,0),IF('Asphalt Plant (AP-6)'!$C$5=\"drum mix plant\",'Asphalt Plant (AP-6)'!N7,0),IF('Asphalt Plant (AP-7)'!$C$5=\"drum mix plant\",'Asphalt Plant (AP-7)'!N7,0),IF('Asphalt Plant (AP-8)'!$C$5=\"drum mix plant\",'Asphalt Plant (AP-8)'!N7,0),IF('Asphalt Plant (AP-9)'!$C$5=\"drum mix plant\",'Asphalt Plant (AP-9)'!N7,0),IF('Asphalt Plant (AP-10)'!$C$5=\"drum mix plant\",'Asphalt Plant (AP-10)'!N7,0))>0,SUM(IF('Asphalt Plant (AP-1)'!$C$5=\"drum mix plant\",'Asphalt Plant (AP-1)'!N7,0),IF('Asphalt Plant (AP-2)'!$C$5=\"drum mix plant\",'Asphalt Plant (AP-2)'!N7,0),IF('Asphalt Plant (AP-3)'!$C$5=\"drum mix plant\",'Asphalt Plant (AP-3)'!N7,0),IF('Asphalt Plant (AP-4)'!$C$5=\"drum mix plant\",'Asphalt Plant (AP-4)'!N7,0),IF('Asphalt Plant (AP-5)'!$C$5=\"drum mix plant\",'Asphalt Plant (AP-5)'!N7,0),IF('Asphalt Plant (AP-6)'!$C$5=\"drum mix plant\",'Asphalt Plant (AP-6)'!N7,0),IF('Asphalt Plant (AP-7)'!$C$5=\"drum mix plant\",'Asphalt Plant (AP-7)'!N7,0),IF('Asphalt Plant (AP-8)'!$C$5=\"drum mix plant\",'Asphalt Plant (AP-8)'!N7,0),IF('Asphalt Plant (AP-9)'!$C$5=\"drum mix plant\",'Asphalt Plant (AP-9)'!N7,0),IF('Asphalt Plant (AP-10)'!$C$5=\"drum mix plant\",'Asphalt Plant (AP-10)'!N7,0)),\"\")","v":""},"",{"$f":"IF(B60=\"\",\"\",MAX(IF('Asphalt Plant (AP-1)'!$C$5=\"drum mix plant\",'Asphalt Plant (AP-1)'!O46,0),IF('Asphalt Plant (AP-2)'!$C$5=\"drum mix plant\",'Asphalt Plant (AP-2)'!O46,0),IF('Asphalt Plant (AP-3)'!$C$5=\"drum mix plant\",'Asphalt Plant (AP-3)'!O46,0),IF('Asphalt Plant (AP-4)'!$C$5=\"drum mix plant\",'Asphalt Plant (AP-4)'!O46,0),IF('Asphalt Plant (AP-5)'!$C$5=\"drum mix plant\",'Asphalt Plant (AP-5)'!O46,0),IF('Asphalt Plant (AP-6)'!$C$5=\"drum mix plant\",'Asphalt Plant (AP-6)'!O46,0),IF('Asphalt Plant (AP-7)'!$C$5=\"drum mix plant\",'Asphalt Plant (AP-7)'!O46,0),IF('Asphalt Plant (AP-8)'!$C$5=\"drum mix plant\",'Asphalt Plant (AP-8)'!O46,0),IF('Asphalt Plant (AP-9)'!$C$5=\"drum mix plant\",'Asphalt Plant (AP-9)'!O46,0),IF('Asphalt Plant (AP-10)'!$C$5=\"drum mix plant\",'Asphalt Plant (AP-10)'!O46,0)))","v":""},"",{"$f":"IF(B60=\"\",\"\",\"AP-42 Table 11.1-4,7,8,10,12\")","v":""},{"$f":"IF(B60=\"\",\"\",SUM(IF('Asphalt Plant (AP-1)'!$C$5=\"drum mix plant\",'Asphalt Plant (AP-1)'!Q46,0),IF('Asphalt Plant (AP-2)'!$C$5=\"drum mix plant\",'Asphalt Plant (AP-2)'!Q46,0),IF('Asphalt Plant (AP-3)'!$C$5=\"drum mix plant\",'Asphalt Plant (AP-3)'!Q46,0),IF('Asphalt Plant (AP-4)'!$C$5=\"drum mix plant\",'Asphalt Plant (AP-4)'!Q46,0),IF('Asphalt Plant (AP-5)'!$C$5=\"drum mix plant\",'Asphalt Plant (AP-5)'!Q46,0),IF('Asphalt Plant (AP-6)'!$C$5=\"drum mix plant\",'Asphalt Plant (AP-6)'!Q46,0),IF('Asphalt Plant (AP-7)'!$C$5=\"drum mix plant\",'Asphalt Plant (AP-7)'!Q46,0),IF('Asphalt Plant (AP-8)'!$C$5=\"drum mix plant\",'Asphalt Plant (AP-8)'!Q46,0),IF('Asphalt Plant (AP-9)'!$C$5=\"drum mix plant\",'Asphalt Plant (AP-9)'!Q46,0),IF('Asphalt Plant (AP-10)'!$C$5=\"drum mix plant\",'Asphalt Plant (AP-10)'!Q46,0)))","v":""},null,{"$f":"IF(B60=\"\",\"\",SUM(IF('Asphalt Plant (AP-1)'!$C$5=\"drum mix plant\",'Asphalt Plant (AP-1)'!R46,0),IF('Asphalt Plant (AP-2)'!$C$5=\"drum mix plant\",'Asphalt Plant (AP-2)'!R46,0),IF('Asphalt Plant (AP-3)'!$C$5=\"drum mix plant\",'Asphalt Plant (AP-3)'!R46,0),IF('Asphalt Plant (AP-4)'!$C$5=\"drum mix plant\",'Asphalt Plant (AP-4)'!R46,0),IF('Asphalt Plant (AP-5)'!$C$5=\"drum mix plant\",'Asphalt Plant (AP-5)'!R46,0),IF('Asphalt Plant (AP-6)'!$C$5=\"drum mix plant\",'Asphalt Plant (AP-6)'!R46,0),IF('Asphalt Plant (AP-7)'!$C$5=\"drum mix plant\",'Asphalt Plant (AP-7)'!R46,0),IF('Asphalt Plant (AP-8)'!$C$5=\"drum mix plant\",'Asphalt Plant (AP-8)'!R46,0),IF('Asphalt Plant (AP-9)'!$C$5=\"drum mix plant\",'Asphalt Plant (AP-9)'!R46,0),IF('Asphalt Plant (AP-10)'!$C$5=\"drum mix plant\",'Asphalt Plant (AP-10)'!R46,0)))","v":""},{"$f":"IF(B60=\"\",\"\",SUM(IF('Asphalt Plant (AP-1)'!$C$5=\"drum mix plant\",'Asphalt Plant (AP-1)'!S46,0),IF('Asphalt Plant (AP-2)'!$C$5=\"drum mix plant\",'Asphalt Plant (AP-2)'!S46,0),IF('Asphalt Plant (AP-3)'!$C$5=\"drum mix plant\",'Asphalt Plant (AP-3)'!S46,0),IF('Asphalt Plant (AP-4)'!$C$5=\"drum mix plant\",'Asphalt Plant (AP-4)'!S46,0),IF('Asphalt Plant (AP-5)'!$C$5=\"drum mix plant\",'Asphalt Plant (AP-5)'!S46,0),IF('Asphalt Plant (AP-6)'!$C$5=\"drum mix plant\",'Asphalt Plant (AP-6)'!S46,0),IF('Asphalt Plant (AP-7)'!$C$5=\"drum mix plant\",'Asphalt Plant (AP-7)'!S46,0),IF('Asphalt Plant (AP-8)'!$C$5=\"drum mix plant\",'Asphalt Plant (AP-8)'!S46,0),IF('Asphalt Plant (AP-9)'!$C$5=\"drum mix plant\",'Asphalt Plant (AP-9)'!S46,0),IF('Asphalt Plant (AP-10)'!$C$5=\"drum mix plant\",'Asphalt Plant (AP-10)'!S46,0)))","v":""},{"$f":"IF(B60=\"\",\"\",SUM(IF('Asphalt Plant (AP-1)'!$C$5=\"drum mix plant\",'Asphalt Plant (AP-1)'!T46,0),IF('Asphalt Plant (AP-2)'!$C$5=\"drum mix plant\",'Asphalt Plant (AP-2)'!T46,0),IF('Asphalt Plant (AP-3)'!$C$5=\"drum mix plant\",'Asphalt Plant (AP-3)'!T46,0),IF('Asphalt Plant (AP-4)'!$C$5=\"drum mix plant\",'Asphalt Plant (AP-4)'!T46,0),IF('Asphalt Plant (AP-5)'!$C$5=\"drum mix plant\",'Asphalt Plant (AP-5)'!T46,0),IF('Asphalt Plant (AP-6)'!$C$5=\"drum mix plant\",'Asphalt Plant (AP-6)'!T46,0),IF('Asphalt Plant (AP-7)'!$C$5=\"drum mix plant\",'Asphalt Plant (AP-7)'!T46,0),IF('Asphalt Plant (AP-8)'!$C$5=\"drum mix plant\",'Asphalt Plant (AP-8)'!T46,0),IF('Asphalt Plant (AP-9)'!$C$5=\"drum mix plant\",'Asphalt Plant (AP-9)'!T46,0),IF('Asphalt Plant (AP-10)'!$C$5=\"drum mix plant\",'Asphalt Plant (AP-10)'!T46,0)))","v":""}]
[{"$f":"IF('Permitted Diesel Engines'!R51=0,\"\",\"ALL\")","v":""},{"$f":"IF('Permitted Diesel Engines'!R51=0,\"\",\"Diesel Generator ≤ 600 bhp\")","v":""},{"$f":"IF('Permitted Diesel Engines'!R51=0,\"\",LOOKUP(B61,'Emission Factors'!A43:A44,'Emission Factors'!B43:B44))","v":""},{"$f":"IF('Permitted Diesel Engines'!R51=0,\"\",'Permitted Diesel Engines'!R51)","v":""},{"$f":"IF(B61=\"\",\"\",\"MMBtu/hr\")","v":""},{"$f":"IF(B61=\"\",\"\",LOOKUP(B61,'Emission Factors'!$A$43:$A$44,'Emission Factors'!$J$43:$J$44))","v":""},{"$f":"IF(B61=\"\",\"\",LOOKUP(B61,'Emission Factors'!$A$43:$A$44,'Emission Factors'!$C$43:$C$44))","v":""},{"$f":"IF(B61=\"\",\"\",LOOKUP(B61,'Emission Factors'!$A$43:$A$44,'Emission Factors'!$K$43:$K$44))","v":""},{"$f":"IF(B61=\"\",\"\",'Emission Calculations'!D61*'Emission Calculations'!F61)","v":""},null,null,{"$f":"IF(B61=\"\",\"\",'Permitted Diesel Engines'!$AF$78)","v":""},{"$f":"IF(B61=\"\",\"\",'Permitted Diesel Engines'!T51*'Emission Calculations'!F61/2000)","v":""}]
[{"$f":"IF('Permitted Diesel Engines'!R52=0,\"\",\"ALL\")","v":""},{"$f":"IF('Permitted Diesel Engines'!R52=0,\"\",\"Diesel Generator> 600 bhp\")","v":""},{"$f":"IF('Permitted Diesel Engines'!R52=0,\"\",LOOKUP(B62,'Emission Factors'!A44:A45,'Emission Factors'!B44:B45))","v":""},{"$f":"IF('Permitted Diesel Engines'!R52=0,\"\",'Permitted Diesel Engines'!R52)","v":""},{"$f":"IF(B62=\"\",\"\",\"MMBtu/hr\")","v":""},{"$f":"IF(B62=\"\",\"\",LOOKUP(B62,'Emission Factors'!$A$43:$A$44,'Emission Factors'!$J$43:$J$44))","v":""},{"$f":"IF(B62=\"\",\"\",LOOKUP(B62,'Emission Factors'!$A$43:$A$44,'Emission Factors'!$C$43:$C$44))","v":""},{"$f":"IF(B62=\"\",\"\",LOOKUP(B62,'Emission Factors'!$A$43:$A$44,'Emission Factors'!$K$43:$K$44))","v":""},{"$f":"IF(B62=\"\",\"\",'Emission Calculations'!D62*'Emission Calculations'!F62)","v":""},null,null,{"$f":"IF(B62=\"\",\"\",'Permitted Diesel Engines'!$AG$78)","v":""},{"$f":"IF(B62=\"\",\"\",'Permitted Diesel Engines'!T52*'Emission Calculations'!F62/2000)","v":""}]
[null,null,null,null,null,null,null,null,null,null,"FACILITY TOTALS:",{"$f":"SUM(L55:L62)","v":0},{"$f":"SUM(M55:M62)","v":0}]
["VOC"]
[{"$f":"IF(D65=\"\",\"\",\"ALL\")","v":""},{"$f":"IF(D65=\"\",\"\",\"Batch Mix Plant - Fuel Oil\")","v":""},{"$f":"IF(B65=\"\",\"\",\"30500246\")","v":""},{"$f":"IF(SUM(IF('Asphalt Plant (AP-1)'!$C$5=\"batch mix plant\",'Asphalt Plant (AP-1)'!N5,0),IF('Asphalt Plant (AP-2)'!$C$5=\"batch mix plant\",'Asphalt Plant (AP-2)'!N5,0),IF('Asphalt Plant (AP-3)'!$C$5=\"batch mix plant\",'Asphalt Plant (AP-3)'!N5,0),IF('Asphalt Plant (AP-4)'!$C$5=\"batch mix plant\",'Asphalt Plant (AP-4)'!N5,0),IF('Asphalt Plant (AP-5)'!$C$5=\"batch mix plant\",'Asphalt Plant (AP-5)'!N5,0),IF('Asphalt Plant (AP-6)'!$C$5=\"batch mix plant\",'Asphalt Plant (AP-6)'!N5,0),IF('Asphalt Plant (AP-7)'!$C$5=\"batch mix plant\",'Asphalt Plant (AP-7)'!N5,0),IF('Asphalt Plant (AP-8)'!$C$5=\"batch mix plant\",'Asphalt Plant (AP-8)'!N5,0),IF('Asphalt Plant (AP-9)'!$C$5=\"batch mix plant\",'Asphalt Plant (AP-9)'!N5,0),IF('Asphalt Plant (AP-10)'!$C$5=\"batch mix plant\",'Asphalt Plant (AP-10)'!N5,0))>0,SUM(IF('Asphalt Plant (AP-1)'!$C$5=\"batch mix plant\",'Asphalt Plant (AP-1)'!N5,0),IF('Asphalt Plant (AP-2)'!$C$5=\"batch mix plant\",'Asphalt Plant (AP-2)'!N5,0),IF('Asphalt Plant (AP-3)'!$C$5=\"batch mix plant\",'Asphalt Plant (AP-3)'!N5,0),IF('Asphalt Plant (AP-4)'!$C$5=\"batch mix plant\",'Asphalt Plant (AP-4)'!N5,0),IF('Asphalt Plant (AP-5)'!$C$5=\"batch mix plant\",'Asphalt Plant (AP-5)'!N5,0),IF('Asphalt Plant (AP-6)'!$C$5=\"batch mix plant\",'Asphalt Plant (AP-6)'!N5,0),IF('Asphalt Plant (AP-7)'!$C$5=\"batch mix plant\",'Asphalt Plant (AP-7)'!N5,0),IF('Asphalt Plant (AP-8)'!$C$5=\"batch mix plant\",'Asphalt Plant (AP-8)'!N5,0),IF('Asphalt Plant (AP-9)'!$C$5=\"batch mix plant\",'Asphalt Plant (AP-9)'!N5,0),IF('Asphalt Plant (AP-10)'!$C$5=\"batch mix plant\",'Asphalt Plant (AP-10)'!N5,0)),\"\")","v":""},{"$f":"IF(B65=\"\",\"\",\"tons/hr\")","v":""},{"$f":"IF(B65=\"\",\"\",MAX(IF('Asphalt Plant (AP-1)'!$C$5=\"batch mix plant\",'Asphalt Plant (AP-1)'!O48,0),IF('Asphalt Plant (AP-2)'!$C$5=\"batch mix plant\",'Asphalt Plant (AP-2)'!O48,0),IF('Asphalt Plant (AP-3)'!$C$5=\"batch mix plant\",'Asphalt Plant (AP-3)'!O48,0),IF('Asphalt Plant (AP-4)'!$C$5=\"batch mix plant\",'Asphalt Plant (AP-4)'!O48,0),IF('Asphalt Plant (AP-5)'!$C$5=\"batch mix plant\",'Asphalt Plant (AP-5)'!O48,0),IF('Asphalt Plant (AP-6)'!$C$5=\"batch mix plant\",'Asphalt Plant (AP-6)'!O48,0),IF('Asphalt Plant (AP-7)'!$C$5=\"batch mix plant\",'Asphalt Plant (AP-7)'!O48,0),IF('Asphalt Plant (AP-8)'!$C$5=\"batch mix plant\",'Asphalt Plant (AP-8)'!O48,0),IF('Asphalt Plant (AP-9)'!$C$5=\"batch mix plant\",'Asphalt Plant (AP-9)'!O48,0),IF('Asphalt Plant (AP-10)'!$C$5=\"batch mix plant\",'Asphalt Plant (AP-10)'!O48,0)))","v":""},{"$f":"IF(B65=\"\",\"\",\"lb/ton\")","v":""},{"$f":"IF(B65=\"\",\"\",\"AP-42 Table 11.1-2,5,6,9\")","v":""},{"$f":"IF(B65=\"\",\"\",SUM(IF('Asphalt Plant (AP-1)'!$C$5=\"batch mix plant\",'Asphalt Plant (AP-1)'!Q48,0),IF('Asphalt Plant (AP-2)'!$C$5=\"batch mix plant\",'Asphalt Plant (AP-2)'!Q48,0),IF('Asphalt Plant (AP-3)'!$C$5=\"batch mix plant\",'Asphalt Plant (AP-3)'!Q48,0),IF('Asphalt Plant (AP-4)'!$C$5=\"batch mix plant\",'Asphalt Plant (AP-4)'!Q48,0),IF('Asphalt Plant (AP-5)'!$C$5=\"batch mix plant\",'Asphalt Plant (AP-5)'!Q48,0),IF('Asphalt Plant (AP-6)'!$C$5=\"batch mix plant\",'Asphalt Plant (AP-6)'!Q48,0),IF('Asphalt Plant (AP-7)'!$C$5=\"batch mix plant\",'Asphalt Plant (AP-7)'!Q48,0),IF('Asphalt Plant (AP-8)'!$C$5=\"batch mix plant\",'Asphalt Plant (AP-8)'!Q48,0),IF('Asphalt Plant (AP-9)'!$C$5=\"batch mix plant\",'Asphalt Plant (AP-9)'!Q48,0),IF('Asphalt Plant (AP-10)'!$C$5=\"batch mix plant\",'Asphalt Plant (AP-10)'!Q48,0)))","v":""},null,{"$f":"IF(B65=\"\",\"\",SUM(IF('Asphalt Plant (AP-1)'!$C$5=\"batch mix plant\",'Asphalt Plant (AP-1)'!R48,0),IF('Asphalt Plant (AP-2)'!$C$5=\"batch mix plant\",'Asphalt Plant (AP-2)'!R48,0),IF('Asphalt Plant (AP-3)'!$C$5=\"batch mix plant\",'Asphalt Plant (AP-3)'!R48,0),IF('Asphalt Plant (AP-4)'!$C$5=\"batch mix plant\",'Asphalt Plant (AP-4)'!R48,0),IF('Asphalt Plant (AP-5)'!$C$5=\"batch mix plant\",'Asphalt Plant (AP-5)'!R48,0),IF('Asphalt Plant (AP-6)'!$C$5=\"batch mix plant\",'Asphalt Plant (AP-6)'!R48,0),IF('Asphalt Plant (AP-7)'!$C$5=\"batch mix plant\",'Asphalt Plant (AP-7)'!R48,0),IF('Asphalt Plant (AP-8)'!$C$5=\"batch mix plant\",'Asphalt Plant (AP-8)'!R48,0),IF('Asphalt Plant (AP-9)'!$C$5=\"batch mix plant\",'Asphalt Plant (AP-9)'!R48,0),IF('Asphalt Plant (AP-10)'!$C$5=\"batch mix plant\",'Asphalt Plant (AP-10)'!R48,0)))","v":""},{"$f":"IF(B65=\"\",\"\",SUM(IF('Asphalt Plant (AP-1)'!$C$5=\"batch mix plant\",'Asphalt Plant (AP-1)'!S48,0),IF('Asphalt Plant (AP-2)'!$C$5=\"batch mix plant\",'Asphalt Plant (AP-2)'!S48,0),IF('Asphalt Plant (AP-3)'!$C$5=\"batch mix plant\",'Asphalt Plant (AP-3)'!S48,0),IF('Asphalt Plant (AP-4)'!$C$5=\"batch mix plant\",'Asphalt Plant (AP-4)'!S48,0),IF('Asphalt Plant (AP-5)'!$C$5=\"batch mix plant\",'Asphalt Plant (AP-5)'!S48,0),IF('Asphalt Plant (AP-6)'!$C$5=\"batch mix plant\",'Asphalt Plant (AP-6)'!S48,0),IF('Asphalt Plant (AP-7)'!$C$5=\"batch mix plant\",'Asphalt Plant (AP-7)'!S48,0),IF('Asphalt Plant (AP-8)'!$C$5=\"batch mix plant\",'Asphalt Plant (AP-8)'!S48,0),IF('Asphalt Plant (AP-9)'!$C$5=\"batch mix plant\",'Asphalt Plant (AP-9)'!S48,0),IF('Asphalt Plant (AP-10)'!$C$5=\"batch mix plant\",'Asphalt Plant (AP-10)'!S48,0)))","v":""},{"$f":"IF(B65=\"\",\"\",SUM(IF('Asphalt Plant (AP-1)'!$C$5=\"batch mix plant\",'Asphalt Plant (AP-1)'!T48,0),IF('Asphalt Plant (AP-2)'!$C$5=\"batch mix plant\",'Asphalt Plant (AP-2)'!T48,0),IF('Asphalt Plant (AP-3)'!$C$5=\"batch mix plant\",'Asphalt Plant (AP-3)'!T48,0),IF('Asphalt Plant (AP-4)'!$C$5=\"batch mix plant\",'Asphalt Plant (AP-4)'!T48,0),IF('Asphalt Plant (AP-5)'!$C$5=\"batch mix plant\",'Asphalt Plant (AP-5)'!T48,0),IF('Asphalt Plant (AP-6)'!$C$5=\"batch mix plant\",'Asphalt Plant (AP-6)'!T48,0),IF('Asphalt Plant (AP-7)'!$C$5=\"batch mix plant\",'Asphalt Plant (AP-7)'!T48,0),IF('Asphalt Plant (AP-8)'!$C$5=\"batch mix plant\",'Asphalt Plant (AP-8)'!T48,0),IF('Asphalt Plant (AP-9)'!$C$5=\"batch mix plant\",'Asphalt Plant (AP-9)'!T48,0),IF('Asphalt Plant (AP-10)'!$C$5=\"batch mix plant\",'Asphalt Plant (AP-10)'!T48,0)))","v":""}]
["",{"$f":"IF(D66=\"\",\"\",\"Batch Mix Plant - Waste Oil\")","v":""},{"$f":"IF(B66=\"\",\"\",\"30500245\")","v":""},{"$f":"IF(SUM(IF('Asphalt Plant (AP-1)'!$C$5=\"batch mix plant\",'Asphalt Plant (AP-1)'!N6,0),IF('Asphalt Plant (AP-2)'!$C$5=\"batch mix plant\",'Asphalt Plant (AP-2)'!N6,0),IF('Asphalt Plant (AP-3)'!$C$5=\"batch mix plant\",'Asphalt Plant (AP-3)'!N6,0),IF('Asphalt Plant (AP-4)'!$C$5=\"batch mix plant\",'Asphalt Plant (AP-4)'!N6,0),IF('Asphalt Plant (AP-5)'!$C$5=\"batch mix plant\",'Asphalt Plant (AP-5)'!N6,0),IF('Asphalt Plant (AP-6)'!$C$5=\"batch mix plant\",'Asphalt Plant (AP-6)'!N6,0),IF('Asphalt Plant (AP-7)'!$C$5=\"batch mix plant\",'Asphalt Plant (AP-7)'!N6,0),IF('Asphalt Plant (AP-8)'!$C$5=\"batch mix plant\",'Asphalt Plant (AP-8)'!N6,0),IF('Asphalt Plant (AP-9)'!$C$5=\"batch mix plant\",'Asphalt Plant (AP-9)'!N6,0),IF('Asphalt Plant (AP-10)'!$C$5=\"batch mix plant\",'Asphalt Plant (AP-10)'!N6,0))>0,SUM(IF('Asphalt Plant (AP-1)'!$C$5=\"batch mix plant\",'Asphalt Plant (AP-1)'!N6,0),IF('Asphalt Plant (AP-2)'!$C$5=\"batch mix plant\",'Asphalt Plant (AP-2)'!N6,0),IF('Asphalt Plant (AP-3)'!$C$5=\"batch mix plant\",'Asphalt Plant (AP-3)'!N6,0),IF('Asphalt Plant (AP-4)'!$C$5=\"batch mix plant\",'Asphalt Plant (AP-4)'!N6,0),IF('Asphalt Plant (AP-5)'!$C$5=\"batch mix plant\",'Asphalt Plant (AP-5)'!N6,0),IF('Asphalt Plant (AP-6)'!$C$5=\"batch mix plant\",'Asphalt Plant (AP-6)'!N6,0),IF('Asphalt Plant (AP-7)'!$C$5=\"batch mix plant\",'Asphalt Plant (AP-7)'!N6,0),IF('Asphalt Plant (AP-8)'!$C$5=\"batch mix plant\",'Asphalt Plant (AP-8)'!N6,0),IF('Asphalt Plant (AP-9)'!$C$5=\"batch mix plant\",'Asphalt Plant (AP-9)'!N6,0),IF('Asphalt Plant (AP-10)'!$C$5=\"batch mix plant\",'Asphalt Plant (AP-10)'!N6,0)),\"\")","v":""},"",{"$f":"IF(B66=\"\",\"\",MAX(IF('Asphalt Plant (AP-1)'!$C$5=\"batch mix plant\",'Asphalt Plant (AP-1)'!O49,0),IF('Asphalt Plant (AP-2)'!$C$5=\"batch mix plant\",'Asphalt Plant (AP-2)'!O49,0),IF('Asphalt Plant (AP-3)'!$C$5=\"batch mix plant\",'Asphalt Plant (AP-3)'!O49,0),IF('Asphalt Plant (AP-4)'!$C$5=\"batch mix plant\",'Asphalt Plant (AP-4)'!O49,0),IF('Asphalt Plant (AP-5)'!$C$5=\"batch mix plant\",'Asphalt Plant (AP-5)'!O49,0),IF('Asphalt Plant (AP-6)'!$C$5=\"batch mix plant\",'Asphalt Plant (AP-6)'!O49,0),IF('Asphalt Plant (AP-7)'!$C$5=\"batch mix plant\",'Asphalt Plant (AP-7)'!O49,0),IF('Asphalt Plant (AP-8)'!$C$5=\"batch mix plant\",'Asphalt Plant (AP-8)'!O49,0),IF('Asphalt Plant (AP-9)'!$C$5=\"batch mix plant\",'Asphalt Plant (AP-9)'!O49,0),IF('Asphalt Plant (AP-10)'!$C$5=\"batch mix plant\",'Asphalt Plant (AP-10)'!O49,0)))","v":""},"",{"$f":"IF(B66=\"\",\"\",\"AP-42 Table 11.1-2,5,6,9\")","v":""},{"$f":"IF(B66=\"\",\"\",SUM(IF('Asphalt Plant (AP-1)'!$C$5=\"batch mix plant\",'Asphalt Plant (AP-1)'!Q49,0),IF('Asphalt Plant (AP-2)'!$C$5=\"batch mix plant\",'Asphalt Plant (AP-2)'!Q49,0),IF('Asphalt Plant (AP-3)'!$C$5=\"batch mix plant\",'Asphalt Plant (AP-3)'!Q49,0),IF('Asphalt Plant (AP-4)'!$C$5=\"batch mix plant\",'Asphalt Plant (AP-4)'!Q49,0),IF('Asphalt Plant (AP-5)'!$C$5=\"batch mix plant\",'Asphalt Plant (AP-5)'!Q49,0),IF('Asphalt Plant (AP-6)'!$C$5=\"batch mix plant\",'Asphalt Plant (AP-6)'!Q49,0),IF('Asphalt Plant (AP-7)'!$C$5=\"batch mix plant\",'Asphalt Plant (AP-7)'!Q49,0),IF('Asphalt Plant (AP-8)'!$C$5=\"batch mix plant\",'Asphalt Plant (AP-8)'!Q49,0),IF('Asphalt Plant (AP-9)'!$C$5=\"batch mix plant\",'Asphalt Plant (AP-9)'!Q49,0),IF('Asphalt Plant (AP-10)'!$C$5=\"batch mix plant\",'Asphalt Plant (AP-10)'!Q49,0)))","v":""},null,{"$f":"IF(B66=\"\",\"\",SUM(IF('Asphalt Plant (AP-1)'!$C$5=\"batch mix plant\",'Asphalt Plant (AP-1)'!R49,0),IF('Asphalt Plant (AP-2)'!$C$5=\"batch mix plant\",'Asphalt Plant (AP-2)'!R49,0),IF('Asphalt Plant (AP-3)'!$C$5=\"batch mix plant\",'Asphalt Plant (AP-3)'!R49,0),IF('Asphalt Plant (AP-4)'!$C$5=\"batch mix plant\",'Asphalt Plant (AP-4)'!R49,0),IF('Asphalt Plant (AP-5)'!$C$5=\"batch mix plant\",'Asphalt Plant (AP-5)'!R49,0),IF('Asphalt Plant (AP-6)'!$C$5=\"batch mix plant\",'Asphalt Plant (AP-6)'!R49,0),IF('Asphalt Plant (AP-7)'!$C$5=\"batch mix plant\",'Asphalt Plant (AP-7)'!R49,0),IF('Asphalt Plant (AP-8)'!$C$5=\"batch mix plant\",'Asphalt Plant (AP-8)'!R49,0),IF('Asphalt Plant (AP-9)'!$C$5=\"batch mix plant\",'Asphalt Plant (AP-9)'!R49,0),IF('Asphalt Plant (AP-10)'!$C$5=\"batch mix plant\",'Asphalt Plant (AP-10)'!R49,0)))","v":""},{"$f":"IF(B66=\"\",\"\",SUM(IF('Asphalt Plant (AP-1)'!$C$5=\"batch mix plant\",'Asphalt Plant (AP-1)'!S49,0),IF('Asphalt Plant (AP-2)'!$C$5=\"batch mix plant\",'Asphalt Plant (AP-2)'!S49,0),IF('Asphalt Plant (AP-3)'!$C$5=\"batch mix plant\",'Asphalt Plant (AP-3)'!S49,0),IF('Asphalt Plant (AP-4)'!$C$5=\"batch mix plant\",'Asphalt Plant (AP-4)'!S49,0),IF('Asphalt Plant (AP-5)'!$C$5=\"batch mix plant\",'Asphalt Plant (AP-5)'!S49,0),IF('Asphalt Plant (AP-6)'!$C$5=\"batch mix plant\",'Asphalt Plant (AP-6)'!S49,0),IF('Asphalt Plant (AP-7)'!$C$5=\"batch mix plant\",'Asphalt Plant (AP-7)'!S49,0),IF('Asphalt Plant (AP-8)'!$C$5=\"batch mix plant\",'Asphalt Plant (AP-8)'!S49,0),IF('Asphalt Plant (AP-9)'!$C$5=\"batch mix plant\",'Asphalt Plant (AP-9)'!S49,0),IF('Asphalt Plant (AP-10)'!$C$5=\"batch mix plant\",'Asphalt Plant (AP-10)'!S49,0)))","v":""},{"$f":"IF(B66=\"\",\"\",SUM(IF('Asphalt Plant (AP-1)'!$C$5=\"batch mix plant\",'Asphalt Plant (AP-1)'!T49,0),IF('Asphalt Plant (AP-2)'!$C$5=\"batch mix plant\",'Asphalt Plant (AP-2)'!T49,0),IF('Asphalt Plant (AP-3)'!$C$5=\"batch mix plant\",'Asphalt Plant (AP-3)'!T49,0),IF('Asphalt Plant (AP-4)'!$C$5=\"batch mix plant\",'Asphalt Plant (AP-4)'!T49,0),IF('Asphalt Plant (AP-5)'!$C$5=\"batch mix plant\",'Asphalt Plant (AP-5)'!T49,0),IF('Asphalt Plant (AP-6)'!$C$5=\"batch mix plant\",'Asphalt Plant (AP-6)'!T49,0),IF('Asphalt Plant (AP-7)'!$C$5=\"batch mix plant\",'Asphalt Plant (AP-7)'!T49,0),IF('Asphalt Plant (AP-8)'!$C$5=\"batch mix plant\",'Asphalt Plant (AP-8)'!T49,0),IF('Asphalt Plant (AP-9)'!$C$5=\"batch mix plant\",'Asphalt Plant (AP-9)'!T49,0),IF('Asphalt Plant (AP-10)'!$C$5=\"batch mix plant\",'Asphalt Plant (AP-10)'!T49,0)))","v":""}]
["",{"$f":"IF(D67=\"\",\"\",\"Batch Mix Plant - Natural Gas\")","v":""},{"$f":"IF(B67=\"\",\"\",\"30500247\")","v":""},{"$f":"IF(SUM(IF('Asphalt Plant (AP-1)'!$C$5=\"batch mix plant\",'Asphalt Plant (AP-1)'!N7,0),IF('Asphalt Plant (AP-2)'!$C$5=\"batch mix plant\",'Asphalt Plant (AP-2)'!N7,0),IF('Asphalt Plant (AP-3)'!$C$5=\"batch mix plant\",'Asphalt Plant (AP-3)'!N7,0),IF('Asphalt Plant (AP-4)'!$C$5=\"batch mix plant\",'Asphalt Plant (AP-4)'!N7,0),IF('Asphalt Plant (AP-5)'!$C$5=\"batch mix plant\",'Asphalt Plant (AP-5)'!N7,0),IF('Asphalt Plant (AP-6)'!$C$5=\"batch mix plant\",'Asphalt Plant (AP-6)'!N7,0),IF('Asphalt Plant (AP-7)'!$C$5=\"batch mix plant\",'Asphalt Plant (AP-7)'!N7,0),IF('Asphalt Plant (AP-8)'!$C$5=\"batch mix plant\",'Asphalt Plant (AP-8)'!N7,0),IF('Asphalt Plant (AP-9)'!$C$5=\"batch mix plant\",'Asphalt Plant (AP-9)'!N7,0),IF('Asphalt Plant (AP-10)'!$C$5=\"batch mix plant\",'Asphalt Plant (AP-10)'!N7,0))>0,SUM(IF('Asphalt Plant (AP-1)'!$C$5=\"batch mix plant\",'Asphalt Plant (AP-1)'!N7,0),IF('Asphalt Plant (AP-2)'!$C$5=\"batch mix plant\",'Asphalt Plant (AP-2)'!N7,0),IF('Asphalt Plant (AP-3)'!$C$5=\"batch mix plant\",'Asphalt Plant (AP-3)'!N7,0),IF('Asphalt Plant (AP-4)'!$C$5=\"batch mix plant\",'Asphalt Plant (AP-4)'!N7,0),IF('Asphalt Plant (AP-5)'!$C$5=\"batch mix plant\",'Asphalt Plant (AP-5)'!N7,0),IF('Asphalt Plant (AP-6)'!$C$5=\"batch mix plant\",'Asphalt Plant (AP-6)'!N7,0),IF('Asphalt Plant (AP-7)'!$C$5=\"batch mix plant\",'Asphalt Plant (AP-7)'!N7,0),IF('Asphalt Plant (AP-8)'!$C$5=\"batch mix plant\",'Asphalt Plant (AP-8)'!N7,0),IF('Asphalt Plant (AP-9)'!$C$5=\"batch mix plant\",'Asphalt Plant (AP-9)'!N7,0),IF('Asphalt Plant (AP-10)'!$C$5=\"batch mix plant\",'Asphalt Plant (AP-10)'!N7,0)),\"\")","v":""},"",{"$f":"IF(B67=\"\",\"\",MAX(IF('Asphalt Plant (AP-1)'!$C$5=\"batch mix plant\",'Asphalt Plant (AP-1)'!O50,0),IF('Asphalt Plant (AP-2)'!$C$5=\"batch mix plant\",'Asphalt Plant (AP-2)'!O50,0),IF('Asphalt Plant (AP-3)'!$C$5=\"batch mix plant\",'Asphalt Plant (AP-3)'!O50,0),IF('Asphalt Plant (AP-4)'!$C$5=\"batch mix plant\",'Asphalt Plant (AP-4)'!O50,0),IF('Asphalt Plant (AP-5)'!$C$5=\"batch mix plant\",'Asphalt Plant (AP-5)'!O50,0),IF('Asphalt Plant (AP-6)'!$C$5=\"batch mix plant\",'Asphalt Plant (AP-6)'!O50,0),IF('Asphalt Plant (AP-7)'!$C$5=\"batch mix plant\",'Asphalt Plant (AP-7)'!O50,0),IF('Asphalt Plant (AP-8)'!$C$5=\"batch mix plant\",'Asphalt Plant (AP-8)'!O50,0),IF('Asphalt Plant (AP-9)'!$C$5=\"batch mix plant\",'Asphalt Plant (AP-9)'!O50,0),IF('Asphalt Plant (AP-10)'!$C$5=\"batch mix plant\",'Asphalt Plant (AP-10)'!O50,0)))","v":""},"",{"$f":"IF(B67=\"\",\"\",\"AP-42 Table 11.1-2,5,6,9\")","v":""},{"$f":"IF(B67=\"\",\"\",SUM(IF('Asphalt Plant (AP-1)'!$C$5=\"batch mix plant\",'Asphalt Plant (AP-1)'!Q50,0),IF('Asphalt Plant (AP-2)'!$C$5=\"batch mix plant\",'Asphalt Plant (AP-2)'!Q50,0),IF('Asphalt Plant (AP-3)'!$C$5=\"batch mix plant\",'Asphalt Plant (AP-3)'!Q50,0),IF('Asphalt Plant (AP-4)'!$C$5=\"batch mix plant\",'Asphalt Plant (AP-4)'!Q50,0),IF('Asphalt Plant (AP-5)'!$C$5=\"batch mix plant\",'Asphalt Plant (AP-5)'!Q50,0),IF('Asphalt Plant (AP-6)'!$C$5=\"batch mix plant\",'Asphalt Plant (AP-6)'!Q50,0),IF('Asphalt Plant (AP-7)'!$C$5=\"batch mix plant\",'Asphalt Plant (AP-7)'!Q50,0),IF('Asphalt Plant (AP-8)'!$C$5=\"batch mix plant\",'Asphalt Plant (AP-8)'!Q50,0),IF('Asphalt Plant (AP-9)'!$C$5=\"batch mix plant\",'Asphalt Plant (AP-9)'!Q50,0),IF('Asphalt Plant (AP-10)'!$C$5=\"batch mix plant\",'Asphalt Plant (AP-10)'!Q50,0)))","v":""},null,{"$f":"IF(B67=\"\",\"\",SUM(IF('Asphalt Plant (AP-1)'!$C$5=\"batch mix plant\",'Asphalt Plant (AP-1)'!R50,0),IF('Asphalt Plant (AP-2)'!$C$5=\"batch mix plant\",'Asphalt Plant (AP-2)'!R50,0),IF('Asphalt Plant (AP-3)'!$C$5=\"batch mix plant\",'Asphalt Plant (AP-3)'!R50,0),IF('Asphalt Plant (AP-4)'!$C$5=\"batch mix plant\",'Asphalt Plant (AP-4)'!R50,0),IF('Asphalt Plant (AP-5)'!$C$5=\"batch mix plant\",'Asphalt Plant (AP-5)'!R50,0),IF('Asphalt Plant (AP-6)'!$C$5=\"batch mix plant\",'Asphalt Plant (AP-6)'!R50,0),IF('Asphalt Plant (AP-7)'!$C$5=\"batch mix plant\",'Asphalt Plant (AP-7)'!R50,0),IF('Asphalt Plant (AP-8)'!$C$5=\"batch mix plant\",'Asphalt Plant (AP-8)'!R50,0),IF('Asphalt Plant (AP-9)'!$C$5=\"batch mix plant\",'Asphalt Plant (AP-9)'!R50,0),IF('Asphalt Plant (AP-10)'!$C$5=\"batch mix plant\",'Asphalt Plant (AP-10)'!R50,0)))","v":""},{"$f":"IF(B67=\"\",\"\",SUM(IF('Asphalt Plant (AP-1)'!$C$5=\"batch mix plant\",'Asphalt Plant (AP-1)'!S50,0),IF('Asphalt Plant (AP-2)'!$C$5=\"batch mix plant\",'Asphalt Plant (AP-2)'!S50,0),IF('Asphalt Plant (AP-3)'!$C$5=\"batch mix plant\",'Asphalt Plant (AP-3)'!S50,0),IF('Asphalt Plant (AP-4)'!$C$5=\"batch mix plant\",'Asphalt Plant (AP-4)'!S50,0),IF('Asphalt Plant (AP-5)'!$C$5=\"batch mix plant\",'Asphalt Plant (AP-5)'!S50,0),IF('Asphalt Plant (AP-6)'!$C$5=\"batch mix plant\",'Asphalt Plant (AP-6)'!S50,0),IF('Asphalt Plant (AP-7)'!$C$5=\"batch mix plant\",'Asphalt Plant (AP-7)'!S50,0),IF('Asphalt Plant (AP-8)'!$C$5=\"batch mix plant\",'Asphalt Plant (AP-8)'!S50,0),IF('Asphalt Plant (AP-9)'!$C$5=\"batch mix plant\",'Asphalt Plant (AP-9)'!S50,0),IF('Asphalt Plant (AP-10)'!$C$5=\"batch mix plant\",'Asphalt Plant (AP-10)'!S50,0)))","v":""},{"$f":"IF(B67=\"\",\"\",SUM(IF('Asphalt Plant (AP-1)'!$C$5=\"batch mix plant\",'Asphalt Plant (AP-1)'!T50,0),IF('Asphalt Plant (AP-2)'!$C$5=\"batch mix plant\",'Asphalt Plant (AP-2)'!T50,0),IF('Asphalt Plant (AP-3)'!$C$5=\"batch mix plant\",'Asphalt Plant (AP-3)'!T50,0),IF('Asphalt Plant (AP-4)'!$C$5=\"batch mix plant\",'Asphalt Plant (AP-4)'!T50,0),IF('Asphalt Plant (AP-5)'!$C$5=\"batch mix plant\",'Asphalt Plant (AP-5)'!T50,0),IF('Asphalt Plant (AP-6)'!$C$5=\"batch mix plant\",'Asphalt Plant (AP-6)'!T50,0),IF('Asphalt Plant (AP-7)'!$C$5=\"batch mix plant\",'Asphalt Plant (AP-7)'!T50,0),IF('Asphalt Plant (AP-8)'!$C$5=\"batch mix plant\",'Asphalt Plant (AP-8)'!T50,0),IF('Asphalt Plant (AP-9)'!$C$5=\"batch mix plant\",'Asphalt Plant (AP-9)'!T50,0),IF('Asphalt Plant (AP-10)'!$C$5=\"batch mix plant\",'Asphalt Plant (AP-10)'!T50,0)))","v":""}]
["",{"$f":"IF(D68=\"\",\"\",\"Drum Mix Plant - Fuel Oil\")","v":""},{"$f":"IF(B68=\"\",\"\",\"30500258\")","v":""},{"$f":"IF(SUM(IF('Asphalt Plant (AP-1)'!$C$5=\"drum mix plant\",'Asphalt Plant (AP-1)'!N5,0),IF('Asphalt Plant (AP-2)'!$C$5=\"drum mix plant\",'Asphalt Plant (AP-2)'!N5,0),IF('Asphalt Plant (AP-3)'!$C$5=\"drum mix plant\",'Asphalt Plant (AP-3)'!N5,0),IF('Asphalt Plant (AP-4)'!$C$5=\"drum mix plant\",'Asphalt Plant (AP-4)'!N5,0),IF('Asphalt Plant (AP-5)'!$C$5=\"drum mix plant\",'Asphalt Plant (AP-5)'!N5,0),IF('Asphalt Plant (AP-6)'!$C$5=\"drum mix plant\",'Asphalt Plant (AP-6)'!N5,0),IF('Asphalt Plant (AP-7)'!$C$5=\"drum mix plant\",'Asphalt Plant (AP-7)'!N5,0),IF('Asphalt Plant (AP-8)'!$C$5=\"drum mix plant\",'Asphalt Plant (AP-8)'!N5,0),IF('Asphalt Plant (AP-9)'!$C$5=\"drum mix plant\",'Asphalt Plant (AP-9)'!N5,0),IF('Asphalt Plant (AP-10)'!$C$5=\"drum mix plant\",'Asphalt Plant (AP-10)'!N5,0))>0,SUM(IF('Asphalt Plant (AP-1)'!$C$5=\"drum mix plant\",'Asphalt Plant (AP-1)'!N5,0),IF('Asphalt Plant (AP-2)'!$C$5=\"drum mix plant\",'Asphalt Plant (AP-2)'!N5,0),IF('Asphalt Plant (AP-3)'!$C$5=\"drum mix plant\",'Asphalt Plant (AP-3)'!N5,0),IF('Asphalt Plant (AP-4)'!$C$5=\"drum mix plant\",'Asphalt Plant (AP-4)'!N5,0),IF('Asphalt Plant (AP-5)'!$C$5=\"drum mix plant\",'Asphalt Plant (AP-5)'!N5,0),IF('Asphalt Plant (AP-6)'!$C$5=\"drum mix plant\",'Asphalt Plant (AP-6)'!N5,0),IF('Asphalt Plant (AP-7)'!$C$5=\"drum mix plant\",'Asphalt Plant (AP-7)'!N5,0),IF('Asphalt Plant (AP-8)'!$C$5=\"drum mix plant\",'Asphalt Plant (AP-8)'!N5,0),IF('Asphalt Plant (AP-9)'!$C$5=\"drum mix plant\",'Asphalt Plant (AP-9)'!N5,0),IF('Asphalt Plant (AP-10)'!$C$5=\"drum mix plant\",'Asphalt Plant (AP-10)'!N5,0)),\"\")","v":""},"",{"$f":"IF(B68=\"\",\"\",MAX(IF('Asphalt Plant (AP-1)'!$C$5=\"drum mix plant\",'Asphalt Plant (AP-1)'!O48,0),IF('Asphalt Plant (AP-2)'!$C$5=\"drum mix plant\",'Asphalt Plant (AP-2)'!O48,0),IF('Asphalt Plant (AP-3)'!$C$5=\"drum mix plant\",'Asphalt Plant (AP-3)'!O48,0),IF('Asphalt Plant (AP-4)'!$C$5=\"drum mix plant\",'Asphalt Plant (AP-4)'!O48,0),IF('Asphalt Plant (AP-5)'!$C$5=\"drum mix plant\",'Asphalt Plant (AP-5)'!O48,0),IF('Asphalt Plant (AP-6)'!$C$5=\"drum mix plant\",'Asphalt Plant (AP-6)'!O48,0),IF('Asphalt Plant (AP-7)'!$C$5=\"drum mix plant\",'Asphalt Plant (AP-7)'!O48,0),IF('Asphalt Plant (AP-8)'!$C$5=\"drum mix plant\",'Asphalt Plant (AP-8)'!O48,0),IF('Asphalt Plant (AP-9)'!$C$5=\"drum mix plant\",'Asphalt Plant (AP-9)'!O48,0),IF('Asphalt Plant (AP-10)'!$C$5=\"drum mix plant\",'Asphalt Plant (AP-10)'!O48,0)))","v":""},"",{"$f":"IF(B68=\"\",\"\",\"AP-42 Table 11.1-4,7,8,10\")","v":""},{"$f":"IF(B68=\"\",\"\",SUM(IF('Asphalt Plant (AP-1)'!$C$5=\"drum mix plant\",'Asphalt Plant (AP-1)'!Q48,0),IF('Asphalt Plant (AP-2)'!$C$5=\"drum mix plant\",'Asphalt Plant (AP-2)'!Q48,0),IF('Asphalt Plant (AP-3)'!$C$5=\"drum mix plant\",'Asphalt Plant (AP-3)'!Q48,0),IF('Asphalt Plant (AP-4)'!$C$5=\"drum mix plant\",'Asphalt Plant (AP-4)'!Q48,0),IF('Asphalt Plant (AP-5)'!$C$5=\"drum mix plant\",'Asphalt Plant (AP-5)'!Q48,0),IF('Asphalt Plant (AP-6)'!$C$5=\"drum mix plant\",'Asphalt Plant (AP-6)'!Q48,0),IF('Asphalt Plant (AP-7)'!$C$5=\"drum mix plant\",'Asphalt Plant (AP-7)'!Q48,0),IF('Asphalt Plant (AP-8)'!$C$5=\"drum mix plant\",'Asphalt Plant (AP-8)'!Q48,0),IF('Asphalt Plant (AP-9)'!$C$5=\"drum mix plant\",'Asphalt Plant (AP-9)'!Q48,0),IF('Asphalt Plant (AP-10)'!$C$5=\"drum mix plant\",'Asphalt Plant (AP-10)'!Q48,0)))","v":""},null,{"$f":"IF(B68=\"\",\"\",SUM(IF('Asphalt Plant (AP-1)'!$C$5=\"drum mix plant\",'Asphalt Plant (AP-1)'!R48,0),IF('Asphalt Plant (AP-2)'!$C$5=\"drum mix plant\",'Asphalt Plant (AP-2)'!R48,0),IF('Asphalt Plant (AP-3)'!$C$5=\"drum mix plant\",'Asphalt Plant (AP-3)'!R48,0),IF('Asphalt Plant (AP-4)'!$C$5=\"drum mix plant\",'Asphalt Plant (AP-4)'!R48,0),IF('Asphalt Plant (AP-5)'!$C$5=\"drum mix plant\",'Asphalt Plant (AP-5)'!R48,0),IF('Asphalt Plant (AP-6)'!$C$5=\"drum mix plant\",'Asphalt Plant (AP-6)'!R48,0),IF('Asphalt Plant (AP-7)'!$C$5=\"drum mix plant\",'Asphalt Plant (AP-7)'!R48,0),IF('Asphalt Plant (AP-8)'!$C$5=\"drum mix plant\",'Asphalt Plant (AP-8)'!R48,0),IF('Asphalt Plant (AP-9)'!$C$5=\"drum mix plant\",'Asphalt Plant (AP-9)'!R48,0),IF('Asphalt Plant (AP-10)'!$C$5=\"drum mix plant\",'Asphalt Plant (AP-10)'!R48,0)))","v":""},{"$f":"IF(B68=\"\",\"\",SUM(IF('Asphalt Plant (AP-1)'!$C$5=\"drum mix plant\",'Asphalt Plant (AP-1)'!S48,0),IF('Asphalt Plant (AP-2)'!$C$5=\"drum mix plant\",'Asphalt Plant (AP-2)'!S48,0),IF('Asphalt Plant (AP-3)'!$C$5=\"drum mix plant\",'Asphalt Plant (AP-3)'!S48,0),IF('Asphalt Plant (AP-4)'!$C$5=\"drum mix plant\",'Asphalt Plant (AP-4)'!S48,0),IF('Asphalt Plant (AP-5)'!$C$5=\"drum mix plant\",'Asphalt Plant (AP-5)'!S48,0),IF('Asphalt Plant (AP-6)'!$C$5=\"drum mix plant\",'Asphalt Plant (AP-6)'!S48,0),IF('Asphalt Plant (AP-7)'!$C$5=\"drum mix plant\",'Asphalt Plant (AP-7)'!S48,0),IF('Asphalt Plant (AP-8)'!$C$5=\"drum mix plant\",'Asphalt Plant (AP-8)'!S48,0),IF('Asphalt Plant (AP-9)'!$C$5=\"drum mix plant\",'Asphalt Plant (AP-9)'!S48,0),IF('Asphalt Plant (AP-10)'!$C$5=\"drum mix plant\",'Asphalt Plant (AP-10)'!S48,0)))","v":""},{"$f":"IF(B68=\"\",\"\",SUM(IF('Asphalt Plant (AP-1)'!$C$5=\"drum mix plant\",'Asphalt Plant (AP-1)'!T48,0),IF('Asphalt Plant (AP-2)'!$C$5=\"drum mix plant\",'Asphalt Plant (AP-2)'!T48,0),IF('Asphalt Plant (AP-3)'!$C$5=\"drum mix plant\",'Asphalt Plant (AP-3)'!T48,0),IF('Asphalt Plant (AP-4)'!$C$5=\"drum mix plant\",'Asphalt Plant (AP-4)'!T48,0),IF('Asphalt Plant (AP-5)'!$C$5=\"drum mix plant\",'Asphalt Plant (AP-5)'!T48,0),IF('Asphalt Plant (AP-6)'!$C$5=\"drum mix plant\",'Asphalt Plant (AP-6)'!T48,0),IF('Asphalt Plant (AP-7)'!$C$5=\"drum mix plant\",'Asphalt Plant (AP-7)'!T48,0),IF('Asphalt Plant (AP-8)'!$C$5=\"drum mix plant\",'Asphalt Plant (AP-8)'!T48,0),IF('Asphalt Plant (AP-9)'!$C$5=\"drum mix plant\",'Asphalt Plant (AP-9)'!T48,0),IF('Asphalt Plant (AP-10)'!$C$5=\"drum mix plant\",'Asphalt Plant (AP-10)'!T48,0)))","v":""}]
["",{"$f":"IF(D69=\"\",\"\",\"Drum Mix Plant - Waste Oil\")","v":""},{"$f":"IF(B69=\"\",\"\",\"30500255\")","v":""},{"$f":"IF(SUM(IF('Asphalt Plant (AP-1)'!$C$5=\"drum mix plant\",'Asphalt Plant (AP-1)'!N6,0),IF('Asphalt Plant (AP-2)'!$C$5=\"drum mix plant\",'Asphalt Plant (AP-2)'!N6,0),IF('Asphalt Plant (AP-3)'!$C$5=\"drum mix plant\",'Asphalt Plant (AP-3)'!N6,0),IF('Asphalt Plant (AP-4)'!$C$5=\"drum mix plant\",'Asphalt Plant (AP-4)'!N6,0),IF('Asphalt Plant (AP-5)'!$C$5=\"drum mix plant\",'Asphalt Plant (AP-5)'!N6,0),IF('Asphalt Plant (AP-6)'!$C$5=\"drum mix plant\",'Asphalt Plant (AP-6)'!N6,0),IF('Asphalt Plant (AP-7)'!$C$5=\"drum mix plant\",'Asphalt Plant (AP-7)'!N6,0),IF('Asphalt Plant (AP-8)'!$C$5=\"drum mix plant\",'Asphalt Plant (AP-8)'!N6,0),IF('Asphalt Plant (AP-9)'!$C$5=\"drum mix plant\",'Asphalt Plant (AP-9)'!N6,0),IF('Asphalt Plant (AP-10)'!$C$5=\"drum mix plant\",'Asphalt Plant (AP-10)'!N6,0))>0,SUM(IF('Asphalt Plant (AP-1)'!$C$5=\"drum mix plant\",'Asphalt Plant (AP-1)'!N6,0),IF('Asphalt Plant (AP-2)'!$C$5=\"drum mix plant\",'Asphalt Plant (AP-2)'!N6,0),IF('Asphalt Plant (AP-3)'!$C$5=\"drum mix plant\",'Asphalt Plant (AP-3)'!N6,0),IF('Asphalt Plant (AP-4)'!$C$5=\"drum mix plant\",'Asphalt Plant (AP-4)'!N6,0),IF('Asphalt Plant (AP-5)'!$C$5=\"drum mix plant\",'Asphalt Plant (AP-5)'!N6,0),IF('Asphalt Plant (AP-6)'!$C$5=\"drum mix plant\",'Asphalt Plant (AP-6)'!N6,0),IF('Asphalt Plant (AP-7)'!$C$5=\"drum mix plant\",'Asphalt Plant (AP-7)'!N6,0),IF('Asphalt Plant (AP-8)'!$C$5=\"drum mix plant\",'Asphalt Plant (AP-8)'!N6,0),IF('Asphalt Plant (AP-9)'!$C$5=\"drum mix plant\",'Asphalt Plant (AP-9)'!N6,0),IF('Asphalt Plant (AP-10)'!$C$5=\"drum mix plant\",'Asphalt Plant (AP-10)'!N6,0)),\"\")","v":""},"",{"$f":"IF(B69=\"\",\"\",MAX(IF('Asphalt Plant (AP-1)'!$C$5=\"drum mix plant\",'Asphalt Plant (AP-1)'!O49,0),IF('Asphalt Plant (AP-2)'!$C$5=\"drum mix plant\",'Asphalt Plant (AP-2)'!O49,0),IF('Asphalt Plant (AP-3)'!$C$5=\"drum mix plant\",'Asphalt Plant (AP-3)'!O49,0),IF('Asphalt Plant (AP-4)'!$C$5=\"drum mix plant\",'Asphalt Plant (AP-4)'!O49,0),IF('Asphalt Plant (AP-5)'!$C$5=\"drum mix plant\",'Asphalt Plant (AP-5)'!O49,0),IF('Asphalt Plant (AP-6)'!$C$5=\"drum mix plant\",'Asphalt Plant (AP-6)'!O49,0),IF('Asphalt Plant (AP-7)'!$C$5=\"drum mix plant\",'Asphalt Plant (AP-7)'!O49,0),IF('Asphalt Plant (AP-8)'!$C$5=\"drum mix plant\",'Asphalt Plant (AP-8)'!O49,0),IF('Asphalt Plant (AP-9)'!$C$5=\"drum mix plant\",'Asphalt Plant (AP-9)'!O49,0),IF('Asphalt Plant (AP-10)'!$C$5=\"drum mix plant\",'Asphalt Plant (AP-10)'!O49,0)))","v":""},"",{"$f":"IF(B69=\"\",\"\",\"AP-42 Table 11.1-4,7,8,10\")","v":""},{"$f":"IF(B69=\"\",\"\",SUM(IF('Asphalt Plant (AP-1)'!$C$5=\"drum mix plant\",'Asphalt Plant (AP-1)'!Q49,0),IF('Asphalt Plant (AP-2)'!$C$5=\"drum mix plant\",'Asphalt Plant (AP-2)'!Q49,0),IF('Asphalt Plant (AP-3)'!$C$5=\"drum mix plant\",'Asphalt Plant (AP-3)'!Q49,0),IF('Asphalt Plant (AP-4)'!$C$5=\"drum mix plant\",'Asphalt Plant (AP-4)'!Q49,0),IF('Asphalt Plant (AP-5)'!$C$5=\"drum mix plant\",'Asphalt Plant (AP-5)'!Q49,0),IF('Asphalt Plant (AP-6)'!$C$5=\"drum mix plant\",'Asphalt Plant (AP-6)'!Q49,0),IF('Asphalt Plant (AP-7)'!$C$5=\"drum mix plant\",'Asphalt Plant (AP-7)'!Q49,0),IF('Asphalt Plant (AP-8)'!$C$5=\"drum mix plant\",'Asphalt Plant (AP-8)'!Q49,0),IF('Asphalt Plant (AP-9)'!$C$5=\"drum mix plant\",'Asphalt Plant (AP-9)'!Q49,0),IF('Asphalt Plant (AP-10)'!$C$5=\"drum mix plant\",'Asphalt Plant (AP-10)'!Q49,0)))","v":""},null,{"$f":"IF(B69=\"\",\"\",SUM(IF('Asphalt Plant (AP-1)'!$C$5=\"drum mix plant\",'Asphalt Plant (AP-1)'!R49,0),IF('Asphalt Plant (AP-2)'!$C$5=\"drum mix plant\",'Asphalt Plant (AP-2)'!R49,0),IF('Asphalt Plant (AP-3)'!$C$5=\"drum mix plant\",'Asphalt Plant (AP-3)'!R49,0),IF('Asphalt Plant (AP-4)'!$C$5=\"drum mix plant\",'Asphalt Plant (AP-4)'!R49,0),IF('Asphalt Plant (AP-5)'!$C$5=\"drum mix plant\",'Asphalt Plant (AP-5)'!R49,0),IF('Asphalt Plant (AP-6)'!$C$5=\"drum mix plant\",'Asphalt Plant (AP-6)'!R49,0),IF('Asphalt Plant (AP-7)'!$C$5=\"drum mix plant\",'Asphalt Plant (AP-7)'!R49,0),IF('Asphalt Plant (AP-8)'!$C$5=\"drum mix plant\",'Asphalt Plant (AP-8)'!R49,0),IF('Asphalt Plant (AP-9)'!$C$5=\"drum mix plant\",'Asphalt Plant (AP-9)'!R49,0),IF('Asphalt Plant (AP-10)'!$C$5=\"drum mix plant\",'Asphalt Plant (AP-10)'!R49,0)))","v":""},{"$f":"IF(B69=\"\",\"\",SUM(IF('Asphalt Plant (AP-1)'!$C$5=\"drum mix plant\",'Asphalt Plant (AP-1)'!S49,0),IF('Asphalt Plant (AP-2)'!$C$5=\"drum mix plant\",'Asphalt Plant (AP-2)'!S49,0),IF('Asphalt Plant (AP-3)'!$C$5=\"drum mix plant\",'Asphalt Plant (AP-3)'!S49,0),IF('Asphalt Plant (AP-4)'!$C$5=\"drum mix plant\",'Asphalt Plant (AP-4)'!S49,0),IF('Asphalt Plant (AP-5)'!$C$5=\"drum mix plant\",'Asphalt Plant (AP-5)'!S49,0),IF('Asphalt Plant (AP-6)'!$C$5=\"drum mix plant\",'Asphalt Plant (AP-6)'!S49,0),IF('Asphalt Plant (AP-7)'!$C$5=\"drum mix plant\",'Asphalt Plant (AP-7)'!S49,0),IF('Asphalt Plant (AP-8)'!$C$5=\"drum mix plant\",'Asphalt Plant (AP-8)'!S49,0),IF('Asphalt Plant (AP-9)'!$C$5=\"drum mix plant\",'Asphalt Plant (AP-9)'!S49,0),IF('Asphalt Plant (AP-10)'!$C$5=\"drum mix plant\",'Asphalt Plant (AP-10)'!S49,0)))","v":""},{"$f":"IF(B69=\"\",\"\",SUM(IF('Asphalt Plant (AP-1)'!$C$5=\"drum mix plant\",'Asphalt Plant (AP-1)'!T49,0),IF('Asphalt Plant (AP-2)'!$C$5=\"drum mix plant\",'Asphalt Plant (AP-2)'!T49,0),IF('Asphalt Plant (AP-3)'!$C$5=\"drum mix plant\",'Asphalt Plant (AP-3)'!T49,0),IF('Asphalt Plant (AP-4)'!$C$5=\"drum mix plant\",'Asphalt Plant (AP-4)'!T49,0),IF('Asphalt Plant (AP-5)'!$C$5=\"drum mix plant\",'Asphalt Plant (AP-5)'!T49,0),IF('Asphalt Plant (AP-6)'!$C$5=\"drum mix plant\",'Asphalt Plant (AP-6)'!T49,0),IF('Asphalt Plant (AP-7)'!$C$5=\"drum mix plant\",'Asphalt Plant (AP-7)'!T49,0),IF('Asphalt Plant (AP-8)'!$C$5=\"drum mix plant\",'Asphalt Plant (AP-8)'!T49,0),IF('Asphalt Plant (AP-9)'!$C$5=\"drum mix plant\",'Asphalt Plant (AP-9)'!T49,0),IF('Asphalt Plant (AP-10)'!$C$5=\"drum mix plant\",'Asphalt Plant (AP-10)'!T49,0)))","v":""}]
["",{"$f":"IF(D70=\"\",\"\",\"Drum Mix Plant - Natural Gas\")","v":""},{"$f":"IF(B70=\"\",\"\",\"30500261\")","v":""},{"$f":"IF(SUM(IF('Asphalt Plant (AP-1)'!$C$5=\"drum mix plant\",'Asphalt Plant (AP-1)'!N7,0),IF('Asphalt Plant (AP-2)'!$C$5=\"drum mix plant\",'Asphalt Plant (AP-2)'!N7,0),IF('Asphalt Plant (AP-3)'!$C$5=\"drum mix plant\",'Asphalt Plant (AP-3)'!N7,0),IF('Asphalt Plant (AP-4)'!$C$5=\"drum mix plant\",'Asphalt Plant (AP-4)'!N7,0),IF('Asphalt Plant (AP-5)'!$C$5=\"drum mix plant\",'Asphalt Plant (AP-5)'!N7,0),IF('Asphalt Plant (AP-6)'!$C$5=\"drum mix plant\",'Asphalt Plant (AP-6)'!N7,0),IF('Asphalt Plant (AP-7)'!$C$5=\"drum mix plant\",'Asphalt Plant (AP-7)'!N7,0),IF('Asphalt Plant (AP-8)'!$C$5=\"drum mix plant\",'Asphalt Plant (AP-8)'!N7,0),IF('Asphalt Plant (AP-9)'!$C$5=\"drum mix plant\",'Asphalt Plant (AP-9)'!N7,0),IF('Asphalt Plant (AP-10)'!$C$5=\"drum mix plant\",'Asphalt Plant (AP-10)'!N7,0))>0,SUM(IF('Asphalt Plant (AP-1)'!$C$5=\"drum mix plant\",'Asphalt Plant (AP-1)'!N7,0),IF('Asphalt Plant (AP-2)'!$C$5=\"drum mix plant\",'Asphalt Plant (AP-2)'!N7,0),IF('Asphalt Plant (AP-3)'!$C$5=\"drum mix plant\",'Asphalt Plant (AP-3)'!N7,0),IF('Asphalt Plant (AP-4)'!$C$5=\"drum mix plant\",'Asphalt Plant (AP-4)'!N7,0),IF('Asphalt Plant (AP-5)'!$C$5=\"drum mix plant\",'Asphalt Plant (AP-5)'!N7,0),IF('Asphalt Plant (AP-6)'!$C$5=\"drum mix plant\",'Asphalt Plant (AP-6)'!N7,0),IF('Asphalt Plant (AP-7)'!$C$5=\"drum mix plant\",'Asphalt Plant (AP-7)'!N7,0),IF('Asphalt Plant (AP-8)'!$C$5=\"drum mix plant\",'Asphalt Plant (AP-8)'!N7,0),IF('Asphalt Plant (AP-9)'!$C$5=\"drum mix plant\",'Asphalt Plant (AP-9)'!N7,0),IF('Asphalt Plant (AP-10)'!$C$5=\"drum mix plant\",'Asphalt Plant (AP-10)'!N7,0)),\"\")","v":""},"",{"$f":"IF(B70=\"\",\"\",MAX(IF('Asphalt Plant (AP-1)'!$C$5=\"drum mix plant\",'Asphalt Plant (AP-1)'!O50,0),IF('Asphalt Plant (AP-2)'!$C$5=\"drum mix plant\",'Asphalt Plant (AP-2)'!O50,0),IF('Asphalt Plant (AP-3)'!$C$5=\"drum mix plant\",'Asphalt Plant (AP-3)'!O50,0),IF('Asphalt Plant (AP-4)'!$C$5=\"drum mix plant\",'Asphalt Plant (AP-4)'!O50,0),IF('Asphalt Plant (AP-5)'!$C$5=\"drum mix plant\",'Asphalt Plant (AP-5)'!O50,0),IF('Asphalt Plant (AP-6)'!$C$5=\"drum mix plant\",'Asphalt Plant (AP-6)'!O50,0),IF('Asphalt Plant (AP-7)'!$C$5=\"drum mix plant\",'Asphalt Plant (AP-7)'!O50,0),IF('Asphalt Plant (AP-8)'!$C$5=\"drum mix plant\",'Asphalt Plant (AP-8)'!O50,0),IF('Asphalt Plant (AP-9)'!$C$5=\"drum mix plant\",'Asphalt Plant (AP-9)'!O50,0),IF('Asphalt Plant (AP-10)'!$C$5=\"drum mix plant\",'Asphalt Plant (AP-10)'!O50,0)))","v":""},"",{"$f":"IF(B70=\"\",\"\",\"AP-42 Table 11.1-4,7,8,10,12\")","v":""},{"$f":"IF(B70=\"\",\"\",SUM(IF('Asphalt Plant (AP-1)'!$C$5=\"drum mix plant\",'Asphalt Plant (AP-1)'!Q50,0),IF('Asphalt Plant (AP-2)'!$C$5=\"drum mix plant\",'Asphalt Plant (AP-2)'!Q50,0),IF('Asphalt Plant (AP-3)'!$C$5=\"drum mix plant\",'Asphalt Plant (AP-3)'!Q50,0),IF('Asphalt Plant (AP-4)'!$C$5=\"drum mix plant\",'Asphalt Plant (AP-4)'!Q50,0),IF('Asphalt Plant (AP-5)'!$C$5=\"drum mix plant\",'Asphalt Plant (AP-5)'!Q50,0),IF('Asphalt Plant (AP-6)'!$C$5=\"drum mix plant\",'Asphalt Plant (AP-6)'!Q50,0),IF('Asphalt Plant (AP-7)'!$C$5=\"drum mix plant\",'Asphalt Plant (AP-7)'!Q50,0),IF('Asphalt Plant (AP-8)'!$C$5=\"drum mix plant\",'Asphalt Plant (AP-8)'!Q50,0),IF('Asphalt Plant (AP-9)'!$C$5=\"drum mix plant\",'Asphalt Plant (AP-9)'!Q50,0),IF('Asphalt Plant (AP-10)'!$C$5=\"drum mix plant\",'Asphalt Plant (AP-10)'!Q50,0)))","v":""},null,{"$f":"IF(B70=\"\",\"\",SUM(IF('Asphalt Plant (AP-1)'!$C$5=\"drum mix plant\",'Asphalt Plant (AP-1)'!R50,0),IF('Asphalt Plant (AP-2)'!$C$5=\"drum mix plant\",'Asphalt Plant (AP-2)'!R50,0),IF('Asphalt Plant (AP-3)'!$C$5=\"drum mix plant\",'Asphalt Plant (AP-3)'!R50,0),IF('Asphalt Plant (AP-4)'!$C$5=\"drum mix plant\",'Asphalt Plant (AP-4)'!R50,0),IF('Asphalt Plant (AP-5)'!$C$5=\"drum mix plant\",'Asphalt Plant (AP-5)'!R50,0),IF('Asphalt Plant (AP-6)'!$C$5=\"drum mix plant\",'Asphalt Plant (AP-6)'!R50,0),IF('Asphalt Plant (AP-7)'!$C$5=\"drum mix plant\",'Asphalt Plant (AP-7)'!R50,0),IF('Asphalt Plant (AP-8)'!$C$5=\"drum mix plant\",'Asphalt Plant (AP-8)'!R50,0),IF('Asphalt Plant (AP-9)'!$C$5=\"drum mix plant\",'Asphalt Plant (AP-9)'!R50,0),IF('Asphalt Plant (AP-10)'!$C$5=\"drum mix plant\",'Asphalt Plant (AP-10)'!R50,0)))","v":""},{"$f":"IF(B70=\"\",\"\",SUM(IF('Asphalt Plant (AP-1)'!$C$5=\"drum mix plant\",'Asphalt Plant (AP-1)'!S50,0),IF('Asphalt Plant (AP-2)'!$C$5=\"drum mix plant\",'Asphalt Plant (AP-2)'!S50,0),IF('Asphalt Plant (AP-3)'!$C$5=\"drum mix plant\",'Asphalt Plant (AP-3)'!S50,0),IF('Asphalt Plant (AP-4)'!$C$5=\"drum mix plant\",'Asphalt Plant (AP-4)'!S50,0),IF('Asphalt Plant (AP-5)'!$C$5=\"drum mix plant\",'Asphalt Plant (AP-5)'!S50,0),IF('Asphalt Plant (AP-6)'!$C$5=\"drum mix plant\",'Asphalt Plant (AP-6)'!S50,0),IF('Asphalt Plant (AP-7)'!$C$5=\"drum mix plant\",'Asphalt Plant (AP-7)'!S50,0),IF('Asphalt Plant (AP-8)'!$C$5=\"drum mix plant\",'Asphalt Plant (AP-8)'!S50,0),IF('Asphalt Plant (AP-9)'!$C$5=\"drum mix plant\",'Asphalt Plant (AP-9)'!S50,0),IF('Asphalt Plant (AP-10)'!$C$5=\"drum mix plant\",'Asphalt Plant (AP-10)'!S50,0)))","v":""},{"$f":"IF(B70=\"\",\"\",SUM(IF('Asphalt Plant (AP-1)'!$C$5=\"drum mix plant\",'Asphalt Plant (AP-1)'!T50,0),IF('Asphalt Plant (AP-2)'!$C$5=\"drum mix plant\",'Asphalt Plant (AP-2)'!T50,0),IF('Asphalt Plant (AP-3)'!$C$5=\"drum mix plant\",'Asphalt Plant (AP-3)'!T50,0),IF('Asphalt Plant (AP-4)'!$C$5=\"drum mix plant\",'Asphalt Plant (AP-4)'!T50,0),IF('Asphalt Plant (AP-5)'!$C$5=\"drum mix plant\",'Asphalt Plant (AP-5)'!T50,0),IF('Asphalt Plant (AP-6)'!$C$5=\"drum mix plant\",'Asphalt Plant (AP-6)'!T50,0),IF('Asphalt Plant (AP-7)'!$C$5=\"drum mix plant\",'Asphalt Plant (AP-7)'!T50,0),IF('Asphalt Plant (AP-8)'!$C$5=\"drum mix plant\",'Asphalt Plant (AP-8)'!T50,0),IF('Asphalt Plant (AP-9)'!$C$5=\"drum mix plant\",'Asphalt Plant (AP-9)'!T50,0),IF('Asphalt Plant (AP-10)'!$C$5=\"drum mix plant\",'Asphalt Plant (AP-10)'!T50,0)))","v":""}]
[{"$f":"IF('Permitted Diesel Engines'!R51=0,\"\",\"ALL\")","v":""},{"$f":"IF('Permitted Diesel Engines'!R51=0,\"\",\"Diesel Generator ≤ 600 bhp\")","v":""},{"$f":"IF('Permitted Diesel Engines'!R51=0,\"\",LOOKUP(B71,'Emission Factors'!A43:A44,'Emission Factors'!B43:B44))","v":""},{"$f":"IF('Permitted Diesel Engines'!R51=0,\"\",'Permitted Diesel Engines'!R51)","v":""},{"$f":"IF(B71=\"\",\"\",\"MMBtu/hr\")","v":""},{"$f":"IF(B71=\"\",\"\",LOOKUP(B71,'Emission Factors'!$A$43:$A$44,'Emission Factors'!$L$43:$L$44))","v":""},{"$f":"IF(B71=\"\",\"\",LOOKUP(B71,'Emission Factors'!$A$43:$A$44,'Emission Factors'!$C$43:$C$44))","v":""},{"$f":"IF(B71=\"\",\"\",LOOKUP(B71,'Emission Factors'!$A$43:$A$44,'Emission Factors'!$M$43:$M$44))","v":""},{"$f":"IF(B71=\"\",\"\",'Emission Calculations'!D71*'Emission Calculations'!F71)","v":""},null,null,{"$f":"IF(B71=\"\",\"\",'Permitted Diesel Engines'!$AH$78)","v":""},{"$f":"IF(B71=\"\",\"\",'Permitted Diesel Engines'!$T$51*'Emission Calculations'!F71/2000)","v":""}]
[{"$f":"IF('Permitted Diesel Engines'!R52=0,\"\",\"ALL\")","v":""},{"$f":"IF('Permitted Diesel Engines'!R52=0,\"\",\"Diesel Generator> 600 bhp\")","v":""},{"$f":"IF('Permitted Diesel Engines'!R52=0,\"\",LOOKUP(B72,'Emission Factors'!A44:A45,'Emission Factors'!B44:B45))","v":""},{"$f":"IF('Permitted Diesel Engines'!R52=0,\"\",'Permitted Diesel Engines'!R52)","v":""},{"$f":"IF(B72=\"\",\"\",\"MMBtu/hr\")","v":""},{"$f":"IF(B72=\"\",\"\",LOOKUP(B72,'Emission Factors'!$A$43:$A$44,'Emission Factors'!$L$43:$L$44))","v":""},{"$f":"IF(B72=\"\",\"\",LOOKUP(B72,'Emission Factors'!$A$43:$A$44,'Emission Factors'!$C$43:$C$44))","v":""},{"$f":"IF(B72=\"\",\"\",LOOKUP(B72,'Emission Factors'!$A$43:$A$44,'Emission Factors'!$M$43:$M$44))","v":""},{"$f":"IF(B72=\"\",\"\",'Emission Calculations'!D72*'Emission Calculations'!F72)","v":""},null,null,{"$f":"IF(B72=\"\",\"\",'Permitted Diesel Engines'!$AI$78)","v":""},{"$f":"IF(B72=\"\",\"\",'Permitted Diesel Engines'!$T$52*'Emission Calculations'!F72/2000)","v":""}]
[null,null,null,null,null,null,null,null,null,null,"FACILITY TOTALS:",{"$f":"SUM(L65:L72)","v":0},{"$f":"SUM(M65:M72)","v":0}]
["CO"]
[{"$f":"IF(OR('Asphalt Plant (AP-1)'!$C$5=\"batch mix plant\",'Asphalt Plant (AP-2)'!$C$5=\"batch mix plant\",'Asphalt Plant (AP-3)'!$C$5=\"batch mix plant\",'Asphalt Plant (AP-4)'!$C$5=\"batch mix plant\",'Asphalt Plant (AP-5)'!$C$5=\"batch mix plant\",'Asphalt Plant (AP-6)'!$C$5=\"batch mix plant\",'Asphalt Plant (AP-7)'!$C$5=\"batch mix plant\",'Asphalt Plant (AP-8)'!$C$5=\"batch mix plant\",'Asphalt Plant (AP-9)'!$C$5=\"batch mix plant\",'Asphalt Plant (AP-10)'!$C$5=\"batch mix plant\"),\"ALL\",\"\")","v":""},{"$f":"IF(OR('Asphalt Plant (AP-1)'!$C$5=\"batch mix plant\",'Asphalt Plant (AP-2)'!$C$5=\"batch mix plant\",'Asphalt Plant (AP-3)'!$C$5=\"batch mix plant\",'Asphalt Plant (AP-4)'!$C$5=\"batch mix plant\",'Asphalt Plant (AP-5)'!$C$5=\"batch mix plant\",'Asphalt Plant (AP-6)'!$C$5=\"batch mix plant\",'Asphalt Plant (AP-7)'!$C$5=\"batch mix plant\",'Asphalt Plant (AP-8)'!$C$5=\"batch mix plant\",'Asphalt Plant (AP-9)'!$C$5=\"batch mix plant\",'Asphalt Plant (AP-10)'!$C$5=\"batch mix plant\"),\"Batch Mix Plant\",\"\")","v":""},{"$f":"IF(B75=\"\",\"\",\"30500245/46/47\")","v":""},{"$f":"IF(B75=\"\",\"\",SUM(IF('Asphalt Plant (AP-1)'!C5=\"batch mix plant\",SUM('Asphalt Plant (AP-1)'!N5:N7),0),IF('Asphalt Plant (AP-2)'!C5=\"batch mix plant\",SUM('Asphalt Plant (AP-2)'!N5:N7),0),IF('Asphalt Plant (AP-3)'!C5=\"batch mix plant\",SUM('Asphalt Plant (AP-3)'!N5:N7),0),IF('Asphalt Plant (AP-4)'!C5=\"batch mix plant\",SUM('Asphalt Plant (AP-4)'!N5:N7),0),IF('Asphalt Plant (AP-5)'!C5=\"batch mix plant\",SUM('Asphalt Plant (AP-5)'!N5:N7),0),IF('Asphalt Plant (AP-6)'!C5=\"batch mix plant\",SUM('Asphalt Plant (AP-6)'!N5:N7),0),IF('Asphalt Plant (AP-7)'!C5=\"batch mix plant\",SUM('Asphalt Plant (AP-7)'!N5:N7),0),IF('Asphalt Plant (AP-8)'!C5=\"batch mix plant\",SUM('Asphalt Plant (AP-8)'!N5:N7),0),IF('Asphalt Plant (AP-9)'!C5=\"batch mix plant\",SUM('Asphalt Plant (AP-9)'!N5:N7),0),IF('Asphalt Plant (AP-10)'!C5=\"batch mix plant\",SUM('Asphalt Plant (AP-10)'!N5:N7),0)))","v":""},{"$f":"IF(B75=\"\",\"\",\"tons/hr\")","v":""},{"$f":"IF(B75=\"\",\"\",0.4)","v":""},{"$f":"IF(B75=\"\",\"\",\"lbs/ton\")","v":""},{"$f":"IF(B75=\"\",\"\",\"AP-42 Table 11.1-2,5,6,9\")","v":""},{"$f":"IF(B75=\"\",\"\",SUM(IF('Asphalt Plant (AP-1)'!$C$5=\"batch mix plant\",'Asphalt Plant (AP-1)'!Q52,0),IF('Asphalt Plant (AP-2)'!$C$5=\"batch mix plant\",'Asphalt Plant (AP-2)'!Q52,0),IF('Asphalt Plant (AP-3)'!$C$5=\"batch mix plant\",'Asphalt Plant (AP-3)'!Q52,0),IF('Asphalt Plant (AP-4)'!$C$5=\"batch mix plant\",'Asphalt Plant (AP-4)'!Q52,0),IF('Asphalt Plant (AP-5)'!$C$5=\"batch mix plant\",'Asphalt Plant (AP-5)'!Q52,0),IF('Asphalt Plant (AP-6)'!$C$5=\"batch mix plant\",'Asphalt Plant (AP-6)'!Q52,0),IF('Asphalt Plant (AP-7)'!$C$5=\"batch mix plant\",'Asphalt Plant (AP-7)'!Q52,0),IF('Asphalt Plant (AP-8)'!$C$5=\"batch mix plant\",'Asphalt Plant (AP-8)'!Q52,0),IF('Asphalt Plant (AP-9)'!$C$5=\"batch mix plant\",'Asphalt Plant (AP-9)'!Q52,0),IF('Asphalt Plant (AP-10)'!$C$5=\"batch mix plant\",'Asphalt Plant (AP-10)'!Q52,0)))","v":""},null,{"$f":"IF(B75=\"\",\"\",SUM(IF('Asphalt Plant (AP-1)'!$C$5=\"batch mix plant\",'Asphalt Plant (AP-1)'!R52,0),IF('Asphalt Plant (AP-2)'!$C$5=\"batch mix plant\",'Asphalt Plant (AP-2)'!R52,0),IF('Asphalt Plant (AP-3)'!$C$5=\"batch mix plant\",'Asphalt Plant (AP-3)'!R52,0),IF('Asphalt Plant (AP-4)'!$C$5=\"batch mix plant\",'Asphalt Plant (AP-4)'!R52,0),IF('Asphalt Plant (AP-5)'!$C$5=\"batch mix plant\",'Asphalt Plant (AP-5)'!R52,0),IF('Asphalt Plant (AP-6)'!$C$5=\"batch mix plant\",'Asphalt Plant (AP-6)'!R52,0),IF('Asphalt Plant (AP-7)'!$C$5=\"batch mix plant\",'Asphalt Plant (AP-7)'!R52,0),IF('Asphalt Plant (AP-8)'!$C$5=\"batch mix plant\",'Asphalt Plant (AP-8)'!R52,0),IF('Asphalt Plant (AP-9)'!$C$5=\"batch mix plant\",'Asphalt Plant (AP-9)'!R52,0),IF('Asphalt Plant (AP-10)'!$C$5=\"batch mix plant\",'Asphalt Plant (AP-10)'!R52,0)))","v":""},{"$f":"IF(B75=\"\",\"\",SUM(IF('Asphalt Plant (AP-1)'!$C$5=\"batch mix plant\",'Asphalt Plant (AP-1)'!S52,0),IF('Asphalt Plant (AP-2)'!$C$5=\"batch mix plant\",'Asphalt Plant (AP-2)'!S52,0),IF('Asphalt Plant (AP-3)'!$C$5=\"batch mix plant\",'Asphalt Plant (AP-3)'!S52,0),IF('Asphalt Plant (AP-4)'!$C$5=\"batch mix plant\",'Asphalt Plant (AP-4)'!S52,0),IF('Asphalt Plant (AP-5)'!$C$5=\"batch mix plant\",'Asphalt Plant (AP-5)'!S52,0),IF('Asphalt Plant (AP-6)'!$C$5=\"batch mix plant\",'Asphalt Plant (AP-6)'!S52,0),IF('Asphalt Plant (AP-7)'!$C$5=\"batch mix plant\",'Asphalt Plant (AP-7)'!S52,0),IF('Asphalt Plant (AP-8)'!$C$5=\"batch mix plant\",'Asphalt Plant (AP-8)'!S52,0),IF('Asphalt Plant (AP-9)'!$C$5=\"batch mix plant\",'Asphalt Plant (AP-9)'!S52,0),IF('Asphalt Plant (AP-10)'!$C$5=\"batch mix plant\",'Asphalt Plant (AP-10)'!S52,0)))","v":""},{"$f":"IF(B75=\"\",\"\",SUM(IF('Asphalt Plant (AP-1)'!$C$5=\"batch mix plant\",'Asphalt Plant (AP-1)'!T52,0),IF('Asphalt Plant (AP-2)'!$C$5=\"batch mix plant\",'Asphalt Plant (AP-2)'!T52,0),IF('Asphalt Plant (AP-3)'!$C$5=\"batch mix plant\",'Asphalt Plant (AP-3)'!T52,0),IF('Asphalt Plant (AP-4)'!$C$5=\"batch mix plant\",'Asphalt Plant (AP-4)'!T52,0),IF('Asphalt Plant (AP-5)'!$C$5=\"batch mix plant\",'Asphalt Plant (AP-5)'!T52,0),IF('Asphalt Plant (AP-6)'!$C$5=\"batch mix plant\",'Asphalt Plant (AP-6)'!T52,0),IF('Asphalt Plant (AP-7)'!$C$5=\"batch mix plant\",'Asphalt Plant (AP-7)'!T52,0),IF('Asphalt Plant (AP-8)'!$C$5=\"batch mix plant\",'Asphalt Plant (AP-8)'!T52,0),IF('Asphalt Plant (AP-9)'!$C$5=\"batch mix plant\",'Asphalt Plant (AP-9)'!T52,0),IF('Asphalt Plant (AP-10)'!$C$5=\"batch mix plant\",'Asphalt Plant (AP-10)'!T52,0)))","v":""}]
[{"$f":"IF(OR('Asphalt Plant (AP-1)'!$C$5=\"drum mix plant\",'Asphalt Plant (AP-2)'!$C$5=\"drum mix plant\",'Asphalt Plant (AP-3)'!$C$5=\"drum mix plant\",'Asphalt Plant (AP-4)'!$C$5=\"drum mix plant\",'Asphalt Plant (AP-5)'!$C$5=\"drum mix plant\",'Asphalt Plant (AP-6)'!$C$5=\"drum mix plant\",'Asphalt Plant (AP-7)'!$C$5=\"drum mix plant\",'Asphalt Plant (AP-8)'!$C$5=\"drum mix plant\",'Asphalt Plant (AP-9)'!$C$5=\"drum mix plant\",'Asphalt Plant (AP-10)'!$C$5=\"drum mix plant\"),\"ALL\",\"\")","v":""},{"$f":"IF(OR('Asphalt Plant (AP-1)'!$C$5=\"drum mix plant\",'Asphalt Plant (AP-2)'!$C$5=\"drum mix plant\",'Asphalt Plant (AP-3)'!$C$5=\"drum mix plant\",'Asphalt Plant (AP-4)'!$C$5=\"drum mix plant\",'Asphalt Plant (AP-5)'!$C$5=\"drum mix plant\",'Asphalt Plant (AP-6)'!$C$5=\"drum mix plant\",'Asphalt Plant (AP-7)'!$C$5=\"drum mix plant\",'Asphalt Plant (AP-8)'!$C$5=\"drum mix plant\",'Asphalt Plant (AP-9)'!$C$5=\"drum mix plant\",'Asphalt Plant (AP-10)'!$C$5=\"drum mix plant\"),\"Drum Mix Plant\",\"\")","v":""},{"$f":"IF(B76=\"\",\"\",\"30500255/58/61\")","v":""},{"$f":"IF(B75=\"\",\"\",SUM(IF('Asphalt Plant (AP-1)'!C5=\"drum mix plant\",SUM('Asphalt Plant (AP-1)'!N5:N7),0),IF('Asphalt Plant (AP-2)'!C5=\"drum mix plant\",SUM('Asphalt Plant (AP-2)'!N5:N7),0),IF('Asphalt Plant (AP-3)'!C5=\"drum mix plant\",SUM('Asphalt Plant (AP-3)'!N5:N7),0),IF('Asphalt Plant (AP-4)'!C5=\"drum mix plant\",SUM('Asphalt Plant (AP-4)'!N5:N7),0),IF('Asphalt Plant (AP-5)'!C5=\"drum mix plant\",SUM('Asphalt Plant (AP-5)'!N5:N7),0),IF('Asphalt Plant (AP-6)'!C5=\"drum mix plant\",SUM('Asphalt Plant (AP-6)'!N5:N7),0),IF('Asphalt Plant (AP-7)'!C5=\"drum mix plant\",SUM('Asphalt Plant (AP-7)'!N5:N7),0),IF('Asphalt Plant (AP-8)'!C5=\"drum mix plant\",SUM('Asphalt Plant (AP-8)'!N5:N7),0),IF('Asphalt Plant (AP-9)'!C5=\"drum mix plant\",SUM('Asphalt Plant (AP-9)'!N5:N7),0),IF('Asphalt Plant (AP-10)'!C5=\"drum mix plant\",SUM('Asphalt Plant (AP-10)'!N5:N7),0)))","v":""},{"$f":"IF(B76=\"\",\"\",\"tons/hr\")","v":""},{"$f":"IF(B76=\"\",\"\",0.13)","v":""},{"$f":"IF(B76=\"\",\"\",\"lbs/ton\")","v":""},{"$f":"IF(B76=\"\",\"\",\"AP-42 Table 11.1-4,7,8,10\")","v":""},{"$f":"IF(B76=\"\",\"\",SUM(IF('Asphalt Plant (AP-1)'!$C$5=\"drum mix plant\",'Asphalt Plant (AP-1)'!Q52,0),IF('Asphalt Plant (AP-2)'!$C$5=\"drum mix plant\",'Asphalt Plant (AP-2)'!Q52,0),IF('Asphalt Plant (AP-3)'!$C$5=\"drum mix plant\",'Asphalt Plant (AP-3)'!Q52,0),IF('Asphalt Plant (AP-4)'!$C$5=\"drum mix plant\",'Asphalt Plant (AP-4)'!Q52,0),IF('Asphalt Plant (AP-5)'!$C$5=\"drum mix plant\",'Asphalt Plant (AP-5)'!Q52,0),IF('Asphalt Plant (AP-6)'!$C$5=\"drum mix plant\",'Asphalt Plant (AP-6)'!Q52,0),IF('Asphalt Plant (AP-7)'!$C$5=\"drum mix plant\",'Asphalt Plant (AP-7)'!Q52,0),IF('Asphalt Plant (AP-8)'!$C$5=\"drum mix plant\",'Asphalt Plant (AP-8)'!Q52,0),IF('Asphalt Plant (AP-9)'!$C$5=\"drum mix plant\",'Asphalt Plant (AP-9)'!Q52,0),IF('Asphalt Plant (AP-10)'!$C$5=\"drum mix plant\",'Asphalt Plant (AP-10)'!Q52,0)))","v":""},null,{"$f":"IF(B76=\"\",\"\",SUM(IF('Asphalt Plant (AP-1)'!$C$5=\"drum mix plant\",'Asphalt Plant (AP-1)'!R52,0),IF('Asphalt Plant (AP-2)'!$C$5=\"drum mix plant\",'Asphalt Plant (AP-2)'!R52,0),IF('Asphalt Plant (AP-3)'!$C$5=\"drum mix plant\",'Asphalt Plant (AP-3)'!R52,0),IF('Asphalt Plant (AP-4)'!$C$5=\"drum mix plant\",'Asphalt Plant (AP-4)'!R52,0),IF('Asphalt Plant (AP-5)'!$C$5=\"drum mix plant\",'Asphalt Plant (AP-5)'!R52,0),IF('Asphalt Plant (AP-6)'!$C$5=\"drum mix plant\",'Asphalt Plant (AP-6)'!R52,0),IF('Asphalt Plant (AP-7)'!$C$5=\"drum mix plant\",'Asphalt Plant (AP-7)'!R52,0),IF('Asphalt Plant (AP-8)'!$C$5=\"drum mix plant\",'Asphalt Plant (AP-8)'!R52,0),IF('Asphalt Plant (AP-9)'!$C$5=\"drum mix plant\",'Asphalt Plant (AP-9)'!R52,0),IF('Asphalt Plant (AP-10)'!$C$5=\"drum mix plant\",'Asphalt Plant (AP-10)'!R52,0)))","v":""},{"$f":"IF(B76=\"\",\"\",SUM(IF('Asphalt Plant (AP-1)'!$C$5=\"drum mix plant\",'Asphalt Plant (AP-1)'!S52,0),IF('Asphalt Plant (AP-2)'!$C$5=\"drum mix plant\",'Asphalt Plant (AP-2)'!S52,0),IF('Asphalt Plant (AP-3)'!$C$5=\"drum mix plant\",'Asphalt Plant (AP-3)'!S52,0),IF('Asphalt Plant (AP-4)'!$C$5=\"drum mix plant\",'Asphalt Plant (AP-4)'!S52,0),IF('Asphalt Plant (AP-5)'!$C$5=\"drum mix plant\",'Asphalt Plant (AP-5)'!S52,0),IF('Asphalt Plant (AP-6)'!$C$5=\"drum mix plant\",'Asphalt Plant (AP-6)'!S52,0),IF('Asphalt Plant (AP-7)'!$C$5=\"drum mix plant\",'Asphalt Plant (AP-7)'!S52,0),IF('Asphalt Plant (AP-8)'!$C$5=\"drum mix plant\",'Asphalt Plant (AP-8)'!S52,0),IF('Asphalt Plant (AP-9)'!$C$5=\"drum mix plant\",'Asphalt Plant (AP-9)'!S52,0),IF('Asphalt Plant (AP-10)'!$C$5=\"drum mix plant\",'Asphalt Plant (AP-10)'!S52,0)))","v":""},{"$f":"IF(B76=\"\",\"\",SUM(IF('Asphalt Plant (AP-1)'!$C$5=\"drum mix plant\",'Asphalt Plant (AP-1)'!T52,0),IF('Asphalt Plant (AP-2)'!$C$5=\"drum mix plant\",'Asphalt Plant (AP-2)'!T52,0),IF('Asphalt Plant (AP-3)'!$C$5=\"drum mix plant\",'Asphalt Plant (AP-3)'!T52,0),IF('Asphalt Plant (AP-4)'!$C$5=\"drum mix plant\",'Asphalt Plant (AP-4)'!T52,0),IF('Asphalt Plant (AP-5)'!$C$5=\"drum mix plant\",'Asphalt Plant (AP-5)'!T52,0),IF('Asphalt Plant (AP-6)'!$C$5=\"drum mix plant\",'Asphalt Plant (AP-6)'!T52,0),IF('Asphalt Plant (AP-7)'!$C$5=\"drum mix plant\",'Asphalt Plant (AP-7)'!T52,0),IF('Asphalt Plant (AP-8)'!$C$5=\"drum mix plant\",'Asphalt Plant (AP-8)'!T52,0),IF('Asphalt Plant (AP-9)'!$C$5=\"drum mix plant\",'Asphalt Plant (AP-9)'!T52,0),IF('Asphalt Plant (AP-10)'!$C$5=\"drum mix plant\",'Asphalt Plant (AP-10)'!T52,0)))","v":""}]
[{"$f":"IF(D77=\"\",\"\",\"ALL\")","v":""},{"$f":"IF(D77=\"\",\"\",\"Fuel Oil Fired Heater\")","v":""},{"$f":"IF(B77=\"\",\"\",\"30500208\")","v":""},{"$f":"IF(SUM('Asphalt Plant (AP-1)'!N8,'Asphalt Plant (AP-2)'!N8,'Asphalt Plant (AP-3)'!N8,'Asphalt Plant (AP-4)'!N8,'Asphalt Plant (AP-5)'!N8,'Asphalt Plant (AP-6)'!N8,'Asphalt Plant (AP-7)'!N8,'Asphalt Plant (AP-8)'!N8,'Asphalt Plant (AP-9)'!N8,'Asphalt Plant (AP-10)'!N8)>0,SUM('Asphalt Plant (AP-1)'!N8,'Asphalt Plant (AP-2)'!N8,'Asphalt Plant (AP-3)'!N8,'Asphalt Plant (AP-4)'!N8,'Asphalt Plant (AP-5)'!N8,'Asphalt Plant (AP-6)'!N8,'Asphalt Plant (AP-7)'!N8,'Asphalt Plant (AP-8)'!N8,'Asphalt Plant (AP-9)'!N8,'Asphalt Plant (AP-10)'!N8),\"\")","v":""},{"$f":"IF(B77=\"\",\"\",\"gallons/hr\")","v":""},{"$f":"IF(B77=\"\",\"\",0.0012)","v":""},{"$f":"IF(B77=\"\",\"\",\"lbs/gallon\")","v":""},{"$f":"IF(B77=\"\",\"\",\"AP-42 Table 11.1-13\")","v":""},{"$f":"IF(B77=\"\",\"\",SUM('Asphalt Plant (AP-1)'!Q53,'Asphalt Plant (AP-2)'!Q53,'Asphalt Plant (AP-3)'!Q53,'Asphalt Plant (AP-4)'!Q53,'Asphalt Plant (AP-5)'!Q53,'Asphalt Plant (AP-6)'!Q53,'Asphalt Plant (AP-7)'!Q53,'Asphalt Plant (AP-8)'!Q53,'Asphalt Plant (AP-9)'!Q53,'Asphalt Plant (AP-10)'!Q53))","v":""},null,null,{"$f":"IF(B77=\"\",\"\",SUM('Asphalt Plant (AP-1)'!S53,'Asphalt Plant (AP-2)'!S53,'Asphalt Plant (AP-3)'!S53,'Asphalt Plant (AP-4)'!S53,'Asphalt Plant (AP-5)'!S53,'Asphalt Plant (AP-6)'!S53,'Asphalt Plant (AP-7)'!S53,'Asphalt Plant (AP-8)'!S53,'Asphalt Plant (AP-9)'!S53,'Asphalt Plant (AP-10)'!S53))","v":""},{"$f":"IF(B77=\"\",\"\",SUM('Asphalt Plant (AP-1)'!T53,'Asphalt Plant (AP-2)'!T53,'Asphalt Plant (AP-3)'!T53,'Asphalt Plant (AP-4)'!T53,'Asphalt Plant (AP-5)'!T53,'Asphalt Plant (AP-6)'!T53,'Asphalt Plant (AP-7)'!T53,'Asphalt Plant (AP-8)'!T53,'Asphalt Plant (AP-9)'!T53,'Asphalt Plant (AP-10)'!T53))","v":""}]
[{"$f":"IF(D78=\"\",\"\",\"ALL\")","v":""},{"$f":"IF(D78=\"\",\"\",\"Waste Oil Fired Heater\")","v":""},{"$f":"IF(B78=\"\",\"\",\"30500208\")","v":""},{"$f":"IF(SUM('Asphalt Plant (AP-1)'!N9,'Asphalt Plant (AP-2)'!N9,'Asphalt Plant (AP-3)'!N9,'Asphalt Plant (AP-4)'!N9,'Asphalt Plant (AP-5)'!N9,'Asphalt Plant (AP-6)'!N9,'Asphalt Plant (AP-7)'!N9,'Asphalt Plant (AP-8)'!N9,'Asphalt Plant (AP-9)'!N9,'Asphalt Plant (AP-10)'!N9)>0,SUM('Asphalt Plant (AP-1)'!N9,'Asphalt Plant (AP-2)'!N9,'Asphalt Plant (AP-3)'!N9,'Asphalt Plant (AP-4)'!N9,'Asphalt Plant (AP-5)'!N9,'Asphalt Plant (AP-6)'!N9,'Asphalt Plant (AP-7)'!N9,'Asphalt Plant (AP-8)'!N9,'Asphalt Plant (AP-9)'!N9,'Asphalt Plant (AP-10)'!N9),\"\")","v":""},{"$f":"IF(B78=\"\",\"\",\"gallons/hr\")","v":""},{"$f":"IF(B78=\"\",\"\",0.0012)","v":""},{"$f":"IF(B78=\"\",\"\",\"lbs/gallon\")","v":""},{"$f":"IF(B78=\"\",\"\",\"AP-42 Table 11.1-13\")","v":""},{"$f":"IF(B78=\"\",\"\",SUM('Asphalt Plant (AP-1)'!Q54,'Asphalt Plant (AP-2)'!Q54,'Asphalt Plant (AP-3)'!Q54,'Asphalt Plant (AP-4)'!Q54,'Asphalt Plant (AP-5)'!Q54,'Asphalt Plant (AP-6)'!Q54,'Asphalt Plant (AP-7)'!Q54,'Asphalt Plant (AP-8)'!Q54,'Asphalt Plant (AP-9)'!Q54,'Asphalt Plant (AP-10)'!Q54))","v":""},null,{"$f":"IF(C78=\"\",\"\",SUM('Asphalt Plant (AP-1)'!R54,'Asphalt Plant (AP-2)'!R54,'Asphalt Plant (AP-3)'!R54,'Asphalt Plant (AP-4)'!R54,'Asphalt Plant (AP-5)'!R54,'Asphalt Plant (AP-6)'!R54,'Asphalt Plant (AP-7)'!R54,'Asphalt Plant (AP-8)'!R54,'Asphalt Plant (AP-9)'!R54,'Asphalt Plant (AP-10)'!R54))","v":""},{"$f":"IF(B78=\"\",\"\",SUM('Asphalt Plant (AP-1)'!S54,'Asphalt Plant (AP-2)'!S54,'Asphalt Plant (AP-3)'!S54,'Asphalt Plant (AP-4)'!S54,'Asphalt Plant (AP-5)'!S54,'Asphalt Plant (AP-6)'!S54,'Asphalt Plant (AP-7)'!S54,'Asphalt Plant (AP-8)'!S54,'Asphalt Plant (AP-9)'!S54,'Asphalt Plant (AP-10)'!S54))","v":""},{"$f":"IF(B78=\"\",\"\",SUM('Asphalt Plant (AP-1)'!T54,'Asphalt Plant (AP-2)'!T54,'Asphalt Plant (AP-3)'!T54,'Asphalt Plant (AP-4)'!T54,'Asphalt Plant (AP-5)'!T54,'Asphalt Plant (AP-6)'!T54,'Asphalt Plant (AP-7)'!T54,'Asphalt Plant (AP-8)'!T54,'Asphalt Plant (AP-9)'!T54,'Asphalt Plant (AP-10)'!T54))","v":""}]
[{"$f":"IF(D79=\"\",\"\",\"ALL\")","v":""},{"$f":"IF(D79=\"\",\"\",\"Natural Gas Fired Heater\")","v":""},{"$f":"IF(B79=\"\",\"\",\"30500206\")","v":""},{"$f":"IF(SUM('Asphalt Plant (AP-1)'!N10,'Asphalt Plant (AP-2)'!N10,'Asphalt Plant (AP-3)'!N10,'Asphalt Plant (AP-4)'!N10,'Asphalt Plant (AP-5)'!N10,'Asphalt Plant (AP-6)'!N10,'Asphalt Plant (AP-7)'!N10,'Asphalt Plant (AP-8)'!N10,'Asphalt Plant (AP-9)'!N10,'Asphalt Plant (AP-10)'!N10)>0,SUM('Asphalt Plant (AP-1)'!N10,'Asphalt Plant (AP-2)'!N10,'Asphalt Plant (AP-3)'!N10,'Asphalt Plant (AP-4)'!N10,'Asphalt Plant (AP-5)'!N10,'Asphalt Plant (AP-6)'!N10,'Asphalt Plant (AP-7)'!N10,'Asphalt Plant (AP-8)'!N10,'Asphalt Plant (AP-9)'!N10,'Asphalt Plant (AP-10)'!N10),\"\")","v":""},{"$f":"IF(B79=\"\",\"\",\"MMCF/hr\")","v":""},{"$f":"IF(B79=\"\",\"\",8.9)","v":""},{"$f":"IF(B79=\"\",\"\",\"lbs/MMCF\")","v":""},{"$f":"IF(B79=\"\",\"\",\"AP-42 Table 11.1-13\")","v":""},{"$f":"IF(B79=\"\",\"\",SUM('Asphalt Plant (AP-1)'!Q55,'Asphalt Plant (AP-2)'!Q55,'Asphalt Plant (AP-3)'!Q55,'Asphalt Plant (AP-4)'!Q55,'Asphalt Plant (AP-5)'!Q55,'Asphalt Plant (AP-6)'!Q55,'Asphalt Plant (AP-7)'!Q55,'Asphalt Plant (AP-8)'!Q55,'Asphalt Plant (AP-9)'!Q55,'Asphalt Plant (AP-10)'!Q55))","v":""},null,{"$f":"IF(C79=\"\",\"\",SUM('Asphalt Plant (AP-1)'!R55,'Asphalt Plant (AP-2)'!R55,'Asphalt Plant (AP-3)'!R55,'Asphalt Plant (AP-4)'!R55,'Asphalt Plant (AP-5)'!R55,'Asphalt Plant (AP-6)'!R55,'Asphalt Plant (AP-7)'!R55,'Asphalt Plant (AP-8)'!R55,'Asphalt Plant (AP-9)'!R55,'Asphalt Plant (AP-10)'!R55))","v":""},{"$f":"IF(B79=\"\",\"\",SUM('Asphalt Plant (AP-1)'!S55,'Asphalt Plant (AP-2)'!S55,'Asphalt Plant (AP-3)'!S55,'Asphalt Plant (AP-4)'!S55,'Asphalt Plant (AP-5)'!S55,'Asphalt Plant (AP-6)'!S55,'Asphalt Plant (AP-7)'!S55,'Asphalt Plant (AP-8)'!S55,'Asphalt Plant (AP-9)'!S55,'Asphalt Plant (AP-10)'!S55))","v":""},{"$f":"IF(B79=\"\",\"\",SUM('Asphalt Plant (AP-1)'!T55,'Asphalt Plant (AP-2)'!T55,'Asphalt Plant (AP-3)'!T55,'Asphalt Plant (AP-4)'!T55,'Asphalt Plant (AP-5)'!T55,'Asphalt Plant (AP-6)'!T55,'Asphalt Plant (AP-7)'!T55,'Asphalt Plant (AP-8)'!T55,'Asphalt Plant (AP-9)'!T55,'Asphalt Plant (AP-10)'!T55))","v":""}]
[{"$f":"IF('Permitted Diesel Engines'!R51=0,\"\",\"ALL\")","v":""},{"$f":"IF('Permitted Diesel Engines'!R51=0,\"\",\"Diesel Generator ≤ 600 bhp\")","v":""},{"$f":"IF('Permitted Diesel Engines'!R51=0,\"\",LOOKUP(B80,'Emission Factors'!A43:A44,'Emission Factors'!B43:B44))","v":""},{"$f":"IF('Permitted Diesel Engines'!R51=0,\"\",'Permitted Diesel Engines'!R51)","v":""},{"$f":"IF(B80=\"\",\"\",\"MMBtu/hr\")","v":""},{"$f":"IF(B80=\"\",\"\",LOOKUP(B80,'Emission Factors'!$A$43:$A$44,'Emission Factors'!$N$43:$N$44))","v":""},{"$f":"IF(B80=\"\",\"\",LOOKUP(B80,'Emission Factors'!$A$43:$A$44,'Emission Factors'!$C$43:$C$44))","v":""},{"$f":"IF(B80=\"\",\"\",LOOKUP(B80,'Emission Factors'!$A$43:$A$44,'Emission Factors'!$O$43:$O$44))","v":""},{"$f":"IF(B80=\"\",\"\",'Emission Calculations'!D80*'Emission Calculations'!F80)","v":""},null,null,{"$f":"IF(B80=\"\",\"\",'Permitted Diesel Engines'!$AJ$78)","v":""},{"$f":"IF(B80=\"\",\"\",'Permitted Diesel Engines'!$T$51*F80/2000)","v":""}]
[{"$f":"IF('Permitted Diesel Engines'!R52=0,\"\",\"ALL\")","v":""},{"$f":"IF('Permitted Diesel Engines'!R52=0,\"\",\"Diesel Generator> 600 bhp\")","v":""},{"$f":"IF('Permitted Diesel Engines'!R52=0,\"\",LOOKUP(B81,'Emission Factors'!A44:A45,'Emission Factors'!B44:B45))","v":""},{"$f":"IF('Permitted Diesel Engines'!R52=0,\"\",'Permitted Diesel Engines'!R52)","v":""},{"$f":"IF(B81=\"\",\"\",\"MMBtu/hr\")","v":""},{"$f":"IF(B81=\"\",\"\",LOOKUP(B81,'Emission Factors'!$A$43:$A$44,'Emission Factors'!$N$43:$N$44))","v":""},{"$f":"IF(B81=\"\",\"\",LOOKUP(B81,'Emission Factors'!$A$43:$A$44,'Emission Factors'!$C$43:$C$44))","v":""},{"$f":"IF(B81=\"\",\"\",LOOKUP(B81,'Emission Factors'!$A$43:$A$44,'Emission Factors'!$O$43:$O$44))","v":""},{"$f":"IF(B81=\"\",\"\",'Emission Calculations'!D81*'Emission Calculations'!F81)","v":""},null,null,{"$f":"IF(B81=\"\",\"\",'Permitted Diesel Engines'!$AK$78)","v":""},{"$f":"IF(B81=\"\",\"\",'Permitted Diesel Engines'!$T$52*F81/2000)","v":""}]
[null,null,null,null,null,null,null,null,null,null,"FACILITY TOTALS:",{"$f":"SUM(L75:L81)","v":0},{"$f":"SUM(M75:M81)","v":0}]
[]
[null,null,null,null,null,null,null,null,"Potential Hourly Uncontrolled Emissions(lb/hr)",null,"Potential Hourly Controlled Emissions (lb/hr)","Potential Annual Emissions (tons/yr)","Actual Emissions (tons/yr)"]
["EP","Description of Process","SCC #","Max Design Rate","Units of Measure","Emission Factor","Units of Measure","Source of Emission Factor",null,"Control Efficiency"]
[]
["Acetaldehyde"]
[{"$f":"IF(OR('Asphalt Plant (AP-1)'!$C$5=\"batch mix plant\",'Asphalt Plant (AP-2)'!$C$5=\"batch mix plant\",'Asphalt Plant (AP-3)'!$C$5=\"batch mix plant\",'Asphalt Plant (AP-4)'!$C$5=\"batch mix plant\",'Asphalt Plant (AP-5)'!$C$5=\"batch mix plant\",'Asphalt Plant (AP-6)'!$C$5=\"batch mix plant\",'Asphalt Plant (AP-7)'!$C$5=\"batch mix plant\",'Asphalt Plant (AP-8)'!$C$5=\"batch mix plant\",'Asphalt Plant (AP-9)'!$C$5=\"batch mix plant\",'Asphalt Plant (AP-10)'!$C$5=\"batch mix plant\"),\"ALL\",\"\")","v":""},{"$f":"IF(OR('Asphalt Plant (AP-1)'!$C$5=\"batch mix plant\",'Asphalt Plant (AP-2)'!$C$5=\"batch mix plant\",'Asphalt Plant (AP-3)'!$C$5=\"batch mix plant\",'Asphalt Plant (AP-4)'!$C$5=\"batch mix plant\",'Asphalt Plant (AP-5)'!$C$5=\"batch mix plant\",'Asphalt Plant (AP-6)'!$C$5=\"batch mix plant\",'Asphalt Plant (AP-7)'!$C$5=\"batch mix plant\",'Asphalt Plant (AP-8)'!$C$5=\"batch mix plant\",'Asphalt Plant (AP-9)'!$C$5=\"batch mix plant\",'Asphalt Plant (AP-10)'!$C$5=\"batch mix plant\"),\"Batch Mix Plant\",\"\")","v":""},{"$f":"IF(B88=\"\",\"\",\"30500245/46/47\")","v":""},{"$f":"IF(B88=\"\",\"\",SUM(IF('Asphalt Plant (AP-1)'!C5=\"batch mix plant\",SUM('Asphalt Plant (AP-1)'!N5:N7),0),IF('Asphalt Plant (AP-2)'!C5=\"batch mix plant\",SUM('Asphalt Plant (AP-2)'!N5:N7),0),IF('Asphalt Plant (AP-3)'!C5=\"batch mix plant\",SUM('Asphalt Plant (AP-3)'!N5:N7),0),IF('Asphalt Plant (AP-4)'!C5=\"batch mix plant\",SUM('Asphalt Plant (AP-4)'!N5:N7),0),IF('Asphalt Plant (AP-5)'!C5=\"batch mix plant\",SUM('Asphalt Plant (AP-5)'!N5:N7),0),IF('Asphalt Plant (AP-6)'!C5=\"batch mix plant\",SUM('Asphalt Plant (AP-6)'!N5:N7),0),IF('Asphalt Plant (AP-7)'!C5=\"batch mix plant\",SUM('Asphalt Plant (AP-7)'!N5:N7),0),IF('Asphalt Plant (AP-8)'!C5=\"batch mix plant\",SUM('Asphalt Plant (AP-8)'!N5:N7),0),IF('Asphalt Plant (AP-9)'!C5=\"batch mix plant\",SUM('Asphalt Plant (AP-9)'!N5:N7),0),IF('Asphalt Plant (AP-10)'!C5=\"batch mix plant\",SUM('Asphalt Plant (AP-10)'!N5:N7),0)))","v":""},{"$f":"IF(B88=\"\",\"\",\"tons/hr\")","v":""},{"$f":"IF(B88=\"\",\"\",0.00032)","v":""},{"$f":"IF(B88=\"\",\"\",\"lbs/ton\")","v":""},{"$f":"IF(B88=\"\",\"\",\"AP-42 Table 11.1-2,5,6,9\")","v":""},{"$f":"IF(B88=\"\",\"\",SUM(IF('Asphalt Plant (AP-1)'!$C$5=\"batch mix plant\",'Asphalt Plant (AP-1)'!Q57,0),IF('Asphalt Plant (AP-2)'!$C$5=\"batch mix plant\",'Asphalt Plant (AP-2)'!Q57,0),IF('Asphalt Plant (AP-3)'!$C$5=\"batch mix plant\",'Asphalt Plant (AP-3)'!Q57,0),IF('Asphalt Plant (AP-4)'!$C$5=\"batch mix plant\",'Asphalt Plant (AP-4)'!Q57,0),IF('Asphalt Plant (AP-5)'!$C$5=\"batch mix plant\",'Asphalt Plant (AP-5)'!Q57,0),IF('Asphalt Plant (AP-6)'!$C$5=\"batch mix plant\",'Asphalt Plant (AP-6)'!Q57,0),IF('Asphalt Plant (AP-7)'!$C$5=\"batch mix plant\",'Asphalt Plant (AP-7)'!Q57,0),IF('Asphalt Plant (AP-8)'!$C$5=\"batch mix plant\",'Asphalt Plant (AP-8)'!Q57,0),IF('Asphalt Plant (AP-9)'!$C$5=\"batch mix plant\",'Asphalt Plant (AP-9)'!Q57,0),IF('Asphalt Plant (AP-10)'!$C$5=\"batch mix plant\",'Asphalt Plant (AP-10)'!Q57,0)))","v":""},null,null,{"$f":"IF(B88=\"\",\"\",SUM(IF('Asphalt Plant (AP-1)'!$C$5=\"batch mix plant\",'Asphalt Plant (AP-1)'!S57,0),IF('Asphalt Plant (AP-2)'!$C$5=\"batch mix plant\",'Asphalt Plant (AP-2)'!S57,0),IF('Asphalt Plant (AP-3)'!$C$5=\"batch mix plant\",'Asphalt Plant (AP-3)'!S57,0),IF('Asphalt Plant (AP-4)'!$C$5=\"batch mix plant\",'Asphalt Plant (AP-4)'!S57,0),IF('Asphalt Plant (AP-5)'!$C$5=\"batch mix plant\",'Asphalt Plant (AP-5)'!S57,0),IF('Asphalt Plant (AP-6)'!$C$5=\"batch mix plant\",'Asphalt Plant (AP-6)'!S57,0),IF('Asphalt Plant (AP-7)'!$C$5=\"batch mix plant\",'Asphalt Plant (AP-7)'!S57,0),IF('Asphalt Plant (AP-8)'!$C$5=\"batch mix plant\",'Asphalt Plant (AP-8)'!S57,0),IF('Asphalt Plant (AP-9)'!$C$5=\"batch mix plant\",'Asphalt Plant (AP-9)'!S57,0),IF('Asphalt Plant (AP-10)'!$C$5=\"batch mix plant\",'Asphalt Plant (AP-10)'!S57,0)))","v":""},{"$f":"IF(B88=\"\",\"\",SUM(IF('Asphalt Plant (AP-1)'!$C$5=\"batch mix plant\",'Asphalt Plant (AP-1)'!T57,0),IF('Asphalt Plant (AP-2)'!$C$5=\"batch mix plant\",'Asphalt Plant (AP-2)'!T57,0),IF('Asphalt Plant (AP-3)'!$C$5=\"batch mix plant\",'Asphalt Plant (AP-3)'!T57,0),IF('Asphalt Plant (AP-4)'!$C$5=\"batch mix plant\",'Asphalt Plant (AP-4)'!T57,0),IF('Asphalt Plant (AP-5)'!$C$5=\"batch mix plant\",'Asphalt Plant (AP-5)'!T57,0),IF('Asphalt Plant (AP-6)'!$C$5=\"batch mix plant\",'Asphalt Plant (AP-6)'!T57,0),IF('Asphalt Plant (AP-7)'!$C$5=\"batch mix plant\",'Asphalt Plant (AP-7)'!T57,0),IF('Asphalt Plant (AP-8)'!$C$5=\"batch mix plant\",'Asphalt Plant (AP-8)'!T57,0),IF('Asphalt Plant (AP-9)'!$C$5=\"batch mix plant\",'Asphalt Plant (AP-9)'!T57,0),IF('Asphalt Plant (AP-10)'!$C$5=\"batch mix plant\",'Asphalt Plant (AP-10)'!T57,0)))","v":""}]
[{"$f":"IF(OR('Asphalt Plant (AP-1)'!$C$5=\"drum mix plant\",'Asphalt Plant (AP-2)'!$C$5=\"drum mix plant\",'Asphalt Plant (AP-3)'!$C$5=\"drum mix plant\",'Asphalt Plant (AP-4)'!$C$5=\"drum mix plant\",'Asphalt Plant (AP-5)'!$C$5=\"drum mix plant\",'Asphalt Plant (AP-6)'!$C$5=\"drum mix plant\",'Asphalt Plant (AP-7)'!$C$5=\"drum mix plant\",'Asphalt Plant (AP-8)'!$C$5=\"drum mix plant\",'Asphalt Plant (AP-9)'!$C$5=\"drum mix plant\",'Asphalt Plant (AP-10)'!$C$5=\"drum mix plant\"),\"ALL\",\"\")","v":""},{"$f":"IF(OR('Asphalt Plant (AP-1)'!$C$5=\"drum mix plant\",'Asphalt Plant (AP-2)'!$C$5=\"drum mix plant\",'Asphalt Plant (AP-3)'!$C$5=\"drum mix plant\",'Asphalt Plant (AP-4)'!$C$5=\"drum mix plant\",'Asphalt Plant (AP-5)'!$C$5=\"drum mix plant\",'Asphalt Plant (AP-6)'!$C$5=\"drum mix plant\",'Asphalt Plant (AP-7)'!$C$5=\"drum mix plant\",'Asphalt Plant (AP-8)'!$C$5=\"drum mix plant\",'Asphalt Plant (AP-9)'!$C$5=\"drum mix plant\",'Asphalt Plant (AP-10)'!$C$5=\"drum mix plant\"),\"Drum Mix Plant\",\"\")","v":""},{"$f":"IF(B89=\"\",\"\",\"30500258/61\")","v":""},{"$f":"IF(B89=\"\",\"\",SUM(IF('Asphalt Plant (AP-1)'!C5=\"drum mix plant\",SUM('Asphalt Plant (AP-1)'!N5:N6),0),IF('Asphalt Plant (AP-2)'!C5=\"drum mix plant\",SUM('Asphalt Plant (AP-2)'!N5:N6),0),IF('Asphalt Plant (AP-3)'!C5=\"drum mix plant\",SUM('Asphalt Plant (AP-3)'!N5:N6),0),IF('Asphalt Plant (AP-4)'!C5=\"drum mix plant\",SUM('Asphalt Plant (AP-4)'!N5:N6),0),IF('Asphalt Plant (AP-5)'!C5=\"drum mix plant\",SUM('Asphalt Plant (AP-5)'!N5:N6),0),IF('Asphalt Plant (AP-6)'!C5=\"drum mix plant\",SUM('Asphalt Plant (AP-6)'!N5:N6),0),IF('Asphalt Plant (AP-7)'!C5=\"drum mix plant\",SUM('Asphalt Plant (AP-7)'!N5:N6),0),IF('Asphalt Plant (AP-8)'!C5=\"drum mix plant\",SUM('Asphalt Plant (AP-8)'!N5:N6),0),IF('Asphalt Plant (AP-9)'!C5=\"drum mix plant\",SUM('Asphalt Plant (AP-9)'!N5:N6),0),IF('Asphalt Plant (AP-10)'!C5=\"drum mix plant\",SUM('Asphalt Plant (AP-10)'!N5:N6),0)))","v":""},{"$f":"IF(B89=\"\",\"\",\"tons/hr\")","v":""},{"$f":"IF(B89=\"\",\"\",0.0013)","v":""},{"$f":"IF(B89=\"\",\"\",\"lbs/ton\")","v":""},{"$f":"IF(B89=\"\",\"\",\"AP-42 Table 11.1-4,7,8,10\")","v":""},{"$f":"IF(B89=\"\",\"\",SUM(IF('Asphalt Plant (AP-1)'!$C$5=\"drum mix plant\",'Asphalt Plant (AP-1)'!Q57,0),IF('Asphalt Plant (AP-2)'!$C$5=\"drum mix plant\",'Asphalt Plant (AP-2)'!Q57,0),IF('Asphalt Plant (AP-3)'!$C$5=\"drum mix plant\",'Asphalt Plant (AP-3)'!Q57,0),IF('Asphalt Plant (AP-4)'!$C$5=\"drum mix plant\",'Asphalt Plant (AP-4)'!Q57,0),IF('Asphalt Plant (AP-5)'!$C$5=\"drum mix plant\",'Asphalt Plant (AP-5)'!Q57,0),IF('Asphalt Plant (AP-6)'!$C$5=\"drum mix plant\",'Asphalt Plant (AP-6)'!Q57,0),IF('Asphalt Plant (AP-7)'!$C$5=\"drum mix plant\",'Asphalt Plant (AP-7)'!Q57,0),IF('Asphalt Plant (AP-8)'!$C$5=\"drum mix plant\",'Asphalt Plant (AP-8)'!Q57,0),IF('Asphalt Plant (AP-9)'!$C$5=\"drum mix plant\",'Asphalt Plant (AP-9)'!Q57,0),IF('Asphalt Plant (AP-10)'!$C$5=\"drum mix plant\",'Asphalt Plant (AP-10)'!Q57,0)))","v":""},null,null,{"$f":"IF(B89=\"\",\"\",SUM(IF('Asphalt Plant (AP-1)'!$C$5=\"drum mix plant\",'Asphalt Plant (AP-1)'!S57,0),IF('Asphalt Plant (AP-2)'!$C$5=\"drum mix plant\",'Asphalt Plant (AP-2)'!S57,0),IF('Asphalt Plant (AP-3)'!$C$5=\"drum mix plant\",'Asphalt Plant (AP-3)'!S57,0),IF('Asphalt Plant (AP-4)'!$C$5=\"drum mix plant\",'Asphalt Plant (AP-4)'!S57,0),IF('Asphalt Plant (AP-5)'!$C$5=\"drum mix plant\",'Asphalt Plant (AP-5)'!S57,0),IF('Asphalt Plant (AP-6)'!$C$5=\"drum mix plant\",'Asphalt Plant (AP-6)'!S57,0),IF('Asphalt Plant (AP-7)'!$C$5=\"drum mix plant\",'Asphalt Plant (AP-7)'!S57,0),IF('Asphalt Plant (AP-8)'!$C$5=\"drum mix plant\",'Asphalt Plant (AP-8)'!S57,0),IF('Asphalt Plant (AP-9)'!$C$5=\"drum mix plant\",'Asphalt Plant (AP-9)'!S57,0),IF('Asphalt Plant (AP-10)'!$C$5=\"drum mix plant\",'Asphalt Plant (AP-10)'!S57,0)))","v":""},{"$f":"IF(B89=\"\",\"\",SUM(IF('Asphalt Plant (AP-1)'!$C$5=\"drum mix plant\",'Asphalt Plant (AP-1)'!T57,0),IF('Asphalt Plant (AP-2)'!$C$5=\"drum mix plant\",'Asphalt Plant (AP-2)'!T57,0),IF('Asphalt Plant (AP-3)'!$C$5=\"drum mix plant\",'Asphalt Plant (AP-3)'!T57,0),IF('Asphalt Plant (AP-4)'!$C$5=\"drum mix plant\",'Asphalt Plant (AP-4)'!T57,0),IF('Asphalt Plant (AP-5)'!$C$5=\"drum mix plant\",'Asphalt Plant (AP-5)'!T57,0),IF('Asphalt Plant (AP-6)'!$C$5=\"drum mix plant\",'Asphalt Plant (AP-6)'!T57,0),IF('Asphalt Plant (AP-7)'!$C$5=\"drum mix plant\",'Asphalt Plant (AP-7)'!T57,0),IF('Asphalt Plant (AP-8)'!$C$5=\"drum mix plant\",'Asphalt Plant (AP-8)'!T57,0),IF('Asphalt Plant (AP-9)'!$C$5=\"drum mix plant\",'Asphalt Plant (AP-9)'!T57,0),IF('Asphalt Plant (AP-10)'!$C$5=\"drum mix plant\",'Asphalt Plant (AP-10)'!T57,0)))","v":""}]
["Acrolein"]
[{"$f":"IF(OR('Asphalt Plant (AP-1)'!$C$5=\"drum mix plant\",'Asphalt Plant (AP-2)'!$C$5=\"drum mix plant\",'Asphalt Plant (AP-3)'!$C$5=\"drum mix plant\",'Asphalt Plant (AP-4)'!$C$5=\"drum mix plant\",'Asphalt Plant (AP-5)'!$C$5=\"drum mix plant\",'Asphalt Plant (AP-6)'!$C$5=\"drum mix plant\",'Asphalt Plant (AP-7)'!$C$5=\"drum mix plant\",'Asphalt Plant (AP-8)'!$C$5=\"drum mix plant\",'Asphalt Plant (AP-9)'!$C$5=\"drum mix plant\",'Asphalt Plant (AP-10)'!$C$5=\"drum mix plant\"),\"ALL\",\"\")","v":""},{"$f":"IF(OR('Asphalt Plant (AP-1)'!$C$5=\"drum mix plant\",'Asphalt Plant (AP-2)'!$C$5=\"drum mix plant\",'Asphalt Plant (AP-3)'!$C$5=\"drum mix plant\",'Asphalt Plant (AP-4)'!$C$5=\"drum mix plant\",'Asphalt Plant (AP-5)'!$C$5=\"drum mix plant\",'Asphalt Plant (AP-6)'!$C$5=\"drum mix plant\",'Asphalt Plant (AP-7)'!$C$5=\"drum mix plant\",'Asphalt Plant (AP-8)'!$C$5=\"drum mix plant\",'Asphalt Plant (AP-9)'!$C$5=\"drum mix plant\",'Asphalt Plant (AP-10)'!$C$5=\"drum mix plant\"),\"Drum Mix Plant\",\"\")","v":""},{"$f":"IF(B91=\"\",\"\",\"30500258/61\")","v":""},{"$f":"IF(B91=\"\",\"\",SUM(IF('Asphalt Plant (AP-1)'!C5=\"drum mix plant\",SUM('Asphalt Plant (AP-1)'!N5:N6),0),IF('Asphalt Plant (AP-2)'!C5=\"drum mix plant\",SUM('Asphalt Plant (AP-2)'!N5:N6),0),IF('Asphalt Plant (AP-3)'!C5=\"drum mix plant\",SUM('Asphalt Plant (AP-3)'!N5:N6),0),IF('Asphalt Plant (AP-4)'!C5=\"drum mix plant\",SUM('Asphalt Plant (AP-4)'!N5:N6),0),IF('Asphalt Plant (AP-5)'!C5=\"drum mix plant\",SUM('Asphalt Plant (AP-5)'!N5:N6),0),IF('Asphalt Plant (AP-6)'!C5=\"drum mix plant\",SUM('Asphalt Plant (AP-6)'!N5:N6),0),IF('Asphalt Plant (AP-7)'!C5=\"drum mix plant\",SUM('Asphalt Plant (AP-7)'!N5:N6),0),IF('Asphalt Plant (AP-8)'!C5=\"drum mix plant\",SUM('Asphalt Plant (AP-8)'!N5:N6),0),IF('Asphalt Plant (AP-9)'!C5=\"drum mix plant\",SUM('Asphalt Plant (AP-9)'!N5:N6),0),IF('Asphalt Plant (AP-10)'!C5=\"drum mix plant\",SUM('Asphalt Plant (AP-10)'!N5:N6),0)))","v":""},{"$f":"IF(B91=\"\",\"\",\"tons/hr\")","v":""},{"$f":"IF(B91=\"\",\"\",0.000026)","v":""},{"$f":"IF(B91=\"\",\"\",\"lbs/ton\")","v":""},{"$f":"IF(B91=\"\",\"\",\"AP-42 Table 11.1-4,7,8,10\")","v":""},{"$f":"IF(B91=\"\",\"\",SUM(IF('Asphalt Plant (AP-1)'!$C$5=\"drum mix plant\",'Asphalt Plant (AP-1)'!Q59,0),IF('Asphalt Plant (AP-2)'!$C$5=\"drum mix plant\",'Asphalt Plant (AP-2)'!Q59,0),IF('Asphalt Plant (AP-3)'!$C$5=\"drum mix plant\",'Asphalt Plant (AP-3)'!Q59,0),IF('Asphalt Plant (AP-4)'!$C$5=\"drum mix plant\",'Asphalt Plant (AP-4)'!Q59,0),IF('Asphalt Plant (AP-5)'!$C$5=\"drum mix plant\",'Asphalt Plant (AP-5)'!Q59,0),IF('Asphalt Plant (AP-6)'!$C$5=\"drum mix plant\",'Asphalt Plant (AP-6)'!Q59,0),IF('Asphalt Plant (AP-7)'!$C$5=\"drum mix plant\",'Asphalt Plant (AP-7)'!Q59,0),IF('Asphalt Plant (AP-8)'!$C$5=\"drum mix plant\",'Asphalt Plant (AP-8)'!Q59,0),IF('Asphalt Plant (AP-9)'!$C$5=\"drum mix plant\",'Asphalt Plant (AP-9)'!Q59,0),IF('Asphalt Plant (AP-10)'!$C$5=\"drum mix plant\",'Asphalt Plant (AP-10)'!Q59,0)))","v":""},null,null,{"$f":"IF(B91=\"\",\"\",SUM(IF('Asphalt Plant (AP-1)'!$C$5=\"drum mix plant\",'Asphalt Plant (AP-1)'!S59,0),IF('Asphalt Plant (AP-2)'!$C$5=\"drum mix plant\",'Asphalt Plant (AP-2)'!S59,0),IF('Asphalt Plant (AP-3)'!$C$5=\"drum mix plant\",'Asphalt Plant (AP-3)'!S59,0),IF('Asphalt Plant (AP-4)'!$C$5=\"drum mix plant\",'Asphalt Plant (AP-4)'!S59,0),IF('Asphalt Plant (AP-5)'!$C$5=\"drum mix plant\",'Asphalt Plant (AP-5)'!S59,0),IF('Asphalt Plant (AP-6)'!$C$5=\"drum mix plant\",'Asphalt Plant (AP-6)'!S59,0),IF('Asphalt Plant (AP-7)'!$C$5=\"drum mix plant\",'Asphalt Plant (AP-7)'!S59,0),IF('Asphalt Plant (AP-8)'!$C$5=\"drum mix plant\",'Asphalt Plant (AP-8)'!S59,0),IF('Asphalt Plant (AP-9)'!$C$5=\"drum mix plant\",'Asphalt Plant (AP-9)'!S59,0),IF('Asphalt Plant (AP-10)'!$C$5=\"drum mix plant\",'Asphalt Plant (AP-10)'!S59,0)))","v":""},{"$f":"IF(B91=\"\",\"\",SUM(IF('Asphalt Plant (AP-1)'!$C$5=\"drum mix plant\",'Asphalt Plant (AP-1)'!T59,0),IF('Asphalt Plant (AP-2)'!$C$5=\"drum mix plant\",'Asphalt Plant (AP-2)'!T59,0),IF('Asphalt Plant (AP-3)'!$C$5=\"drum mix plant\",'Asphalt Plant (AP-3)'!T59,0),IF('Asphalt Plant (AP-4)'!$C$5=\"drum mix plant\",'Asphalt Plant (AP-4)'!T59,0),IF('Asphalt Plant (AP-5)'!$C$5=\"drum mix plant\",'Asphalt Plant (AP-5)'!T59,0),IF('Asphalt Plant (AP-6)'!$C$5=\"drum mix plant\",'Asphalt Plant (AP-6)'!T59,0),IF('Asphalt Plant (AP-7)'!$C$5=\"drum mix plant\",'Asphalt Plant (AP-7)'!T59,0),IF('Asphalt Plant (AP-8)'!$C$5=\"drum mix plant\",'Asphalt Plant (AP-8)'!T59,0),IF('Asphalt Plant (AP-9)'!$C$5=\"drum mix plant\",'Asphalt Plant (AP-9)'!T59,0),IF('Asphalt Plant (AP-10)'!$C$5=\"drum mix plant\",'Asphalt Plant (AP-10)'!T59,0)))","v":""}]
["Benzene",null,null,{"$f":"IF(F92=\"\",\"\",IF('[1]Facility Processes'!$G$7=\"\",\"\",'[1]Facility Processes'!$G$7))","v":""},null,null,null,{"$f":"IF(F92=\"\",\"\",LOOKUP(B92,'[1]Emission Factors'!$A$5:$A$10,'[1]Emission Factors'!$D$5:$D$10))","v":""}]
[{"$f":"IF(OR('Asphalt Plant (AP-1)'!$C$5=\"batch mix plant\",'Asphalt Plant (AP-2)'!$C$5=\"batch mix plant\",'Asphalt Plant (AP-3)'!$C$5=\"batch mix plant\",'Asphalt Plant (AP-4)'!$C$5=\"batch mix plant\",'Asphalt Plant (AP-5)'!$C$5=\"batch mix plant\",'Asphalt Plant (AP-6)'!$C$5=\"batch mix plant\",'Asphalt Plant (AP-7)'!$C$5=\"batch mix plant\",'Asphalt Plant (AP-8)'!$C$5=\"batch mix plant\",'Asphalt Plant (AP-9)'!$C$5=\"batch mix plant\",'Asphalt Plant (AP-10)'!$C$5=\"batch mix plant\"),\"ALL\",\"\")","v":""},{"$f":"IF(OR('Asphalt Plant (AP-1)'!$C$5=\"batch mix plant\",'Asphalt Plant (AP-2)'!$C$5=\"batch mix plant\",'Asphalt Plant (AP-3)'!$C$5=\"batch mix plant\",'Asphalt Plant (AP-4)'!$C$5=\"batch mix plant\",'Asphalt Plant (AP-5)'!$C$5=\"batch mix plant\",'Asphalt Plant (AP-6)'!$C$5=\"batch mix plant\",'Asphalt Plant (AP-7)'!$C$5=\"batch mix plant\",'Asphalt Plant (AP-8)'!$C$5=\"batch mix plant\",'Asphalt Plant (AP-9)'!$C$5=\"batch mix plant\",'Asphalt Plant (AP-10)'!$C$5=\"batch mix plant\"),\"Batch Mix Plant\",\"\")","v":""},{"$f":"IF(B93=\"\",\"\",\"30500245/46/47\")","v":""},{"$f":"IF(B93=\"\",\"\",SUM(IF('Asphalt Plant (AP-1)'!C5=\"batch mix plant\",SUM('Asphalt Plant (AP-1)'!N5:N7),0),IF('Asphalt Plant (AP-2)'!C5=\"batch mix plant\",SUM('Asphalt Plant (AP-2)'!N5:N7),0),IF('Asphalt Plant (AP-3)'!C5=\"batch mix plant\",SUM('Asphalt Plant (AP-3)'!N5:N7),0),IF('Asphalt Plant (AP-4)'!C5=\"batch mix plant\",SUM('Asphalt Plant (AP-4)'!N5:N7),0),IF('Asphalt Plant (AP-5)'!C5=\"batch mix plant\",SUM('Asphalt Plant (AP-5)'!N5:N7),0),IF('Asphalt Plant (AP-6)'!C5=\"batch mix plant\",SUM('Asphalt Plant (AP-6)'!N5:N7),0),IF('Asphalt Plant (AP-7)'!C5=\"batch mix plant\",SUM('Asphalt Plant (AP-7)'!N5:N7),0),IF('Asphalt Plant (AP-8)'!C5=\"batch mix plant\",SUM('Asphalt Plant (AP-8)'!N5:N7),0),IF('Asphalt Plant (AP-9)'!C5=\"batch mix plant\",SUM('Asphalt Plant (AP-9)'!N5:N7),0),IF('Asphalt Plant (AP-10)'!C5=\"batch mix plant\",SUM('Asphalt Plant (AP-10)'!N5:N7),0)))","v":""},{"$f":"IF(B93=\"\",\"\",\"tons/hr\")","v":""},{"$f":"IF(B93=\"\",\"\",0.00028)","v":""},{"$f":"IF(B93=\"\",\"\",\"lbs/ton\")","v":""},{"$f":"IF(B93=\"\",\"\",\"AP-42 Table 11.1-2,5,6,9\")","v":""},{"$f":"IF(B93=\"\",\"\",SUM(IF('Asphalt Plant (AP-1)'!$C$5=\"batch mix plant\",'Asphalt Plant (AP-1)'!Q61,0),IF('Asphalt Plant (AP-2)'!$C$5=\"batch mix plant\",'Asphalt Plant (AP-2)'!Q61,0),IF('Asphalt Plant (AP-3)'!$C$5=\"batch mix plant\",'Asphalt Plant (AP-3)'!Q61,0),IF('Asphalt Plant (AP-4)'!$C$5=\"batch mix plant\",'Asphalt Plant (AP-4)'!Q61,0),IF('Asphalt Plant (AP-5)'!$C$5=\"batch mix plant\",'Asphalt Plant (AP-5)'!Q61,0),IF('Asphalt Plant (AP-6)'!$C$5=\"batch mix plant\",'Asphalt Plant (AP-6)'!Q61,0),IF('Asphalt Plant (AP-7)'!$C$5=\"batch mix plant\",'Asphalt Plant (AP-7)'!Q61,0),IF('Asphalt Plant (AP-8)'!$C$5=\"batch mix plant\",'Asphalt Plant (AP-8)'!Q61,0),IF('Asphalt Plant (AP-9)'!$C$5=\"batch mix plant\",'Asphalt Plant (AP-9)'!Q61,0),IF('Asphalt Plant (AP-10)'!$C$5=\"batch mix plant\",'Asphalt Plant (AP-10)'!Q61,0)))","v":""},null,null,{"$f":"IF(B93=\"\",\"\",SUM(IF('Asphalt Plant (AP-1)'!$C$5=\"batch mix plant\",'Asphalt Plant (AP-1)'!S61,0),IF('Asphalt Plant (AP-2)'!$C$5=\"batch mix plant\",'Asphalt Plant (AP-2)'!S61,0),IF('Asphalt Plant (AP-3)'!$C$5=\"batch mix plant\",'Asphalt Plant (AP-3)'!S61,0),IF('Asphalt Plant (AP-4)'!$C$5=\"batch mix plant\",'Asphalt Plant (AP-4)'!S61,0),IF('Asphalt Plant (AP-5)'!$C$5=\"batch mix plant\",'Asphalt Plant (AP-5)'!S61,0),IF('Asphalt Plant (AP-6)'!$C$5=\"batch mix plant\",'Asphalt Plant (AP-6)'!S61,0),IF('Asphalt Plant (AP-7)'!$C$5=\"batch mix plant\",'Asphalt Plant (AP-7)'!S61,0),IF('Asphalt Plant (AP-8)'!$C$5=\"batch mix plant\",'Asphalt Plant (AP-8)'!S61,0),IF('Asphalt Plant (AP-9)'!$C$5=\"batch mix plant\",'Asphalt Plant (AP-9)'!S61,0),IF('Asphalt Plant (AP-10)'!$C$5=\"batch mix plant\",'Asphalt Plant (AP-10)'!S61,0)))","v":""},{"$f":"IF(B93=\"\",\"\",SUM(IF('Asphalt Plant (AP-1)'!$C$5=\"batch mix plant\",'Asphalt Plant (AP-1)'!T61,0),IF('Asphalt Plant (AP-2)'!$C$5=\"batch mix plant\",'Asphalt Plant (AP-2)'!T61,0),IF('Asphalt Plant (AP-3)'!$C$5=\"batch mix plant\",'Asphalt Plant (AP-3)'!T61,0),IF('Asphalt Plant (AP-4)'!$C$5=\"batch mix plant\",'Asphalt Plant (AP-4)'!T61,0),IF('Asphalt Plant (AP-5)'!$C$5=\"batch mix plant\",'Asphalt Plant (AP-5)'!T61,0),IF('Asphalt Plant (AP-6)'!$C$5=\"batch mix plant\",'Asphalt Plant (AP-6)'!T61,0),IF('Asphalt Plant (AP-7)'!$C$5=\"batch mix plant\",'Asphalt Plant (AP-7)'!T61,0),IF('Asphalt Plant (AP-8)'!$C$5=\"batch mix plant\",'Asphalt Plant (AP-8)'!T61,0),IF('Asphalt Plant (AP-9)'!$C$5=\"batch mix plant\",'Asphalt Plant (AP-9)'!T61,0),IF('Asphalt Plant (AP-10)'!$C$5=\"batch mix plant\",'Asphalt Plant (AP-10)'!T61,0)))","v":""}]
[{"$f":"IF(OR('Asphalt Plant (AP-1)'!$C$5=\"drum mix plant\",'Asphalt Plant (AP-2)'!$C$5=\"drum mix plant\",'Asphalt Plant (AP-3)'!$C$5=\"drum mix plant\",'Asphalt Plant (AP-4)'!$C$5=\"drum mix plant\",'Asphalt Plant (AP-5)'!$C$5=\"drum mix plant\",'Asphalt Plant (AP-6)'!$C$5=\"drum mix plant\",'Asphalt Plant (AP-7)'!$C$5=\"drum mix plant\",'Asphalt Plant (AP-8)'!$C$5=\"drum mix plant\",'Asphalt Plant (AP-9)'!$C$5=\"drum mix plant\",'Asphalt Plant (AP-10)'!$C$5=\"drum mix plant\"),\"ALL\",\"\")","v":""},{"$f":"IF(OR('Asphalt Plant (AP-1)'!$C$5=\"drum mix plant\",'Asphalt Plant (AP-2)'!$C$5=\"drum mix plant\",'Asphalt Plant (AP-3)'!$C$5=\"drum mix plant\",'Asphalt Plant (AP-4)'!$C$5=\"drum mix plant\",'Asphalt Plant (AP-5)'!$C$5=\"drum mix plant\",'Asphalt Plant (AP-6)'!$C$5=\"drum mix plant\",'Asphalt Plant (AP-7)'!$C$5=\"drum mix plant\",'Asphalt Plant (AP-8)'!$C$5=\"drum mix plant\",'Asphalt Plant (AP-9)'!$C$5=\"drum mix plant\",'Asphalt Plant (AP-10)'!$C$5=\"drum mix plant\"),\"Drum Mix Plant\",\"\")","v":""},{"$f":"IF(B94=\"\",\"\",\"30500255/58/61\")","v":""},{"$f":"IF(B94=\"\",\"\",SUM(IF('Asphalt Plant (AP-1)'!C5=\"drum mix plant\",SUM('Asphalt Plant (AP-1)'!N5:N7),0),IF('Asphalt Plant (AP-2)'!C5=\"drum mix plant\",SUM('Asphalt Plant (AP-2)'!N5:N7),0),IF('Asphalt Plant (AP-3)'!C5=\"drum mix plant\",SUM('Asphalt Plant (AP-3)'!N5:N7),0),IF('Asphalt Plant (AP-4)'!C5=\"drum mix plant\",SUM('Asphalt Plant (AP-4)'!N5:N7),0),IF('Asphalt Plant (AP-5)'!C5=\"drum mix plant\",SUM('Asphalt Plant (AP-5)'!N5:N7),0),IF('Asphalt Plant (AP-6)'!C5=\"drum mix plant\",SUM('Asphalt Plant (AP-6)'!N5:N7),0),IF('Asphalt Plant (AP-7)'!C5=\"drum mix plant\",SUM('Asphalt Plant (AP-7)'!N5:N7),0),IF('Asphalt Plant (AP-8)'!C5=\"drum mix plant\",SUM('Asphalt Plant (AP-8)'!N5:N7),0),IF('Asphalt Plant (AP-9)'!C5=\"drum mix plant\",SUM('Asphalt Plant (AP-9)'!N5:N7),0),IF('Asphalt Plant (AP-10)'!C5=\"drum mix plant\",SUM('Asphalt Plant (AP-10)'!N5:N7),0)))","v":""},{"$f":"IF(B94=\"\",\"\",\"tons/hr\")","v":""},{"$f":"IF(B94=\"\",\"\",0.00039)","v":""},{"$f":"IF(B94=\"\",\"\",\"lbs/ton\")","v":""},{"$f":"IF(B94=\"\",\"\",\"AP-42 Table 11.1-4,7,8,10\")","v":""},{"$f":"IF(B94=\"\",\"\",SUM(IF('Asphalt Plant (AP-1)'!$C$5=\"drum mix plant\",'Asphalt Plant (AP-1)'!Q61,0),IF('Asphalt Plant (AP-2)'!$C$5=\"drum mix plant\",'Asphalt Plant (AP-2)'!Q61,0),IF('Asphalt Plant (AP-3)'!$C$5=\"drum mix plant\",'Asphalt Plant (AP-3)'!Q61,0),IF('Asphalt Plant (AP-4)'!$C$5=\"drum mix plant\",'Asphalt Plant (AP-4)'!Q61,0),IF('Asphalt Plant (AP-5)'!$C$5=\"drum mix plant\",'Asphalt Plant (AP-5)'!Q61,0),IF('Asphalt Plant (AP-6)'!$C$5=\"drum mix plant\",'Asphalt Plant (AP-6)'!Q61,0),IF('Asphalt Plant (AP-7)'!$C$5=\"drum mix plant\",'Asphalt Plant (AP-7)'!Q61,0),IF('Asphalt Plant (AP-8)'!$C$5=\"drum mix plant\",'Asphalt Plant (AP-8)'!Q61,0),IF('Asphalt Plant (AP-9)'!$C$5=\"drum mix plant\",'Asphalt Plant (AP-9)'!Q61,0),IF('Asphalt Plant (AP-10)'!$C$5=\"drum mix plant\",'Asphalt Plant (AP-10)'!Q61,0)))","v":""},null,null,{"$f":"IF(B94=\"\",\"\",SUM(IF('Asphalt Plant (AP-1)'!$C$5=\"drum mix plant\",'Asphalt Plant (AP-1)'!S61,0),IF('Asphalt Plant (AP-2)'!$C$5=\"drum mix plant\",'Asphalt Plant (AP-2)'!S61,0),IF('Asphalt Plant (AP-3)'!$C$5=\"drum mix plant\",'Asphalt Plant (AP-3)'!S61,0),IF('Asphalt Plant (AP-4)'!$C$5=\"drum mix plant\",'Asphalt Plant (AP-4)'!S61,0),IF('Asphalt Plant (AP-5)'!$C$5=\"drum mix plant\",'Asphalt Plant (AP-5)'!S61,0),IF('Asphalt Plant (AP-6)'!$C$5=\"drum mix plant\",'Asphalt Plant (AP-6)'!S61,0),IF('Asphalt Plant (AP-7)'!$C$5=\"drum mix plant\",'Asphalt Plant (AP-7)'!S61,0),IF('Asphalt Plant (AP-8)'!$C$5=\"drum mix plant\",'Asphalt Plant (AP-8)'!S61,0),IF('Asphalt Plant (AP-9)'!$C$5=\"drum mix plant\",'Asphalt Plant (AP-9)'!S61,0),IF('Asphalt Plant (AP-10)'!$C$5=\"drum mix plant\",'Asphalt Plant (AP-10)'!S61,0)))","v":""},{"$f":"IF(B94=\"\",\"\",SUM(IF('Asphalt Plant (AP-1)'!$C$5=\"drum mix plant\",'Asphalt Plant (AP-1)'!T61,0),IF('Asphalt Plant (AP-2)'!$C$5=\"drum mix plant\",'Asphalt Plant (AP-2)'!T61,0),IF('Asphalt Plant (AP-3)'!$C$5=\"drum mix plant\",'Asphalt Plant (AP-3)'!T61,0),IF('Asphalt Plant (AP-4)'!$C$5=\"drum mix plant\",'Asphalt Plant (AP-4)'!T61,0),IF('Asphalt Plant (AP-5)'!$C$5=\"drum mix plant\",'Asphalt Plant (AP-5)'!T61,0),IF('Asphalt Plant (AP-6)'!$C$5=\"drum mix plant\",'Asphalt Plant (AP-6)'!T61,0),IF('Asphalt Plant (AP-7)'!$C$5=\"drum mix plant\",'Asphalt Plant (AP-7)'!T61,0),IF('Asphalt Plant (AP-8)'!$C$5=\"drum mix plant\",'Asphalt Plant (AP-8)'!T61,0),IF('Asphalt Plant (AP-9)'!$C$5=\"drum mix plant\",'Asphalt Plant (AP-9)'!T61,0),IF('Asphalt Plant (AP-10)'!$C$5=\"drum mix plant\",'Asphalt Plant (AP-10)'!T61,0)))","v":""}]
[{"$f":"IF('Permitted Diesel Engines'!R51=0,\"\",\"ALL\")","v":""},{"$f":"IF('Permitted Diesel Engines'!R51=0,\"\",\"Diesel Generator ≤ 600 bhp\")","v":""},{"$f":"IF('Permitted Diesel Engines'!R51=0,\"\",LOOKUP(B95,'Emission Factors'!$A$43:$A$44,'Emission Factors'!$B$43:$B$44))","v":""},{"$f":"IF('Permitted Diesel Engines'!R51=0,\"\",'Permitted Diesel Engines'!R51)","v":""},{"$f":"IF(B95=\"\",\"\",\"MMBtu/hr\")","v":""},{"$f":"IF('Permitted Diesel Engines'!R51=0,\"\",LOOKUP(B95,'Emission Factors'!$A$43:$A$44,'Emission Factors'!$R$43:$R$44))","v":""},{"$f":"IF(B95=\"\",\"\",\"lb/MMBtu\")","v":""},{"$f":"IF('Permitted Diesel Engines'!R51=0,\"\",LOOKUP(B95,'Emission Factors'!$A$43:$A$44,'Emission Factors'!$S$43:$S$44))","v":""},{"$f":"IF(B95=\"\",\"\",D95*F95)","v":""},null,null,{"$f":"IF(B95=\"\",\"\",'Permitted Diesel Engines'!AN78)","v":""},{"$f":"IF(B95=\"\",\"\",'Permitted Diesel Engines'!$T$51*F95/2000)","v":""}]
[{"$f":"IF('Permitted Diesel Engines'!R52=0,\"\",\"ALL\")","v":""},{"$f":"IF('Permitted Diesel Engines'!R52=0,\"\",\"Diesel Generator> 600 bhp\")","v":""},{"$f":"IF('Permitted Diesel Engines'!R52=0,\"\",LOOKUP(B96,'Emission Factors'!$A$43:$A$44,'Emission Factors'!$B$43:$B$44))","v":""},{"$f":"IF('Permitted Diesel Engines'!R52=0,\"\",'Permitted Diesel Engines'!R52)","v":""},{"$f":"IF(B96=\"\",\"\",\"MMBtu/hr\")","v":""},{"$f":"IF('Permitted Diesel Engines'!R52=0,\"\",LOOKUP(B96,'Emission Factors'!$A$43:$A$44,'Emission Factors'!$R$43:$R$44))","v":""},{"$f":"IF(B96=\"\",\"\",\"lb/MMBtu\")","v":""},{"$f":"IF('Permitted Diesel Engines'!R52=0,\"\",LOOKUP(B96,'Emission Factors'!$A$43:$A$44,'Emission Factors'!$S$43:$S$44))","v":""},{"$f":"IF(B96=\"\",\"\",D96*F96)","v":""},null,null,{"$f":"IF(B96=\"\",\"\",'Permitted Diesel Engines'!AO78)","v":""},{"$f":"IF(B96=\"\",\"\",'Permitted Diesel Engines'!$T$52*F96/2000)","v":""}]
[null,null,null,null,null,null,{"$f":"IF(F97=\"\",\"\",\"lbs/ton\")","v":""},null,null,null,"FACILITY TOTALS:",{"$f":"SUM(L93:L96)","v":0},{"$f":"SUM(M93:M96)","v":0}]
["Ethylbenzene",null,null,null,null,null,{"$f":"IF(F98=\"\",\"\",\"lbs/ton\")","v":""}]
[{"$f":"IF(OR('Asphalt Plant (AP-1)'!$C$5=\"batch mix plant\",'Asphalt Plant (AP-2)'!$C$5=\"batch mix plant\",'Asphalt Plant (AP-3)'!$C$5=\"batch mix plant\",'Asphalt Plant (AP-4)'!$C$5=\"batch mix plant\",'Asphalt Plant (AP-5)'!$C$5=\"batch mix plant\",'Asphalt Plant (AP-6)'!$C$5=\"batch mix plant\",'Asphalt Plant (AP-7)'!$C$5=\"batch mix plant\",'Asphalt Plant (AP-8)'!$C$5=\"batch mix plant\",'Asphalt Plant (AP-9)'!$C$5=\"batch mix plant\",'Asphalt Plant (AP-10)'!$C$5=\"batch mix plant\"),\"ALL\",\"\")","v":""},{"$f":"IF(OR('Asphalt Plant (AP-1)'!$C$5=\"batch mix plant\",'Asphalt Plant (AP-2)'!$C$5=\"batch mix plant\",'Asphalt Plant (AP-3)'!$C$5=\"batch mix plant\",'Asphalt Plant (AP-4)'!$C$5=\"batch mix plant\",'Asphalt Plant (AP-5)'!$C$5=\"batch mix plant\",'Asphalt Plant (AP-6)'!$C$5=\"batch mix plant\",'Asphalt Plant (AP-7)'!$C$5=\"batch mix plant\",'Asphalt Plant (AP-8)'!$C$5=\"batch mix plant\",'Asphalt Plant (AP-9)'!$C$5=\"batch mix plant\",'Asphalt Plant (AP-10)'!$C$5=\"batch mix plant\"),\"Batch Mix Plant\",\"\")","v":""},{"$f":"IF(B99=\"\",\"\",\"30500245/46/47\")","v":""},{"$f":"IF(B99=\"\",\"\",SUM(IF('Asphalt Plant (AP-1)'!C5=\"batch mix plant\",SUM('Asphalt Plant (AP-1)'!N5:N7),0),IF('Asphalt Plant (AP-2)'!C5=\"batch mix plant\",SUM('Asphalt Plant (AP-2)'!N5:N7),0),IF('Asphalt Plant (AP-3)'!C5=\"batch mix plant\",SUM('Asphalt Plant (AP-3)'!N5:N7),0),IF('Asphalt Plant (AP-4)'!C5=\"batch mix plant\",SUM('Asphalt Plant (AP-4)'!N5:N7),0),IF('Asphalt Plant (AP-5)'!C5=\"batch mix plant\",SUM('Asphalt Plant (AP-5)'!N5:N7),0),IF('Asphalt Plant (AP-6)'!C5=\"batch mix plant\",SUM('Asphalt Plant (AP-6)'!N5:N7),0),IF('Asphalt Plant (AP-7)'!C5=\"batch mix plant\",SUM('Asphalt Plant (AP-7)'!N5:N7),0),IF('Asphalt Plant (AP-8)'!C5=\"batch mix plant\",SUM('Asphalt Plant (AP-8)'!N5:N7),0),IF('Asphalt Plant (AP-9)'!C5=\"batch mix plant\",SUM('Asphalt Plant (AP-9)'!N5:N7),0),IF('Asphalt Plant (AP-10)'!C5=\"batch mix plant\",SUM('Asphalt Plant (AP-10)'!N5:N7),0)))","v":""},{"$f":"IF(B99=\"\",\"\",\"tons/hr\")","v":""},{"$f":"IF(B99=\"\",\"\",0.0022)","v":""},{"$f":"IF(B99=\"\",\"\",\"lbs/ton\")","v":""},{"$f":"IF(B99=\"\",\"\",\"AP-42 Table 11.1-2,5,6,9\")","v":""},{"$f":"IF(B99=\"\",\"\",SUM(IF('Asphalt Plant (AP-1)'!$C$5=\"batch mix plant\",'Asphalt Plant (AP-1)'!Q63,0),IF('Asphalt Plant (AP-2)'!$C$5=\"batch mix plant\",'Asphalt Plant (AP-2)'!Q63,0),IF('Asphalt Plant (AP-3)'!$C$5=\"batch mix plant\",'Asphalt Plant (AP-3)'!Q63,0),IF('Asphalt Plant (AP-4)'!$C$5=\"batch mix plant\",'Asphalt Plant (AP-4)'!Q63,0),IF('Asphalt Plant (AP-5)'!$C$5=\"batch mix plant\",'Asphalt Plant (AP-5)'!Q63,0),IF('Asphalt Plant (AP-6)'!$C$5=\"batch mix plant\",'Asphalt Plant (AP-6)'!Q63,0),IF('Asphalt Plant (AP-7)'!$C$5=\"batch mix plant\",'Asphalt Plant (AP-7)'!Q63,0),IF('Asphalt Plant (AP-8)'!$C$5=\"batch mix plant\",'Asphalt Plant (AP-8)'!Q63,0),IF('Asphalt Plant (AP-9)'!$C$5=\"batch mix plant\",'Asphalt Plant (AP-9)'!Q63,0),IF('Asphalt Plant (AP-10)'!$C$5=\"batch mix plant\",'Asphalt Plant (AP-10)'!Q63,0)))","v":""},null,null,{"$f":"IF(B99=\"\",\"\",SUM(IF('Asphalt Plant (AP-1)'!$C$5=\"batch mix plant\",'Asphalt Plant (AP-1)'!S63,0),IF('Asphalt Plant (AP-2)'!$C$5=\"batch mix plant\",'Asphalt Plant (AP-2)'!S63,0),IF('Asphalt Plant (AP-3)'!$C$5=\"batch mix plant\",'Asphalt Plant (AP-3)'!S63,0),IF('Asphalt Plant (AP-4)'!$C$5=\"batch mix plant\",'Asphalt Plant (AP-4)'!S63,0),IF('Asphalt Plant (AP-5)'!$C$5=\"batch mix plant\",'Asphalt Plant (AP-5)'!S63,0),IF('Asphalt Plant (AP-6)'!$C$5=\"batch mix plant\",'Asphalt Plant (AP-6)'!S63,0),IF('Asphalt Plant (AP-7)'!$C$5=\"batch mix plant\",'Asphalt Plant (AP-7)'!S63,0),IF('Asphalt Plant (AP-8)'!$C$5=\"batch mix plant\",'Asphalt Plant (AP-8)'!S63,0),IF('Asphalt Plant (AP-9)'!$C$5=\"batch mix plant\",'Asphalt Plant (AP-9)'!S63,0),IF('Asphalt Plant (AP-10)'!$C$5=\"batch mix plant\",'Asphalt Plant (AP-10)'!S63,0)))","v":""},{"$f":"IF(B99=\"\",\"\",SUM(IF('Asphalt Plant (AP-1)'!$C$5=\"batch mix plant\",'Asphalt Plant (AP-1)'!T63,0),IF('Asphalt Plant (AP-2)'!$C$5=\"batch mix plant\",'Asphalt Plant (AP-2)'!T63,0),IF('Asphalt Plant (AP-3)'!$C$5=\"batch mix plant\",'Asphalt Plant (AP-3)'!T63,0),IF('Asphalt Plant (AP-4)'!$C$5=\"batch mix plant\",'Asphalt Plant (AP-4)'!T63,0),IF('Asphalt Plant (AP-5)'!$C$5=\"batch mix plant\",'Asphalt Plant (AP-5)'!T63,0),IF('Asphalt Plant (AP-6)'!$C$5=\"batch mix plant\",'Asphalt Plant (AP-6)'!T63,0),IF('Asphalt Plant (AP-7)'!$C$5=\"batch mix plant\",'Asphalt Plant (AP-7)'!T63,0),IF('Asphalt Plant (AP-8)'!$C$5=\"batch mix plant\",'Asphalt Plant (AP-8)'!T63,0),IF('Asphalt Plant (AP-9)'!$C$5=\"batch mix plant\",'Asphalt Plant (AP-9)'!T63,0),IF('Asphalt Plant (AP-10)'!$C$5=\"batch mix plant\",'Asphalt Plant (AP-10)'!T63,0)))","v":""}]
[{"$f":"IF(OR('Asphalt Plant (AP-1)'!$C$5=\"drum mix plant\",'Asphalt Plant (AP-2)'!$C$5=\"drum mix plant\",'Asphalt Plant (AP-3)'!$C$5=\"drum mix plant\",'Asphalt Plant (AP-4)'!$C$5=\"drum mix plant\",'Asphalt Plant (AP-5)'!$C$5=\"drum mix plant\",'Asphalt Plant (AP-6)'!$C$5=\"drum mix plant\",'Asphalt Plant (AP-7)'!$C$5=\"drum mix plant\",'Asphalt Plant (AP-8)'!$C$5=\"drum mix plant\",'Asphalt Plant (AP-9)'!$C$5=\"drum mix plant\",'Asphalt Plant (AP-10)'!$C$5=\"drum mix plant\"),\"ALL\",\"\")","v":""},{"$f":"IF(OR('Asphalt Plant (AP-1)'!$C$5=\"drum mix plant\",'Asphalt Plant (AP-2)'!$C$5=\"drum mix plant\",'Asphalt Plant (AP-3)'!$C$5=\"drum mix plant\",'Asphalt Plant (AP-4)'!$C$5=\"drum mix plant\",'Asphalt Plant (AP-5)'!$C$5=\"drum mix plant\",'Asphalt Plant (AP-6)'!$C$5=\"drum mix plant\",'Asphalt Plant (AP-7)'!$C$5=\"drum mix plant\",'Asphalt Plant (AP-8)'!$C$5=\"drum mix plant\",'Asphalt Plant (AP-9)'!$C$5=\"drum mix plant\",'Asphalt Plant (AP-10)'!$C$5=\"drum mix plant\"),\"Drum Mix Plant\",\"\")","v":""},{"$f":"IF(B100=\"\",\"\",\"30500255/58/61\")","v":""},{"$f":"IF(B100=\"\",\"\",SUM(IF('Asphalt Plant (AP-1)'!C5=\"drum mix plant\",SUM('Asphalt Plant (AP-1)'!N5:N6),0),IF('Asphalt Plant (AP-2)'!C5=\"drum mix plant\",SUM('Asphalt Plant (AP-2)'!N5:N6),0),IF('Asphalt Plant (AP-3)'!C5=\"drum mix plant\",SUM('Asphalt Plant (AP-3)'!N5:N6),0),IF('Asphalt Plant (AP-4)'!C5=\"drum mix plant\",SUM('Asphalt Plant (AP-4)'!N5:N6),0),IF('Asphalt Plant (AP-5)'!C5=\"drum mix plant\",SUM('Asphalt Plant (AP-5)'!N5:N6),0),IF('Asphalt Plant (AP-6)'!C5=\"drum mix plant\",SUM('Asphalt Plant (AP-6)'!N5:N6),0),IF('Asphalt Plant (AP-7)'!C5=\"drum mix plant\",SUM('Asphalt Plant (AP-7)'!N5:N6),0),IF('Asphalt Plant (AP-8)'!C5=\"drum mix plant\",SUM('Asphalt Plant (AP-8)'!N5:N6),0),IF('Asphalt Plant (AP-9)'!C5=\"drum mix plant\",SUM('Asphalt Plant (AP-9)'!N5:N6),0),IF('Asphalt Plant (AP-10)'!C5=\"drum mix plant\",SUM('Asphalt Plant (AP-10)'!N5:N6),0)))","v":""},{"$f":"IF(B100=\"\",\"\",\"tons/hr\")","v":""},{"$f":"IF(B100=\"\",\"\",0.00024)","v":""},{"$f":"IF(B100=\"\",\"\",\"lbs/ton\")","v":""},{"$f":"IF(B100=\"\",\"\",\"AP-42 Table 11.1-4,7,8,10\")","v":""},{"$f":"IF(B100=\"\",\"\",SUM(IF('Asphalt Plant (AP-1)'!$C$5=\"drum mix plant\",'Asphalt Plant (AP-1)'!Q63,0),IF('Asphalt Plant (AP-2)'!$C$5=\"drum mix plant\",'Asphalt Plant (AP-2)'!Q63,0),IF('Asphalt Plant (AP-3)'!$C$5=\"drum mix plant\",'Asphalt Plant (AP-3)'!Q63,0),IF('Asphalt Plant (AP-4)'!$C$5=\"drum mix plant\",'Asphalt Plant (AP-4)'!Q63,0),IF('Asphalt Plant (AP-5)'!$C$5=\"drum mix plant\",'Asphalt Plant (AP-5)'!Q63,0),IF('Asphalt Plant (AP-6)'!$C$5=\"drum mix plant\",'Asphalt Plant (AP-6)'!Q63,0),IF('Asphalt Plant (AP-7)'!$C$5=\"drum mix plant\",'Asphalt Plant (AP-7)'!Q63,0),IF('Asphalt Plant (AP-8)'!$C$5=\"drum mix plant\",'Asphalt Plant (AP-8)'!Q63,0),IF('Asphalt Plant (AP-9)'!$C$5=\"drum mix plant\",'Asphalt Plant (AP-9)'!Q63,0),IF('Asphalt Plant (AP-10)'!$C$5=\"drum mix plant\",'Asphalt Plant (AP-10)'!Q63,0)))","v":""},null,null,{"$f":"IF(B100=\"\",\"\",SUM(IF('Asphalt Plant (AP-1)'!$C$5=\"drum mix plant\",'Asphalt Plant (AP-1)'!S63,0),IF('Asphalt Plant (AP-2)'!$C$5=\"drum mix plant\",'Asphalt Plant (AP-2)'!S63,0),IF('Asphalt Plant (AP-3)'!$C$5=\"drum mix plant\",'Asphalt Plant (AP-3)'!S63,0),IF('Asphalt Plant (AP-4)'!$C$5=\"drum mix plant\",'Asphalt Plant (AP-4)'!S63,0),IF('Asphalt Plant (AP-5)'!$C$5=\"drum mix plant\",'Asphalt Plant (AP-5)'!S63,0),IF('Asphalt Plant (AP-6)'!$C$5=\"drum mix plant\",'Asphalt Plant (AP-6)'!S63,0),IF('Asphalt Plant (AP-7)'!$C$5=\"drum mix plant\",'Asphalt Plant (AP-7)'!S63,0),IF('Asphalt Plant (AP-8)'!$C$5=\"drum mix plant\",'Asphalt Plant (AP-8)'!S63,0),IF('Asphalt Plant (AP-9)'!$C$5=\"drum mix plant\",'Asphalt Plant (AP-9)'!S63,0),IF('Asphalt Plant (AP-10)'!$C$5=\"drum mix plant\",'Asphalt Plant (AP-10)'!S63,0)))","v":""},{"$f":"IF(B100=\"\",\"\",SUM(IF('Asphalt Plant (AP-1)'!$C$5=\"drum mix plant\",'Asphalt Plant (AP-1)'!T63,0),IF('Asphalt Plant (AP-2)'!$C$5=\"drum mix plant\",'Asphalt Plant (AP-2)'!T63,0),IF('Asphalt Plant (AP-3)'!$C$5=\"drum mix plant\",'Asphalt Plant (AP-3)'!T63,0),IF('Asphalt Plant (AP-4)'!$C$5=\"drum mix plant\",'Asphalt Plant (AP-4)'!T63,0),IF('Asphalt Plant (AP-5)'!$C$5=\"drum mix plant\",'Asphalt Plant (AP-5)'!T63,0),IF('Asphalt Plant (AP-6)'!$C$5=\"drum mix plant\",'Asphalt Plant (AP-6)'!T63,0),IF('Asphalt Plant (AP-7)'!$C$5=\"drum mix plant\",'Asphalt Plant (AP-7)'!T63,0),IF('Asphalt Plant (AP-8)'!$C$5=\"drum mix plant\",'Asphalt Plant (AP-8)'!T63,0),IF('Asphalt Plant (AP-9)'!$C$5=\"drum mix plant\",'Asphalt Plant (AP-9)'!T63,0),IF('Asphalt Plant (AP-10)'!$C$5=\"drum mix plant\",'Asphalt Plant (AP-10)'!T63,0)))","v":""}]
["Formaldehyde"]
[{"$f":"IF(OR('Asphalt Plant (AP-1)'!$C$5=\"batch mix plant\",'Asphalt Plant (AP-2)'!$C$5=\"batch mix plant\",'Asphalt Plant (AP-3)'!$C$5=\"batch mix plant\",'Asphalt Plant (AP-4)'!$C$5=\"batch mix plant\",'Asphalt Plant (AP-5)'!$C$5=\"batch mix plant\",'Asphalt Plant (AP-6)'!$C$5=\"batch mix plant\",'Asphalt Plant (AP-7)'!$C$5=\"batch mix plant\",'Asphalt Plant (AP-8)'!$C$5=\"batch mix plant\",'Asphalt Plant (AP-9)'!$C$5=\"batch mix plant\",'Asphalt Plant (AP-10)'!$C$5=\"batch mix plant\"),\"ALL\",\"\")","v":""},{"$f":"IF(OR('Asphalt Plant (AP-1)'!$C$5=\"batch mix plant\",'Asphalt Plant (AP-2)'!$C$5=\"batch mix plant\",'Asphalt Plant (AP-3)'!$C$5=\"batch mix plant\",'Asphalt Plant (AP-4)'!$C$5=\"batch mix plant\",'Asphalt Plant (AP-5)'!$C$5=\"batch mix plant\",'Asphalt Plant (AP-6)'!$C$5=\"batch mix plant\",'Asphalt Plant (AP-7)'!$C$5=\"batch mix plant\",'Asphalt Plant (AP-8)'!$C$5=\"batch mix plant\",'Asphalt Plant (AP-9)'!$C$5=\"batch mix plant\",'Asphalt Plant (AP-10)'!$C$5=\"batch mix plant\"),\"Batch Mix Plant\",\"\")","v":""},{"$f":"IF(B102=\"\",\"\",\"30500245/46/47\")","v":""},{"$f":"IF(B102=\"\",\"\",SUM(IF('Asphalt Plant (AP-1)'!C5=\"batch mix plant\",SUM('Asphalt Plant (AP-1)'!N5:N7),0),IF('Asphalt Plant (AP-2)'!C5=\"batch mix plant\",SUM('Asphalt Plant (AP-2)'!N5:N7),0),IF('Asphalt Plant (AP-3)'!C5=\"batch mix plant\",SUM('Asphalt Plant (AP-3)'!N5:N7),0),IF('Asphalt Plant (AP-4)'!C5=\"batch mix plant\",SUM('Asphalt Plant (AP-4)'!N5:N7),0),IF('Asphalt Plant (AP-5)'!C5=\"batch mix plant\",SUM('Asphalt Plant (AP-5)'!N5:N7),0),IF('Asphalt Plant (AP-6)'!C5=\"batch mix plant\",SUM('Asphalt Plant (AP-6)'!N5:N7),0),IF('Asphalt Plant (AP-7)'!C5=\"batch mix plant\",SUM('Asphalt Plant (AP-7)'!N5:N7),0),IF('Asphalt Plant (AP-8)'!C5=\"batch mix plant\",SUM('Asphalt Plant (AP-8)'!N5:N7),0),IF('Asphalt Plant (AP-9)'!C5=\"batch mix plant\",SUM('Asphalt Plant (AP-9)'!N5:N7),0),IF('Asphalt Plant (AP-10)'!C5=\"batch mix plant\",SUM('Asphalt Plant (AP-10)'!N5:N7),0)))","v":""},{"$f":"IF(B102=\"\",\"\",\"tons/hr\")","v":""},{"$f":"IF(B102=\"\",\"\",0.00074)","v":""},{"$f":"IF(B102=\"\",\"\",\"lbs/ton\")","v":""},{"$f":"IF(B102=\"\",\"\",\"AP-42 Table 11.1-2,5,6,9\")","v":""},{"$f":"IF(B102=\"\",\"\",SUM(IF('Asphalt Plant (AP-1)'!$C$5=\"batch mix plant\",'Asphalt Plant (AP-1)'!Q65,0),IF('Asphalt Plant (AP-2)'!$C$5=\"batch mix plant\",'Asphalt Plant (AP-2)'!Q65,0),IF('Asphalt Plant (AP-3)'!$C$5=\"batch mix plant\",'Asphalt Plant (AP-3)'!Q65,0),IF('Asphalt Plant (AP-4)'!$C$5=\"batch mix plant\",'Asphalt Plant (AP-4)'!Q65,0),IF('Asphalt Plant (AP-5)'!$C$5=\"batch mix plant\",'Asphalt Plant (AP-5)'!Q65,0),IF('Asphalt Plant (AP-6)'!$C$5=\"batch mix plant\",'Asphalt Plant (AP-6)'!Q65,0),IF('Asphalt Plant (AP-7)'!$C$5=\"batch mix plant\",'Asphalt Plant (AP-7)'!Q65,0),IF('Asphalt Plant (AP-8)'!$C$5=\"batch mix plant\",'Asphalt Plant (AP-8)'!Q65,0),IF('Asphalt Plant (AP-9)'!$C$5=\"batch mix plant\",'Asphalt Plant (AP-9)'!Q65,0),IF('Asphalt Plant (AP-10)'!$C$5=\"batch mix plant\",'Asphalt Plant (AP-10)'!Q65,0)))","v":""},null,null,{"$f":"IF(B102=\"\",\"\",SUM(IF('Asphalt Plant (AP-1)'!$C$5=\"batch mix plant\",'Asphalt Plant (AP-1)'!S65,0),IF('Asphalt Plant (AP-2)'!$C$5=\"batch mix plant\",'Asphalt Plant (AP-2)'!S65,0),IF('Asphalt Plant (AP-3)'!$C$5=\"batch mix plant\",'Asphalt Plant (AP-3)'!S65,0),IF('Asphalt Plant (AP-4)'!$C$5=\"batch mix plant\",'Asphalt Plant (AP-4)'!S65,0),IF('Asphalt Plant (AP-5)'!$C$5=\"batch mix plant\",'Asphalt Plant (AP-5)'!S65,0),IF('Asphalt Plant (AP-6)'!$C$5=\"batch mix plant\",'Asphalt Plant (AP-6)'!S65,0),IF('Asphalt Plant (AP-7)'!$C$5=\"batch mix plant\",'Asphalt Plant (AP-7)'!S65,0),IF('Asphalt Plant (AP-8)'!$C$5=\"batch mix plant\",'Asphalt Plant (AP-8)'!S65,0),IF('Asphalt Plant (AP-9)'!$C$5=\"batch mix plant\",'Asphalt Plant (AP-9)'!S65,0),IF('Asphalt Plant (AP-10)'!$C$5=\"batch mix plant\",'Asphalt Plant (AP-10)'!S65,0)))","v":""},{"$f":"IF(B102=\"\",\"\",SUM(IF('Asphalt Plant (AP-1)'!$C$5=\"batch mix plant\",'Asphalt Plant (AP-1)'!T65,0),IF('Asphalt Plant (AP-2)'!$C$5=\"batch mix plant\",'Asphalt Plant (AP-2)'!T65,0),IF('Asphalt Plant (AP-3)'!$C$5=\"batch mix plant\",'Asphalt Plant (AP-3)'!T65,0),IF('Asphalt Plant (AP-4)'!$C$5=\"batch mix plant\",'Asphalt Plant (AP-4)'!T65,0),IF('Asphalt Plant (AP-5)'!$C$5=\"batch mix plant\",'Asphalt Plant (AP-5)'!T65,0),IF('Asphalt Plant (AP-6)'!$C$5=\"batch mix plant\",'Asphalt Plant (AP-6)'!T65,0),IF('Asphalt Plant (AP-7)'!$C$5=\"batch mix plant\",'Asphalt Plant (AP-7)'!T65,0),IF('Asphalt Plant (AP-8)'!$C$5=\"batch mix plant\",'Asphalt Plant (AP-8)'!T65,0),IF('Asphalt Plant (AP-9)'!$C$5=\"batch mix plant\",'Asphalt Plant (AP-9)'!T65,0),IF('Asphalt Plant (AP-10)'!$C$5=\"batch mix plant\",'Asphalt Plant (AP-10)'!T65,0)))","v":""}]
[{"$f":"IF(OR('Asphalt Plant (AP-1)'!$C$5=\"drum mix plant\",'Asphalt Plant (AP-2)'!$C$5=\"drum mix plant\",'Asphalt Plant (AP-3)'!$C$5=\"drum mix plant\",'Asphalt Plant (AP-4)'!$C$5=\"drum mix plant\",'Asphalt Plant (AP-5)'!$C$5=\"drum mix plant\",'Asphalt Plant (AP-6)'!$C$5=\"drum mix plant\",'Asphalt Plant (AP-7)'!$C$5=\"drum mix plant\",'Asphalt Plant (AP-8)'!$C$5=\"drum mix plant\",'Asphalt Plant (AP-9)'!$C$5=\"drum mix plant\",'Asphalt Plant (AP-10)'!$C$5=\"drum mix plant\"),\"ALL\",\"\")","v":""},{"$f":"IF(OR('Asphalt Plant (AP-1)'!$C$5=\"drum mix plant\",'Asphalt Plant (AP-2)'!$C$5=\"drum mix plant\",'Asphalt Plant (AP-3)'!$C$5=\"drum mix plant\",'Asphalt Plant (AP-4)'!$C$5=\"drum mix plant\",'Asphalt Plant (AP-5)'!$C$5=\"drum mix plant\",'Asphalt Plant (AP-6)'!$C$5=\"drum mix plant\",'Asphalt Plant (AP-7)'!$C$5=\"drum mix plant\",'Asphalt Plant (AP-8)'!$C$5=\"drum mix plant\",'Asphalt Plant (AP-9)'!$C$5=\"drum mix plant\",'Asphalt Plant (AP-10)'!$C$5=\"drum mix plant\"),\"Drum Mix Plant\",\"\")","v":""},{"$f":"IF(B103=\"\",\"\",\"30500255/58/61\")","v":""},{"$f":"IF(B103=\"\",\"\",SUM(IF('Asphalt Plant (AP-1)'!C5=\"drum mix plant\",SUM('Asphalt Plant (AP-1)'!N5:N7),0),IF('Asphalt Plant (AP-2)'!C5=\"drum mix plant\",SUM('Asphalt Plant (AP-2)'!N5:N7),0),IF('Asphalt Plant (AP-3)'!C5=\"drum mix plant\",SUM('Asphalt Plant (AP-3)'!N5:N7),0),IF('Asphalt Plant (AP-4)'!C5=\"drum mix plant\",SUM('Asphalt Plant (AP-4)'!N5:N7),0),IF('Asphalt Plant (AP-5)'!C5=\"drum mix plant\",SUM('Asphalt Plant (AP-5)'!N5:N7),0),IF('Asphalt Plant (AP-6)'!C5=\"drum mix plant\",SUM('Asphalt Plant (AP-6)'!N5:N7),0),IF('Asphalt Plant (AP-7)'!C5=\"drum mix plant\",SUM('Asphalt Plant (AP-7)'!N5:N7),0),IF('Asphalt Plant (AP-8)'!C5=\"drum mix plant\",SUM('Asphalt Plant (AP-8)'!N5:N7),0),IF('Asphalt Plant (AP-9)'!C5=\"drum mix plant\",SUM('Asphalt Plant (AP-9)'!N5:N7),0),IF('Asphalt Plant (AP-10)'!C5=\"drum mix plant\",SUM('Asphalt Plant (AP-10)'!N5:N7),0)))","v":""},{"$f":"IF(B103=\"\",\"\",\"tons/hr\")","v":""},{"$f":"IF(B103=\"\",\"\",0.0031)","v":""},{"$f":"IF(B103=\"\",\"\",\"lbs/ton\")","v":""},{"$f":"IF(B103=\"\",\"\",\"AP-42 Table 11.1-4,7,8,10\")","v":""},{"$f":"IF(B103=\"\",\"\",SUM(IF('Asphalt Plant (AP-1)'!$C$5=\"drum mix plant\",'Asphalt Plant (AP-1)'!Q65,0),IF('Asphalt Plant (AP-2)'!$C$5=\"drum mix plant\",'Asphalt Plant (AP-2)'!Q65,0),IF('Asphalt Plant (AP-3)'!$C$5=\"drum mix plant\",'Asphalt Plant (AP-3)'!Q65,0),IF('Asphalt Plant (AP-4)'!$C$5=\"drum mix plant\",'Asphalt Plant (AP-4)'!Q65,0),IF('Asphalt Plant (AP-5)'!$C$5=\"drum mix plant\",'Asphalt Plant (AP-5)'!Q65,0),IF('Asphalt Plant (AP-6)'!$C$5=\"drum mix plant\",'Asphalt Plant (AP-6)'!Q65,0),IF('Asphalt Plant (AP-7)'!$C$5=\"drum mix plant\",'Asphalt Plant (AP-7)'!Q65,0),IF('Asphalt Plant (AP-8)'!$C$5=\"drum mix plant\",'Asphalt Plant (AP-8)'!Q65,0),IF('Asphalt Plant (AP-9)'!$C$5=\"drum mix plant\",'Asphalt Plant (AP-9)'!Q65,0),IF('Asphalt Plant (AP-10)'!$C$5=\"drum mix plant\",'Asphalt Plant (AP-10)'!Q65,0)))","v":""},null,null,{"$f":"IF(B103=\"\",\"\",SUM(IF('Asphalt Plant (AP-1)'!$C$5=\"drum mix plant\",'Asphalt Plant (AP-1)'!S65,0),IF('Asphalt Plant (AP-2)'!$C$5=\"drum mix plant\",'Asphalt Plant (AP-2)'!S65,0),IF('Asphalt Plant (AP-3)'!$C$5=\"drum mix plant\",'Asphalt Plant (AP-3)'!S65,0),IF('Asphalt Plant (AP-4)'!$C$5=\"drum mix plant\",'Asphalt Plant (AP-4)'!S65,0),IF('Asphalt Plant (AP-5)'!$C$5=\"drum mix plant\",'Asphalt Plant (AP-5)'!S65,0),IF('Asphalt Plant (AP-6)'!$C$5=\"drum mix plant\",'Asphalt Plant (AP-6)'!S65,0),IF('Asphalt Plant (AP-7)'!$C$5=\"drum mix plant\",'Asphalt Plant (AP-7)'!S65,0),IF('Asphalt Plant (AP-8)'!$C$5=\"drum mix plant\",'Asphalt Plant (AP-8)'!S65,0),IF('Asphalt Plant (AP-9)'!$C$5=\"drum mix plant\",'Asphalt Plant (AP-9)'!S65,0),IF('Asphalt Plant (AP-10)'!$C$5=\"drum mix plant\",'Asphalt Plant (AP-10)'!S65,0)))","v":""},{"$f":"IF(B103=\"\",\"\",SUM(IF('Asphalt Plant (AP-1)'!$C$5=\"drum mix plant\",'Asphalt Plant (AP-1)'!T65,0),IF('Asphalt Plant (AP-2)'!$C$5=\"drum mix plant\",'Asphalt Plant (AP-2)'!T65,0),IF('Asphalt Plant (AP-3)'!$C$5=\"drum mix plant\",'Asphalt Plant (AP-3)'!T65,0),IF('Asphalt Plant (AP-4)'!$C$5=\"drum mix plant\",'Asphalt Plant (AP-4)'!T65,0),IF('Asphalt Plant (AP-5)'!$C$5=\"drum mix plant\",'Asphalt Plant (AP-5)'!T65,0),IF('Asphalt Plant (AP-6)'!$C$5=\"drum mix plant\",'Asphalt Plant (AP-6)'!T65,0),IF('Asphalt Plant (AP-7)'!$C$5=\"drum mix plant\",'Asphalt Plant (AP-7)'!T65,0),IF('Asphalt Plant (AP-8)'!$C$5=\"drum mix plant\",'Asphalt Plant (AP-8)'!T65,0),IF('Asphalt Plant (AP-9)'!$C$5=\"drum mix plant\",'Asphalt Plant (AP-9)'!T65,0),IF('Asphalt Plant (AP-10)'!$C$5=\"drum mix plant\",'Asphalt Plant (AP-10)'!T65,0)))","v":""}]
[{"$f":"IF(D104=\"\",\"\",\"ALL\")","v":""},{"$f":"IF(D104=\"\",\"\",\"Natural Gas Fired Heater\")","v":""},{"$f":"IF(B104=\"\",\"\",\"30500206\")","v":""},{"$f":"IF(SUM('Asphalt Plant (AP-1)'!N10,'Asphalt Plant (AP-2)'!N10,'Asphalt Plant (AP-3)'!N10,'Asphalt Plant (AP-4)'!N10,'Asphalt Plant (AP-5)'!N10,'Asphalt Plant (AP-6)'!N10,'Asphalt Plant (AP-7)'!N10,'Asphalt Plant (AP-8)'!N10,'Asphalt Plant (AP-9)'!N10,'Asphalt Plant (AP-10)'!N10)>0,SUM('Asphalt Plant (AP-1)'!N10,'Asphalt Plant (AP-2)'!N10,'Asphalt Plant (AP-3)'!N10,'Asphalt Plant (AP-4)'!N10,'Asphalt Plant (AP-5)'!N10,'Asphalt Plant (AP-6)'!N10,'Asphalt Plant (AP-7)'!N10,'Asphalt Plant (AP-8)'!N10,'Asphalt Plant (AP-9)'!N10,'Asphalt Plant (AP-10)'!N10),\"\")","v":""},{"$f":"IF(B104=\"\",\"\",\"MMCF/hr\")","v":""},{"$f":"IF(B104=\"\",\"\",8.9)","v":""},{"$f":"IF(B104=\"\",\"\",\"lbs/MMCF\")","v":""},{"$f":"IF(B104=\"\",\"\",\"AP-42 Table 11.1-13\")","v":""},{"$f":"IF(B104=\"\",\"\",SUM('Asphalt Plant (AP-1)'!Q66,'Asphalt Plant (AP-2)'!Q66,'Asphalt Plant (AP-3)'!Q66,'Asphalt Plant (AP-4)'!Q66,'Asphalt Plant (AP-5)'!Q66,'Asphalt Plant (AP-6)'!Q66,'Asphalt Plant (AP-7)'!Q66,'Asphalt Plant (AP-8)'!Q66,'Asphalt Plant (AP-9)'!Q66,'Asphalt Plant (AP-10)'!Q66))","v":""},null,null,{"$f":"IF(B104=\"\",\"\",SUM('Asphalt Plant (AP-1)'!S66,'Asphalt Plant (AP-2)'!S66,'Asphalt Plant (AP-3)'!S66,'Asphalt Plant (AP-4)'!S66,'Asphalt Plant (AP-5)'!S66,'Asphalt Plant (AP-6)'!S66,'Asphalt Plant (AP-7)'!S66,'Asphalt Plant (AP-8)'!S66,'Asphalt Plant (AP-9)'!S66,'Asphalt Plant (AP-10)'!S66))","v":""},{"$f":"IF(B104=\"\",\"\",SUM('Asphalt Plant (AP-1)'!T66,'Asphalt Plant (AP-2)'!T66,'Asphalt Plant (AP-3)'!T66,'Asphalt Plant (AP-4)'!T66,'Asphalt Plant (AP-5)'!T66,'Asphalt Plant (AP-6)'!T66,'Asphalt Plant (AP-7)'!T66,'Asphalt Plant (AP-8)'!T66,'Asphalt Plant (AP-9)'!T66,'Asphalt Plant (AP-10)'!T66))","v":""}]
[{"$f":"IF('Permitted Diesel Engines'!R51=0,\"\",\"ALL\")","v":""},{"$f":"IF('Permitted Diesel Engines'!R51=0,\"\",\"Diesel Generator ≤ 600 bhp\")","v":""},{"$f":"IF('Permitted Diesel Engines'!R51=0,\"\",LOOKUP(B105,'Emission Factors'!$A$43:$A$44,'Emission Factors'!$B$43:$B$44))","v":""},{"$f":"IF('Permitted Diesel Engines'!R51=0,\"\",'Permitted Diesel Engines'!R51)","v":""},{"$f":"IF(B105=\"\",\"\",\"MMBtu/hr\")","v":""},{"$f":"IF('Permitted Diesel Engines'!R51=0,\"\",LOOKUP(B105,'Emission Factors'!$A$43:$A$44,'Emission Factors'!$P$43:$P$44))","v":""},{"$f":"IF(B105=\"\",\"\",\"lb/MMBtu\")","v":""},{"$f":"IF('Permitted Diesel Engines'!R51=0,\"\",LOOKUP(B105,'Emission Factors'!$A$43:$A$44,'Emission Factors'!$Q$43:$Q$44))","v":""},{"$f":"IF(B105=\"\",\"\",D105*F105)","v":""},null,null,{"$f":"IF(B105=\"\",\"\",'Permitted Diesel Engines'!AL78)","v":""},{"$f":"IF(B105=\"\",\"\",'Permitted Diesel Engines'!$T$51*F105/2000)","v":""}]
[{"$f":"IF('Permitted Diesel Engines'!R52=0,\"\",\"ALL\")","v":""},{"$f":"IF('Permitted Diesel Engines'!R52=0,\"\",\"Diesel Generator> 600 bhp\")","v":""},{"$f":"IF('Permitted Diesel Engines'!R52=0,\"\",LOOKUP(B106,'Emission Factors'!$A$43:$A$44,'Emission Factors'!$B$43:$B$44))","v":""},{"$f":"IF('Permitted Diesel Engines'!R52=0,\"\",'Permitted Diesel Engines'!R52)","v":""},{"$f":"IF(B106=\"\",\"\",\"MMBtu/hr\")","v":""},{"$f":"IF('Permitted Diesel Engines'!R52=0,\"\",LOOKUP(B106,'Emission Factors'!$A$43:$A$44,'Emission Factors'!$P$43:$P$44))","v":""},{"$f":"IF(B106=\"\",\"\",\"lb/MMBtu\")","v":""},{"$f":"IF('Permitted Diesel Engines'!R52=0,\"\",LOOKUP(B106,'Emission Factors'!$A$43:$A$44,'Emission Factors'!$Q$43:$Q$44))","v":""},{"$f":"IF(B106=\"\",\"\",D106*F106)","v":""},null,null,{"$f":"IF(B106=\"\",\"\",'Permitted Diesel Engines'!AM78)","v":""},{"$f":"IF(B106=\"\",\"\",'Permitted Diesel Engines'!$T$52*F106/2000)","v":""}]
[null,null,null,null,null,null,{"$f":"IF(F107=\"\",\"\",\"lbs/ton\")","v":""},null,null,null,"FACILITY TOTALS:",{"$f":"SUM(L102:L106)","v":0},{"$f":"SUM(M102:M106)","v":0}]
["Hexane",null,null,null,null,null,{"$f":"IF(F108=\"\",\"\",\"lbs/ton\")","v":""}]
[{"$f":"IF(OR('Asphalt Plant (AP-1)'!$C$5=\"drum mix plant\",'Asphalt Plant (AP-2)'!$C$5=\"drum mix plant\",'Asphalt Plant (AP-3)'!$C$5=\"drum mix plant\",'Asphalt Plant (AP-4)'!$C$5=\"drum mix plant\",'Asphalt Plant (AP-5)'!$C$5=\"drum mix plant\",'Asphalt Plant (AP-6)'!$C$5=\"drum mix plant\",'Asphalt Plant (AP-7)'!$C$5=\"drum mix plant\",'Asphalt Plant (AP-8)'!$C$5=\"drum mix plant\",'Asphalt Plant (AP-9)'!$C$5=\"drum mix plant\",'Asphalt Plant (AP-10)'!$C$5=\"drum mix plant\"),\"ALL\",\"\")","v":""},{"$f":"IF(OR('Asphalt Plant (AP-1)'!$C$5=\"drum mix plant\",'Asphalt Plant (AP-2)'!$C$5=\"drum mix plant\",'Asphalt Plant (AP-3)'!$C$5=\"drum mix plant\",'Asphalt Plant (AP-4)'!$C$5=\"drum mix plant\",'Asphalt Plant (AP-5)'!$C$5=\"drum mix plant\",'Asphalt Plant (AP-6)'!$C$5=\"drum mix plant\",'Asphalt Plant (AP-7)'!$C$5=\"drum mix plant\",'Asphalt Plant (AP-8)'!$C$5=\"drum mix plant\",'Asphalt Plant (AP-9)'!$C$5=\"drum mix plant\",'Asphalt Plant (AP-10)'!$C$5=\"drum mix plant\"),\"Drum Mix Plant\",\"\")","v":""},{"$f":"IF(B109=\"\",\"\",\"30500255/58/61\")","v":""},{"$f":"IF(B109=\"\",\"\",SUM(IF('Asphalt Plant (AP-1)'!C5=\"drum mix plant\",SUM('Asphalt Plant (AP-1)'!N5:N7),0),IF('Asphalt Plant (AP-2)'!C5=\"drum mix plant\",SUM('Asphalt Plant (AP-2)'!N5:N7),0),IF('Asphalt Plant (AP-3)'!C5=\"drum mix plant\",SUM('Asphalt Plant (AP-3)'!N5:N7),0),IF('Asphalt Plant (AP-4)'!C5=\"drum mix plant\",SUM('Asphalt Plant (AP-4)'!N5:N7),0),IF('Asphalt Plant (AP-5)'!C5=\"drum mix plant\",SUM('Asphalt Plant (AP-5)'!N5:N7),0),IF('Asphalt Plant (AP-6)'!C5=\"drum mix plant\",SUM('Asphalt Plant (AP-6)'!N5:N7),0),IF('Asphalt Plant (AP-7)'!C5=\"drum mix plant\",SUM('Asphalt Plant (AP-7)'!N5:N7),0),IF('Asphalt Plant (AP-8)'!C5=\"drum mix plant\",SUM('Asphalt Plant (AP-8)'!N5:N7),0),IF('Asphalt Plant (AP-9)'!C5=\"drum mix plant\",SUM('Asphalt Plant (AP-9)'!N5:N7),0),IF('Asphalt Plant (AP-10)'!C5=\"drum mix plant\",SUM('Asphalt Plant (AP-10)'!N5:N7),0)))","v":""},{"$f":"IF(B109=\"\",\"\",\"tons/hr\")","v":""},{"$f":"IF(B109=\"\",\"\",0.00092)","v":""},{"$f":"IF(B109=\"\",\"\",\"lbs/ton\")","v":""},{"$f":"IF(B109=\"\",\"\",\"AP-42 Table 11.1-4,7,8,10\")","v":""},{"$f":"IF(B109=\"\",\"\",SUM(IF('Asphalt Plant (AP-1)'!$C$5=\"drum mix plant\",'Asphalt Plant (AP-1)'!Q68,0),IF('Asphalt Plant (AP-2)'!$C$5=\"drum mix plant\",'Asphalt Plant (AP-2)'!Q68,0),IF('Asphalt Plant (AP-3)'!$C$5=\"drum mix plant\",'Asphalt Plant (AP-3)'!Q68,0),IF('Asphalt Plant (AP-4)'!$C$5=\"drum mix plant\",'Asphalt Plant (AP-4)'!Q68,0),IF('Asphalt Plant (AP-5)'!$C$5=\"drum mix plant\",'Asphalt Plant (AP-5)'!Q68,0),IF('Asphalt Plant (AP-6)'!$C$5=\"drum mix plant\",'Asphalt Plant (AP-6)'!Q68,0),IF('Asphalt Plant (AP-7)'!$C$5=\"drum mix plant\",'Asphalt Plant (AP-7)'!Q68,0),IF('Asphalt Plant (AP-8)'!$C$5=\"drum mix plant\",'Asphalt Plant (AP-8)'!Q68,0),IF('Asphalt Plant (AP-9)'!$C$5=\"drum mix plant\",'Asphalt Plant (AP-9)'!Q68,0),IF('Asphalt Plant (AP-10)'!$C$5=\"drum mix plant\",'Asphalt Plant (AP-10)'!Q68,0)))","v":""},null,null,{"$f":"IF(B109=\"\",\"\",SUM(IF('Asphalt Plant (AP-1)'!$C$5=\"drum mix plant\",'Asphalt Plant (AP-1)'!S68,0),IF('Asphalt Plant (AP-2)'!$C$5=\"drum mix plant\",'Asphalt Plant (AP-2)'!S68,0),IF('Asphalt Plant (AP-3)'!$C$5=\"drum mix plant\",'Asphalt Plant (AP-3)'!S68,0),IF('Asphalt Plant (AP-4)'!$C$5=\"drum mix plant\",'Asphalt Plant (AP-4)'!S68,0),IF('Asphalt Plant (AP-5)'!$C$5=\"drum mix plant\",'Asphalt Plant (AP-5)'!S68,0),IF('Asphalt Plant (AP-6)'!$C$5=\"drum mix plant\",'Asphalt Plant (AP-6)'!S68,0),IF('Asphalt Plant (AP-7)'!$C$5=\"drum mix plant\",'Asphalt Plant (AP-7)'!S68,0),IF('Asphalt Plant (AP-8)'!$C$5=\"drum mix plant\",'Asphalt Plant (AP-8)'!S68,0),IF('Asphalt Plant (AP-9)'!$C$5=\"drum mix plant\",'Asphalt Plant (AP-9)'!S68,0),IF('Asphalt Plant (AP-10)'!$C$5=\"drum mix plant\",'Asphalt Plant (AP-10)'!S68,0)))","v":""},{"$f":"IF(B109=\"\",\"\",SUM(IF('Asphalt Plant (AP-1)'!$C$5=\"drum mix plant\",'Asphalt Plant (AP-1)'!T68,0),IF('Asphalt Plant (AP-2)'!$C$5=\"drum mix plant\",'Asphalt Plant (AP-2)'!T68,0),IF('Asphalt Plant (AP-3)'!$C$5=\"drum mix plant\",'Asphalt Plant (AP-3)'!T68,0),IF('Asphalt Plant (AP-4)'!$C$5=\"drum mix plant\",'Asphalt Plant (AP-4)'!T68,0),IF('Asphalt Plant (AP-5)'!$C$5=\"drum mix plant\",'Asphalt Plant (AP-5)'!T68,0),IF('Asphalt Plant (AP-6)'!$C$5=\"drum mix plant\",'Asphalt Plant (AP-6)'!T68,0),IF('Asphalt Plant (AP-7)'!$C$5=\"drum mix plant\",'Asphalt Plant (AP-7)'!T68,0),IF('Asphalt Plant (AP-8)'!$C$5=\"drum mix plant\",'Asphalt Plant (AP-8)'!T68,0),IF('Asphalt Plant (AP-9)'!$C$5=\"drum mix plant\",'Asphalt Plant (AP-9)'!T68,0),IF('Asphalt Plant (AP-10)'!$C$5=\"drum mix plant\",'Asphalt Plant (AP-10)'!T68,0)))","v":""}]
["Hydrochloric Acid"]
[{"$f":"IF(OR('Asphalt Plant (AP-1)'!$C$5=\"drum mix plant\",'Asphalt Plant (AP-2)'!$C$5=\"drum mix plant\",'Asphalt Plant (AP-3)'!$C$5=\"drum mix plant\",'Asphalt Plant (AP-4)'!$C$5=\"drum mix plant\",'Asphalt Plant (AP-5)'!$C$5=\"drum mix plant\",'Asphalt Plant (AP-6)'!$C$5=\"drum mix plant\",'Asphalt Plant (AP-7)'!$C$5=\"drum mix plant\",'Asphalt Plant (AP-8)'!$C$5=\"drum mix plant\",'Asphalt Plant (AP-9)'!$C$5=\"drum mix plant\",'Asphalt Plant (AP-10)'!$C$5=\"drum mix plant\"),\"ALL\",\"\")","v":""},{"$f":"IF(OR('Asphalt Plant (AP-1)'!$C$5=\"drum mix plant\",'Asphalt Plant (AP-2)'!$C$5=\"drum mix plant\",'Asphalt Plant (AP-3)'!$C$5=\"drum mix plant\",'Asphalt Plant (AP-4)'!$C$5=\"drum mix plant\",'Asphalt Plant (AP-5)'!$C$5=\"drum mix plant\",'Asphalt Plant (AP-6)'!$C$5=\"drum mix plant\",'Asphalt Plant (AP-7)'!$C$5=\"drum mix plant\",'Asphalt Plant (AP-8)'!$C$5=\"drum mix plant\",'Asphalt Plant (AP-9)'!$C$5=\"drum mix plant\",'Asphalt Plant (AP-10)'!$C$5=\"drum mix plant\"),\"Drum Mix Plant\",\"\")","v":""},{"$f":"IF(B111=\"\",\"\",\"30500258/61\")","v":""},{"$f":"IF(B111=\"\",\"\",SUM(IF('Asphalt Plant (AP-1)'!C5=\"drum mix plant\",SUM('Asphalt Plant (AP-1)'!N5:N6),0),IF('Asphalt Plant (AP-2)'!C5=\"drum mix plant\",SUM('Asphalt Plant (AP-2)'!N5:N6),0),IF('Asphalt Plant (AP-3)'!C5=\"drum mix plant\",SUM('Asphalt Plant (AP-3)'!N5:N6),0),IF('Asphalt Plant (AP-4)'!C5=\"drum mix plant\",SUM('Asphalt Plant (AP-4)'!N5:N6),0),IF('Asphalt Plant (AP-5)'!C5=\"drum mix plant\",SUM('Asphalt Plant (AP-5)'!N5:N6),0),IF('Asphalt Plant (AP-6)'!C5=\"drum mix plant\",SUM('Asphalt Plant (AP-6)'!N5:N6),0),IF('Asphalt Plant (AP-7)'!C5=\"drum mix plant\",SUM('Asphalt Plant (AP-7)'!N5:N6),0),IF('Asphalt Plant (AP-8)'!C5=\"drum mix plant\",SUM('Asphalt Plant (AP-8)'!N5:N6),0),IF('Asphalt Plant (AP-9)'!C5=\"drum mix plant\",SUM('Asphalt Plant (AP-9)'!N5:N6),0),IF('Asphalt Plant (AP-10)'!C5=\"drum mix plant\",SUM('Asphalt Plant (AP-10)'!N5:N6),0)))","v":""},{"$f":"IF(B111=\"\",\"\",\"tons/hr\")","v":""},{"$f":"IF(B111=\"\",\"\",0.00021)","v":""},{"$f":"IF(B111=\"\",\"\",\"lbs/ton\")","v":""},{"$f":"IF(B111=\"\",\"\",\"AP-42 Table 11.1-4,7,8,10\")","v":""},{"$f":"IF(B111=\"\",\"\",SUM(IF('Asphalt Plant (AP-1)'!$C$5=\"drum mix plant\",'Asphalt Plant (AP-1)'!Q70,0),IF('Asphalt Plant (AP-2)'!$C$5=\"drum mix plant\",'Asphalt Plant (AP-2)'!Q70,0),IF('Asphalt Plant (AP-3)'!$C$5=\"drum mix plant\",'Asphalt Plant (AP-3)'!Q70,0),IF('Asphalt Plant (AP-4)'!$C$5=\"drum mix plant\",'Asphalt Plant (AP-4)'!Q70,0),IF('Asphalt Plant (AP-5)'!$C$5=\"drum mix plant\",'Asphalt Plant (AP-5)'!Q70,0),IF('Asphalt Plant (AP-6)'!$C$5=\"drum mix plant\",'Asphalt Plant (AP-6)'!Q70,0),IF('Asphalt Plant (AP-7)'!$C$5=\"drum mix plant\",'Asphalt Plant (AP-7)'!Q70,0),IF('Asphalt Plant (AP-8)'!$C$5=\"drum mix plant\",'Asphalt Plant (AP-8)'!Q70,0),IF('Asphalt Plant (AP-9)'!$C$5=\"drum mix plant\",'Asphalt Plant (AP-9)'!Q70,0),IF('Asphalt Plant (AP-10)'!$C$5=\"drum mix plant\",'Asphalt Plant (AP-10)'!Q70,0)))","v":""},null,null,{"$f":"IF(B111=\"\",\"\",SUM(IF('Asphalt Plant (AP-1)'!$C$5=\"drum mix plant\",'Asphalt Plant (AP-1)'!S70,0),IF('Asphalt Plant (AP-2)'!$C$5=\"drum mix plant\",'Asphalt Plant (AP-2)'!S70,0),IF('Asphalt Plant (AP-3)'!$C$5=\"drum mix plant\",'Asphalt Plant (AP-3)'!S70,0),IF('Asphalt Plant (AP-4)'!$C$5=\"drum mix plant\",'Asphalt Plant (AP-4)'!S70,0),IF('Asphalt Plant (AP-5)'!$C$5=\"drum mix plant\",'Asphalt Plant (AP-5)'!S70,0),IF('Asphalt Plant (AP-6)'!$C$5=\"drum mix plant\",'Asphalt Plant (AP-6)'!S70,0),IF('Asphalt Plant (AP-7)'!$C$5=\"drum mix plant\",'Asphalt Plant (AP-7)'!S70,0),IF('Asphalt Plant (AP-8)'!$C$5=\"drum mix plant\",'Asphalt Plant (AP-8)'!S70,0),IF('Asphalt Plant (AP-9)'!$C$5=\"drum mix plant\",'Asphalt Plant (AP-9)'!S70,0),IF('Asphalt Plant (AP-10)'!$C$5=\"drum mix plant\",'Asphalt Plant (AP-10)'!S70,0)))","v":""},{"$f":"IF(B111=\"\",\"\",SUM(IF('Asphalt Plant (AP-1)'!$C$5=\"drum mix plant\",'Asphalt Plant (AP-1)'!T70,0),IF('Asphalt Plant (AP-2)'!$C$5=\"drum mix plant\",'Asphalt Plant (AP-2)'!T70,0),IF('Asphalt Plant (AP-3)'!$C$5=\"drum mix plant\",'Asphalt Plant (AP-3)'!T70,0),IF('Asphalt Plant (AP-4)'!$C$5=\"drum mix plant\",'Asphalt Plant (AP-4)'!T70,0),IF('Asphalt Plant (AP-5)'!$C$5=\"drum mix plant\",'Asphalt Plant (AP-5)'!T70,0),IF('Asphalt Plant (AP-6)'!$C$5=\"drum mix plant\",'Asphalt Plant (AP-6)'!T70,0),IF('Asphalt Plant (AP-7)'!$C$5=\"drum mix plant\",'Asphalt Plant (AP-7)'!T70,0),IF('Asphalt Plant (AP-8)'!$C$5=\"drum mix plant\",'Asphalt Plant (AP-8)'!T70,0),IF('Asphalt Plant (AP-9)'!$C$5=\"drum mix plant\",'Asphalt Plant (AP-9)'!T70,0),IF('Asphalt Plant (AP-10)'!$C$5=\"drum mix plant\",'Asphalt Plant (AP-10)'!T70,0)))","v":""}]
["Methyl Chloroform"]
[{"$f":"IF(OR('Asphalt Plant (AP-1)'!$C$5=\"drum mix plant\",'Asphalt Plant (AP-2)'!$C$5=\"drum mix plant\",'Asphalt Plant (AP-3)'!$C$5=\"drum mix plant\",'Asphalt Plant (AP-4)'!$C$5=\"drum mix plant\",'Asphalt Plant (AP-5)'!$C$5=\"drum mix plant\",'Asphalt Plant (AP-6)'!$C$5=\"drum mix plant\",'Asphalt Plant (AP-7)'!$C$5=\"drum mix plant\",'Asphalt Plant (AP-8)'!$C$5=\"drum mix plant\",'Asphalt Plant (AP-9)'!$C$5=\"drum mix plant\",'Asphalt Plant (AP-10)'!$C$5=\"drum mix plant\"),\"ALL\",\"\")","v":""},{"$f":"IF(OR('Asphalt Plant (AP-1)'!$C$5=\"drum mix plant\",'Asphalt Plant (AP-2)'!$C$5=\"drum mix plant\",'Asphalt Plant (AP-3)'!$C$5=\"drum mix plant\",'Asphalt Plant (AP-4)'!$C$5=\"drum mix plant\",'Asphalt Plant (AP-5)'!$C$5=\"drum mix plant\",'Asphalt Plant (AP-6)'!$C$5=\"drum mix plant\",'Asphalt Plant (AP-7)'!$C$5=\"drum mix plant\",'Asphalt Plant (AP-8)'!$C$5=\"drum mix plant\",'Asphalt Plant (AP-9)'!$C$5=\"drum mix plant\",'Asphalt Plant (AP-10)'!$C$5=\"drum mix plant\"),\"Drum Mix Plant\",\"\")","v":""},{"$f":"IF(B113=\"\",\"\",\"30500255/58/61\")","v":""},{"$f":"IF(B113=\"\",\"\",SUM(IF('Asphalt Plant (AP-1)'!C5=\"drum mix plant\",SUM('Asphalt Plant (AP-1)'!N5:N7),0),IF('Asphalt Plant (AP-2)'!C5=\"drum mix plant\",SUM('Asphalt Plant (AP-2)'!N5:N7),0),IF('Asphalt Plant (AP-3)'!C5=\"drum mix plant\",SUM('Asphalt Plant (AP-3)'!N5:N7),0),IF('Asphalt Plant (AP-4)'!C5=\"drum mix plant\",SUM('Asphalt Plant (AP-4)'!N5:N7),0),IF('Asphalt Plant (AP-5)'!C5=\"drum mix plant\",SUM('Asphalt Plant (AP-5)'!N5:N7),0),IF('Asphalt Plant (AP-6)'!C5=\"drum mix plant\",SUM('Asphalt Plant (AP-6)'!N5:N7),0),IF('Asphalt Plant (AP-7)'!C5=\"drum mix plant\",SUM('Asphalt Plant (AP-7)'!N5:N7),0),IF('Asphalt Plant (AP-8)'!C5=\"drum mix plant\",SUM('Asphalt Plant (AP-8)'!N5:N7),0),IF('Asphalt Plant (AP-9)'!C5=\"drum mix plant\",SUM('Asphalt Plant (AP-9)'!N5:N7),0),IF('Asphalt Plant (AP-10)'!C5=\"drum mix plant\",SUM('Asphalt Plant (AP-10)'!N5:N7),0)))","v":""},{"$f":"IF(B113=\"\",\"\",\"tons/hr\")","v":""},{"$f":"IF(B113=\"\",\"\",0.000048)","v":""},{"$f":"IF(B113=\"\",\"\",\"lbs/ton\")","v":""},{"$f":"IF(B113=\"\",\"\",\"AP-42 Table 11.1-4,7,8,10\")","v":""},{"$f":"IF(B113=\"\",\"\",SUM(IF('Asphalt Plant (AP-1)'!$C$5=\"drum mix plant\",'Asphalt Plant (AP-1)'!Q72,0),IF('Asphalt Plant (AP-2)'!$C$5=\"drum mix plant\",'Asphalt Plant (AP-2)'!Q72,0),IF('Asphalt Plant (AP-3)'!$C$5=\"drum mix plant\",'Asphalt Plant (AP-3)'!Q72,0),IF('Asphalt Plant (AP-4)'!$C$5=\"drum mix plant\",'Asphalt Plant (AP-4)'!Q72,0),IF('Asphalt Plant (AP-5)'!$C$5=\"drum mix plant\",'Asphalt Plant (AP-5)'!Q72,0),IF('Asphalt Plant (AP-6)'!$C$5=\"drum mix plant\",'Asphalt Plant (AP-6)'!Q72,0),IF('Asphalt Plant (AP-7)'!$C$5=\"drum mix plant\",'Asphalt Plant (AP-7)'!Q72,0),IF('Asphalt Plant (AP-8)'!$C$5=\"drum mix plant\",'Asphalt Plant (AP-8)'!Q72,0),IF('Asphalt Plant (AP-9)'!$C$5=\"drum mix plant\",'Asphalt Plant (AP-9)'!Q72,0),IF('Asphalt Plant (AP-10)'!$C$5=\"drum mix plant\",'Asphalt Plant (AP-10)'!Q72,0)))","v":""},null,null,{"$f":"IF(B113=\"\",\"\",SUM(IF('Asphalt Plant (AP-1)'!$C$5=\"drum mix plant\",'Asphalt Plant (AP-1)'!S72,0),IF('Asphalt Plant (AP-2)'!$C$5=\"drum mix plant\",'Asphalt Plant (AP-2)'!S72,0),IF('Asphalt Plant (AP-3)'!$C$5=\"drum mix plant\",'Asphalt Plant (AP-3)'!S72,0),IF('Asphalt Plant (AP-4)'!$C$5=\"drum mix plant\",'Asphalt Plant (AP-4)'!S72,0),IF('Asphalt Plant (AP-5)'!$C$5=\"drum mix plant\",'Asphalt Plant (AP-5)'!S72,0),IF('Asphalt Plant (AP-6)'!$C$5=\"drum mix plant\",'Asphalt Plant (AP-6)'!S72,0),IF('Asphalt Plant (AP-7)'!$C$5=\"drum mix plant\",'Asphalt Plant (AP-7)'!S72,0),IF('Asphalt Plant (AP-8)'!$C$5=\"drum mix plant\",'Asphalt Plant (AP-8)'!S72,0),IF('Asphalt Plant (AP-9)'!$C$5=\"drum mix plant\",'Asphalt Plant (AP-9)'!S72,0),IF('Asphalt Plant (AP-10)'!$C$5=\"drum mix plant\",'Asphalt Plant (AP-10)'!S72,0)))","v":""},{"$f":"IF(B113=\"\",\"\",SUM(IF('Asphalt Plant (AP-1)'!$C$5=\"drum mix plant\",'Asphalt Plant (AP-1)'!T72,0),IF('Asphalt Plant (AP-2)'!$C$5=\"drum mix plant\",'Asphalt Plant (AP-2)'!T72,0),IF('Asphalt Plant (AP-3)'!$C$5=\"drum mix plant\",'Asphalt Plant (AP-3)'!T72,0),IF('Asphalt Plant (AP-4)'!$C$5=\"drum mix plant\",'Asphalt Plant (AP-4)'!T72,0),IF('Asphalt Plant (AP-5)'!$C$5=\"drum mix plant\",'Asphalt Plant (AP-5)'!T72,0),IF('Asphalt Plant (AP-6)'!$C$5=\"drum mix plant\",'Asphalt Plant (AP-6)'!T72,0),IF('Asphalt Plant (AP-7)'!$C$5=\"drum mix plant\",'Asphalt Plant (AP-7)'!T72,0),IF('Asphalt Plant (AP-8)'!$C$5=\"drum mix plant\",'Asphalt Plant (AP-8)'!T72,0),IF('Asphalt Plant (AP-9)'!$C$5=\"drum mix plant\",'Asphalt Plant (AP-9)'!T72,0),IF('Asphalt Plant (AP-10)'!$C$5=\"drum mix plant\",'Asphalt Plant (AP-10)'!T72,0)))","v":""}]
["Propionaldehyde"]
[{"$f":"IF(OR('Asphalt Plant (AP-1)'!$C$5=\"drum mix plant\",'Asphalt Plant (AP-2)'!$C$5=\"drum mix plant\",'Asphalt Plant (AP-3)'!$C$5=\"drum mix plant\",'Asphalt Plant (AP-4)'!$C$5=\"drum mix plant\",'Asphalt Plant (AP-5)'!$C$5=\"drum mix plant\",'Asphalt Plant (AP-6)'!$C$5=\"drum mix plant\",'Asphalt Plant (AP-7)'!$C$5=\"drum mix plant\",'Asphalt Plant (AP-8)'!$C$5=\"drum mix plant\",'Asphalt Plant (AP-9)'!$C$5=\"drum mix plant\",'Asphalt Plant (AP-10)'!$C$5=\"drum mix plant\"),\"ALL\",\"\")","v":""},{"$f":"IF(OR('Asphalt Plant (AP-1)'!$C$5=\"drum mix plant\",'Asphalt Plant (AP-2)'!$C$5=\"drum mix plant\",'Asphalt Plant (AP-3)'!$C$5=\"drum mix plant\",'Asphalt Plant (AP-4)'!$C$5=\"drum mix plant\",'Asphalt Plant (AP-5)'!$C$5=\"drum mix plant\",'Asphalt Plant (AP-6)'!$C$5=\"drum mix plant\",'Asphalt Plant (AP-7)'!$C$5=\"drum mix plant\",'Asphalt Plant (AP-8)'!$C$5=\"drum mix plant\",'Asphalt Plant (AP-9)'!$C$5=\"drum mix plant\",'Asphalt Plant (AP-10)'!$C$5=\"drum mix plant\"),\"Drum Mix Plant\",\"\")","v":""},{"$f":"IF(B115=\"\",\"\",\"30500258/61\")","v":""},{"$f":"IF(B115=\"\",\"\",SUM(IF('Asphalt Plant (AP-1)'!C5=\"drum mix plant\",SUM('Asphalt Plant (AP-1)'!N5:N6),0),IF('Asphalt Plant (AP-2)'!C5=\"drum mix plant\",SUM('Asphalt Plant (AP-2)'!N5:N6),0),IF('Asphalt Plant (AP-3)'!C5=\"drum mix plant\",SUM('Asphalt Plant (AP-3)'!N5:N6),0),IF('Asphalt Plant (AP-4)'!C5=\"drum mix plant\",SUM('Asphalt Plant (AP-4)'!N5:N6),0),IF('Asphalt Plant (AP-5)'!C5=\"drum mix plant\",SUM('Asphalt Plant (AP-5)'!N5:N6),0),IF('Asphalt Plant (AP-6)'!C5=\"drum mix plant\",SUM('Asphalt Plant (AP-6)'!N5:N6),0),IF('Asphalt Plant (AP-7)'!C5=\"drum mix plant\",SUM('Asphalt Plant (AP-7)'!N5:N6),0),IF('Asphalt Plant (AP-8)'!C5=\"drum mix plant\",SUM('Asphalt Plant (AP-8)'!N5:N6),0),IF('Asphalt Plant (AP-9)'!C5=\"drum mix plant\",SUM('Asphalt Plant (AP-9)'!N5:N6),0),IF('Asphalt Plant (AP-10)'!C5=\"drum mix plant\",SUM('Asphalt Plant (AP-10)'!N5:N6),0)))","v":""},{"$f":"IF(B115=\"\",\"\",\"tons/hr\")","v":""},{"$f":"IF(B115=\"\",\"\",0.00013)","v":""},{"$f":"IF(B115=\"\",\"\",\"lbs/ton\")","v":""},{"$f":"IF(B115=\"\",\"\",\"AP-42 Table 11.1-4,7,8,10\")","v":""},{"$f":"IF(B115=\"\",\"\",SUM(IF('Asphalt Plant (AP-1)'!$C$5=\"drum mix plant\",'Asphalt Plant (AP-1)'!Q74,0),IF('Asphalt Plant (AP-2)'!$C$5=\"drum mix plant\",'Asphalt Plant (AP-2)'!Q74,0),IF('Asphalt Plant (AP-3)'!$C$5=\"drum mix plant\",'Asphalt Plant (AP-3)'!Q74,0),IF('Asphalt Plant (AP-4)'!$C$5=\"drum mix plant\",'Asphalt Plant (AP-4)'!Q74,0),IF('Asphalt Plant (AP-5)'!$C$5=\"drum mix plant\",'Asphalt Plant (AP-5)'!Q74,0),IF('Asphalt Plant (AP-6)'!$C$5=\"drum mix plant\",'Asphalt Plant (AP-6)'!Q74,0),IF('Asphalt Plant (AP-7)'!$C$5=\"drum mix plant\",'Asphalt Plant (AP-7)'!Q74,0),IF('Asphalt Plant (AP-8)'!$C$5=\"drum mix plant\",'Asphalt Plant (AP-8)'!Q74,0),IF('Asphalt Plant (AP-9)'!$C$5=\"drum mix plant\",'Asphalt Plant (AP-9)'!Q74,0),IF('Asphalt Plant (AP-10)'!$C$5=\"drum mix plant\",'Asphalt Plant (AP-10)'!Q74,0)))","v":""},null,null,{"$f":"IF(B115=\"\",\"\",SUM(IF('Asphalt Plant (AP-1)'!$C$5=\"drum mix plant\",'Asphalt Plant (AP-1)'!S74,0),IF('Asphalt Plant (AP-2)'!$C$5=\"drum mix plant\",'Asphalt Plant (AP-2)'!S74,0),IF('Asphalt Plant (AP-3)'!$C$5=\"drum mix plant\",'Asphalt Plant (AP-3)'!S74,0),IF('Asphalt Plant (AP-4)'!$C$5=\"drum mix plant\",'Asphalt Plant (AP-4)'!S74,0),IF('Asphalt Plant (AP-5)'!$C$5=\"drum mix plant\",'Asphalt Plant (AP-5)'!S74,0),IF('Asphalt Plant (AP-6)'!$C$5=\"drum mix plant\",'Asphalt Plant (AP-6)'!S74,0),IF('Asphalt Plant (AP-7)'!$C$5=\"drum mix plant\",'Asphalt Plant (AP-7)'!S74,0),IF('Asphalt Plant (AP-8)'!$C$5=\"drum mix plant\",'Asphalt Plant (AP-8)'!S74,0),IF('Asphalt Plant (AP-9)'!$C$5=\"drum mix plant\",'Asphalt Plant (AP-9)'!S74,0),IF('Asphalt Plant (AP-10)'!$C$5=\"drum mix plant\",'Asphalt Plant (AP-10)'!S74,0)))","v":""},{"$f":"IF(B115=\"\",\"\",SUM(IF('Asphalt Plant (AP-1)'!$C$5=\"drum mix plant\",'Asphalt Plant (AP-1)'!T74,0),IF('Asphalt Plant (AP-2)'!$C$5=\"drum mix plant\",'Asphalt Plant (AP-2)'!T74,0),IF('Asphalt Plant (AP-3)'!$C$5=\"drum mix plant\",'Asphalt Plant (AP-3)'!T74,0),IF('Asphalt Plant (AP-4)'!$C$5=\"drum mix plant\",'Asphalt Plant (AP-4)'!T74,0),IF('Asphalt Plant (AP-5)'!$C$5=\"drum mix plant\",'Asphalt Plant (AP-5)'!T74,0),IF('Asphalt Plant (AP-6)'!$C$5=\"drum mix plant\",'Asphalt Plant (AP-6)'!T74,0),IF('Asphalt Plant (AP-7)'!$C$5=\"drum mix plant\",'Asphalt Plant (AP-7)'!T74,0),IF('Asphalt Plant (AP-8)'!$C$5=\"drum mix plant\",'Asphalt Plant (AP-8)'!T74,0),IF('Asphalt Plant (AP-9)'!$C$5=\"drum mix plant\",'Asphalt Plant (AP-9)'!T74,0),IF('Asphalt Plant (AP-10)'!$C$5=\"drum mix plant\",'Asphalt Plant (AP-10)'!T74,0)))","v":""}]
["Quinone",null,null,null,null,null,null,{"$f":"IF(F116=\"\",\"\",LOOKUP(B116,'[1]Emission Factors'!$A$5:$A$10,'[1]Emission Factors'!$D$5:$D$10))","v":""}]
[{"$f":"IF(OR('Asphalt Plant (AP-1)'!$C$5=\"batch mix plant\",'Asphalt Plant (AP-2)'!$C$5=\"batch mix plant\",'Asphalt Plant (AP-3)'!$C$5=\"batch mix plant\",'Asphalt Plant (AP-4)'!$C$5=\"batch mix plant\",'Asphalt Plant (AP-5)'!$C$5=\"batch mix plant\",'Asphalt Plant (AP-6)'!$C$5=\"batch mix plant\",'Asphalt Plant (AP-7)'!$C$5=\"batch mix plant\",'Asphalt Plant (AP-8)'!$C$5=\"batch mix plant\",'Asphalt Plant (AP-9)'!$C$5=\"batch mix plant\",'Asphalt Plant (AP-10)'!$C$5=\"batch mix plant\"),\"ALL\",\"\")","v":""},{"$f":"IF(OR('Asphalt Plant (AP-1)'!$C$5=\"batch mix plant\",'Asphalt Plant (AP-2)'!$C$5=\"batch mix plant\",'Asphalt Plant (AP-3)'!$C$5=\"batch mix plant\",'Asphalt Plant (AP-4)'!$C$5=\"batch mix plant\",'Asphalt Plant (AP-5)'!$C$5=\"batch mix plant\",'Asphalt Plant (AP-6)'!$C$5=\"batch mix plant\",'Asphalt Plant (AP-7)'!$C$5=\"batch mix plant\",'Asphalt Plant (AP-8)'!$C$5=\"batch mix plant\",'Asphalt Plant (AP-9)'!$C$5=\"batch mix plant\",'Asphalt Plant (AP-10)'!$C$5=\"batch mix plant\"),\"Batch Mix Plant\",\"\")","v":""},{"$f":"IF(B117=\"\",\"\",\"30500245/46/47\")","v":""},{"$f":"IF(B117=\"\",\"\",SUM(IF('Asphalt Plant (AP-1)'!C5=\"batch mix plant\",SUM('Asphalt Plant (AP-1)'!N5:N7),0),IF('Asphalt Plant (AP-2)'!C5=\"batch mix plant\",SUM('Asphalt Plant (AP-2)'!N5:N7),0),IF('Asphalt Plant (AP-3)'!C5=\"batch mix plant\",SUM('Asphalt Plant (AP-3)'!N5:N7),0),IF('Asphalt Plant (AP-4)'!C5=\"batch mix plant\",SUM('Asphalt Plant (AP-4)'!N5:N7),0),IF('Asphalt Plant (AP-5)'!C5=\"batch mix plant\",SUM('Asphalt Plant (AP-5)'!N5:N7),0),IF('Asphalt Plant (AP-6)'!C5=\"batch mix plant\",SUM('Asphalt Plant (AP-6)'!N5:N7),0),IF('Asphalt Plant (AP-7)'!C5=\"batch mix plant\",SUM('Asphalt Plant (AP-7)'!N5:N7),0),IF('Asphalt Plant (AP-8)'!C5=\"batch mix plant\",SUM('Asphalt Plant (AP-8)'!N5:N7),0),IF('Asphalt Plant (AP-9)'!C5=\"batch mix plant\",SUM('Asphalt Plant (AP-9)'!N5:N7),0),IF('Asphalt Plant (AP-10)'!C5=\"batch mix plant\",SUM('Asphalt Plant (AP-10)'!N5:N7),0)))","v":""},{"$f":"IF(B117=\"\",\"\",\"tons/hr\")","v":""},{"$f":"IF(B117=\"\",\"\",0.00027)","v":""},{"$f":"IF(B117=\"\",\"\",\"lbs/ton\")","v":""},{"$f":"IF(B117=\"\",\"\",\"AP-42 Table 11.1-2,5,6,9\")","v":""},{"$f":"IF(B117=\"\",\"\",SUM(IF('Asphalt Plant (AP-1)'!$C$5=\"batch mix plant\",'Asphalt Plant (AP-1)'!Q76,0),IF('Asphalt Plant (AP-2)'!$C$5=\"batch mix plant\",'Asphalt Plant (AP-2)'!Q76,0),IF('Asphalt Plant (AP-3)'!$C$5=\"batch mix plant\",'Asphalt Plant (AP-3)'!Q76,0),IF('Asphalt Plant (AP-4)'!$C$5=\"batch mix plant\",'Asphalt Plant (AP-4)'!Q76,0),IF('Asphalt Plant (AP-5)'!$C$5=\"batch mix plant\",'Asphalt Plant (AP-5)'!Q76,0),IF('Asphalt Plant (AP-6)'!$C$5=\"batch mix plant\",'Asphalt Plant (AP-6)'!Q76,0),IF('Asphalt Plant (AP-7)'!$C$5=\"batch mix plant\",'Asphalt Plant (AP-7)'!Q76,0),IF('Asphalt Plant (AP-8)'!$C$5=\"batch mix plant\",'Asphalt Plant (AP-8)'!Q76,0),IF('Asphalt Plant (AP-9)'!$C$5=\"batch mix plant\",'Asphalt Plant (AP-9)'!Q76,0),IF('Asphalt Plant (AP-10)'!$C$5=\"batch mix plant\",'Asphalt Plant (AP-10)'!Q76,0)))","v":""},null,null,{"$f":"IF(B117=\"\",\"\",SUM(IF('Asphalt Plant (AP-1)'!$C$5=\"batch mix plant\",'Asphalt Plant (AP-1)'!S76,0),IF('Asphalt Plant (AP-2)'!$C$5=\"batch mix plant\",'Asphalt Plant (AP-2)'!S76,0),IF('Asphalt Plant (AP-3)'!$C$5=\"batch mix plant\",'Asphalt Plant (AP-3)'!S76,0),IF('Asphalt Plant (AP-4)'!$C$5=\"batch mix plant\",'Asphalt Plant (AP-4)'!S76,0),IF('Asphalt Plant (AP-5)'!$C$5=\"batch mix plant\",'Asphalt Plant (AP-5)'!S76,0),IF('Asphalt Plant (AP-6)'!$C$5=\"batch mix plant\",'Asphalt Plant (AP-6)'!S76,0),IF('Asphalt Plant (AP-7)'!$C$5=\"batch mix plant\",'Asphalt Plant (AP-7)'!S76,0),IF('Asphalt Plant (AP-8)'!$C$5=\"batch mix plant\",'Asphalt Plant (AP-8)'!S76,0),IF('Asphalt Plant (AP-9)'!$C$5=\"batch mix plant\",'Asphalt Plant (AP-9)'!S76,0),IF('Asphalt Plant (AP-10)'!$C$5=\"batch mix plant\",'Asphalt Plant (AP-10)'!S76,0)))","v":""},{"$f":"IF(B117=\"\",\"\",SUM(IF('Asphalt Plant (AP-1)'!$C$5=\"batch mix plant\",'Asphalt Plant (AP-1)'!T76,0),IF('Asphalt Plant (AP-2)'!$C$5=\"batch mix plant\",'Asphalt Plant (AP-2)'!T76,0),IF('Asphalt Plant (AP-3)'!$C$5=\"batch mix plant\",'Asphalt Plant (AP-3)'!T76,0),IF('Asphalt Plant (AP-4)'!$C$5=\"batch mix plant\",'Asphalt Plant (AP-4)'!T76,0),IF('Asphalt Plant (AP-5)'!$C$5=\"batch mix plant\",'Asphalt Plant (AP-5)'!T76,0),IF('Asphalt Plant (AP-6)'!$C$5=\"batch mix plant\",'Asphalt Plant (AP-6)'!T76,0),IF('Asphalt Plant (AP-7)'!$C$5=\"batch mix plant\",'Asphalt Plant (AP-7)'!T76,0),IF('Asphalt Plant (AP-8)'!$C$5=\"batch mix plant\",'Asphalt Plant (AP-8)'!T76,0),IF('Asphalt Plant (AP-9)'!$C$5=\"batch mix plant\",'Asphalt Plant (AP-9)'!T76,0),IF('Asphalt Plant (AP-10)'!$C$5=\"batch mix plant\",'Asphalt Plant (AP-10)'!T76,0)))","v":""}]
[{"$f":"IF(OR('Asphalt Plant (AP-1)'!$C$5=\"drum mix plant\",'Asphalt Plant (AP-2)'!$C$5=\"drum mix plant\",'Asphalt Plant (AP-3)'!$C$5=\"drum mix plant\",'Asphalt Plant (AP-4)'!$C$5=\"drum mix plant\",'Asphalt Plant (AP-5)'!$C$5=\"drum mix plant\",'Asphalt Plant (AP-6)'!$C$5=\"drum mix plant\",'Asphalt Plant (AP-7)'!$C$5=\"drum mix plant\",'Asphalt Plant (AP-8)'!$C$5=\"drum mix plant\",'Asphalt Plant (AP-9)'!$C$5=\"drum mix plant\",'Asphalt Plant (AP-10)'!$C$5=\"drum mix plant\"),\"ALL\",\"\")","v":""},{"$f":"IF(OR('Asphalt Plant (AP-1)'!$C$5=\"drum mix plant\",'Asphalt Plant (AP-2)'!$C$5=\"drum mix plant\",'Asphalt Plant (AP-3)'!$C$5=\"drum mix plant\",'Asphalt Plant (AP-4)'!$C$5=\"drum mix plant\",'Asphalt Plant (AP-5)'!$C$5=\"drum mix plant\",'Asphalt Plant (AP-6)'!$C$5=\"drum mix plant\",'Asphalt Plant (AP-7)'!$C$5=\"drum mix plant\",'Asphalt Plant (AP-8)'!$C$5=\"drum mix plant\",'Asphalt Plant (AP-9)'!$C$5=\"drum mix plant\",'Asphalt Plant (AP-10)'!$C$5=\"drum mix plant\"),\"Drum Mix Plant\",\"\")","v":""},{"$f":"IF(B118=\"\",\"\",\"30500258/61\")","v":""},{"$f":"IF(B118=\"\",\"\",SUM(IF('Asphalt Plant (AP-1)'!C5=\"drum mix plant\",SUM('Asphalt Plant (AP-1)'!N5:N6),0),IF('Asphalt Plant (AP-2)'!C5=\"drum mix plant\",SUM('Asphalt Plant (AP-2)'!N5:N6),0),IF('Asphalt Plant (AP-3)'!C5=\"drum mix plant\",SUM('Asphalt Plant (AP-3)'!N5:N6),0),IF('Asphalt Plant (AP-4)'!C5=\"drum mix plant\",SUM('Asphalt Plant (AP-4)'!N5:N6),0),IF('Asphalt Plant (AP-5)'!C5=\"drum mix plant\",SUM('Asphalt Plant (AP-5)'!N5:N6),0),IF('Asphalt Plant (AP-6)'!C5=\"drum mix plant\",SUM('Asphalt Plant (AP-6)'!N5:N6),0),IF('Asphalt Plant (AP-7)'!C5=\"drum mix plant\",SUM('Asphalt Plant (AP-7)'!N5:N6),0),IF('Asphalt Plant (AP-8)'!C5=\"drum mix plant\",SUM('Asphalt Plant (AP-8)'!N5:N6),0),IF('Asphalt Plant (AP-9)'!C5=\"drum mix plant\",SUM('Asphalt Plant (AP-9)'!N5:N6),0),IF('Asphalt Plant (AP-10)'!C5=\"drum mix plant\",SUM('Asphalt Plant (AP-10)'!N5:N6),0)))","v":""},{"$f":"IF(B118=\"\",\"\",\"tons/hr\")","v":""},{"$f":"IF(B118=\"\",\"\",0.00016)","v":""},{"$f":"IF(B118=\"\",\"\",\"lbs/ton\")","v":""},{"$f":"IF(B118=\"\",\"\",\"AP-42 Table 11.1-4,7,8,10\")","v":""},{"$f":"IF(B118=\"\",\"\",SUM(IF('Asphalt Plant (AP-1)'!$C$5=\"drum mix plant\",'Asphalt Plant (AP-1)'!Q76,0),IF('Asphalt Plant (AP-2)'!$C$5=\"drum mix plant\",'Asphalt Plant (AP-2)'!Q76,0),IF('Asphalt Plant (AP-3)'!$C$5=\"drum mix plant\",'Asphalt Plant (AP-3)'!Q76,0),IF('Asphalt Plant (AP-4)'!$C$5=\"drum mix plant\",'Asphalt Plant (AP-4)'!Q76,0),IF('Asphalt Plant (AP-5)'!$C$5=\"drum mix plant\",'Asphalt Plant (AP-5)'!Q76,0),IF('Asphalt Plant (AP-6)'!$C$5=\"drum mix plant\",'Asphalt Plant (AP-6)'!Q76,0),IF('Asphalt Plant (AP-7)'!$C$5=\"drum mix plant\",'Asphalt Plant (AP-7)'!Q76,0),IF('Asphalt Plant (AP-8)'!$C$5=\"drum mix plant\",'Asphalt Plant (AP-8)'!Q76,0),IF('Asphalt Plant (AP-9)'!$C$5=\"drum mix plant\",'Asphalt Plant (AP-9)'!Q76,0),IF('Asphalt Plant (AP-10)'!$C$5=\"drum mix plant\",'Asphalt Plant (AP-10)'!Q76,0)))","v":""},null,null,{"$f":"IF(B118=\"\",\"\",SUM(IF('Asphalt Plant (AP-1)'!$C$5=\"drum mix plant\",'Asphalt Plant (AP-1)'!S76,0),IF('Asphalt Plant (AP-2)'!$C$5=\"drum mix plant\",'Asphalt Plant (AP-2)'!S76,0),IF('Asphalt Plant (AP-3)'!$C$5=\"drum mix plant\",'Asphalt Plant (AP-3)'!S76,0),IF('Asphalt Plant (AP-4)'!$C$5=\"drum mix plant\",'Asphalt Plant (AP-4)'!S76,0),IF('Asphalt Plant (AP-5)'!$C$5=\"drum mix plant\",'Asphalt Plant (AP-5)'!S76,0),IF('Asphalt Plant (AP-6)'!$C$5=\"drum mix plant\",'Asphalt Plant (AP-6)'!S76,0),IF('Asphalt Plant (AP-7)'!$C$5=\"drum mix plant\",'Asphalt Plant (AP-7)'!S76,0),IF('Asphalt Plant (AP-8)'!$C$5=\"drum mix plant\",'Asphalt Plant (AP-8)'!S76,0),IF('Asphalt Plant (AP-9)'!$C$5=\"drum mix plant\",'Asphalt Plant (AP-9)'!S76,0),IF('Asphalt Plant (AP-10)'!$C$5=\"drum mix plant\",'Asphalt Plant (AP-10)'!S76,0)))","v":""},{"$f":"IF(B118=\"\",\"\",SUM(IF('Asphalt Plant (AP-1)'!$C$5=\"drum mix plant\",'Asphalt Plant (AP-1)'!T76,0),IF('Asphalt Plant (AP-2)'!$C$5=\"drum mix plant\",'Asphalt Plant (AP-2)'!T76,0),IF('Asphalt Plant (AP-3)'!$C$5=\"drum mix plant\",'Asphalt Plant (AP-3)'!T76,0),IF('Asphalt Plant (AP-4)'!$C$5=\"drum mix plant\",'Asphalt Plant (AP-4)'!T76,0),IF('Asphalt Plant (AP-5)'!$C$5=\"drum mix plant\",'Asphalt Plant (AP-5)'!T76,0),IF('Asphalt Plant (AP-6)'!$C$5=\"drum mix plant\",'Asphalt Plant (AP-6)'!T76,0),IF('Asphalt Plant (AP-7)'!$C$5=\"drum mix plant\",'Asphalt Plant (AP-7)'!T76,0),IF('Asphalt Plant (AP-8)'!$C$5=\"drum mix plant\",'Asphalt Plant (AP-8)'!T76,0),IF('Asphalt Plant (AP-9)'!$C$5=\"drum mix plant\",'Asphalt Plant (AP-9)'!T76,0),IF('Asphalt Plant (AP-10)'!$C$5=\"drum mix plant\",'Asphalt Plant (AP-10)'!T76,0)))","v":""}]
["Toluene",null,null,null,null,null,null,{"$f":"IF(F119=\"\",\"\",LOOKUP(B119,'[1]Emission Factors'!$A$5:$A$10,'[1]Emission Factors'!$D$5:$D$10))","v":""}]
[{"$f":"IF(OR('Asphalt Plant (AP-1)'!$C$5=\"batch mix plant\",'Asphalt Plant (AP-2)'!$C$5=\"batch mix plant\",'Asphalt Plant (AP-3)'!$C$5=\"batch mix plant\",'Asphalt Plant (AP-4)'!$C$5=\"batch mix plant\",'Asphalt Plant (AP-5)'!$C$5=\"batch mix plant\",'Asphalt Plant (AP-6)'!$C$5=\"batch mix plant\",'Asphalt Plant (AP-7)'!$C$5=\"batch mix plant\",'Asphalt Plant (AP-8)'!$C$5=\"batch mix plant\",'Asphalt Plant (AP-9)'!$C$5=\"batch mix plant\",'Asphalt Plant (AP-10)'!$C$5=\"batch mix plant\"),\"ALL\",\"\")","v":""},{"$f":"IF(OR('Asphalt Plant (AP-1)'!$C$5=\"batch mix plant\",'Asphalt Plant (AP-2)'!$C$5=\"batch mix plant\",'Asphalt Plant (AP-3)'!$C$5=\"batch mix plant\",'Asphalt Plant (AP-4)'!$C$5=\"batch mix plant\",'Asphalt Plant (AP-5)'!$C$5=\"batch mix plant\",'Asphalt Plant (AP-6)'!$C$5=\"batch mix plant\",'Asphalt Plant (AP-7)'!$C$5=\"batch mix plant\",'Asphalt Plant (AP-8)'!$C$5=\"batch mix plant\",'Asphalt Plant (AP-9)'!$C$5=\"batch mix plant\",'Asphalt Plant (AP-10)'!$C$5=\"batch mix plant\"),\"Batch Mix Plant\",\"\")","v":""},{"$f":"IF(B120=\"\",\"\",\"30500245/46/47\")","v":""},{"$f":"IF(B120=\"\",\"\",SUM(IF('Asphalt Plant (AP-1)'!C5=\"batch mix plant\",SUM('Asphalt Plant (AP-1)'!N5:N7),0),IF('Asphalt Plant (AP-2)'!C5=\"batch mix plant\",SUM('Asphalt Plant (AP-2)'!N5:N7),0),IF('Asphalt Plant (AP-3)'!C5=\"batch mix plant\",SUM('Asphalt Plant (AP-3)'!N5:N7),0),IF('Asphalt Plant (AP-4)'!C5=\"batch mix plant\",SUM('Asphalt Plant (AP-4)'!N5:N7),0),IF('Asphalt Plant (AP-5)'!C5=\"batch mix plant\",SUM('Asphalt Plant (AP-5)'!N5:N7),0),IF('Asphalt Plant (AP-6)'!C5=\"batch mix plant\",SUM('Asphalt Plant (AP-6)'!N5:N7),0),IF('Asphalt Plant (AP-7)'!C5=\"batch mix plant\",SUM('Asphalt Plant (AP-7)'!N5:N7),0),IF('Asphalt Plant (AP-8)'!C5=\"batch mix plant\",SUM('Asphalt Plant (AP-8)'!N5:N7),0),IF('Asphalt Plant (AP-9)'!C5=\"batch mix plant\",SUM('Asphalt Plant (AP-9)'!N5:N7),0),IF('Asphalt Plant (AP-10)'!C5=\"batch mix plant\",SUM('Asphalt Plant (AP-10)'!N5:N7),0)))","v":""},{"$f":"IF(B120=\"\",\"\",\"tons/hr\")","v":""},{"$f":"IF(B120=\"\",\"\",0.001)","v":""},{"$f":"IF(B120=\"\",\"\",\"lbs/ton\")","v":""},{"$f":"IF(B120=\"\",\"\",\"AP-42 Table 11.1-2,5,6,9\")","v":""},{"$f":"IF(B120=\"\",\"\",SUM(IF('Asphalt Plant (AP-1)'!$C$5=\"batch mix plant\",SUM('Asphalt Plant (AP-1)'!Q78:Q80,0),IF('Asphalt Plant (AP-2)'!$C$5=\"batch mix plant\",SUM('Asphalt Plant (AP-1)'!Q78:Q80,0),IF('Asphalt Plant (AP-3)'!$C$5=\"batch mix plant\",SUM('Asphalt Plant (AP-1)'!Q78:Q80,0),IF('Asphalt Plant (AP-4)'!$C$5=\"batch mix plant\",SUM('Asphalt Plant (AP-1)'!Q78:Q80,0),IF('Asphalt Plant (AP-5)'!$C$5=\"batch mix plant\",SUM('Asphalt Plant (AP-1)'!Q78:Q80,0),IF('Asphalt Plant (AP-6)'!$C$5=\"batch mix plant\",SUM('Asphalt Plant (AP-1)'!Q78:Q80,0),IF('Asphalt Plant (AP-7)'!$C$5=\"batch mix plant\",SUM('Asphalt Plant (AP-1)'!Q78:Q80,0),IF('Asphalt Plant (AP-8)'!$C$5=\"batch mix plant\",SUM('Asphalt Plant (AP-1)'!Q78:Q80,0),IF('Asphalt Plant (AP-9)'!$C$5=\"batch mix plant\",SUM('Asphalt Plant (AP-1)'!Q78:Q80,0),IF('Asphalt Plant (AP-10)'!$C$5=\"batch mix plant\",SUM('Asphalt Plant (AP-1)'!Q78:Q80,0)))))))))))))","v":""},null,null,{"$f":"IF(B120=\"\",\"\",SUM(IF('Asphalt Plant (AP-1)'!$C$5=\"batch mix plant\",SUM('Asphalt Plant (AP-1)'!S78:S80,0),IF('Asphalt Plant (AP-2)'!$C$5=\"batch mix plant\",SUM('Asphalt Plant (AP-1)'!S78:S80,0),IF('Asphalt Plant (AP-3)'!$C$5=\"batch mix plant\",SUM('Asphalt Plant (AP-1)'!S78:S80,0),IF('Asphalt Plant (AP-4)'!$C$5=\"batch mix plant\",SUM('Asphalt Plant (AP-1)'!S78:S80,0),IF('Asphalt Plant (AP-5)'!$C$5=\"batch mix plant\",SUM('Asphalt Plant (AP-1)'!S78:S80,0),IF('Asphalt Plant (AP-6)'!$C$5=\"batch mix plant\",SUM('Asphalt Plant (AP-1)'!S78:S80,0),IF('Asphalt Plant (AP-7)'!$C$5=\"batch mix plant\",SUM('Asphalt Plant (AP-1)'!S78:S80,0),IF('Asphalt Plant (AP-8)'!$C$5=\"batch mix plant\",SUM('Asphalt Plant (AP-1)'!S78:S80,0),IF('Asphalt Plant (AP-9)'!$C$5=\"batch mix plant\",SUM('Asphalt Plant (AP-1)'!S78:S80,0),IF('Asphalt Plant (AP-10)'!$C$5=\"batch mix plant\",SUM('Asphalt Plant (AP-1)'!S78:S80,0)))))))))))))","v":""},{"$f":"IF(B120=\"\",\"\",SUM(IF('Asphalt Plant (AP-1)'!$C$5=\"batch mix plant\",SUM('Asphalt Plant (AP-1)'!T78:T80,0),IF('Asphalt Plant (AP-2)'!$C$5=\"batch mix plant\",SUM('Asphalt Plant (AP-1)'!T78:T80,0),IF('Asphalt Plant (AP-3)'!$C$5=\"batch mix plant\",SUM('Asphalt Plant (AP-1)'!T78:T80,0),IF('Asphalt Plant (AP-4)'!$C$5=\"batch mix plant\",SUM('Asphalt Plant (AP-1)'!T78:T80,0),IF('Asphalt Plant (AP-5)'!$C$5=\"batch mix plant\",SUM('Asphalt Plant (AP-1)'!T78:T80,0),IF('Asphalt Plant (AP-6)'!$C$5=\"batch mix plant\",SUM('Asphalt Plant (AP-1)'!T78:T80,0),IF('Asphalt Plant (AP-7)'!$C$5=\"batch mix plant\",SUM('Asphalt Plant (AP-1)'!T78:T80,0),IF('Asphalt Plant (AP-8)'!$C$5=\"batch mix plant\",SUM('Asphalt Plant (AP-1)'!T78:T80,0),IF('Asphalt Plant (AP-9)'!$C$5=\"batch mix plant\",SUM('Asphalt Plant (AP-1)'!T78:T80,0),IF('Asphalt Plant (AP-10)'!$C$5=\"batch mix plant\",SUM('Asphalt Plant (AP-1)'!T78:T80,0)))))))))))))","v":""}]
[{"$f":"IF(D121=\"\",\"\",\"ALL\")","v":""},{"$f":"IF(D121=\"\",\"\",\"Drum Mix Plant - Fuel Oil\")","v":""},{"$f":"IF(B121=\"\",\"\",\"30500258\")","v":""},{"$f":"IF(SUM(IF('Asphalt Plant (AP-1)'!$C$5=\"drum mix plant\",'Asphalt Plant (AP-1)'!N5,0),IF('Asphalt Plant (AP-2)'!$C$5=\"drum mix plant\",'Asphalt Plant (AP-2)'!N5,0),IF('Asphalt Plant (AP-3)'!$C$5=\"drum mix plant\",'Asphalt Plant (AP-3)'!N5,0),IF('Asphalt Plant (AP-4)'!$C$5=\"drum mix plant\",'Asphalt Plant (AP-4)'!N5,0),IF('Asphalt Plant (AP-5)'!$C$5=\"drum mix plant\",'Asphalt Plant (AP-5)'!N5,0),IF('Asphalt Plant (AP-6)'!$C$5=\"drum mix plant\",'Asphalt Plant (AP-6)'!N5,0),IF('Asphalt Plant (AP-7)'!$C$5=\"drum mix plant\",'Asphalt Plant (AP-7)'!N5,0),IF('Asphalt Plant (AP-8)'!$C$5=\"drum mix plant\",'Asphalt Plant (AP-8)'!N5,0),IF('Asphalt Plant (AP-9)'!$C$5=\"drum mix plant\",'Asphalt Plant (AP-9)'!N5,0),IF('Asphalt Plant (AP-10)'!$C$5=\"drum mix plant\",'Asphalt Plant (AP-10)'!N5,0))>0,SUM(IF('Asphalt Plant (AP-1)'!$C$5=\"drum mix plant\",'Asphalt Plant (AP-1)'!N5,0),IF('Asphalt Plant (AP-2)'!$C$5=\"drum mix plant\",'Asphalt Plant (AP-2)'!N5,0),IF('Asphalt Plant (AP-3)'!$C$5=\"drum mix plant\",'Asphalt Plant (AP-3)'!N5,0),IF('Asphalt Plant (AP-4)'!$C$5=\"drum mix plant\",'Asphalt Plant (AP-4)'!N5,0),IF('Asphalt Plant (AP-5)'!$C$5=\"drum mix plant\",'Asphalt Plant (AP-5)'!N5,0),IF('Asphalt Plant (AP-6)'!$C$5=\"drum mix plant\",'Asphalt Plant (AP-6)'!N5,0),IF('Asphalt Plant (AP-7)'!$C$5=\"drum mix plant\",'Asphalt Plant (AP-7)'!N5,0),IF('Asphalt Plant (AP-8)'!$C$5=\"drum mix plant\",'Asphalt Plant (AP-8)'!N5,0),IF('Asphalt Plant (AP-9)'!$C$5=\"drum mix plant\",'Asphalt Plant (AP-9)'!N5,0),IF('Asphalt Plant (AP-10)'!$C$5=\"drum mix plant\",'Asphalt Plant (AP-10)'!N5,0)),\"\")","v":""},{"$f":"IF(B121=\"\",\"\",\"tons/hr\")","v":""},{"$f":"IF(B121=\"\",\"\",0.0029)","v":""},{"$f":"IF(B121=\"\",\"\",\"lb/ton\")","v":""},{"$f":"IF(B121=\"\",\"\",\"AP-42 Table 11.1-4,7,8,10\")","v":""},{"$f":"IF(B121=\"\",\"\",SUM(IF('Asphalt Plant (AP-1)'!$C$5=\"drum mix plant\",'Asphalt Plant (AP-1)'!Q78,0),IF('Asphalt Plant (AP-2)'!$C$5=\"drum mix plant\",'Asphalt Plant (AP-2)'!Q78,0),IF('Asphalt Plant (AP-3)'!$C$5=\"drum mix plant\",'Asphalt Plant (AP-3)'!Q78,0),IF('Asphalt Plant (AP-4)'!$C$5=\"drum mix plant\",'Asphalt Plant (AP-4)'!Q78,0),IF('Asphalt Plant (AP-5)'!$C$5=\"drum mix plant\",'Asphalt Plant (AP-5)'!Q78,0),IF('Asphalt Plant (AP-6)'!$C$5=\"drum mix plant\",'Asphalt Plant (AP-6)'!Q78,0),IF('Asphalt Plant (AP-7)'!$C$5=\"drum mix plant\",'Asphalt Plant (AP-7)'!Q78,0),IF('Asphalt Plant (AP-8)'!$C$5=\"drum mix plant\",'Asphalt Plant (AP-8)'!Q78,0),IF('Asphalt Plant (AP-9)'!$C$5=\"drum mix plant\",'Asphalt Plant (AP-9)'!Q78,0),IF('Asphalt Plant (AP-10)'!$C$5=\"drum mix plant\",'Asphalt Plant (AP-10)'!Q78,0)))","v":""},null,null,{"$f":"IF(B121=\"\",\"\",SUM(IF('Asphalt Plant (AP-1)'!$C$5=\"drum mix plant\",'Asphalt Plant (AP-1)'!S78,0),IF('Asphalt Plant (AP-2)'!$C$5=\"drum mix plant\",'Asphalt Plant (AP-2)'!S78,0),IF('Asphalt Plant (AP-3)'!$C$5=\"drum mix plant\",'Asphalt Plant (AP-3)'!S78,0),IF('Asphalt Plant (AP-4)'!$C$5=\"drum mix plant\",'Asphalt Plant (AP-4)'!S78,0),IF('Asphalt Plant (AP-5)'!$C$5=\"drum mix plant\",'Asphalt Plant (AP-5)'!S78,0),IF('Asphalt Plant (AP-6)'!$C$5=\"drum mix plant\",'Asphalt Plant (AP-6)'!S78,0),IF('Asphalt Plant (AP-7)'!$C$5=\"drum mix plant\",'Asphalt Plant (AP-7)'!S78,0),IF('Asphalt Plant (AP-8)'!$C$5=\"drum mix plant\",'Asphalt Plant (AP-8)'!S78,0),IF('Asphalt Plant (AP-9)'!$C$5=\"drum mix plant\",'Asphalt Plant (AP-9)'!S78,0),IF('Asphalt Plant (AP-10)'!$C$5=\"drum mix plant\",'Asphalt Plant (AP-10)'!S78,0)))","v":""},{"$f":"IF(B121=\"\",\"\",SUM(IF('Asphalt Plant (AP-1)'!$C$5=\"drum mix plant\",'Asphalt Plant (AP-1)'!T78,0),IF('Asphalt Plant (AP-2)'!$C$5=\"drum mix plant\",'Asphalt Plant (AP-2)'!T78,0),IF('Asphalt Plant (AP-3)'!$C$5=\"drum mix plant\",'Asphalt Plant (AP-3)'!T78,0),IF('Asphalt Plant (AP-4)'!$C$5=\"drum mix plant\",'Asphalt Plant (AP-4)'!T78,0),IF('Asphalt Plant (AP-5)'!$C$5=\"drum mix plant\",'Asphalt Plant (AP-5)'!T78,0),IF('Asphalt Plant (AP-6)'!$C$5=\"drum mix plant\",'Asphalt Plant (AP-6)'!T78,0),IF('Asphalt Plant (AP-7)'!$C$5=\"drum mix plant\",'Asphalt Plant (AP-7)'!T78,0),IF('Asphalt Plant (AP-8)'!$C$5=\"drum mix plant\",'Asphalt Plant (AP-8)'!T78,0),IF('Asphalt Plant (AP-9)'!$C$5=\"drum mix plant\",'Asphalt Plant (AP-9)'!T78,0),IF('Asphalt Plant (AP-10)'!$C$5=\"drum mix plant\",'Asphalt Plant (AP-10)'!T78,0)))","v":""}]
[{"$f":"IF(D122=\"\",\"\",\"ALL\")","v":""},{"$f":"IF(D122=\"\",\"\",\"Drum Mix Plant - Waste Oil\")","v":""},{"$f":"IF(B122=\"\",\"\",\"30500255\")","v":""},{"$f":"IF(SUM(IF('Asphalt Plant (AP-1)'!$C$5=\"drum mix plant\",'Asphalt Plant (AP-1)'!N6,0),IF('Asphalt Plant (AP-2)'!$C$5=\"drum mix plant\",'Asphalt Plant (AP-2)'!N6,0),IF('Asphalt Plant (AP-3)'!$C$5=\"drum mix plant\",'Asphalt Plant (AP-3)'!N6,0),IF('Asphalt Plant (AP-4)'!$C$5=\"drum mix plant\",'Asphalt Plant (AP-4)'!N6,0),IF('Asphalt Plant (AP-5)'!$C$5=\"drum mix plant\",'Asphalt Plant (AP-5)'!N6,0),IF('Asphalt Plant (AP-6)'!$C$5=\"drum mix plant\",'Asphalt Plant (AP-6)'!N6,0),IF('Asphalt Plant (AP-7)'!$C$5=\"drum mix plant\",'Asphalt Plant (AP-7)'!N6,0),IF('Asphalt Plant (AP-8)'!$C$5=\"drum mix plant\",'Asphalt Plant (AP-8)'!N6,0),IF('Asphalt Plant (AP-9)'!$C$5=\"drum mix plant\",'Asphalt Plant (AP-9)'!N6,0),IF('Asphalt Plant (AP-10)'!$C$5=\"drum mix plant\",'Asphalt Plant (AP-10)'!N6,0))>0,SUM(IF('Asphalt Plant (AP-1)'!$C$5=\"drum mix plant\",'Asphalt Plant (AP-1)'!N6,0),IF('Asphalt Plant (AP-2)'!$C$5=\"drum mix plant\",'Asphalt Plant (AP-2)'!N6,0),IF('Asphalt Plant (AP-3)'!$C$5=\"drum mix plant\",'Asphalt Plant (AP-3)'!N6,0),IF('Asphalt Plant (AP-4)'!$C$5=\"drum mix plant\",'Asphalt Plant (AP-4)'!N6,0),IF('Asphalt Plant (AP-5)'!$C$5=\"drum mix plant\",'Asphalt Plant (AP-5)'!N6,0),IF('Asphalt Plant (AP-6)'!$C$5=\"drum mix plant\",'Asphalt Plant (AP-6)'!N6,0),IF('Asphalt Plant (AP-7)'!$C$5=\"drum mix plant\",'Asphalt Plant (AP-7)'!N6,0),IF('Asphalt Plant (AP-8)'!$C$5=\"drum mix plant\",'Asphalt Plant (AP-8)'!N6,0),IF('Asphalt Plant (AP-9)'!$C$5=\"drum mix plant\",'Asphalt Plant (AP-9)'!N6,0),IF('Asphalt Plant (AP-10)'!$C$5=\"drum mix plant\",'Asphalt Plant (AP-10)'!N6,0)),\"\")","v":""},{"$f":"IF(B122=\"\",\"\",\"tons/hr\")","v":""},{"$f":"IF(B122=\"\",\"\",0.0029)","v":""},{"$f":"IF(B122=\"\",\"\",\"lb/ton\")","v":""},{"$f":"IF(B122=\"\",\"\",\"AP-42 Table 11.1-4,7,8,10\")","v":""},{"$f":"IF(B122=\"\",\"\",SUM(IF('Asphalt Plant (AP-1)'!$C$5=\"drum mix plant\",'Asphalt Plant (AP-1)'!Q79,0),IF('Asphalt Plant (AP-2)'!$C$5=\"drum mix plant\",'Asphalt Plant (AP-2)'!Q79,0),IF('Asphalt Plant (AP-3)'!$C$5=\"drum mix plant\",'Asphalt Plant (AP-3)'!Q79,0),IF('Asphalt Plant (AP-4)'!$C$5=\"drum mix plant\",'Asphalt Plant (AP-4)'!Q79,0),IF('Asphalt Plant (AP-5)'!$C$5=\"drum mix plant\",'Asphalt Plant (AP-5)'!Q79,0),IF('Asphalt Plant (AP-6)'!$C$5=\"drum mix plant\",'Asphalt Plant (AP-6)'!Q79,0),IF('Asphalt Plant (AP-7)'!$C$5=\"drum mix plant\",'Asphalt Plant (AP-7)'!Q79,0),IF('Asphalt Plant (AP-8)'!$C$5=\"drum mix plant\",'Asphalt Plant (AP-8)'!Q79,0),IF('Asphalt Plant (AP-9)'!$C$5=\"drum mix plant\",'Asphalt Plant (AP-9)'!Q79,0),IF('Asphalt Plant (AP-10)'!$C$5=\"drum mix plant\",'Asphalt Plant (AP-10)'!Q79,0)))","v":""},null,null,{"$f":"IF(B122=\"\",\"\",SUM(IF('Asphalt Plant (AP-1)'!$C$5=\"drum mix plant\",'Asphalt Plant (AP-1)'!S79,0),IF('Asphalt Plant (AP-2)'!$C$5=\"drum mix plant\",'Asphalt Plant (AP-2)'!S79,0),IF('Asphalt Plant (AP-3)'!$C$5=\"drum mix plant\",'Asphalt Plant (AP-3)'!S79,0),IF('Asphalt Plant (AP-4)'!$C$5=\"drum mix plant\",'Asphalt Plant (AP-4)'!S79,0),IF('Asphalt Plant (AP-5)'!$C$5=\"drum mix plant\",'Asphalt Plant (AP-5)'!S79,0),IF('Asphalt Plant (AP-6)'!$C$5=\"drum mix plant\",'Asphalt Plant (AP-6)'!S79,0),IF('Asphalt Plant (AP-7)'!$C$5=\"drum mix plant\",'Asphalt Plant (AP-7)'!S79,0),IF('Asphalt Plant (AP-8)'!$C$5=\"drum mix plant\",'Asphalt Plant (AP-8)'!S79,0),IF('Asphalt Plant (AP-9)'!$C$5=\"drum mix plant\",'Asphalt Plant (AP-9)'!S79,0),IF('Asphalt Plant (AP-10)'!$C$5=\"drum mix plant\",'Asphalt Plant (AP-10)'!S79,0)))","v":""},{"$f":"IF(B122=\"\",\"\",SUM(IF('Asphalt Plant (AP-1)'!$C$5=\"drum mix plant\",'Asphalt Plant (AP-1)'!T79,0),IF('Asphalt Plant (AP-2)'!$C$5=\"drum mix plant\",'Asphalt Plant (AP-2)'!T79,0),IF('Asphalt Plant (AP-3)'!$C$5=\"drum mix plant\",'Asphalt Plant (AP-3)'!T79,0),IF('Asphalt Plant (AP-4)'!$C$5=\"drum mix plant\",'Asphalt Plant (AP-4)'!T79,0),IF('Asphalt Plant (AP-5)'!$C$5=\"drum mix plant\",'Asphalt Plant (AP-5)'!T79,0),IF('Asphalt Plant (AP-6)'!$C$5=\"drum mix plant\",'Asphalt Plant (AP-6)'!T79,0),IF('Asphalt Plant (AP-7)'!$C$5=\"drum mix plant\",'Asphalt Plant (AP-7)'!T79,0),IF('Asphalt Plant (AP-8)'!$C$5=\"drum mix plant\",'Asphalt Plant (AP-8)'!T79,0),IF('Asphalt Plant (AP-9)'!$C$5=\"drum mix plant\",'Asphalt Plant (AP-9)'!T79,0),IF('Asphalt Plant (AP-10)'!$C$5=\"drum mix plant\",'Asphalt Plant (AP-10)'!T79,0)))","v":""}]
[{"$f":"IF(D123=\"\",\"\",\"ALL\")","v":""},{"$f":"IF(D123=\"\",\"\",\"Drum Mix Plant - Natural Gas\")","v":""},{"$f":"IF(B123=\"\",\"\",\"30500261\")","v":""},{"$f":"IF(SUM(IF('Asphalt Plant (AP-1)'!$C$5=\"drum mix plant\",'Asphalt Plant (AP-1)'!N7,0),IF('Asphalt Plant (AP-2)'!$C$5=\"drum mix plant\",'Asphalt Plant (AP-2)'!N7,0),IF('Asphalt Plant (AP-3)'!$C$5=\"drum mix plant\",'Asphalt Plant (AP-3)'!N7,0),IF('Asphalt Plant (AP-4)'!$C$5=\"drum mix plant\",'Asphalt Plant (AP-4)'!N7,0),IF('Asphalt Plant (AP-5)'!$C$5=\"drum mix plant\",'Asphalt Plant (AP-5)'!N7,0),IF('Asphalt Plant (AP-6)'!$C$5=\"drum mix plant\",'Asphalt Plant (AP-6)'!N7,0),IF('Asphalt Plant (AP-7)'!$C$5=\"drum mix plant\",'Asphalt Plant (AP-7)'!N7,0),IF('Asphalt Plant (AP-8)'!$C$5=\"drum mix plant\",'Asphalt Plant (AP-8)'!N7,0),IF('Asphalt Plant (AP-9)'!$C$5=\"drum mix plant\",'Asphalt Plant (AP-9)'!N7,0),IF('Asphalt Plant (AP-10)'!$C$5=\"drum mix plant\",'Asphalt Plant (AP-10)'!N7,0))>0,SUM(IF('Asphalt Plant (AP-1)'!$C$5=\"drum mix plant\",'Asphalt Plant (AP-1)'!N7,0),IF('Asphalt Plant (AP-2)'!$C$5=\"drum mix plant\",'Asphalt Plant (AP-2)'!N7,0),IF('Asphalt Plant (AP-3)'!$C$5=\"drum mix plant\",'Asphalt Plant (AP-3)'!N7,0),IF('Asphalt Plant (AP-4)'!$C$5=\"drum mix plant\",'Asphalt Plant (AP-4)'!N7,0),IF('Asphalt Plant (AP-5)'!$C$5=\"drum mix plant\",'Asphalt Plant (AP-5)'!N7,0),IF('Asphalt Plant (AP-6)'!$C$5=\"drum mix plant\",'Asphalt Plant (AP-6)'!N7,0),IF('Asphalt Plant (AP-7)'!$C$5=\"drum mix plant\",'Asphalt Plant (AP-7)'!N7,0),IF('Asphalt Plant (AP-8)'!$C$5=\"drum mix plant\",'Asphalt Plant (AP-8)'!N7,0),IF('Asphalt Plant (AP-9)'!$C$5=\"drum mix plant\",'Asphalt Plant (AP-9)'!N7,0),IF('Asphalt Plant (AP-10)'!$C$5=\"drum mix plant\",'Asphalt Plant (AP-10)'!N7,0)),\"\")","v":""},{"$f":"IF(B123=\"\",\"\",\"tons/hr\")","v":""},{"$f":"IF(B123=\"\",\"\",0.00015)","v":""},{"$f":"IF(B123=\"\",\"\",\"lb/ton\")","v":""},{"$f":"IF(B123=\"\",\"\",\"AP-42 Table 11.1-4,7,8,10,12\")","v":""},{"$f":"IF(B123=\"\",\"\",SUM(IF('Asphalt Plant (AP-1)'!$C$5=\"drum mix plant\",'Asphalt Plant (AP-1)'!Q80,0),IF('Asphalt Plant (AP-2)'!$C$5=\"drum mix plant\",'Asphalt Plant (AP-2)'!Q80,0),IF('Asphalt Plant (AP-3)'!$C$5=\"drum mix plant\",'Asphalt Plant (AP-3)'!Q80,0),IF('Asphalt Plant (AP-4)'!$C$5=\"drum mix plant\",'Asphalt Plant (AP-4)'!Q80,0),IF('Asphalt Plant (AP-5)'!$C$5=\"drum mix plant\",'Asphalt Plant (AP-5)'!Q80,0),IF('Asphalt Plant (AP-6)'!$C$5=\"drum mix plant\",'Asphalt Plant (AP-6)'!Q80,0),IF('Asphalt Plant (AP-7)'!$C$5=\"drum mix plant\",'Asphalt Plant (AP-7)'!Q80,0),IF('Asphalt Plant (AP-8)'!$C$5=\"drum mix plant\",'Asphalt Plant (AP-8)'!Q80,0),IF('Asphalt Plant (AP-9)'!$C$5=\"drum mix plant\",'Asphalt Plant (AP-9)'!Q80,0),IF('Asphalt Plant (AP-10)'!$C$5=\"drum mix plant\",'Asphalt Plant (AP-10)'!Q80,0)))","v":""},null,null,{"$f":"IF(B123=\"\",\"\",SUM(IF('Asphalt Plant (AP-1)'!$C$5=\"drum mix plant\",'Asphalt Plant (AP-1)'!S80,0),IF('Asphalt Plant (AP-2)'!$C$5=\"drum mix plant\",'Asphalt Plant (AP-2)'!S80,0),IF('Asphalt Plant (AP-3)'!$C$5=\"drum mix plant\",'Asphalt Plant (AP-3)'!S80,0),IF('Asphalt Plant (AP-4)'!$C$5=\"drum mix plant\",'Asphalt Plant (AP-4)'!S80,0),IF('Asphalt Plant (AP-5)'!$C$5=\"drum mix plant\",'Asphalt Plant (AP-5)'!S80,0),IF('Asphalt Plant (AP-6)'!$C$5=\"drum mix plant\",'Asphalt Plant (AP-6)'!S80,0),IF('Asphalt Plant (AP-7)'!$C$5=\"drum mix plant\",'Asphalt Plant (AP-7)'!S80,0),IF('Asphalt Plant (AP-8)'!$C$5=\"drum mix plant\",'Asphalt Plant (AP-8)'!S80,0),IF('Asphalt Plant (AP-9)'!$C$5=\"drum mix plant\",'Asphalt Plant (AP-9)'!S80,0),IF('Asphalt Plant (AP-10)'!$C$5=\"drum mix plant\",'Asphalt Plant (AP-10)'!S80,0)))","v":""},{"$f":"IF(B123=\"\",\"\",SUM(IF('Asphalt Plant (AP-1)'!$C$5=\"drum mix plant\",'Asphalt Plant (AP-1)'!T80,0),IF('Asphalt Plant (AP-2)'!$C$5=\"drum mix plant\",'Asphalt Plant (AP-2)'!T80,0),IF('Asphalt Plant (AP-3)'!$C$5=\"drum mix plant\",'Asphalt Plant (AP-3)'!T80,0),IF('Asphalt Plant (AP-4)'!$C$5=\"drum mix plant\",'Asphalt Plant (AP-4)'!T80,0),IF('Asphalt Plant (AP-5)'!$C$5=\"drum mix plant\",'Asphalt Plant (AP-5)'!T80,0),IF('Asphalt Plant (AP-6)'!$C$5=\"drum mix plant\",'Asphalt Plant (AP-6)'!T80,0),IF('Asphalt Plant (AP-7)'!$C$5=\"drum mix plant\",'Asphalt Plant (AP-7)'!T80,0),IF('Asphalt Plant (AP-8)'!$C$5=\"drum mix plant\",'Asphalt Plant (AP-8)'!T80,0),IF('Asphalt Plant (AP-9)'!$C$5=\"drum mix plant\",'Asphalt Plant (AP-9)'!T80,0),IF('Asphalt Plant (AP-10)'!$C$5=\"drum mix plant\",'Asphalt Plant (AP-10)'!T80,0)))","v":""}]
["Xylene",null,null,null,null,null,null,{"$f":"IF(F124=\"\",\"\",LOOKUP(B124,'[1]Emission Factors'!$A$5:$A$10,'[1]Emission Factors'!$D$5:$D$10))","v":""}]
[{"$f":"IF(OR('Asphalt Plant (AP-1)'!$C$5=\"batch mix plant\",'Asphalt Plant (AP-2)'!$C$5=\"batch mix plant\",'Asphalt Plant (AP-3)'!$C$5=\"batch mix plant\",'Asphalt Plant (AP-4)'!$C$5=\"batch mix plant\",'Asphalt Plant (AP-5)'!$C$5=\"batch mix plant\",'Asphalt Plant (AP-6)'!$C$5=\"batch mix plant\",'Asphalt Plant (AP-7)'!$C$5=\"batch mix plant\",'Asphalt Plant (AP-8)'!$C$5=\"batch mix plant\",'Asphalt Plant (AP-9)'!$C$5=\"batch mix plant\",'Asphalt Plant (AP-10)'!$C$5=\"batch mix plant\"),\"ALL\",\"\")","v":""},{"$f":"IF(OR('Asphalt Plant (AP-1)'!$C$5=\"batch mix plant\",'Asphalt Plant (AP-2)'!$C$5=\"batch mix plant\",'Asphalt Plant (AP-3)'!$C$5=\"batch mix plant\",'Asphalt Plant (AP-4)'!$C$5=\"batch mix plant\",'Asphalt Plant (AP-5)'!$C$5=\"batch mix plant\",'Asphalt Plant (AP-6)'!$C$5=\"batch mix plant\",'Asphalt Plant (AP-7)'!$C$5=\"batch mix plant\",'Asphalt Plant (AP-8)'!$C$5=\"batch mix plant\",'Asphalt Plant (AP-9)'!$C$5=\"batch mix plant\",'Asphalt Plant (AP-10)'!$C$5=\"batch mix plant\"),\"Batch Mix Plant\",\"\")","v":""},{"$f":"IF(B125=\"\",\"\",\"30500245/46/47\")","v":""},{"$f":"IF(B125=\"\",\"\",SUM(IF('Asphalt Plant (AP-1)'!C5=\"batch mix plant\",SUM('Asphalt Plant (AP-1)'!N5:N7),0),IF('Asphalt Plant (AP-2)'!C5=\"batch mix plant\",SUM('Asphalt Plant (AP-2)'!N5:N7),0),IF('Asphalt Plant (AP-3)'!C5=\"batch mix plant\",SUM('Asphalt Plant (AP-3)'!N5:N7),0),IF('Asphalt Plant (AP-4)'!C5=\"batch mix plant\",SUM('Asphalt Plant (AP-4)'!N5:N7),0),IF('Asphalt Plant (AP-5)'!C5=\"batch mix plant\",SUM('Asphalt Plant (AP-5)'!N5:N7),0),IF('Asphalt Plant (AP-6)'!C5=\"batch mix plant\",SUM('Asphalt Plant (AP-6)'!N5:N7),0),IF('Asphalt Plant (AP-7)'!C5=\"batch mix plant\",SUM('Asphalt Plant (AP-7)'!N5:N7),0),IF('Asphalt Plant (AP-8)'!C5=\"batch mix plant\",SUM('Asphalt Plant (AP-8)'!N5:N7),0),IF('Asphalt Plant (AP-9)'!C5=\"batch mix plant\",SUM('Asphalt Plant (AP-9)'!N5:N7),0),IF('Asphalt Plant (AP-10)'!C5=\"batch mix plant\",SUM('Asphalt Plant (AP-10)'!N5:N7),0)))","v":""},{"$f":"IF(B125=\"\",\"\",\"tons/hr\")","v":""},{"$f":"IF(B125=\"\",\"\",0.0027)","v":""},{"$f":"IF(B125=\"\",\"\",\"lbs/ton\")","v":""},{"$f":"IF(B125=\"\",\"\",\"AP-42 Table 11.1-2,5,6,9\")","v":""},{"$f":"IF(B125=\"\",\"\",SUM(IF('Asphalt Plant (AP-1)'!$C$5=\"batch mix plant\",'Asphalt Plant (AP-1)'!Q82,0),IF('Asphalt Plant (AP-2)'!$C$5=\"batch mix plant\",'Asphalt Plant (AP-2)'!Q82,0),IF('Asphalt Plant (AP-3)'!$C$5=\"batch mix plant\",'Asphalt Plant (AP-3)'!Q82,0),IF('Asphalt Plant (AP-4)'!$C$5=\"batch mix plant\",'Asphalt Plant (AP-4)'!Q82,0),IF('Asphalt Plant (AP-5)'!$C$5=\"batch mix plant\",'Asphalt Plant (AP-5)'!Q82,0),IF('Asphalt Plant (AP-6)'!$C$5=\"batch mix plant\",'Asphalt Plant (AP-6)'!Q82,0),IF('Asphalt Plant (AP-7)'!$C$5=\"batch mix plant\",'Asphalt Plant (AP-7)'!Q82,0),IF('Asphalt Plant (AP-8)'!$C$5=\"batch mix plant\",'Asphalt Plant (AP-8)'!Q82,0),IF('Asphalt Plant (AP-9)'!$C$5=\"batch mix plant\",'Asphalt Plant (AP-9)'!Q82,0),IF('Asphalt Plant (AP-10)'!$C$5=\"batch mix plant\",'Asphalt Plant (AP-10)'!Q82,0)))","v":""},null,null,{"$f":"IF(B125=\"\",\"\",SUM(IF('Asphalt Plant (AP-1)'!$C$5=\"batch mix plant\",'Asphalt Plant (AP-1)'!S82,0),IF('Asphalt Plant (AP-2)'!$C$5=\"batch mix plant\",'Asphalt Plant (AP-2)'!S82,0),IF('Asphalt Plant (AP-3)'!$C$5=\"batch mix plant\",'Asphalt Plant (AP-3)'!S82,0),IF('Asphalt Plant (AP-4)'!$C$5=\"batch mix plant\",'Asphalt Plant (AP-4)'!S82,0),IF('Asphalt Plant (AP-5)'!$C$5=\"batch mix plant\",'Asphalt Plant (AP-5)'!S82,0),IF('Asphalt Plant (AP-6)'!$C$5=\"batch mix plant\",'Asphalt Plant (AP-6)'!S82,0),IF('Asphalt Plant (AP-7)'!$C$5=\"batch mix plant\",'Asphalt Plant (AP-7)'!S82,0),IF('Asphalt Plant (AP-8)'!$C$5=\"batch mix plant\",'Asphalt Plant (AP-8)'!S82,0),IF('Asphalt Plant (AP-9)'!$C$5=\"batch mix plant\",'Asphalt Plant (AP-9)'!S82,0),IF('Asphalt Plant (AP-10)'!$C$5=\"batch mix plant\",'Asphalt Plant (AP-10)'!S82,0)))","v":""},{"$f":"IF(B125=\"\",\"\",SUM(IF('Asphalt Plant (AP-1)'!$C$5=\"batch mix plant\",'Asphalt Plant (AP-1)'!T82,0),IF('Asphalt Plant (AP-2)'!$C$5=\"batch mix plant\",'Asphalt Plant (AP-2)'!T82,0),IF('Asphalt Plant (AP-3)'!$C$5=\"batch mix plant\",'Asphalt Plant (AP-3)'!T82,0),IF('Asphalt Plant (AP-4)'!$C$5=\"batch mix plant\",'Asphalt Plant (AP-4)'!T82,0),IF('Asphalt Plant (AP-5)'!$C$5=\"batch mix plant\",'Asphalt Plant (AP-5)'!T82,0),IF('Asphalt Plant (AP-6)'!$C$5=\"batch mix plant\",'Asphalt Plant (AP-6)'!T82,0),IF('Asphalt Plant (AP-7)'!$C$5=\"batch mix plant\",'Asphalt Plant (AP-7)'!T82,0),IF('Asphalt Plant (AP-8)'!$C$5=\"batch mix plant\",'Asphalt Plant (AP-8)'!T82,0),IF('Asphalt Plant (AP-9)'!$C$5=\"batch mix plant\",'Asphalt Plant (AP-9)'!T82,0),IF('Asphalt Plant (AP-10)'!$C$5=\"batch mix plant\",'Asphalt Plant (AP-10)'!T82,0)))","v":""}]
[{"$f":"IF(OR('Asphalt Plant (AP-1)'!$C$5=\"drum mix plant\",'Asphalt Plant (AP-2)'!$C$5=\"drum mix plant\",'Asphalt Plant (AP-3)'!$C$5=\"drum mix plant\",'Asphalt Plant (AP-4)'!$C$5=\"drum mix plant\",'Asphalt Plant (AP-5)'!$C$5=\"drum mix plant\",'Asphalt Plant (AP-6)'!$C$5=\"drum mix plant\",'Asphalt Plant (AP-7)'!$C$5=\"drum mix plant\",'Asphalt Plant (AP-8)'!$C$5=\"drum mix plant\",'Asphalt Plant (AP-9)'!$C$5=\"drum mix plant\",'Asphalt Plant (AP-10)'!$C$5=\"drum mix plant\"),\"ALL\",\"\")","v":""},{"$f":"IF(OR('Asphalt Plant (AP-1)'!$C$5=\"drum mix plant\",'Asphalt Plant (AP-2)'!$C$5=\"drum mix plant\",'Asphalt Plant (AP-3)'!$C$5=\"drum mix plant\",'Asphalt Plant (AP-4)'!$C$5=\"drum mix plant\",'Asphalt Plant (AP-5)'!$C$5=\"drum mix plant\",'Asphalt Plant (AP-6)'!$C$5=\"drum mix plant\",'Asphalt Plant (AP-7)'!$C$5=\"drum mix plant\",'Asphalt Plant (AP-8)'!$C$5=\"drum mix plant\",'Asphalt Plant (AP-9)'!$C$5=\"drum mix plant\",'Asphalt Plant (AP-10)'!$C$5=\"drum mix plant\"),\"Drum Mix Plant\",\"\")","v":""},{"$f":"IF(B126=\"\",\"\",\"30500255/58/61\")","v":""},{"$f":"IF(B126=\"\",\"\",SUM(IF('Asphalt Plant (AP-1)'!C5=\"drum mix plant\",SUM('Asphalt Plant (AP-1)'!N5:N7),0),IF('Asphalt Plant (AP-2)'!C5=\"drum mix plant\",SUM('Asphalt Plant (AP-2)'!N5:N7),0),IF('Asphalt Plant (AP-3)'!C5=\"drum mix plant\",SUM('Asphalt Plant (AP-3)'!N5:N7),0),IF('Asphalt Plant (AP-4)'!C5=\"drum mix plant\",SUM('Asphalt Plant (AP-4)'!N5:N7),0),IF('Asphalt Plant (AP-5)'!C5=\"drum mix plant\",SUM('Asphalt Plant (AP-5)'!N5:N7),0),IF('Asphalt Plant (AP-6)'!C5=\"drum mix plant\",SUM('Asphalt Plant (AP-6)'!N5:N7),0),IF('Asphalt Plant (AP-7)'!C5=\"drum mix plant\",SUM('Asphalt Plant (AP-7)'!N5:N7),0),IF('Asphalt Plant (AP-8)'!C5=\"drum mix plant\",SUM('Asphalt Plant (AP-8)'!N5:N7),0),IF('Asphalt Plant (AP-9)'!C5=\"drum mix plant\",SUM('Asphalt Plant (AP-9)'!N5:N7),0),IF('Asphalt Plant (AP-10)'!C5=\"drum mix plant\",SUM('Asphalt Plant (AP-10)'!N5:N7),0)))","v":""},{"$f":"IF(B126=\"\",\"\",\"tons/hr\")","v":""},{"$f":"IF(B126=\"\",\"\",0.0002)","v":""},{"$f":"IF(B126=\"\",\"\",\"lbs/ton\")","v":""},{"$f":"IF(B126=\"\",\"\",\"AP-42 Table 11.1-4,7,8,10\")","v":""},{"$f":"IF(B126=\"\",\"\",SUM(IF('Asphalt Plant (AP-1)'!$C$5=\"drum mix plant\",'Asphalt Plant (AP-1)'!Q82,0),IF('Asphalt Plant (AP-2)'!$C$5=\"drum mix plant\",'Asphalt Plant (AP-2)'!Q82,0),IF('Asphalt Plant (AP-3)'!$C$5=\"drum mix plant\",'Asphalt Plant (AP-3)'!Q82,0),IF('Asphalt Plant (AP-4)'!$C$5=\"drum mix plant\",'Asphalt Plant (AP-4)'!Q82,0),IF('Asphalt Plant (AP-5)'!$C$5=\"drum mix plant\",'Asphalt Plant (AP-5)'!Q82,0),IF('Asphalt Plant (AP-6)'!$C$5=\"drum mix plant\",'Asphalt Plant (AP-6)'!Q82,0),IF('Asphalt Plant (AP-7)'!$C$5=\"drum mix plant\",'Asphalt Plant (AP-7)'!Q82,0),IF('Asphalt Plant (AP-8)'!$C$5=\"drum mix plant\",'Asphalt Plant (AP-8)'!Q82,0),IF('Asphalt Plant (AP-9)'!$C$5=\"drum mix plant\",'Asphalt Plant (AP-9)'!Q82,0),IF('Asphalt Plant (AP-10)'!$C$5=\"drum mix plant\",'Asphalt Plant (AP-10)'!Q82,0)))","v":""},null,null,{"$f":"IF(B126=\"\",\"\",SUM(IF('Asphalt Plant (AP-1)'!$C$5=\"drum mix plant\",'Asphalt Plant (AP-1)'!S82,0),IF('Asphalt Plant (AP-2)'!$C$5=\"drum mix plant\",'Asphalt Plant (AP-2)'!S82,0),IF('Asphalt Plant (AP-3)'!$C$5=\"drum mix plant\",'Asphalt Plant (AP-3)'!S82,0),IF('Asphalt Plant (AP-4)'!$C$5=\"drum mix plant\",'Asphalt Plant (AP-4)'!S82,0),IF('Asphalt Plant (AP-5)'!$C$5=\"drum mix plant\",'Asphalt Plant (AP-5)'!S82,0),IF('Asphalt Plant (AP-6)'!$C$5=\"drum mix plant\",'Asphalt Plant (AP-6)'!S82,0),IF('Asphalt Plant (AP-7)'!$C$5=\"drum mix plant\",'Asphalt Plant (AP-7)'!S82,0),IF('Asphalt Plant (AP-8)'!$C$5=\"drum mix plant\",'Asphalt Plant (AP-8)'!S82,0),IF('Asphalt Plant (AP-9)'!$C$5=\"drum mix plant\",'Asphalt Plant (AP-9)'!S82,0),IF('Asphalt Plant (AP-10)'!$C$5=\"drum mix plant\",'Asphalt Plant (AP-10)'!S82,0)))","v":""},{"$f":"IF(B126=\"\",\"\",SUM(IF('Asphalt Plant (AP-1)'!$C$5=\"drum mix plant\",'Asphalt Plant (AP-1)'!T82,0),IF('Asphalt Plant (AP-2)'!$C$5=\"drum mix plant\",'Asphalt Plant (AP-2)'!T82,0),IF('Asphalt Plant (AP-3)'!$C$5=\"drum mix plant\",'Asphalt Plant (AP-3)'!T82,0),IF('Asphalt Plant (AP-4)'!$C$5=\"drum mix plant\",'Asphalt Plant (AP-4)'!T82,0),IF('Asphalt Plant (AP-5)'!$C$5=\"drum mix plant\",'Asphalt Plant (AP-5)'!T82,0),IF('Asphalt Plant (AP-6)'!$C$5=\"drum mix plant\",'Asphalt Plant (AP-6)'!T82,0),IF('Asphalt Plant (AP-7)'!$C$5=\"drum mix plant\",'Asphalt Plant (AP-7)'!T82,0),IF('Asphalt Plant (AP-8)'!$C$5=\"drum mix plant\",'Asphalt Plant (AP-8)'!T82,0),IF('Asphalt Plant (AP-9)'!$C$5=\"drum mix plant\",'Asphalt Plant (AP-9)'!T82,0),IF('Asphalt Plant (AP-10)'!$C$5=\"drum mix plant\",'Asphalt Plant (AP-10)'!T82,0)))","v":""}]
["2,2,4-Trimethylpentane"]
[{"$f":"IF(OR('Asphalt Plant (AP-1)'!$C$5=\"drum mix plant\",'Asphalt Plant (AP-2)'!$C$5=\"drum mix plant\",'Asphalt Plant (AP-3)'!$C$5=\"drum mix plant\",'Asphalt Plant (AP-4)'!$C$5=\"drum mix plant\",'Asphalt Plant (AP-5)'!$C$5=\"drum mix plant\",'Asphalt Plant (AP-6)'!$C$5=\"drum mix plant\",'Asphalt Plant (AP-7)'!$C$5=\"drum mix plant\",'Asphalt Plant (AP-8)'!$C$5=\"drum mix plant\",'Asphalt Plant (AP-9)'!$C$5=\"drum mix plant\",'Asphalt Plant (AP-10)'!$C$5=\"drum mix plant\"),\"ALL\",\"\")","v":""},{"$f":"IF(OR('Asphalt Plant (AP-1)'!$C$5=\"drum mix plant\",'Asphalt Plant (AP-2)'!$C$5=\"drum mix plant\",'Asphalt Plant (AP-3)'!$C$5=\"drum mix plant\",'Asphalt Plant (AP-4)'!$C$5=\"drum mix plant\",'Asphalt Plant (AP-5)'!$C$5=\"drum mix plant\",'Asphalt Plant (AP-6)'!$C$5=\"drum mix plant\",'Asphalt Plant (AP-7)'!$C$5=\"drum mix plant\",'Asphalt Plant (AP-8)'!$C$5=\"drum mix plant\",'Asphalt Plant (AP-9)'!$C$5=\"drum mix plant\",'Asphalt Plant (AP-10)'!$C$5=\"drum mix plant\"),\"Drum Mix Plant\",\"\")","v":""},{"$f":"IF(B128=\"\",\"\",\"30500255/58/61\")","v":""},{"$f":"IF(B128=\"\",\"\",SUM(IF('Asphalt Plant (AP-1)'!C5=\"drum mix plant\",SUM('Asphalt Plant (AP-1)'!N5:N7),0),IF('Asphalt Plant (AP-2)'!C5=\"drum mix plant\",SUM('Asphalt Plant (AP-2)'!N5:N7),0),IF('Asphalt Plant (AP-3)'!C5=\"drum mix plant\",SUM('Asphalt Plant (AP-3)'!N5:N7),0),IF('Asphalt Plant (AP-4)'!C5=\"drum mix plant\",SUM('Asphalt Plant (AP-4)'!N5:N7),0),IF('Asphalt Plant (AP-5)'!C5=\"drum mix plant\",SUM('Asphalt Plant (AP-5)'!N5:N7),0),IF('Asphalt Plant (AP-6)'!C5=\"drum mix plant\",SUM('Asphalt Plant (AP-6)'!N5:N7),0),IF('Asphalt Plant (AP-7)'!C5=\"drum mix plant\",SUM('Asphalt Plant (AP-7)'!N5:N7),0),IF('Asphalt Plant (AP-8)'!C5=\"drum mix plant\",SUM('Asphalt Plant (AP-8)'!N5:N7),0),IF('Asphalt Plant (AP-9)'!C5=\"drum mix plant\",SUM('Asphalt Plant (AP-9)'!N5:N7),0),IF('Asphalt Plant (AP-10)'!C5=\"drum mix plant\",SUM('Asphalt Plant (AP-10)'!N5:N7),0)))","v":""},{"$f":"IF(B128=\"\",\"\",\"tons/hr\")","v":""},{"$f":"IF(B128=\"\",\"\",0.00004)","v":""},{"$f":"IF(B128=\"\",\"\",\"lbs/ton\")","v":""},{"$f":"IF(B128=\"\",\"\",\"AP-42 Table 11.1-4,7,8,10\")","v":""},{"$f":"IF(B128=\"\",\"\",SUM(IF('Asphalt Plant (AP-1)'!$C$5=\"drum mix plant\",'Asphalt Plant (AP-1)'!Q84,0),IF('Asphalt Plant (AP-2)'!$C$5=\"drum mix plant\",'Asphalt Plant (AP-2)'!Q84,0),IF('Asphalt Plant (AP-3)'!$C$5=\"drum mix plant\",'Asphalt Plant (AP-3)'!Q84,0),IF('Asphalt Plant (AP-4)'!$C$5=\"drum mix plant\",'Asphalt Plant (AP-4)'!Q84,0),IF('Asphalt Plant (AP-5)'!$C$5=\"drum mix plant\",'Asphalt Plant (AP-5)'!Q84,0),IF('Asphalt Plant (AP-6)'!$C$5=\"drum mix plant\",'Asphalt Plant (AP-6)'!Q84,0),IF('Asphalt Plant (AP-7)'!$C$5=\"drum mix plant\",'Asphalt Plant (AP-7)'!Q84,0),IF('Asphalt Plant (AP-8)'!$C$5=\"drum mix plant\",'Asphalt Plant (AP-8)'!Q84,0),IF('Asphalt Plant (AP-9)'!$C$5=\"drum mix plant\",'Asphalt Plant (AP-9)'!Q84,0),IF('Asphalt Plant (AP-10)'!$C$5=\"drum mix plant\",'Asphalt Plant (AP-10)'!Q84,0)))","v":""},null,null,{"$f":"IF(B128=\"\",\"\",SUM(IF('Asphalt Plant (AP-1)'!$C$5=\"drum mix plant\",'Asphalt Plant (AP-1)'!S84,0),IF('Asphalt Plant (AP-2)'!$C$5=\"drum mix plant\",'Asphalt Plant (AP-2)'!S84,0),IF('Asphalt Plant (AP-3)'!$C$5=\"drum mix plant\",'Asphalt Plant (AP-3)'!S84,0),IF('Asphalt Plant (AP-4)'!$C$5=\"drum mix plant\",'Asphalt Plant (AP-4)'!S84,0),IF('Asphalt Plant (AP-5)'!$C$5=\"drum mix plant\",'Asphalt Plant (AP-5)'!S84,0),IF('Asphalt Plant (AP-6)'!$C$5=\"drum mix plant\",'Asphalt Plant (AP-6)'!S84,0),IF('Asphalt Plant (AP-7)'!$C$5=\"drum mix plant\",'Asphalt Plant (AP-7)'!S84,0),IF('Asphalt Plant (AP-8)'!$C$5=\"drum mix plant\",'Asphalt Plant (AP-8)'!S84,0),IF('Asphalt Plant (AP-9)'!$C$5=\"drum mix plant\",'Asphalt Plant (AP-9)'!S84,0),IF('Asphalt Plant (AP-10)'!$C$5=\"drum mix plant\",'Asphalt Plant (AP-10)'!S84,0)))","v":""},{"$f":"IF(B128=\"\",\"\",SUM(IF('Asphalt Plant (AP-1)'!$C$5=\"drum mix plant\",'Asphalt Plant (AP-1)'!T84,0),IF('Asphalt Plant (AP-2)'!$C$5=\"drum mix plant\",'Asphalt Plant (AP-2)'!T84,0),IF('Asphalt Plant (AP-3)'!$C$5=\"drum mix plant\",'Asphalt Plant (AP-3)'!T84,0),IF('Asphalt Plant (AP-4)'!$C$5=\"drum mix plant\",'Asphalt Plant (AP-4)'!T84,0),IF('Asphalt Plant (AP-5)'!$C$5=\"drum mix plant\",'Asphalt Plant (AP-5)'!T84,0),IF('Asphalt Plant (AP-6)'!$C$5=\"drum mix plant\",'Asphalt Plant (AP-6)'!T84,0),IF('Asphalt Plant (AP-7)'!$C$5=\"drum mix plant\",'Asphalt Plant (AP-7)'!T84,0),IF('Asphalt Plant (AP-8)'!$C$5=\"drum mix plant\",'Asphalt Plant (AP-8)'!T84,0),IF('Asphalt Plant (AP-9)'!$C$5=\"drum mix plant\",'Asphalt Plant (AP-9)'!T84,0),IF('Asphalt Plant (AP-10)'!$C$5=\"drum mix plant\",'Asphalt Plant (AP-10)'!T84,0)))","v":""}]
["Chromium Compounds"]
[{"$f":"IF(OR('Asphalt Plant (AP-1)'!$C$5=\"drum mix plant\",'Asphalt Plant (AP-2)'!$C$5=\"drum mix plant\",'Asphalt Plant (AP-3)'!$C$5=\"drum mix plant\",'Asphalt Plant (AP-4)'!$C$5=\"drum mix plant\",'Asphalt Plant (AP-5)'!$C$5=\"drum mix plant\",'Asphalt Plant (AP-6)'!$C$5=\"drum mix plant\",'Asphalt Plant (AP-7)'!$C$5=\"drum mix plant\",'Asphalt Plant (AP-8)'!$C$5=\"drum mix plant\",'Asphalt Plant (AP-9)'!$C$5=\"drum mix plant\",'Asphalt Plant (AP-10)'!$C$5=\"drum mix plant\"),\"ALL\",\"\")","v":""},{"$f":"IF(OR('Asphalt Plant (AP-1)'!$C$5=\"drum mix plant\",'Asphalt Plant (AP-2)'!$C$5=\"drum mix plant\",'Asphalt Plant (AP-3)'!$C$5=\"drum mix plant\",'Asphalt Plant (AP-4)'!$C$5=\"drum mix plant\",'Asphalt Plant (AP-5)'!$C$5=\"drum mix plant\",'Asphalt Plant (AP-6)'!$C$5=\"drum mix plant\",'Asphalt Plant (AP-7)'!$C$5=\"drum mix plant\",'Asphalt Plant (AP-8)'!$C$5=\"drum mix plant\",'Asphalt Plant (AP-9)'!$C$5=\"drum mix plant\",'Asphalt Plant (AP-10)'!$C$5=\"drum mix plant\"),\"Drum Mix Plant\",\"\")","v":""},{"$f":"IF(B130=\"\",\"\",\"30500258/61\")","v":""},{"$f":"IF(B130=\"\",\"\",SUM(IF('Asphalt Plant (AP-1)'!C5=\"drum mix plant\",SUM('Asphalt Plant (AP-1)'!N5:N6),0),IF('Asphalt Plant (AP-2)'!C5=\"drum mix plant\",SUM('Asphalt Plant (AP-2)'!N5:N6),0),IF('Asphalt Plant (AP-3)'!C5=\"drum mix plant\",SUM('Asphalt Plant (AP-3)'!N5:N6),0),IF('Asphalt Plant (AP-4)'!C5=\"drum mix plant\",SUM('Asphalt Plant (AP-4)'!N5:N6),0),IF('Asphalt Plant (AP-5)'!C5=\"drum mix plant\",SUM('Asphalt Plant (AP-5)'!N5:N6),0),IF('Asphalt Plant (AP-6)'!C5=\"drum mix plant\",SUM('Asphalt Plant (AP-6)'!N5:N6),0),IF('Asphalt Plant (AP-7)'!C5=\"drum mix plant\",SUM('Asphalt Plant (AP-7)'!N5:N6),0),IF('Asphalt Plant (AP-8)'!C5=\"drum mix plant\",SUM('Asphalt Plant (AP-8)'!N5:N6),0),IF('Asphalt Plant (AP-9)'!C5=\"drum mix plant\",SUM('Asphalt Plant (AP-9)'!N5:N6),0),IF('Asphalt Plant (AP-10)'!C5=\"drum mix plant\",SUM('Asphalt Plant (AP-10)'!N5:N6),0)))","v":""},{"$f":"IF(B130=\"\",\"\",\"tons/hr\")","v":""},{"$f":"IF(B130=\"\",\"\",MAX(IF('Asphalt Plant (AP-1)'!$C$5=\"drum mix plant\",'Asphalt Plant (AP-1)'!O86,0),IF('Asphalt Plant (AP-2)'!$C$5=\"drum mix plant\",'Asphalt Plant (AP-2)'!O86,0),IF('Asphalt Plant (AP-3)'!$C$5=\"drum mix plant\",'Asphalt Plant (AP-3)'!O86,0),IF('Asphalt Plant (AP-4)'!$C$5=\"drum mix plant\",'Asphalt Plant (AP-4)'!O86,0),IF('Asphalt Plant (AP-5)'!$C$5=\"drum mix plant\",'Asphalt Plant (AP-5)'!O86,0),IF('Asphalt Plant (AP-6)'!$C$5=\"drum mix plant\",'Asphalt Plant (AP-6)'!O86,0),IF('Asphalt Plant (AP-7)'!$C$5=\"drum mix plant\",'Asphalt Plant (AP-7)'!O86,0),IF('Asphalt Plant (AP-8)'!$C$5=\"drum mix plant\",'Asphalt Plant (AP-8)'!O86,0),IF('Asphalt Plant (AP-9)'!$C$5=\"drum mix plant\",'Asphalt Plant (AP-9)'!O86,0),IF('Asphalt Plant (AP-10)'!$C$5=\"drum mix plant\",'Asphalt Plant (AP-10)'!O86,0)))","v":""},{"$f":"IF(B130=\"\",\"\",\"lbs/ton\")","v":""},{"$f":"IF(B130=\"\",\"\",\"AP-42 Table 11.1-4,7,8,10\")","v":""},{"$f":"IF(B130=\"\",\"\",SUM(IF('Asphalt Plant (AP-1)'!$C$5=\"drum mix plant\",'Asphalt Plant (AP-1)'!Q86,0),IF('Asphalt Plant (AP-2)'!$C$5=\"drum mix plant\",'Asphalt Plant (AP-2)'!Q86,0),IF('Asphalt Plant (AP-3)'!$C$5=\"drum mix plant\",'Asphalt Plant (AP-3)'!Q86,0),IF('Asphalt Plant (AP-4)'!$C$5=\"drum mix plant\",'Asphalt Plant (AP-4)'!Q86,0),IF('Asphalt Plant (AP-5)'!$C$5=\"drum mix plant\",'Asphalt Plant (AP-5)'!Q86,0),IF('Asphalt Plant (AP-6)'!$C$5=\"drum mix plant\",'Asphalt Plant (AP-6)'!Q86,0),IF('Asphalt Plant (AP-7)'!$C$5=\"drum mix plant\",'Asphalt Plant (AP-7)'!Q86,0),IF('Asphalt Plant (AP-8)'!$C$5=\"drum mix plant\",'Asphalt Plant (AP-8)'!Q86,0),IF('Asphalt Plant (AP-9)'!$C$5=\"drum mix plant\",'Asphalt Plant (AP-9)'!Q86,0),IF('Asphalt Plant (AP-10)'!$C$5=\"drum mix plant\",'Asphalt Plant (AP-10)'!Q86,0)))","v":""},null,{"$f":"IF(B130=\"\",\"\",SUM(IF('Asphalt Plant (AP-1)'!$C$5=\"drum mix plant\",'Asphalt Plant (AP-1)'!R86,0),IF('Asphalt Plant (AP-2)'!$C$5=\"drum mix plant\",'Asphalt Plant (AP-2)'!R86,0),IF('Asphalt Plant (AP-3)'!$C$5=\"drum mix plant\",'Asphalt Plant (AP-3)'!R86,0),IF('Asphalt Plant (AP-4)'!$C$5=\"drum mix plant\",'Asphalt Plant (AP-4)'!R86,0),IF('Asphalt Plant (AP-5)'!$C$5=\"drum mix plant\",'Asphalt Plant (AP-5)'!R86,0),IF('Asphalt Plant (AP-6)'!$C$5=\"drum mix plant\",'Asphalt Plant (AP-6)'!R86,0),IF('Asphalt Plant (AP-7)'!$C$5=\"drum mix plant\",'Asphalt Plant (AP-7)'!R86,0),IF('Asphalt Plant (AP-8)'!$C$5=\"drum mix plant\",'Asphalt Plant (AP-8)'!R86,0),IF('Asphalt Plant (AP-9)'!$C$5=\"drum mix plant\",'Asphalt Plant (AP-9)'!R86,0),IF('Asphalt Plant (AP-10)'!$C$5=\"drum mix plant\",'Asphalt Plant (AP-10)'!R86,0)))","v":""},{"$f":"IF(B130=\"\",\"\",SUM(IF('Asphalt Plant (AP-1)'!$C$5=\"drum mix plant\",'Asphalt Plant (AP-1)'!S86,0),IF('Asphalt Plant (AP-2)'!$C$5=\"drum mix plant\",'Asphalt Plant (AP-2)'!S86,0),IF('Asphalt Plant (AP-3)'!$C$5=\"drum mix plant\",'Asphalt Plant (AP-3)'!S86,0),IF('Asphalt Plant (AP-4)'!$C$5=\"drum mix plant\",'Asphalt Plant (AP-4)'!S86,0),IF('Asphalt Plant (AP-5)'!$C$5=\"drum mix plant\",'Asphalt Plant (AP-5)'!S86,0),IF('Asphalt Plant (AP-6)'!$C$5=\"drum mix plant\",'Asphalt Plant (AP-6)'!S86,0),IF('Asphalt Plant (AP-7)'!$C$5=\"drum mix plant\",'Asphalt Plant (AP-7)'!S86,0),IF('Asphalt Plant (AP-8)'!$C$5=\"drum mix plant\",'Asphalt Plant (AP-8)'!S86,0),IF('Asphalt Plant (AP-9)'!$C$5=\"drum mix plant\",'Asphalt Plant (AP-9)'!S86,0),IF('Asphalt Plant (AP-10)'!$C$5=\"drum mix plant\",'Asphalt Plant (AP-10)'!S86,0)))","v":""},{"$f":"IF(B130=\"\",\"\",SUM(IF('Asphalt Plant (AP-1)'!$C$5=\"drum mix plant\",'Asphalt Plant (AP-1)'!T86,0),IF('Asphalt Plant (AP-2)'!$C$5=\"drum mix plant\",'Asphalt Plant (AP-2)'!T86,0),IF('Asphalt Plant (AP-3)'!$C$5=\"drum mix plant\",'Asphalt Plant (AP-3)'!T86,0),IF('Asphalt Plant (AP-4)'!$C$5=\"drum mix plant\",'Asphalt Plant (AP-4)'!T86,0),IF('Asphalt Plant (AP-5)'!$C$5=\"drum mix plant\",'Asphalt Plant (AP-5)'!T86,0),IF('Asphalt Plant (AP-6)'!$C$5=\"drum mix plant\",'Asphalt Plant (AP-6)'!T86,0),IF('Asphalt Plant (AP-7)'!$C$5=\"drum mix plant\",'Asphalt Plant (AP-7)'!T86,0),IF('Asphalt Plant (AP-8)'!$C$5=\"drum mix plant\",'Asphalt Plant (AP-8)'!T86,0),IF('Asphalt Plant (AP-9)'!$C$5=\"drum mix plant\",'Asphalt Plant (AP-9)'!T86,0),IF('Asphalt Plant (AP-10)'!$C$5=\"drum mix plant\",'Asphalt Plant (AP-10)'!T86,0)))","v":""}]
["Lead Compounds"]
[{"$f":"IF(OR('Asphalt Plant (AP-1)'!$C$5=\"drum mix plant\",'Asphalt Plant (AP-2)'!$C$5=\"drum mix plant\",'Asphalt Plant (AP-3)'!$C$5=\"drum mix plant\",'Asphalt Plant (AP-4)'!$C$5=\"drum mix plant\",'Asphalt Plant (AP-5)'!$C$5=\"drum mix plant\",'Asphalt Plant (AP-6)'!$C$5=\"drum mix plant\",'Asphalt Plant (AP-7)'!$C$5=\"drum mix plant\",'Asphalt Plant (AP-8)'!$C$5=\"drum mix plant\",'Asphalt Plant (AP-9)'!$C$5=\"drum mix plant\",'Asphalt Plant (AP-10)'!$C$5=\"drum mix plant\"),\"ALL\",\"\")","v":""},{"$f":"IF(OR('Asphalt Plant (AP-1)'!$C$5=\"drum mix plant\",'Asphalt Plant (AP-2)'!$C$5=\"drum mix plant\",'Asphalt Plant (AP-3)'!$C$5=\"drum mix plant\",'Asphalt Plant (AP-4)'!$C$5=\"drum mix plant\",'Asphalt Plant (AP-5)'!$C$5=\"drum mix plant\",'Asphalt Plant (AP-6)'!$C$5=\"drum mix plant\",'Asphalt Plant (AP-7)'!$C$5=\"drum mix plant\",'Asphalt Plant (AP-8)'!$C$5=\"drum mix plant\",'Asphalt Plant (AP-9)'!$C$5=\"drum mix plant\",'Asphalt Plant (AP-10)'!$C$5=\"drum mix plant\"),\"Drum Mix Plant\",\"\")","v":""},{"$f":"IF(B132=\"\",\"\",\"30500258/61\")","v":""},{"$f":"IF(B130=\"\",\"\",SUM(IF('Asphalt Plant (AP-1)'!C5=\"drum mix plant\",SUM('Asphalt Plant (AP-1)'!N5:N6),0),IF('Asphalt Plant (AP-2)'!C5=\"drum mix plant\",SUM('Asphalt Plant (AP-2)'!N5:N6),0),IF('Asphalt Plant (AP-3)'!C5=\"drum mix plant\",SUM('Asphalt Plant (AP-3)'!N5:N6),0),IF('Asphalt Plant (AP-4)'!C5=\"drum mix plant\",SUM('Asphalt Plant (AP-4)'!N5:N6),0),IF('Asphalt Plant (AP-5)'!C5=\"drum mix plant\",SUM('Asphalt Plant (AP-5)'!N5:N6),0),IF('Asphalt Plant (AP-6)'!C5=\"drum mix plant\",SUM('Asphalt Plant (AP-6)'!N5:N6),0),IF('Asphalt Plant (AP-7)'!C5=\"drum mix plant\",SUM('Asphalt Plant (AP-7)'!N5:N6),0),IF('Asphalt Plant (AP-8)'!C5=\"drum mix plant\",SUM('Asphalt Plant (AP-8)'!N5:N6),0),IF('Asphalt Plant (AP-9)'!C5=\"drum mix plant\",SUM('Asphalt Plant (AP-9)'!N5:N6),0),IF('Asphalt Plant (AP-10)'!C5=\"drum mix plant\",SUM('Asphalt Plant (AP-10)'!N5:N6),0)))","v":""},{"$f":"IF(B132=\"\",\"\",\"tons/hr\")","v":""},{"$f":"IF(B132=\"\",\"\",MAX(IF('Asphalt Plant (AP-1)'!$C$5=\"drum mix plant\",'Asphalt Plant (AP-1)'!O88,0),IF('Asphalt Plant (AP-2)'!$C$5=\"drum mix plant\",'Asphalt Plant (AP-2)'!O88,0),IF('Asphalt Plant (AP-3)'!$C$5=\"drum mix plant\",'Asphalt Plant (AP-3)'!O88,0),IF('Asphalt Plant (AP-4)'!$C$5=\"drum mix plant\",'Asphalt Plant (AP-4)'!O88,0),IF('Asphalt Plant (AP-5)'!$C$5=\"drum mix plant\",'Asphalt Plant (AP-5)'!O88,0),IF('Asphalt Plant (AP-6)'!$C$5=\"drum mix plant\",'Asphalt Plant (AP-6)'!O88,0),IF('Asphalt Plant (AP-7)'!$C$5=\"drum mix plant\",'Asphalt Plant (AP-7)'!O88,0),IF('Asphalt Plant (AP-8)'!$C$5=\"drum mix plant\",'Asphalt Plant (AP-8)'!O88,0),IF('Asphalt Plant (AP-9)'!$C$5=\"drum mix plant\",'Asphalt Plant (AP-9)'!O88,0),IF('Asphalt Plant (AP-10)'!$C$5=\"drum mix plant\",'Asphalt Plant (AP-10)'!O88,0)))","v":""},{"$f":"IF(B132=\"\",\"\",\"lbs/ton\")","v":""},{"$f":"IF(B132=\"\",\"\",\"AP-42 Table 11.1-4,7,8,10\")","v":""},{"$f":"IF(B132=\"\",\"\",SUM(IF('Asphalt Plant (AP-1)'!$C$5=\"drum mix plant\",'Asphalt Plant (AP-1)'!Q88,0),IF('Asphalt Plant (AP-2)'!$C$5=\"drum mix plant\",'Asphalt Plant (AP-2)'!Q88,0),IF('Asphalt Plant (AP-3)'!$C$5=\"drum mix plant\",'Asphalt Plant (AP-3)'!Q88,0),IF('Asphalt Plant (AP-4)'!$C$5=\"drum mix plant\",'Asphalt Plant (AP-4)'!Q88,0),IF('Asphalt Plant (AP-5)'!$C$5=\"drum mix plant\",'Asphalt Plant (AP-5)'!Q88,0),IF('Asphalt Plant (AP-6)'!$C$5=\"drum mix plant\",'Asphalt Plant (AP-6)'!Q88,0),IF('Asphalt Plant (AP-7)'!$C$5=\"drum mix plant\",'Asphalt Plant (AP-7)'!Q88,0),IF('Asphalt Plant (AP-8)'!$C$5=\"drum mix plant\",'Asphalt Plant (AP-8)'!Q88,0),IF('Asphalt Plant (AP-9)'!$C$5=\"drum mix plant\",'Asphalt Plant (AP-9)'!Q88,0),IF('Asphalt Plant (AP-10)'!$C$5=\"drum mix plant\",'Asphalt Plant (AP-10)'!Q88,0)))","v":""},null,{"$f":"IF(B132=\"\",\"\",SUM(IF('Asphalt Plant (AP-1)'!$C$5=\"drum mix plant\",'Asphalt Plant (AP-1)'!R88,0),IF('Asphalt Plant (AP-2)'!$C$5=\"drum mix plant\",'Asphalt Plant (AP-2)'!R88,0),IF('Asphalt Plant (AP-3)'!$C$5=\"drum mix plant\",'Asphalt Plant (AP-3)'!R88,0),IF('Asphalt Plant (AP-4)'!$C$5=\"drum mix plant\",'Asphalt Plant (AP-4)'!R88,0),IF('Asphalt Plant (AP-5)'!$C$5=\"drum mix plant\",'Asphalt Plant (AP-5)'!R88,0),IF('Asphalt Plant (AP-6)'!$C$5=\"drum mix plant\",'Asphalt Plant (AP-6)'!R88,0),IF('Asphalt Plant (AP-7)'!$C$5=\"drum mix plant\",'Asphalt Plant (AP-7)'!R88,0),IF('Asphalt Plant (AP-8)'!$C$5=\"drum mix plant\",'Asphalt Plant (AP-8)'!R88,0),IF('Asphalt Plant (AP-9)'!$C$5=\"drum mix plant\",'Asphalt Plant (AP-9)'!R88,0),IF('Asphalt Plant (AP-10)'!$C$5=\"drum mix plant\",'Asphalt Plant (AP-10)'!R88,0)))","v":""},{"$f":"IF(B132=\"\",\"\",SUM(IF('Asphalt Plant (AP-1)'!$C$5=\"drum mix plant\",'Asphalt Plant (AP-1)'!S88,0),IF('Asphalt Plant (AP-2)'!$C$5=\"drum mix plant\",'Asphalt Plant (AP-2)'!S88,0),IF('Asphalt Plant (AP-3)'!$C$5=\"drum mix plant\",'Asphalt Plant (AP-3)'!S88,0),IF('Asphalt Plant (AP-4)'!$C$5=\"drum mix plant\",'Asphalt Plant (AP-4)'!S88,0),IF('Asphalt Plant (AP-5)'!$C$5=\"drum mix plant\",'Asphalt Plant (AP-5)'!S88,0),IF('Asphalt Plant (AP-6)'!$C$5=\"drum mix plant\",'Asphalt Plant (AP-6)'!S88,0),IF('Asphalt Plant (AP-7)'!$C$5=\"drum mix plant\",'Asphalt Plant (AP-7)'!S88,0),IF('Asphalt Plant (AP-8)'!$C$5=\"drum mix plant\",'Asphalt Plant (AP-8)'!S88,0),IF('Asphalt Plant (AP-9)'!$C$5=\"drum mix plant\",'Asphalt Plant (AP-9)'!S88,0),IF('Asphalt Plant (AP-10)'!$C$5=\"drum mix plant\",'Asphalt Plant (AP-10)'!S88,0)))","v":""},{"$f":"IF(B132=\"\",\"\",SUM(IF('Asphalt Plant (AP-1)'!$C$5=\"drum mix plant\",'Asphalt Plant (AP-1)'!T88,0),IF('Asphalt Plant (AP-2)'!$C$5=\"drum mix plant\",'Asphalt Plant (AP-2)'!T88,0),IF('Asphalt Plant (AP-3)'!$C$5=\"drum mix plant\",'Asphalt Plant (AP-3)'!T88,0),IF('Asphalt Plant (AP-4)'!$C$5=\"drum mix plant\",'Asphalt Plant (AP-4)'!T88,0),IF('Asphalt Plant (AP-5)'!$C$5=\"drum mix plant\",'Asphalt Plant (AP-5)'!T88,0),IF('Asphalt Plant (AP-6)'!$C$5=\"drum mix plant\",'Asphalt Plant (AP-6)'!T88,0),IF('Asphalt Plant (AP-7)'!$C$5=\"drum mix plant\",'Asphalt Plant (AP-7)'!T88,0),IF('Asphalt Plant (AP-8)'!$C$5=\"drum mix plant\",'Asphalt Plant (AP-8)'!T88,0),IF('Asphalt Plant (AP-9)'!$C$5=\"drum mix plant\",'Asphalt Plant (AP-9)'!T88,0),IF('Asphalt Plant (AP-10)'!$C$5=\"drum mix plant\",'Asphalt Plant (AP-10)'!T88,0)))","v":""}]
["Manganese Compounds"]
[{"$f":"IF(OR('Asphalt Plant (AP-1)'!$C$5=\"drum mix plant\",'Asphalt Plant (AP-2)'!$C$5=\"drum mix plant\",'Asphalt Plant (AP-3)'!$C$5=\"drum mix plant\",'Asphalt Plant (AP-4)'!$C$5=\"drum mix plant\",'Asphalt Plant (AP-5)'!$C$5=\"drum mix plant\",'Asphalt Plant (AP-6)'!$C$5=\"drum mix plant\",'Asphalt Plant (AP-7)'!$C$5=\"drum mix plant\",'Asphalt Plant (AP-8)'!$C$5=\"drum mix plant\",'Asphalt Plant (AP-9)'!$C$5=\"drum mix plant\",'Asphalt Plant (AP-10)'!$C$5=\"drum mix plant\"),\"ALL\",\"\")","v":""},{"$f":"IF(OR('Asphalt Plant (AP-1)'!$C$5=\"drum mix plant\",'Asphalt Plant (AP-2)'!$C$5=\"drum mix plant\",'Asphalt Plant (AP-3)'!$C$5=\"drum mix plant\",'Asphalt Plant (AP-4)'!$C$5=\"drum mix plant\",'Asphalt Plant (AP-5)'!$C$5=\"drum mix plant\",'Asphalt Plant (AP-6)'!$C$5=\"drum mix plant\",'Asphalt Plant (AP-7)'!$C$5=\"drum mix plant\",'Asphalt Plant (AP-8)'!$C$5=\"drum mix plant\",'Asphalt Plant (AP-9)'!$C$5=\"drum mix plant\",'Asphalt Plant (AP-10)'!$C$5=\"drum mix plant\"),\"Drum Mix Plant\",\"\")","v":""},{"$f":"IF(B134=\"\",\"\",\"30500258/61\")","v":""},{"$f":"IF(B130=\"\",\"\",SUM(IF('Asphalt Plant (AP-1)'!C5=\"drum mix plant\",SUM('Asphalt Plant (AP-1)'!N5:N6),0),IF('Asphalt Plant (AP-2)'!C5=\"drum mix plant\",SUM('Asphalt Plant (AP-2)'!N5:N6),0),IF('Asphalt Plant (AP-3)'!C5=\"drum mix plant\",SUM('Asphalt Plant (AP-3)'!N5:N6),0),IF('Asphalt Plant (AP-4)'!C5=\"drum mix plant\",SUM('Asphalt Plant (AP-4)'!N5:N6),0),IF('Asphalt Plant (AP-5)'!C5=\"drum mix plant\",SUM('Asphalt Plant (AP-5)'!N5:N6),0),IF('Asphalt Plant (AP-6)'!C5=\"drum mix plant\",SUM('Asphalt Plant (AP-6)'!N5:N6),0),IF('Asphalt Plant (AP-7)'!C5=\"drum mix plant\",SUM('Asphalt Plant (AP-7)'!N5:N6),0),IF('Asphalt Plant (AP-8)'!C5=\"drum mix plant\",SUM('Asphalt Plant (AP-8)'!N5:N6),0),IF('Asphalt Plant (AP-9)'!C5=\"drum mix plant\",SUM('Asphalt Plant (AP-9)'!N5:N6),0),IF('Asphalt Plant (AP-10)'!C5=\"drum mix plant\",SUM('Asphalt Plant (AP-10)'!N5:N6),0)))","v":""},{"$f":"IF(B134=\"\",\"\",\"tons/hr\")","v":""},{"$f":"IF(B134=\"\",\"\",MAX(IF('Asphalt Plant (AP-1)'!$C$5=\"drum mix plant\",'Asphalt Plant (AP-1)'!O90,0),IF('Asphalt Plant (AP-2)'!$C$5=\"drum mix plant\",'Asphalt Plant (AP-2)'!O90,0),IF('Asphalt Plant (AP-3)'!$C$5=\"drum mix plant\",'Asphalt Plant (AP-3)'!O90,0),IF('Asphalt Plant (AP-4)'!$C$5=\"drum mix plant\",'Asphalt Plant (AP-4)'!O90,0),IF('Asphalt Plant (AP-5)'!$C$5=\"drum mix plant\",'Asphalt Plant (AP-5)'!O90,0),IF('Asphalt Plant (AP-6)'!$C$5=\"drum mix plant\",'Asphalt Plant (AP-6)'!O90,0),IF('Asphalt Plant (AP-7)'!$C$5=\"drum mix plant\",'Asphalt Plant (AP-7)'!O90,0),IF('Asphalt Plant (AP-8)'!$C$5=\"drum mix plant\",'Asphalt Plant (AP-8)'!O90,0),IF('Asphalt Plant (AP-9)'!$C$5=\"drum mix plant\",'Asphalt Plant (AP-9)'!O90,0),IF('Asphalt Plant (AP-10)'!$C$5=\"drum mix plant\",'Asphalt Plant (AP-10)'!O90,0)))","v":""},{"$f":"IF(B134=\"\",\"\",\"lbs/ton\")","v":""},{"$f":"IF(B134=\"\",\"\",\"AP-42 Table 11.1-4,7,8,10\")","v":""},{"$f":"IF(B134=\"\",\"\",SUM(IF('Asphalt Plant (AP-1)'!$C$5=\"drum mix plant\",'Asphalt Plant (AP-1)'!Q90,0),IF('Asphalt Plant (AP-2)'!$C$5=\"drum mix plant\",'Asphalt Plant (AP-2)'!Q90,0),IF('Asphalt Plant (AP-3)'!$C$5=\"drum mix plant\",'Asphalt Plant (AP-3)'!Q90,0),IF('Asphalt Plant (AP-4)'!$C$5=\"drum mix plant\",'Asphalt Plant (AP-4)'!Q90,0),IF('Asphalt Plant (AP-5)'!$C$5=\"drum mix plant\",'Asphalt Plant (AP-5)'!Q90,0),IF('Asphalt Plant (AP-6)'!$C$5=\"drum mix plant\",'Asphalt Plant (AP-6)'!Q90,0),IF('Asphalt Plant (AP-7)'!$C$5=\"drum mix plant\",'Asphalt Plant (AP-7)'!Q90,0),IF('Asphalt Plant (AP-8)'!$C$5=\"drum mix plant\",'Asphalt Plant (AP-8)'!Q90,0),IF('Asphalt Plant (AP-9)'!$C$5=\"drum mix plant\",'Asphalt Plant (AP-9)'!Q90,0),IF('Asphalt Plant (AP-10)'!$C$5=\"drum mix plant\",'Asphalt Plant (AP-10)'!Q90,0)))","v":""},null,{"$f":"IF(B134=\"\",\"\",SUM(IF('Asphalt Plant (AP-1)'!$C$5=\"drum mix plant\",'Asphalt Plant (AP-1)'!R90,0),IF('Asphalt Plant (AP-2)'!$C$5=\"drum mix plant\",'Asphalt Plant (AP-2)'!R90,0),IF('Asphalt Plant (AP-3)'!$C$5=\"drum mix plant\",'Asphalt Plant (AP-3)'!R90,0),IF('Asphalt Plant (AP-4)'!$C$5=\"drum mix plant\",'Asphalt Plant (AP-4)'!R90,0),IF('Asphalt Plant (AP-5)'!$C$5=\"drum mix plant\",'Asphalt Plant (AP-5)'!R90,0),IF('Asphalt Plant (AP-6)'!$C$5=\"drum mix plant\",'Asphalt Plant (AP-6)'!R90,0),IF('Asphalt Plant (AP-7)'!$C$5=\"drum mix plant\",'Asphalt Plant (AP-7)'!R90,0),IF('Asphalt Plant (AP-8)'!$C$5=\"drum mix plant\",'Asphalt Plant (AP-8)'!R90,0),IF('Asphalt Plant (AP-9)'!$C$5=\"drum mix plant\",'Asphalt Plant (AP-9)'!R90,0),IF('Asphalt Plant (AP-10)'!$C$5=\"drum mix plant\",'Asphalt Plant (AP-10)'!R90,0)))","v":""},{"$f":"IF(B134=\"\",\"\",SUM(IF('Asphalt Plant (AP-1)'!$C$5=\"drum mix plant\",'Asphalt Plant (AP-1)'!S90,0),IF('Asphalt Plant (AP-2)'!$C$5=\"drum mix plant\",'Asphalt Plant (AP-2)'!S90,0),IF('Asphalt Plant (AP-3)'!$C$5=\"drum mix plant\",'Asphalt Plant (AP-3)'!S90,0),IF('Asphalt Plant (AP-4)'!$C$5=\"drum mix plant\",'Asphalt Plant (AP-4)'!S90,0),IF('Asphalt Plant (AP-5)'!$C$5=\"drum mix plant\",'Asphalt Plant (AP-5)'!S90,0),IF('Asphalt Plant (AP-6)'!$C$5=\"drum mix plant\",'Asphalt Plant (AP-6)'!S90,0),IF('Asphalt Plant (AP-7)'!$C$5=\"drum mix plant\",'Asphalt Plant (AP-7)'!S90,0),IF('Asphalt Plant (AP-8)'!$C$5=\"drum mix plant\",'Asphalt Plant (AP-8)'!S90,0),IF('Asphalt Plant (AP-9)'!$C$5=\"drum mix plant\",'Asphalt Plant (AP-9)'!S90,0),IF('Asphalt Plant (AP-10)'!$C$5=\"drum mix plant\",'Asphalt Plant (AP-10)'!S90,0)))","v":""},{"$f":"IF(B134=\"\",\"\",SUM(IF('Asphalt Plant (AP-1)'!$C$5=\"drum mix plant\",'Asphalt Plant (AP-1)'!T90,0),IF('Asphalt Plant (AP-2)'!$C$5=\"drum mix plant\",'Asphalt Plant (AP-2)'!T90,0),IF('Asphalt Plant (AP-3)'!$C$5=\"drum mix plant\",'Asphalt Plant (AP-3)'!T90,0),IF('Asphalt Plant (AP-4)'!$C$5=\"drum mix plant\",'Asphalt Plant (AP-4)'!T90,0),IF('Asphalt Plant (AP-5)'!$C$5=\"drum mix plant\",'Asphalt Plant (AP-5)'!T90,0),IF('Asphalt Plant (AP-6)'!$C$5=\"drum mix plant\",'Asphalt Plant (AP-6)'!T90,0),IF('Asphalt Plant (AP-7)'!$C$5=\"drum mix plant\",'Asphalt Plant (AP-7)'!T90,0),IF('Asphalt Plant (AP-8)'!$C$5=\"drum mix plant\",'Asphalt Plant (AP-8)'!T90,0),IF('Asphalt Plant (AP-9)'!$C$5=\"drum mix plant\",'Asphalt Plant (AP-9)'!T90,0),IF('Asphalt Plant (AP-10)'!$C$5=\"drum mix plant\",'Asphalt Plant (AP-10)'!T90,0)))","v":""}]
["Nickel Compounds",null,null,null,null,null,{"$f":"IF(F135=\"\",\"\",\"lbs/ton\")","v":""},{"$f":"IF(F135=\"\",\"\",LOOKUP(B133,'[1]Emission Factors'!$A$5:$A$10,'[1]Emission Factors'!$D$5:$D$10))","v":""}]
[{"$f":"IF(D136=\"\",\"\",\"ALL\")","v":""},{"$f":"IF(D136=\"\",\"\",\"Drum Mix Plant - Fuel Oil\")","v":""},{"$f":"IF(B136=\"\",\"\",\"30500258\")","v":""},{"$f":"IF(SUM(IF('Asphalt Plant (AP-1)'!$C$5=\"drum mix plant\",'Asphalt Plant (AP-1)'!N5,0),IF('Asphalt Plant (AP-2)'!$C$5=\"drum mix plant\",'Asphalt Plant (AP-2)'!N5,0),IF('Asphalt Plant (AP-3)'!$C$5=\"drum mix plant\",'Asphalt Plant (AP-3)'!N5,0),IF('Asphalt Plant (AP-4)'!$C$5=\"drum mix plant\",'Asphalt Plant (AP-4)'!N5,0),IF('Asphalt Plant (AP-5)'!$C$5=\"drum mix plant\",'Asphalt Plant (AP-5)'!N5,0),IF('Asphalt Plant (AP-6)'!$C$5=\"drum mix plant\",'Asphalt Plant (AP-6)'!N5,0),IF('Asphalt Plant (AP-7)'!$C$5=\"drum mix plant\",'Asphalt Plant (AP-7)'!N5,0),IF('Asphalt Plant (AP-8)'!$C$5=\"drum mix plant\",'Asphalt Plant (AP-8)'!N5,0),IF('Asphalt Plant (AP-9)'!$C$5=\"drum mix plant\",'Asphalt Plant (AP-9)'!N5,0),IF('Asphalt Plant (AP-10)'!$C$5=\"drum mix plant\",'Asphalt Plant (AP-10)'!N5,0))>0,SUM(IF('Asphalt Plant (AP-1)'!$C$5=\"drum mix plant\",'Asphalt Plant (AP-1)'!N5,0),IF('Asphalt Plant (AP-2)'!$C$5=\"drum mix plant\",'Asphalt Plant (AP-2)'!N5,0),IF('Asphalt Plant (AP-3)'!$C$5=\"drum mix plant\",'Asphalt Plant (AP-3)'!N5,0),IF('Asphalt Plant (AP-4)'!$C$5=\"drum mix plant\",'Asphalt Plant (AP-4)'!N5,0),IF('Asphalt Plant (AP-5)'!$C$5=\"drum mix plant\",'Asphalt Plant (AP-5)'!N5,0),IF('Asphalt Plant (AP-6)'!$C$5=\"drum mix plant\",'Asphalt Plant (AP-6)'!N5,0),IF('Asphalt Plant (AP-7)'!$C$5=\"drum mix plant\",'Asphalt Plant (AP-7)'!N5,0),IF('Asphalt Plant (AP-8)'!$C$5=\"drum mix plant\",'Asphalt Plant (AP-8)'!N5,0),IF('Asphalt Plant (AP-9)'!$C$5=\"drum mix plant\",'Asphalt Plant (AP-9)'!N5,0),IF('Asphalt Plant (AP-10)'!$C$5=\"drum mix plant\",'Asphalt Plant (AP-10)'!N5,0)),\"\")","v":""},{"$f":"IF(B136=\"\",\"\",\"tons/hr\")","v":""},{"$f":"IF(B136=\"\",\"\",MAX(IF('Asphalt Plant (AP-1)'!$C$5=\"drum mix plant\",'Asphalt Plant (AP-1)'!O92,0),IF('Asphalt Plant (AP-2)'!$C$5=\"drum mix plant\",'Asphalt Plant (AP-2)'!O92,0),IF('Asphalt Plant (AP-3)'!$C$5=\"drum mix plant\",'Asphalt Plant (AP-3)'!O92,0),IF('Asphalt Plant (AP-4)'!$C$5=\"drum mix plant\",'Asphalt Plant (AP-4)'!O92,0),IF('Asphalt Plant (AP-5)'!$C$5=\"drum mix plant\",'Asphalt Plant (AP-5)'!O92,0),IF('Asphalt Plant (AP-6)'!$C$5=\"drum mix plant\",'Asphalt Plant (AP-6)'!O92,0),IF('Asphalt Plant (AP-7)'!$C$5=\"drum mix plant\",'Asphalt Plant (AP-7)'!O92,0),IF('Asphalt Plant (AP-8)'!$C$5=\"drum mix plant\",'Asphalt Plant (AP-8)'!O92,0),IF('Asphalt Plant (AP-9)'!$C$5=\"drum mix plant\",'Asphalt Plant (AP-9)'!O92,0),IF('Asphalt Plant (AP-10)'!$C$5=\"drum mix plant\",'Asphalt Plant (AP-10)'!O92,0)))","v":""},{"$f":"IF(B136=\"\",\"\",\"lb/ton\")","v":""},{"$f":"IF(B136=\"\",\"\",\"AP-42 Table 11.1-4,7,8,10\")","v":""},{"$f":"IF(B136=\"\",\"\",SUM(IF('Asphalt Plant (AP-1)'!$C$5=\"drum mix plant\",'Asphalt Plant (AP-1)'!Q92,0),IF('Asphalt Plant (AP-2)'!$C$5=\"drum mix plant\",'Asphalt Plant (AP-2)'!Q92,0),IF('Asphalt Plant (AP-3)'!$C$5=\"drum mix plant\",'Asphalt Plant (AP-3)'!Q92,0),IF('Asphalt Plant (AP-4)'!$C$5=\"drum mix plant\",'Asphalt Plant (AP-4)'!Q92,0),IF('Asphalt Plant (AP-5)'!$C$5=\"drum mix plant\",'Asphalt Plant (AP-5)'!Q92,0),IF('Asphalt Plant (AP-6)'!$C$5=\"drum mix plant\",'Asphalt Plant (AP-6)'!Q92,0),IF('Asphalt Plant (AP-7)'!$C$5=\"drum mix plant\",'Asphalt Plant (AP-7)'!Q92,0),IF('Asphalt Plant (AP-8)'!$C$5=\"drum mix plant\",'Asphalt Plant (AP-8)'!Q92,0),IF('Asphalt Plant (AP-9)'!$C$5=\"drum mix plant\",'Asphalt Plant (AP-9)'!Q92,0),IF('Asphalt Plant (AP-10)'!$C$5=\"drum mix plant\",'Asphalt Plant (AP-10)'!Q92,0)))","v":""},null,{"$f":"IF(B136=\"\",\"\",SUM(IF('Asphalt Plant (AP-1)'!$C$5=\"drum mix plant\",'Asphalt Plant (AP-1)'!R92,0),IF('Asphalt Plant (AP-2)'!$C$5=\"drum mix plant\",'Asphalt Plant (AP-2)'!R92,0),IF('Asphalt Plant (AP-3)'!$C$5=\"drum mix plant\",'Asphalt Plant (AP-3)'!R92,0),IF('Asphalt Plant (AP-4)'!$C$5=\"drum mix plant\",'Asphalt Plant (AP-4)'!R92,0),IF('Asphalt Plant (AP-5)'!$C$5=\"drum mix plant\",'Asphalt Plant (AP-5)'!R92,0),IF('Asphalt Plant (AP-6)'!$C$5=\"drum mix plant\",'Asphalt Plant (AP-6)'!R92,0),IF('Asphalt Plant (AP-7)'!$C$5=\"drum mix plant\",'Asphalt Plant (AP-7)'!R92,0),IF('Asphalt Plant (AP-8)'!$C$5=\"drum mix plant\",'Asphalt Plant (AP-8)'!R92,0),IF('Asphalt Plant (AP-9)'!$C$5=\"drum mix plant\",'Asphalt Plant (AP-9)'!R92,0),IF('Asphalt Plant (AP-10)'!$C$5=\"drum mix plant\",'Asphalt Plant (AP-10)'!R92,0)))","v":""},{"$f":"IF(B136=\"\",\"\",SUM(IF('Asphalt Plant (AP-1)'!$C$5=\"drum mix plant\",'Asphalt Plant (AP-1)'!S92,0),IF('Asphalt Plant (AP-2)'!$C$5=\"drum mix plant\",'Asphalt Plant (AP-2)'!S92,0),IF('Asphalt Plant (AP-3)'!$C$5=\"drum mix plant\",'Asphalt Plant (AP-3)'!S92,0),IF('Asphalt Plant (AP-4)'!$C$5=\"drum mix plant\",'Asphalt Plant (AP-4)'!S92,0),IF('Asphalt Plant (AP-5)'!$C$5=\"drum mix plant\",'Asphalt Plant (AP-5)'!S92,0),IF('Asphalt Plant (AP-6)'!$C$5=\"drum mix plant\",'Asphalt Plant (AP-6)'!S92,0),IF('Asphalt Plant (AP-7)'!$C$5=\"drum mix plant\",'Asphalt Plant (AP-7)'!S92,0),IF('Asphalt Plant (AP-8)'!$C$5=\"drum mix plant\",'Asphalt Plant (AP-8)'!S92,0),IF('Asphalt Plant (AP-9)'!$C$5=\"drum mix plant\",'Asphalt Plant (AP-9)'!S92,0),IF('Asphalt Plant (AP-10)'!$C$5=\"drum mix plant\",'Asphalt Plant (AP-10)'!S92,0)))","v":""},{"$f":"IF(B136=\"\",\"\",SUM(IF('Asphalt Plant (AP-1)'!$C$5=\"drum mix plant\",'Asphalt Plant (AP-1)'!T92,0),IF('Asphalt Plant (AP-2)'!$C$5=\"drum mix plant\",'Asphalt Plant (AP-2)'!T92,0),IF('Asphalt Plant (AP-3)'!$C$5=\"drum mix plant\",'Asphalt Plant (AP-3)'!T92,0),IF('Asphalt Plant (AP-4)'!$C$5=\"drum mix plant\",'Asphalt Plant (AP-4)'!T92,0),IF('Asphalt Plant (AP-5)'!$C$5=\"drum mix plant\",'Asphalt Plant (AP-5)'!T92,0),IF('Asphalt Plant (AP-6)'!$C$5=\"drum mix plant\",'Asphalt Plant (AP-6)'!T92,0),IF('Asphalt Plant (AP-7)'!$C$5=\"drum mix plant\",'Asphalt Plant (AP-7)'!T92,0),IF('Asphalt Plant (AP-8)'!$C$5=\"drum mix plant\",'Asphalt Plant (AP-8)'!T92,0),IF('Asphalt Plant (AP-9)'!$C$5=\"drum mix plant\",'Asphalt Plant (AP-9)'!T92,0),IF('Asphalt Plant (AP-10)'!$C$5=\"drum mix plant\",'Asphalt Plant (AP-10)'!T92,0)))","v":""}]
[{"$f":"IF(D137=\"\",\"\",\"ALL\")","v":""},{"$f":"IF(D137=\"\",\"\",\"Drum Mix Plant - Waste Oil\")","v":""},{"$f":"IF(B137=\"\",\"\",\"30500255\")","v":""},{"$f":"IF(SUM(IF('Asphalt Plant (AP-1)'!$C$5=\"drum mix plant\",'Asphalt Plant (AP-1)'!N6,0),IF('Asphalt Plant (AP-2)'!$C$5=\"drum mix plant\",'Asphalt Plant (AP-2)'!N6,0),IF('Asphalt Plant (AP-3)'!$C$5=\"drum mix plant\",'Asphalt Plant (AP-3)'!N6,0),IF('Asphalt Plant (AP-4)'!$C$5=\"drum mix plant\",'Asphalt Plant (AP-4)'!N6,0),IF('Asphalt Plant (AP-5)'!$C$5=\"drum mix plant\",'Asphalt Plant (AP-5)'!N6,0),IF('Asphalt Plant (AP-6)'!$C$5=\"drum mix plant\",'Asphalt Plant (AP-6)'!N6,0),IF('Asphalt Plant (AP-7)'!$C$5=\"drum mix plant\",'Asphalt Plant (AP-7)'!N6,0),IF('Asphalt Plant (AP-8)'!$C$5=\"drum mix plant\",'Asphalt Plant (AP-8)'!N6,0),IF('Asphalt Plant (AP-9)'!$C$5=\"drum mix plant\",'Asphalt Plant (AP-9)'!N6,0),IF('Asphalt Plant (AP-10)'!$C$5=\"drum mix plant\",'Asphalt Plant (AP-10)'!N6,0))>0,SUM(IF('Asphalt Plant (AP-1)'!$C$5=\"drum mix plant\",'Asphalt Plant (AP-1)'!N6,0),IF('Asphalt Plant (AP-2)'!$C$5=\"drum mix plant\",'Asphalt Plant (AP-2)'!N6,0),IF('Asphalt Plant (AP-3)'!$C$5=\"drum mix plant\",'Asphalt Plant (AP-3)'!N6,0),IF('Asphalt Plant (AP-4)'!$C$5=\"drum mix plant\",'Asphalt Plant (AP-4)'!N6,0),IF('Asphalt Plant (AP-5)'!$C$5=\"drum mix plant\",'Asphalt Plant (AP-5)'!N6,0),IF('Asphalt Plant (AP-6)'!$C$5=\"drum mix plant\",'Asphalt Plant (AP-6)'!N6,0),IF('Asphalt Plant (AP-7)'!$C$5=\"drum mix plant\",'Asphalt Plant (AP-7)'!N6,0),IF('Asphalt Plant (AP-8)'!$C$5=\"drum mix plant\",'Asphalt Plant (AP-8)'!N6,0),IF('Asphalt Plant (AP-9)'!$C$5=\"drum mix plant\",'Asphalt Plant (AP-9)'!N6,0),IF('Asphalt Plant (AP-10)'!$C$5=\"drum mix plant\",'Asphalt Plant (AP-10)'!N6,0)),\"\")","v":""},{"$f":"IF(B137=\"\",\"\",\"tons/hr\")","v":""},{"$f":"IF(B137=\"\",\"\",MAX(IF('Asphalt Plant (AP-1)'!$C$5=\"drum mix plant\",'Asphalt Plant (AP-1)'!O93,0),IF('Asphalt Plant (AP-2)'!$C$5=\"drum mix plant\",'Asphalt Plant (AP-2)'!O93,0),IF('Asphalt Plant (AP-3)'!$C$5=\"drum mix plant\",'Asphalt Plant (AP-3)'!O93,0),IF('Asphalt Plant (AP-4)'!$C$5=\"drum mix plant\",'Asphalt Plant (AP-4)'!O93,0),IF('Asphalt Plant (AP-5)'!$C$5=\"drum mix plant\",'Asphalt Plant (AP-5)'!O93,0),IF('Asphalt Plant (AP-6)'!$C$5=\"drum mix plant\",'Asphalt Plant (AP-6)'!O93,0),IF('Asphalt Plant (AP-7)'!$C$5=\"drum mix plant\",'Asphalt Plant (AP-7)'!O93,0),IF('Asphalt Plant (AP-8)'!$C$5=\"drum mix plant\",'Asphalt Plant (AP-8)'!O93,0),IF('Asphalt Plant (AP-9)'!$C$5=\"drum mix plant\",'Asphalt Plant (AP-9)'!O93,0),IF('Asphalt Plant (AP-10)'!$C$5=\"drum mix plant\",'Asphalt Plant (AP-10)'!O93,0)))","v":""},{"$f":"IF(B137=\"\",\"\",\"lb/ton\")","v":""},{"$f":"IF(B137=\"\",\"\",\"AP-42 Table 11.1-4,7,8,10\")","v":""},{"$f":"IF(B137=\"\",\"\",SUM(IF('Asphalt Plant (AP-1)'!$C$5=\"drum mix plant\",'Asphalt Plant (AP-1)'!Q93,0),IF('Asphalt Plant (AP-2)'!$C$5=\"drum mix plant\",'Asphalt Plant (AP-2)'!Q93,0),IF('Asphalt Plant (AP-3)'!$C$5=\"drum mix plant\",'Asphalt Plant (AP-3)'!Q93,0),IF('Asphalt Plant (AP-4)'!$C$5=\"drum mix plant\",'Asphalt Plant (AP-4)'!Q93,0),IF('Asphalt Plant (AP-5)'!$C$5=\"drum mix plant\",'Asphalt Plant (AP-5)'!Q93,0),IF('Asphalt Plant (AP-6)'!$C$5=\"drum mix plant\",'Asphalt Plant (AP-6)'!Q93,0),IF('Asphalt Plant (AP-7)'!$C$5=\"drum mix plant\",'Asphalt Plant (AP-7)'!Q93,0),IF('Asphalt Plant (AP-8)'!$C$5=\"drum mix plant\",'Asphalt Plant (AP-8)'!Q93,0),IF('Asphalt Plant (AP-9)'!$C$5=\"drum mix plant\",'Asphalt Plant (AP-9)'!Q93,0),IF('Asphalt Plant (AP-10)'!$C$5=\"drum mix plant\",'Asphalt Plant (AP-10)'!Q93,0)))","v":""},null,{"$f":"IF(B137=\"\",\"\",SUM(IF('Asphalt Plant (AP-1)'!$C$5=\"drum mix plant\",'Asphalt Plant (AP-1)'!R93,0),IF('Asphalt Plant (AP-2)'!$C$5=\"drum mix plant\",'Asphalt Plant (AP-2)'!R93,0),IF('Asphalt Plant (AP-3)'!$C$5=\"drum mix plant\",'Asphalt Plant (AP-3)'!R93,0),IF('Asphalt Plant (AP-4)'!$C$5=\"drum mix plant\",'Asphalt Plant (AP-4)'!R93,0),IF('Asphalt Plant (AP-5)'!$C$5=\"drum mix plant\",'Asphalt Plant (AP-5)'!R93,0),IF('Asphalt Plant (AP-6)'!$C$5=\"drum mix plant\",'Asphalt Plant (AP-6)'!R93,0),IF('Asphalt Plant (AP-7)'!$C$5=\"drum mix plant\",'Asphalt Plant (AP-7)'!R93,0),IF('Asphalt Plant (AP-8)'!$C$5=\"drum mix plant\",'Asphalt Plant (AP-8)'!R93,0),IF('Asphalt Plant (AP-9)'!$C$5=\"drum mix plant\",'Asphalt Plant (AP-9)'!R93,0),IF('Asphalt Plant (AP-10)'!$C$5=\"drum mix plant\",'Asphalt Plant (AP-10)'!R93,0)))","v":""},{"$f":"IF(B137=\"\",\"\",SUM(IF('Asphalt Plant (AP-1)'!$C$5=\"drum mix plant\",'Asphalt Plant (AP-1)'!S93,0),IF('Asphalt Plant (AP-2)'!$C$5=\"drum mix plant\",'Asphalt Plant (AP-2)'!S93,0),IF('Asphalt Plant (AP-3)'!$C$5=\"drum mix plant\",'Asphalt Plant (AP-3)'!S93,0),IF('Asphalt Plant (AP-4)'!$C$5=\"drum mix plant\",'Asphalt Plant (AP-4)'!S93,0),IF('Asphalt Plant (AP-5)'!$C$5=\"drum mix plant\",'Asphalt Plant (AP-5)'!S93,0),IF('Asphalt Plant (AP-6)'!$C$5=\"drum mix plant\",'Asphalt Plant (AP-6)'!S93,0),IF('Asphalt Plant (AP-7)'!$C$5=\"drum mix plant\",'Asphalt Plant (AP-7)'!S93,0),IF('Asphalt Plant (AP-8)'!$C$5=\"drum mix plant\",'Asphalt Plant (AP-8)'!S93,0),IF('Asphalt Plant (AP-9)'!$C$5=\"drum mix plant\",'Asphalt Plant (AP-9)'!S93,0),IF('Asphalt Plant (AP-10)'!$C$5=\"drum mix plant\",'Asphalt Plant (AP-10)'!S93,0)))","v":""},{"$f":"IF(B137=\"\",\"\",SUM(IF('Asphalt Plant (AP-1)'!$C$5=\"drum mix plant\",'Asphalt Plant (AP-1)'!T93,0),IF('Asphalt Plant (AP-2)'!$C$5=\"drum mix plant\",'Asphalt Plant (AP-2)'!T93,0),IF('Asphalt Plant (AP-3)'!$C$5=\"drum mix plant\",'Asphalt Plant (AP-3)'!T93,0),IF('Asphalt Plant (AP-4)'!$C$5=\"drum mix plant\",'Asphalt Plant (AP-4)'!T93,0),IF('Asphalt Plant (AP-5)'!$C$5=\"drum mix plant\",'Asphalt Plant (AP-5)'!T93,0),IF('Asphalt Plant (AP-6)'!$C$5=\"drum mix plant\",'Asphalt Plant (AP-6)'!T93,0),IF('Asphalt Plant (AP-7)'!$C$5=\"drum mix plant\",'Asphalt Plant (AP-7)'!T93,0),IF('Asphalt Plant (AP-8)'!$C$5=\"drum mix plant\",'Asphalt Plant (AP-8)'!T93,0),IF('Asphalt Plant (AP-9)'!$C$5=\"drum mix plant\",'Asphalt Plant (AP-9)'!T93,0),IF('Asphalt Plant (AP-10)'!$C$5=\"drum mix plant\",'Asphalt Plant (AP-10)'!T93,0)))","v":""}]
[{"$f":"IF(D138=\"\",\"\",\"ALL\")","v":""},{"$f":"IF(D138=\"\",\"\",\"Drum Mix Plant - Natural Gas\")","v":""},{"$f":"IF(B138=\"\",\"\",\"30500261\")","v":""},{"$f":"IF(SUM(IF('Asphalt Plant (AP-1)'!$C$5=\"drum mix plant\",'Asphalt Plant (AP-1)'!N7,0),IF('Asphalt Plant (AP-2)'!$C$5=\"drum mix plant\",'Asphalt Plant (AP-2)'!N7,0),IF('Asphalt Plant (AP-3)'!$C$5=\"drum mix plant\",'Asphalt Plant (AP-3)'!N7,0),IF('Asphalt Plant (AP-4)'!$C$5=\"drum mix plant\",'Asphalt Plant (AP-4)'!N7,0),IF('Asphalt Plant (AP-5)'!$C$5=\"drum mix plant\",'Asphalt Plant (AP-5)'!N7,0),IF('Asphalt Plant (AP-6)'!$C$5=\"drum mix plant\",'Asphalt Plant (AP-6)'!N7,0),IF('Asphalt Plant (AP-7)'!$C$5=\"drum mix plant\",'Asphalt Plant (AP-7)'!N7,0),IF('Asphalt Plant (AP-8)'!$C$5=\"drum mix plant\",'Asphalt Plant (AP-8)'!N7,0),IF('Asphalt Plant (AP-9)'!$C$5=\"drum mix plant\",'Asphalt Plant (AP-9)'!N7,0),IF('Asphalt Plant (AP-10)'!$C$5=\"drum mix plant\",'Asphalt Plant (AP-10)'!N7,0))>0,SUM(IF('Asphalt Plant (AP-1)'!$C$5=\"drum mix plant\",'Asphalt Plant (AP-1)'!N7,0),IF('Asphalt Plant (AP-2)'!$C$5=\"drum mix plant\",'Asphalt Plant (AP-2)'!N7,0),IF('Asphalt Plant (AP-3)'!$C$5=\"drum mix plant\",'Asphalt Plant (AP-3)'!N7,0),IF('Asphalt Plant (AP-4)'!$C$5=\"drum mix plant\",'Asphalt Plant (AP-4)'!N7,0),IF('Asphalt Plant (AP-5)'!$C$5=\"drum mix plant\",'Asphalt Plant (AP-5)'!N7,0),IF('Asphalt Plant (AP-6)'!$C$5=\"drum mix plant\",'Asphalt Plant (AP-6)'!N7,0),IF('Asphalt Plant (AP-7)'!$C$5=\"drum mix plant\",'Asphalt Plant (AP-7)'!N7,0),IF('Asphalt Plant (AP-8)'!$C$5=\"drum mix plant\",'Asphalt Plant (AP-8)'!N7,0),IF('Asphalt Plant (AP-9)'!$C$5=\"drum mix plant\",'Asphalt Plant (AP-9)'!N7,0),IF('Asphalt Plant (AP-10)'!$C$5=\"drum mix plant\",'Asphalt Plant (AP-10)'!N7,0)),\"\")","v":""},{"$f":"IF(B138=\"\",\"\",\"tons/hr\")","v":""},{"$f":"IF(B138=\"\",\"\",MAX(IF('Asphalt Plant (AP-1)'!$C$5=\"drum mix plant\",'Asphalt Plant (AP-1)'!O94,0),IF('Asphalt Plant (AP-2)'!$C$5=\"drum mix plant\",'Asphalt Plant (AP-2)'!O94,0),IF('Asphalt Plant (AP-3)'!$C$5=\"drum mix plant\",'Asphalt Plant (AP-3)'!O94,0),IF('Asphalt Plant (AP-4)'!$C$5=\"drum mix plant\",'Asphalt Plant (AP-4)'!O94,0),IF('Asphalt Plant (AP-5)'!$C$5=\"drum mix plant\",'Asphalt Plant (AP-5)'!O94,0),IF('Asphalt Plant (AP-6)'!$C$5=\"drum mix plant\",'Asphalt Plant (AP-6)'!O94,0),IF('Asphalt Plant (AP-7)'!$C$5=\"drum mix plant\",'Asphalt Plant (AP-7)'!O94,0),IF('Asphalt Plant (AP-8)'!$C$5=\"drum mix plant\",'Asphalt Plant (AP-8)'!O94,0),IF('Asphalt Plant (AP-9)'!$C$5=\"drum mix plant\",'Asphalt Plant (AP-9)'!O94,0),IF('Asphalt Plant (AP-10)'!$C$5=\"drum mix plant\",'Asphalt Plant (AP-10)'!O94,0)))","v":""},{"$f":"IF(B138=\"\",\"\",\"lb/ton\")","v":""},{"$f":"IF(B138=\"\",\"\",\"AP-42 Table 11.1-4,7,8,10,12\")","v":""},{"$f":"IF(B138=\"\",\"\",SUM(IF('Asphalt Plant (AP-1)'!$C$5=\"drum mix plant\",'Asphalt Plant (AP-1)'!Q94,0),IF('Asphalt Plant (AP-2)'!$C$5=\"drum mix plant\",'Asphalt Plant (AP-2)'!Q94,0),IF('Asphalt Plant (AP-3)'!$C$5=\"drum mix plant\",'Asphalt Plant (AP-3)'!Q94,0),IF('Asphalt Plant (AP-4)'!$C$5=\"drum mix plant\",'Asphalt Plant (AP-4)'!Q94,0),IF('Asphalt Plant (AP-5)'!$C$5=\"drum mix plant\",'Asphalt Plant (AP-5)'!Q94,0),IF('Asphalt Plant (AP-6)'!$C$5=\"drum mix plant\",'Asphalt Plant (AP-6)'!Q94,0),IF('Asphalt Plant (AP-7)'!$C$5=\"drum mix plant\",'Asphalt Plant (AP-7)'!Q94,0),IF('Asphalt Plant (AP-8)'!$C$5=\"drum mix plant\",'Asphalt Plant (AP-8)'!Q94,0),IF('Asphalt Plant (AP-9)'!$C$5=\"drum mix plant\",'Asphalt Plant (AP-9)'!Q94,0),IF('Asphalt Plant (AP-10)'!$C$5=\"drum mix plant\",'Asphalt Plant (AP-10)'!Q94,0)))","v":""},null,{"$f":"IF(B138=\"\",\"\",SUM(IF('Asphalt Plant (AP-1)'!$C$5=\"drum mix plant\",'Asphalt Plant (AP-1)'!R94,0),IF('Asphalt Plant (AP-2)'!$C$5=\"drum mix plant\",'Asphalt Plant (AP-2)'!R94,0),IF('Asphalt Plant (AP-3)'!$C$5=\"drum mix plant\",'Asphalt Plant (AP-3)'!R94,0),IF('Asphalt Plant (AP-4)'!$C$5=\"drum mix plant\",'Asphalt Plant (AP-4)'!R94,0),IF('Asphalt Plant (AP-5)'!$C$5=\"drum mix plant\",'Asphalt Plant (AP-5)'!R94,0),IF('Asphalt Plant (AP-6)'!$C$5=\"drum mix plant\",'Asphalt Plant (AP-6)'!R94,0),IF('Asphalt Plant (AP-7)'!$C$5=\"drum mix plant\",'Asphalt Plant (AP-7)'!R94,0),IF('Asphalt Plant (AP-8)'!$C$5=\"drum mix plant\",'Asphalt Plant (AP-8)'!R94,0),IF('Asphalt Plant (AP-9)'!$C$5=\"drum mix plant\",'Asphalt Plant (AP-9)'!R94,0),IF('Asphalt Plant (AP-10)'!$C$5=\"drum mix plant\",'Asphalt Plant (AP-10)'!R94,0)))","v":""},{"$f":"IF(B138=\"\",\"\",SUM(IF('Asphalt Plant (AP-1)'!$C$5=\"drum mix plant\",'Asphalt Plant (AP-1)'!S94,0),IF('Asphalt Plant (AP-2)'!$C$5=\"drum mix plant\",'Asphalt Plant (AP-2)'!S94,0),IF('Asphalt Plant (AP-3)'!$C$5=\"drum mix plant\",'Asphalt Plant (AP-3)'!S94,0),IF('Asphalt Plant (AP-4)'!$C$5=\"drum mix plant\",'Asphalt Plant (AP-4)'!S94,0),IF('Asphalt Plant (AP-5)'!$C$5=\"drum mix plant\",'Asphalt Plant (AP-5)'!S94,0),IF('Asphalt Plant (AP-6)'!$C$5=\"drum mix plant\",'Asphalt Plant (AP-6)'!S94,0),IF('Asphalt Plant (AP-7)'!$C$5=\"drum mix plant\",'Asphalt Plant (AP-7)'!S94,0),IF('Asphalt Plant (AP-8)'!$C$5=\"drum mix plant\",'Asphalt Plant (AP-8)'!S94,0),IF('Asphalt Plant (AP-9)'!$C$5=\"drum mix plant\",'Asphalt Plant (AP-9)'!S94,0),IF('Asphalt Plant (AP-10)'!$C$5=\"drum mix plant\",'Asphalt Plant (AP-10)'!S94,0)))","v":""},{"$f":"IF(B138=\"\",\"\",SUM(IF('Asphalt Plant (AP-1)'!$C$5=\"drum mix plant\",'Asphalt Plant (AP-1)'!T94,0),IF('Asphalt Plant (AP-2)'!$C$5=\"drum mix plant\",'Asphalt Plant (AP-2)'!T94,0),IF('Asphalt Plant (AP-3)'!$C$5=\"drum mix plant\",'Asphalt Plant (AP-3)'!T94,0),IF('Asphalt Plant (AP-4)'!$C$5=\"drum mix plant\",'Asphalt Plant (AP-4)'!T94,0),IF('Asphalt Plant (AP-5)'!$C$5=\"drum mix plant\",'Asphalt Plant (AP-5)'!T94,0),IF('Asphalt Plant (AP-6)'!$C$5=\"drum mix plant\",'Asphalt Plant (AP-6)'!T94,0),IF('Asphalt Plant (AP-7)'!$C$5=\"drum mix plant\",'Asphalt Plant (AP-7)'!T94,0),IF('Asphalt Plant (AP-8)'!$C$5=\"drum mix plant\",'Asphalt Plant (AP-8)'!T94,0),IF('Asphalt Plant (AP-9)'!$C$5=\"drum mix plant\",'Asphalt Plant (AP-9)'!T94,0),IF('Asphalt Plant (AP-10)'!$C$5=\"drum mix plant\",'Asphalt Plant (AP-10)'!T94,0)))","v":""}]

{"sheet":"Facility Wide Emissions","index":14,"n_rows":300,"n_cols":13,"rows_kept":300,"cut":false,"hidden":false,"merged":[[296,2,296,3],[296,9,296,10],[297,2,297,3],[297,9,297,10],[298,2,298,3],[298,9,298,10],[290,2,290,3],[290,9,290,10],[291,2,291,3],[291,9,291,10],[292,2,292,3],[292,9,292,10],[293,2,293,3],[293,9,293,10],[294,2,294,3],[294,9,294,10],[286,2,286,3],[286,9,286,10],[287,2,287,3],[287,9,287,10],[288,2,288,3],[288,9,288,10],[289,2,289,3],[289,9,289,10],[295,2,295,3],[295,9,295,10],[271,9,271,10],[282,2,282,3],[282,9,282,10],[283,2,283,3],[283,9,283,10],[284,2,284,3],[284,9,284,10],[278,2,278,3],[285,2,285,3],[285,9,285,10],[266,9,266,10],[267,2,267,3],[267,9,267,10],[268,2,268,3],[268,9,268,10],[269,2,269,3],[269,9,269,10],[270,2,270,3],[270,9,270,10],[240,2,240,3],[240,9,240,10],[241,2,241,3],[241,9,241,10],[242,2,242,3],[242,9,242,10],[243,2,243,3],[243,9,243,10],[244,2,244,3],[244,9,244,10],[235,2,235,3],[235,9,235,10],[236,2,236,3],[236,9,236,10],[237,2,237,3],[237,9,237,10],[238,2,238,3],[238,9,238,10],[239,2,239,3],[239,9,239,10],[230,2,230,3],[230,9,230,10],[231,2,231,3],[231,9,231,10],[232,2,232,3],[232,9,232,10],[233,2,233,3],[233,9,233,10],[234,2,234,3],[234,9,234,10],[215,9,215,10],[216,2,216,3],[216,9,216,10],[217,2,217,3],[217,9,217,10],[228,2,228,3],[228,9,228,10],[229,2,229,3],[229,9,229,10],[225,2,225,3],[226,2,226,3],[187,2,187,3],[187,9,187,10],[188,2,188,3],[188,9,188,10],[189,2,189,3],[189,9,189,10],[190,2,190,3],[190,9,190,10],[201,2,201,3],[201,9,201,10],[198,9,198,10],[199,9,199,10],[194,9,194,10],[195,9,195,10],[196,9,196,10],[182,2,182,3],[182,9,182,10],[183,2,183,3],[183,9,183,10],[184,2,184,3],[184,9,184,10],[185,2,185,3],[185,9,185,10],[186,2,186,3],[186,9,186,10],[177,2,177,3],[177,9,177,10],[178,2,178,3],[178,9,178,10],[179,2,179,3],[179,9,179,10],[180,2,180,3],[180,9,180,10],[181,2,181,3],[181,9,181,10],[162,2,162,3],[162,9,162,10],[163,2,163,3],[163,9,163,10],[174,2,174,3],[174,9,174,10],[175,2,175,3],[175,9,175,10],[176,2,176,3],[176,9,176,10],[168,9,168,10],[169,9,169,10],[166,1,166,4],[135,2,135,3],[135,9,135,10],[136,2,136,3],[136,9,136,10],[147,2,147,3],[147,9,147,10],[148,2,148,3],[148,9,148,10],[149,2,149,3],[149,9,149,10],[145,9,145,10],[140,9,140,10],[141,9,141,10],[142,9,142,10],[137,9,137,10],[139,1,139,4],[130,2,130,3],[130,9,130,10],[131,2,131,3],[131,9,131,10],[132,2,132,3],[132,9,132,10],[133,2,133,3],[133,9,133,10],[134,2,134,3],[134,9,134,10],[86,9,86,10],[125,9,125,10],[126,2,126,3],[126,9,126,10],[127,2,127,3],[127,9,127,10],[128,2,128,3],[128,9,128,10],[129,2,129,3],[129,9,129,10],[97,2,97,3],[97,9,97,10],[98,2,98,3],[98,9,98,10],[112,8,112,11],[112,1,112,4],[93,2,93,3],[93,9,93,10],[94,2,94,3],[94,9,94,10],[95,2,95,3],[95,9,95,10],[96,2,96,3],[96,9,96,10],[99,2,99,3],[99,9,99,10],[100,2,100,3],[100,9,100,10],[66,9,66,10],[67,9,67,10],[68,9,68,10],[69,9,69,10],[70,9,70,10],[71,9,71,10],[72,9,72,10],[73,9,73,10],[74,9,74,10],[70,2,70,3],[71,2,71,3],[66,2,66,3],[67,2,67,3],[68,2,68,3],[69,2,69,3],[72,2,72,3],[73,2,73,3],[74,2,74,3],[87,9,87,10],[86,2,86,3],[299,2,299,3],[247,8,247,11],[274,8,274,11],[254,2,254,3],[281,2,281,3],[251,2,251,3],[54,2,54,3],[55,2,55,3],[39,9,39,10],[40,9,40,10],[41,9,41,10],[42,9,42,10],[43,9,43,10],[44,9,44,10],[45,9,45,10],[46,9,46,10],[47,9,47,10],[48,9,48,10],[49,9,49,10],[50,9,50,10],[51,9,51,10],[52,9,52,10],[53,9,53,10],[54,9,54,10],[299,9,299,10],[254,9,254,10],[281,9,281,10],[278,9,278,10],[279,9,279,10],[280,9,280,10],[248,9,248,10],[275,9,275,10],[249,9,249,10],[276,9,276,10],[250,9,250,10],[277,9,277,10],[272,9,272,10],[255,9,255,10],[256,9,256,10],[257,9,257,10],[258,9,258,10],[259,9,259,10],[260,9,260,10],[261,9,261,10],[262,9,262,10],[263,9,263,10],[264,9,264,10],[265,9,265,10],[252,2,252,3],[279,2,279,3],[253,2,253,3],[280,2,280,3],[248,2,248,3],[275,2,275,3],[249,2,249,3],[276,2,276,3],[250,2,250,3],[277,2,277,3],[272,2,272,3],[255,2,255,3],[256,2,256,3],[257,2,257,3],[258,2,258,3],[259,2,259,3],[260,2,260,3],[261,2,261,3],[262,2,262,3],[263,2,263,3],[264,2,264,3],[265,2,265,3],[266,2,266,3],[271,2,271,3],[251,9,251,10],[218,9,218,10],[245,9,245,10],[247,1,247,4],[274,1,274,4],[200,9,200,10],[227,9,227,10],[218,2,218,3],[245,2,245,3],[224,9,224,10],[227,2,227,3],[252,9,252,10],[253,9,253,10],[225,9,225,10],[226,9,226,10],[221,9,221,10],[222,9,222,10],[223,9,223,10],[202,9,202,10],[203,9,203,10],[204,9,204,10],[205,9,205,10],[206,9,206,10],[207,9,207,10],[208,9,208,10],[209,9,209,10],[210,9,210,10],[211,9,211,10],[212,9,212,10],[213,9,213,10],[214,9,214,10],[197,2,197,3],[224,2,224,3],[198,2,198,3],[199,2,199,3],[221,2,221,3],[222,2,222,3],[223,2,223,3],[202,2,202,3],[203,2,203,3],[204,2,204,3],[205,2,205,3],[206,2,206,3],[207,2,207,3],[208,2,208,3],[209,2,209,3],[210,2,210,3],[211,2,211,3],[212,2,212,3],[213,2,213,3],[214,2,214,3],[215,2,215,3],[164,9,164,10],[191,9,191,10],[193,1,193,4],[220,1,220,4],[146,9,146,10],[173,9,173,10],[164,2,164,3],[191,2,191,3],[193,8,193,11],[220,8,220,11],[200,2,200,3],[194,2,194,3],[195,2,195,3],[196,2,196,3],[197,9,197,10],[170,9,170,10],[173,2,173,3],[171,9,171,10],[172,9,172,10],[167,9,167,10],[150,9,150,10],[151,9,151,10],[152,9,152,10],[153,9,153,10],[154,9,154,10],[155,9,155,10],[156,9,156,10],[157,9,157,10],[158,9,158,10],[159,9,159,10],[160,9,160,10],[161,9,161,10],[143,2,143,3],[170,2,170,3],[144,2,144,3],[171,2,171,3],[145,2,145,3],[172,2,172,3],[167,2,167,3],[168,2,168,3],[169,2,169,3],[150,2,150,3],[151,2,151,3],[152,2,152,3],[153,2,153,3],[154,2,154,3],[155,2,155,3],[156,2,156,3],[157,2,157,3],[158,2,158,3],[159,2,159,3],[160,2,160,3],[161,2,161,3],[119,9,119,10],[110,2,110,3],[137,2,137,3],[139,8,139,11],[166,8,166,11],[146,2,146,3],[140,2,140,3],[141,2,141,3],[142,2,142,3],[143,9,143,10],[117,9,117,10],[119,2,119,3],[144,9,144,10],[118,9,118,10],[113,9,113,10],[120,9,120,10],[121,9,121,10],[122,9,122,10],[123,9,123,10],[124,9,124,10],[117,2,117,3],[118,2,118,3],[120,2,120,3],[121,2,121,3],[88,9,88,10],[115,9,115,10],[110,9,110,10],[101,9,101,10],[102,9,102,10],[103,9,103,10],[104,9,104,10],[105,9,105,10],[106,9,106,10],[107,9,107,10],[108,9,108,10],[109,9,109,10],[92,9,92,10],[113,2,113,3],[87,2,87,3],[114,2,114,3],[88,2,88,3],[115,2,115,3],[89,9,89,10],[116,9,116,10],[90,9,90,10],[92,2,92,3],[91,9,91,10],[89,2,89,3],[116,2,116,3],[90,2,90,3],[91,2,91,3],[101,2,101,3],[102,2,102,3],[103,2,103,3],[104,2,104,3],[105,2,105,3],[106,2,106,3],[107,2,107,3],[108,2,108,3],[109,2,109,3],[114,9,114,10],[75,2,75,3],[76,2,76,3],[77,2,77,3],[78,2,78,3],[79,2,79,3],[80,2,80,3],[81,2,81,3],[82,2,82,3],[75,9,75,10],[76,9,76,10],[77,9,77,10],[78,9,78,10],[79,9,79,10],[80,9,80,10],[81,9,81,10],[82,9,82,10],[122,2,122,3],[123,2,123,3],[124,2,124,3],[125,2,125,3],[31,1,31,4],[85,1,85,4],[56,9,56,10],[83,9,83,10],[37,9,37,10],[64,9,64,10],[38,9,38,10],[65,9,65,10],[34,9,34,10],[61,9,61,10],[35,9,35,10],[62,9,62,10],[36,9,36,10],[63,9,63,10],[31,8,31,11],[85,8,85,11],[58,8,58,11],[32,9,32,10],[59,9,59,10],[33,9,33,10],[60,9,60,10],[43,2,43,3],[41,2,41,3],[56,2,56,3],[58,1,58,4],[59,2,59,3],[60,2,60,3],[34,2,34,3],[35,2,35,3],[36,2,36,3],[37,2,37,3],[38,2,38,3],[50,2,50,3],[51,2,51,3],[52,2,52,3],[53,2,53,3],[55,9,55,10],[45,2,45,3],[46,2,46,3],[47,2,47,3],[48,2,48,3],[49,2,49,3],[33,2,33,3],[32,2,32,3],[39,2,39,3],[40,2,40,3],[42,2,42,3],[44,2,44,3],[61,2,61,3],[62,2,62,3],[63,2,63,3],[64,2,64,3],[65,2,65,3],[83,2,83,3],[29,0,29,4],[3,2,3,3],[3,7,3,8],[4,2,4,3],[9,2,9,3],[27,7,27,8],[10,7,10,8],[14,7,14,8],[12,7,12,8],[8,7,8,8],[11,2,11,3],[13,2,13,3],[26,2,26,3],[21,2,21,3],[18,2,18,3],[17,2,17,3],[26,7,26,8],[21,7,21,8],[18,7,18,8],[17,7,17,8],[25,2,25,3],[27,2,27,3],[8,2,8,3],[12,2,12,3],[10,2,10,3],[5,7,5,8],[6,7,6,8],[19,2,19,3],[22,2,22,3],[25,7,25,8],[24,7,24,8],[23,7,23,8],[22,7,22,8],[20,7,20,8],[19,7,19,8],[15,2,15,3],[16,2,16,3],[15,7,15,8],[16,7,16,8],[11,7,11,8],[13,7,13,8],[24,2,24,3],[23,2,23,3],[20,2,20,3],[0,0,0,4],[9,7,9,8],[14,2,14,3],[7,7,7,8],[5,2,5,3],[6,2,6,3],[7,2,7,3],[4,7,4,8],[2,1,2,4],[2,6,2,9]]}
["FACILITY WIDE EMISSIONS SUMMARY:"]
["** As of 2016 Potential Emissions are no longer required to be reported in the Minor Source Emissions Inventory**"]
[null,"FACILITY-WIDE POTENTIAL EMISSIONS:",null,null,null,null,"FACILITY-WIDE ACTUAL EMISSIONS:"]
[null,"Air Pollutant","ID or CAS Number",null,"Tons/Yr",null,"Air Pollutant","ID or CAS Number",null,"Tons/Yr"]
[null,"PM-2.5","PM-2.5",null,{"$f":"'Emission Calculations'!L20","v":0},null,"PM-2.5","PM-2.5",null,{"$f":"'Emission Calculations'!M20","v":0}]
[null,"PM-10","PM-10",null,{"$f":"'Emission Calculations'!L39","v":0},null,"PM-10","PM-10",null,{"$f":"'Emission Calculations'!M39","v":0}]
[null,"SO2","7446-09-5",null,{"$f":"'Emission Calculations'!L53","v":0},null,"SO2","7446-09-5",null,{"$f":"'Emission Calculations'!M53","v":0}]
[null,"NOx","NOx",null,{"$f":"'Emission Calculations'!L63","v":0},null,"NOx","NOx",null,{"$f":"'Emission Calculations'!M63","v":0}]
[null,"VOC","VOC",null,{"$f":"'Emission Calculations'!L73","v":0},null,"VOC","VOC",null,{"$f":"'Emission Calculations'!M73","v":0}]
[null,"CO","630-08-0",null,{"$f":"'Emission Calculations'!L82","v":0},null,"CO","630-08-0",null,{"$f":"'Emission Calculations'!M82","v":0}]
[null,"Acetaldehyde","75-07-0",null,{"$f":"SUM('Emission Calculations'!L88:L89)","v":0},null,"Acetaldehyde","75-07-0",null,{"$f":"SUM('Emission Calculations'!M88:M89)","v":0}]
[null,"Acrolein","107-02-8",null,{"$f":"'Emission Calculations'!L91","v":""},null,"Acrolein","107-02-8",null,{"$f":"'Emission Calculations'!M91","v":""}]
[null,"Benzene","71-43-2",null,{"$f":"'Emission Calculations'!L97","v":0},null,"Benzene","71-43-2",null,{"$f":"'Emission Calculations'!M97","v":0}]
[null,"Ethylbenzene","100-41-4",null,{"$f":"SUM('Emission Calculations'!L99:L100)","v":0},null,"Ethylbenzene","100-41-4",null,{"$f":"SUM('Emission Calculations'!M99:M100)","v":0}]
[null,"Formaldehyde","50-00-0",null,{"$f":"'Emission Calculations'!L107","v":0},null,"Formaldehyde","50-00-0",null,{"$f":"'Emission Calculations'!M107","v":0}]
[null,"Hexane","110-54-3",null,{"$f":"('Emission Calculations'!L109)","v":""},null,"Hexane","110-54-3",null,{"$f":"'Emission Calculations'!M109","v":""}]
[null,"Hydrochloric Acid","7647-01-0",null,{"$f":"'Emission Calculations'!L111","v":""},null,"Hydrochloric Acid","7647-01-0",null,{"$f":"'Emission Calculations'!M111","v":""}]
[null,"Methyl Chloroform","71-55-6",null,{"$f":"'Emission Calculations'!L113","v":""},null,"Methyl Chloroform","71-55-6",null,{"$f":"'Emission Calculations'!M113","v":""}]
[null,"Propionaldehyde","123-38-6",null,{"$f":"'Emission Calculations'!L115","v":""},null,"Propionaldehyde","123-38-6",null,{"$f":"'Emission Calculations'!M115","v":""}]
[null,"Quinone","106-51-4",null,{"$f":"SUM('Emission Calculations'!L117:L118)","v":0},null,"Quinone","106-51-4",null,{"$f":"SUM('Emission Calculations'!M117:M118)","v":0}]
[null,"Toluene","108-88-3",null,{"$f":"SUM('Emission Calculations'!L120:L123)","v":0},null,"Toluene","108-88-3",null,{"$f":"SUM('Emission Calculations'!M120:M123)","v":0}]
[null,"Xylene","1330-20-7",null,{"$f":"SUM('Emission Calculations'!L125:L126)","v":0},null,"Xylene","1330-20-7",null,{"$f":"SUM('Emission Calculations'!M125:M126)","v":0}]
[null,"2,2,4-Trimethylpentane","540-84-1",null,{"$f":"'Emission Calculations'!L128","v":""},null,"2,2,4-Trimethylpentane","540-84-1",null,{"$f":"'Emission Calculations'!M128","v":""}]
[null,"Chromium Compounds",null,null,{"$f":"'Emission Calculations'!L130","v":""},null,"Chromium Compounds",null,null,{"$f":"'Emission Calculations'!M130","v":""}]
[null,"Lead Compounds",null,null,{"$f":"'Emission Calculations'!L132","v":""},null,"Lead Compounds",null,null,{"$f":"'Emission Calculations'!M132","v":""}]
[null,"Manganese Compounds",null,null,{"$f":"'Emission Calculations'!L134","v":""},null,"Manganese Compounds",null,null,{"$f":"'Emission Calculations'!M134","v":""}]
[null,"Nickel Compounds",null,null,{"$f":"SUM('Emission Calculations'!L136:L138)","v":0},null,"Nickel Compounds",null,null,{"$f":"SUM('Emission Calculations'!M136:M138)","v":0}]
[null,"Total HAP",null,null,{"$f":"SUM(E11:E27)","v":0},null,"Total HAP",null,null,{"$f":"SUM(J11:J27)","v":0}]
[]
["PLANT SPECIFIC EMISSIONS SUMMARIES:"]
[]
["AP-1","POTENTIAL EMISSIONS:",null,null,null,null,null,"AP-2","POTENTIAL EMISSIONS:"]
[null,"Air Pollutant","ID or CAS Number",null,"Tons/Yr",null,null,null,"Air Pollutant","ID or CAS Number",null,"Tons/Yr"]
[null,"PM-2.5","PM-2.5",null,{"$f":"SUM('Asphalt Plant (AP-1)'!$S$21:$S$26,'Asphalt Plant (AP-1)'!$S$37,'Haul Roads'!AL9,'Permitted Diesel Engines'!Z55)","v":0},null,null,null,"PM-2.5","PM-2.5",null,{"$f":"SUM('Asphalt Plant (AP-2)'!S21:S26,'Asphalt Plant (AP-2)'!S37,'Haul Roads'!AL10,'Permitted Diesel Engines'!Z56)","v":0}]
[null,"PM-10","PM-10",null,{"$f":"SUM('Asphalt Plant (AP-1)'!S28:S33,'Asphalt Plant (AP-1)'!S37,'Haul Roads'!AN9,'Permitted Diesel Engines'!AB55)","v":0},null,null,null,"PM-10","PM-10",null,{"$f":"SUM('Asphalt Plant (AP-2)'!S28:S33,'Asphalt Plant (AP-2)'!S37,'Haul Roads'!AN10,'Permitted Diesel Engines'!AB56)","v":0}]
[null,"SO2","7446-09-5",null,{"$f":"SUM('Asphalt Plant (AP-1)'!S40:S42,'Permitted Diesel Engines'!AD55)","v":0},{"$f":"IF(E36>100,\"Thresholds exceeded, contact DNR for assistance.\",\"\")","v":""},null,null,"SO2","7446-09-5",null,{"$f":"SUM('Asphalt Plant (AP-2)'!S40:S42,'Permitted Diesel Engines'!AD56)","v":0},{"$f":"IF(L36>100,\"Thresholds exceeded, contact DNR for assistance.\",\"\")","v":""}]
[null,"NOx","NOx",null,{"$f":"SUM('Asphalt Plant (AP-1)'!S44:S46,'Permitted Diesel Engines'!AF55)","v":0},{"$f":"IF(E37>100,\"Thresholds exceeded, contact DNR for assistance.\",\"\")","v":""},null,null,"NOx","NOx",null,{"$f":"SUM('Asphalt Plant (AP-2)'!S44:S46,'Permitted Diesel Engines'!AF56)","v":0},{"$f":"IF(L37>100,\"Thresholds exceeded, contact DNR for assistance.\",\"\")","v":""}]
[null,"VOC","VOC",null,{"$f":"SUM('Asphalt Plant (AP-1)'!S48:S50,'Permitted Diesel Engines'!AH55)","v":0},{"$f":"IF(E38>100,\"Thresholds exceeded, contact DNR for assistance.\",\"\")","v":""},null,null,"VOC","VOC",null,{"$f":"SUM('Asphalt Plant (AP-2)'!S48:S50,'Permitted Diesel Engines'!AH56)","v":0},{"$f":"IF(L38>100,\"Thresholds exceeded, contact DNR for assistance.\",\"\")","v":""}]
[null,"CO","630-08-0",null,{"$f":"SUM('Asphalt Plant (AP-1)'!S52:S55,'Permitted Diesel Engines'!AJ55)","v":0},{"$f":"IF(E39>100,\"Thresholds exceeded, contact DNR for assistance.\",\"\")","v":""},null,null,"CO","630-08-0",null,{"$f":"SUM('Asphalt Plant (AP-2)'!S52:S55,'Permitted Diesel Engines'!AJ56)","v":0},{"$f":"IF(L39>100,\"Thresholds exceeded, contact DNR for assistance.\",\"\")","v":""}]
[null,"Acetaldehyde","75-07-0",null,{"$f":"SUM('Asphalt Plant (AP-1)'!$S$57)","v":0},{"$f":"IF(E40>10,\"Thresholds exceeded, contact DNR for assistance.\",\"\")","v":""},null,null,"Acetaldehyde","75-07-0",null,{"$f":"SUM('Asphalt Plant (AP-2)'!$S$57)","v":0},{"$f":"IF(L40>10,\"Thresholds exceeded, contact DNR for assistance.\",\"\")","v":""}]
[null,"Acrolein","107-02-8",null,{"$f":"'Asphalt Plant (AP-1)'!$S$59","v":0},{"$f":"IF(E41>10,\"Thresholds exceeded, contact DNR for assistance.\",\"\")","v":""},null,null,"Acrolein","107-02-8",null,{"$f":"'Asphalt Plant (AP-2)'!$S$59","v":0},{"$f":"IF(L41>10,\"Thresholds exceeded, contact DNR for assistance.\",\"\")","v":""}]
[null,"Benzene","71-43-2",null,{"$f":"SUM('Asphalt Plant (AP-1)'!$S$61,'Permitted Diesel Engines'!$AN$55)","v":0},{"$f":"IF(E42>10,\"Thresholds exceeded, contact DNR for assistance.\",\"\")","v":""},null,null,"Benzene","71-43-2",null,{"$f":"SUM('Asphalt Plant (AP-2)'!$S$61,'Permitted Diesel Engines'!$AN$56)","v":0},""]
[null,"Ethylbenzene","100-41-4",null,{"$f":"SUM('Asphalt Plant (AP-1)'!$S$63)","v":0},"",null,null,"Ethylbenzene","100-41-4",null,{"$f":"SUM('Asphalt Plant (AP-2)'!$S$63)","v":0},""]
[null,"Formaldehyde","50-00-0",null,{"$f":"SUM('Asphalt Plant (AP-1)'!$S$65:$S$66,'Permitted Diesel Engines'!$AL$55)","v":0},"",null,null,"Formaldehyde","50-00-0",null,{"$f":"SUM('Asphalt Plant (AP-2)'!$S$65:$S$66,'Permitted Diesel Engines'!$AL$56)","v":0},""]
[null,"Hexane","110-54-3",null,{"$f":"('Asphalt Plant (AP-1)'!$S$68)","v":0},"",null,null,"Hexane","110-54-3",null,{"$f":"('Asphalt Plant (AP-2)'!$S$68)","v":0},""]
[null,"Hydrochloric Acid","7647-01-0",null,{"$f":"'Asphalt Plant (AP-1)'!$S$70","v":0},"",null,null,"Hydrochloric Acid","7647-01-0",null,{"$f":"'Asphalt Plant (AP-2)'!$S$70","v":0},""]
[null,"Methyl Chloroform","71-55-6",null,{"$f":"'Asphalt Plant (AP-1)'!$S$72","v":0},"",null,null,"Methyl Chloroform","71-55-6",null,{"$f":"'Asphalt Plant (AP-2)'!$S$72","v":0},""]
[null,"Propionaldehyde","123-38-6",null,{"$f":"'Asphalt Plant (AP-1)'!$S$74","v":0},"",null,null,"Propionaldehyde","123-38-6",null,{"$f":"'Asphalt Plant (AP-2)'!$S$74","v":0},""]
[null,"Quinone","106-51-4",null,{"$f":"'Asphalt Plant (AP-1)'!$S$76","v":0},"",null,null,"Quinone","106-51-4",null,{"$f":"'Asphalt Plant (AP-2)'!$S$76","v":0},{"$f":"IF(L49>10,\"Thresholds exceeded, contact DNR for assistance.\",\"\")","v":""}]
[null,"Toluene","108-88-3",null,{"$f":"SUM('Asphalt Plant (AP-1)'!$S$78:$S$80)","v":0},"",null,null,"Toluene","108-88-3",null,{"$f":"SUM('Asphalt Plant (AP-2)'!$S$78:$S$80)","v":0},""]
[null,"Xylene","1330-20-7",null,{"$f":"'Asphalt Plant (AP-1)'!$S$82","v":0},"",null,null,"Xylene","1330-20-7",null,{"$f":"'Asphalt Plant (AP-2)'!$S$82","v":0},""]
[null,"2,2,4-Trimethylpentane","540-84-1",null,{"$f":"'Asphalt Plant (AP-1)'!$S$84","v":0},"",null,null,"2,2,4-Trimethylpentane","540-84-1",null,{"$f":"'Asphalt Plant (AP-2)'!$S$84","v":0},""]
[null,"Chromium Compounds",null,null,{"$f":"'Asphalt Plant (AP-1)'!$S$86","v":0},"",null,null,"Chromium Compounds",null,null,{"$f":"'Asphalt Plant (AP-2)'!$S$86","v":0},""]
[null,"Lead Compounds",null,null,{"$f":"'Asphalt Plant (AP-1)'!$S$88","v":0},"",null,null,"Lead Compounds",null,null,{"$f":"'Asphalt Plant (AP-2)'!$S$88","v":0},""]
[null,"Manganese Compounds",null,null,{"$f":"'Asphalt Plant (AP-1)'!$S$90","v":0},"",null,null,"Manganese Compounds",null,null,{"$f":"'Asphalt Plant (AP-2)'!$S$90","v":0},""]
[null,"Nickel Compounds",null,null,{"$f":"SUM('Asphalt Plant (AP-1)'!$S$92:$S$94)","v":0},"",null,null,"Nickel Compounds",null,null,{"$f":"SUM('Asphalt Plant (AP-2)'!$S$92:$S$94)","v":0},""]
[null,"Total HAP",null,null,{"$f":"SUM(E40:E56)","v":0},{"$f":"IF(E57>25,\"Thresholds exceeded, contact DNR for assistance.\",\"\")","v":""},null,null,"Total HAP",null,null,{"$f":"SUM(L40:L56)","v":0},{"$f":"IF(L57>25,\"Thresholds exceeded, contact DNR for assistance.\",\"\")","v":""}]
[]
[null,"ACTUAL EMISSIONS:",null,null,null,null,null,null,"ACTUAL EMISSIONS:"]
[null,"Air Pollutant","ID or CAS Number",null,"Tons/Yr",null,null,null,"Air Pollutant","ID or CAS Number",null,"Tons/Yr"]
[null,"PM-2.5","PM-2.5",null,{"$f":"SUM('Asphalt Plant (AP-1)'!T21:T26,'Asphalt Plant (AP-1)'!T37,'Haul Roads'!AM9,'Permitted Diesel Engines'!AA55)","v":0},null,null,null,"PM-2.5","PM-2.5",null,{"$f":"SUM('Asphalt Plant (AP-2)'!T21:T26,'Asphalt Plant (AP-2)'!T37,,'Haul Roads'!AM10,'Permitted Diesel Engines'!AA56)","v":0}]
[null,"PM-10","PM-10",null,{"$f":"SUM('Asphalt Plant (AP-1)'!T28:T33,'Asphalt Plant (AP-1)'!T37,'Haul Roads'!AO9,'Permitted Diesel Engines'!AC55)","v":0},null,null,null,"PM-10","PM-10",null,{"$f":"SUM('Asphalt Plant (AP-2)'!T28:T33,'Asphalt Plant (AP-2)'!T37,'Haul Roads'!AO10,'Permitted Diesel Engines'!AC56)","v":0}]
[null,"SO2","7446-09-5",null,{"$f":"SUM('Asphalt Plant (AP-1)'!T40:T43,'Permitted Diesel Engines'!AE55)","v":0},null,null,null,"SO2","7446-09-5",null,{"$f":"SUM('Asphalt Plant (AP-2)'!T40:T43,'Permitted Diesel Engines'!AE56)","v":0}]
[null,"NOx","NOx",null,{"$f":"SUM('Asphalt Plant (AP-1)'!T44:T46,'Permitted Diesel Engines'!AG55)","v":0},null,null,null,"NOx","NOx",null,{"$f":"SUM('Asphalt Plant (AP-2)'!T44:T46,'Permitted Diesel Engines'!AG56)","v":0}]
[null,"VOC","VOC",null,{"$f":"SUM('Asphalt Plant (AP-1)'!T48:T50,'Permitted Diesel Engines'!AI55)","v":0},null,null,null,"VOC","VOC",null,{"$f":"SUM('Asphalt Plant (AP-2)'!T48:T50,'Permitted Diesel Engines'!AI56)","v":0}]
[null,"CO","630-08-0",null,{"$f":"SUM('Asphalt Plant (AP-1)'!T52:T55,'Permitted Diesel Engines'!AK55)","v":0},null,null,null,"CO","630-08-0",null,{"$f":"SUM('Asphalt Plant (AP-2)'!T52:T55,'Permitted Diesel Engines'!AK56)","v":0}]
[null,"Acetaldehyde","75-07-0",null,{"$f":"SUM('Asphalt Plant (AP-1)'!$T$57)","v":0},null,null,null,"Acetaldehyde","75-07-0",null,{"$f":"SUM('Asphalt Plant (AP-2)'!$T$57)","v":0}]
[null,"Acrolein","107-02-8",null,{"$f":"'Asphalt Plant (AP-1)'!$T$59","v":0},null,null,null,"Acrolein","107-02-8",null,{"$f":"'Asphalt Plant (AP-2)'!$T$59","v":0}]
[null,"Benzene","71-43-2",null,{"$f":"SUM('Asphalt Plant (AP-1)'!$T$61,'Permitted Diesel Engines'!$AO$55)","v":0},null,null,null,"Benzene","71-43-2",null,{"$f":"SUM('Asphalt Plant (AP-2)'!$T$61,'Permitted Diesel Engines'!$AO$56)","v":0}]
[null,"Ethylbenzene","100-41-4",null,{"$f":"SUM('Asphalt Plant (AP-1)'!$T$63)","v":0},null,null,null,"Ethylbenzene","100-41-4",null,{"$f":"SUM('Asphalt Plant (AP-2)'!$T$63)","v":0}]
[null,"Formaldehyde","50-00-0",null,{"$f":"SUM('Asphalt Plant (AP-1)'!$T$65:$T$66,'Permitted Diesel Engines'!$AM$55)","v":0},null,null,null,"Formaldehyde","50-00-0",null,{"$f":"SUM('Asphalt Plant (AP-2)'!$T$65:$T$66,'Permitted Diesel Engines'!$AM$56)","v":0}]
[null,"Hexane","110-54-3",null,{"$f":"('Asphalt Plant (AP-1)'!$T$68)","v":0},null,null,null,"Hexane","110-54-3",null,{"$f":"('Asphalt Plant (AP-2)'!$T$68)","v":0}]
[null,"Hydrochloric Acid","7647-01-0",null,{"$f":"'Asphalt Plant (AP-1)'!$T$70","v":0},null,null,null,"Hydrochloric Acid","7647-01-0",null,{"$f":"'Asphalt Plant (AP-2)'!$T$70","v":0}]
[null,"Methyl Chloroform","71-55-6",null,{"$f":"'Asphalt Plant (AP-1)'!$T$72","v":0},null,null,null,"Methyl Chloroform","71-55-6",null,{"$f":"'Asphalt Plant (AP-2)'!$T$72","v":0}]
[null,"Propionaldehyde","123-38-6",null,{"$f":"'Asphalt Plant (AP-1)'!$T$74","v":0},null,null,null,"Propionaldehyde","123-38-6",null,{"$f":"'Asphalt Plant (AP-2)'!$T$74","v":0}]
[null,"Quinone","106-51-4",null,{"$f":"'Asphalt Plant (AP-1)'!$T$76","v":0},null,null,null,"Quinone","106-51-4",null,{"$f":"'Asphalt Plant (AP-2)'!$T$76","v":0}]
[null,"Toluene","108-88-3",null,{"$f":"SUM('Asphalt Plant (AP-1)'!$T$78:$T$80)","v":0},null,null,null,"Toluene","108-88-3",null,{"$f":"SUM('Asphalt Plant (AP-2)'!$T$78:$T$80)","v":0}]
[null,"Xylene","1330-20-7",null,{"$f":"'Asphalt Plant (AP-1)'!$T$82","v":0},null,null,null,"Xylene","1330-20-7",null,{"$f":"'Asphalt Plant (AP-2)'!$T$82","v":0}]
[null,"2,2,4-Trimethylpentane","540-84-1",null,{"$f":"'Asphalt Plant (AP-1)'!$T$84","v":0},null,null,null,"2,2,4-Trimethylpentane","540-84-1",null,{"$f":"'Asphalt Plant (AP-2)'!$T$84","v":0}]
[null,"Chromium Compounds",null,null,{"$f":"'Asphalt Plant (AP-1)'!$T$86","v":0},null,null,null,"Chromium Compounds",null,null,{"$f":"'Asphalt Plant (AP-2)'!$T$86","v":0}]
[null,"Lead Compounds",null,null,{"$f":"'Asphalt Plant (AP-1)'!$T$88","v":0},null,null,null,"Lead Compounds",null,null,{"$f":"'Asphalt Plant (AP-2)'!$T$88","v":0}]
[null,"Manganese Compounds",null,null,{"$f":"'Asphalt Plant (AP-1)'!$T$90","v":0},null,null,null,"Manganese Compounds",null,null,{"$f":"'Asphalt Plant (AP-2)'!$T$90","v":0}]
[null,"Nickel Compounds",null,null,{"$f":"SUM('Asphalt Plant (AP-1)'!$T$92:$T$94)","v":0},null,null,null,"Nickel Compounds",null,null,{"$f":"SUM('Asphalt Plant (AP-2)'!$T$92:$T$94)","v":0}]
[null,"Total HAP",null,null,{"$f":"SUM(E67:E83)","v":0},null,null,null,"Total HAP",null,null,{"$f":"SUM(L67:L83)","v":0}]
[]
["AP-3","POTENTIAL EMISSIONS:",null,null,null,null,null,"AP-4","POTENTIAL EMISSIONS:"]
[null,"Air Pollutant","ID or CAS Number",null,"Tons/Yr",null,null,null,"Air Pollutant","ID or CAS Number",null,"Tons/Yr"]
[null,"PM-2.5","PM-2.5",null,{"$f":"SUM('Asphalt Plant (AP-3)'!S21:S26,'Asphalt Plant (AP-3)'!S37,'Haul Roads'!AL11,'Permitted Diesel Engines'!Z57)","v":0},null,null,null,"PM-2.5","PM-2.5",null,{"$f":"SUM('Asphalt Plant (AP-4)'!S21:S26,'Asphalt Plant (AP-4)'!S37,'Haul Roads'!AL12,'Permitted Diesel Engines'!Z58)","v":0}]
[null,"PM-10","PM-10",null,{"$f":"SUM('Asphalt Plant (AP-3)'!S28:S33,'Asphalt Plant (AP-3)'!S37,'Haul Roads'!AN11,'Permitted Diesel Engines'!AB57)","v":0},null,null,null,"PM-10","PM-10",null,{"$f":"SUM('Asphalt Plant (AP-4)'!S28:S33,'Asphalt Plant (AP-4)'!S37,'Haul Roads'!AN12,'Permitted Diesel Engines'!AB58)","v":0}]
[null,"SO2","7446-09-5",null,{"$f":"SUM('Asphalt Plant (AP-3)'!S40:S42,'Permitted Diesel Engines'!AD57)","v":0},{"$f":"IF(E90>100,\"Thresholds exceeded, contact DNR for assistance.\",\"\")","v":""},null,null,"SO2","7446-09-5",null,{"$f":"SUM('Asphalt Plant (AP-4)'!S40:S42,'Permitted Diesel Engines'!AD58)","v":0},{"$f":"IF(L90>100,\"Thresholds exceeded, contact DNR for assistance.\",\"\")","v":""}]
[null,"NOx","NOx",null,{"$f":"SUM('Asphalt Plant (AP-3)'!S44:S46,'Permitted Diesel Engines'!AF57)","v":0},{"$f":"IF(E91>100,\"Thresholds exceeded, contact DNR for assistance.\",\"\")","v":""},null,null,"NOx","NOx",null,{"$f":"SUM('Asphalt Plant (AP-4)'!S44:S46,'Permitted Diesel Engines'!AF58)","v":0},{"$f":"IF(L91>100,\"Thresholds exceeded, contact DNR for assistance.\",\"\")","v":""}]
[null,"VOC","VOC",null,{"$f":"SUM('Asphalt Plant (AP-3)'!S48:S50,'Permitted Diesel Engines'!AH57)","v":0},{"$f":"IF(E92>100,\"Thresholds exceeded, contact DNR for assistance.\",\"\")","v":""},null,null,"VOC","VOC",null,{"$f":"SUM('Asphalt Plant (AP-4)'!S48:S50,'Permitted Diesel Engines'!AH58)","v":0},{"$f":"IF(L92>100,\"Thresholds exceeded, contact DNR for assistance.\",\"\")","v":""}]
[null,"CO","630-08-0",null,{"$f":"SUM('Asphalt Plant (AP-3)'!S52:S55,'Permitted Diesel Engines'!AJ57)","v":0},{"$f":"IF(E93>100,\"Thresholds exceeded, contact DNR for assistance.\",\"\")","v":""},null,null,"CO","630-08-0",null,{"$f":"SUM('Asphalt Plant (AP-4)'!S52:S55,'Permitted Diesel Engines'!AJ58)","v":0},{"$f":"IF(L93>100,\"Thresholds exceeded, contact DNR for assistance.\",\"\")","v":""}]
[null,"Acetaldehyde","75-07-0",null,{"$f":"SUM('Asphalt Plant (AP-3)'!$S$57)","v":0},{"$f":"IF(E94>10,\"Thresholds exceeded, contact DNR for assistance.\",\"\")","v":""},null,null,"Acetaldehyde","75-07-0",null,{"$f":"SUM('Asphalt Plant (AP-4)'!$S$57)","v":0},{"$f":"IF(L94>10,\"Thresholds exceeded, contact DNR for assistance.\",\"\")","v":""}]
[null,"Acrolein","107-02-8",null,{"$f":"'Asphalt Plant (AP-3)'!$S$59","v":0},{"$f":"IF(E95>10,\"Thresholds exceeded, contact DNR for assistance.\",\"\")","v":""},null,null,"Acrolein","107-02-8",null,{"$f":"'Asphalt Plant (AP-4)'!$S$59","v":0},{"$f":"IF(L95>10,\"Thresholds exceeded, contact DNR for assistance.\",\"\")","v":""}]
[null,"Benzene","71-43-2",null,{"$f":"SUM('Asphalt Plant (AP-3)'!$S$61,'Permitted Diesel Engines'!$AN$57)","v":0},{"$f":"IF(E96>10,\"Thresholds exceeded, contact DNR for assistance.\",\"\")","v":""},null,null,"Benzene","71-43-2",null,{"$f":"SUM('Asphalt Plant (AP-4)'!$S$61,'Permitted Diesel Engines'!$AN$58)","v":0},""]
[null,"Ethylbenzene","100-41-4",null,{"$f":"SUM('Asphalt Plant (AP-3)'!$S$63)","v":0},"",null,null,"Ethylbenzene","100-41-4",null,{"$f":"SUM('Asphalt Plant (AP-4)'!$S$63)","v":0},""]
[null,"Formaldehyde","50-00-0",null,{"$f":"SUM('Asphalt Plant (AP-3)'!$S$65:$S$66,'Permitted Diesel Engines'!$AL$57)","v":0},"",null,null,"Formaldehyde","50-00-0",null,{"$f":"SUM('Asphalt Plant (AP-4)'!$S$65:$S$66,'Permitted Diesel Engines'!$AL$58)","v":0},""]
[null,"Hexane","110-54-3",null,{"$f":"('Asphalt Plant (AP-3)'!$S$68)","v":0},"",null,null,"Hexane","110-54-3",null,{"$f":"('Asphalt Plant (AP-4)'!$S$68)","v":0},""]
[null,"Hydrochloric Acid","7647-01-0",null,{"$f":"'Asphalt Plant (AP-3)'!$S$70","v":0},"",null,null,"Hydrochloric Acid","7647-01-0",null,{"$f":"'Asphalt Plant (AP-4)'!$S$70","v":0},""]
[null,"Methyl Chloroform","71-55-6",null,{"$f":"'Asphalt Plant (AP-3)'!$S$72","v":0},"",null,null,"Methyl Chloroform","71-55-6",null,{"$f":"'Asphalt Plant (AP-4)'!$S$72","v":0},""]
[null,"Propionaldehyde","123-38-6",null,{"$f":"'Asphalt Plant (AP-3)'!$S$74","v":0},"",null,null,"Propionaldehyde","123-38-6",null,{"$f":"'Asphalt Plant (AP-4)'!$S$74","v":0},""]
[null,"Quinone","106-51-4",null,{"$f":"'Asphalt Plant (AP-3)'!$S$76","v":0},"",null,null,"Quinone","106-51-4",null,{"$f":"'Asphalt Plant (AP-4)'!$S$76","v":0},{"$f":"IF(L103>10,\"Thresholds exceeded, contact DNR for assistance.\",\"\")","v":""}]
[null,"Toluene","108-88-3",null,{"$f":"SUM('Asphalt Plant (AP-3)'!$S$78:$S$80)","v":0},"",null,null,"Toluene","108-88-3",null,{"$f":"SUM('Asphalt Plant (AP-4)'!$S$78:$S$80)","v":0},""]
[null,"Xylene","1330-20-7",null,{"$f":"'Asphalt Plant (AP-3)'!$S$82","v":0},"",null,null,"Xylene","1330-20-7",null,{"$f":"'Asphalt Plant (AP-4)'!$S$82","v":0},""]
[null,"2,2,4-Trimethylpentane","540-84-1",null,{"$f":"'Asphalt Plant (AP-3)'!$S$84","v":0},"",null,null,"2,2,4-Trimethylpentane","540-84-1",null,{"$f":"'Asphalt Plant (AP-4)'!$S$84","v":0},""]
[null,"Chromium Compounds",null,null,{"$f":"'Asphalt Plant (AP-3)'!$S$86","v":0},"",null,null,"Chromium Compounds",null,null,{"$f":"'Asphalt Plant (AP-4)'!$S$86","v":0},""]
[null,"Lead Compounds",null,null,{"$f":"'Asphalt Plant (AP-3)'!$S$88","v":0},"",null,null,"Lead Compounds",null,null,{"$f":"'Asphalt Plant (AP-4)'!$S$88","v":0},""]
[null,"Manganese Compounds",null,null,{"$f":"'Asphalt Plant (AP-3)'!$S$90","v":0},"",null,null,"Manganese Compounds",null,null,{"$f":"'Asphalt Plant (AP-4)'!$S$90","v":0},""]
[null,"Nickel Compounds",null,null,{"$f":"SUM('Asphalt Plant (AP-3)'!$S$92:$S$94)","v":0},"",null,null,"Nickel Compounds",null,null,{"$f":"SUM('Asphalt Plant (AP-4)'!$S$92:$S$94)","v":0},""]
[null,"Total HAP",null,null,{"$f":"SUM(E94:E110)","v":0},{"$f":"IF(E111>25,\"Thresholds exceeded, contact DNR for assistance.\",\"\")","v":""},null,null,"Total HAP",null,null,{"$f":"SUM(L94:L110)","v":0},{"$f":"IF(L111>25,\"Thresholds exceeded, contact DNR for assistance.\",\"\")","v":""}]
[]
[null,"ACTUAL EMISSIONS:",null,null,null,null,null,null,"ACTUAL EMISSIONS:"]
[null,"Air Pollutant","ID or CAS Number",null,"Tons/Yr",null,null,null,"Air Pollutant","ID or CAS Number",null,"Tons/Yr"]
[null,"PM-2.5","PM-2.5",null,{"$f":"SUM('Asphalt Plant (AP-3)'!T21:T26,'Asphalt Plant (AP-3)'!T37,'Haul Roads'!AM11,'Permitted Diesel Engines'!AA57)","v":0},null,null,null,"PM-2.5","PM-2.5",null,{"$f":"SUM('Asphalt Plant (AP-4)'!T21:T26,'Asphalt Plant (AP-4)'!T37,'Permitted Diesel Engines'!AA58)","v":0}]
[null,"PM-10","PM-10",null,{"$f":"SUM('Asphalt Plant (AP-3)'!T28:T33,'Asphalt Plant (AP-3)'!T37,'Haul Roads'!AO11,'Permitted Diesel Engines'!AC57)","v":0},null,null,null,"PM-10","PM-10",null,{"$f":"SUM('Asphalt Plant (AP-4)'!T28:T33,'Asphalt Plant (AP-4)'!T37,'Haul Roads'!AO12,'Permitted Diesel Engines'!AC58)","v":0}]
[null,"SO2","7446-09-5",null,{"$f":"SUM('Asphalt Plant (AP-3)'!T40:T43,'Permitted Diesel Engines'!AE57)","v":0},null,null,null,"SO2","7446-09-5",null,{"$f":"SUM('Asphalt Plant (AP-4)'!T40:T43,'Permitted Diesel Engines'!AE58)","v":0}]
[null,"NOx","NOx",null,{"$f":"SUM('Asphalt Plant (AP-3)'!T44:T46,'Permitted Diesel Engines'!AG57)","v":0},null,null,null,"NOx","NOx",null,{"$f":"SUM('Asphalt Plant (AP-4)'!T44:T46,'Permitted Diesel Engines'!AG58)","v":0}]
[null,"VOC","VOC",null,{"$f":"SUM('Asphalt Plant (AP-3)'!T48:T50,'Permitted Diesel Engines'!AI57)","v":0},null,null,null,"VOC","VOC",null,{"$f":"SUM('Asphalt Plant (AP-4)'!T48:T50,'Permitted Diesel Engines'!AI58)","v":0}]
[null,"CO","630-08-0",null,{"$f":"SUM('Asphalt Plant (AP-3)'!T52:T55,'Permitted Diesel Engines'!AK57)","v":0},null,null,null,"CO","630-08-0",null,{"$f":"SUM('Asphalt Plant (AP-4)'!T52:T55,'Permitted Diesel Engines'!AK58)","v":0}]
[null,"Acetaldehyde","75-07-0",null,{"$f":"SUM('Asphalt Plant (AP-3)'!$T$57)","v":0},null,null,null,"Acetaldehyde","75-07-0",null,{"$f":"SUM('Asphalt Plant (AP-4)'!$T$57)","v":0}]
[null,"Acrolein","107-02-8",null,{"$f":"'Asphalt Plant (AP-3)'!$T$59","v":0},null,null,null,"Acrolein","107-02-8",null,{"$f":"'Asphalt Plant (AP-4)'!$T$59","v":0}]
[null,"Benzene","71-43-2",null,{"$f":"SUM('Asphalt Plant (AP-3)'!$T$61,'Permitted Diesel Engines'!$AO$57)","v":0},null,null,null,"Benzene","71-43-2",null,{"$f":"SUM('Asphalt Plant (AP-4)'!$T$61,'Permitted Diesel Engines'!$AO$58)","v":0}]
[null,"Ethylbenzene","100-41-4",null,{"$f":"SUM('Asphalt Plant (AP-3)'!$T$63)","v":0},null,null,null,"Ethylbenzene","100-41-4",null,{"$f":"SUM('Asphalt Plant (AP-4)'!$T$63)","v":0}]
[null,"Formaldehyde","50-00-0",null,{"$f":"SUM('Asphalt Plant (AP-3)'!$T$65:$T$66,'Permitted Diesel Engines'!$AM$57)","v":0},null,null,null,"Formaldehyde","50-00-0",null,{"$f":"SUM('Asphalt Plant (AP-4)'!$T$65:$T$66,'Permitted Diesel Engines'!$AM$58)","v":0}]
[null,"Hexane","110-54-3",null,{"$f":"('Asphalt Plant (AP-3)'!$T$68)","v":0},null,null,null,"Hexane","110-54-3",null,{"$f":"('Asphalt Plant (AP-4)'!$T$68)","v":0}]
[null,"Hydrochloric Acid","7647-01-0",null,{"$f":"'Asphalt Plant (AP-3)'!$T$70","v":0},null,null,null,"Hydrochloric Acid","7647-01-0",null,{"$f":"'Asphalt Plant (AP-4)'!$T$70","v":0}]
[null,"Methyl Chloroform","71-55-6",null,{"$f":"'Asphalt Plant (AP-3)'!$T$72","v":0},null,null,null,"Methyl Chloroform","71-55-6",null,{"$f":"'Asphalt Plant (AP-4)'!$T$72","v":0}]
[null,"Propionaldehyde","123-38-6",null,{"$f":"'Asphalt Plant (AP-3)'!$T$74","v":0},null,null,null,"Propionaldehyde","123-38-6",null,{"$f":"'Asphalt Plant (AP-4)'!$T$74","v":0}]
[null,"Quinone","106-51-4",null,{"$f":"'Asphalt Plant (AP-3)'!$T$76","v":0},null,null,null,"Quinone","106-51-4",null,{"$f":"'Asphalt Plant (AP-4)'!$T$76","v":0}]
[null,"Toluene","108-88-3",null,{"$f":"SUM('Asphalt Plant (AP-3)'!$T$78:$T$80)","v":0},null,null,null,"Toluene","108-88-3",null,{"$f":"SUM('Asphalt Plant (AP-4)'!$T$78:$T$80)","v":0}]
[null,"Xylene","1330-20-7",null,{"$f":"'Asphalt Plant (AP-3)'!$T$82","v":0},null,null,null,"Xylene","1330-20-7",null,{"$f":"'Asphalt Plant (AP-4)'!$T$82","v":0}]
[null,"2,2,4-Trimethylpentane","540-84-1",null,{"$f":"'Asphalt Plant (AP-3)'!$T$84","v":0},null,null,null,"2,2,4-Trimethylpentane","540-84-1",null,{"$f":"'Asphalt Plant (AP-4)'!$T$84","v":0}]
[null,"Chromium Compounds",null,null,{"$f":"'Asphalt Plant (AP-3)'!$T$86","v":0},null,null,null,"Chromium Compounds",null,null,{"$f":"'Asphalt Plant (AP-4)'!$T$86","v":0}]
[null,"Lead Compounds",null,null,{"$f":"'Asphalt Plant (AP-3)'!$T$88","v":0},null,null,null,"Lead Compounds",null,null,{"$f":"'Asphalt Plant (AP-4)'!$T$88","v":0}]
[null,"Manganese Compounds",null,null,{"$f":"'Asphalt Plant (AP-3)'!$T$90","v":0},null,null,null,"Manganese Compounds",null,null,{"$f":"'Asphalt Plant (AP-4)'!$T$90","v":0}]
[null,"Nickel Compounds",null,null,{"$f":"SUM('Asphalt Plant (AP-3)'!$T$92:$T$94)","v":0},null,null,null,"Nickel Compounds",null,null,{"$f":"SUM('Asphalt Plant (AP-4)'!$T$92:$T$94)","v":0}]
[null,"Total HAP",null,null,{"$f":"SUM(E121:E137)","v":0},null,null,null,"Total HAP",null,null,{"$f":"SUM(L121:L137)","v":0}]
[]
["AP-5","POTENTIAL EMISSIONS:",null,null,null,null,null,"AP-6","POTENTIAL EMISSIONS:"]
[null,"Air Pollutant","ID or CAS Number",null,"Tons/Yr",null,null,null,"Air Pollutant","ID or CAS Number",null,"Tons/Yr"]
[null,"PM-2.5","PM-2.5",null,{"$f":"SUM('Asphalt Plant (AP-5)'!S21:S26,'Asphalt Plant (AP-5)'!S37,'Haul Roads'!AL13,'Permitted Diesel Engines'!Z59)","v":0},null,null,null,"PM-2.5","PM-2.5",null,{"$f":"SUM('Asphalt Plant (AP-6)'!S21:S26,'Asphalt Plant (AP-6)'!S37,'Haul Roads'!AL14,'Permitted Diesel Engines'!Z60)","v":0}]
[null,"PM-10","PM-10",null,{"$f":"SUM('Asphalt Plant (AP-5)'!S28:S33,'Asphalt Plant (AP-5)'!S37,'Haul Roads'!AN13,'Permitted Diesel Engines'!AB59)","v":0},null,null,null,"PM-10","PM-10",null,{"$f":"SUM('Asphalt Plant (AP-6)'!S28:S33,'Asphalt Plant (AP-6)'!S37,'Haul Roads'!AN14,'Permitted Diesel Engines'!AB60)","v":0}]
[null,"SO2","7446-09-5",null,{"$f":"SUM('Asphalt Plant (AP-5)'!S40:S42,'Permitted Diesel Engines'!AD59)","v":0},{"$f":"IF(E144>100,\"Thresholds exceeded, contact DNR for assistance.\",\"\")","v":""},null,null,"SO2","7446-09-5",null,{"$f":"SUM('Asphalt Plant (AP-6)'!S40:S42,'Permitted Diesel Engines'!AD60)","v":0},{"$f":"IF(L144>100,\"Thresholds exceeded, contact DNR for assistance.\",\"\")","v":""}]
[null,"NOx","NOx",null,{"$f":"SUM('Asphalt Plant (AP-5)'!S44:S46,'Permitted Diesel Engines'!AF59)","v":0},{"$f":"IF(E145>100,\"Thresholds exceeded, contact DNR for assistance.\",\"\")","v":""},null,null,"NOx","NOx",null,{"$f":"SUM('Asphalt Plant (AP-6)'!S44:S46,'Permitted Diesel Engines'!AF60)","v":0},{"$f":"IF(L145>100,\"Thresholds exceeded, contact DNR for assistance.\",\"\")","v":""}]
[null,"VOC","VOC",null,{"$f":"SUM('Asphalt Plant (AP-5)'!S48:S50,'Permitted Diesel Engines'!AH59)","v":0},{"$f":"IF(E146>100,\"Thresholds exceeded, contact DNR for assistance.\",\"\")","v":""},null,null,"VOC","VOC",null,{"$f":"SUM('Asphalt Plant (AP-6)'!S48:S50,'Permitted Diesel Engines'!AH60)","v":0},{"$f":"IF(L146>100,\"Thresholds exceeded, contact DNR for assistance.\",\"\")","v":""}]
[null,"CO","630-08-0",null,{"$f":"SUM('Asphalt Plant (AP-5)'!S52:S55,'Permitted Diesel Engines'!AJ59)","v":0},{"$f":"IF(E147>100,\"Thresholds exceeded, contact DNR for assistance.\",\"\")","v":""},null,null,"CO","630-08-0",null,{"$f":"SUM('Asphalt Plant (AP-6)'!S52:S55,'Permitted Diesel Engines'!AJ60)","v":0},{"$f":"IF(L147>100,\"Thresholds exceeded, contact DNR for assistance.\",\"\")","v":""}]
[null,"Acetaldehyde","75-07-0",null,{"$f":"SUM('Asphalt Plant (AP-5)'!$S$57)","v":0},{"$f":"IF(E148>10,\"Thresholds exceeded, contact DNR for assistance.\",\"\")","v":""},null,null,"Acetaldehyde","75-07-0",null,{"$f":"SUM('Asphalt Plant (AP-6)'!$S$57)","v":0},{"$f":"IF(L148>10,\"Thresholds exceeded, contact DNR for assistance.\",\"\")","v":""}]
[null,"Acrolein","107-02-8",null,{"$f":"'Asphalt Plant (AP-5)'!$S$59","v":0},{"$f":"IF(E149>10,\"Thresholds exceeded, contact DNR for assistance.\",\"\")","v":""},null,null,"Acrolein","107-02-8",null,{"$f":"'Asphalt Plant (AP-6)'!$S$59","v":0},{"$f":"IF(L149>10,\"Thresholds exceeded, contact DNR for assistance.\",\"\")","v":""}]
[null,"Benzene","71-43-2",null,{"$f":"SUM('Asphalt Plant (AP-5)'!$S$61,'Permitted Diesel Engines'!$AN$59)","v":0},{"$f":"IF(E150>10,\"Thresholds exceeded, contact DNR for assistance.\",\"\")","v":""},null,null,"Benzene","71-43-2",null,{"$f":"SUM('Asphalt Plant (AP-6)'!$S$61,'Permitted Diesel Engines'!$AN$60)","v":0},""]
[null,"Ethylbenzene","100-41-4",null,{"$f":"SUM('Asphalt Plant (AP-5)'!$S$63)","v":0},"",null,null,"Ethylbenzene","100-41-4",null,{"$f":"SUM('Asphalt Plant (AP-6)'!$S$63)","v":0},""]
[null,"Formaldehyde","50-00-0",null,{"$f":"SUM('Asphalt Plant (AP-5)'!$S$65:$S$66,'Permitted Diesel Engines'!$AL$59)","v":0},"",null,null,"Formaldehyde","50-00-0",null,{"$f":"SUM('Asphalt Plant (AP-6)'!$S$65:$S$66,'Permitted Diesel Engines'!$AL$60)","v":0},""]
[null,"Hexane","110-54-3",null,{"$f":"('Asphalt Plant (AP-5)'!$S$68)","v":0},"",null,null,"Hexane","110-54-3",null,{"$f":"('Asphalt Plant (AP-6)'!$S$68)","v":0},""]
[null,"Hydrochloric Acid","7647-01-0",null,{"$f":"'Asphalt Plant (AP-5)'!$S$70","v":0},"",null,null,"Hydrochloric Acid","7647-01-0",null,{"$f":"'Asphalt Plant (AP-6)'!$S$70","v":0},""]
[null,"Methyl Chloroform","71-55-6",null,{"$f":"'Asphalt Plant (AP-5)'!$S$72","v":0},"",null,null,"Methyl Chloroform","71-55-6",null,{"$f":"'Asphalt Plant (AP-6)'!$S$72","v":0},""]
[null,"Propionaldehyde","123-38-6",null,{"$f":"'Asphalt Plant (AP-5)'!$S$74","v":0},"",null,null,"Propionaldehyde","123-38-6",null,{"$f":"'Asphalt Plant (AP-6)'!$S$74","v":0},""]
[null,"Quinone","106-51-4",null,{"$f":"'Asphalt Plant (AP-5)'!$S$76","v":0},"",null,null,"Quinone","106-51-4",null,{"$f":"'Asphalt Plant (AP-6)'!$S$76","v":0},{"$f":"IF(L157>10,\"Thresholds exceeded, contact DNR for assistance.\",\"\")","v":""}]
[null,"Toluene","108-88-3",null,{"$f":"SUM('Asphalt Plant (AP-5)'!$S$78:$S$80)","v":0},"",null,null,"Toluene","108-88-3",null,{"$f":"SUM('Asphalt Plant (AP-6)'!$S$78:$S$80)","v":0},""]
[null,"Xylene","1330-20-7",null,{"$f":"'Asphalt Plant (AP-5)'!$S$82","v":0},"",null,null,"Xylene","1330-20-7",null,{"$f":"'Asphalt Plant (AP-6)'!$S$82","v":0},""]
[null,"2,2,4-Trimethylpentane","540-84-1",null,{"$f":"'Asphalt Plant (AP-5)'!$S$84","v":0},"",null,null,"2,2,4-Trimethylpentane","540-84-1",null,{"$f":"'Asphalt Plant (AP-6)'!$S$84","v":0},""]
[null,"Chromium Compounds",null,null,{"$f":"'Asphalt Plant (AP-5)'!$S$86","v":0},"",null,null,"Chromium Compounds",null,null,{"$f":"'Asphalt Plant (AP-6)'!$S$86","v":0},""]
[null,"Lead Compounds",null,null,{"$f":"'Asphalt Plant (AP-5)'!$S$88","v":0},"",null,null,"Lead Compounds",null,null,{"$f":"'Asphalt Plant (AP-6)'!$S$88","v":0},""]
[null,"Manganese Compounds",null,null,{"$f":"'Asphalt Plant (AP-5)'!$S$90","v":0},"",null,null,"Manganese Compounds",null,null,{"$f":"'Asphalt Plant (AP-6)'!$S$90","v":0},""]
[null,"Nickel Compounds",null,null,{"$f":"SUM('Asphalt Plant (AP-5)'!$S$92:$S$94)","v":0},"",null,null,"Nickel Compounds",null,null,{"$f":"SUM('Asphalt Plant (AP-6)'!$S$92:$S$94)","v":0},""]
[null,"Total HAP",null,null,{"$f":"SUM(E148:E164)","v":0},{"$f":"IF(E165>25,\"Thresholds exceeded, contact DNR for assistance.\",\"\")","v":""},null,null,"Total HAP",null,null,{"$f":"SUM(L148:L164)","v":0},{"$f":"IF(L165>25,\"Thresholds exceeded, contact DNR for assistance.\",\"\")","v":""}]
[]
[null,"ACTUAL EMISSIONS:",null,null,null,null,null,null,"ACTUAL EMISSIONS:"]
[null,"Air Pollutant","ID or CAS Number",null,"Tons/Yr",null,null,null,"Air Pollutant","ID or CAS Number",null,"Tons/Yr"]
[null,"PM-2.5","PM-2.5",null,{"$f":"SUM('Asphalt Plant (AP-5)'!T21:T26,'Asphalt Plant (AP-5)'!T37,'Haul Roads'!AM13,'Permitted Diesel Engines'!AA59)","v":0},null,null,null,"PM-2.5","PM-2.5",null,{"$f":"SUM('Asphalt Plant (AP-6)'!T21:T26,'Asphalt Plant (AP-6)'!T37,'Haul Roads'!AM14,'Permitted Diesel Engines'!AA60)","v":0}]
[null,"PM-10","PM-10",null,{"$f":"SUM('Asphalt Plant (AP-5)'!T28:T33,'Asphalt Plant (AP-5)'!T37,'Haul Roads'!AO13,'Permitted Diesel Engines'!AC59)","v":0},null,null,null,"PM-10","PM-10",null,{"$f":"SUM('Asphalt Plant (AP-6)'!T28:T33,'Asphalt Plant (AP-6)'!T37,'Haul Roads'!AO14,'Permitted Diesel Engines'!AC60)","v":0}]
[null,"SO2","7446-09-5",null,{"$f":"SUM('Asphalt Plant (AP-5)'!T40:T43,'Permitted Diesel Engines'!AE59)","v":0},null,null,null,"SO2","7446-09-5",null,{"$f":"SUM('Asphalt Plant (AP-6)'!T40:T43,'Permitted Diesel Engines'!AE60)","v":0}]
[null,"NOx","NOx",null,{"$f":"SUM('Asphalt Plant (AP-5)'!T44:T46,'Permitted Diesel Engines'!AG59)","v":0},null,null,null,"NOx","NOx",null,{"$f":"SUM('Asphalt Plant (AP-6)'!T44:T46,'Permitted Diesel Engines'!AG60)","v":0}]
[null,"VOC","VOC",null,{"$f":"SUM('Asphalt Plant (AP-5)'!T48:T50,'Permitted Diesel Engines'!AI59)","v":0},null,null,null,"VOC","VOC",null,{"$f":"SUM('Asphalt Plant (AP-6)'!T48:T50,'Permitted Diesel Engines'!AI60)","v":0}]
[null,"CO","630-08-0",null,{"$f":"SUM('Asphalt Plant (AP-5)'!T52:T55,'Permitted Diesel Engines'!AK59)","v":0},null,null,null,"CO","630-08-0",null,{"$f":"SUM('Asphalt Plant (AP-6)'!T52:T55,'Permitted Diesel Engines'!AK60)","v":0}]
[null,"Acetaldehyde","75-07-0",null,{"$f":"SUM('Asphalt Plant (AP-5)'!$T$57)","v":0},null,null,null,"Acetaldehyde","75-07-0",null,{"$f":"SUM('Asphalt Plant (AP-6)'!$T$57)","v":0}]
[null,"Acrolein","107-02-8",null,{"$f":"'Asphalt Plant (AP-5)'!$T$59","v":0},null,null,null,"Acrolein","107-02-8",null,{"$f":"'Asphalt Plant (AP-6)'!$T$59","v":0}]
[null,"Benzene","71-43-2",null,{"$f":"SUM('Asphalt Plant (AP-5)'!$T$61,'Permitted Diesel Engines'!$AO$59)","v":0},null,null,null,"Benzene","71-43-2",null,{"$f":"SUM('Asphalt Plant (AP-6)'!$T$61,'Permitted Diesel Engines'!$AO$60)","v":0}]
[null,"Ethylbenzene","100-41-4",null,{"$f":"SUM('Asphalt Plant (AP-5)'!$T$63)","v":0},null,null,null,"Ethylbenzene","100-41-4",null,{"$f":"SUM('Asphalt Plant (AP-6)'!$T$63)","v":0}]
[null,"Formaldehyde","50-00-0",null,{"$f":"SUM('Asphalt Plant (AP-5)'!$T$65:$T$66,'Permitted Diesel Engines'!$AM$59)","v":0},null,null,null,"Formaldehyde","50-00-0",null,{"$f":"SUM('Asphalt Plant (AP-6)'!$T$65:$T$66,'Permitted Diesel Engines'!$AM$60)","v":0}]
[null,"Hexane","110-54-3",null,{"$f":"('Asphalt Plant (AP-5)'!$T$68)","v":0},null,null,null,"Hexane","110-54-3",null,{"$f":"('Asphalt Plant (AP-6)'!$T$68)","v":0}]
[null,"Hydrochloric Acid","7647-01-0",null,{"$f":"'Asphalt Plant (AP-5)'!$T$70","v":0},null,null,null,"Hydrochloric Acid","7647-01-0",null,{"$f":"'Asphalt Plant (AP-6)'!$T$70","v":0}]
[null,"Methyl Chloroform","71-55-6",null,{"$f":"'Asphalt Plant (AP-5)'!$T$72","v":0},null,null,null,"Methyl Chloroform","71-55-6",null,{"$f":"'Asphalt Plant (AP-6)'!$T$72","v":0}]
[null,"Propionaldehyde","123-38-6",null,{"$f":"'Asphalt Plant (AP-5)'!$T$74","v":0},null,null,null,"Propionaldehyde","123-38-6",null,{"$f":"'Asphalt Plant (AP-6)'!$T$74","v":0}]
[null,"Quinone","106-51-4",null,{"$f":"'Asphalt Plant (AP-5)'!$T$76","v":0},null,null,null,"Quinone","106-51-4",null,{"$f":"'Asphalt Plant (AP-6)'!$T$76","v":0}]
[null,"Toluene","108-88-3",null,{"$f":"SUM('Asphalt Plant (AP-5)'!$T$78:$T$80)","v":0},null,null,null,"Toluene","108-88-3",null,{"$f":"SUM('Asphalt Plant (AP-6)'!$T$78:$T$80)","v":0}]
[null,"Xylene","1330-20-7",null,{"$f":"'Asphalt Plant (AP-5)'!$T$82","v":0},null,null,null,"Xylene","1330-20-7",null,{"$f":"'Asphalt Plant (AP-6)'!$T$82","v":0}]
[null,"2,2,4-Trimethylpentane","540-84-1",null,{"$f":"'Asphalt Plant (AP-5)'!$T$84","v":0},null,null,null,"2,2,4-Trimethylpentane","540-84-1",null,{"$f":"'Asphalt Plant (AP-6)'!$T$84","v":0}]
[null,"Chromium Compounds",null,null,{"$f":"'Asphalt Plant (AP-5)'!$T$86","v":0},null,null,null,"Chromium Compounds",null,null,{"$f":"'Asphalt Plant (AP-6)'!$T$86","v":0}]
[null,"Lead Compounds",null,null,{"$f":"'Asphalt Plant (AP-5)'!$T$88","v":0},null,null,null,"Lead Compounds",null,null,{"$f":"'Asphalt Plant (AP-6)'!$T$88","v":0}]
[null,"Manganese Compounds",null,null,{"$f":"'Asphalt Plant (AP-5)'!$T$90","v":0},null,null,null,"Manganese Compounds",null,null,{"$f":"'Asphalt Plant (AP-6)'!$T$90","v":0}]
[null,"Nickel Compounds",null,null,{"$f":"SUM('Asphalt Plant (AP-5)'!$T$92:$T$94)","v":0},null,null,null,"Nickel Compounds",null,null,{"$f":"SUM('Asphalt Plant (AP-6)'!$T$92:$T$94)","v":0}]
[null,"Total HAP",null,null,{"$f":"SUM(E175:E191)","v":0},null,null,null,"Total HAP",null,null,{"$f":"SUM(L175:L191)","v":0}]
[]
["AP-7","POTENTIAL EMISSIONS:",null,null,null,null,null,"AP-8","POTENTIAL EMISSIONS:"]
[null,"Air Pollutant","ID or CAS Number",null,"Tons/Yr",null,null,null,"Air Pollutant","ID or CAS Number",null,"Tons/Yr"]
[null,"PM-2.5","PM-2.5",null,{"$f":"SUM('Asphalt Plant (AP-7)'!S21:S26,'Asphalt Plant (AP-7)'!S37,'Haul Roads'!AL15,'Permitted Diesel Engines'!Z61)","v":0},null,null,null,"PM-2.5","PM-2.5",null,{"$f":"SUM('Asphalt Plant (AP-8)'!S21:S26,'Asphalt Plant (AP-8)'!S37,'Haul Roads'!AL16,'Permitted Diesel Engines'!Z62)","v":0}]
[null,"PM-10","PM-10",null,{"$f":"SUM('Asphalt Plant (AP-7)'!S28:S33,'Asphalt Plant (AP-7)'!S37,'Haul Roads'!AN15,'Permitted Diesel Engines'!AB61)","v":0},null,null,null,"PM-10","PM-10",null,{"$f":"SUM('Asphalt Plant (AP-8)'!S28:S33,'Asphalt Plant (AP-8)'!S37,'Haul Roads'!AN16,'Permitted Diesel Engines'!AB62)","v":0}]
[null,"SO2","7446-09-5",null,{"$f":"SUM('Asphalt Plant (AP-7)'!S40:S42,'Permitted Diesel Engines'!AD61)","v":0},{"$f":"IF(E198>100,\"Thresholds exceeded, contact DNR for assistance.\",\"\")","v":""},null,null,"SO2","7446-09-5",null,{"$f":"SUM('Asphalt Plant (AP-8)'!S40:S42,'Permitted Diesel Engines'!AD62)","v":0},{"$f":"IF(L198>100,\"Thresholds exceeded, contact DNR for assistance.\",\"\")","v":""}]
[null,"NOx","NOx",null,{"$f":"SUM('Asphalt Plant (AP-7)'!S44:S46,'Permitted Diesel Engines'!AF61)","v":0},{"$f":"IF(E199>100,\"Thresholds exceeded, contact DNR for assistance.\",\"\")","v":""},null,null,"NOx","NOx",null,{"$f":"SUM('Asphalt Plant (AP-8)'!S44:S46,'Permitted Diesel Engines'!AF62)","v":0},{"$f":"IF(L199>100,\"Thresholds exceeded, contact DNR for assistance.\",\"\")","v":""}]
[null,"VOC","VOC",null,{"$f":"SUM('Asphalt Plant (AP-7)'!S48:S50,'Permitted Diesel Engines'!AH61)","v":0},{"$f":"IF(E200>100,\"Thresholds exceeded, contact DNR for assistance.\",\"\")","v":""},null,null,"VOC","VOC",null,{"$f":"SUM('Asphalt Plant (AP-8)'!S48:S50,'Permitted Diesel Engines'!AH62)","v":0},{"$f":"IF(L200>100,\"Thresholds exceeded, contact DNR for assistance.\",\"\")","v":""}]
[null,"CO","630-08-0",null,{"$f":"SUM('Asphalt Plant (AP-7)'!S52:S55,'Permitted Diesel Engines'!AJ61)","v":0},{"$f":"IF(E201>100,\"Thresholds exceeded, contact DNR for assistance.\",\"\")","v":""},null,null,"CO","630-08-0",null,{"$f":"SUM('Asphalt Plant (AP-8)'!S52:S55,'Permitted Diesel Engines'!AJ62)","v":0},{"$f":"IF(L201>100,\"Thresholds exceeded, contact DNR for assistance.\",\"\")","v":""}]
[null,"Acetaldehyde","75-07-0",null,{"$f":"SUM('Asphalt Plant (AP-7)'!$S$57)","v":0},{"$f":"IF(E202>10,\"Thresholds exceeded, contact DNR for assistance.\",\"\")","v":""},null,null,"Acetaldehyde","75-07-0",null,{"$f":"SUM('Asphalt Plant (AP-8)'!$S$57)","v":0},{"$f":"IF(L202>10,\"Thresholds exceeded, contact DNR for assistance.\",\"\")","v":""}]
[null,"Acrolein","107-02-8",null,{"$f":"'Asphalt Plant (AP-7)'!$S$59","v":0},{"$f":"IF(E203>10,\"Thresholds exceeded, contact DNR for assistance.\",\"\")","v":""},null,null,"Acrolein","107-02-8",null,{"$f":"'Asphalt Plant (AP-8)'!$S$59","v":0},{"$f":"IF(L203>10,\"Thresholds exceeded, contact DNR for assistance.\",\"\")","v":""}]
[null,"Benzene","71-43-2",null,{"$f":"SUM('Asphalt Plant (AP-7)'!$S$61,'Permitted Diesel Engines'!$AN$61)","v":0},{"$f":"IF(E204>10,\"Thresholds exceeded, contact DNR for assistance.\",\"\")","v":""},null,null,"Benzene","71-43-2",null,{"$f":"SUM('Asphalt Plant (AP-8)'!$S$61,'Permitted Diesel Engines'!$AN$62)","v":0},""]
[null,"Ethylbenzene","100-41-4",null,{"$f":"SUM('Asphalt Plant (AP-7)'!$S$63)","v":0},"",null,null,"Ethylbenzene","100-41-4",null,{"$f":"SUM('Asphalt Plant (AP-8)'!$S$63)","v":0},""]
[null,"Formaldehyde","50-00-0",null,{"$f":"SUM('Asphalt Plant (AP-7)'!$S$65:$S$66,'Permitted Diesel Engines'!$AL$61)","v":0},"",null,null,"Formaldehyde","50-00-0",null,{"$f":"SUM('Asphalt Plant (AP-8)'!$S$65:$S$66,'Permitted Diesel Engines'!$AL$62)","v":0},""]
[null,"Hexane","110-54-3",null,{"$f":"('Asphalt Plant (AP-7)'!$S$68)","v":0},"",null,null,"Hexane","110-54-3",null,{"$f":"('Asphalt Plant (AP-8)'!$S$68)","v":0},""]
[null,"Hydrochloric Acid","7647-01-0",null,{"$f":"'Asphalt Plant (AP-7)'!$S$70","v":0},"",null,null,"Hydrochloric Acid","7647-01-0",null,{"$f":"'Asphalt Plant (AP-8)'!$S$70","v":0},""]
[null,"Methyl Chloroform","71-55-6",null,{"$f":"'Asphalt Plant (AP-7)'!$S$72","v":0},"",null,null,"Methyl Chloroform","71-55-6",null,{"$f":"'Asphalt Plant (AP-8)'!$S$72","v":0},""]
[null,"Propionaldehyde","123-38-6",null,{"$f":"'Asphalt Plant (AP-7)'!$S$74","v":0},"",null,null,"Propionaldehyde","123-38-6",null,{"$f":"'Asphalt Plant (AP-8)'!$S$74","v":0},""]
[null,"Quinone","106-51-4",null,{"$f":"'Asphalt Plant (AP-7)'!$S$76","v":0},"",null,null,"Quinone","106-51-4",null,{"$f":"'Asphalt Plant (AP-8)'!$S$76","v":0},{"$f":"IF(L211>10,\"Thresholds exceeded, contact DNR for assistance.\",\"\")","v":""}]
[null,"Toluene","108-88-3",null,{"$f":"SUM('Asphalt Plant (AP-7)'!$S$78:$S$80)","v":0},"",null,null,"Toluene","108-88-3",null,{"$f":"SUM('Asphalt Plant (AP-8)'!$S$78:$S$80)","v":0},""]
[null,"Xylene","1330-20-7",null,{"$f":"'Asphalt Plant (AP-7)'!$S$82","v":0},"",null,null,"Xylene","1330-20-7",null,{"$f":"'Asphalt Plant (AP-8)'!$S$82","v":0},""]
[null,"2,2,4-Trimethylpentane","540-84-1",null,{"$f":"'Asphalt Plant (AP-7)'!$S$84","v":0},"",null,null,"2,2,4-Trimethylpentane","540-84-1",null,{"$f":"'Asphalt Plant (AP-8)'!$S$84","v":0},""]
[null,"Chromium Compounds",null,null,{"$f":"'Asphalt Plant (AP-7)'!$S$86","v":0},"",null,null,"Chromium Compounds",null,null,{"$f":"'Asphalt Plant (AP-8)'!$S$86","v":0},""]
[null,"Lead Compounds",null,null,{"$f":"'Asphalt Plant (AP-7)'!$S$88","v":0},"",null,null,"Lead Compounds",null,null,{"$f":"'Asphalt Plant (AP-8)'!$S$88","v":0},""]
[null,"Manganese Compounds",null,null,{"$f":"'Asphalt Plant (AP-7)'!$S$90","v":0},"",null,null,"Manganese Compounds",null,null,{"$f":"'Asphalt Plant (AP-8)'!$S$90","v":0},""]
[null,"Nickel Compounds",null,null,{"$f":"SUM('Asphalt Plant (AP-7)'!$S$92:$S$94)","v":0},"",null,null,"Nickel Compounds",null,null,{"$f":"SUM('Asphalt Plant (AP-8)'!$S$92:$S$94)","v":0},""]
[null,"Total HAP",null,null,{"$f":"SUM(E202:E218)","v":0},{"$f":"IF(E219>25,\"Thresholds exceeded, contact DNR for assistance.\",\"\")","v":""},null,null,"Total HAP",null,null,{"$f":"SUM(L202:L218)","v":0},{"$f":"IF(L219>25,\"Thresholds exceeded, contact DNR for assistance.\",\"\")","v":""}]
[]
[null,"ACTUAL EMISSIONS:",null,null,null,null,null,null,"ACTUAL EMISSIONS:"]
[null,"Air Pollutant","ID or CAS Number",null,"Tons/Yr",null,null,null,"Air Pollutant","ID or CAS Number",null,"Tons/Yr"]
[null,"PM-2.5","PM-2.5",null,{"$f":"SUM('Asphalt Plant (AP-7)'!T21:T26,'Asphalt Plant (AP-7)'!T37,'Haul Roads'!AM15,'Permitted Diesel Engines'!AA61)","v":0},null,null,null,"PM-2.5","PM-2.5",null,{"$f":"SUM('Asphalt Plant (AP-8)'!T21:T26,'Asphalt Plant (AP-8)'!T37,'Haul Roads'!AM16,'Permitted Diesel Engines'!AA62)","v":0}]
[null,"PM-10","PM-10",null,{"$f":"SUM('Asphalt Plant (AP-7)'!T28:T33,'Asphalt Plant (AP-7)'!T37,'Haul Roads'!AO15,'Permitted Diesel Engines'!AC61)","v":0},null,null,null,"PM-10","PM-10",null,{"$f":"SUM('Asphalt Plant (AP-8)'!T28:T33,'Asphalt Plant (AP-8)'!T37,'Haul Roads'!AO16,'Permitted Diesel Engines'!AC62)","v":0}]
[null,"SO2","7446-09-5",null,{"$f":"SUM('Asphalt Plant (AP-7)'!T40:T43,'Permitted Diesel Engines'!AE61)","v":0},null,null,null,"SO2","7446-09-5",null,{"$f":"SUM('Asphalt Plant (AP-8)'!T40:T43,'Permitted Diesel Engines'!AE62)","v":0}]
[null,"NOx","NOx",null,{"$f":"SUM('Asphalt Plant (AP-7)'!T44:T46,'Permitted Diesel Engines'!AG61)","v":0},null,null,null,"NOx","NOx",null,{"$f":"SUM('Asphalt Plant (AP-8)'!T44:T46,'Permitted Diesel Engines'!AG62)","v":0}]
[null,"VOC","VOC",null,{"$f":"SUM('Asphalt Plant (AP-7)'!T48:T50,'Permitted Diesel Engines'!AI61)","v":0},null,null,null,"VOC","VOC",null,{"$f":"SUM('Asphalt Plant (AP-8)'!T48:T50,'Permitted Diesel Engines'!AI62)","v":0}]
[null,"CO","630-08-0",null,{"$f":"SUM('Asphalt Plant (AP-7)'!T52:T55,'Permitted Diesel Engines'!AK61)","v":0},null,null,null,"CO","630-08-0",null,{"$f":"SUM('Asphalt Plant (AP-8)'!T52:T55,'Permitted Diesel Engines'!AK62)","v":0}]
[null,"Acetaldehyde","75-07-0",null,{"$f":"SUM('Asphalt Plant (AP-7)'!$T$57)","v":0},null,null,null,"Acetaldehyde","75-07-0",null,{"$f":"SUM('Asphalt Plant (AP-8)'!$T$57)","v":0}]
[null,"Acrolein","107-02-8",null,{"$f":"'Asphalt Plant (AP-7)'!$T$59","v":0},null,null,null,"Acrolein","107-02-8",null,{"$f":"'Asphalt Plant (AP-8)'!$T$59","v":0}]
[null,"Benzene","71-43-2",null,{"$f":"SUM('Asphalt Plant (AP-7)'!$T$61,'Permitted Diesel Engines'!$AO$61)","v":0},null,null,null,"Benzene","71-43-2",null,{"$f":"SUM('Asphalt Plant (AP-8)'!$T$61,'Permitted Diesel Engines'!$AO$62)","v":0}]
[null,"Ethylbenzene","100-41-4",null,{"$f":"SUM('Asphalt Plant (AP-7)'!$T$63)","v":0},null,null,null,"Ethylbenzene","100-41-4",null,{"$f":"SUM('Asphalt Plant (AP-8)'!$T$63)","v":0}]
[null,"Formaldehyde","50-00-0",null,{"$f":"SUM('Asphalt Plant (AP-7)'!$T$65:$T$66,'Permitted Diesel Engines'!$AM$61)","v":0},null,null,null,"Formaldehyde","50-00-0",null,{"$f":"SUM('Asphalt Plant (AP-8)'!$T$65:$T$66,'Permitted Diesel Engines'!$AM$62)","v":0}]
[null,"Hexane","110-54-3",null,{"$f":"('Asphalt Plant (AP-7)'!$T$68)","v":0},null,null,null,"Hexane","110-54-3",null,{"$f":"('Asphalt Plant (AP-8)'!$T$68)","v":0}]
[null,"Hydrochloric Acid","7647-01-0",null,{"$f":"'Asphalt Plant (AP-7)'!$T$70","v":0},null,null,null,"Hydrochloric Acid","7647-01-0",null,{"$f":"'Asphalt Plant (AP-8)'!$T$70","v":0}]
[null,"Methyl Chloroform","71-55-6",null,{"$f":"'Asphalt Plant (AP-7)'!$T$72","v":0},null,null,null,"Methyl Chloroform","71-55-6",null,{"$f":"'Asphalt Plant (AP-8)'!$T$72","v":0}]
[null,"Propionaldehyde","123-38-6",null,{"$f":"'Asphalt Plant (AP-7)'!$T$74","v":0},null,null,null,"Propionaldehyde","123-38-6",null,{"$f":"'Asphalt Plant (AP-8)'!$T$74","v":0}]
[null,"Quinone","106-51-4",null,{"$f":"'Asphalt Plant (AP-7)'!$T$76","v":0},null,null,null,"Quinone","106-51-4",null,{"$f":"'Asphalt Plant (AP-8)'!$T$76","v":0}]
[null,"Toluene","108-88-3",null,{"$f":"SUM('Asphalt Plant (AP-7)'!$T$78:$T$80)","v":0},null,null,null,"Toluene","108-88-3",null,{"$f":"SUM('Asphalt Plant (AP-8)'!$T$78:$T$80)","v":0}]
[null,"Xylene","1330-20-7",null,{"$f":"'Asphalt Plant (AP-7)'!$T$82","v":0},null,null,null,"Xylene","1330-20-7",null,{"$f":"'Asphalt Plant (AP-8)'!$T$82","v":0}]
[null,"2,2,4-Trimethylpentane","540-84-1",null,{"$f":"'Asphalt Plant (AP-7)'!$T$84","v":0},null,null,null,"2,2,4-Trimethylpentane","540-84-1",null,{"$f":"'Asphalt Plant (AP-8)'!$T$84","v":0}]
[null,"Chromium Compounds",null,null,{"$f":"'Asphalt Plant (AP-7)'!$T$86","v":0},null,null,null,"Chromium Compounds",null,null,{"$f":"'Asphalt Plant (AP-8)'!$T$86","v":0}]
[null,"Lead Compounds",null,null,{"$f":"'Asphalt Plant (AP-7)'!$T$88","v":0},null,null,null,"Lead Compounds",null,null,{"$f":"'Asphalt Plant (AP-8)'!$T$88","v":0}]
[null,"Manganese Compounds",null,null,{"$f":"'Asphalt Plant (AP-7)'!$T$90","v":0},null,null,null,"Manganese Compounds",null,null,{"$f":"'Asphalt Plant (AP-8)'!$T$90","v":0}]
[null,"Nickel Compounds",null,null,{"$f":"SUM('Asphalt Plant (AP-7)'!$T$92:$T$94)","v":0},null,null,null,"Nickel Compounds",null,null,{"$f":"SUM('Asphalt Plant (AP-8)'!$T$92:$T$94)","v":0}]
[null,"Total HAP",null,null,{"$f":"SUM(E229:E245)","v":0},null,null,null,"Total HAP",null,null,{"$f":"SUM(L229:L245)","v":0}]
[]
["AP-9","POTENTIAL EMISSIONS:",null,null,null,null,null,"AP-10","POTENTIAL EMISSIONS:"]
[null,"Air Pollutant","ID or CAS Number",null,"Tons/Yr",null,null,null,"Air Pollutant","ID or CAS Number",null,"Tons/Yr"]
[null,"PM-2.5","PM-2.5",null,{"$f":"SUM('Asphalt Plant (AP-9)'!S21:S26,'Asphalt Plant (AP-9)'!S37,'Haul Roads'!AL17,'Permitted Diesel Engines'!Z63)","v":0},null,null,null,"PM-2.5","PM-2.5",null,{"$f":"SUM('Asphalt Plant (AP-10)'!S21:S26,'Asphalt Plant (AP-10)'!S37,'Haul Roads'!AL18,'Permitted Diesel Engines'!Z64)","v":0}]
[null,"PM-10","PM-10",null,{"$f":"SUM('Asphalt Plant (AP-9)'!S28:S33,'Asphalt Plant (AP-9)'!S37,'Haul Roads'!AN17,'Permitted Diesel Engines'!AB63)","v":0},null,null,null,"PM-10","PM-10",null,{"$f":"SUM('Asphalt Plant (AP-10)'!S28:S33,'Asphalt Plant (AP-10)'!S37,'Haul Roads'!AN18,'Permitted Diesel Engines'!AB64)","v":0}]
[null,"SO2","7446-09-5",null,{"$f":"SUM('Asphalt Plant (AP-9)'!S40:S42,'Permitted Diesel Engines'!AD63)","v":0},{"$f":"IF(E252>100,\"Thresholds exceeded, contact DNR for assistance.\",\"\")","v":""},null,null,"SO2","7446-09-5",null,{"$f":"SUM('Asphalt Plant (AP-10)'!S40:S42,,'Permitted Diesel Engines'!AD64)","v":0},{"$f":"IF(L252>100,\"Thresholds exceeded, contact DNR for assistance.\",\"\")","v":""}]
[null,"NOx","NOx",null,{"$f":"SUM('Asphalt Plant (AP-9)'!S44:S46,'Permitted Diesel Engines'!AF63)","v":0},{"$f":"IF(E253>100,\"Thresholds exceeded, contact DNR for assistance.\",\"\")","v":""},null,null,"NOx","NOx",null,{"$f":"SUM('Asphalt Plant (AP-10)'!S44:S46,'Permitted Diesel Engines'!AF64)","v":0},{"$f":"IF(L253>100,\"Thresholds exceeded, contact DNR for assistance.\",\"\")","v":""}]
[null,"VOC","VOC",null,{"$f":"SUM('Asphalt Plant (AP-9)'!S48:S50,'Permitted Diesel Engines'!AH63)","v":0},{"$f":"IF(E254>100,\"Thresholds exceeded, contact DNR for assistance.\",\"\")","v":""},null,null,"VOC","VOC",null,{"$f":"SUM('Asphalt Plant (AP-10)'!S48:S50,'Permitted Diesel Engines'!AH64)","v":0},{"$f":"IF(L254>100,\"Thresholds exceeded, contact DNR for assistance.\",\"\")","v":""}]
[null,"CO","630-08-0",null,{"$f":"SUM('Asphalt Plant (AP-9)'!S52:S55,'Permitted Diesel Engines'!AJ63)","v":0},{"$f":"IF(E255>100,\"Thresholds exceeded, contact DNR for assistance.\",\"\")","v":""},null,null,"CO","630-08-0",null,{"$f":"SUM('Asphalt Plant (AP-10)'!S52:S55,'Permitted Diesel Engines'!AJ64)","v":0},{"$f":"IF(L255>100,\"Thresholds exceeded, contact DNR for assistance.\",\"\")","v":""}]
[null,"Acetaldehyde","75-07-0",null,{"$f":"SUM('Asphalt Plant (AP-9)'!$S$57)","v":0},{"$f":"IF(E256>10,\"Thresholds exceeded, contact DNR for assistance.\",\"\")","v":""},null,null,"Acetaldehyde","75-07-0",null,{"$f":"SUM('Asphalt Plant (AP-10)'!$S$57)","v":0},{"$f":"IF(L256>10,\"Thresholds exceeded, contact DNR for assistance.\",\"\")","v":""}]
[null,"Acrolein","107-02-8",null,{"$f":"'Asphalt Plant (AP-9)'!$S$59","v":0},{"$f":"IF(E257>10,\"Thresholds exceeded, contact DNR for assistance.\",\"\")","v":""},null,null,"Acrolein","107-02-8",null,{"$f":"'Asphalt Plant (AP-10)'!$S$59","v":0},{"$f":"IF(L257>10,\"Thresholds exceeded, contact DNR for assistance.\",\"\")","v":""}]
[null,"Benzene","71-43-2",null,{"$f":"SUM('Asphalt Plant (AP-9)'!$S$61,'Permitted Diesel Engines'!$AN$63)","v":0},{"$f":"IF(E258>10,\"Thresholds exceeded, contact DNR for assistance.\",\"\")","v":""},null,null,"Benzene","71-43-2",null,{"$f":"SUM('Asphalt Plant (AP-10)'!$S$61,'Permitted Diesel Engines'!$AN$62)","v":0},{"$f":"IF(L258>10,\"Thresholds exceeded, contact DNR for assistance.\",\"\")","v":""}]
[null,"Ethylbenzene","100-41-4",null,{"$f":"SUM('Asphalt Plant (AP-9)'!$S$63)","v":0},"",null,null,"Ethylbenzene","100-41-4",null,{"$f":"SUM('Asphalt Plant (AP-10)'!$S$63)","v":0},""]
[null,"Formaldehyde","50-00-0",null,{"$f":"SUM('Asphalt Plant (AP-9)'!$S$65:$S$66,'Permitted Diesel Engines'!$AL$63)","v":0},"",null,null,"Formaldehyde","50-00-0",null,{"$f":"SUM('Asphalt Plant (AP-10)'!$S$65:$S$66,'Permitted Diesel Engines'!$AL$62)","v":0},""]
[null,"Hexane","110-54-3",null,{"$f":"('Asphalt Plant (AP-9)'!$S$68)","v":0},"",null,null,"Hexane","110-54-3",null,{"$f":"('Asphalt Plant (AP-10)'!$S$68)","v":0},""]
[null,"Hydrochloric Acid","7647-01-0",null,{"$f":"'Asphalt Plant (AP-9)'!$S$70","v":0},"",null,null,"Hydrochloric Acid","7647-01-0",null,{"$f":"'Asphalt Plant (AP-10)'!$S$70","v":0},""]
[null,"Methyl Chloroform","71-55-6",null,{"$f":"'Asphalt Plant (AP-9)'!$S$72","v":0},"",null,null,"Methyl Chloroform","71-55-6",null,{"$f":"'Asphalt Plant (AP-10)'!$S$72","v":0},""]
[null,"Propionaldehyde","123-38-6",null,{"$f":"'Asphalt Plant (AP-9)'!$S$74","v":0},"",null,null,"Propionaldehyde","123-38-6",null,{"$f":"'Asphalt Plant (AP-10)'!$S$74","v":0},""]
[null,"Quinone","106-51-4",null,{"$f":"'Asphalt Plant (AP-9)'!$S$76","v":0},"",null,null,"Quinone","106-51-4",null,{"$f":"'Asphalt Plant (AP-10)'!$S$76","v":0},""]
[null,"Toluene","108-88-3",null,{"$f":"SUM('Asphalt Plant (AP-9)'!$S$78:$S$80)","v":0},"",null,null,"Toluene","108-88-3",null,{"$f":"SUM('Asphalt Plant (AP-10)'!$S$78:$S$80)","v":0},""]
[null,"Xylene","1330-20-7",null,{"$f":"'Asphalt Plant (AP-9)'!$S$82","v":0},"",null,null,"Xylene","1330-20-7",null,{"$f":"'Asphalt Plant (AP-10)'!$S$82","v":0},""]
[null,"2,2,4-Trimethylpentane","540-84-1",null,{"$f":"'Asphalt Plant (AP-9)'!$S$84","v":0},"",null,null,"2,2,4-Trimethylpentane","540-84-1",null,{"$f":"'Asphalt Plant (AP-10)'!$S$84","v":0},""]
[null,"Chromium Compounds",null,null,{"$f":"'Asphalt Plant (AP-9)'!$S$86","v":0},"",null,null,"Chromium Compounds",null,null,{"$f":"'Asphalt Plant (AP-10)'!$S$86","v":0},""]
[null,"Lead Compounds",null,null,{"$f":"'Asphalt Plant (AP-9)'!$S$88","v":0},"",null,null,"Lead Compounds",null,null,{"$f":"'Asphalt Plant (AP-10)'!$S$88","v":0},""]
[null,"Manganese Compounds",null,null,{"$f":"'Asphalt Plant (AP-9)'!$S$90","v":0},"",null,null,"Manganese Compounds",null,null,{"$f":"'Asphalt Plant (AP-10)'!$S$90","v":0},""]
[null,"Nickel Compounds",null,null,{"$f":"SUM('Asphalt Plant (AP-9)'!$S$92:$S$94)","v":0},"",null,null,"Nickel Compounds",null,null,{"$f":"SUM('Asphalt Plant (AP-10)'!$S$92:$S$94)","v":0},""]
[null,"Total HAP",null,null,{"$f":"SUM(E256:E272)","v":0},{"$f":"IF(E273>25,\"Thresholds exceeded, contact DNR for assistance.\",\"\")","v":""},null,null,"Total HAP",null,null,{"$f":"SUM(L256:L272)","v":0},{"$f":"IF(L273>25,\"Thresholds exceeded, contact DNR for assistance.\",\"\")","v":""}]
[]
[null,"ACTUAL EMISSIONS:",null,null,null,null,null,null,"ACTUAL EMISSIONS:"]
[null,"Air Pollutant","ID or CAS Number",null,"Tons/Yr",null,null,null,"Air Pollutant","ID or CAS Number",null,"Tons/Yr"]
[null,"PM-2.5","PM-2.5",null,{"$f":"SUM('Asphalt Plant (AP-9)'!T21:T26,'Asphalt Plant (AP-9)'!T37,'Haul Roads'!AM17,'Permitted Diesel Engines'!AA63)","v":0},null,null,null,"PM-2.5","PM-2.5",null,{"$f":"SUM('Asphalt Plant (AP-10)'!T21:T26,'Asphalt Plant (AP-10)'!T37,'Haul Roads'!AM18,'Permitted Diesel Engines'!AA64)","v":0}]
[null,"PM-10","PM-10",null,{"$f":"SUM('Asphalt Plant (AP-9)'!T28:T33,'Asphalt Plant (AP-9)'!T37,'Haul Roads'!AO17,'Permitted Diesel Engines'!AC63)","v":0},null,null,null,"PM-10","PM-10",null,{"$f":"SUM('Asphalt Plant (AP-10)'!T28:T33,'Asphalt Plant (AP-10)'!T37,'Haul Roads'!AO18,'Permitted Diesel Engines'!AC64)","v":0}]
[null,"SO2","7446-09-5",null,{"$f":"SUM('Asphalt Plant (AP-9)'!T40:T43,'Permitted Diesel Engines'!AE63)","v":0},null,null,null,"SO2","7446-09-5",null,{"$f":"SUM('Asphalt Plant (AP-10)'!T40:T43,'Permitted Diesel Engines'!AE64)","v":0}]
[null,"NOx","NOx",null,{"$f":"SUM('Asphalt Plant (AP-9)'!T44:T46,'Permitted Diesel Engines'!AG63)","v":0},null,null,null,"NOx","NOx",null,{"$f":"SUM('Asphalt Plant (AP-10)'!T44:T46,'Permitted Diesel Engines'!AG64)","v":0}]
[null,"VOC","VOC",null,{"$f":"SUM('Asphalt Plant (AP-9)'!T48:T50,'Permitted Diesel Engines'!AI63)","v":0},null,null,null,"VOC","VOC",null,{"$f":"SUM('Asphalt Plant (AP-10)'!T48:T50,'Permitted Diesel Engines'!AI64)","v":0}]
[null,"CO","630-08-0",null,{"$f":"SUM('Asphalt Plant (AP-9)'!T52:T55,'Permitted Diesel Engines'!AK63)","v":0},null,null,null,"CO","630-08-0",null,{"$f":"SUM('Asphalt Plant (AP-10)'!T52:T55,'Permitted Diesel Engines'!AK64)","v":0}]
[null,"Acetaldehyde","75-07-0",null,{"$f":"SUM('Asphalt Plant (AP-9)'!$T$57)","v":0},null,null,null,"Acetaldehyde","75-07-0",null,{"$f":"SUM('Asphalt Plant (AP-10)'!$T$57)","v":0}]
[null,"Acrolein","107-02-8",null,{"$f":"'Asphalt Plant (AP-9)'!$T$59","v":0},null,null,null,"Acrolein","107-02-8",null,{"$f":"'Asphalt Plant (AP-10)'!$T$59","v":0}]
[null,"Benzene","71-43-2",null,{"$f":"SUM('Asphalt Plant (AP-9)'!$T$61,'Permitted Diesel Engines'!$AO$63)","v":0},null,null,null,"Benzene","71-43-2",null,{"$f":"SUM('Asphalt Plant (AP-10)'!$T$61,'Permitted Diesel Engines'!$AO$64)","v":0}]
[null,"Ethylbenzene","100-41-4",null,{"$f":"SUM('Asphalt Plant (AP-9)'!$T$63)","v":0},null,null,null,"Ethylbenzene","100-41-4",null,{"$f":"SUM('Asphalt Plant (AP-10)'!$T$63)","v":0}]
[null,"Formaldehyde","50-00-0",null,{"$f":"SUM('Asphalt Plant (AP-9)'!$T$65:$T$66,'Permitted Diesel Engines'!$AM$63)","v":0},null,null,null,"Formaldehyde","50-00-0",null,{"$f":"SUM('Asphalt Plant (AP-10)'!$T$65:$T$66,'Permitted Diesel Engines'!$AM$64)","v":0}]
[null,"Hexane","110-54-3",null,{"$f":"('Asphalt Plant (AP-9)'!$T$68)","v":0},null,null,null,"Hexane","110-54-3",null,{"$f":"('Asphalt Plant (AP-10)'!$T$68)","v":0}]
[null,"Hydrochloric Acid","7647-01-0",null,{"$f":"'Asphalt Plant (AP-9)'!$T$70","v":0},null,null,null,"Hydrochloric Acid","7647-01-0",null,{"$f":"'Asphalt Plant (AP-10)'!$T$70","v":0}]
[null,"Methyl Chloroform","71-55-6",null,{"$f":"'Asphalt Plant (AP-9)'!$T$72","v":0},null,null,null,"Methyl Chloroform","71-55-6",null,{"$f":"'Asphalt Plant (AP-10)'!$T$72","v":0}]
[null,"Propionaldehyde","123-38-6",null,{"$f":"'Asphalt Plant (AP-9)'!$T$74","v":0},null,null,null,"Propionaldehyde","123-38-6",null,{"$f":"'Asphalt Plant (AP-10)'!$T$74","v":0}]
[null,"Quinone","106-51-4",null,{"$f":"'Asphalt Plant (AP-9)'!$T$76","v":0},null,null,null,"Quinone","106-51-4",null,{"$f":"'Asphalt Plant (AP-10)'!$T$76","v":0}]
[null,"Toluene","108-88-3",null,{"$f":"SUM('Asphalt Plant (AP-9)'!$T$78:$T$80)","v":0},null,null,null,"Toluene","108-88-3",null,{"$f":"SUM('Asphalt Plant (AP-10)'!$T$78:$T$80)","v":0}]
[null,"Xylene","1330-20-7",null,{"$f":"'Asphalt Plant (AP-9)'!$T$82","v":0},null,null,null,"Xylene","1330-20-7",null,{"$f":"'Asphalt Plant (AP-10)'!$T$82","v":0}]
[null,"2,2,4-Trimethylpentane","540-84-1",null,{"$f":"'Asphalt Plant (AP-9)'!$T$84","v":0},null,null,null,"2,2,4-Trimethylpentane","540-84-1",null,{"$f":"'Asphalt Plant (AP-10)'!$T$84","v":0}]
[null,"Chromium Compounds",null,null,{"$f":"'Asphalt Plant (AP-9)'!$T$86","v":0},null,null,null,"Chromium Compounds",null,null,{"$f":"'Asphalt Plant (AP-10)'!$T$86","v":0}]
[null,"Lead Compounds",null,null,{"$f":"'Asphalt Plant (AP-9)'!$T$88","v":0},null,null,null,"Lead Compounds",null,null,{"$f":"'Asphalt Plant (AP-10)'!$T$88","v":0}]
[null,"Manganese Compounds",null,null,{"$f":"'Asphalt Plant (AP-9)'!$T$90","v":0},null,null,null,"Manganese Compounds",null,null,{"$f":"'Asphalt Plant (AP-10)'!$T$90","v":0}]
[null,"Nickel Compounds",null,null,{"$f":"SUM('Asphalt Plant (AP-9)'!$T$92:$T$94)","v":0},null,null,null,"Nickel Compounds",null,null,{"$f":"SUM('Asphalt Plant (AP-10)'!$T$92:$T$94)","v":0}]
[null,"Total HAP",null,null,{"$f":"SUM(E283:E299)","v":0},null,null,null,"Total HAP",null,null,{"$f":"SUM(L283:L299)","v":0}]

{"sheet":"Emission Factors","index":15,"n_rows":45,"n_cols":49,"rows_kept":45,"cut":false,"hidden":false,"merged":[[2,43,2,44],[2,45,2,46],[2,47,2,48]]}
["EMISSION FACTORS"]
[]
["Process","SCC #","Source","PM2.5 EF","Units","PM10 EF","Units","SO2",null,"NOx",null,"VOC",null,"CO",null,"Acetaldehyde",null,"Acrolein",null,"Benzene",null,"Ethylbenzene",null,"Formaldehyde",null,"Hexane",null,"Hydrocloric Acid",null,"Methyl Chloroform",null,"Propionaldehyde",null,"Quinone",null,"Toluene",null,"Xylene",null,"2,2,4-Trimethylpentane",null,"Nickel Compounds",null,"Chromium Compounds",null,"Lead Compounds",null,"Manganese Compounds"]
["Asphalt Plant - Uncontrolled"]
["Batch Mix Plant - Fuel Oil",30500246,"AP-42 Table 11.1-2, 5, 6, 9",0.27,"lbs/ton",4.5,"lbs/ton",8.7999999999999995E-2,"lbs/ton",0.12,"lbs/ton",8.2000000000000007E-3,"lbs/ton",0.4,"lbs/ton",3.2000000000000003E-4,"lbs/ton",null,null,2.7999999999999998E-4,"lbs/ton",2.2000000000000001E-3,"lbs/ton",7.3999999999999999E-4,"lbs/ton",null,null,null,null,null,null,null,null,2.7E-4,"lbs/ton",1E-3,"lbs/ton",2.7000000000000001E-3,"lbs/ton"]
["Batch Mix Plant - Natural Gas",30500245,"AP-42 Table 11.1-2, 5, 6, 9",0.27,"lbs/ton",4.5,"lbs/ton",4.5999999999999999E-3,"lbs/ton",2.5000000000000001E-2,"lbs/ton",8.2000000000000007E-3,"lbs/ton",0.4,"lbs/ton",3.2000000000000003E-4,"lbs/ton",null,null,2.7999999999999998E-4,"lbs/ton",2.2000000000000001E-3,"lbs/ton",7.3999999999999999E-4,"lbs/ton",null,null,null,null,null,null,null,null,2.7E-4,"lbs/ton",1E-3,"lbs/ton",2.7000000000000001E-3,"lbs/ton"]
["Batch Mix Plant - Waste Oil",30500247,"AP-42 Table 11.1-2, 5, 6, 9",0.27,"lbs/ton",4.5,"lbs/ton",8.7999999999999995E-2,"lbs/ton",0.12,"lbs/ton",3.5999999999999997E-2,"lbs/ton",0.4,"lbs/ton",3.2000000000000003E-4,"lbs/ton",null,null,2.7999999999999998E-4,"lbs/ton",2.2000000000000001E-3,"lbs/ton",7.3999999999999999E-4,"lbs/ton",null,null,null,null,null,null,null,null,2.7E-4,"lbs/ton",1E-3,"lbs/ton",2.7000000000000001E-3,"lbs/ton"]
["Drum Mix Plant - Fuel Oil",30500258,"AP-42 Table 11.1-4, 7, 8, 10",1.54,"lbs/ton",6.5,"lbs/ton",1.0999999999999999E-2,"lbs/ton",5.5E-2,"lbs/ton",3.2000000000000001E-2,"lbs/ton",0.13,"lbs/ton",1.2999999999999999E-3,"lbs/ton",2.5999999999999998E-5,"lbs/ton",3.8999999999999999E-4,"lbs/ton",2.4000000000000001E-4,"lbs/ton",3.0999999999999999E-3,"lbs/ton",9.2000000000000003E-4,"lbs/ton",2.1000000000000001E-4,"lbs/ton",4.8000000000000001E-5,"lbs/ton",1.2999999999999999E-4,"lbs/ton",1.6000000000000001E-4,"lbs/ton",2.8999999999999998E-3,"lbs/ton",2.0000000000000001E-4,"lbs/ton",4.0000000000000003E-5,"lbs/ton",1.2999999999999999E-3,"lbs/ton",2.4000000000000001E-5,"lbs/ton",5.4000000000000001E-4,"lbs/ton",6.4999999999999997E-4,"lbs/ton"]
["Drum Mix Plant - Natural Gas",30500255,"AP-42 Table 11.1-4, 7, 8, 10, 12",1.54,"lbs/ton",6.5,"lbs/ton",3.3999999999999998E-3,"lbs/ton",2.5999999999999999E-2,"lbs/ton",3.2000000000000001E-2,"lbs/ton",0.13,"lbs/ton",null,null,null,null,3.8999999999999999E-4,"lbs/ton",2.4000000000000001E-4,"lbs/ton",3.0999999999999999E-3,"lbs/ton",9.2000000000000003E-4,"lbs/ton",null,null,4.8000000000000001E-5,"lbs/ton",null,null,null,null,1.4999999999999999E-4,"lbs/ton",2.0000000000000001E-4,"lbs/ton",4.0000000000000003E-5,"lbs/ton"]
["Drum Mix Plant - Waste Oil ",30500261,"AP-42 Table 11.1-4, 7, 8, 10",1.54,"lbs/ton",6.5,"lbs/ton",5.8000000000000003E-2,"lbs/ton",5.5E-2,"lbs/ton",3.2000000000000001E-2,"lbs/ton",0.13,"lbs/ton",1.2999999999999999E-3,"lbs/ton",2.5999999999999998E-5,"lbs/ton",3.8999999999999999E-4,"lbs/ton",2.4000000000000001E-4,"lbs/ton",3.0999999999999999E-3,"lbs/ton",9.2000000000000003E-4,"lbs/ton",2.1000000000000001E-4,"lbs/ton",4.8000000000000001E-5,"lbs/ton",1.2999999999999999E-4,"lbs/ton",1.6000000000000001E-4,"lbs/ton",2.8999999999999998E-3,"lbs/ton",2.0000000000000001E-4,"lbs/ton",4.0000000000000003E-5,"lbs/ton",1.2999999999999999E-3,"lbs/ton",2.4000000000000001E-5,"lbs/ton",5.4000000000000001E-4,"lbs/ton",6.4999999999999997E-4,"lbs/ton"]
["Asphalt Plant - Controlled"]
["Batch Mix Plant - Fuel Oil",30500246,"AP-42 Table 11.1-2, 5, 6, 9",8.3000000000000001E-3,"lbs/ton",9.7999999999999997E-3,"lbs/ton",8.7999999999999995E-2,"lbs/ton",0.12,"lbs/ton",8.2000000000000007E-3,"lbs/ton",0.4,"lbs/ton",3.2000000000000003E-4,"lbs/ton",null,null,2.7999999999999998E-4,"lbs/ton",2.2000000000000001E-3,"lbs/ton",7.3999999999999999E-4,"lbs/ton",null,null,null,null,null,null,null,null,2.7E-4,"lbs/ton",1E-3,"lbs/ton",2.7000000000000001E-3,"lbs/ton"]
["Batch Mix Plant - Natural Gas",30500245,"AP-42 Table 11.1-2, 5, 6, 9",8.3000000000000001E-3,"lbs/ton",9.7999999999999997E-3,"lbs/ton",4.5999999999999999E-3,"lbs/ton",2.5000000000000001E-2,"lbs/ton",8.2000000000000007E-3,"lbs/ton",0.4,"lbs/ton",3.2000000000000003E-4,"lbs/ton",null,null,2.7999999999999998E-4,"lbs/ton",2.2000000000000001E-3,"lbs/ton",7.3999999999999999E-4,"lbs/ton",null,null,null,null,null,null,null,null,2.7E-4,"lbs/ton",1E-3,"lbs/ton",2.7000000000000001E-3,"lbs/ton"]
["Batch Mix Plant - Waste Oil",30500246,"AP-42 Table 11.1-2, 5, 6, 9",8.3000000000000001E-3,"lbs/ton",9.7999999999999997E-3,"lbs/ton",8.7999999999999995E-2,"lbs/ton",0.12,"lbs/ton",3.5999999999999997E-2,"lbs/ton",0.4,"lbs/ton",3.2000000000000003E-4,"lbs/ton",null,null,2.7999999999999998E-4,"lbs/ton",2.2000000000000001E-3,"lbs/ton",7.3999999999999999E-4,"lbs/ton",null,null,null,null,null,null,null,null,2.7E-4,"lbs/ton",1E-3,"lbs/ton",2.7000000000000001E-3,"lbs/ton"]
["Drum Mix Plant - Fuel Oil",30500258,"AP-42 Table 11.1-4, 7, 8, 10",7.0000000000000001E-3,"lbs/ton",2.3E-2,"lbs/ton",1.0999999999999999E-2,"lbs/ton",5.5E-2,"lbs/ton",3.2000000000000001E-2,"lbs/ton",0.13,"lbs/ton",1.2999999999999999E-3,"lbs/ton",2.5999999999999998E-5,"lbs/ton",3.8999999999999999E-4,"lbs/ton",2.4000000000000001E-4,"lbs/ton",3.0999999999999999E-3,"lbs/ton",9.2000000000000003E-4,"lbs/ton",2.1000000000000001E-4,"lbs/ton",4.8000000000000001E-5,"lbs/ton",1.2999999999999999E-4,"lbs/ton",1.4999999999999999E-4,"lbs/ton",2.8999999999999998E-3,"lbs/ton",2.0000000000000001E-4,"lbs/ton",4.0000000000000003E-5,"lbs/ton",1.5E-5,"lbs/ton",5.4999999999999999E-6,"lbs/ton",1.5E-5,"lbs/ton",7.7000000000000008E-6,"lbs/ton"]
["Drum Mix Plant - Natural Gas",30500255,"AP-42 Table 11.1-4, 7, 8, 10, 12",7.0000000000000001E-3,"lbs/ton",2.3E-2,"lbs/ton",3.3999999999999998E-3,"lbs/ton",2.5999999999999999E-2,"lbs/ton",3.2000000000000001E-2,"lbs/ton",0.13,"lbs/ton",null,null,null,null,3.8999999999999999E-4,"lbs/ton",2.4000000000000001E-4,"lbs/ton",3.0999999999999999E-3,"lbs/ton",9.2000000000000003E-4,"lbs/ton",null,null,4.8000000000000001E-5,"lbs/ton",null,null,null,null,1.4999999999999999E-4,"lbs/ton",2.0000000000000001E-4,"lbs/ton",4.0000000000000003E-5,"lbs/ton",6.3E-5,"lbs/ton"]
["Drum Mix Plant - Waste Oil",30500261,"AP-42 Table 11.1-4, 7, 8, 10",7.0000000000000001E-3,"lbs/ton",2.3E-2,"lbs/ton",5.8000000000000003E-2,"lbs/ton",5.5E-2,"lbs/ton",3.2000000000000001E-2,"lbs/ton",0.13,"lbs/ton",1.2999999999999999E-3,"lbs/ton",2.5999999999999998E-5,"lbs/ton",3.8999999999999999E-4,"lbs/ton",2.4000000000000001E-4,"lbs/ton",3.0999999999999999E-3,"lbs/ton",9.2000000000000003E-4,"lbs/ton",2.1000000000000001E-4,"lbs/ton",4.8000000000000001E-5,"lbs/ton",1.2999999999999999E-4,"lbs/ton",1.6000000000000001E-4,"lbs/ton",2.8999999999999998E-3,"lbs/ton",2.0000000000000001E-4,"lbs/ton",4.0000000000000003E-5,"lbs/ton",1.5E-5,"lbs/ton",5.4999999999999999E-6,"lbs/ton",1.5E-5,"lbs/ton",7.7000000000000008E-6,"lbs/ton"]
["Liquid Asphalt Cement Heater"]
["Fuel Oil Fired Heater",30500208,"AP-42 Table 11.1-13",null,null,null,null,null,null,null,null,null,null,1.1999999999999999E-3,"lbs/gal"]
["Natural Gas Fired Heater",30500206,"AP-42 Table 11.1-13",null,null,null,null,null,null,null,null,null,null,8.9,"lbs/MMCF",null,null,null,null,null,null,null,null,2.5999999999999999E-2,"lbs/MMCF"]
["Waste Oil Fired Heater",30500208,"AP-42 Table 11.1-13",null,null,null,null,null,null,null,null,null,null,1.1999999999999999E-3,"lbs/gal"]
[]
["Cold Aggregate Bins",30500204,"AP-42 Table 11.19.2-2 (& App. B2 for PM2.5)",4.4999999999999999E-4,"lbs/ton",1.1000000000000001E-3,"lbs/ton",null,null,null,null,1.2200000000000001E-2,"lbs/ton",1.1800000000000001E-3,"lbs/ton"]
["Silo Filling",30500213,"AP-42 Table 11.1-14",5.8600000000000004E-4,"lbs/ton",5.8600000000000004E-4,"lbs/ton",null,null,null,null,4.1599999999999996E-3,"lbs/ton",1.3500000000000001E-3,"lbs/ton"]
["Truck Loadout",30500214,"AP-42 Table 11.1-14",5.22E-4,"lbs/ton",5.22E-4,"lbs/ton"]
["Storage Pile",30500203,"WebFIRE SCC# 30502507",3.64,"lbs/acre-day",3.64,"lbs/acre-day"]
[]
["Haul Roads"]
["Unpaved Haul Road",30205054]
[null,"Emission Factor equation from AP-42, 13.2.2 (Nov 2006): EF = [(k) x [(s/12)^0.9] x [(W/3)^0.45] ]((365-p)/365)) lb/VMT"]
[null,null,null,null,null,"k=constant=1.5 for PM10 and 0.15 for PM2.5 (AP-42 Table 13.2.2-1)"]
[null,null,null,null,null,"s= silt content (AP-42 Table 13.2.2-1)"]
[null,null,null,null,null,"w= average vehicle weight"]
[null,null,null,null,null,"p = number of days per year with at least 0.01 inches of precipitation (see map - AP-42 3.2.2 Figure 1)"]
["Paved Haul Roads",30205054]
[null,"Emission Factor equation from AP-42, 13.2.1 (Jan 2011): EF = [(k) x [(s^0.91] x [W^1.02]]x((1-(p/1460)) lb/VMT"]
[null,null,null,null,null,"k=constant=0.0022 for PM10 and 0.00054 for PM2.5 (AP-42 Table 13.2.1-1)"]
[null,null,null,null,null,"sL= road surface silt loading (AP-42 Table 13.2.1-3)"]
[null,null,null,null,null,"w= average vehicle weight"]
[null,null,null,null,null,"p = number of days per year with at least 0.01 inches of precipitation (see map - AP-42 3.2.2 Figure 1)"]
["Diesel Generators"]
["Process","SCC #","Units","PM2.5 EF","Source","PM10 EF","Source","SO2","Source ","Nox","Source","VOC","Source","CO","Source","Formaldehyde","Source","Benzene","Source"]
["Diesel Generator ≤ 600 bhp",20100102,"lb/MMBtu",0.31,"AP-42 Table 3.3-1",0.31,"AP-42 Table 3.3-1",0.28999999999999998,"AP-42 Table 3.3-1",4.41,"AP-42 Table 3.3-1",0.35,"AP-42 Table 3.3-1",0.95,"AP-42 Table 3.3-1",1.1800000000000001E-3,"AP-42 Table 3.3-2",9.3300000000000002E-4,"AP-42 Table 3.3-2"]
["Diesel Generator> 600 bhp",20200401,"lb/MMBtu",5.3900000000000003E-2,"WebFIRE",0.14000000000000001,"IDNR Memo",1.01,"AP-42 Table 3.4-1",3.2,"AP-42 Table 3.4-1",8.2000000000000003E-2,"AP-42 Table 3.4-1",0.85,"AP-42 Table 3.4-1",7.8899999999999993E-5,"AP-42 Table 3.4-3",7.76E-4,"AP-42 Table 3.4-3"]
[null,null,null,null,null,null,null,null,null,null,null,null,"& footnote f"]